{"text_format":"1","workbook":"xlsx","n_sheets":39,"sheets":["FicheJoueurs","CLUB","BOISSON_T","3BANDES","BANDE","CADRE","LIBRE","MACRO","BOISSON_F","DistNat","DistDept","SaisieJoueurs Finale","Saisie des joueurs","FINALE A 6 JOUEURS","DKO_16_Joueurs","DKO_8_Joueurs","DKO_12_Joueurs","3JOUEURS","4JOUEURS","5JOUEURS","6JOUEURS","7JOUEURS","8JOUEURS","9JOUEURS","10JOUEURS","11JOUEURS","12JOUEURS","13JOUEURS","14JOUEURS","15JOUEURS","16JOUEURS","20JOUEURS","24JOUEURS","BILLARD_1","BILLARD_2","BILLARD_3","BILLARD_4","BILLARD_5","BILLARD_6"],"not_rendered":{"charts":0,"images":6,"macros":1,"external_links":0,"defined_names":140,"comments":0,"pivot_tables":0},"unopened":[],"bounds":{"document_bytes":16777216,"sheet_cells":100000,"rows_first":2000,"rows_last":500,"rows_between":2000,"halvings":0,"cell_chars":16384,"cell_head_chars":4096},"cells_cut":0,"cells_raw":0,"read":"whole","date_system":"1900"}

{"sheet":"FicheJoueurs","index":0,"n_rows":614,"n_cols":5,"rows_kept":614,"cut":false,"hidden":true,"merged":[[0,1,1,4]]}
[null,"LISTING JOUEURS LICENCIES LMB 2025"]
[]
[null,"NC","NOM PRENOM","CLUB ","N° LICENCE"]
[]
[]
[null,"Non Classé","Nom joueur","Club","Licence"]
[null,null,"ABAD-YANNICK","19002--SPORT AMAT.DE BILLARD MARSEILLAIS","106287Z"]
[null,null,"ABELA-JOSEPH","19021-BILLARD CLUB CAVAILLONNAIS","159403P"]
[null,null,"AGNES-ALEXANDRE","19127-O CIGALON BILLARD CLUB","147448V"]
[null,null,"AGOPIAN-VICTOR","19050-BILLARD CLUB SAUSSETOIS","146637X"]
[null,null,"AKNIN-GABRIEL","19027-ACADEMIE DE BILLARD DE BOLLENE","021810W"]
[null,null,"AKTAS-JEAN","19112-NISSA BILLARD CLUB","147980Y"]
[null,null,"ALESSI-JEAN PIERRE","19023-BILLARD CLUB GARDEEN","149448T"]
[null,null,"ALIBERT-BRUNO","19056-BILLARD CLUB DE NICE","151459E"]
[null,null,"ALLAL-SOUHIL","19130-BLACK BALL CAVAILLONNAIS","132516U"]
[null,null,"ALLIGIER-GERARD","19019-BILLARD CLUB DE LA BAIE","157036R"]
[null,null,"ALLORGE-STEPHANE","19009-CLUB BILLARD ISTREEN","186296W"]
[null,null,"ALVAREZ-PHILIPPE","19056-BILLARD CLUB DE NICE","159130S"]
[null,null,"ALVISET-GUY","19050-BILLARD CLUB SAUSSETOIS","152035F"]
[null,null,"AMANS-HERVE","19009-CLUB BILLARD ISTREEN","177854V"]
[null,null,"AMMARI-ANAS","19002-SPORT AMAT.DE BILLARD MARSEILLAIS","186456V"]
[null,null,"AMOUROUX-JACQUES ANTOINE","19023-BILLARD CLUB GARDEEN","162879S"]
[null,null,"AMOUROUX-LUC","19023-BILLARD CLUB GARDEEN","155531F"]
[null,null,"ANGUE-PATRICK","19056-BILLARD CLUB DE NICE","021819F"]
[null,null,"ANNESTAY-JACQUES","19025-BILLARD CLUB SISTERONNAIS","021820G"]
[null,null,"ANTONIN-ALAIN","19021-BILLARD CLUB CAVAILLONNAIS","021821H"]
[null,null,"ARBAUD-STEPHANE","19112-NISSA BILLARD CLUB","021824K"]
[null,null,"ARENAS-ROLDAN","19055-ACADEMIE DE BILLARD DE MENTON","181505N"]
[null,null,"ARGENTIN-JEAN NOEL","19127-O CIGALON BILLARD CLUB","126179B"]
[null,null,"ARMENGAU-PHILIPPE","19056-BILLARD CLUB DE NICE","161785D"]
[null,null,"ARNAUD-PIERRE","19006-BILLARD CLUB CARPENTRASSIEN","122035R"]
[null,null,"ARNOUX-LAURENT","19058-ACADEMIE DE BILLARD DE BARBOSSI MANDELIEU","180272Y"]
[null,null,"AUBERT ROUECHE-LYDIA","19106-BILLARD CLUB VINONNAIS","148204R"]
[null,null,"AUDIBERT-JEAN PIERRE","19012-SALON BILLARD CLUB","106513R"]
[null,null,"AUTRAND-MICHEL","19001-S. S. A. B. D AIX EN PROVENCE","172643F"]
[null,null,"AZOULAY-ALAIN","19017-BILLARD CLUB PHOCEEN","021839Z"]
[null,null,"BACHERGIAN-MAXENCE","19002-SPORT AMAT.DE BILLARD MARSEILLAIS","174115F"]
[null,null,"BAILLON-JEAN","19058-ACADEMIE DE BILLARD DE BARBOSSI MANDELIEU","115304U"]
[null,null,"BAJEUX-JEAN LOUIS","19090-BILLARD AMATEUR ROGNAC","183850M"]
[null,null,"BALESTRI-MAURICE","19058-ACADEMIE DE BILLARD DE BARBOSSI MANDELIEU","153554G"]
[null,null,"BALLAIS-REMI","19017-BILLARD CLUB PHOCEEN","186655L"]
[null,null,"BALLIGAND-SERGE","19059-BILLARD CLUB ROQUEBRUNOIS","023184S"]
[null,null,"BANO-SERGE","19001-S. S. A. B. D AIX EN PROVENCE","149693K"]
[null,null,"BARBANNEAU-FREDERIC","19106-BILLARD CLUB VINONNAIS","109917P"]
[null,null,"BARBESANT-DIDIER","19058-ACADEMIE DE BILLARD DE BARBOSSI MANDELIEU","168289Y"]
[null,null,"BARNES-JEAN PIERRE","19009-CLUB BILLARD ISTREEN","177120X"]
[null,null,"BAROTH-DARIO","19127-O CIGALON BILLARD CLUB","174346G"]
[null,null,"BAROTH-LOEVA","19127-O CIGALON BILLARD CLUB","174347H"]
[null,null,"BARRALLON-JEAN PAUL","19023-BILLARD CLUB GARDEEN","122300W"]
[null,null,"BARTHE-CHANTAL","19090-BILLARD AMATEUR ROGNAC","179073V"]
[null,null,"BASELGA-PASCAL","19093-AMERICAN CLUB LOUIS XI","135538A"]
[null,null,"BASSOUL-JEAN MARIE","19006-BILLARD CLUB CARPENTRASSIEN","103568K"]
[null,null,"BAUDOUX-JEAN CLAUDE","19058-ACADEMIE DE BILLARD DE BARBOSSI MANDELIEU","164877P"]
[null,null,"BAYARD-JEAN CLAUDE","19021-BILLARD CLUB CAVAILLONNAIS","021860U"]
[null,null,"BAYLE-PASCAL","19090-BILLARD AMATEUR ROGNAC","021861V"]
[null,null,"BEAUCHANT-FABRICE","19131-BILLARD CLUB DE L ESTAGNOL","182453T"]
[null,null,"BECK-MICHEL","19061-ACAD.BILLARD ST RAPHAEL","011797T"]
[null,null,"BEDARIDE-NICOLAS","19002-SPORT AMAT.DE BILLARD MARSEILLAIS","170823C"]
[null,null,"BEDOC-JACQUES","19007-BILLARD CLUB BERROIS","021863X"]
[null,null,"BELAICH-EDOUARD","19017-BILLARD CLUB PHOCEEN","175776L"]
[null,null,"BELHASSEN-BENJAMIN","19112-NISSA BILLARD CLUB","021865Z"]
[null,null,"BELINGUIER-MAXIME","19002-SPORT AMAT.DE BILLARD MARSEILLAIS","182588Q"]
[null,null,"BELTRITTI-JEAN YVES","19106-BILLARD CLUB VINONNAIS","132789H"]
[null,null,"BENAVIDES-CLAUDE","19012-SALON BILLARD CLUB","021872G"]
[null,null,"BENAVIDES-GERARD","19012-SALON BILLARD CLUB","138275H"]
[null,null,"BENDAVID-KARINE","19112-NISSA BILLARD CLUB","124802C"]
[null,null,"BENHAMOU-ALEXIS","19001-S. S. A. B. D AIX EN PROVENCE","160341J"]
[null,null,"BENIER-PATRICK","19023-BILLARD CLUB GARDEEN","159238K"]
[null,null,"BENOIT-MICHEL","19027-ACADEMIE DE BILLARD DE BOLLENE","159790K"]
[null,null,"BENSAID-NOEL","19138-BILLARD CLUB FREJUSSIEN","160011A"]
[null,null,"BERLIOZ-PASCAL","19006-BILLARD CLUB CARPENTRASSIEN","151532J"]
[null,null,"BERNABEI-ROBERT","19093-AMERICAN CLUB LOUIS XI","153662Z"]
[null,null,"BERNAT-JEAN PIERRE","19023-BILLARD CLUB GARDEEN","125945B"]
[null,null,"BERNICHON-PASCAL","19127-O CIGALON BILLARD CLUB","115001D"]
[null,null,"BIARD-ANDRE","19009-CLUB BILLARD ISTREEN","159202W"]
[null,null,"BIARD-ARTHUR","19009-CLUB BILLARD ISTREEN","173584D"]
[null,null,"BIARD-NOAH","19009-CLUB BILLARD ISTREEN","173583C"]
[null,null,"BIDDAU-FRANCOIS","19009-CLUB BILLARD ISTREEN","125917Z"]
[null,null,"BIOT-ELODIE","19058-ACADEMIE DE BILLARD DE BARBOSSI MANDELIEU","183516Z"]
[null,null,"BLANC SANTELLI-ERIC","19009-CLUB BILLARD ISTREEN","179744Z"]
[null,null,"BLANCA-JOAQUIM","19131-BILLARD CLUB DE L ESTAGNOL","010403D"]
[null,null,"BLANCA-LEO","19131-BILLARD CLUB DE L ESTAGNOL","181218B"]
[null,null,"BOCCHETTA-ERIC","19093-AMERICAN CLUB LOUIS XI","169485Y"]
[null,null,"BOGGIO POLA-PIERRE","19007-BILLARD CLUB BERROIS","181202J"]
[null,null,"BOLLOTTE-BENIGNE","19023-BILLARD CLUB GARDEEN","175504Q"]
[null,null,"BONACCORSI-LORENZO","19002-SPORT AMAT.DE BILLARD MARSEILLAIS","186460Z"]
[null,null,"BONELLO-LUCIEN","19090-BILLARD AMATEUR ROGNAC","021894C"]
[null,null,"BONETTO-JEAN LOUIS","19050-BILLARD CLUB SAUSSETOIS","186374F"]
[null,null,"BONNEMAISON-DENIS","19009-CLUB BILLARD ISTREEN","150422C"]
[null,null,"BONNICI-ROGER","19017-BILLARD CLUB PHOCEEN","168593D"]
[null,null,"BONTOUX-MAX","19007-BILLARD CLUB BERROIS","021900I"]
[null,null,"BOPEA-CHRISTIAN","19127-O CIGALON BILLARD CLUB","125957N"]
[null,null,"BORDES-BERNARD","19061-ACAD.BILLARD ST RAPHAEL","149287T"]
[null,null,"BORDES-CATHERINE","19061-ACAD.BILLARD ST RAPHAEL","149288V"]
[null,null,"BORGNA-GUY","19001-S. S. A. B. D AIX EN PROVENCE","184114Z"]
[null,null,"BOSSOT-JEAN","19027-ACADEMIE DE BILLARD DE BOLLENE","160000N"]
[null,null,"BOUFFLET-THIERRY","19025-BILLARD CLUB SISTERONNAIS","182430T"]
[null,null,"BOULANT-CLAUDE","19019-BILLARD CLUB DE LA BAIE","155529D"]
[null,null,"BOURDELLES-LAURENT","19055-ACADEMIE DE BILLARD DE MENTON","021911T"]
[null,null,"BOUTILLE-NICOLAS","19027-ACADEMIE DE BILLARD DE BOLLENE","122662U"]
[null,null,"BOUTTIER-CAROLINE","19127-O CIGALON BILLARD CLUB","125921D"]
[null,null,"BOUTTIER-CHARLES","19056-BILLARD CLUB DE NICE","118665B"]
[null,null,"BRAYER-DENIS","19008-BRITISH BILLARD CLUB AVIGNON","016411F"]
[null,null,"BREDAT-RENE","19025-BILLARD CLUB SISTERONNAIS","021918A"]
[null,null,"BREGRE-SEBASTIEN","19002-SPORT AMAT.DE BILLARD MARSEILLAIS","159347D"]
[null,null,"BREPSON-MARTIAL","19058-ACADEMIE DE BILLARD DE BARBOSSI MANDELIEU","152345S"]
[null,null,"BRETON-LUC","19006-BILLARD CLUB CARPENTRASSIEN","172527E"]
[null,null,"BRIAND-ALAIN","19002-SPORT AMAT.DE BILLARD MARSEILLAIS","113104E"]
[null,null,"BRIOIT-DOMINIQUE","19055-ACADEMIE DE BILLARD DE MENTON","021920C"]
[null,null,"BRIOSNE-PASCAL","19001-S. S. A. B. D AIX EN PROVENCE","021922E"]
[null,null,"BROYER-PHILIPPE","19127-O CIGALON BILLARD CLUB","186325C"]
[null,null,"BRUN-ROGER","19017-BILLARD CLUB PHOCEEN","021929L"]
[null,null,"BURGANT-JEAN MARIE","19019-BILLARD CLUB DE LA BAIE","123684C"]
[null,null,"CACHAU HERREICCHT-LAURENT","19023-BILLARD CLUB GARDEEN","184127N"]
[null,null,"CAILLAUD-DANIEL","19023-BILLARD CLUB GARDEEN","144785R"]
[null,null,"CANDA-JEROME","19130-BLACK BALL CAVAILLONNAIS","163016R"]
[null,null,"CANUEL-LUC","19127-O CIGALON BILLARD CLUB","181817C"]
[null,null,"CAO-GAUTIER","19098-BILLARD CLUB LA FARE","173582B"]
[null,null,"CAO-HUU TUOI","19098-BILLARD CLUB LA FARE","021944A"]
[null,null,"CAO-MEGANE","19098-BILLARD CLUB LA FARE","173581A"]
[null,null,"CARAIL-MICHEL","19021-BILLARD CLUB CAVAILLONNAIS","146885L"]
[null,null,"CARDINALI-DENIS","19056-BILLARD CLUB DE NICE","021946C"]
[null,null,"CARRILLON-MICHEL","19001-S. S. A. B. D AIX EN PROVENCE","141066Q"]
[null,null,"CARRION-JEAN PHILIPPE","19058-ACADEMIE DE BILLARD DE BARBOSSI MANDELIEU","130701Z"]
[null,null,"CASTELLINO-GEORGES","19061-ACAD.BILLARD ST RAPHAEL","181424A"]
[null,null,"CATELAS-JEAN LOUIS","19001-S. S. A. B. D AIX EN PROVENCE","167180S"]
[null,null,"CAUDRY-ALAIN","19023-BILLARD CLUB GARDEEN","170688F"]
[null,null,"CESARO-JEAN CLAUDE","19007-BILLARD CLUB BERROIS","118684U"]
[null,null,"CESMAT BELLIARD-NICOLAS","19127-O CIGALON BILLARD CLUB","119681D"]
[null,null,"CHAIX-JOEL","19025-BILLARD CLUB SISTERONNAIS","021960Q"]
[null,null,"CHANTEUX-ALAIN","19025-BILLARD CLUB SISTERONNAIS","143166K"]
[null,null,"CHANU-ALICE","19025-BILLARD CLUB SISTERONNAIS","186206Y"]
[null,null,"CHAPUIS-ERIC","19056-BILLARD CLUB DE NICE","104469B"]
[null,null,"CHARBIT-JEAN MARC","19056-BILLARD CLUB DE NICE","021967X"]
[null,null,"CHARLES-CHRISTOPHE","19131-BILLARD CLUB DE L ESTAGNOL","103539H"]
[null,null,"CHARPENTIER-MARC","19017-BILLARD CLUB PHOCEEN","185636D"]
[null,null,"CHASTAN-GEORGES","19021-BILLARD CLUB CAVAILLONNAIS","012782Q"]
[null,null,"CHELUS-ALIN","19127-O CIGALON BILLARD CLUB","146376W"]
[null,null,"CHEVENIER-PASCAL","19017-BILLARD CLUB PHOCEEN","185638F"]
[null,null,"CHEVRIER-CAMILLE","19131-BILLARD CLUB DE L ESTAGNOL","152831W"]
[null,null,"CHICARD-ALAIN","19006-BILLARD CLUB CARPENTRASSIEN","160332Z"]
[null,null,"CHUZEVILLE-GILLES","19025-BILLARD CLUB SISTERONNAIS","108854S"]
[null,null,"CLAUDON-PHILIPPE","19056-BILLARD CLUB DE NICE","148126G"]
[null,null,"CLEMENT-GERARD","19050-BILLARD CLUB SAUSSETOIS","129497R"]
[null,null,"CLERGET-JEAN LOUIS","19127-O CIGALON BILLARD CLUB","101474W"]
[null,null,"CLOUD-TOM","19127-O CIGALON BILLARD CLUB","152107J"]
[null,null,"CLUS-SANDY","19138-BILLARD CLUB FREJUSSIEN","106896K"]
[null,null,"COHEN-RICHARD MANDELIEU","19058-ACADEMIE DE BILLARD DE BARBOSSI MANDELIEU","012827J"]
[null,null,"COHEN-RICHARD NICE","19056-BILLARD CLUB DE NICE","148796K"]
[null,null,"COHEN-STEPHANE","19058-ACADEMIE DE BILLARD DE BARBOSSI MANDELIEU","170613Z"]
[null,null,"COLOMBINI-ALAIN","19002-SPORT AMAT.DE BILLARD MARSEILLAIS","186457W"]
[null,null,"CONFAVREUX-KELIAN","19130-BLACK BALL CAVAILLONNAIS","178799X"]
[null,null,"CONTRAIN-JEROME","19012-SALON BILLARD CLUB","166177C"]
[null,null,"COPPIN-JEAN MICHEL","19027-ACADEMIE DE BILLARD DE BOLLENE","021985P"]
[null,null,"CORBET-LAURENT","19021-BILLARD CLUB CAVAILLONNAIS","021987R"]
[null,null,"CORBIN-LUC","19023-BILLARD CLUB GARDEEN","164007T"]
[null,null,"CORNET-MARIELLE","19059-BILLARD CLUB ROQUEBRUNOIS","185390L"]
[null,null,"COSTE-PHILIPPE","19061-ACAD.BILLARD ST RAPHAEL","125938U"]
[null,null,"COTARD-SANDRINE","19131-BILLARD CLUB DE L ESTAGNOL","101268Y"]
[null,null,"COTTET-JACQUES","19025-BILLARD CLUB SISTERONNAIS","139655J"]
[null,null,"COUPET-PHILIPPE","19023-BILLARD CLUB GARDEEN","119932U"]
[null,null,"COURBOT-LUDWIG","19001-S. S. A. B. D AIX EN PROVENCE","016838Q"]
[null,null,"COZETTE-SYLVIE","19023-BILLARD CLUB GARDEEN","168685D"]
[null,null,"CREUZOT-PATRICE","19017-BILLARD CLUB PHOCEEN","021996A"]
[null,null,"CROUZET-JEAN ANDRE","19027-ACADEMIE DE BILLARD DE BOLLENE","152067Q"]
[null,null,"CUADRADO-HECTOR","19021-BILLARD CLUB CAVAILLONNAIS","142586C"]
[null,null,"CUER-KILLIAN","19127-O CIGALON BILLARD CLUB","181819E"]
[null,null,"DAIFHALLA PUICHAULT-YANNIS","19025-BILLARD CLUB SISTERONNAIS","182676L"]
[null,null,"DALMASSO-EMMANUELLE","19025-BILLARD CLUB SISTERONNAIS","177204N"]
[null,null,"DAMIENS-ALEXANDRE","19127-O CIGALON BILLARD CLUB","167825T"]
[null,null,"DAMON-GERARD","19056-BILLARD CLUB DE NICE","022002G"]
[null,null,"DAMON-OLIVIER","19012-SALON BILLARD CLUB","022003H"]
[null,null,"DANCARVILLE-GUY","19009-CLUB BILLARD ISTREEN","144640C"]
[null,null,"DAUPHIN-MICHEL","19014-BILLARD CLUB AVIGNONNAIS","014828I"]
[null,null,"DAUPHIN-THYFFEN","19002-SPORT AMAT.DE BILLARD MARSEILLAIS","172573E"]
[null,null,"DAVID-THIERRY","19025-BILLARD CLUB SISTERONNAIS","155526A"]
[null,null,"DE CAMBOURG-HELION","19014-BILLARD CLUB AVIGNONNAIS","171181R"]
[null,null,"DE CAMPO-TEDDY","19068-BILLARD CLUB ARLESIEN","138202M"]
[null,null,"DE GRYSE-GERARD","19023-BILLARD CLUB GARDEEN","139487X"]
[null,null,"DE LOOSE-FELIX","19106-BILLARD CLUB VINONNAIS","163348C"]
[null,null,"DE OLIVEIRA GONCALVES-PAULO","19130-BLACK BALL CAVAILLONNAIS","177338J"]
[null,null,"DE RIGAL-DANIEL","19027-ACADEMIE DE BILLARD DE BOLLENE","127655V"]
[null,null,"DEBASC-GAD","19017-BILLARD CLUB PHOCEEN","158419V"]
[null,null,"DEBOSZ-RICHARD","19021-BILLARD CLUB CAVAILLONNAIS","140093F"]
[null,null,"DEBRUYNE-ANNE","19106-BILLARD CLUB VINONNAIS","184548W"]
[null,null,"DEBRUYNE-TRISTAN","19106-BILLARD CLUB VINONNAIS","113220Q"]
[null,null,"DEBUYSER-ANNE","19058-ACADEMIE DE BILLARD DE BARBOSSI MANDELIEU","178356Q"]
[null,null,"DEDON-DENISE","19007-BILLARD CLUB BERROIS","181198E"]
[null,null,"DEDON-RICHARD","19007-BILLARD CLUB BERROIS","177233V"]
[null,null,"DEFRETIN JOEL","19023--BILLARD CLUB GARDEEN","020635 R"]
[null,null,"DELAIRE-JEAN PIERRE","19021-BILLARD CLUB CAVAILLONNAIS","166003N"]
[null,null,"DELAPORTE-YVES","19006-BILLARD CLUB CARPENTRASSIEN","160334B"]
[null,null,"DELBEY-JULIEN","19012-SALON BILLARD CLUB","112719J"]
[null,null,"DELZORS-JEAN PIERRE","19056-BILLARD CLUB DE NICE","143883Z"]
[null,null,"DEMARCQ-JEAN FRANCOIS","19025-BILLARD CLUB SISTERONNAIS","168662D"]
[null,null,"DEMAY-ROMUALD","19127-O CIGALON BILLARD CLUB","159102M"]
[null,null,"DEMERLIAC-BRUNO","19007-BILLARD CLUB BERROIS","159076J"]
[null,null,"DENIS-GILLES","19009-CLUB BILLARD ISTREEN","186297X"]
[null,null,"DEROSSI-LORA","19002-SPORT AMAT.DE BILLARD MARSEILLAIS","185116N"]
[null,null,"DESMERO-RAYMOND","19007-BILLARD CLUB BERROIS","142358I"]
[null,null,"DESWAZIERE-MICHEL","19027-ACADEMIE DE BILLARD DE BOLLENE","115051B"]
[null,null,"DHENNIN-MICHEL","19059-BILLARD CLUB ROQUEBRUNOIS","176237M"]
[null,null,"DHERMY-BERTRAND","19127-O CIGALON BILLARD CLUB","156564D"]
[null,null,"DI BIN-JEAN MARIE","19027-ACADEMIE DE BILLARD DE BOLLENE","135014W"]
[null,null,"DI CRESCENZO-PIERRE","19017-BILLARD CLUB PHOCEEN","109528Q"]
[null,null,"DIDIER-DOMINIQUE","19090-BILLARD AMATEUR ROGNAC","186066W"]
[null,null,"DION-JEAN LOUIS","19006-BILLARD CLUB CARPENTRASSIEN","160331Y"]
[null,null,"DONABEDIAN-DANIEL","19019-BILLARD CLUB DE LA BAIE","142363N"]
[null,null,"DORIDANT-VINCENT","19127-O CIGALON BILLARD CLUB","134701V"]
[null,null,"DORNBUSH-MARTINE","19023-BILLARD CLUB GARDEEN","181974Y"]
[null,null,"DOS SANTOS-ADRIEN","19130-BLACK BALL CAVAILLONNAIS","133512C"]
[null,null,"DOS SANTOS-FRANCIS","19050-BILLARD CLUB SAUSSETOIS","022039R"]
[null,null,"DOUSSET-RENE","19023-BILLARD CLUB GARDEEN","174348J"]
[null,null,"DREMEAUX-JEAN PIERRE","19023-BILLARD CLUB GARDEEN","140803N"]
[null,null,"DUBREUIL-FRANCK","19061-ACAD.BILLARD ST RAPHAEL","013022W"]
[null,null,"DUPUY-MICHEL","19058-ACADEMIE DE BILLARD DE BARBOSSI MANDELIEU","011522E"]
[null,null,"DUSSAULE-PIERRE","19027-ACADEMIE DE BILLARD DE BOLLENE","102285B"]
[null,null,"DUSSEAUX-PATRICK","19021-BILLARD CLUB CAVAILLONNAIS","183248H"]
[null,null,"DUVAL-THIERRY","19061-ACAD.BILLARD ST RAPHAEL","175172E"]
[null,null,"ECK-MICHEL","19017-BILLARD CLUB PHOCEEN","146662W"]
[null,null,"EGEA-JEAN PIERRE","19130-BLACK BALL CAVAILLONNAIS","146142W"]
[null,null,"EGRETEAUD-CHRISTOPHE","19017-BILLARD CLUB PHOCEEN","155680S"]
[null,null,"EL KARMOUNI-DAVID","19002-SPORT AMAT.DE BILLARD MARSEILLAIS","186461A"]
[null,null,"ELEOUET-DANIEL","19006-BILLARD CLUB CARPENTRASSIEN","163467G"]
[null,null,"ESCOFFIER-ALAIN","19006-BILLARD CLUB CARPENTRASSIEN","167497M"]
[null,null,"ESTABLIER-PIERRE","19023-BILLARD CLUB GARDEEN","147622J"]
[null,null,"FABER-ERWIN","19021-BILLARD CLUB CAVAILLONNAIS","186621Z"]
[null,null,"FABRE-ALEXANDRE","19002-SPORT AMAT.DE BILLARD MARSEILLAIS","186571V"]
[null,null,"FAIVRE D ARCIER-PATRICK","19056-BILLARD CLUB DE NICE","022061N"]
[null,null,"FAVARIO-CHRISTIAN","19027-ACADEMIE DE BILLARD DE BOLLENE","022066S"]
[null,null,"FEBVRET-MELANIE","19130-BLACK BALL CAVAILLONNAIS","179557W"]
[null,null,"FERAUD-GERARD","19027-ACADEMIE DE BILLARD DE BOLLENE","022067T"]
[null,null,"FERAUD-LOUIS","19025-BILLARD CLUB SISTERONNAIS","182675K"]
[null,null,"FERHAT-ACHOUR","19106-BILLARD CLUB VINONNAIS","129036Y"]
[null,null,"FERNANDES GOMES-MARIO","19093-AMERICAN CLUB LOUIS XI","153669G"]
[null,null,"FERNANDEZ-MARC","19007-BILLARD CLUB BERROIS","013111H"]
[null,null,"FERRON-FREDERIC","19012-SALON BILLARD CLUB","172308R"]
[null,null,"FERRO-PHILIPPE","19009-CLUB BILLARD ISTREEN","122658Q"]
[null,null,"FONTAINE-DANY","19106-BILLARD CLUB VINONNAIS","101139Z"]
[null,null,"FOREL-PHILIPPE","19130-BLACK BALL CAVAILLONNAIS","127035Z"]
[null,null,"FOURNET-SEBASTIEN","19002-SPORT AMAT.DE BILLARD MARSEILLAIS","184732W"]
[null,null,"FRANCO-ALBERT","19019-BILLARD CLUB DE LA BAIE","022084K"]
[null,null,"FRANCO-HENRY","19055-ACADEMIE DE BILLARD DE MENTON","118688Y"]
[null,null,"FRIGANO-SEBASTIEN","19130-BLACK BALL CAVAILLONNAIS","123168G"]
[null,null,"FROMENT-REMI","19068-BILLARD CLUB ARLESIEN","182539M"]
[null,null,"FROMEYER-CORINNE","19058-ACADEMIE DE BILLARD DE BARBOSSI MANDELIEU","167290M"]
[null,null,"GABETTO-STEPHANE","19023-BILLARD CLUB GARDEEN","103216W"]
[null,null,"GABRIEL-MARTIAL","19127-O CIGALON BILLARD CLUB","120076I"]
[null,null,"GAILLET-PATRICK","19098-BILLARD CLUB LA FARE","176024F"]
[null,null,"GALARDINI-RICHARD","19050-BILLARD CLUB SAUSSETOIS","142316S"]
[null,null,"GALLEZ-DANIEL","19019-BILLARD CLUB DE LA BAIE","178728V"]
[null,null,"GALLUCCI-STEPHANE","19056-BILLARD CLUB DE NICE","022091R"]
[null,null,"GAMEN-ANDRE","19023-BILLARD CLUB GARDEEN","147288W"]
[null,null,"GARCIA-SEBASTIEN","19112-NISSA BILLARD CLUB","116525T"]
[null,null,"GATTINO-MARCO","19055-ACADEMIE DE BILLARD DE MENTON","147262S"]
[null,null,"GATTO-ANTOINE","19050-BILLARD CLUB SAUSSETOIS","022097X"]
[null,null,"GAUTIER-PATRICK","19027-ACADEMIE DE BILLARD DE BOLLENE","186342W"]
[null,null,"GAVALDA-PIERRE","19006-BILLARD CLUB CARPENTRASSIEN","116278G"]
[null,null,"GEDOR-FRANCIS","19061-ACAD.BILLARD ST RAPHAEL","186701L"]
[null,null,"GEFFROY-MEGGAN","19008-BRITISH BILLARD CLUB AVIGNON","183704D"]
[null,null,"GELAS-BERNARD","19098-BILLARD CLUB LA FARE","163279C"]
[null,null,"GENDRAUD-PHILIPPE","19138-BILLARD CLUB FREJUSSIEN","150065P"]
[null,null,"GERARD-PASCAL","19056-BILLARD CLUB DE NICE","022103D"]
[null,null,"GERARD-SANDRINE","19090-BILLARD AMATEUR ROGNAC","179077Z"]
[null,null,"GERARD-THOMAS","19056-BILLARD CLUB DE NICE","167330F"]
[null,null,"GERVAIS-GUILLAUME","19021-BILLARD CLUB CAVAILLONNAIS","022104E"]
[null,null,"GIANNATTASIO-LUCIEN","19009-CLUB BILLARD ISTREEN","022108I"]
[null,null,"GIAVELLI-GAETAN","19068-BILLARD CLUB ARLESIEN","129044G"]
[null,null,"GIBARROUX-CHRISTOPHE","19001-S. S. A. B. D AIX EN PROVENCE","118661X"]
[null,null,"GILLET-PHILIPPE","19058-ACADEMIE DE BILLARD DE BARBOSSI MANDELIEU","180514L"]
[null,null,"GILLODTS-CHRISTIAN","19017-BILLARD CLUB PHOCEEN","149471T"]
[null,null,"GIMENEZ-SERGE","19056-BILLARD CLUB DE NICE","022113N"]
[null,null,"GIRARD-JACQUES","19058-ACADEMIE DE BILLARD DE BARBOSSI MANDELIEU","129718E"]
[null,null,"GOAILLARD-JEAN MARC","19017-BILLARD CLUB PHOCEEN","181920P"]
[null,null,"GODARD-PASCAL","19006-BILLARD CLUB CARPENTRASSIEN","157852D"]
[null,null,"GODOY-CYRILLE","19127-O CIGALON BILLARD CLUB","101478A"]
[null,null,"GOMES-VITOR","19001-S. S. A. B. D AIX EN PROVENCE","120100G"]
[null,null,"GORGET-MIKAEL","19002-SPORT AMAT.DE BILLARD MARSEILLAIS","174487K"]
[null,null,"GOTTRAU-MARION","19002-SPORT AMAT.DE BILLARD MARSEILLAIS","186570T"]
[null,null,"GOUILLON-MATTHIEU","19056-BILLARD CLUB DE NICE","174010R"]
[null,null,"GOUIRAN-GEORGES","19050-BILLARD CLUB SAUSSETOIS","022129D"]
[null,null,"GOUZIEN-MILENE","19131-BILLARD CLUB DE L ESTAGNOL","175026W"]
[null,null,"GOUZIEN-RENAUD","19131-BILLARD CLUB DE L ESTAGNOL","101259P"]
[null,null,"GOUZIEN-YANN","19131-BILLARD CLUB DE L ESTAGNOL","166216V"]
[null,null,"GOUZOUGUEN-CHRISTIAN","19006-BILLARD CLUB CARPENTRASSIEN","144636Y"]
[null,null,"GOYAUD-YVES","19002-SPORT AMAT.DE BILLARD MARSEILLAIS","135555R"]
[null,null,"GRANDBOUCHE-FRANCOIS","19002-SPORT AMAT.DE BILLARD MARSEILLAIS","180247W"]
[null,null,"GRANIER-JEAN MARC","19130-BLACK BALL CAVAILLONNAIS","156807S"]
[null,null,"GRAVELLE-JULIEN","19006-BILLARD CLUB CARPENTRASSIEN","157851C"]
[null,null,"GREBLO-EDI","19093-AMERICAN CLUB LOUIS XI","170379V"]
[null,null,"GREGEOIS-MAEL","19002-SPORT AMAT.DE BILLARD MARSEILLAIS","183595K"]
[null,null,"GROS-MARIE PAULE","19068-BILLARD CLUB ARLESIEN","107059R"]
[null,null,"GROS-ROLAND","19068-BILLARD CLUB ARLESIEN","101403D"]
[null,null,"GROUSSON-ROBERT","19009-CLUB BILLARD ISTREEN","172011T"]
[null,null,"GUERINEAU-BRUNO","19021-BILLARD CLUB CAVAILLONNAIS","144796C"]
[null,null,"GUERINEAU-THIERRY","19021-BILLARD CLUB CAVAILLONNAIS","022135J"]
[null,null,"GUERIN-RAYMOND","19017-BILLARD CLUB PHOCEEN","103615F"]
[null,null,"GUERI-ROBERT","19027-ACADEMIE DE BILLARD DE BOLLENE","135013V"]
[null,null,"GUEUG-PIERRE","19056-BILLARD CLUB DE NICE","104475H"]
[null,null,"GUIZELIN-PASCAL","19106-BILLARD CLUB VINONNAIS","154530S"]
[null,null,"HADDAD-JEAN PIERRE","19014-BILLARD CLUB AVIGNONNAIS","184013P"]
[null,null,"HADDOUCHE-JONATHAN","19002-SPORT AMAT.DE BILLARD MARSEILLAIS","147316B"]
[null,null,"HAHN-DANIEL","19017-BILLARD CLUB PHOCEEN","011966G"]
[null,null,"HAMALIAN-CYRIL","19002-SPORT AMAT.DE BILLARD MARSEILLAIS","166068J"]
[null,null,"HARTENSTEIN-BRUNO","19006-BILLARD CLUB CARPENTRASSIEN","166328R"]
[null,null,"HATEM-MARC","19131-BILLARD CLUB DE L ESTAGNOL","183291E"]
[null,null,"HAZE-PATRICK","19021-BILLARD CLUB CAVAILLONNAIS","137523J"]
[null,null,"HEBRAL-LUDOVIC","19112-NISSA BILLARD CLUB","101323B"]
[null,null,"HEINRICH-CHRISTIAN","19009-CLUB BILLARD ISTREEN","186298Y"]
[null,null,"HERREMAN-SERGE","19023-BILLARD CLUB GARDEEN","119933V"]
[null,null,"HEURTAULT-JACKY","19012-SALON BILLARD CLUB","137004K"]
[null,null,"HEYDON-CHRISTOPHER","19127-O CIGALON BILLARD CLUB","169219J"]
[null,null,"HEYDON-SABINE","19127-O CIGALON BILLARD CLUB","169259C"]
[null,null,"HOLUIGUE-ROGER","19023-BILLARD CLUB GARDEEN","177454K"]
[null,null,"HUGUET-PATRICK","19017-BILLARD CLUB PHOCEEN","172086A"]
[null,null,"IDJERI-GILBERT","19050-BILLARD CLUB SAUSSETOIS","172214P"]
[null,null,"INGA-FABRIZIO","19112-NISSA BILLARD CLUB","181447A"]
[null,null,"ISRAEL-ELIE","19017-BILLARD CLUB PHOCEEN","184059P"]
[null,null,"IVACHEFF-HELENE","19106-BILLARD CLUB VINONNAIS","184667A"]
[null,null,"IVACHEFF-MICHEL","19106-BILLARD CLUB VINONNAIS","181239Z"]
[null,null,"JABBOUR-HAMZA","19002-SPORT AMAT.DE BILLARD MARSEILLAIS","182210E"]
[null,null,"JALLIFFIER ARDENT-MARIE","19056-BILLARD CLUB DE NICE","179363K"]
[null,null,"JALOUAJ-AMINE","19127-O CIGALON BILLARD CLUB","167227T"]
[null,null,"JANNOT-FREDERIC","19019-BILLARD CLUB DE LA BAIE","183489V"]
[null,null,"JONNARD-FREDERIC","19023-BILLARD CLUB GARDEEN","120814S"]
[null,null,"JUIGNET-CHRISTIAN","19138-BILLARD CLUB FREJUSSIEN","109412E"]
[null,null,"JUMEL-RENE","19027-ACADEMIE DE BILLARD DE BOLLENE","162905W"]
[null,null,"KERNINON-PATRICE","19130-BLACK BALL CAVAILLONNAIS","101100M"]
[null,null,"KUNTZ-ADRIEN","19055-ACADEMIE DE BILLARD DE MENTON","022175X"]
[null,null,"LABATUT-FRANCOIS","19059-BILLARD CLUB ROQUEBRUNOIS","186947D"]
[null,null,"LACOSSE-JEAN PAUL","19019-BILLARD CLUB DE LA BAIE","109977X"]
[null,null,"LACOUR-DAVID","19127-O CIGALON BILLARD CLUB","116529X"]
[null,null,"LAFDJIAN-GILBERT","19007-BILLARD CLUB BERROIS","177232T"]
[null,null,"LAGIER-ALBAN","19131-BILLARD CLUB DE L ESTAGNOL","101267X"]
[null,null,"LAM-MINH TRUNG DENIS","19056-BILLARD CLUB DE NICE","181038F"]
[null,null,"LANAIA-MICKAEL","19130-BLACK BALL CAVAILLONNAIS","167062P"]
[null,null,"LANARI-PIERRE","19056-BILLARD CLUB DE NICE","175999D"]
[null,null,"LANDE-GERARD","19014-BILLARD CLUB AVIGNONNAIS","016084Q"]
[null,null,"LANDERECTHE-PASCAL","19007-BILLARD CLUB BERROIS","181199F"]
[null,null,"LANDERECTHE-RUDY","19007-BILLARD CLUB BERROIS","181200G"]
[null,null,"LANDOIS-DOMINIQUE","19055-ACADEMIE DE BILLARD DE MENTON","179135M"]
[null,null,"LANG-CHRISTIAN","19009-CLUB BILLARD ISTREEN","022186I"]
[null,null,"LANNURIEN-THIERRY","19023-BILLARD CLUB GARDEEN","168288X"]
[null,null,"LANNY-ALAIN","19050-BILLARD CLUB SAUSSETOIS","186266N"]
[null,null,"LAUNAY-MICHEL","19058-ACADEMIE DE BILLARD DE BARBOSSI MANDELIEU","178352L"]
[null,null,"LAVAUD-JOHN","19130-BLACK BALL CAVAILLONNAIS","122601L"]
[null,null,"LE FAUCHEUR-LAURENT","19098-BILLARD CLUB LA FARE","163278B"]
[null,null,"LE GOC-MICKAEL","19136-BLACK BALL CONCEPT","148064P"]
[null,null,"LE GUENNEC-CHRISTIAN","19061-ACAD.BILLARD ST RAPHAEL","125949F"]
[null,null,"LE TROCQUER-HUGO","19002-SPORT AMAT.DE BILLARD MARSEILLAIS","186459Y"]
[null,null,"LEBARBENCHON-JEAN","19055-ACADEMIE DE BILLARD DE MENTON","177122Z"]
[null,null,"LECLERC-SYLVAIN","19130-BLACK BALL CAVAILLONNAIS","160245E"]
[null,null,"LECOQ-ARNAUD","19012-SALON BILLARD CLUB","141504M"]
[null,null,"LECUILLIER-ARNAUD","19127-O CIGALON BILLARD CLUB","128719T"]
[null,null,"LEDUCQ-MORGAN","19014-BILLARD CLUB AVIGNONNAIS","105373V"]
[null,null,"LEFAUX-JEAN JACQUES","19025-BILLARD CLUB SISTERONNAIS","117411V"]
[null,null,"LEMARTINET-ROBERT","19019-BILLARD CLUB DE LA BAIE","110379J"]
[null,null,"LEMESLE-FABRICE","19017-BILLARD CLUB PHOCEEN","022205B"]
[null,null,"LEMIERE-JEAN NOEL","19023-BILLARD CLUB GARDEEN","104233Z"]
[null,null,"LEON-ALFRED","19021-BILLARD CLUB CAVAILLONNAIS","186622A"]
[null,null,"LESPRIT-CLAUDE","19019-BILLARD CLUB DE LA BAIE","179358E"]
[null,null,"LETELLIER-ALAIN","19090-BILLARD AMATEUR ROGNAC","176350K"]
[null,null,"LIEGEOIS-DOMINIQUE","19027-ACADEMIE DE BILLARD DE BOLLENE","022209F"]
[null,null,"LIENS-MICHEL","19021-BILLARD CLUB CAVAILLONNAIS","118678O"]
[null,null,"LIMA-STEPHANE","19130-BLACK BALL CAVAILLONNAIS","161477T"]
[null,null,"LIONNE-GEORGES","19027-ACADEMIE DE BILLARD DE BOLLENE","178650K"]
[null,null,"LISI-ROGER","19007-BILLARD CLUB BERROIS","146375V"]
[null,null,"LISSAJOUX-JEAN CLAUDE","19009-CLUB BILLARD ISTREEN","168722T"]
[null,null,"LLOBELL-ALAIN","19017-BILLARD CLUB PHOCEEN","170266X"]
[null,null,"LLOBELL-CLAIRE","19017-BILLARD CLUB PHOCEEN","170267Y"]
[null,null,"LOMBARDO-STEPHANE","19127-O CIGALON BILLARD CLUB","101339R"]
[null,null,"LORKOVIC-JOSEPH","19009-CLUB BILLARD ISTREEN","022217N"]
[null,null,"LOSTAO-DOMINIQUE","19058-ACADEMIE DE BILLARD DE BARBOSSI MANDELIEU","168030R"]
[null,null,"LUCENET-PAUL","19009-CLUB BILLARD ISTREEN","162076V"]
[null,null,"LUNEAU-JEAN CLAUDE","19023-BILLARD CLUB GARDEEN","186880F"]
[null,null,"LUVISON-JEAN","19012-SALON BILLARD CLUB","022221R"]
[null,null,"MACQUET-PATRICK","19056-BILLARD CLUB DE NICE","022223T"]
[null,null,"MALLEVAL-GERARD","19023-BILLARD CLUB GARDEEN","100910E"]
[null,null,"MANZO-PIERRE JEAN","19002-SPORT AMAT.DE BILLARD MARSEILLAIS","186458X"]
[null,null,"MARCEAUX-JOSE","19059-BILLARD CLUB ROQUEBRUNOIS","020447L"]
[null,null,"MARCHANDISE MORAND-JACQUELINE","19025-BILLARD CLUB SISTERONNAIS","177467Z"]
[null,null,"MARCHAND-PHILIPPE","19001-S. S. A. B. D AIX EN PROVENCE","164047M"]
[null,null,"MARIE-MICHEL","19021-BILLARD CLUB CAVAILLONNAIS","175846M"]
[null,null,"MARIOTTI-JEAN MICHEL","19131-BILLARD CLUB DE L ESTAGNOL","101260Q"]
[null,null,"MARME-HANS","19127-O CIGALON BILLARD CLUB","159950J"]
[null,null,"MARTIN-CLAUDE","19021-BILLARD CLUB CAVAILLONNAIS","175391S"]
[null,null,"MARTINEZ-BENOIT","19008-BRITISH BILLARD CLUB AVIGNON","180741H"]
[null,null,"MASSERAN-PHILIPPE","19058-ACADEMIE DE BILLARD DE BARBOSSI MANDELIEU","103581X"]
[null,null,"MASSIAS-GUY","19001-S. S. A. B. D AIX EN PROVENCE","172680W"]
[null,null,"MASSOT-SEBASTIEN","19025-BILLARD CLUB SISTERONNAIS","159674J"]
[null,null,"MATHIEU-MICHEL","19006-BILLARD CLUB CARPENTRASSIEN","183687K"]
[null,null,"MATILLON-CLAUDE","19001-S. S. A. B. D AIX EN PROVENCE","160344M"]
[null,null,"MAUDUIT-DIDIER","19009-CLUB BILLARD ISTREEN","017615N"]
[null,null,"MAURON-BERNARD","19023-BILLARD CLUB GARDEEN","149391G"]
[null,null,"MAURY-HENRI","19058-ACADEMIE DE BILLARD DE BARBOSSI MANDELIEU","163825W"]
[null,null,"MAYNARD-ALEXANDRE","19056-BILLARD CLUB DE NICE","112015H"]
[null,null,"MEGUIN-ERIC","19021-BILLARD CLUB CAVAILLONNAIS","128466A"]
[null,null,"MELLET-PIERRE","19027-ACADEMIE DE BILLARD DE BOLLENE","144802I"]
[null,null,"METAIS-ALBAN","19006-BILLARD CLUB CARPENTRASSIEN","152604Z"]
[null,null,"MEYER-LUC","19023-BILLARD CLUB GARDEEN","022260E"]
[null,null,"MICHEL-JACQUES","19006-BILLARD CLUB CARPENTRASSIEN","183513W"]
[null,null,"MILLOT-ANITA","19023-BILLARD CLUB GARDEEN","180677N"]
[null,null,"MILLOT-BENOIT","19023-BILLARD CLUB GARDEEN","180676M"]
[null,null,"MILLOT-ROBERT","19025-BILLARD CLUB SISTERONNAIS","172218T"]
[null,null,"MISRAKI-ROMAIN","19002-SPORT AMAT.DE BILLARD MARSEILLAIS","144792Y"]
[null,null,"MOGLIA-EMILE","19014-BILLARD CLUB AVIGNONNAIS","022266K"]
[null,null,"MOINON-FRANCOIS","19002-SPORT AMAT.DE BILLARD MARSEILLAIS","184069A"]
[null,null,"MOLAND-PHILIPPE","19059-BILLARD CLUB ROQUEBRUNOIS","022268M"]
[null,null,"MOLINAS-ROBERT","19021-BILLARD CLUB CAVAILLONNAIS","022270O"]
[null,null,"MONNET-JEAN CLAUDE","19021-BILLARD CLUB CAVAILLONNAIS","022271P"]
[null,null,"MONTALTI-PIERRE","19002-SPORT AMAT.DE BILLARD MARSEILLAIS","116557Z"]
[null,null,"MONTERO-JEAN MANUEL","19068-BILLARD CLUB ARLESIEN","147134D"]
[null,null,"MONTESINOS-GILLES","19012-SALON BILLARD CLUB","136279N"]
[null,null,"MOREELS-BERNARD","19023-BILLARD CLUB GARDEEN","147624L"]
[null,null,"MORERE-JEAN PIERRE","19059-BILLARD CLUB ROQUEBRUNOIS","176019A"]
[null,null,"MOUMENE-AMINE","19002-SPORT AMAT.DE BILLARD MARSEILLAIS","182204Y"]
[null,null,"MOUSSIER-PATRICK","19056-BILLARD CLUB DE NICE","151456B"]
[null,null,"MOUTON-VINCENT","19112-NISSA BILLARD CLUB","153604L"]
[null,null,"MUNOS-JEAN","19050-BILLARD CLUB SAUSSETOIS","109063T"]
[null,null,"MUNOS-VINCENT","19007-BILLARD CLUB BERROIS","109708O"]
[null,null,"MUNOZ-CHRISTIAN","19021-BILLARD CLUB CAVAILLONNAIS","022284C"]
[null,null,"MURAILLE-ALAIN","19017-BILLARD CLUB PHOCEEN","168135F"]
[null,null,"MUSATO-LAETITIA","19127-O CIGALON BILLARD CLUB","117647X"]
[null,null,"N GUYEN VAN DUC-MAX","19007-BILLARD CLUB BERROIS","141788K"]
[null,null,"NABHANE-EMILE","19006-BILLARD CLUB CARPENTRASSIEN","166329S"]
[null,null,"NAPOLI-SALVATORE","19006-BILLARD CLUB CARPENTRASSIEN","107150E"]
[null,null,"NARBONI-PATRICK","19056-BILLARD CLUB DE NICE","013816K"]
[null,null,"NASICA-PATRICK","19014-BILLARD CLUB AVIGNONNAIS","107263N"]
[null,null,"NATALI-MICHEL","19131-BILLARD CLUB DE L ESTAGNOL","101269Z"]
[null,null,"NATELLA-IDA","19056-BILLARD CLUB DE NICE","154573P"]
[null,null,"NATELLA-ROGER","19056-BILLARD CLUB DE NICE","154572N"]
[null,null,"NAUDIN-DIDIER","19027-ACADEMIE DE BILLARD DE BOLLENE","186341V"]
[null,null,"NEGOZIO-JACKY","19059-BILLARD CLUB ROQUEBRUNOIS","185108E"]
[null,null,"NGUYEN-AHN TUAN","19006-BILLARD CLUB CARPENTRASSIEN","164318G"]
[null,null,"NOE-HUGO","19068-BILLARD CLUB ARLESIEN","182538L"]
[null,null,"NOLASQUE-LYDIE","19127-O CIGALON BILLARD CLUB","125919B"]
[null,null,"NOSSIN-MARC","19058-ACADEMIE DE BILLARD DE BARBOSSI MANDELIEU","182190H"]
[null,null,"OLLIVIER-DANIEL","19009-CLUB BILLARD ISTREEN","020258E"]
[null,null,"OUDOUX-GERARD","19023-BILLARD CLUB GARDEEN","128468C"]
[null,null,"PACZESNY-FABRICE","19098-BILLARD CLUB LA FARE","150400D"]
[null,null,"PANAGET-KEVIN","19127-O CIGALON BILLARD CLUB","186539K"]
[null,null,"PAN-JEROME","19127-O CIGALON BILLARD CLUB","164512S"]
[null,null,"PANTALONE-CLAUDE","19017-BILLARD CLUB PHOCEEN","185639G"]
[null,null,"PAU-CHRISTINE","19025-BILLARD CLUB SISTERONNAIS","177193B"]
[null,null,"PAUL-ANTOINE","19002-SPORT AMAT.DE BILLARD MARSEILLAIS","183593H"]
[null,null,"PELLAT-FRANCIS","19025-BILLARD CLUB SISTERONNAIS","141673Z"]
[null,null,"PEREY-ELEONORE","19008-BRITISH BILLARD CLUB AVIGNON","182269T"]
[null,null,"PEREZ-CHRISTIAN","19009-CLUB BILLARD ISTREEN","130773T"]
[null,null,"PERIS-MICHEL","19056-BILLARD CLUB DE NICE","022321N"]
[null,null,"PERRIER-GILLES","19021-BILLARD CLUB CAVAILLONNAIS","021540M"]
[null,null,"PERRIN-GILLES","19068-BILLARD CLUB ARLESIEN","101398Y"]
[null,null,"PERRIN-LIONEL","19023-BILLARD CLUB GARDEEN","181624S"]
[null,null,"PERSONNE-MARTINE","19008-BRITISH BILLARD CLUB AVIGNON","170701V"]
[null,null,"PERTUZON-NOLAN","19009-CLUB BILLARD ISTREEN","179786V"]
[null,null,"PIALLA-VALERIE","19009-CLUB BILLARD ISTREEN","182685W"]
[null,null,"PICCHI-GERARD","19009-CLUB BILLARD ISTREEN","135135N"]
[null,null,"PIELIN-PASCAL","19012-SALON BILLARD CLUB","022330W"]
[null,null,"PIGNATEL-FLORENT","19021-BILLARD CLUB CAVAILLONNAIS","112316W"]
[null,null,"PILAVDJIAN-JACQUES","19017-BILLARD CLUB PHOCEEN","165118B"]
[null,null,"PINARD-PATRICE","19012-SALON BILLARD CLUB","105404A"]
[null,null,"PINNA-ALAIN","19017-BILLARD CLUB PHOCEEN","022332Y"]
[null,null,"PINNA-VINCENT","19017-BILLARD CLUB PHOCEEN","148229T"]
[null,null,"PIRO COUDERC-MARIE LAURE","19025-BILLARD CLUB SISTERONNAIS","177205P"]
[null,null,"PLE-CYRIL","19025-BILLARD CLUB SISTERONNAIS","177189X"]
[null,null,"POIRIER-DOMINIQUE","19061-ACAD.BILLARD ST RAPHAEL","108010G"]
[null,null,"PONT-CEDRIC","19002-SPORT AMAT.DE BILLARD MARSEILLAIS","183247G"]
[null,null,"PORA-JEAN PAUL","19009-CLUB BILLARD ISTREEN","170697Q"]
[null,null,"PORTET-PATRICK","19059-BILLARD CLUB ROQUEBRUNOIS","181316H"]
[null,null,"POUGIN-JEAN FRANCOIS","19059-BILLARD CLUB ROQUEBRUNOIS","022346M"]
[null,null,"POZNANSKI-JEAN MICHEL","19012-SALON BILLARD CLUB","022349P"]
[null,null,"PROFIT-GILBERT","19056-BILLARD CLUB DE NICE","143885B"]
[null,null,"PTSIAMITAS-PANAGIOTIS","19090-BILLARD AMATEUR ROGNAC","180317X"]
[null,null,"PUICHAULT-REMY","19025-BILLARD CLUB SISTERONNAIS","172219V"]
[null,null,"QUANTINET-ROBERT","19058-ACADEMIE DE BILLARD DE BARBOSSI MANDELIEU","143151V"]
[null,null,"QUARTO-LARA","19056-BILLARD CLUB DE NICE","174009Q"]
[null,null,"QUILLET-LORIS","19130-BLACK BALL CAVAILLONNAIS","174571B"]
[null,null,"QUILLET-YANN","19130-BLACK BALL CAVAILLONNAIS","186763D"]
[null,null,"RAMAROSON-HERIZO","19002-SPORT AMAT.DE BILLARD MARSEILLAIS","182722L"]
[null,null,"RAMIREZ-ALAIN","19001-S. S. A. B. D AIX EN PROVENCE","176234J"]
[null,null,"RAMOND-JEAN MARC","19058-ACADEMIE DE BILLARD DE BARBOSSI MANDELIEU","022357X"]
[null,null,"RANC-ALAIN","19027-ACADEMIE DE BILLARD DE BOLLENE","136205R"]
[null,null,"RANIERI-JEAN ANDRE","19136-BLACK BALL CONCEPT","101290U"]
[null,null,"RAVENET-FRANCIS","19059-BILLARD CLUB ROQUEBRUNOIS","157788J"]
[null,null,"REMIRO-CANDIDO","19130-BLACK BALL CAVAILLONNAIS","156535X"]
[null,null,"RENAUD-JEAN PAUL","19009-CLUB BILLARD ISTREEN","133622I"]
[null,null,"RENAUD-MARTINE","19127-O CIGALON BILLARD CLUB","153346F"]
[null,null,"RENAUD-THIERRY","19127-O CIGALON BILLARD CLUB","153347G"]
[null,null,"REVALOR-MICHEL","19050-BILLARD CLUB SAUSSETOIS","119696S"]
[null,null,"RIBOLLA-PATRICE","19056-BILLARD CLUB DE NICE","022366G"]
[null,null,"RICARD-AUDREY","19127-O CIGALON BILLARD CLUB","147449W"]
[null,null,"RICHAUD-PIERRE","19017-BILLARD CLUB PHOCEEN","107093Z"]
[null,null,"RIGNOLS-PHILIPPE","19021-BILLARD CLUB CAVAILLONNAIS","022372M"]
[null,null,"RIGOLLET-PIERRE","19025-BILLARD CLUB SISTERONNAIS","023064C"]
[null,null,"RIVARD-MICHEL","19093-AMERICAN CLUB LOUIS XI","156515A"]
[null,null,"RIVIER-PATRICE","19017-BILLARD CLUB PHOCEEN","170733E"]
[null,null,"ROBERT-DOMINIQUE","19056-BILLARD CLUB DE NICE","022376Q"]
[null,null,"ROBIN-JEAN FRANCOIS","19056-BILLARD CLUB DE NICE","143938C"]
[null,null,"ROCCA-JEAN","19017-BILLARD CLUB PHOCEEN","182388Y"]
[null,null,"RODRIGUES-STEVE","19090-BILLARD AMATEUR ROGNAC","171160T"]
[null,null,"ROGER-GERARD","19021-BILLARD CLUB CAVAILLONNAIS","134843H"]
[null,null,"RONSAIN-JEAN JACQUES","19012-SALON BILLARD CLUB","166175A"]
[null,null,"ROUANET-CLAUDE","19025-BILLARD CLUB SISTERONNAIS","163166E"]
[null,null,"ROUGON-ROBERT","19007-BILLARD CLUB BERROIS","101518O"]
[null,null,"ROUSSEL-PATRICE","19068-BILLARD CLUB ARLESIEN","172468Q"]
[null,null,"RYCKELYNCK-LAURENT","19006-BILLARD CLUB CARPENTRASSIEN","121397D"]
[null,null,"SABAH-YVES","19001-S. S. A. B. D AIX EN PROVENCE","153753Y"]
[null,null,"SAJ-PATRICK","19017-BILLARD CLUB PHOCEEN","185637E"]
[null,null,"SALAMA-ALAIN","19021-BILLARD CLUB CAVAILLONNAIS","136546U"]
[null,null,"SALES-THIERRY","19061-ACAD.BILLARD ST RAPHAEL","175174G"]
[null,null,"SANDEAUX-JEAN CLEMENT","19001-S. S. A. B. D AIX EN PROVENCE","182824X"]
[null,null,"SANTIAGO-EMMANUEL","19021-BILLARD CLUB CAVAILLONNAIS","118693D"]
[null,null,"SANTIAGO-JEAN JOSEPH","19050-BILLARD CLUB SAUSSETOIS","022391F"]
[null,null,"SANTORO-JENNIFER","19127-O CIGALON BILLARD CLUB","122933F"]
[null,null,"SARRALDE-LOUIS","19021-BILLARD CLUB CAVAILLONNAIS","014138U"]
[null,null,"SAUVAN-HENRY","19023-BILLARD CLUB GARDEEN","164008V"]
[null,null,"SAVARY-PHILIPPE","19059-BILLARD CLUB ROQUEBRUNOIS","174856L"]
[null,null,"SAVI-OLIVIER","19050-BILLARD CLUB SAUSSETOIS","186195L"]
[null,null,"SAVOIA-PATRICK","19050-BILLARD CLUB SAUSSETOIS","113222S"]
[null,null,"SAVOIE-ISABELLE","19130-BLACK BALL CAVAILLONNAIS","119929R"]
[null,null,"SCHAEFER-ERNEST ROBERT","19006-BILLARD CLUB CARPENTRASSIEN","149694L"]
[null,null,"SCHENK-ROBERT","19056-BILLARD CLUB DE NICE","136540O"]
[null,null,"SCHOU-MICHEL","19023-BILLARD CLUB GARDEEN","183292F"]
[null,null,"SEBAH-JEAN PAUL","19017-BILLARD CLUB PHOCEEN","175481Q"]
[null,null,"SEDANO-JEAN LUC","19130-BLACK BALL CAVAILLONNAIS","014712W"]
[null,null,"SEDRATI-ONIS","19002-SPORT AMAT.DE BILLARD MARSEILLAIS","182207B"]
[null,null,"SEEBORUTH-NIKHIL","19002-SPORT AMAT.DE BILLARD MARSEILLAIS","186463C"]
[null,null,"SEEMANN-MICHAEL","19025-BILLARD CLUB SISTERONNAIS","182883L"]
[null,null,"SELLIER-MICHEL","19056-BILLARD CLUB DE NICE","022406U"]
[null,null,"SERMON-FABIO","19130-BLACK BALL CAVAILLONNAIS","149899J"]
[null,null,"SICARD-GEORGES","19025-BILLARD CLUB SISTERONNAIS","163238H"]
[null,null,"SIDGUI-OUSSAMA","19002-SPORT AMAT.DE BILLARD MARSEILLAIS","182206A"]
[null,null,"SIEGLER-JEAN PIERRE","19006-BILLARD CLUB CARPENTRASSIEN","168834Q"]
[null,null,"SIMIAN-FABIENNE","19130-BLACK BALL CAVAILLONNAIS","156378B"]
[null,null,"SIMON-GERARD","19014-BILLARD CLUB AVIGNONNAIS","010203L"]
[null,null,"SIMON-PASCAL","19127-O CIGALON BILLARD CLUB","114485H"]
[null,null,"SINANIAN-JEAN PAUL","19017-BILLARD CLUB PHOCEEN","022412A"]
[null,null,"SKAF-JOSEPH","19002-SPORT AMAT.DE BILLARD MARSEILLAIS","134702W"]
[null,null,"SOLARI-ANNICK","19098-BILLARD CLUB LA FARE","151274D"]
[null,null,"SOLTANI-OMAR","19106-BILLARD CLUB VINONNAIS","103578U"]
[null,null,"SOULIER-JENNIFER","19068-BILLARD CLUB ARLESIEN","178610R"]
[null,null,"SPINNLER-JEAN LUC","19027-ACADEMIE DE BILLARD DE BOLLENE","165931K"]
[null,null,"STEINMANN-SEBASTIEN","19061-ACAD.BILLARD ST RAPHAEL","020790Q"]
[null,null,"STEPHAN-OLIVIER","19025-BILLARD CLUB SISTERONNAIS","125931N"]
[null,null,"STRAUDO-JEAN PIERRE","19090-BILLARD AMATEUR ROGNAC","179072T"]
[null,null,"STRAUDO-MICHEL","19090-BILLARD AMATEUR ROGNAC","156278S"]
[null,null,"SUMILE-JODERICK","19112-NISSA BILLARD CLUB","186725M"]
[null,null,"SURATEAU-BERNARD","19061-ACAD.BILLARD ST RAPHAEL","165925D"]
[null,null,"TAN-BUN HO","19068-BILLARD CLUB ARLESIEN","182372F"]
[null,null,"TARDIEUX-LUC","19098-BILLARD CLUB LA FARE","022429R"]
[null,null,"TARDY-JEAN CLAUDE","19014-BILLARD CLUB AVIGNONNAIS","133907H"]
[null,null,"TARDY-PIERRE YVES","19058-ACADEMIE DE BILLARD DE BARBOSSI MANDELIEU","143024Y"]
[null,null,"TARTING-BERNARD","19001-S. S. A. B. D AIX EN PROVENCE","160345N"]
[null,null,"TEYSSIER-SERGE","19007-BILLARD CLUB BERROIS","132938A"]
[null,null,"THEVENET-JEAN CLAUDE","19025-BILLARD CLUB SISTERONNAIS","014232K"]
[null,null,"THIBAULT-LUCETTE","19106-BILLARD CLUB VINONNAIS","184678M"]
[null,null,"THIBOUT-HERVE","19017-BILLARD CLUB PHOCEEN","186654K"]
[null,null,"THIERY-PATRICE","19068-BILLARD CLUB ARLESIEN","173938N"]
[null,null,"THOMAS-MICHEL","19061-ACAD.BILLARD ST RAPHAEL","125937T"]
[null,null,"THOMAS-PHILIPPE","19023-BILLARD CLUB GARDEEN","168687F"]
[null,null,"TIBERT-THIERRY","19055-ACADEMIE DE BILLARD DE MENTON","113231B"]
[null,null,"TICHADOU-SAMY","19002-SPORT AMAT.DE BILLARD MARSEILLAIS","186465E"]
[null,null,"TOMASINI-ALEXANDRE","19055-ACADEMIE DE BILLARD DE MENTON","105800G"]
[null,null,"TONINI BOSSI-LAURENT","19002-SPORT AMAT.DE BILLARD MARSEILLAIS","131820A"]
[null,null,"TONOLI-PASCAL","19059-BILLARD CLUB ROQUEBRUNOIS","022438A"]
[null,null,"TORES-JEAN LUC","19009-CLUB BILLARD ISTREEN","135554Q"]
[null,null,"TORRE-BENOIT","19068-BILLARD CLUB ARLESIEN","180537L"]
[null,null,"TOUATI-WILLIAM","19002-SPORT AMAT.DE BILLARD MARSEILLAIS","186455T"]
[null,null,"TOULLEC-DANIEL","19059-BILLARD CLUB ROQUEBRUNOIS","177643Q"]
[null,null,"TOUREILLE-ALAIN","19025-BILLARD CLUB SISTERONNAIS","139062O"]
[null,null,"TOURE-MADOU","19002-SPORT AMAT.DE BILLARD MARSEILLAIS","014256I"]
[null,null,"TRAN-KEVIN","19002-SPORT AMAT.DE BILLARD MARSEILLAIS","022443F"]
[null,null,"TURPIN-JEAN","19001-S. S. A. B. D AIX EN PROVENCE","172679V"]
[null,null,"VAHE-GUILLAUME","19112-NISSA BILLARD CLUB","107282G"]
[null,null,"VALENSI-GERARD","19017-BILLARD CLUB PHOCEEN","022453P"]
[null,null,"VALET-JEAN MICHEL","19023-BILLARD CLUB GARDEEN","177653B"]
[null,null,"VALETTE-SYLVAIN","19023-BILLARD CLUB GARDEEN","177654C"]
[null,null,"VALLETTE-PHILIPPE","19027-ACADEMIE DE BILLARD DE BOLLENE","171874V"]
[null,null,"VALMAGGIA-CHRISTIAN","19009-CLUB BILLARD ISTREEN","141274Q"]
[null,null,"VALVERDE-JEAN YVES","19023-BILLARD CLUB GARDEEN","153163G"]
[null,null,"VAN GOOL-FRANS","19058-ACADEMIE DE BILLARD DE BARBOSSI MANDELIEU","170621H"]
[null,null,"VAN OVERSTRAETEN-JULIEN","19002-SPORT AMAT.DE BILLARD MARSEILLAIS","186462B"]
[null,null,"VAN WIJNGAARDEN-HANS","19058-ACADEMIE DE BILLARD DE BARBOSSI MANDELIEU","143155Z"]
[null,null,"VAUTRIN-JEAN","19056-BILLARD CLUB DE NICE","022459V"]
[null,null,"VIAL-HUGO","19112-NISSA BILLARD CLUB","159948G"]
[null,null,"VICTOR-DANIEL","19019-BILLARD CLUB DE LA BAIE","147412F"]
[null,null,"VIDAL-RENE BERNARD","19106-BILLARD CLUB VINONNAIS","181240A"]
[null,null,"VIERA MAIA-ARLINDO","19061-ACAD.BILLARD ST RAPHAEL","148051A"]
[null,null,"VIGNE-PHILIPPE","19014-BILLARD CLUB AVIGNONNAIS","014327B"]
[null,null,"VILLAR-FRANCOIS","19112-NISSA BILLARD CLUB","149606Q"]
[null,null,"VILLAR-LOUP","19112-NISSA BILLARD CLUB","176924J"]
[null,null,"VILLASEVIL-ANTONIO","19007-BILLARD CLUB BERROIS","101485H"]
[null,null,"VILLEMAIN-SYLVAIN","19130-BLACK BALL CAVAILLONNAIS","153007M"]
[null,null,"VILLENAVE-REGIS","19068-BILLARD CLUB ARLESIEN","172469R"]
[null,null,"VILLENEUVE-THEO","19127-O CIGALON BILLARD CLUB","186540L"]
[null,null,"VISCONTI-JEAN","19090-BILLARD AMATEUR ROGNAC","138731V"]
[null,null,"VIVALDI-ANDRE","19106-BILLARD CLUB VINONNAIS","022476M"]
[null,null,"VUILLAUME-JEAN CLAUDE","19056-BILLARD CLUB DE NICE","154571M"]
[null,null,"VULTAGGIO-PIERRE","19058-ACADEMIE DE BILLARD DE BARBOSSI MANDELIEU","022480Q"]
[null,null,"WALLON-PATRICK","19027-ACADEMIE DE BILLARD DE BOLLENE","176943E"]
[null,null,"WARLET-JEAN CLAUDE","19061-ACAD.BILLARD ST RAPHAEL","117872O"]
[null,null,"WILLAME-PHILIPPE","19001-S. S. A. B. D AIX EN PROVENCE","152534Y"]
[null,null,"WIRTH-HUGO","19002-SPORT AMAT.DE BILLARD MARSEILLAIS","186649E"]
[null,null,"WOLFF-MAXIME","19002-SPORT AMAT.DE BILLARD MARSEILLAIS","182608M"]
[null,null,"WYNIGER-ERIC","19014-BILLARD CLUB AVIGNONNAIS","172921H"]
[null,null,"WYNIGER-MARC","19014-BILLARD CLUB AVIGNONNAIS","172922J"]
[null,null,"XUEREF-JEAN MARIE","19019-BILLARD CLUB DE LA BAIE","152049W"]
[null,null,"YORAC-ARNOLF","19138-BILLARD CLUB FREJUSSIEN","143308W"]
[null,null,"YUNG-NADEGE","19130-BLACK BALL CAVAILLONNAIS","166159H"]
[null,null,"YVOZ-ALAIN","19006-BILLARD CLUB CARPENTRASSIEN","184288N"]
[null,null,"ZANDRINO-ALAIN","19007-BILLARD CLUB BERROIS","134311V"]
[null,null,"ZATTERA-GIOVANNI","19002-SPORT AMAT.DE BILLARD MARSEILLAIS","186520P"]
[null,null,"ZOPPI-AIME","19106-BILLARD CLUB VINONNAIS","144788U"]
[null,null,"ZOPPI-CEDRIC","19106-BILLARD CLUB VINONNAIS","125457H"]
[null,null,"ZOUARI-SAMY","19002-SPORT AMAT.DE BILLARD MARSEILLAIS","184338S"]

{"sheet":"CLUB","index":1,"n_rows":31,"n_cols":14,"rows_kept":31,"cut":false,"hidden":true,"merged":[[0,0,0,4],[21,7,21,13]]}
["CLUB AFFILIE LMB\n",null,null,null,null,null,null,"Tournoi","Categ","News Joueurs","Compet","Forfait","Mode","Distance"]
["CLUB","ADRESSE 1","ADRESSE 2","CODE POSTAL","VILLE",null,null,"TOURNOI N°1","M","CL","1/2 Finale Ligue","Excusé","CADRE",10]
["19001 – S. S. A. B. D AIX EN PROVENCE","RUE PIERRE DE COUBERTIN",null,13100,"AIX EN PROVENCE",null,null,"TOURNOI N°2","N1","NC","Finale Ligue","Non Excusé","2,80m 42/2",11]
["19002 – SPORT AMAT.DE BILLARD MARSEILLAIS","26 RUE PAVILLON",null,13001,"MARSEILLE",null,null,"TOURNOI N°3","N2",null,"1/2 Finale Dpt","Abandon","3,10m 47/2",15]
["19006 – BILLARD CLUB CARPENTRASSIEN","264 BOULEVARD ALBIN DURAND",null,84200,"CARPENTRAS",null,null,"TOURNOI N°4","N3",null,"Finale Dpt",null,"LIBRE",20]
["19007 – BILLARD CLUB BERROIS","RUE MARCEL PAGNOL",null,13130,"BERRE L ETANG",null,null,"TOURNOI N°5","R1",null,"Finale Inter-Dpt",null,"2,80m PC",25]
["19009 – CLUB BILLARD ISTREEN","HALLE POLYVALENTE PLACE RAOUX","ALLEE DES ECHOPPES",13800,"ISTRES",null,null,"TOURNOI N°6","R2",null,null,null,"2,80m GC",30]
["19012 – SALON BILLARD CLUB","CERCLE DES ARTS","RUE DES FILEUSES DE SOIE",13300,"SALON DE PROVENCE",null,null,"TOURNOI N°7","R3",null,null,null,"3,10m GC",35]
["19014 – BILLARD CLUB AVIGNONNAIS","12 RUE BONAPARTE","MAISON DU COMBATTANT",84000,"AVIGNON",null,null,"TOURNOI N°8","R4",null,null,null,"1B - 3B",40]
["19016 – BILLARD CLUB ORANGEOIS","MAISON DES ASSOCIATIONS","ROUTE DE CADEROUSSE",84100,"ORANGE",null,null,"TOURNOI N°9","4BILLES",null,null,null,"2,80m ",50]
["19017 – BILLARD CLUB PHOCEEN","12 RUE DU DOCTEUR ACQUAVIVA",null,13004,"MARSEILLE",null,null,"TOURNOI N°10",null,null,null,null,"3,10m ",60]
["19019 – BILLARD CLUB DE LA BAIE","SALLE OTTAVI","AVENUE DES ALLIES",83240,"CAVALAIRE SUR MER",null,null,"TOURNOI N°11",null,null,null,null,"Cadet ",70]
["19021 – BILLARD CLUB CAVAILLONNAIS","CERCLE DE L INDEPENDANCE","97 COURS VICTOR HUGO",84300,"CAVAILLON",null,null,"TOURNOI N°12",null,null,null,null,"Junior",80]
["19023 – BILLARD CLUB GARDEEN","LE MAS QUARTIER SAINTE MARGUERITE","293 AVENUE PIERRE LOTI",83130,"LA GARDE",null,null,null,null,null,null,null,null,100]
["19025 – BILLARD CLUB SISTERONNAIS","73 AVENUE DE LA DURANCE","SALLE OMNISPORT DANIEL MAFFREN",4200,"SISTERON",null,null,null,null,null,null,null,null,120]
["19027 – ACADEMIE DE BILLARD DE BOLLENE","GROUPE SCOLAIRE PIERRE MARIE CURIE",null,84500,"BOLLENE",null,null,null,null,null,null,null,null,150]
["19050 – BILLARD CLUB SAUSSETOIS","PARC MUNICIPAL DES LOISIRS","31 AVENUE DE LA COTE BLEUE",13960,"SAUSSET LES PINS",null,null,null,null,null,null,null,null,200]
["19055 – ACADEMIE DE BILLARD DE MENTON","ALLEE DU LOUVRE ","SALON DU LOUVRE",6500,"MENTON",null,null,null,null,null,null,null,null,250]
["19056 – BILLARD CLUB DE NICE","SALLE MALATESTA","64 AVENUE CYRILLE BESSET",6100,"NICE",null,null,null,null,null,null,null,null,300]
["19058 – ACADEMIE DE BILLARD DE BARBOSSI MANDELIEU","COUNTRY CLUB DE BARBOSSI","23 CHEMIN DE MAURE-VIEL",6210,"MANDELIEU LA NAPOULE",")",null,null,null,null,null,null,null,400]
["19059 – BILLARD CLUB ROQUEBRUNOIS","44 AVENUE GABRIEL PERRI",null,83520,"ROQUEBRUNE SUR ARGENS"]
["19061 – ACAD.BILLARD ST RAPHAEL","90 RUE THOMAS EDISSON","ZI LA PALUD",83700,"ST RAPHAEL",null,null,"CATEGORIES SUIVANT LES MODES DE JEU"]
["19090 – BILLARD AMATEUR ROGNAC","60 BOULEVARD JEAN JAURES",null,13340,"ROGNAC",null,null,"LIBRE","CADRE 47/2","CADRE 42/2","CADRE 71/2","CADRE 47/1","BANDE","3BANDES"]
["19098 – BILLARD CLUB LA FARE","36 BIS AVENUE PASTEUR",null,13580,"LA FARE LES OLIVIERS",null,null,"M","M","N3","M","M","M","M"]
["19106 – BILLARD CLUB VINONNAIS","480 RUE DES ENTREPRENEURS","ZA DU PAS DE MENC",83560,"VINON SUR VERDON",null,null,"N1","N1","R1",null,null,"N1","N1"]
[null,null,null,null,null,null,null,"N3","N2",null,null,null,"N3","N2"]
[null,null,null,null,null,null,null,"R1","N3",null,null,null,"R1","N3"]
[null,null,null,null,null,null,null,"R2","R1",null,null,null,"R2","R1"]
[null,null,null,null,null,null,null,"R3",null,null,null,null,null,"R2"]
[null,null,null,null,null,null,null,"R4",null,null,null,null,null,"DAMES"]
[null,null,null,null,null,null,null,"DAMES"]

{"sheet":"BOISSON_T","index":2,"n_rows":28,"n_cols":6,"rows_kept":28,"cut":false,"hidden":true,"merged":[[0,0,0,4]]}
["BOISSONS DU",null,null,null,null,{"$f":"'Saisie des joueurs'!D5","v":"00:00:00"}]
["Nom - Prénom","EAU","BOISSONS","REPAS","TOTAL","CLUB"]
[{"$f":"'Saisie des joueurs'!X18","v":0}]
[{"$f":"'Saisie des joueurs'!X19","v":0}]
[{"$f":"'Saisie des joueurs'!X20","v":0}]
[{"$f":"'Saisie des joueurs'!X21","v":0}]
[{"$f":"'Saisie des joueurs'!X22","v":0}]
[{"$f":"'Saisie des joueurs'!X23","v":0}]
[{"$f":"'Saisie des joueurs'!X24","v":0}]
[{"$f":"'Saisie des joueurs'!X25","v":0}]
[{"$f":"'Saisie des joueurs'!X26","v":0}]
[{"$f":"'Saisie des joueurs'!X27","v":0}]
[{"$f":"'Saisie des joueurs'!X28","v":0}]
[{"$f":"'Saisie des joueurs'!X29","v":0}]
[{"$f":"'Saisie des joueurs'!X30","v":0}]
[{"$f":"'Saisie des joueurs'!X31","v":0}]
[{"$f":"'Saisie des joueurs'!X32","v":0}]
[{"$f":"'Saisie des joueurs'!X33","v":0}]
[{"$f":"'Saisie des joueurs'!X34","v":0}]
[{"$f":"'Saisie des joueurs'!X35","v":0}]
[{"$f":"'Saisie des joueurs'!X36","v":0}]
[{"$f":"'Saisie des joueurs'!X37","v":0}]
[{"$f":"'Saisie des joueurs'!X38","v":0}]
[{"$f":"'Saisie des joueurs'!X39","v":0}]
[{"$f":"'Saisie des joueurs'!X40","v":0}]
[{"$f":"'Saisie des joueurs'!X41","v":0}]
[{"$f":"'Saisie des joueurs'!X42","v":0}]
[{"$f":"'Saisie des joueurs'!X43","v":0}]

{"sheet":"3BANDES","index":3,"n_rows":59,"n_cols":6,"rows_kept":59,"cut":false,"hidden":true,"merged":[[0,0,1,5]]}
["3BANDES"]
[]
["NC-CL","NOM","N° LICENCE","CAT","MG","CLUB"]
["CL","ANDRY JEAN FRANCOIS","021818 E","R1","0,333","19090 – BILLARD AMATEUR ROGNAC"]
["CL","ANNESTAY JACQUES","021820 G","R1","0,306","19025 – BILLARD CLUB SISTERONNAIS"]
["CL","BANO SERGE","149693 K","R2","0,216","19001 – S. S. A. B. D AIX EN PROVENCE"]
["CL","BEDOC JACQUES","021863 X","R1","0,352","19007 – BILLARD CLUB BERROIS"]
["CL","BENAVIDES GERARD","138275 H","R2","0,241","19012 – SALON BILLARD CLUB"]
["CL","BEREZ EZER","154521 D","R1","0,236","19001 – S. S. A. B. D AIX EN PROVENCE"]
["CL","BIARD ANDRE","159202 W","R2","0,171","19009 – CLUB BILLARD ISTREEN"]
["NC","BLANC SANTELLI ERIC","179744 Z","R2","0,143","19009 – CLUB BILLARD ISTREEN"]
["CL","BONNEMAISON DENIS","150422 C","R2","0,290","19009 – CLUB BILLARD ISTREEN"]
["CL","BRIAND ALAIN","113104 E","R1","0,282","19002 – SPORT AMAT.DE BILLARD MARSEILLAIS"]
["CL","CACHO DIDIER","112311 R","R1","0,334","19098 – BILLARD CLUB LA FARE"]
["CL","CAO HUU TUOI","021944 A","R1","0,392","19098 – BILLARD CLUB LA FARE"]
["CL","CARRILLON MICHEL","141066 Q","R1","0,289","19001 – S. S. A. B. D AIX EN PROVENCE"]
["CL","CHAIX JOEL","021960 Q","R1","0,311","19025 – BILLARD CLUB SISTERONNAIS"]
["NC","CHEURF SELIMANE","187031 V","R2","0,181","19090 – BILLARD AMATEUR ROGNAC"]
["NC","CORTES JEAN LOUIS","187055 W","R1","0,290","19009 – CLUB BILLARD ISTREEN"]
["NC","COURBOT LUDWIG","016838 Q","N3","0,443","19001 – S. S. A. B. D AIX EN PROVENCE"]
["CL","DEDON RICHARD","177233 V","R2","0,280","19007 – BILLARD CLUB BERROIS"]
["CL","ENJOLRAS PIERRE","105440 K","R1","0,315","19050 – BILLARD CLUB SAUSSETOIS"]
["CL","FERRO PHILIPPE","122658 Q","R1","0,384","19009 – CLUB BILLARD ISTREEN"]
["CL","GALARDINI RICHARD","142316 S","R1","0,281","19050 – BILLARD CLUB SAUSSETOIS"]
["CL","GATTO ANTOINE","022097 X","R2","0,202","19050 – BILLARD CLUB SAUSSETOIS"]
["CL","GELAS BERNARD","163279 C","R2","0,225","19098 – BILLARD CLUB LA FARE"]
["CL","GIBARROUX CHRISTOPHE","118661 X","R1","0,338","19001 – S. S. A. B. D AIX EN PROVENCE"]
["NC","GOAILLARD JEAN-MARC","181920 P","R1","0,384","19017 – BILLARD CLUB PHOCEEN"]
["CL","GOUIRAN GEORGES","022129 D","R2","0,193","19050 – BILLARD CLUB SAUSSETOIS"]
["CL","HAHN DANIEL","011966 G","R1","0,302","19017 – BILLARD CLUB PHOCEEN"]
["NC","IDJERI GILBERT","172214 P","R1","0,376","19050 – BILLARD CLUB SAUSSETOIS"]
["CL","LANDERECTHE PASCAL","181199 F","R2","0,327","19007 – BILLARD CLUB BERROIS"]
["CL","LEMESLE FABRICE","022205 B","R1","0,31","19017 – BILLARD CLUB PHOCEEN"]
["NC","LETELLIER ALAIN","176350 K","R2","0,183","19090 – BILLARD AMATEUR ROGNAC"]
["CL","LISI ROGER","146375 V","R2","0,180","19007 – BILLARD CLUB BERROIS"]
["NC","LISSAJOUX JEAN CLAUDE","168722 T","R2","0,220","19009 – CLUB BILLARD ISTREEN"]
["CL","LUCENET PAUL","162076 V","R1","0,208","19009 – CLUB BILLARD ISTREEN"]
["CL","LUVISON JEAN","022221 R","R2","0,119","19012 – SALON BILLARD CLUB"]
["NC","MASSIAS GUY","172680 W","R1","0,216","19001 – S. S. A. B. D AIX EN PROVENCE"]
["CL","MATHIEU CLAUDE","129498 S","R1","0,272","19098 – BILLARD CLUB LA FARE"]
["CL","MAUDUIT DIDIER","017615 N","R1","0,29","19009 – CLUB BILLARD ISTREEN"]
["CL","MILLOT ROBERT","172218 T","R2","0,278","19025 – BILLARD CLUB SISTERONNAIS"]
["CL","N GUYEN VAN DUC MAX","141788 K","R1","0,290","19007 – BILLARD CLUB BERROIS"]
["CL","OLLIVIER DANIEL","020258 E","R1","0,281","19009 – CLUB BILLARD ISTREEN"]
["CL","PACZESNY FABRICE","150400 D","R1","0,306","19098 – BILLARD CLUB LA FARE"]
["CL","PELLAT FRANCIS","141673 Z","R1","0,318","19025 – BILLARD CLUB SISTERONNAIS"]
["CL","PEREZ CHRISTIAN","130773 T","R2","0,246","19009 – CLUB BILLARD ISTREEN"]
["CL","PILAVDJIAN JACQUES","165118 B","R1","0,287","19017 – BILLARD CLUB PHOCEEN"]
["CL","PINNA VINCENT","148229 T","R1","0,356","19017 – BILLARD CLUB PHOCEEN"]
["CL","PORA JEAN PAUL","170697 Q","R1","0,272","19009 – CLUB BILLARD ISTREEN"]
["CL","REVALOR MICHEL","119696 S","R1","0,244","19050 – BILLARD CLUB SAUSSETOIS"]
["CL","RONSAIN JEAN JACQUES","166175 A","R1","0,343","19012 – SALON BILLARD CLUB"]
["NC","SAVI OLIVIER","186195 L","R2","0,252","19050 – BILLARD CLUB SAUSSETOIS"]
["CL","SICARD GEORGES","163238 H","R2","0,2","19025 – BILLARD CLUB SISTERONNAIS"]
["CL","STEPHAN OLIVIER","125931 N","R1","0,356","19025 – BILLARD CLUB SISTERONNAIS"]
["CL","TARDIEUX LUC","022429 R","R1","0,237","19098 – BILLARD CLUB LA FARE"]
["NC","TEYSSIER SERGE","132938 A","R2","0,208","19007 – BILLARD CLUB BERROIS"]
["NC","TORES JEAN LUC","135554 Q","R1","0,297","19009 – CLUB BILLARD ISTREEN"]
["NC","WILLAME PHILIPPE","152534 Y","R2","0,218","19001 – S. S. A. B. D AIX EN PROVENCE"]

{"sheet":"BANDE","index":4,"n_rows":81,"n_cols":6,"rows_kept":81,"cut":false,"hidden":true,"merged":[[0,0,1,5]]}
["BANDE"]
[]
["NC-CL","NOM","N° LICENCE","CAT","MG","CLUB"]
["CL","ABAD YANNICK","106287 Z","R1","1,55","19002 – SPORT AMAT.DE BILLARD MARSEILLAIS"]
["CL","ALVISET GUY","152035 F","R2","0,68","19050 – BILLARD CLUB SAUSSETOIS"]
["CL","ANDRY JEAN FRANCOIS","021818 E","R1","1,05","19090 – BILLARD AMATEUR ROGNAC"]
["CL","ANNESTAY JACQUES","021820 G","R1","1,24","19025 – BILLARD CLUB SISTERONNAIS"]
["CL","AUDIBERT JEAN PIERRE","106513 R","R1","0,91","19012 – SALON BILLARD CLUB"]
["CL","AZOULAY ALAIN","021839 Z","R1","1,73","19017 – BILLARD CLUB PHOCEEN"]
["CL","BANO SERGE","149693 K","R2","0,82","19001 – S. S. A. B. D AIX EN PROVENCE"]
["CL","BEDOC JACQUES","021863 X","R1","0,86","19007 – BILLARD CLUB BERROIS"]
["CL","BIARD ANDRE","159202 W","R2","0,47","19009 – CLUB BILLARD ISTREEN"]
["CL","BONELLO LUCIEN","021894 C","R2","0,56","19090 – BILLARD AMATEUR ROGNAC"]
["CL","BONNEMAISON DENIS","150422 C","R2","0,62","19009 – CLUB BILLARD ISTREEN"]
["CL","BREDAT RENE","021918 A","R1","1,3","19025 – BILLARD CLUB SISTERONNAIS"]
["CL","BRIAND ALAIN","113104 E","R1","0,83","19002 – SPORT AMAT.DE BILLARD MARSEILLAIS"]
["CL","BRUN ROGER","021929 L","R2","0,84","19017 – BILLARD CLUB PHOCEEN"]
["CL","CACHO DIDIER","112311 R","R1","1,6","19098 – BILLARD CLUB LA FARE"]
["CL","CALDERON LUC","021938 U","R1","1,18","19009 – CLUB BILLARD ISTREEN"]
["CL","CAO HUU TUOI","021944 A","R1","1,32","19098 – BILLARD CLUB LA FARE"]
["CL","CARRILLON MICHEL","141066 Q","R2","0,84","19001 – S. S. A. B. D AIX EN PROVENCE"]
["CL","CESARO JEAN CLAUDE","118684 U","R2","0,88","19007 – BILLARD CLUB BERROIS"]
["NC","CHEURF SELIMANE","187031 V","R2","0,7","19090 – BILLARD AMATEUR ROGNAC"]
["CL","CHUZEVILLE GILLES","108854 S","R1","1,62","19025 – BILLARD CLUB SISTERONNAIS"]
["CL","CLEMENT GERARD","129497 R","R1","0,85","19050 – BILLARD CLUB SAUSSETOIS"]
["CL","CONTRAIN JEROME","166177 C","R2","0,74","19012 – SALON BILLARD CLUB"]
["NC","CORTES JEAN LOUIS","187055 W","R1","1,16","19009 – CLUB BILLARD ISTREEN"]
["CL","DAVID THIERRY","155526 A","R2","0,82","19025 – BILLARD CLUB SISTERONNAIS"]
["CL","DEDON RICHARD","177233 V","R2","0,83","19007 – BILLARD CLUB BERROIS"]
["CL","DEMERLIAC BRUNO","159076 J","R2","0,57","19007 – BILLARD CLUB BERROIS"]
["CL","DESMERO RAYMOND","142358 I","R2","0,6","19007 – BILLARD CLUB BERROIS"]
["CL","FERRO PHILIPPE","122658 Q","R1","1,19","19009 – CLUB BILLARD ISTREEN"]
["CL","GALARDINI RICHARD","142316 S","R2","0,89","19050 – BILLARD CLUB SAUSSETOIS"]
["CL","GATTO ANTOINE","022097 X","R2","0,68","19050 – BILLARD CLUB SAUSSETOIS"]
["CL","GELAS BERNARD","163279 C","R2","0,61","19098 – BILLARD CLUB LA FARE"]
["CL","GIANNATTASIO LUCIEN","022108 I","R1","1,2","19009 – CLUB BILLARD ISTREEN"]
["CL","GOUIRAN GEORGES","022129 D","R1","0,82","19050 – BILLARD CLUB SAUSSETOIS"]
["CL","HAHN DANIEL","011966 G","R2","1,1","19017 – BILLARD CLUB PHOCEEN"]
["CL","HEURTAULT JACKY","137004 K","R1","0,78","19012 – SALON BILLARD CLUB"]
["CL","IDJERI GILBERT","172214 P","R2","0,97","19050 – BILLARD CLUB SAUSSETOIS"]
["CL","LANDERECTHE PASCAL","181199 F","R2","0,85","19007 – BILLARD CLUB BERROIS"]
["CL","LE FAUCHEUR LAURENT","163278 B","R2","0,7","19098 – BILLARD CLUB LA FARE"]
["CL","LECOQ ARNAUD","141504 M","R1","1,3","19012 – SALON BILLARD CLUB"]
["CL","LEMESLE FABRICE","022205 B","R2","0,71","19017 – BILLARD CLUB PHOCEEN"]
["CL","LETELLIER ALAIN","176350 K","R2","0,79","19090 – BILLARD AMATEUR ROGNAC"]
["CL","LISI ROGER","146375 V","R2","0,68","19007 – BILLARD CLUB BERROIS"]
["CL","LUCENET PAUL","162076 V","R1","1,25","19009 – CLUB BILLARD ISTREEN"]
["CL","LUVISON JEAN","022221 R","R2","0,47","19012 – SALON BILLARD CLUB"]
["NC","MARCHAND PHILIPPE","164047 M","R2","0,66","19001 – S. S. A. B. D AIX EN PROVENCE"]
["NC","MASSIAS GUY","172680 W","R2","0,6","19001 – S. S. A. B. D AIX EN PROVENCE"]
["CL","MASSOT SEBASTIEN","159674 J","R1","1,3","19025 – BILLARD CLUB SISTERONNAIS"]
["CL","MAUDUIT DIDIER","017615 N","R2","0,7","19009 – CLUB BILLARD ISTREEN"]
["CL","MONTESINOS GILLES","136279 N","R2","0,59","19012 – SALON BILLARD CLUB"]
["CL","N GUYEN VAN DUC MAX","141788 K","R2","0,71","19007 – BILLARD CLUB BERROIS"]
["CL","OLLIVIER DANIEL","020258 E","R1","1,24","19009 – CLUB BILLARD ISTREEN"]
["CL","PACZESNY FABRICE","150400 D","R1","1,08","19098 – BILLARD CLUB LA FARE"]
["CL","PELLAT FRANCIS","141673 Z","R1","1,13","19025 – BILLARD CLUB SISTERONNAIS"]
["CL","PEREZ CHRISTIAN","130773 T","R2","0,82","19009 – CLUB BILLARD ISTREEN"]
["CL","PINNA VINCENT","148229 T","R2","0,47","19017 – BILLARD CLUB PHOCEEN"]
["CL","PORA JEAN PAUL","170697 Q","R2","0,68","19009 – CLUB BILLARD ISTREEN"]
["CL","POZNANSKI JEAN MICHEL","022349 P","R1","1,57","19012 – SALON BILLARD CLUB"]
["CL","PUICHAULT REMY","172219 V","R1","1,02","19025 – BILLARD CLUB SISTERONNAIS"]
["CL","RAUD DANIEL","161645 B","R1","1,06","19098 – BILLARD CLUB LA FARE"]
["CL","REVALOR MICHEL","119696 S","R1","1,11","19050 – BILLARD CLUB SAUSSETOIS"]
["CL","ROBBE RAYMOND","134183 X","R1","1,06","19098 – BILLARD CLUB LA FARE"]
["CL","RODRIGUES STEVE","171160 T","R2","0,53","19090 – BILLARD AMATEUR ROGNAC"]
["CL","RONSAIN JEAN JACQUES","166175 A","R2","0,81","19012 – SALON BILLARD CLUB"]
["CL","ROUANET CLAUDE","163166 E","R1","1,3","19025 – BILLARD CLUB SISTERONNAIS"]
["CL","ROUGON ROBERT","101518 O","R1","1,68","19007 – BILLARD CLUB BERROIS"]
["CL","SAVOIA PATRICK","113222 S","R1","1,03","19050 – BILLARD CLUB SAUSSETOIS"]
["CL","SICARD GEORGES","163238 H","R2","0,84","19025 – BILLARD CLUB SISTERONNAIS"]
["CL","SINANIAN JEAN PAUL","022412 A","R1","1,6","19017 – BILLARD CLUB PHOCEEN"]
["CL","TARDIEUX LUC","022429 R","R1","1,48","19098 – BILLARD CLUB LA FARE"]
["CL","TEYSSIER SERGE","132938 A","R1","1,2","19007 – BILLARD CLUB BERROIS"]
["NC","TORCHIO GILBERT","184495 N","R2","0,54","19017 – BILLARD CLUB PHOCEEN"]
["CL","TORES JEAN LUC","135554 Q","R2","1,16","19090 – BILLARD AMATEUR ROGNAC"]
["CL","TURPIN JEAN","172679 V","R2","0,73","19001 – S. S. A. B. D AIX EN PROVENCE"]
["CL","VIOU GERARD","147607 S","R1","1,37","19098 – BILLARD CLUB LA FARE"]
["CL","VISCONTI JEAN","138731 V","R2","0,83","19090 – BILLARD AMATEUR ROGNAC"]
["NC","WILLAME PHILIPPE","152534 Y","R2","0,60","19001 – S. S. A. B. D AIX EN PROVENCE"]
["CL","ZANDRINO ALAIN","134311 V","R1","1,27","19007 – BILLARD CLUB BERROIS"]

{"sheet":"CADRE","index":5,"n_rows":45,"n_cols":6,"rows_kept":45,"cut":false,"hidden":true,"merged":[[0,0,1,5]]}
["CADRE"]
[]
["NC-CL","NOM","N° LICENCE","CAT","MG","CLUB"]
["NC","ABAD YANNICK","106287 Z","R1","2,44","19002 – SPORT AMAT.DE BILLARD MARSEILLAIS"]
["CL","ANDRY JEAN FRANCOIS","021818 E","R1","1,74","19090 – BILLARD AMATEUR ROGNAC"]
["CL","ANNESTAY JACQUES","021820 G","R1","2,10","19025 – BILLARD CLUB SISTERONNAIS"]
["CL","BEDOC JACQUES","021863 X","R1","2,90","19007 – BILLARD CLUB BERROIS"]
["CL","BIDDAU FRANCOIS","125917 Z","R1","2,35","19009 – CLUB BILLARD ISTREEN"]
["CL","BONTEMPS PAUL","187537 V","R1","0,93","19001 – S. S. A. B. D AIX EN PROVENCE"]
["CL","BRIAND ALAIN","113104 E","R1","2,50","19002 – SPORT AMAT.DE BILLARD MARSEILLAIS"]
["CL","CALDERON LUC","021938 U","R1","3,55","19009 – CLUB BILLARD ISTREEN"]
["CL","CESARO JEAN CLAUDE","118684 U","R1","1,49","19007 – BILLARD CLUB BERROIS"]
["CL","CHUZEVILLE GILLES","108854 S","R1","3,05","19025 – BILLARD CLUB SISTERONNAIS"]
["NC","CORTES JEAN LOUIS","187055 W","R1","2,00","19009 – CLUB BILLARD ISTREEN"]
["CL","DAVID THIERRY","155526 A","R1","2,40","19025 – BILLARD CLUB SISTERONNAIS"]
["CL","FERRO PHILIPPE","122658 Q","R1","1,78","19009 – CLUB BILLARD ISTREEN"]
["CL","GATTO ANTOINE","022097 X","R1","1,86","19050 – BILLARD CLUB SAUSSETOIS"]
["CL","GELAS BERNARD","163279 C","R1","1,24","19098 – BILLARD CLUB LA FARE"]
["CL","GIANNATTASIO LUCIEN","022108 I","R1","1,97","19009 – CLUB BILLARD ISTREEN"]
["CL","HAHN DANIEL","011966 G","R1","2,00","19017 – BILLARD CLUB PHOCEEN"]
["CL","LANDERECTHE PASCAL","181199 F","R1","1,53","19007 – BILLARD CLUB BERROIS"]
["NC","LE FAUCHEUR LAURENT","163278 B","R1","1,46","19098 – BILLARD CLUB LA FARE"]
["CL","LETELLIER ALAIN","176350 K","R1","1,23","19090 – BILLARD AMATEUR ROGNAC"]
["CL","LISI ROGER","146375 V","R1","1,19","19007 – BILLARD CLUB BERROIS"]
["CL","LUCENET PAUL","162076 V","R1","2,53","19009 – CLUB BILLARD ISTREEN"]
["CL","MATHIEU CLAUDE","129498 S","R1","1,48","19098 – BILLARD CLUB LA FARE"]
["CL","MAUDUIT DIDIER","017615 N","R1","1,14","19009 – CLUB BILLARD ISTREEN"]
["CL","MILLOT ROBERT","172218 T","R1","1,27","19025 – BILLARD CLUB SISTERONNAIS"]
["NC","N GUYEN VAN DUC MAX","141788 K","R1","1,08","19007 – BILLARD CLUB BERROIS"]
["CL","OLLIVIER DANIEL","020258 E","R1","1,81","19009 – CLUB BILLARD ISTREEN"]
["CL","PACZESNY FABRICE","150400 D","R1","1,78","19098 – BILLARD CLUB LA FARE"]
["CL","PELLAT FRANCIS","141673 Z","R1","2,50","19025 – BILLARD CLUB SISTERONNAIS"]
["CL","PEREZ CHRISTIAN","130773 T","R1","1,48","19009 – CLUB BILLARD ISTREEN"]
["CL","ROBBE RAYMOND","134183 X","R1","1,65","19098 – BILLARD CLUB LA FARE"]
["CL","ROUANET CLAUDE","163166 E","R1","2,10","19025 – BILLARD CLUB SISTERONNAIS"]
["CL","SINANIAN JEAN PAUL","022412 A","R1","3,36","19017 – BILLARD CLUB PHOCEEN"]
["CL","STEPHAN OLIVIER","125931 N","R1","3,41","19025 – BILLARD CLUB SISTERONNAIS"]
["CL","TARDIEUX LUC","022429 R","R1","3,05","19098 – BILLARD CLUB LA FARE"]
["NC","TEYSSIER SERGE","132938 A","R1","2,28","19007 – BILLARD CLUB BERROIS"]
["CL","TORES JEAN LUC","135554 Q","R1","2,40","19009 – CLUB BILLARD ISTREEN"]
["CL","VILLASEVIL ANTONIO","101485 H","R1","2,23","19090 – BILLARD AMATEUR ROGNAC"]
["CL","VIOU GERARD","147607 S","R1","3,04","19098 – BILLARD CLUB LA FARE"]
["NC","VISCONTI JEAN","138731 V","R1","1,23","19090 – BILLARD AMATEUR ROGNAC"]
["NC","WILLAME PHILIPPE","152534 Y","R1","0,88","19001 – S. S. A. B. D AIX EN PROVENCE"]
["CL","ZANDRINO ALAIN","134311 V","R1","2,31","19007 – BILLARD CLUB BERROIS"]

{"sheet":"LIBRE","index":6,"n_rows":111,"n_cols":6,"rows_kept":111,"cut":false,"hidden":true,"merged":[[0,0,1,5]]}
["LIBRE"]
[]
["NC-CL","NOM","N° LICENCE","CAT","MG","CLUB"]
["CL","ALVISET GUY","152035 F","R3","1,70","19050 – BILLARD CLUB SAUSSETOIS"]
["CL","ANDRY JEAN FRANCOIS","021818 E","R2","2,42","19090 – BILLARD AMATEUR ROGNAC"]
["CL","ANNESTAY JACQUES","021820 G","R2","2,08","19025 – BILLARD CLUB SISTERONNAIS"]
["CL","AUDIBERT JEAN PIERRE","106513 R","R2",3,"19012 – SALON BILLARD CLUB"]
["CL","BANO SERGE","149693 K","R3","1,36","19001 – S. S. A. B. D AIX EN PROVENCE"]
["CL","BEDOC JACQUES","021863 X","R2","2,77","19007 – BILLARD CLUB BERROIS"]
["CL","BENAVIDES CLAUDE","021872 G","R2","3,83","19012 – SALON BILLARD CLUB"]
["CL","BIARD ANDRE","159202 W","R4","0,93","19009 – CLUB BILLARD ISTREEN"]
["CL","BIDDAU FRANCOIS","125917 Z","R2","3,26","19009 – CLUB BILLARD ISTREEN"]
["CL","BLANC SANTELLI ERIC","179744 Z","R4","0,60","19009 – CLUB BILLARD ISTREEN"]
["CL","BONELLO LUCIEN","021894 C","R3","1,22","19090 – BILLARD AMATEUR ROGNAC"]
["CL","BONNEMAISON DENIS","150422 C","R4","1,12","19009 – CLUB BILLARD ISTREEN"]
["NC","BONTEMPS PAUL","187537 V","R4","0,98","19001 – S. S. A. B. D AIX EN PROVENCE"]
["CL","BONTOUX MAX","021900 I","R1","4,01","19090 – BILLARD AMATEUR ROGNAC"]
["CL","BREDAT RENE","021918 A","R1","3,28","19025 – BILLARD CLUB SISTERONNAIS"]
["CL","BRIAND ALAIN","113104 E","R2","3,12","19002 – SPORT AMAT.DE BILLARD MARSEILLAIS"]
["CL","BRIOSNE PASCAL","021922 E","R1","4,04","19001 – S. S. A. B. D AIX EN PROVENCE"]
["NC","BRUN ROGER","021929 L","R4","1,84","19017 – BILLARD CLUB PHOCEEN"]
["CL","CACHO DIDIER","112311 R","R1","4,5","19098 – BILLARD CLUB LA FARE"]
["CL","CALDERON LUC","021938 U","R2","3,45","19009 – CLUB BILLARD ISTREEN"]
["CL","CAO HUU TUOI","021944 A","R1","4,96","19098 – BILLARD CLUB LA FARE"]
["CL","CESARO JEAN CLAUDE","118684 U","R2","2,53","19007 – BILLARD CLUB BERROIS"]
["NC","CHEURF SELIMANE","187031 V","R4","0,60","19090 – BILLARD AMATEUR ROGNAC"]
["CL","CHUZEVILLE GILLES","108854 S","R2","2,96","19025 – BILLARD CLUB SISTERONNAIS"]
["CL","CLEMENT GERARD","129497 R","R4","1,05","19050 – BILLARD CLUB SAUSSETOIS"]
["CL","COLIN PHILIPPE","177991 T","R4","0,73","19017 – BILLARD CLUB PHOCEEN"]
["NC","CORTES JEAN LOUIS","187055 W","R3","2,07","19009 – CLUB BILLARD ISTREEN"]
["NC","DALMASSO EMMANUELLE","177204 N","R4","0,60","19025 – BILLARD CLUB SISTERONNAIS"]
["CL","DAVID THIERRY","155526 A","R2","2,78","19025 – BILLARD CLUB SISTERONNAIS"]
["CL","DELBEY JULIEN","112719 J","R1","4,9","19012 – SALON BILLARD CLUB"]
["CL","DEMARCQ JEAN FRANCOIS","168662 D","R3","1,57","19025 – BILLARD CLUB SISTERONNAIS"]
["CL","DEMERLIAC BRUNO","159076 J","R4","0,96","19007 – BILLARD CLUB BERROIS"]
["CL","DESMERO RAYMOND","142358 I","R3","1,04","19007 – BILLARD CLUB BERROIS"]
["CL","DOS SANTOS FRANCIS","022039 R","R1","3,8","19050 – BILLARD CLUB SAUSSETOIS"]
["NC","FERAUD LOUIS","182675 K","R4","1,26","19025 – BILLARD CLUB SISTERONNAIS"]
["CL","FERRO PHILIPPE","122658 Q","R3","1,81","19009 – CLUB BILLARD ISTREEN"]
["CL","GALARDINI RICHARD","142316 S","R3","1,38","19050 – BILLARD CLUB SAUSSETOIS"]
["CL","GATTO ANTOINE","022097 X","R3","1,4","19050 – BILLARD CLUB SAUSSETOIS"]
["CL","GELAS BERNARD","163279 C","R3","1,16","19098 – BILLARD CLUB LA FARE"]
["CL","GIANNATTASIO LUCIEN","022108 I","R2","2,55","19009 – CLUB BILLARD ISTREEN"]
["CL","GOMES VITOR","120100 G","R2","3,27","19001 – S. S. A. B. D AIX EN PROVENCE"]
["CL","GOUIRAN GEORGES","022129 D","R3","1,59","19050 – BILLARD CLUB SAUSSETOIS"]
["CL","HAHN DANIEL","011966 G","R3","1,64","19017 – BILLARD CLUB PHOCEEN"]
["CL","IDJERI GILBERT","172214 P","R3","2,74","19050 – BILLARD CLUB SAUSSETOIS"]
["NC","ISRAEL ELIE","184059 P","R4","0,92","19017 – BILLARD CLUB PHOCEEN"]
["CL","LANDERECTHE PASCAL","181199 F","R3","1,83","19007 – BILLARD CLUB BERROIS"]
["CL","LE FAUCHEUR LAURENT","163278 B","R3","1,42","19098 – BILLARD CLUB LA FARE"]
["CL","LECOQ ARNAUD","141504 M","R3","2,29","19012 – SALON BILLARD CLUB"]
["CL","LEMESLE FABRICE","022205 B","R4","1,02","19017 – BILLARD CLUB PHOCEEN"]
["CL","LETELLIER ALAIN","176350 K","R3","1,40","19090 – BILLARD AMATEUR ROGNAC"]
["CL","LISI ROGER","146375 V","R4","1,10","19007 – BILLARD CLUB BERROIS"]
["CL","LISSAJOUX JEAN CLAUDE","168722 T","R4","1,1","19009 – CLUB BILLARD ISTREEN"]
["CL","LUCENET PAUL","162076 V","R2","2,65","19009 – CLUB BILLARD ISTREEN"]
["CL","LUVISON JEAN","022221 R","R4","1,08","19012 – SALON BILLARD CLUB"]
["NC","MARCHAND PHILIPPE","164047 M","R4","1,18","19001 – S. S. A. B. D AIX EN PROVENCE"]
["CL","MARCHANDISE MORAND JACQUELINE","177467 Z","R4","0,2","19025 – BILLARD CLUB SISTERONNAIS"]
["NC","MASSIAS GUY","172680 W","R4","1,1","19001 – S. S. A. B. D AIX EN PROVENCE"]
["CL","MATHIEU CLAUDE","129498 S","R3","1,02","19098 – BILLARD CLUB LA FARE"]
["CL","MAUDUIT DIDIER","017615 N","R3","1,35","19009 – CLUB BILLARD ISTREEN"]
["CL","MILLOT ROBERT","172218 T","R3","1,39","19025 – BILLARD CLUB SISTERONNAIS"]
["CL","MONTESINOS GILLES","136279 N","R4","1,03","19012 – SALON BILLARD CLUB"]
["CL","MUNOS JEAN","109063 T","R1","4,39","19050 – BILLARD CLUB SAUSSETOIS"]
["CL","MUNOS VINCENT","109708 O","R2","3,24","19007 – BILLARD CLUB BERROIS"]
["CL","N GUYEN VAN DUC MAX","141788 K","R3","1,27","19007 – BILLARD CLUB BERROIS"]
["CL","OLLIVIER DANIEL","020258 E","R2","2,26","19009 – CLUB BILLARD ISTREEN"]
["CL","PACZESNY FABRICE","150400 D","R3","2,48","19098 – BILLARD CLUB LA FARE"]
["CL","PAU CHRISTINE","177193 B","R4","0,36","19025 – BILLARD CLUB SISTERONNAIS"]
["CL","PELLAT FRANCIS","141673 Z","R2","2,76","19025 – BILLARD CLUB SISTERONNAIS"]
["CL","PEREZ CHRISTIAN","130773 T","R3","1,66","19009 – CLUB BILLARD ISTREEN"]
["CL","PERTUZON NOLAN","179786 V","R4","0,36","19009 – CLUB BILLARD ISTREEN"]
["NC","PIALLA VALERIE","182685 W","R4","0,75","19009 – CLUB BILLARD ISTREEN"]
["CL","PILAVDJIAN JACQUES","165118 B","R4","0,72","19017 – BILLARD CLUB PHOCEEN"]
["CL","PINARD PATRICE","105404 A","R1","4,6","19012 – SALON BILLARD CLUB"]
["CL","PINNA VINCENT","148229 T","R4","0,59","19017 – BILLARD CLUB PHOCEEN"]
["NC","PIRO COUDERC MARIE LAURE","177205 P","R4","0,48","19025 – BILLARD CLUB SISTERONNAIS"]
["CL","PORA JEAN PAUL","170697 Q","R4","1,11","19009 – CLUB BILLARD ISTREEN"]
["CL","POZNANSKI JEAN MICHEL","022349 P","R2","3,74","19012 – SALON BILLARD CLUB"]
["CL","PUICHAULT REMY","172219 V","R3","2,13","19025 – BILLARD CLUB SISTERONNAIS"]
["CL","RAUD DANIEL","161645 B","R3","1,82","19098 – BILLARD CLUB LA FARE"]
["CL","REVALOR MICHEL","119696 S","R2","2,50","19050 – BILLARD CLUB SAUSSETOIS"]
["CL","ROBBE RAYMOND","134183 X","R3","1,74","19098 – BILLARD CLUB LA FARE"]
["CL","RODRIGUES STEVE","171160 T","R4","1,09","19090 – BILLARD AMATEUR ROGNAC"]
["CL","RONSAIN JEAN JACQUES","166175 A","R3","1,25","19012 – SALON BILLARD CLUB"]
["CL","ROUANET CLAUDE","163166 E","R2","2,33","19025 – BILLARD CLUB SISTERONNAIS"]
["CL","ROUGON ROBERT","101518 O","R1","3,88","19007 – BILLARD CLUB BERROIS"]
["NC","SAUNIER DANIEL","187864 A","R4","1,00","19090 – BILLARD AMATEUR ROGNAC"]
["NC","SAVI OLIVIER","186195 L","R4","1,34","19050 – BILLARD CLUB SAUSSETOIS"]
["CL","SAVOIA PATRICK","113222 S","R3","1,63","19050 – BILLARD CLUB SAUSSETOIS"]
["NC","SCHEMBRI BERNARD","187494 Y","R4","0,68","19017 – BILLARD CLUB PHOCEEN"]
["NC","SEEMANN MICHAEL","182883 L","R4","0,97","19025 – BILLARD CLUB SISTERONNAIS"]
["CL","SICARD GEORGES","163238 H","R3","1,65","19025 – BILLARD CLUB SISTERONNAIS"]
["CL","SINANIAN JEAN PAUL","022412 A","R1","3,47","19017 – BILLARD CLUB PHOCEEN"]
["CL","STEPHAN OLIVIER","125931 N","R1","3,11","19025 – BILLARD CLUB SISTERONNAIS"]
["CL","TARDIEUX LUC","022429 R","R2","3,07","19098 – BILLARD CLUB LA FARE"]
["NC","TAURINES TOM","183512 V","R4","1,33","19090 – BILLARD AMATEUR ROGNAC"]
["CL","TEYSSIER SERGE","132938 A","R2","2,80","19007 – BILLARD CLUB BERROIS"]
["CL","THEVENET JEAN CLAUDE","014232 K","R3","1,38","19025 – BILLARD CLUB SISTERONNAIS"]
["NC","THIBAULT LUCETTE","184678 M","R4","0,76","19106 – BILLARD CLUB VINONNAIS"]
["NC","THIBOUT HERVE","186654 K","R4","0,72","19017 – BILLARD CLUB PHOCEEN"]
["CL","TORCHIO GILBERT","184495 N","R4","1,17","19017 – BILLARD CLUB PHOCEEN"]
["CL","TORES JEAN LUC","135554 Q","R2","4,8","19009 – CLUB BILLARD ISTREEN"]
["CL","TOUREILLE ALAIN","139062 O","R4","1,12","19025 – BILLARD CLUB SISTERONNAIS"]
["NC","TURPIN JEAN","172679 V","R3","1,35","19001 – S. S. A. B. D AIX EN PROVENCE"]
["CL","VILLASEVIL ANTONIO","101485 H","R2","3,60","19007 – BILLARD CLUB BERROIS"]
["CL","VIOU GERARD","147607 S","R2","3,06","19098 – BILLARD CLUB LA FARE"]
["CL","VISCONTI JEAN","138731 V","R3","1,31","19090 – BILLARD AMATEUR ROGNAC"]
["NC","WILLAME PHILIPPE","152534 Y","R4","0,92","19001 – S. S. A. B. D AIX EN PROVENCE"]
["CL","ZANDRINO ALAIN","134311 V","R3","2,23","19007 – BILLARD CLUB BERROIS"]

{"sheet":"MACRO","index":7,"n_rows":28,"n_cols":2,"rows_kept":28,"cut":false,"hidden":false,"merged":[[32,2,32,4],[27,1,27,3]]}
[]
[]
[]
[]
[]
[]
[]
[]
[]
[]
[]
[]
[]
[]
[]
[]
[]
[]
[]
[]
[]
[]
[]
[]
[]
[]
[]
[null,"copyright - Ferhat-Letellier-Perez"]

{"sheet":"BOISSON_F","index":8,"n_rows":28,"n_cols":6,"rows_kept":28,"cut":false,"hidden":true,"merged":[[0,0,0,4]]}
["BOISSONS DU",null,null,null,null,{"$f":"'SaisieJoueurs Finale'!D5","v":"00:00:00"}]
["Nom - Prénom","EAU","BOISSONS","REPAS","TOTAL","CLUB"]
[{"$f":"'SaisieJoueurs Finale'!D18","v":0}]
[{"$f":"'SaisieJoueurs Finale'!D19","v":0}]
[{"$f":"'SaisieJoueurs Finale'!D20","v":0}]
[{"$f":"'SaisieJoueurs Finale'!D21","v":0}]
[{"$f":"'SaisieJoueurs Finale'!D22","v":0}]
[{"$f":"'SaisieJoueurs Finale'!D23","v":0}]
[{"$f":"'SaisieJoueurs Finale'!D24","v":0}]
[{"$f":"'SaisieJoueurs Finale'!D25","v":0}]
[{"$f":"'SaisieJoueurs Finale'!D26","v":0}]
[{"$f":"'SaisieJoueurs Finale'!D27","v":0}]
[{"$f":"'SaisieJoueurs Finale'!D28","v":0}]
[{"$f":"'SaisieJoueurs Finale'!D29","v":0}]
[{"$f":"'SaisieJoueurs Finale'!D30","v":0}]
[{"$f":"'SaisieJoueurs Finale'!D31","v":0}]
[{"$f":"'SaisieJoueurs Finale'!D32","v":0}]
[{"$f":"'SaisieJoueurs Finale'!D33","v":0}]
[{"$f":"'SaisieJoueurs Finale'!D34","v":0}]
[{"$f":"'SaisieJoueurs Finale'!D35","v":0}]
[{"$f":"'SaisieJoueurs Finale'!D36","v":0}]
[{"$f":"'SaisieJoueurs Finale'!D37","v":0}]
[{"$f":"'SaisieJoueurs Finale'!D38","v":0}]
[{"$f":"'SaisieJoueurs Finale'!D39","v":0}]
[{"$f":"'SaisieJoueurs Finale'!D40","v":0}]
[{"$f":"'SaisieJoueurs Finale'!D41","v":0}]
[{"$f":"'SaisieJoueurs Finale'!D42","v":0}]
[{"$f":"'SaisieJoueurs Finale'!D43","v":0}]

{"sheet":"DistNat","index":9,"n_rows":22,"n_cols":16,"rows_kept":22,"cut":false,"hidden":true,"merged":[[13,0,14,15],[15,0,15,2],[15,4,15,6],[15,8,15,10],[15,12,15,14],[0,0,1,15],[2,0,2,2],[2,4,2,6],[2,8,2,10],[2,12,2,14],[7,15,8,15],[3,2,5,2],[3,6,6,6],[3,10,5,10],[3,14,6,14],[7,3,8,3],[7,7,8,7],[7,11,8,11]]}
["DISTANCE REDUITE NATIONAL SUR LES TOURNOIS PAR POULE & DOUBLE KO LMB"]
[]
["LIBRE",null,null,null,"CADRE",null,null,null,"BANDE",null,null,null,"3BANDES"]
[null,"3.10M","25 REPRISES",null,null,"3.10M","25 REPRISES",null,null,"3.10M","30 REPRISES",null,null,"3.10M","50 REPRISES"]
["M",250,null,null,"M",200,null,null,"M",100,null,null,"M-N1",30]
["N1",250,null,null,"N1",150,null,null,"N1",80,null,null,"N2",25]
[null,null,null,null,"N2",100,null,null,null,null,null,null,"N3",15]
[null,null,"2.80M","25 REPRISES",null,null,"2.80M","25 REPRISES",null,null,"2.80M","30 REPRISES",null,null,"2.80M","50 REPRISES"]
[null,"N3",150,null,null,"N3",100,null,null,"N3",60,null,null,"N3",15]
[]
[]
[]
[]
["DISTANCE FINALE LIGUE JOUEURS NATIONAUX"]
[]
["LIBRE",null,null,null,"CADRE",null,null,null,"BANDE",null,null,null,"3BANDES"]
[null,"3.10M",null,null,null,"3.10M",null,null,null,"3.10M",null,null,null,"3.10M"]
["M",400,null,null,"M",250,null,null,"M",120,null,null,"M",40]
["N1",300,null,null,"N1",200,null,null,"N1",100,null,null,"N1",35]
[null,null,null,null,"N2",120,null,null,null,null,null,null,"N2",30]
[null,null,"2.80M",null,null,null,"2.80M",null,null,null,"2.80M",null,null,null,"2.80M"]
[null,"N3",200,null,null,"N3",120,null,null,"N3",80,null,null,"N3",25]

{"sheet":"DistDept","index":10,"n_rows":19,"n_cols":16,"rows_kept":19,"cut":false,"hidden":true,"merged":[[11,0,12,15],[13,0,13,2],[13,4,13,6],[13,8,13,10],[13,12,13,14],[13,15,16,15],[2,0,3,15],[4,0,4,2],[4,3,9,3],[4,4,4,6],[4,7,6,7],[4,8,4,10],[4,11,7,11],[4,12,4,14],[4,15,7,15]]}
[]
[]
["DISTANCE REDUITE 1 - JOUEURS REGIONAUX"]
[]
["LIBRE",null,null,"30 REPRISES","CADRE",null,null,"30 REPRISES","BANDE",null,null,"30 REPRISES","3BANDES",null,null,"50 REPRISES"]
[null,null,"2.80M",null,null,null,"2.80M",null,null,null,"2.80M",null,null,null,"2.80M"]
[null,"R1",120,null,null,"R1",60,null,null,"R1",50,null,null,"R1",15]
[null,"R2",80,null,null,null,null,null,null,"R2",30,null,null,"R2",11]
[null,"R3",60]
[null,"R4",40]
[]
["DISTANCE FINALE LIGUE  JOUEURS REGIONAUX"]
[]
["LIBRE",null,null,null,"CADRE",null,null,null,"BANDE",null,null,null,"3BANDES",null,null,"50 REPRISES"]
[null,null,"2.80M",null,null,null,"2.80M",null,null,null,"2.80M",null,null,null,"2.80M"]
[null,"R1",150,null,null,"R1",80,null,null,"R1",60,null,null,"R1",20]
[null,"R2",100,null,null,null,null,null,null,"R2",40,null,null,"R2",15]
[null,"R3",70]
[null,"R4",50]

{"sheet":"SaisieJoueurs Finale","index":11,"n_rows":43,"n_cols":22,"rows_kept":43,"cut":false,"hidden":true,"merged":[[0,2,1,6],[1,10,12,14],[2,2,2,6],[4,4,8,6],[10,3,10,4],[12,2,12,6],[14,2,14,6],[14,10,14,14],[15,2,15,6],[15,10,15,14],[42,2,42,3]]}
[null,null,"LIGUE MÉDITERRANÉENNE DE BILLARD"]
[]
[]
[]
[null,null,"Date  (jj/mm/aa)",null,"FINALE DE\n LIGUE & DÉPARTEMENTALE"]
[]
[null,null,"Nom de la compétition"]
[null,null,"Catégorie"]
[null,null,"Mode de jeu"]
[]
[null,null,"Club organisateur",null,null,"Directeur de jeu"]
[]
[]
[]
[null,null,"Dans cet onglet \"Saisir dans la liste déroulante les NOMS  des joueurs \",\nDans l'ordre des convocations sur le Site LMB",null,null,null,null,null,null,null,"RESULTAT DU TRI DES POULES"]
[]
["N°","Liste déroulante NOM ","N° Licence","NOM PRENOM","Catégorie","Moyenne  3,10m","Club",null,null,null,"Licences","NOM PRENOM","Catégorie","Moyenne 2,80","Club",null,null,"Licences","NOMS","Catégorie","Moyenne sur 3,10","Club"]
[{"$f":"ROW(A1)","v":1},null,null,null,null,null,null,null,1]
[{"$f":"ROW(A2)","v":2},null,null,null,null,null,null,null,2,""]
[3,null,null,null,null,null,null,null,3]
[4,null,null,null,null,null,null,null,4,""]
[5,null,null,null,null,null,null,null,5]
[6,null,null,null,null,null,null,null,6,""]
[7,null,null,null,null,null,null,null,7]
[8,null,null,null,null,null,null,null,8]
[9,null,null,null,null,null,null,null,9]
[10,null,null,null,null,null,null,null,10,""]
[11,null,null,null,null,null,null,null,11]
[12,null,null,null,null,null,null,null,12]
[13,null,null,null,null,null,null,null,13]
[14,null,null,null,null,null,null,null,14]
[15,null,null,null,null,null,null,null,15]
[16,null,null,null,null,null,null,null,16]
[17,null,null,null,null,null,null,null,17]
[18,null,null,null,null,null,null,null,18]
[19,null,null,null,null,null,null,null,19]
[20,null,null,null,null,null,null,null,20]
[21,null,null,null,null,null,null,null,21]
[22,null,null,null,null,null,null,null,22]
[23,null,null,null,null,null,null,null,23]
[24,null,null,null,null,null,null,null,24]
[]
[null,null,"™A.FERHAT ™ C.PEREZ"]

{"sheet":"Saisie des joueurs","index":12,"n_rows":43,"n_cols":22,"rows_kept":43,"cut":false,"hidden":true,"merged":[[0,2,1,6],[2,2,2,6],[14,10,14,14],[15,10,15,14],[1,10,12,14],[4,4,7,6],[8,4,8,5],[42,2,42,3],[10,3,10,4],[12,2,12,6],[14,2,14,6],[15,2,15,6],[37,8,40,8],[17,8,20,8],[21,8,24,8],[25,8,28,8],[29,8,32,8],[33,8,36,8]]}
[null,null,"LIGUE MÉDITERRANÉENNE DE BILLARD"]
[null,null,null,null,null,null,null,null,null,null,"Après avoir enregistré les participants, \ncliquez sur le bouton de tri, \npuis dirigez-vous vers l'onglet : \n... Finale, DKO ou par Poule de 3 à 16 joueurs... \n"]
[null,null,null,null,null,null,null,null,null,null,null,null,null,null,null,null,null,"Mode de jeu"]
[]
[null,null,"Date  (jj/mm/aa)",null,"TOURNOI  par Poule\n de 3 à 24 JOUEURS ",null,null,null,null,null,null,null,null,null,null,null,null,"Tournoi ou finale"]
[]
[null,null,"N° de la compétition",null,null,null,null,null,null,null,null,null,null,null,null,null,null,"Mode de tri"]
[null,null,null,null,null,null,null,null,null,null,null,null,null,null,null,null,null,"DKO (Oui|Non)"]
[null,null,"Mode de jeu",null,"Tri par ",null,null,null,null,null,null,null,null,null,null,null,null,"Nombre de joueurs"]
[]
[null,null,"Club organisateur",null,null,"Directeur de jeu"]
[]
[]
[]
[null,null,"Dans cet onglet \"Saisir dans la liste déroulante les noms des joueurs de cette colonne\", \nl'ordre à saisir n'est pas important : ensuite cliquer sur le \" BOUTON TRI DES JOUEURS\"",null,null,null,null,null,null,null,"RESULTAT DU TRI DES POULES"]
[]
["N°","Liste déroulante NOM ","N° Licence","NOM PRENOM","Catégorie","Moyenne  3,10m","Club",null,null,null,"Licences","NOM PRENOM","Catégorie","Moyenne 2,80m","Club",null,null,"Licences","NOMS","Catégorie","Moyenne sur 3,10","Club"]
[{"$f":"ROW(A1)","v":1}]
[{"$f":"ROW(A2)","v":2},null,null,null,null,null,null,null,null,""]
[3]
[4,null,null,null,null,null,null,null,null,""]
[5]
[6,null,null,null,null,null,null,null,null,""]
[7]
[8]
[9]
[10,null,null,null,null,null,null,null,null,""]
[11]
[12]
[13]
[14]
[15]
[16]
[17]
[18]
[19]
[20]
[21]
[22]
[23]
[24]
[]
[null,null,"™A.FERHAT ™ C.PEREZ"]

{"sheet":"FINALE A 6 JOUEURS","index":13,"n_rows":53,"n_cols":39,"rows_kept":53,"cut":false,"hidden":true,"merged":[[46,10,46,11],[47,13,48,13],[49,6,50,6],[37,34,39,34],[37,35,39,35],[37,36,39,36],[37,37,39,37],[37,38,39,38],[44,6,45,6],[37,28,39,28],[37,29,39,29],[37,30,39,30],[37,31,39,31],[37,32,39,32],[37,33,39,33],[47,10,47,11],[48,10,48,11],[34,37,36,37],[34,38,36,38],[34,32,36,32],[34,33,36,33],[34,34,36,34],[34,35,36,35],[34,36,36,36],[37,0,39,0],[37,1,38,1],[37,3,38,3],[37,6,38,6],[37,10,39,11],[37,18,39,20],[37,25,39,25],[37,27,39,27],[34,31,36,31],[34,15,36,17],[34,25,36,25],[34,27,36,27],[34,28,36,28],[34,29,36,29],[34,30,36,30],[18,25,20,25],[18,27,20,27],[31,36,33,36],[31,37,33,37],[31,38,33,38],[34,0,36,0],[34,1,35,1],[34,3,35,3],[34,6,35,6],[34,10,36,11],[31,28,33,28],[31,29,33,29],[31,30,33,30],[31,31,33,31],[31,32,33,32],[31,33,33,33],[31,3,32,3],[31,6,32,6],[31,10,33,11],[31,12,33,14],[31,25,33,25],[31,27,33,27],[31,34,33,34],[31,35,33,35],[29,27,29,28],[18,28,20,28],[18,29,20,29],[18,30,20,30],[18,31,20,31],[21,35,23,35],[29,29,29,30],[29,31,29,32],[29,33,29,34],[21,27,23,27],[21,28,23,28],[21,38,23,38],[27,0,28,7],[28,10,30,11],[28,12,30,14],[28,15,30,17],[28,18,30,20],[28,21,39,21],[21,29,23,29],[21,30,23,30],[21,31,23,31],[21,32,23,32],[21,33,23,33],[21,34,23,34],[29,35,29,36],[29,38,30,38],[31,0,33,0],[31,1,32,1],[21,0,23,0],[21,1,22,1],[21,3,22,3],[21,6,22,6],[21,10,23,11],[28,22,30,24],[28,25,30,25],[15,30,17,30],[15,31,17,31],[18,38,20,38],[18,32,20,32],[18,33,20,33],[18,34,20,34],[18,35,20,35],[18,36,20,36],[18,37,20,37],[13,38,14,38],[15,0,17,0],[15,1,16,1],[15,3,16,3],[15,6,16,6],[15,10,17,11],[15,12,17,14],[15,25,17,25],[15,27,17,27],[12,22,14,24],[12,25,14,25],[13,27,13,28],[13,29,13,30],[13,31,13,32],[13,33,13,34],[11,0,12,7],[12,10,14,11],[12,12,14,14],[12,15,14,17],[15,34,17,34],[15,35,17,35],[15,36,17,36],[15,38,17,38],[15,32,17,32],[1,0,3,1],[13,35,13,36],[7,9,7,11],[7,13,7,14],[7,16,7,17],[7,21,7,22],[7,19,7,20],[15,37,17,37],[1,9,4,26],[12,18,14,20],[12,21,23,21],[18,15,20,17],[21,18,23,20],[21,25,23,25],[21,36,23,36],[21,37,23,37],[15,33,17,33],[18,0,20,0],[18,1,19,1],[18,3,19,3],[18,6,19,6],[18,10,20,11],[15,28,17,28],[15,29,17,29],[8,3,9,7],[9,10,10,21],[6,23,6,24],[6,25,6,26],[7,23,7,24],[7,25,7,26],[2,3,3,4],[4,3,4,4],[4,7,6,7],[5,3,6,3],[5,4,6,4],[6,9,6,11],[6,13,6,14],[6,16,6,17],[6,21,6,22],[6,19,6,20]]}
[]
["Liste des joueurs convoqués \npour la finale de la Ligue LMB.",null,null,null,null,null,null,null,null,"LIGUE MÉDITÉRRANÉE DE BILLARD"]
[null,null,null,"CLUB ORGANISATEUR"]
[]
[1,{"$f":"'SaisieJoueurs Finale'!D18","v":0},null,null,null,null,null,null,null,null,null,null,null,null,null,null,null,null,null,null,null,null,null,null,null,null,null,"POULE A",null,"POULE B"]
[2,{"$f":"'SaisieJoueurs Finale'!D19","v":0},null,"DIRECTEUR DE JEU :",null,null,null,null,null,null,null,null,null,null,null,null,null,null,null,null,null,null,null,null,null,null,null,{"$f":"B16","v":0},null,{"$f":"B32","v":0}]
[3,{"$f":"'SaisieJoueurs Finale'!D20","v":0},null,null,null,null,null,null,null,"Compétition",null,null,null,"Mode de jeu",null,null,"Catégorie",null,null,"Distance",null,null,null,"FORFAIT JOUEURS",null,"NOM ",null,{"$f":"B19","v":0},null,{"$f":"B35","v":0}]
[4,{"$f":"'SaisieJoueurs Finale'!D21","v":0},null,null,null,null,null,null,null,{"$f":"'SaisieJoueurs Finale'!D7","v":0},null,null,null,{"$f":"'SaisieJoueurs Finale'!D9","v":0},null,null,{"$f":"'SaisieJoueurs Finale'!D8","v":0},null,null,null,null,null,null,null,null,null,null,{"$f":"B22","v":0},null,{"$f":"B38","v":0}]
[5,{"$f":"'SaisieJoueurs Finale'!D22","v":0},null,"SAISIE DES RESULTATS"]
[6,{"$f":"'SaisieJoueurs Finale'!D23","v":0},null,null,null,null,null,null,null,null,"6 JOUEURS SUR 2 BILLARDS"]
[]
["POULE A"]
[null,null,null,null,null,null,null,null,null,null,null,null,{"$f":"'SaisieJoueurs Finale'!D18","v":0},null,null,{"$f":"'SaisieJoueurs Finale'!D21","v":0},null,null,{"$f":"'SaisieJoueurs Finale'!D22","v":0},null,null,null,"TOTAUX",null,null,"CLASSEMENT"]
[null,null,null,null,null,null,null,null,null,null,null,null,null,null,null,null,null,null,null,null,null,null,null,null,null,null,null,"Classement",null,"Classement",null,"Classement",null,"Classement",null,"Classement",null,"GENERAL","RANG"]
[null,null,null,null,null,"Pts","Rep","Série",null,null,null,null,null,null,null,null,null,null,null,null,null,null,null,null,null,null,null,"Point-Match","CLS-M","Moy-Gen","CLS-G","Moy-Part","CLS-P","M-Series","CLS-S","MGPS","CLS","CLS"]
[1,{"$f":"'SaisieJoueurs Finale'!D18","v":0},null,"Tour 1",{"$f":"B19","v":0},null,null,null,null,null,{"$f":"'SaisieJoueurs Finale'!D18","v":0},null,"L",null,null,{"$f":"F22","v":0},null,{"$f":"G22","v":0},{"$f":"F19","v":0},null,{"$f":"G19","v":0},null,{"$f":"P16+S16","v":0},null,{"$f":"R16+U16","v":0},{"$f":"AM16","v":{"$error":"#DIV/0!"}},null,{"$f":"X17","v":0.02},{"$f":"RANK(AB16,AB$16:AB$24,0)","v":1},{"$f":"Y18","v":{"$error":"#DIV/0!"}},{"$f":"RANK(AD16,AD$16:AD$24,0)","v":{"$error":"#DIV/0!"}},{"$f":"MAX(R18,U18,)","v":{"$error":"#DIV/0!"}},{"$f":"RANK(AF16,AF$16:AF$24)","v":{"$error":"#DIV/0!"}},{"$f":"W18","v":0},{"$f":"RANK(AH16,AH$16:AH$24)","v":1},{"$f":"(AC16*1000)+(AE16*100)+(AG16*10)+(AI16*1)","v":{"$error":"#DIV/0!"}},{"$f":"AJ16","v":{"$error":"#DIV/0!"}},{"$f":"RANK(AK16,AK$16:AK$24,1)","v":{"$error":"#DIV/0!"}},{"$f":"RANK(AL16,AL$16:AL$24,1)","v":{"$error":"#DIV/0!"}}]
[null,null,null,null,{"$f":"B22","v":0},null,null,null,null,null,null,null,null,null,null,null,{"$f":"IF(R16<1,0.01,IF(P16>M19,2,IF(P16=M19,1,0)))","v":0.01},null,null,{"$f":"IF(U16<1,0.01,IF(S16>M22,2,IF(S16=M22,1,0)))","v":0.01},null,null,null,{"$f":"Q17+T17","v":0.02}]
[null,{"$f":"'SaisieJoueurs Finale'!G18","v":0},null,null,null,null,null,null,null,null,null,null,null,null,null,{"$f":"H22","v":0},null,{"$f":"P16/R16","v":{"$error":"#DIV/0!"}},{"$f":"H19","v":0},null,{"$f":"S16/U16","v":{"$error":"#DIV/0!"}},null,{"$f":"MAX(P18,S18,)","v":0},null,{"$f":"W16/Y16","v":{"$error":"#DIV/0!"}}]
[4,{"$f":"'SaisieJoueurs Finale'!D21","v":0},null,"Tour 2",{"$f":"B16","v":0},null,null,null,null,null,{"$f":"'SaisieJoueurs Finale'!D21","v":0},null,{"$f":"F23","v":0},null,{"$f":"G22","v":0},"M",null,null,{"$f":"F16","v":0},null,{"$f":"G16","v":0},null,{"$f":"M19+S19","v":0},null,{"$f":"O19+U19","v":0},{"$f":"AM19","v":{"$error":"#DIV/0!"}},null,{"$f":"X20","v":0.02},{"$f":"RANK(AB19,AB$16:AB$24,0)","v":1},{"$f":"Y21","v":{"$error":"#DIV/0!"}},{"$f":"RANK(AD19,AD$16:AD$24,0)","v":{"$error":"#DIV/0!"}},{"$f":"MAX(R21,U21,)","v":{"$error":"#DIV/0!"}},{"$f":"RANK(AF19,AF$16:AF$24)","v":{"$error":"#DIV/0!"}},{"$f":"W21","v":0},{"$f":"RANK(AH19,AH$16:AH$24)","v":1},{"$f":"(AC19*1000)+(AE19*100)+(AG19*10)+(AI19*1)","v":{"$error":"#DIV/0!"}},{"$f":"AJ19","v":{"$error":"#DIV/0!"}},{"$f":"RANK(AK19,AK$16:AK$24,1)","v":{"$error":"#DIV/0!"}},{"$f":"RANK(AL19,AL$16:AL$24,1)","v":{"$error":"#DIV/0!"}}]
[null,null,null,null,{"$f":"B22","v":0},null,null,null,null,null,null,null,null,{"$f":"IF(R16>0,2-Q17,0.01)","v":0.01},null,null,null,null,null,{"$f":"IF(U19<1,0.01,IF(S19>P22,2,IF(S19=P22,1,0)))","v":0.01},null,null,null,{"$f":"N20+T20","v":0.02}]
[null,{"$f":"'SaisieJoueurs Finale'!G21","v":0},null,null,null,null,null,null,null,null,null,null,{"$f":"H23","v":0},null,{"$f":"M19/O19","v":{"$error":"#DIV/0!"}},null,null,null,{"$f":"H16","v":0},null,{"$f":"S19/U19","v":{"$error":"#DIV/0!"}},null,{"$f":"MAXA(M21,S21,)","v":0},null,{"$f":"W19/Y19","v":{"$error":"#DIV/0!"}}]
[5,{"$f":"'SaisieJoueurs Finale'!D22","v":0},null,"Toue 3",{"$f":"B16","v":0},null,null,null,null,null,{"$f":"'SaisieJoueurs Finale'!D22","v":0},null,{"$f":"F20","v":0},null,{"$f":"G19","v":0},{"$f":"F17","v":0},null,{"$f":"G16","v":0},"B",null,null,null,{"$f":"M22+P22","v":0},null,{"$f":"O22+R22","v":0},{"$f":"AM22","v":{"$error":"#DIV/0!"}},null,{"$f":"X23","v":0.02},{"$f":"RANK(AB22,AB$16:AB$24,0)","v":1},{"$f":"Y24","v":{"$error":"#DIV/0!"}},{"$f":"RANK(AD22,AD$16:AD$24,0)","v":{"$error":"#DIV/0!"}},{"$f":"MAX(R24,U24,)","v":{"$error":"#DIV/0!"}},{"$f":"RANK(AF22,AF$16:AF$24)","v":{"$error":"#DIV/0!"}},{"$f":"W24","v":0},{"$f":"RANK(AH22,AH$16:AH$24)","v":1},{"$f":"(AC22*1000)+(AE22*100)+(AG22*10)+(AI22*1)","v":{"$error":"#DIV/0!"}},{"$f":"AJ22","v":{"$error":"#DIV/0!"}},{"$f":"RANK(AK22,AK$16:AK$24,1)","v":{"$error":"#DIV/0!"}},{"$f":"RANK(AL22,AL$16:AL$24,1)","v":{"$error":"#DIV/0!"}}]
[null,null,null,null,{"$f":"B19","v":0},null,null,null,null,null,null,null,null,{"$f":"IF(U16>0,2-T17,0.01)","v":0.01},null,null,{"$f":"IF(U19>0,2-T20,0.01)","v":0.01},null,null,null,null,null,null,{"$f":"N23+Q23","v":0.02}]
[null,{"$f":"'SaisieJoueurs Finale'!G22","v":0},null,null,null,null,null,null,null,null,null,null,{"$f":"H20","v":0},null,{"$f":"M22/O22","v":{"$error":"#DIV/0!"}},{"$f":"H17","v":0},null,{"$f":"P22/R22","v":{"$error":"#DIV/0!"}},null,null,null,null,{"$f":"MAXA(M24,P24,)","v":0},null,{"$f":"W22/Y22","v":{"$error":"#DIV/0!"}}]
[]
[]
[]
["POULE B"]
[null,null,null,null,null,null,null,null,null,null,null,null,{"$f":"B32","v":0},null,null,{"$f":"B35","v":0},null,null,{"$f":"B38","v":0},null,null,null,"TOTAUX",null,null,"CLASSEMENT"]
[null,null,null,null,null,null,null,null,null,null,null,null,null,null,null,null,null,null,null,null,null,null,null,null,null,null,null,"Classement",null,"Classement",null,"Classement",null,"Classement",null,"Classement",null,"GENERAL","RANG"]
[null,null,null,null,null,"Pts","Rep","Série",null,null,null,null,null,null,null,null,null,null,null,null,null,null,null,null,null,null,null,"Point-Match","CLS-M","Moy-Gen","CLS-G","Moy-Part","CLS-P","M-Series","CLS-S","MGPS","CLS","CLS"]
[2,{"$f":"'SaisieJoueurs Finale'!D19","v":0},null,"Tour 1",{"$f":"B35","v":0},null,null,null,null,null,{"$f":"'SaisieJoueurs Finale'!D19","v":0},null,"L",null,null,{"$f":"F38","v":0},null,{"$f":"G38","v":0},{"$f":"F35","v":0},null,{"$f":"G35","v":0},null,{"$f":"P32+S32","v":0},null,{"$f":"R32+U32","v":0},{"$f":"AM32","v":{"$error":"#DIV/0!"}},null,{"$f":"X33","v":0.02},{"$f":"RANK(AB32,AB$32:AB$40,0)","v":1},{"$f":"Y34","v":{"$error":"#DIV/0!"}},{"$f":"RANK(AD32,AD$32:AD$40,0)","v":{"$error":"#DIV/0!"}},{"$f":"MAX(R34,U34,)","v":{"$error":"#DIV/0!"}},{"$f":"RANK(AF32,AF$32:AF$40)","v":{"$error":"#DIV/0!"}},{"$f":"W34","v":0},{"$f":"RANK(AH32,AH$32:AH$40)","v":1},{"$f":"(AC32*1000)+(AE32*100)+(AG32*10)+(AI32*1)","v":{"$error":"#DIV/0!"}},{"$f":"AJ32","v":{"$error":"#DIV/0!"}},{"$f":"RANK(AK32,AK$32:AK$40,1)","v":{"$error":"#DIV/0!"}},{"$f":"RANK(AL32,AL$32:AL$40,1)","v":{"$error":"#DIV/0!"}}]
[null,null,null,null,{"$f":"B38","v":0},null,null,null,null,null,null,null,null,null,null,null,{"$f":"IF(R32<1,0.01,IF(P32>M35,2,IF(P32=M35,1,0)))","v":0.01},null,null,{"$f":"IF(U32<1,0.01,IF(S32>M38,2,IF(S32=M38,1,0)))","v":0.01},null,null,null,{"$f":"Q33+T33","v":0.02}]
[null,{"$f":"'SaisieJoueurs Finale'!G19","v":0},null,null,null,null,null,null,null,null,null,null,null,null,null,{"$f":"H38","v":0},null,{"$f":"P32/R32","v":{"$error":"#DIV/0!"}},{"$f":"H35","v":0},null,{"$f":"S32/U32","v":{"$error":"#DIV/0!"}},null,{"$f":"MAX(P34,S34,)","v":0},null,{"$f":"W32/Y32","v":{"$error":"#DIV/0!"}}]
[3,{"$f":"'SaisieJoueurs Finale'!D20","v":0},null,"Tour 2",{"$f":"B32","v":0},null,null,null,null,null,{"$f":"'SaisieJoueurs Finale'!D20","v":0},null,{"$f":"F39","v":0},null,{"$f":"G38","v":0},"M",null,null,{"$f":"F32","v":0},null,{"$f":"G32","v":0},null,{"$f":"M35+S35","v":0},null,{"$f":"O35+U35","v":0},{"$f":"AM35","v":{"$error":"#DIV/0!"}},null,{"$f":"X36","v":0.02},{"$f":"RANK(AB35,AB$32:AB$40,0)","v":1},{"$f":"Y37","v":{"$error":"#DIV/0!"}},{"$f":"RANK(AD35,AD$32:AD$40,0)","v":{"$error":"#DIV/0!"}},{"$f":"MAX(R37,U37,)","v":{"$error":"#DIV/0!"}},{"$f":"RANK(AF35,AF$32:AF$40)","v":{"$error":"#DIV/0!"}},{"$f":"W37","v":0},{"$f":"RANK(AH35,AH$32:AH$40)","v":1},{"$f":"(AC35*1000)+(AE35*100)+(AG35*10)+(AI35*1)","v":{"$error":"#DIV/0!"}},{"$f":"AJ35","v":{"$error":"#DIV/0!"}},{"$f":"RANK(AK35,AK$32:AK$40,1)","v":{"$error":"#DIV/0!"}},{"$error":"#DIV/0!"}]
[null,null,null,null,{"$f":"B38","v":0},null,null,null,null,null,null,null,null,{"$f":"IF(R32>0,2-Q33,0.01)","v":0.01},null,null,null,null,null,{"$f":"IF(U35<1,0.01,IF(S35>P38,2,IF(S35=P38,1,0)))","v":0.01},null,null,null,{"$f":"N36+T36","v":0.02}]
[null,{"$f":"'SaisieJoueurs Finale'!G20","v":0},null,null,null,null,null,null,null,null,null,null,{"$f":"H39","v":0},null,{"$f":"M35/O35","v":{"$error":"#DIV/0!"}},null,null,null,{"$f":"H32","v":0},null,{"$f":"S35/U35","v":{"$error":"#DIV/0!"}},null,{"$f":"MAXA(M37,S37,)","v":0},null,{"$f":"W35/Y35","v":{"$error":"#DIV/0!"}}]
[6,{"$f":"'SaisieJoueurs Finale'!D23","v":0},null,"Tour 3",{"$f":"B32","v":0},null,null,null,null,null,{"$f":"'SaisieJoueurs Finale'!D23","v":0},null,{"$f":"F36","v":0},null,{"$f":"G35","v":0},{"$f":"F33","v":0},null,{"$f":"G32","v":0},"B",null,null,null,{"$f":"M38+P38","v":0},null,{"$f":"O38+R38","v":0},{"$f":"AM38","v":{"$error":"#DIV/0!"}},null,{"$f":"X39","v":0.02},{"$f":"RANK(AB38,AB$32:AB$40,0)","v":1},{"$f":"Y40","v":{"$error":"#DIV/0!"}},{"$f":"RANK(AD38,AD$32:AD$40,0)","v":{"$error":"#DIV/0!"}},{"$f":"MAX(R40,U40,)","v":{"$error":"#DIV/0!"}},{"$f":"RANK(AF38,AF$32:AF$40)","v":{"$error":"#DIV/0!"}},{"$f":"W40","v":0},{"$f":"RANK(AH38,AH$32:AH$40)","v":1},{"$f":"(AC38*1000)+(AE38*100)+(AG38*10)+(AI38*1)","v":{"$error":"#DIV/0!"}},{"$f":"AJ38","v":{"$error":"#DIV/0!"}},{"$f":"RANK(AK38,AK$32:AK$40,1)","v":{"$error":"#DIV/0!"}},{"$error":"#DIV/0!"}]
[null,null,null,null,{"$f":"B35","v":0},null,null,null,null,null,null,null,null,{"$f":"IF(U32>0,2-T33,0.01)","v":0.01},null,null,{"$f":"IF(U35>0,2-T36,0.01)","v":0.01},null,null,null,null,null,null,{"$f":"N39+Q39","v":0.02}]
[null,{"$f":"'SaisieJoueurs Finale'!G23","v":0},null,null,null,null,null,null,null,null,null,null,{"$f":"H36","v":0},null,{"$f":"M38/O38","v":{"$error":"#DIV/0!"}},{"$f":"H33","v":0},null,{"$f":"P38/R38","v":{"$error":"#DIV/0!"}},null,null,null,null,{"$f":"MAXA(M40,P40,)","v":0},null,{"$f":"W38/Y38","v":{"$error":"#DIV/0!"}}]
[]
[]
[]
[null,null,null,null,"DEMI FINALE 1","Pts","Rep","Série"]
[null,null,null,"1er POULE - A",{"$f":"IF(Z16=1,K16,IF(Z19=1,K19,IF(Z22=1,K22,\"\")))","v":{"$error":"#DIV/0!"}}]
[null,null,null,"2e POULE - B",{"$f":"IF(Z32=2,K32,IF(Z35=2,K35,IF(Z38=2,K38,\"\")))","v":{"$error":"#DIV/0!"}}]
[null,null,null,null,null,null,null,null,null,null,"FINALE ",null,"Pts","Rep","Série"]
[null,null,null,null,null,null,null,null,null,null,{"$f":"IF(F45<>\"\",IF(F45>F46,E45,E46),\"\")","v":""}]
[null,null,null,null,"DEMI FINALE 2","Pts","Rep","Série",null,null,{"$f":"IF(F50<>\"\",IF(F50>F51,E50,E51),\"\")","v":""}]
[null,null,null,"1er POULE - B",{"$f":"IF(Z32=1,K32,IF(Z35=1,K35,IF(Z38=1,K38,\"\")))","v":{"$error":"#DIV/0!"}}]
[null,null,null,"2e POULE - A",{"$f":"IF(Z16=2,K16,IF(Z19=2,K19,IF(Z22=2,K22,\"\")))","v":{"$error":"#DIV/0!"}}]
[]
[null,"© - A.FERHAT"]

{"sheet":"DKO_16_Joueurs","index":14,"n_rows":61,"n_cols":47,"rows_kept":61,"cut":false,"hidden":true,"merged":[[0,23,1,29],[1,14,1,21],[3,1,3,6],[3,8,3,13],[3,15,3,20],[5,24,6,24],[5,25,6,25],[5,26,6,26],[5,27,6,27],[5,28,5,29],[5,46,6,46],[6,10,7,10],[7,22,8,22],[7,23,8,23],[7,24,8,24],[7,25,8,25],[7,26,8,26],[7,27,8,27],[7,28,8,28],[5,40,6,40],[5,41,6,41],[5,42,6,42],[5,43,6,43],[5,44,6,44],[5,45,6,45],[5,32,6,32],[5,33,6,33],[5,34,6,34],[5,35,6,35],[5,36,6,36],[5,39,6,39],[7,29,8,29],[8,2,8,3],[8,4,8,6],[8,9,8,10],[8,11,8,13],[8,17,9,17],[9,22,10,22],[9,23,10,23],[9,24,10,24],[9,25,10,25],[9,26,10,26],[9,27,10,27],[9,28,10,28],[9,29,10,29],[10,3,11,3],[10,10,11,10],[10,16,10,17],[11,22,12,22],[11,23,12,23],[11,24,12,24],[11,25,12,25],[11,26,12,26],[11,27,12,27],[11,28,12,28],[11,29,12,29],[12,2,12,3],[12,4,12,6],[12,9,12,10],[12,11,12,13],[13,28,14,28],[13,29,14,29],[14,3,15,3],[14,10,15,10],[15,22,16,22],[15,23,16,23],[15,24,16,24],[15,25,16,25],[15,26,16,26],[15,27,16,27],[13,22,14,22],[13,23,14,23],[13,24,14,24],[13,25,14,25],[13,26,14,26],[13,27,14,27],[18,3,19,3],[18,10,19,10],[18,16,18,17],[19,22,20,22],[19,23,20,23],[15,28,16,28],[15,29,16,29],[16,2,16,3],[16,4,16,6],[16,9,16,10],[16,11,16,13],[16,17,17,17],[17,22,18,22],[17,23,18,23],[17,24,18,24],[19,24,20,24],[19,25,20,25],[19,26,20,26],[19,27,20,27],[19,28,20,28],[19,29,20,29],[17,25,18,25],[17,26,18,26],[17,27,18,27],[17,28,18,28],[17,29,18,29],[20,2,20,3],[20,4,20,6],[20,9,20,10],[20,11,20,13],[21,22,22,22],[21,23,22,23],[22,3,23,3],[22,10,23,10],[23,22,24,22],[23,23,24,23],[23,27,24,27],[23,28,24,28],[23,29,24,29],[21,24,22,24],[21,25,22,25],[21,26,22,26],[21,27,22,27],[21,28,22,28],[21,29,22,29],[24,2,24,3],[24,4,24,6],[24,9,24,10],[24,11,24,13],[24,17,25,17],[25,22,26,22],[23,24,24,24],[23,25,24,25],[23,26,24,26],[27,28,28,28],[27,29,28,29],[28,2,28,3],[28,4,28,6],[28,9,28,10],[28,11,28,13],[25,29,26,29],[26,3,27,3],[26,10,27,10],[26,16,26,17],[27,22,28,22],[27,23,28,23],[27,24,28,24],[27,25,28,25],[27,26,28,26],[27,27,28,27],[25,23,26,23],[25,24,26,24],[25,25,26,25],[25,26,26,26],[25,27,26,27],[25,28,26,28],[29,28,30,28],[29,29,30,29],[30,3,31,3],[30,10,31,10],[31,22,32,22],[31,23,32,23],[31,24,32,24],[31,25,32,25],[31,26,32,26],[31,27,32,27],[29,22,30,22],[29,23,30,23],[29,24,30,24],[29,25,30,25],[29,26,30,26],[29,27,30,27],[31,28,32,28],[31,29,32,29],[32,2,32,3],[32,4,32,6],[32,9,32,10],[32,11,32,13],[32,17,33,17],[33,22,34,22],[33,23,34,23],[33,24,34,24],[33,25,34,25],[33,26,34,26],[33,27,34,27],[33,28,34,28],[33,29,34,29],[34,3,35,3],[34,10,35,10],[34,16,34,17],[35,22,36,22],[35,23,36,23],[37,24,38,24],[37,25,38,25],[37,26,38,26],[37,27,38,27],[37,28,38,28],[37,29,38,29],[36,2,36,3],[36,4,36,6],[36,9,36,10],[36,11,36,13],[37,22,38,22],[37,23,38,23],[35,24,36,24],[35,25,36,25],[35,26,36,26],[35,27,36,27],[35,28,36,28],[35,29,36,29],[39,35,40,35],[39,36,40,36],[42,8,43,13],[39,1,40,6],[39,8,40,12],[39,15,40,20],[39,25,40,25],[39,26,40,26],[39,27,40,27],[43,3,44,3],[45,2,45,3],[45,4,45,6],[45,10,46,10],[47,3,48,3],[47,9,47,10],[39,28,40,28],[39,29,40,29],[39,31,42,31],[47,11,47,13],[48,11,48,13],[48,24,52,29],[49,2,49,3],[49,4,49,6],[49,17,50,17],[51,3,52,3],[51,16,51,17],[51,18,51,20],[52,18,52,20],[57,2,57,3],[57,4,57,6],[53,2,53,3],[53,4,53,6],[53,10,54,10],[55,3,56,3],[55,9,55,10],[55,11,55,13],[56,11,56,13]]}
[null,null,null,null,null,null,null,null,null,null,null,null,null,null,null,null,null,null,null,null,null,null,null,"TOURNOI 2-KO\nLIGUE MEDITERRANÉE BILLARD\n2024/2025"]
[]
[]
[null,"Phase 1 ",null,null,null,null,null,null,"Phase 2 ",null,null,null,null,null,null,"Phase 3 ",null,null,null,null,null,null,null,"Classement"]
[null,null,null,null,null,null,null,null,null,null,null,null,null,null,null,{"$f":"IF(AG14=0,\"Q\",\"Qualifié N° \"&AG14)","v":"Q"},null,null,null,null,null,{"$f":"IF(AG18=0,\"Q\",\"Qualifié N° \"&AG18)","v":"Q"},null,null,null,null,null,null,null,null,null,"Distance",null,40]
["A1","Match 1","pts","rep","serie","moy","p°",null,"Match 11   A7","pts","rep","serie","moy","p°",null,{"$f":"IF(AG14=0,\"\",AH14)","v":""},null,null,null,null,null,{"$f":"IF(AG18=0,\"\",AH18)","v":""},null,null,"% PTS\nMATCH","POINTS","REPRISES","SERIE","MOYENNE",null,null,null,"RANG","JOUEURS","POINTS\nMATCH","NB\nMATCH","CALCUL",null,null,"JOUEUR","PTS","REP","SERIE","MG","P°","MP","PM"]
[1,{"$f":"'Saisie des joueurs'!L18","v":0},null,null,null,{"$f":"IF(AND(C7<>\"\",D7<>\"\",D7<>0),ROUNDDOWN(C7/D7,2),\"\")","v":""},null,null,{"$f":"IF(OR(C7=\"\",C8=\"\",D7=\"\",D7=0),\"\",IF(C7>C8,B7,IF(C8>C7,B8,IF(C7=C8,IF(AND(G7<>\"\",G8<>\"\"),IF(G7>G8,B7,IF(G8>G7,B8,\"\")),\"\"),\"\"))))","v":""},null,null,null,{"$f":"IF(AND(J7<>\"\",K7<>\"\",K7<>0),ROUNDDOWN(J7/K7,2),\"\")","v":""},null,null,null,null,null,null,null,null,null,"CLS",null,null,null,null,null,"Particulière","Générale"]
[16,{"$f":"'Saisie des joueurs'!L33","v":0},null,null,null,{"$f":"IF(AND(C8<>\"\",D7<>\"\",D7<>0),ROUNDDOWN(C8/D7,2),\"\")","v":""},null,null,{"$f":"IF(OR(C11=\"\",C12=\"\",D11=\"\",D11=0),\"\",IF(C11>C12,B11,IF(C12>C11,B12,IF(C11=C12,IF(AND(G11<>\"\",G12<>\"\"),IF(G11>G12,B11,IF(G12>G11,B12,\"\")),\"\"),\"\"))))","v":""},null,null,null,{"$f":"IF(AND(J8<>\"\",K7<>\"\",K7<>0),ROUNDDOWN(J8/K7,2),\"\")","v":""},null,null,"Match 17   A9","pts","rep","serie","moy","p°",null,1,{"$f":"IF(OR(Q50=\"\",Q51=\"\",R50=\"\",R50=0),\"\",IF(Q50>Q51,P50,IF(Q51>Q50,P51,IF(Q50=Q51,IF(AND(U50<>\"\",U51<>\"\"),IF(U50>U51,P50,IF(U51>U50,P51,\"\")),\"\"),\"\"))))","v":""},{"$f":"IF(X8=\"\",\"\",IF(SUMIF($AN$8:$AU$61,X8,$AU$8:$AU$61)=0,0,1/(COUNTIF($AN$8:$AU$61,X8)*2/SUMIF($AN$8:$AU$61,X8,$AU$8:$AU$61))))","v":""},{"$f":"IF(X8=\"\",\"\",SUMIF(DKO_16_Joueurs!$AN$8:$AU$61,X8,DKO_16_Joueurs!$AO$8:$AO$61))","v":""},{"$f":"IF(X8=\"\",\"\",SUMIF(DKO_16_Joueurs!$AN$8:$AU$61,X8,DKO_16_Joueurs!$AP$8:$AP$61))","v":""},{"$f":"IF(X8=\"\",\"\",MAX(IF(ISERROR(VLOOKUP(X8,DKO_16_Joueurs!$AN$8:$AU$9,4,FALSE)),0,VLOOKUP(X8,DKO_16_Joueurs!$AN$8:$AU$9,4,FALSE)),IF(ISERROR(VLOOKUP(X8,DKO_16_Joueurs!$AN$10:$AU$13,4,FALSE)),0,VLOOKUP(X8,DKO_16_Joueurs!$AN$10:$AU$13,4,FALSE)),IF(ISERROR(VLOOKUP(X8,DKO_16_Joueurs!$AN$14:$AU$21,4,FALSE)),0,VLOOKUP(X8,DKO_16_Joueurs!$AN$14:$AU$21,4,FALSE)),IF(ISERROR(VLOOKUP(X8,DKO_16_Joueurs!$AN$22:$AU$29,4,FALSE)),0,VLOOKUP(X8,DKO_16_Joueurs!$AN$22:$AU$29,4,FALSE)),IF(ISERROR(VLOOKUP(X8,DKO_16_Joueurs!$AN$30:$AU$45,4,FALSE)),0,VLOOKUP(X8,DKO_16_Joueurs!$AN$30:$AU$45,4,FALSE)),IF(ISERROR(VLOOKUP(X8,DKO_16_Joueurs!$AN$46:$AU$61,4,FALSE)),0,VLOOKUP(X8,DKO_16_Joueurs!$AN$46:$AU$61,4,FALSE))))","v":""},{"$f":"IF(X8=\"\",\"\",MAX(IF(ISERROR(VLOOKUP(X8,DKO_16_Joueurs!$AN$8:$AU$9,7,FALSE)),0,VLOOKUP(X8,DKO_16_Joueurs!$AN$8:$AU$9,7,FALSE)),IF(ISERROR(VLOOKUP(X8,DKO_16_Joueurs!$AN$10:$AU$13,7,FALSE)),0,VLOOKUP(X8,DKO_16_Joueurs!$AN$10:$AU$13,7,FALSE)),IF(ISERROR(VLOOKUP(X8,DKO_16_Joueurs!$AN$14:$AU$21,7,FALSE)),0,VLOOKUP(X8,DKO_16_Joueurs!$AN$14:$AU$21,7,FALSE)),IF(ISERROR(VLOOKUP(X8,DKO_16_Joueurs!$AN$22:$AU$29,7,FALSE)),0,VLOOKUP(X8,DKO_16_Joueurs!$AN$22:$AU$29,7,FALSE)),IF(ISERROR(VLOOKUP(X8,DKO_16_Joueurs!$AN$30:$AU$45,7,FALSE)),0,VLOOKUP(X8,DKO_16_Joueurs!$AN$30:$AU$45,7,FALSE)),IF(ISERROR(VLOOKUP(X8,DKO_16_Joueurs!$AN$46:$AU$61,7,FALSE)),0,VLOOKUP(X8,DKO_16_Joueurs!$AN$46:$AU$61,7,FALSE))))","v":""},{"$f":"IF(X8=\"\",\"\",ROUNDDOWN(Z8/AA8,2))","v":""},null,"DF",{"$f":"IF(AK8=0,0,RANK(AK8,$AK$8:$AK$9))","v":0},{"$f":"IF(OR(J46=\"\",J47=\"\",K46=\"\",K46=0),\"\",IF(J46<J47,I46,IF(J47<J46,I47,IF(J46=J47,IF(AND(N46<>\"\",N47<>\"\"),IF(N46<N47,I46,IF(N47<N46,I47,\"\")),\"\"),\"\"))))","v":""},{"$f":"SUMIF($AN$10:$AU$61,AH8,$AU$10:$AU$61)","v":2},{"$f":"IF(AH8=\"\",0,COUNTIF($AN$10:$AU$61,AH8))","v":0},{"$f":"IF(AH8=\"\",0,(VLOOKUP(AH8,$AN$10:$AU$13,2,FALSE)/VLOOKUP(AH8,$AN$10:$AU$13,3,FALSE))+(VLOOKUP(AH8,$AN$10:$AU$13,4,FALSE)/1000))","v":0},null,"F",{"$f":"DKO_16_Joueurs!P50","v":""},{"$f":"DKO_16_Joueurs!Q50","v":0},{"$f":"DKO_16_Joueurs!R50","v":0},{"$f":"DKO_16_Joueurs!S50","v":0},{"$f":"DKO_16_Joueurs!T50","v":""},{"$f":"DKO_16_Joueurs!U50","v":0},{"$f":"IF(AO8+AO9=0,0,IF(AO8>=AO9,AR8,0))","v":0},{"$f":"IF((AO8+AO9)=0,0,IF(AO8>AO9,2,IF(AO8<AO9,0,IF(AS8>AS9,2,0))))","v":0}]
[null,{"$f":"B23","v":0},"ARBITRES",null,{"$f":"B24","v":0},null,null,null,{"$f":"I23","v":""},"ARBITRES",null,{"$f":"I24","v":""},null,null,null,{"$f":"IF(OR(J7=\"\",J8=\"\",K7=\"\",K7=0),\"\",IF(J7<J8,I7,IF(J8<J7,I8,IF(J7=J8,IF(AND(N7<>\"\",N8<>\"\"),IF(N7<N8,I7,IF(N8<N7,I8,\"\")),\"\"),\"\"))))","v":""},null,null,null,{"$f":"IF(AND(Q9<>\"\",R9<>\"\",R9<>0),ROUNDDOWN(Q9/R9,2),\"\")","v":""},null,null,null,null,null,null,null,null,null,null,null,null,{"$f":"IF(AK9=0,0,RANK(AK9,$AK$8:$AK$9))","v":0},{"$f":"IF(OR(J54=\"\",J55=\"\",K54=\"\",K54=0),\"\",IF(J54<J55,I54,IF(J55<J54,I55,IF(J54=J55,IF(AND(N54<>\"\",N55<>\"\"),IF(N54<N55,I54,IF(N55<N54,I55,\"\")),\"\"),\"\"))))","v":""},{"$f":"SUMIF($AN$10:$AU$61,AH9,$AU$10:$AU$61)","v":2},{"$f":"IF(AH9=\"\",0,COUNTIF($AN$10:$AU$61,AH9))","v":0},{"$f":"IF(AH9=\"\",0,(VLOOKUP(AH9,$AN$10:$AU$13,2,FALSE)/VLOOKUP(AH9,$AN$10:$AU$13,3,FALSE))+(VLOOKUP(AH9,$AN$10:$AU$13,4,FALSE)/1000))","v":0},null,null,{"$f":"DKO_16_Joueurs!P51","v":""},{"$f":"DKO_16_Joueurs!Q51","v":0},{"$f":"AP8","v":0},{"$f":"DKO_16_Joueurs!S51","v":0},{"$f":"DKO_16_Joueurs!T51","v":""},{"$f":"DKO_16_Joueurs!U51","v":0},{"$f":"IF(AO8+AO9=0,0,IF(AO9>=AO8,AR9,0))","v":0},{"$f":"IF((AO8+AO9)=0,0,IF(AO8>AO9,0,IF(AO8<AO9,2,IF(AS8>AS9,0,2))))","v":0}]
["A2","Match 2",null,null,null,null,null,null,"Match 9   A5",null,null,null,null,null,null,{"$f":"IF(OR(J15=\"\",J16=\"\",K15=\"\",K15=0),\"\",IF(J15>J16,I15,IF(J16>J15,I16,IF(J15=J16,IF(AND(N15<>\"\",N16<>\"\"),IF(N15>N16,I15,IF(N16>N15,I16,\"\")),\"\"),\"\"))))","v":""},null,null,null,{"$f":"IF(AND(Q10<>\"\",R9<>\"\",R9<>0),ROUNDDOWN(Q10/R9,2),\"\")","v":""},null,null,2,{"$f":"IF(OR(Q50=\"\",Q51=\"\",R50=\"\",R50=0),\"\",IF(Q50<Q51,P50,IF(Q51<Q50,P51,IF(Q50=Q51,IF(AND(U50<>\"\",U51<>\"\"),IF(U50<U51,P50,IF(U51<U50,P51,\"\")),\"\"),\"\"))))","v":""},{"$f":"IF(X10=\"\",\"\",IF(SUMIF($AN$8:$AU$61,X10,$AU$8:$AU$61)=0,0,1/(COUNTIF($AN$8:$AU$61,X10)*2/SUMIF($AN$8:$AU$61,X10,$AU$8:$AU$61))))","v":""},{"$f":"IF(X10=\"\",\"\",SUMIF(DKO_16_Joueurs!$AN$8:$AU$61,X10,DKO_16_Joueurs!$AO$8:$AO$61))","v":""},{"$f":"IF(X10=\"\",\"\",SUMIF(DKO_16_Joueurs!$AN$8:$AU$61,X10,DKO_16_Joueurs!$AP$8:$AP$61))","v":""},{"$f":"IF(X10=\"\",\"\",MAX(IF(ISERROR(VLOOKUP(X10,DKO_16_Joueurs!$AN$8:$AU$9,4,FALSE)),0,VLOOKUP(X10,DKO_16_Joueurs!$AN$8:$AU$9,4,FALSE)),IF(ISERROR(VLOOKUP(X10,DKO_16_Joueurs!$AN$10:$AU$13,4,FALSE)),0,VLOOKUP(X10,DKO_16_Joueurs!$AN$10:$AU$13,4,FALSE)),IF(ISERROR(VLOOKUP(X10,DKO_16_Joueurs!$AN$14:$AU$21,4,FALSE)),0,VLOOKUP(X10,DKO_16_Joueurs!$AN$14:$AU$21,4,FALSE)),IF(ISERROR(VLOOKUP(X10,DKO_16_Joueurs!$AN$22:$AU$29,4,FALSE)),0,VLOOKUP(X10,DKO_16_Joueurs!$AN$22:$AU$29,4,FALSE)),IF(ISERROR(VLOOKUP(X10,DKO_16_Joueurs!$AN$30:$AU$45,4,FALSE)),0,VLOOKUP(X10,DKO_16_Joueurs!$AN$30:$AU$45,4,FALSE)),IF(ISERROR(VLOOKUP(X10,DKO_16_Joueurs!$AN$46:$AU$61,4,FALSE)),0,VLOOKUP(X10,DKO_16_Joueurs!$AN$46:$AU$61,4,FALSE))))","v":""},{"$f":"IF(X10=\"\",\"\",MAX(IF(ISERROR(VLOOKUP(X10,DKO_16_Joueurs!$AN$8:$AU$9,7,FALSE)),0,VLOOKUP(X10,DKO_16_Joueurs!$AN$8:$AU$9,7,FALSE)),IF(ISERROR(VLOOKUP(X10,DKO_16_Joueurs!$AN$10:$AU$13,7,FALSE)),0,VLOOKUP(X10,DKO_16_Joueurs!$AN$10:$AU$13,7,FALSE)),IF(ISERROR(VLOOKUP(X10,DKO_16_Joueurs!$AN$14:$AU$21,7,FALSE)),0,VLOOKUP(X10,DKO_16_Joueurs!$AN$14:$AU$21,7,FALSE)),IF(ISERROR(VLOOKUP(X10,DKO_16_Joueurs!$AN$22:$AU$29,7,FALSE)),0,VLOOKUP(X10,DKO_16_Joueurs!$AN$22:$AU$29,7,FALSE)),IF(ISERROR(VLOOKUP(X10,DKO_16_Joueurs!$AN$30:$AU$45,7,FALSE)),0,VLOOKUP(X10,DKO_16_Joueurs!$AN$30:$AU$45,7,FALSE)),IF(ISERROR(VLOOKUP(X10,DKO_16_Joueurs!$AN$46:$AU$61,7,FALSE)),0,VLOOKUP(X10,DKO_16_Joueurs!$AN$46:$AU$61,7,FALSE))))","v":""},{"$f":"IF(X10=\"\",\"\",ROUNDDOWN(Z10/AA10,2))","v":""},null,"QF",{"$f":"IF(AK10=0,0,RANK(AK10,$AK$10:$AK$13))","v":0},{"$f":"IF(OR(C44=\"\",C45=\"\",D44=\"\",D44=0),\"\",IF(C44<C45,B44,IF(C45<C44,B45,IF(C44=C45,IF(AND(G44<>\"\",G45<>\"\"),IF(G44<G45,B44,IF(G45<G44,B45,\"\")),\"\"),\"\"))))","v":""},{"$f":"SUMIF($AN$14:$AU$61,AH10,$AU$14:$AU$61)","v":2},{"$f":"IF(AH10=\"\",0,COUNTIF($AN$14:$AU$61,AH10))","v":0},{"$f":"IF(AH10=\"\",0,(VLOOKUP(AH10,$AN$14:$AU$21,2,FALSE)/VLOOKUP(AH10,$AN$14:$AU$21,3,FALSE))+(VLOOKUP(AH10,$AN$14:$AU$21,4,FALSE)/1000))","v":0},null,"DF",{"$f":"DKO_16_Joueurs!I46","v":""},{"$f":"DKO_16_Joueurs!J46","v":0},{"$f":"DKO_16_Joueurs!K46","v":0},{"$f":"DKO_16_Joueurs!L46","v":0},{"$f":"DKO_16_Joueurs!M46","v":""},{"$f":"DKO_16_Joueurs!N46","v":0},{"$f":"IF(AO10+AO11=0,0,IF(AO10>=AO11,AR10,0))","v":0},{"$f":"IF((AO10+AO11)=0,0,IF(AO10>AO11,2,IF(AO10<AO11,0,IF(AS10>AS11,2,0))))","v":0}]
[8,{"$f":"'Saisie des joueurs'!L25","v":0},null,null,null,{"$f":"IF(AND(C11<>\"\",D11<>\"\",D11<>0),ROUNDDOWN(C11/D11,2),\"\")","v":""},null,null,{"$f":"IF(OR(C7=\"\",C8=\"\",D7=\"\",D7=0),\"\",IF(C7<C8,B7,IF(C8<C7,B8,IF(C7=C8,IF(AND(G7<>\"\",G8<>\"\"),IF(G7<G8,B7,IF(G8<G7,B8,\"\")),\"\"),\"\"))))","v":""},null,null,null,{"$f":"IF(AND(J11<>\"\",K11<>\"\",K11<>0),ROUNDDOWN(J11/K11,2),\"\")","v":""},null,null,{"$f":"P6","v":""},"ARBITRES",null,null,null,null,null,null,null,null,null,null,null,null,null,null,null,{"$f":"IF(AK11=0,0,RANK(AK11,$AK$10:$AK$13))","v":0},{"$f":"IF(OR(C48=\"\",C49=\"\",D48=\"\",D48=0),\"\",IF(C48<C49,B48,IF(C49<C48,B49,IF(C48=C49,IF(AND(G48<>\"\",G49<>\"\"),IF(G48<G49,B48,IF(G49<G48,B49,\"\")),\"\"),\"\"))))","v":""},{"$f":"SUMIF($AN$14:$AU$61,AH11,$AU$14:$AU$61)","v":2},{"$f":"IF(AH11=\"\",0,COUNTIF($AN$14:$AU$61,AH11))","v":0},{"$f":"IF(AH11=\"\",0,(VLOOKUP(AH11,$AN$14:$AU$21,2,FALSE)/VLOOKUP(AH11,$AN$14:$AU$21,3,FALSE))+(VLOOKUP(AH11,$AN$14:$AU$21,4,FALSE)/1000))","v":0},null,null,{"$f":"DKO_16_Joueurs!I47","v":""},{"$f":"DKO_16_Joueurs!J47","v":0},{"$f":"AP10","v":0},{"$f":"DKO_16_Joueurs!L47","v":0},{"$f":"DKO_16_Joueurs!M47","v":""},{"$f":"DKO_16_Joueurs!N47","v":0},{"$f":"IF(AO10+AO11=0,0,IF(AO11>=AO10,AR11,0))","v":0},{"$f":"IF((AO10+AO11)=0,0,IF(AO10>AO11,0,IF(AO10<AO11,2,IF(AS10>AS11,0,2))))","v":0}]
[9,{"$f":"'Saisie des joueurs'!L26","v":0},null,null,null,{"$f":"IF(AND(C12<>\"\",D11<>\"\",D11<>0),ROUNDDOWN(C12/D11,2),\"\")","v":""},null,null,{"$f":"IF(OR(C11=\"\",C12=\"\",D11=\"\",D11=0),\"\",IF(C11<C12,B11,IF(C12<C11,B12,IF(C11=C12,IF(AND(G11<>\"\",G12<>\"\"),IF(G11<G12,B11,IF(G12<G11,B12,\"\")),\"\"),\"\"))))","v":""},null,null,null,{"$f":"IF(AND(J12<>\"\",K11<>\"\",K11<>0),ROUNDDOWN(J12/K11,2),\"\")","v":""},null,null,null,null,null,null,null,null,null,3,{"$f":"IF($AK$8+$AK$9=0,\"\",IF(ISERROR(VLOOKUP(1,$AG$8:$AH$9,2,FALSE)),\"\",VLOOKUP(1,$AG$8:$AH$9,2,FALSE)))","v":""},{"$f":"IF(X12=\"\",\"\",IF(SUMIF($AN$8:$AU$61,X12,$AU$8:$AU$61)=0,0,1/(COUNTIF($AN$8:$AU$61,X12)*2/SUMIF($AN$8:$AU$61,X12,$AU$8:$AU$61))))","v":""},{"$f":"IF(X12=\"\",\"\",SUMIF(DKO_16_Joueurs!$AN$8:$AU$61,X12,DKO_16_Joueurs!$AO$8:$AO$61))","v":""},{"$f":"IF(X12=\"\",\"\",SUMIF(DKO_16_Joueurs!$AN$8:$AU$61,X12,DKO_16_Joueurs!$AP$8:$AP$61))","v":""},{"$f":"IF(X12=\"\",\"\",MAX(IF(ISERROR(VLOOKUP(X12,DKO_16_Joueurs!$AN$8:$AU$9,4,FALSE)),0,VLOOKUP(X12,DKO_16_Joueurs!$AN$8:$AU$9,4,FALSE)),IF(ISERROR(VLOOKUP(X12,DKO_16_Joueurs!$AN$10:$AU$13,4,FALSE)),0,VLOOKUP(X12,DKO_16_Joueurs!$AN$10:$AU$13,4,FALSE)),IF(ISERROR(VLOOKUP(X12,DKO_16_Joueurs!$AN$14:$AU$21,4,FALSE)),0,VLOOKUP(X12,DKO_16_Joueurs!$AN$14:$AU$21,4,FALSE)),IF(ISERROR(VLOOKUP(X12,DKO_16_Joueurs!$AN$22:$AU$29,4,FALSE)),0,VLOOKUP(X12,DKO_16_Joueurs!$AN$22:$AU$29,4,FALSE)),IF(ISERROR(VLOOKUP(X12,DKO_16_Joueurs!$AN$30:$AU$45,4,FALSE)),0,VLOOKUP(X12,DKO_16_Joueurs!$AN$30:$AU$45,4,FALSE)),IF(ISERROR(VLOOKUP(X12,DKO_16_Joueurs!$AN$46:$AU$61,4,FALSE)),0,VLOOKUP(X12,DKO_16_Joueurs!$AN$46:$AU$61,4,FALSE))))","v":""},{"$f":"IF(X12=\"\",\"\",MAX(IF(ISERROR(VLOOKUP(X12,DKO_16_Joueurs!$AN$8:$AU$9,7,FALSE)),0,VLOOKUP(X12,DKO_16_Joueurs!$AN$8:$AU$9,7,FALSE)),IF(ISERROR(VLOOKUP(X12,DKO_16_Joueurs!$AN$10:$AU$13,7,FALSE)),0,VLOOKUP(X12,DKO_16_Joueurs!$AN$10:$AU$13,7,FALSE)),IF(ISERROR(VLOOKUP(X12,DKO_16_Joueurs!$AN$14:$AU$21,7,FALSE)),0,VLOOKUP(X12,DKO_16_Joueurs!$AN$14:$AU$21,7,FALSE)),IF(ISERROR(VLOOKUP(X12,DKO_16_Joueurs!$AN$22:$AU$29,7,FALSE)),0,VLOOKUP(X12,DKO_16_Joueurs!$AN$22:$AU$29,7,FALSE)),IF(ISERROR(VLOOKUP(X12,DKO_16_Joueurs!$AN$30:$AU$45,7,FALSE)),0,VLOOKUP(X12,DKO_16_Joueurs!$AN$30:$AU$45,7,FALSE)),IF(ISERROR(VLOOKUP(X12,DKO_16_Joueurs!$AN$46:$AU$61,7,FALSE)),0,VLOOKUP(X12,DKO_16_Joueurs!$AN$46:$AU$61,7,FALSE))))","v":""},{"$f":"IF(X12=\"\",\"\",ROUNDDOWN(Z12/AA12,2))","v":""},null,null,{"$f":"IF(AK12=0,0,RANK(AK12,$AK$10:$AK$13))","v":0},{"$f":"IF(OR(C52=\"\",C53=\"\",D52=\"\",D52=0),\"\",IF(C52<C53,B52,IF(C53<C52,B53,IF(C52=C53,IF(AND(G52<>\"\",G53<>\"\"),IF(G52<G53,B52,IF(G53<G52,B53,\"\")),\"\"),\"\"))))","v":""},{"$f":"SUMIF($AN$14:$AU$61,AH12,$AU$14:$AU$61)","v":2},{"$f":"IF(AH12=\"\",0,COUNTIF($AN$14:$AU$61,AH12))","v":0},{"$f":"IF(AH12=\"\",0,(VLOOKUP(AH12,$AN$14:$AU$21,2,FALSE)/VLOOKUP(AH12,$AN$14:$AU$21,3,FALSE))+(VLOOKUP(AH12,$AN$14:$AU$21,4,FALSE)/1000))","v":0},null,null,{"$f":"DKO_16_Joueurs!I54","v":""},{"$f":"DKO_16_Joueurs!J54","v":0},{"$f":"DKO_16_Joueurs!K54","v":0},{"$f":"DKO_16_Joueurs!L54","v":0},{"$f":"DKO_16_Joueurs!M54","v":""},{"$f":"DKO_16_Joueurs!N54","v":0},{"$f":"IF(AO12+AO13=0,0,IF(AO12>=AO13,AR12,0))","v":0},{"$f":"IF((AO12+AO13)=0,0,IF(AO12>AO13,2,IF(AO12<AO13,0,IF(AS12>AS13,2,0))))","v":0}]
[null,{"$f":"B27","v":0},"ARBITRES",null,{"$f":"B28","v":0},null,null,null,{"$f":"I27","v":""},"ARBITRES",null,{"$f":"I28","v":""},null,null,null,null,null,null,null,null,null,null,null,null,null,null,null,null,null,null,null,null,{"$f":"IF(AK13=0,0,RANK(AK13,$AK$10:$AK$13))","v":0},{"$f":"IF(OR(C56=\"\",C57=\"\",D56=\"\",D56=0),\"\",IF(C56<C57,B56,IF(C57<C56,B57,IF(C56=C57,IF(AND(G56<>\"\",G57<>\"\"),IF(G56<G57,B56,IF(G57<G56,B57,\"\")),\"\"),\"\"))))","v":""},{"$f":"SUMIF($AN$14:$AU$61,AH13,$AU$14:$AU$61)","v":2},{"$f":"IF(AH13=\"\",0,COUNTIF($AN$14:$AU$61,AH13))","v":0},{"$f":"IF(AH13=\"\",0,(VLOOKUP(AH13,$AN$14:$AU$21,2,FALSE)/VLOOKUP(AH13,$AN$14:$AU$21,3,FALSE))+(VLOOKUP(AH13,$AN$14:$AU$21,4,FALSE)/1000))","v":0},null,null,{"$f":"DKO_16_Joueurs!I55","v":""},{"$f":"DKO_16_Joueurs!J55","v":0},{"$f":"AP12","v":0},{"$f":"DKO_16_Joueurs!L55","v":0},{"$f":"DKO_16_Joueurs!M55","v":""},{"$f":"DKO_16_Joueurs!N55","v":0},{"$f":"IF(AO12+AO13=0,0,IF(AO13>=AO12,AR13,0))","v":0},{"$f":"IF((AO12+AO13)=0,0,IF(AO12>AO13,0,IF(AO12<AO13,2,IF(AS12>AS13,0,2))))","v":0}]
["A3","Match 3",null,null,null,null,null,null,"Match 10   A6",null,null,null,null,null,null,{"$f":"IF(AG15=0,\"Q\",\"Qualifié N° \"&AG15)","v":"Q"},null,null,null,null,null,{"$f":"IF(AG19=0,\"Q\",\"Qualifié N° \"&AG19)","v":"Q"},3,{"$f":"IF($AK$8+$AK$9=0,\"\",IF(ISERROR(VLOOKUP(2,$AG$8:$AH$9,2,FALSE)),\"\",VLOOKUP(2,$AG$8:$AH$9,2,FALSE)))","v":""},{"$f":"IF(X14=\"\",\"\",IF(SUMIF($AN$8:$AU$61,X14,$AU$8:$AU$61)=0,0,1/(COUNTIF($AN$8:$AU$61,X14)*2/SUMIF($AN$8:$AU$61,X14,$AU$8:$AU$61))))","v":""},{"$f":"IF(X14=\"\",\"\",SUMIF(DKO_16_Joueurs!$AN$8:$AU$61,X14,DKO_16_Joueurs!$AO$8:$AO$61))","v":""},{"$f":"IF(X14=\"\",\"\",SUMIF(DKO_16_Joueurs!$AN$8:$AU$61,X14,DKO_16_Joueurs!$AP$8:$AP$61))","v":""},{"$f":"IF(X14=\"\",\"\",MAX(IF(ISERROR(VLOOKUP(X14,DKO_16_Joueurs!$AN$8:$AU$9,4,FALSE)),0,VLOOKUP(X14,DKO_16_Joueurs!$AN$8:$AU$9,4,FALSE)),IF(ISERROR(VLOOKUP(X14,DKO_16_Joueurs!$AN$10:$AU$13,4,FALSE)),0,VLOOKUP(X14,DKO_16_Joueurs!$AN$10:$AU$13,4,FALSE)),IF(ISERROR(VLOOKUP(X14,DKO_16_Joueurs!$AN$14:$AU$21,4,FALSE)),0,VLOOKUP(X14,DKO_16_Joueurs!$AN$14:$AU$21,4,FALSE)),IF(ISERROR(VLOOKUP(X14,DKO_16_Joueurs!$AN$22:$AU$29,4,FALSE)),0,VLOOKUP(X14,DKO_16_Joueurs!$AN$22:$AU$29,4,FALSE)),IF(ISERROR(VLOOKUP(X14,DKO_16_Joueurs!$AN$30:$AU$45,4,FALSE)),0,VLOOKUP(X14,DKO_16_Joueurs!$AN$30:$AU$45,4,FALSE)),IF(ISERROR(VLOOKUP(X14,DKO_16_Joueurs!$AN$46:$AU$61,4,FALSE)),0,VLOOKUP(X14,DKO_16_Joueurs!$AN$46:$AU$61,4,FALSE))))","v":""},{"$f":"IF(X14=\"\",\"\",MAX(IF(ISERROR(VLOOKUP(X14,DKO_16_Joueurs!$AN$8:$AU$9,7,FALSE)),0,VLOOKUP(X14,DKO_16_Joueurs!$AN$8:$AU$9,7,FALSE)),IF(ISERROR(VLOOKUP(X14,DKO_16_Joueurs!$AN$10:$AU$13,7,FALSE)),0,VLOOKUP(X14,DKO_16_Joueurs!$AN$10:$AU$13,7,FALSE)),IF(ISERROR(VLOOKUP(X14,DKO_16_Joueurs!$AN$14:$AU$21,7,FALSE)),0,VLOOKUP(X14,DKO_16_Joueurs!$AN$14:$AU$21,7,FALSE)),IF(ISERROR(VLOOKUP(X14,DKO_16_Joueurs!$AN$22:$AU$29,7,FALSE)),0,VLOOKUP(X14,DKO_16_Joueurs!$AN$22:$AU$29,7,FALSE)),IF(ISERROR(VLOOKUP(X14,DKO_16_Joueurs!$AN$30:$AU$45,7,FALSE)),0,VLOOKUP(X14,DKO_16_Joueurs!$AN$30:$AU$45,7,FALSE)),IF(ISERROR(VLOOKUP(X14,DKO_16_Joueurs!$AN$46:$AU$61,7,FALSE)),0,VLOOKUP(X14,DKO_16_Joueurs!$AN$46:$AU$61,7,FALSE))))","v":""},{"$f":"IF(X14=\"\",\"\",ROUNDDOWN(Z14/AA14,2))","v":""},null,"T3G",{"$f":"IF(AK14=0,0,RANK(AK14,$AK$14:$AK$17))","v":0},{"$f":"IF(OR(J7=\"\",J8=\"\",K7=\"\",K7=0),\"\",IF(J7>J8,I7,IF(J8>J7,I8,IF(J7=J8,IF(AND(N7<>\"\",N8<>\"\"),IF(N7>N8,I7,IF(N8>N7,I8,\"\")),\"\"),\"\"))))","v":""},{"$f":"SUMIF($AN$22:$AN$61,AH14,$AU$22:$AU$61)","v":2},{"$f":"IF(AH14=\"\",0,COUNTIF($AN$22:$AN$61,AH14))","v":0},{"$f":"IF(AH14=\"\",0,(SUMIF($AN$22:$AU$61,AH14,$AO$22:$AO$61)/SUMIF($AN$22:$AU$61,AH14,$AP$22:$AP$61))+(MAX(IF(ISERROR(VLOOKUP(AH14,DKO_16_Joueurs!$AN$22:$AU$29,5,FALSE)),0,VLOOKUP(AH14,DKO_16_Joueurs!$AN$22:$AU$29,5,FALSE)),IF(ISERROR(VLOOKUP(AH14,DKO_16_Joueurs!$AN$30:$AU$45,5,FALSE)),0,VLOOKUP(AH14,DKO_16_Joueurs!$AN$30:$AU$45,5,FALSE)),IF(ISERROR(VLOOKUP(AH14,DKO_16_Joueurs!$AN$46:$AU$61,5,FALSE)),0,VLOOKUP(AH14,DKO_16_Joueurs!$AN$46:$AU$61,5,FALSE)))/1000))","v":0},null,"QF",{"$f":"DKO_16_Joueurs!B44","v":""},{"$f":"DKO_16_Joueurs!C44","v":0},{"$f":"DKO_16_Joueurs!D44","v":0},{"$f":"DKO_16_Joueurs!E44","v":0},{"$f":"DKO_16_Joueurs!F44","v":""},{"$f":"DKO_16_Joueurs!G44","v":0},{"$f":"IF(AO14+AO15=0,0,IF(AO14>=AO15,AR14,0))","v":0},{"$f":"IF((AO14+AO15)=0,0,IF(AO14>AO15,2,IF(AO14<AO15,0,IF(AS14>AS15,2,0))))","v":0}]
[5,{"$f":"'Saisie des joueurs'!L22","v":0},null,null,null,{"$f":"IF(AND(C15<>\"\",D15<>\"\",D15<>0),ROUNDDOWN(C15/D15,2),\"\")","v":""},null,null,{"$f":"IF(OR(C15=\"\",C16=\"\",D15=\"\",D15=0),\"\",IF(C15<C16,B15,IF(C16<C15,B16,IF(C15=C16,IF(AND(G15<>\"\",G16<>\"\"),IF(G15<G16,B15,IF(G16<G15,B16,\"\")),\"\"),\"\"))))","v":""},null,null,null,{"$f":"IF(AND(J15<>\"\",K15<>\"\",K15<>0),ROUNDDOWN(J15/K15,2),\"\")","v":""},null,null,{"$f":"IF(AG15=0,\"\",AH15)","v":""},null,null,null,null,null,{"$f":"IF(AG19=0,\"\",AH19)","v":""},null,null,null,null,null,null,null,null,null,null,{"$f":"IF(AK15=0,0,RANK(AK15,$AK$14:$AK$17))","v":0},{"$f":"IF(OR(J19=\"\",J20=\"\",K19=\"\",K19=0),\"\",IF(J19>J20,I19,IF(J20>J19,I20,IF(J19=J20,IF(AND(N19<>\"\",N20<>\"\"),IF(N19>N20,I19,IF(N20>N19,I20,\"\")),\"\"),\"\"))))","v":""},2,0,{"$f":"IF(AH15=\"\",0,(SUMIF($AN$22:$AU$61,AH15,$AO$22:$AO$61)/SUMIF($AN$22:$AU$61,AH15,$AP$22:$AP$61))+(MAX(IF(ISERROR(VLOOKUP(AH15,DKO_16_Joueurs!$AN$22:$AU$29,5,FALSE)),0,VLOOKUP(AH15,DKO_16_Joueurs!$AN$22:$AU$29,5,FALSE)),IF(ISERROR(VLOOKUP(AH15,DKO_16_Joueurs!$AN$30:$AU$45,5,FALSE)),0,VLOOKUP(AH15,DKO_16_Joueurs!$AN$30:$AU$45,5,FALSE)),IF(ISERROR(VLOOKUP(AH15,DKO_16_Joueurs!$AN$46:$AU$61,5,FALSE)),0,VLOOKUP(AH15,DKO_16_Joueurs!$AN$46:$AU$61,5,FALSE)))/1000))","v":0},null,null,{"$f":"DKO_16_Joueurs!B45","v":""},{"$f":"DKO_16_Joueurs!C45","v":0},{"$f":"AP14","v":0},{"$f":"DKO_16_Joueurs!E45","v":0},{"$f":"DKO_16_Joueurs!F45","v":""},{"$f":"DKO_16_Joueurs!G45","v":0},{"$f":"IF(AO14+AO15=0,0,IF(AO15>=AO14,AR15,0))","v":0},{"$f":"IF((AO14+AO15)=0,0,IF(AO14>AO15,0,IF(AO14<AO15,2,IF(AS14>AS15,0,2))))","v":0}]
[12,{"$f":"'Saisie des joueurs'!L29","v":0},null,null,null,{"$f":"IF(AND(C16<>\"\",D15<>\"\",D15<>0),ROUNDDOWN(C16/D15,2),\"\")","v":""},null,null,{"$f":"IF(OR(C19=\"\",C20=\"\",D19=\"\",D19=0),\"\",IF(C19<C20,B19,IF(C20<C19,B20,IF(C19=C20,IF(AND(G19<>\"\",G20<>\"\"),IF(G19<G20,B19,IF(G20<G19,B20,\"\")),\"\"),\"\"))))","v":""},null,null,null,{"$f":"IF(AND(J16<>\"\",K15<>\"\",K15<>0),ROUNDDOWN(J16/K15,2),\"\")","v":""},null,null,"Match 18   A10",null,null,null,null,null,null,5,{"$f":"IF(SUM($AK$10:$AK$13)=0,\"\",IF(ISERROR(VLOOKUP(1,$AG$10:$AH$13,2,FALSE)),\"\",VLOOKUP(1,$AG$10:$AH$13,2,FALSE)))","v":""},{"$f":"IF(X16=\"\",\"\",IF(SUMIF($AN$8:$AU$61,X16,$AU$8:$AU$61)=0,0,1/(COUNTIF($AN$8:$AU$61,X16)*2/SUMIF($AN$8:$AU$61,X16,$AU$8:$AU$61))))","v":""},{"$f":"IF(X16=\"\",\"\",SUMIF(DKO_16_Joueurs!$AN$8:$AU$61,X16,DKO_16_Joueurs!$AO$8:$AO$61))","v":""},{"$f":"IF(X16=\"\",\"\",SUMIF(DKO_16_Joueurs!$AN$8:$AU$61,X16,DKO_16_Joueurs!$AP$8:$AP$61))","v":""},{"$f":"IF(X16=\"\",\"\",MAX(IF(ISERROR(VLOOKUP(X16,DKO_16_Joueurs!$AN$8:$AU$9,4,FALSE)),0,VLOOKUP(X16,DKO_16_Joueurs!$AN$8:$AU$9,4,FALSE)),IF(ISERROR(VLOOKUP(X16,DKO_16_Joueurs!$AN$10:$AU$13,4,FALSE)),0,VLOOKUP(X16,DKO_16_Joueurs!$AN$10:$AU$13,4,FALSE)),IF(ISERROR(VLOOKUP(X16,DKO_16_Joueurs!$AN$14:$AU$21,4,FALSE)),0,VLOOKUP(X16,DKO_16_Joueurs!$AN$14:$AU$21,4,FALSE)),IF(ISERROR(VLOOKUP(X16,DKO_16_Joueurs!$AN$22:$AU$29,4,FALSE)),0,VLOOKUP(X16,DKO_16_Joueurs!$AN$22:$AU$29,4,FALSE)),IF(ISERROR(VLOOKUP(X16,DKO_16_Joueurs!$AN$30:$AU$45,4,FALSE)),0,VLOOKUP(X16,DKO_16_Joueurs!$AN$30:$AU$45,4,FALSE)),IF(ISERROR(VLOOKUP(X16,DKO_16_Joueurs!$AN$46:$AU$61,4,FALSE)),0,VLOOKUP(X16,DKO_16_Joueurs!$AN$46:$AU$61,4,FALSE))))","v":""},{"$f":"IF(X16=\"\",\"\",MAX(IF(ISERROR(VLOOKUP(X16,DKO_16_Joueurs!$AN$8:$AU$9,7,FALSE)),0,VLOOKUP(X16,DKO_16_Joueurs!$AN$8:$AU$9,7,FALSE)),IF(ISERROR(VLOOKUP(X16,DKO_16_Joueurs!$AN$10:$AU$13,7,FALSE)),0,VLOOKUP(X16,DKO_16_Joueurs!$AN$10:$AU$13,7,FALSE)),IF(ISERROR(VLOOKUP(X16,DKO_16_Joueurs!$AN$14:$AU$21,7,FALSE)),0,VLOOKUP(X16,DKO_16_Joueurs!$AN$14:$AU$21,7,FALSE)),IF(ISERROR(VLOOKUP(X16,DKO_16_Joueurs!$AN$22:$AU$29,7,FALSE)),0,VLOOKUP(X16,DKO_16_Joueurs!$AN$22:$AU$29,7,FALSE)),IF(ISERROR(VLOOKUP(X16,DKO_16_Joueurs!$AN$30:$AU$45,7,FALSE)),0,VLOOKUP(X16,DKO_16_Joueurs!$AN$30:$AU$45,7,FALSE)),IF(ISERROR(VLOOKUP(X16,DKO_16_Joueurs!$AN$46:$AU$61,7,FALSE)),0,VLOOKUP(X16,DKO_16_Joueurs!$AN$46:$AU$61,7,FALSE))))","v":""},{"$f":"IF(X16=\"\",\"\",ROUNDDOWN(Z16/AA16,2))","v":""},null,null,{"$f":"IF(AK16=0,0,RANK(AK16,$AK$14:$AK$17))","v":0},{"$f":"IF(OR(J23=\"\",J24=\"\",K23=\"\",K23=0),\"\",IF(J23>J24,I23,IF(J24>J23,I24,IF(J23=J24,IF(AND(N23<>\"\",N24<>\"\"),IF(N23>N24,I23,IF(N24>N23,I24,\"\")),\"\"),\"\"))))","v":""},2,0,{"$f":"IF(AH16=\"\",0,(SUMIF($AN$22:$AU$61,AH16,$AO$22:$AO$61)/SUMIF($AN$22:$AU$61,AH16,$AP$22:$AP$61))+(MAX(IF(ISERROR(VLOOKUP(AH16,DKO_16_Joueurs!$AN$22:$AU$29,5,FALSE)),0,VLOOKUP(AH16,DKO_16_Joueurs!$AN$22:$AU$29,5,FALSE)),IF(ISERROR(VLOOKUP(AH16,DKO_16_Joueurs!$AN$30:$AU$45,5,FALSE)),0,VLOOKUP(AH16,DKO_16_Joueurs!$AN$30:$AU$45,5,FALSE)),IF(ISERROR(VLOOKUP(AH16,DKO_16_Joueurs!$AN$46:$AU$61,5,FALSE)),0,VLOOKUP(AH16,DKO_16_Joueurs!$AN$46:$AU$61,5,FALSE)))/1000))","v":0},null,null,{"$f":"DKO_16_Joueurs!B48","v":""},{"$f":"DKO_16_Joueurs!C48","v":0},{"$f":"DKO_16_Joueurs!D48","v":0},{"$f":"DKO_16_Joueurs!E48","v":0},{"$f":"DKO_16_Joueurs!F48","v":""},{"$f":"DKO_16_Joueurs!G48","v":0},{"$f":"IF(AO16+AO17=0,0,IF(AO16>=AO17,AR16,0))","v":0},{"$f":"IF((AO16+AO17)=0,0,IF(AO16>AO17,2,IF(AO16<AO17,0,IF(AS16>AS17,2,0))))","v":0}]
[null,{"$f":"B31","v":0},"ARBITRES",null,{"$f":"B32","v":0},null,null,null,{"$f":"I31","v":""},"ARBITRES",null,{"$f":"I32","v":""},null,null," ",{"$f":"IF(OR(J11=\"\",J12=\"\",K11=\"\",K11=0),\"\",IF(J11>J12,I11,IF(J12>J11,I12,IF(J11=J12,IF(AND(N11<>\"\",N12<>\"\"),IF(N11>N12,I11,IF(N12>N11,I12,\"\")),\"\"),\"\"))))","v":""},null,null,null,{"$f":"IF(AND(Q17<>\"\",R17<>\"\",R17<>0),ROUNDDOWN(Q17/R17,2),\"\")","v":""},null,null,null,null,null,null,null,null,null,null,null,null,{"$f":"IF(AK17=0,0,RANK(AK17,$AK$14:$AK$17))","v":0},{"$f":"IF(OR(J35=\"\",J36=\"\",K35=\"\",K35=0),\"\",IF(J35>J36,I35,IF(J36>J35,I36,IF(J35=J36,IF(AND(N35<>\"\",N36<>\"\"),IF(N35>N36,I35,IF(N36>N35,I36,\"\")),\"\"),\"\"))))","v":""},2,0,{"$f":"IF(AH17=\"\",0,(SUMIF($AN$22:$AU$61,AH17,$AO$22:$AO$61)/SUMIF($AN$22:$AU$61,AH17,$AP$22:$AP$61))+(MAX(IF(ISERROR(VLOOKUP(AH17,DKO_16_Joueurs!$AN$22:$AU$29,5,FALSE)),0,VLOOKUP(AH17,DKO_16_Joueurs!$AN$22:$AU$29,5,FALSE)),IF(ISERROR(VLOOKUP(AH17,DKO_16_Joueurs!$AN$30:$AU$45,5,FALSE)),0,VLOOKUP(AH17,DKO_16_Joueurs!$AN$30:$AU$45,5,FALSE)),IF(ISERROR(VLOOKUP(AH17,DKO_16_Joueurs!$AN$46:$AU$61,5,FALSE)),0,VLOOKUP(AH17,DKO_16_Joueurs!$AN$46:$AU$61,5,FALSE)))/1000))","v":0},null,null,{"$f":"DKO_16_Joueurs!B49","v":""},{"$f":"DKO_16_Joueurs!C49","v":0},{"$f":"AP16","v":0},{"$f":"DKO_16_Joueurs!E49","v":0},{"$f":"DKO_16_Joueurs!F49","v":""},{"$f":"DKO_16_Joueurs!G49","v":0},{"$f":"IF(AO16+AO17=0,0,IF(AO17>=AO16,AR17,0))","v":0},{"$f":"IF((AO16+AO17)=0,0,IF(AO16>AO17,0,IF(AO16<AO17,2,IF(AS16>AS17,0,2))))","v":0}]
["A4","Match 4",null,null,null,null,null,null,"Match 12   A8",null,null,null,null,null,null,{"$f":"IF(OR(J19=\"\",J20=\"\",K19=\"\",K19=0),\"\",IF(J19<J20,I19,IF(J20<J19,I20,IF(J19=J20,IF(AND(N19<>\"\",N20<>\"\"),IF(N19<N20,I19,IF(N20<N19,I20,\"\")),\"\"),\"\"))))","v":""},null,null,null,{"$f":"IF(AND(Q18<>\"\",R17<>\"\",R17<>0),ROUNDDOWN(Q18/R17,2),\"\")","v":""},null,null,6,{"$f":"IF(SUM($AK$10:$AK$13)=0,\"\",IF(ISERROR(VLOOKUP(2,$AG$10:$AH$13,2,FALSE)),\"\",VLOOKUP(2,$AG$10:$AH$13,2,FALSE)))","v":""},{"$f":"IF(X18=\"\",\"\",IF(SUMIF($AN$8:$AU$61,X18,$AU$8:$AU$61)=0,0,1/(COUNTIF($AN$8:$AU$61,X18)*2/SUMIF($AN$8:$AU$61,X18,$AU$8:$AU$61))))","v":""},{"$f":"IF(X18=\"\",\"\",SUMIF(DKO_16_Joueurs!$AN$8:$AU$61,X18,DKO_16_Joueurs!$AO$8:$AO$61))","v":""},{"$f":"IF(X18=\"\",\"\",SUMIF(DKO_16_Joueurs!$AN$8:$AU$61,X18,DKO_16_Joueurs!$AP$8:$AP$61))","v":""},{"$f":"IF(X18=\"\",\"\",MAX(IF(ISERROR(VLOOKUP(X18,DKO_16_Joueurs!$AN$8:$AU$9,4,FALSE)),0,VLOOKUP(X18,DKO_16_Joueurs!$AN$8:$AU$9,4,FALSE)),IF(ISERROR(VLOOKUP(X18,DKO_16_Joueurs!$AN$10:$AU$13,4,FALSE)),0,VLOOKUP(X18,DKO_16_Joueurs!$AN$10:$AU$13,4,FALSE)),IF(ISERROR(VLOOKUP(X18,DKO_16_Joueurs!$AN$14:$AU$21,4,FALSE)),0,VLOOKUP(X18,DKO_16_Joueurs!$AN$14:$AU$21,4,FALSE)),IF(ISERROR(VLOOKUP(X18,DKO_16_Joueurs!$AN$22:$AU$29,4,FALSE)),0,VLOOKUP(X18,DKO_16_Joueurs!$AN$22:$AU$29,4,FALSE)),IF(ISERROR(VLOOKUP(X18,DKO_16_Joueurs!$AN$30:$AU$45,4,FALSE)),0,VLOOKUP(X18,DKO_16_Joueurs!$AN$30:$AU$45,4,FALSE)),IF(ISERROR(VLOOKUP(X18,DKO_16_Joueurs!$AN$46:$AU$61,4,FALSE)),0,VLOOKUP(X18,DKO_16_Joueurs!$AN$46:$AU$61,4,FALSE))))","v":""},{"$f":"IF(X18=\"\",\"\",MAX(IF(ISERROR(VLOOKUP(X18,DKO_16_Joueurs!$AN$8:$AU$9,7,FALSE)),0,VLOOKUP(X18,DKO_16_Joueurs!$AN$8:$AU$9,7,FALSE)),IF(ISERROR(VLOOKUP(X18,DKO_16_Joueurs!$AN$10:$AU$13,7,FALSE)),0,VLOOKUP(X18,DKO_16_Joueurs!$AN$10:$AU$13,7,FALSE)),IF(ISERROR(VLOOKUP(X18,DKO_16_Joueurs!$AN$14:$AU$21,7,FALSE)),0,VLOOKUP(X18,DKO_16_Joueurs!$AN$14:$AU$21,7,FALSE)),IF(ISERROR(VLOOKUP(X18,DKO_16_Joueurs!$AN$22:$AU$29,7,FALSE)),0,VLOOKUP(X18,DKO_16_Joueurs!$AN$22:$AU$29,7,FALSE)),IF(ISERROR(VLOOKUP(X18,DKO_16_Joueurs!$AN$30:$AU$45,7,FALSE)),0,VLOOKUP(X18,DKO_16_Joueurs!$AN$30:$AU$45,7,FALSE)),IF(ISERROR(VLOOKUP(X18,DKO_16_Joueurs!$AN$46:$AU$61,7,FALSE)),0,VLOOKUP(X18,DKO_16_Joueurs!$AN$46:$AU$61,7,FALSE))))","v":""},{"$f":"IF(X18=\"\",\"\",ROUNDDOWN(Z18/AA18,2))","v":""},null,null,{"$f":"IF(AK18=0,0,RANK(AK18,$AK$18:$AK$21)+4)","v":0},{"$f":"IF(OR(Q9=\"\",Q10=\"\",R9=\"\",R9=0),\"\",IF(Q9>Q10,P9,IF(Q10>Q9,P10,IF(Q9=Q10,IF(AND(U9<>\"\",U10<>\"\"),IF(U9>U10,P9,IF(U10>U9,P10,\"\")),\"\"),\"\"))))","v":""},2,0,{"$f":"IF(AH18=\"\",0,(SUMIF($AN$22:$AU$61,AH18,$AO$22:$AO$61)/SUMIF($AN$22:$AU$61,AH18,$AP$22:$AP$61))+(MAX(IF(ISERROR(VLOOKUP(AH18,DKO_16_Joueurs!$AN$22:$AU$29,5,FALSE)),0,VLOOKUP(AH18,DKO_16_Joueurs!$AN$22:$AU$29,5,FALSE)),IF(ISERROR(VLOOKUP(AH18,DKO_16_Joueurs!$AN$30:$AU$45,5,FALSE)),0,VLOOKUP(AH18,DKO_16_Joueurs!$AN$30:$AU$45,5,FALSE)),IF(ISERROR(VLOOKUP(AH18,DKO_16_Joueurs!$AN$46:$AU$61,5,FALSE)),0,VLOOKUP(AH18,DKO_16_Joueurs!$AN$46:$AU$61,5,FALSE)))/1000))","v":0},null,null,{"$f":"DKO_16_Joueurs!B52","v":""},{"$f":"DKO_16_Joueurs!C52","v":0},{"$f":"DKO_16_Joueurs!D52","v":0},{"$f":"DKO_16_Joueurs!E52","v":0},{"$f":"DKO_16_Joueurs!F52","v":0},{"$f":"DKO_16_Joueurs!G52","v":0},{"$f":"IF(AO18+AO19=0,0,IF(AO18>=AO19,AR18,0))","v":0},{"$f":"IF((AO18+AO19)=0,0,IF(AO18>AO19,2,IF(AO18<AO19,0,IF(AS18>AS19,2,0))))","v":0}]
[4,{"$f":"'Saisie des joueurs'!L21","v":0},null,null,null,null,null,null,{"$f":"IF(OR(C15=\"\",C16=\"\",D15=\"\",D15=0),\"\",IF(C15>C16,B15,IF(C16>C15,B16,IF(C15=C16,IF(AND(G15<>\"\",G16<>\"\"),IF(G15>G16,B15,IF(G16>G15,B16,\"\")),\"\"),\"\"))))","v":""},null,null,null,{"$f":"IF(AND(J19<>\"\",K19<>\"\",K19<>0),ROUNDDOWN(J19/K19,2),\"\")","v":""},null,null,{"$f":"P15","v":""},"ARBITRES",null,null,null,null,null,null,null,null,null,null,null,null,null,null,null,{"$f":"IF(AK19=0,0,RANK(AK19,$AK$18:$AK$21)+4)","v":0},{"$f":"IF(OR(Q17=\"\",Q18=\"\",R17=\"\",R17=0),\"\",IF(Q17>Q18,P17,IF(Q18>Q17,P18,IF(Q17=Q18,IF(AND(U17<>\"\",U18<>\"\"),IF(U17>U18,P17,IF(U18>U17,P18,\"\")),\"\"),\"\"))))","v":""},2,0,{"$f":"IF(AH19=\"\",0,(SUMIF($AN$22:$AU$61,AH19,$AO$22:$AO$61)/SUMIF($AN$22:$AU$61,AH19,$AP$22:$AP$61))+(MAX(IF(ISERROR(VLOOKUP(AH19,DKO_16_Joueurs!$AN$22:$AU$29,5,FALSE)),0,VLOOKUP(AH19,DKO_16_Joueurs!$AN$22:$AU$29,5,FALSE)),IF(ISERROR(VLOOKUP(AH19,DKO_16_Joueurs!$AN$30:$AU$45,5,FALSE)),0,VLOOKUP(AH19,DKO_16_Joueurs!$AN$30:$AU$45,5,FALSE)),IF(ISERROR(VLOOKUP(AH19,DKO_16_Joueurs!$AN$46:$AU$61,5,FALSE)),0,VLOOKUP(AH19,DKO_16_Joueurs!$AN$46:$AU$61,5,FALSE)))/1000))","v":0},null,null,{"$f":"DKO_16_Joueurs!B53","v":""},{"$f":"DKO_16_Joueurs!C53","v":0},{"$f":"AP18","v":0},{"$f":"DKO_16_Joueurs!E53","v":0},{"$f":"DKO_16_Joueurs!F53","v":0},{"$f":"DKO_16_Joueurs!G53","v":0},{"$f":"IF(AO18+AO19=0,0,IF(AO19>=AO18,AR19,0))","v":0},{"$f":"IF((AO18+AO19)=0,0,IF(AO18>AO19,0,IF(AO18<AO19,2,IF(AS18>AS19,0,2))))","v":0}]
[13,{"$f":"'Saisie des joueurs'!L30","v":0},null,null,null,null,null,null,{"$f":"IF(OR(C19=\"\",C20=\"\",D19=\"\",D19=0),\"\",IF(C19>C20,B19,IF(C20>C19,B20,IF(C19=C20,IF(AND(G19<>\"\",G20<>\"\"),IF(G19>G20,B19,IF(G20>G19,B20,\"\")),\"\"),\"\"))))","v":""},null,null,null,{"$f":"IF(AND(J20<>\"\",K19<>\"\",K19<>0),ROUNDDOWN(J20/K19,2),\"\")","v":""},null,null,null,null,null,null,null,null,null,7,{"$f":"IF(SUM($AK$10:$AK$13)=0,\"\",IF(ISERROR(VLOOKUP(3,$AG$10:$AH$13,2,FALSE)),\"\",VLOOKUP(3,$AG$10:$AH$13,2,FALSE)))","v":""},{"$f":"IF(X20=\"\",\"\",IF(SUMIF($AN$8:$AU$61,X20,$AU$8:$AU$61)=0,0,1/(COUNTIF($AN$8:$AU$61,X20)*2/SUMIF($AN$8:$AU$61,X20,$AU$8:$AU$61))))","v":""},{"$f":"IF(X20=\"\",\"\",SUMIF(DKO_16_Joueurs!$AN$8:$AU$61,X20,DKO_16_Joueurs!$AO$8:$AO$61))","v":""},{"$f":"IF(X20=\"\",\"\",SUMIF(DKO_16_Joueurs!$AN$8:$AU$61,X20,DKO_16_Joueurs!$AP$8:$AP$61))","v":""},{"$f":"IF(X20=\"\",\"\",MAX(IF(ISERROR(VLOOKUP(X20,DKO_16_Joueurs!$AN$8:$AU$9,4,FALSE)),0,VLOOKUP(X20,DKO_16_Joueurs!$AN$8:$AU$9,4,FALSE)),IF(ISERROR(VLOOKUP(X20,DKO_16_Joueurs!$AN$10:$AU$13,4,FALSE)),0,VLOOKUP(X20,DKO_16_Joueurs!$AN$10:$AU$13,4,FALSE)),IF(ISERROR(VLOOKUP(X20,DKO_16_Joueurs!$AN$14:$AU$21,4,FALSE)),0,VLOOKUP(X20,DKO_16_Joueurs!$AN$14:$AU$21,4,FALSE)),IF(ISERROR(VLOOKUP(X20,DKO_16_Joueurs!$AN$22:$AU$29,4,FALSE)),0,VLOOKUP(X20,DKO_16_Joueurs!$AN$22:$AU$29,4,FALSE)),IF(ISERROR(VLOOKUP(X20,DKO_16_Joueurs!$AN$30:$AU$45,4,FALSE)),0,VLOOKUP(X20,DKO_16_Joueurs!$AN$30:$AU$45,4,FALSE)),IF(ISERROR(VLOOKUP(X20,DKO_16_Joueurs!$AN$46:$AU$61,4,FALSE)),0,VLOOKUP(X20,DKO_16_Joueurs!$AN$46:$AU$61,4,FALSE))))","v":""},{"$f":"IF(X20=\"\",\"\",MAX(IF(ISERROR(VLOOKUP(X20,DKO_16_Joueurs!$AN$8:$AU$9,7,FALSE)),0,VLOOKUP(X20,DKO_16_Joueurs!$AN$8:$AU$9,7,FALSE)),IF(ISERROR(VLOOKUP(X20,DKO_16_Joueurs!$AN$10:$AU$13,7,FALSE)),0,VLOOKUP(X20,DKO_16_Joueurs!$AN$10:$AU$13,7,FALSE)),IF(ISERROR(VLOOKUP(X20,DKO_16_Joueurs!$AN$14:$AU$21,7,FALSE)),0,VLOOKUP(X20,DKO_16_Joueurs!$AN$14:$AU$21,7,FALSE)),IF(ISERROR(VLOOKUP(X20,DKO_16_Joueurs!$AN$22:$AU$29,7,FALSE)),0,VLOOKUP(X20,DKO_16_Joueurs!$AN$22:$AU$29,7,FALSE)),IF(ISERROR(VLOOKUP(X20,DKO_16_Joueurs!$AN$30:$AU$45,7,FALSE)),0,VLOOKUP(X20,DKO_16_Joueurs!$AN$30:$AU$45,7,FALSE)),IF(ISERROR(VLOOKUP(X20,DKO_16_Joueurs!$AN$46:$AU$61,7,FALSE)),0,VLOOKUP(X20,DKO_16_Joueurs!$AN$46:$AU$61,7,FALSE))))","v":""},{"$f":"IF(X20=\"\",\"\",ROUNDDOWN(Z20/AA20,2))","v":""},null,null,{"$f":"IF(AK20=0,0,RANK(AK20,$AK$18:$AK$21)+4)","v":0},{"$f":"IF(OR(Q25=\"\",Q26=\"\",R25=\"\",R25=0),\"\",IF(Q25>Q26,P25,IF(Q26>Q25,P26,IF(Q25=Q26,IF(AND(U25<>\"\",U26<>\"\"),IF(U25>U26,P25,IF(U26>U25,P26,\"\")),\"\"),\"\"))))","v":""},2,0,{"$f":"IF(AH20=\"\",0,(SUMIF($AN$22:$AU$61,AH20,$AO$22:$AO$61)/SUMIF($AN$22:$AU$61,AH20,$AP$22:$AP$61))+(MAX(IF(ISERROR(VLOOKUP(AH20,DKO_16_Joueurs!$AN$22:$AU$29,5,FALSE)),0,VLOOKUP(AH20,DKO_16_Joueurs!$AN$22:$AU$29,5,FALSE)),IF(ISERROR(VLOOKUP(AH20,DKO_16_Joueurs!$AN$30:$AU$45,5,FALSE)),0,VLOOKUP(AH20,DKO_16_Joueurs!$AN$30:$AU$45,5,FALSE)),IF(ISERROR(VLOOKUP(AH20,DKO_16_Joueurs!$AN$46:$AU$61,5,FALSE)),0,VLOOKUP(AH20,DKO_16_Joueurs!$AN$46:$AU$61,5,FALSE)))/1000))","v":0},null,null,{"$f":"DKO_16_Joueurs!B56","v":""},{"$f":"DKO_16_Joueurs!C56","v":0},{"$f":"DKO_16_Joueurs!D56","v":0},{"$f":"DKO_16_Joueurs!E56","v":0},{"$f":"DKO_16_Joueurs!F56","v":0},{"$f":"DKO_16_Joueurs!G56","v":0},{"$f":"IF(AO20+AO21=0,0,IF(AO20>=AO21,AR20,0))","v":0},{"$f":"IF((AO20+AO21)=0,0,IF(AO20>AO21,2,IF(AO20<AO21,0,IF(AS20>AS21,2,0))))","v":0}]
[null,{"$f":"B35","v":0},null,null,null,null,null,null,{"$f":"I35","v":""},"ARBITRES",null,{"$f":"I36","v":""},null,null,null,null,null,null,null,null,null,null,null,null,null,null,null,null,null,null,null,null,{"$f":"IF(AK21=0,0,RANK(AK21,$AK$18:$AK$21)+4)","v":0},{"$f":"IF(OR(Q33=\"\",Q34=\"\",R33=\"\",R33=0),\"\",IF(Q33>Q34,P33,IF(Q34>Q33,P34,IF(Q33=Q34,IF(AND(U33<>\"\",U34<>\"\"),IF(U33>U34,P33,IF(U34>U33,P34,\"\")),\"\"),\"\"))))","v":""},2,0,{"$f":"IF(AH21=\"\",0,(SUMIF($AN$22:$AU$61,AH21,$AO$22:$AO$61)/SUMIF($AN$22:$AU$61,AH21,$AP$22:$AP$61))+(MAX(IF(ISERROR(VLOOKUP(AH21,DKO_16_Joueurs!$AN$22:$AU$29,5,FALSE)),0,VLOOKUP(AH21,DKO_16_Joueurs!$AN$22:$AU$29,5,FALSE)),IF(ISERROR(VLOOKUP(AH21,DKO_16_Joueurs!$AN$30:$AU$45,5,FALSE)),0,VLOOKUP(AH21,DKO_16_Joueurs!$AN$30:$AU$45,5,FALSE)),IF(ISERROR(VLOOKUP(AH21,DKO_16_Joueurs!$AN$46:$AU$61,5,FALSE)),0,VLOOKUP(AH21,DKO_16_Joueurs!$AN$46:$AU$61,5,FALSE)))/1000))","v":0},null,null,{"$f":"DKO_16_Joueurs!B57","v":""},{"$f":"DKO_16_Joueurs!C57","v":0},{"$f":"AP20","v":0},{"$f":"DKO_16_Joueurs!E57","v":0},{"$f":"DKO_16_Joueurs!F57","v":0},{"$f":"DKO_16_Joueurs!G57","v":0},{"$f":"IF(AO20+AO21=0,0,IF(AO21>=AO20,AR21,0))","v":0},{"$f":"IF((AO20+AO21)=0,0,IF(AO20>AO21,0,IF(AO20<AO21,2,IF(AS20>AS21,0,2))))","v":0}]
["B1","Match 5",null,null,null,null,null,null,"Match 15   B7",null,null,null,null,null,null,{"$f":"IF(AG16=0,\"Q\",\"Qualifié N° \"&AG16)","v":"Q"}," ",null,null,null,null,{"$f":"IF(AG20=0,\"Q\",\"Qualifié N° \"&AG20)","v":"Q"},8,{"$f":"IF(SUM($AK$10:$AK$13)=0,\"\",IF(ISERROR(VLOOKUP(4,$AG$10:$AH$13,2,FALSE)),\"\",VLOOKUP(4,$AG$10:$AH$13,2,FALSE)))","v":""},{"$f":"IF(X22=\"\",\"\",IF(SUMIF($AN$8:$AU$61,X22,$AU$8:$AU$61)=0,0,1/(COUNTIF($AN$8:$AU$61,X22)*2/SUMIF($AN$8:$AU$61,X22,$AU$8:$AU$61))))","v":""},{"$f":"IF(X22=\"\",\"\",SUMIF(DKO_16_Joueurs!$AN$8:$AU$61,X22,DKO_16_Joueurs!$AO$8:$AO$61))","v":""},{"$f":"IF(X22=\"\",\"\",SUMIF(DKO_16_Joueurs!$AN$8:$AU$61,X22,DKO_16_Joueurs!$AP$8:$AP$61))","v":""},{"$f":"IF(X22=\"\",\"\",MAX(IF(ISERROR(VLOOKUP(X22,DKO_16_Joueurs!$AN$8:$AU$9,4,FALSE)),0,VLOOKUP(X22,DKO_16_Joueurs!$AN$8:$AU$9,4,FALSE)),IF(ISERROR(VLOOKUP(X22,DKO_16_Joueurs!$AN$10:$AU$13,4,FALSE)),0,VLOOKUP(X22,DKO_16_Joueurs!$AN$10:$AU$13,4,FALSE)),IF(ISERROR(VLOOKUP(X22,DKO_16_Joueurs!$AN$14:$AU$21,4,FALSE)),0,VLOOKUP(X22,DKO_16_Joueurs!$AN$14:$AU$21,4,FALSE)),IF(ISERROR(VLOOKUP(X22,DKO_16_Joueurs!$AN$22:$AU$29,4,FALSE)),0,VLOOKUP(X22,DKO_16_Joueurs!$AN$22:$AU$29,4,FALSE)),IF(ISERROR(VLOOKUP(X22,DKO_16_Joueurs!$AN$30:$AU$45,4,FALSE)),0,VLOOKUP(X22,DKO_16_Joueurs!$AN$30:$AU$45,4,FALSE)),IF(ISERROR(VLOOKUP(X22,DKO_16_Joueurs!$AN$46:$AU$61,4,FALSE)),0,VLOOKUP(X22,DKO_16_Joueurs!$AN$46:$AU$61,4,FALSE))))","v":""},{"$f":"IF(X22=\"\",\"\",MAX(IF(ISERROR(VLOOKUP(X22,DKO_16_Joueurs!$AN$8:$AU$9,7,FALSE)),0,VLOOKUP(X22,DKO_16_Joueurs!$AN$8:$AU$9,7,FALSE)),IF(ISERROR(VLOOKUP(X22,DKO_16_Joueurs!$AN$10:$AU$13,7,FALSE)),0,VLOOKUP(X22,DKO_16_Joueurs!$AN$10:$AU$13,7,FALSE)),IF(ISERROR(VLOOKUP(X22,DKO_16_Joueurs!$AN$14:$AU$21,7,FALSE)),0,VLOOKUP(X22,DKO_16_Joueurs!$AN$14:$AU$21,7,FALSE)),IF(ISERROR(VLOOKUP(X22,DKO_16_Joueurs!$AN$22:$AU$29,7,FALSE)),0,VLOOKUP(X22,DKO_16_Joueurs!$AN$22:$AU$29,7,FALSE)),IF(ISERROR(VLOOKUP(X22,DKO_16_Joueurs!$AN$30:$AU$45,7,FALSE)),0,VLOOKUP(X22,DKO_16_Joueurs!$AN$30:$AU$45,7,FALSE)),IF(ISERROR(VLOOKUP(X22,DKO_16_Joueurs!$AN$46:$AU$61,7,FALSE)),0,VLOOKUP(X22,DKO_16_Joueurs!$AN$46:$AU$61,7,FALSE))))","v":""},{"$f":"IF(X22=\"\",\"\",ROUNDDOWN(Z22/AA22,2))","v":""},null,"T3P",{"$f":"IF(AK22=0,0,RANK(AK22,$AK$22:$AK$25))+12","v":12},{"$f":"IF(OR(J11=\"\",J12=\"\",K11=\"\",K11=0),\"\",IF(J11<J12,I11,IF(J12<J11,I12,IF(J11=J12,IF(AND(N11<>\"\",N12<>\"\"),IF(N11<N12,I11,IF(N12<N11,I12,\"\")),\"\"),\"\"))))","v":""},2,0,{"$f":"IF(AH22=\"\",0,(SUMIF($AN$22:$AU$61,AH22,$AO$22:$AO$61)/SUMIF($AN$22:$AU$61,AH22,$AP$22:$AP$61))+(MAX(IF(ISERROR(VLOOKUP(AH22,DKO_16_Joueurs!$AN$22:$AU$29,5,FALSE)),0,VLOOKUP(AH22,DKO_16_Joueurs!$AN$22:$AU$29,5,FALSE)),IF(ISERROR(VLOOKUP(AH22,DKO_16_Joueurs!$AN$30:$AU$45,5,FALSE)),0,VLOOKUP(AH22,DKO_16_Joueurs!$AN$30:$AU$45,5,FALSE)),IF(ISERROR(VLOOKUP(AH22,DKO_16_Joueurs!$AN$46:$AU$61,5,FALSE)),0,VLOOKUP(AH22,DKO_16_Joueurs!$AN$46:$AU$61,5,FALSE)))/1000))","v":0},null,"T3",{"$f":"DKO_16_Joueurs!P9","v":""},{"$f":"DKO_16_Joueurs!Q9","v":0},{"$f":"DKO_16_Joueurs!R9","v":0},{"$f":"DKO_16_Joueurs!S9","v":0},{"$f":"DKO_16_Joueurs!T9","v":""},{"$f":"DKO_16_Joueurs!U9","v":0},{"$f":"IF(AO22+AO23=0,0,IF(AO22>=AO23,AR22,0))","v":0},{"$f":"IF((AO22+AO23)=0,0,IF(AO22>AO23,2,IF(AO22<AO23,0,IF(AS22>AS23,2,0))))","v":0}]
[3,{"$f":"'Saisie des joueurs'!L20","v":0},null,null,null,null,null,null,{"$f":"IF(OR(C23=\"\",C24=\"\",D23=\"\",D23=0),\"\",IF(C23>C24,B23,IF(C24>C23,B24,IF(C23=C24,IF(AND(G23<>\"\",G24<>\"\"),IF(G23>G24,B23,IF(G24>G23,B24,\"\")),\"\"),\"\"))))","v":""},null,null,null,{"$f":"IF(AND(J23<>\"\",K23<>\"\",K23<>0),ROUNDDOWN(J23/K23,2),\"\")","v":""},null,null,{"$f":"IF(AG16=0,\"\",AH16)","v":""},null,null,null,null,null,{"$f":"IF(AG20=0,\"\",AH20)","v":""},null,null,null,null,null,null,null,null,null,null,{"$f":"IF(AK23=0,0,RANK(AK23,$AK$22:$AK$25))+12","v":12},{"$f":"IF(OR(J15=\"\",J16=\"\",K15=\"\",K15=0),\"\",IF(J15<J16,I15,IF(J16<J15,I16,IF(J15=J16,IF(AND(N15<>\"\",N16<>\"\"),IF(N15<N16,I15,IF(N16<N15,I16,\"\")),\"\"),\"\"))))","v":""},2,0,{"$f":"IF(AH23=\"\",0,(SUMIF($AN$22:$AU$61,AH23,$AO$22:$AO$61)/SUMIF($AN$22:$AU$61,AH23,$AP$22:$AP$61))+(MAX(IF(ISERROR(VLOOKUP(AH23,DKO_16_Joueurs!$AN$22:$AU$29,5,FALSE)),0,VLOOKUP(AH23,DKO_16_Joueurs!$AN$22:$AU$29,5,FALSE)),IF(ISERROR(VLOOKUP(AH23,DKO_16_Joueurs!$AN$30:$AU$45,5,FALSE)),0,VLOOKUP(AH23,DKO_16_Joueurs!$AN$30:$AU$45,5,FALSE)),IF(ISERROR(VLOOKUP(AH23,DKO_16_Joueurs!$AN$46:$AU$61,5,FALSE)),0,VLOOKUP(AH23,DKO_16_Joueurs!$AN$46:$AU$61,5,FALSE)))/1000))","v":0},null,null,{"$f":"DKO_16_Joueurs!P10","v":""},{"$f":"DKO_16_Joueurs!Q10","v":0},{"$f":"AP22","v":0},{"$f":"DKO_16_Joueurs!S10","v":0},{"$f":"DKO_16_Joueurs!T10","v":""},{"$f":"DKO_16_Joueurs!U10","v":0},{"$f":"IF(AO22+AO23=0,0,IF(AO23>=AO22,AR23,0))","v":0},{"$f":"IF((AO22+AO23)=0,0,IF(AO22>AO23,0,IF(AO22<AO23,2,IF(AS22>AS23,0,2))))","v":0}]
[14,{"$f":"'Saisie des joueurs'!L31","v":0},null,null,null,null,null,null,{"$f":"IF(OR(C27=\"\",C28=\"\",D27=\"\",D27=0),\"\",IF(C27>C28,B27,IF(C28>C27,B28,IF(C27=C28,IF(AND(G27<>\"\",G28<>\"\"),IF(G27>G28,B27,IF(G28>G27,B28,\"\")),\"\"),\"\"))))","v":""},null,null,null,{"$f":"IF(AND(J24<>\"\",K23<>\"\",K23<>0),ROUNDDOWN(J24/K23,2),\"\")","v":""},null,null,"Match 19   B9",null,null,null,null,null,null,9,{"$f":"IF(SUM($AK$22:$AK$29)=0,\"\",IF(ISERROR(VLOOKUP(W24,$AG$26:$AH$29,2,FALSE)),\"\",VLOOKUP(W24,$AG$26:$AH$29,2,FALSE)))","v":""},{"$f":"IF(X24=\"\",\"\",IF(SUMIF($AN$8:$AU$61,X24,$AU$8:$AU$61)=0,0,1/(COUNTIF($AN$8:$AU$61,X24)*2/SUMIF($AN$8:$AU$61,X24,$AU$8:$AU$61))))","v":""},{"$f":"IF(X24=\"\",\"\",SUMIF(DKO_16_Joueurs!$AN$8:$AU$61,X24,DKO_16_Joueurs!$AO$8:$AO$61))","v":""},{"$f":"IF(X24=\"\",\"\",SUMIF(DKO_16_Joueurs!$AN$8:$AU$61,X24,DKO_16_Joueurs!$AP$8:$AP$61))","v":""},{"$f":"IF(X24=\"\",\"\",MAX(IF(ISERROR(VLOOKUP(X24,DKO_16_Joueurs!$AN$8:$AU$9,4,FALSE)),0,VLOOKUP(X24,DKO_16_Joueurs!$AN$8:$AU$9,4,FALSE)),IF(ISERROR(VLOOKUP(X24,DKO_16_Joueurs!$AN$10:$AU$13,4,FALSE)),0,VLOOKUP(X24,DKO_16_Joueurs!$AN$10:$AU$13,4,FALSE)),IF(ISERROR(VLOOKUP(X24,DKO_16_Joueurs!$AN$14:$AU$21,4,FALSE)),0,VLOOKUP(X24,DKO_16_Joueurs!$AN$14:$AU$21,4,FALSE)),IF(ISERROR(VLOOKUP(X24,DKO_16_Joueurs!$AN$22:$AU$29,4,FALSE)),0,VLOOKUP(X24,DKO_16_Joueurs!$AN$22:$AU$29,4,FALSE)),IF(ISERROR(VLOOKUP(X24,DKO_16_Joueurs!$AN$30:$AU$45,4,FALSE)),0,VLOOKUP(X24,DKO_16_Joueurs!$AN$30:$AU$45,4,FALSE)),IF(ISERROR(VLOOKUP(X24,DKO_16_Joueurs!$AN$46:$AU$61,4,FALSE)),0,VLOOKUP(X24,DKO_16_Joueurs!$AN$46:$AU$61,4,FALSE))))","v":""},{"$f":"IF(X24=\"\",\"\",MAX(IF(ISERROR(VLOOKUP(X24,DKO_16_Joueurs!$AN$8:$AU$9,7,FALSE)),0,VLOOKUP(X24,DKO_16_Joueurs!$AN$8:$AU$9,7,FALSE)),IF(ISERROR(VLOOKUP(X24,DKO_16_Joueurs!$AN$10:$AU$13,7,FALSE)),0,VLOOKUP(X24,DKO_16_Joueurs!$AN$10:$AU$13,7,FALSE)),IF(ISERROR(VLOOKUP(X24,DKO_16_Joueurs!$AN$14:$AU$21,7,FALSE)),0,VLOOKUP(X24,DKO_16_Joueurs!$AN$14:$AU$21,7,FALSE)),IF(ISERROR(VLOOKUP(X24,DKO_16_Joueurs!$AN$22:$AU$29,7,FALSE)),0,VLOOKUP(X24,DKO_16_Joueurs!$AN$22:$AU$29,7,FALSE)),IF(ISERROR(VLOOKUP(X24,DKO_16_Joueurs!$AN$30:$AU$45,7,FALSE)),0,VLOOKUP(X24,DKO_16_Joueurs!$AN$30:$AU$45,7,FALSE)),IF(ISERROR(VLOOKUP(X24,DKO_16_Joueurs!$AN$46:$AU$61,7,FALSE)),0,VLOOKUP(X24,DKO_16_Joueurs!$AN$46:$AU$61,7,FALSE))))","v":""},{"$f":"IF(X24=\"\",\"\",ROUNDDOWN(Z24/AA24,2))","v":""},null,null,{"$f":"IF(AK24=0,0,RANK(AK24,$AK$22:$AK$25))+12","v":12},{"$f":"IF(OR(J27=\"\",J28=\"\",K27=\"\",K27=0),\"\",IF(J27<J28,I27,IF(J28<J27,I28,IF(J27=J28,IF(AND(N27<>\"\",N28<>\"\"),IF(N27<N28,I27,IF(N28<N27,I28,\"\")),\"\"),\"\"))))","v":""},2,0,{"$f":"IF(AH24=\"\",0,(SUMIF($AN$22:$AU$61,AH24,$AO$22:$AO$61)/SUMIF($AN$22:$AU$61,AH24,$AP$22:$AP$61))+(MAX(IF(ISERROR(VLOOKUP(AH24,DKO_16_Joueurs!$AN$22:$AU$29,5,FALSE)),0,VLOOKUP(AH24,DKO_16_Joueurs!$AN$22:$AU$29,5,FALSE)),IF(ISERROR(VLOOKUP(AH24,DKO_16_Joueurs!$AN$30:$AU$45,5,FALSE)),0,VLOOKUP(AH24,DKO_16_Joueurs!$AN$30:$AU$45,5,FALSE)),IF(ISERROR(VLOOKUP(AH24,DKO_16_Joueurs!$AN$46:$AU$61,5,FALSE)),0,VLOOKUP(AH24,DKO_16_Joueurs!$AN$46:$AU$61,5,FALSE)))/1000))","v":0},null,null,{"$f":"DKO_16_Joueurs!P17","v":""},{"$f":"DKO_16_Joueurs!Q17","v":0},{"$f":"DKO_16_Joueurs!R17","v":0},{"$f":"DKO_16_Joueurs!S17","v":0},{"$f":"DKO_16_Joueurs!T17","v":""},{"$f":"DKO_16_Joueurs!U17","v":0},{"$f":"IF(AO24+AO25=0,0,IF(AO24>=AO25,AR24,0))","v":0},{"$f":"IF((AO24+AO25)=0,0,IF(AO24>AO25,2,IF(AO24<AO25,0,IF(AS24>AS25,2,0))))","v":0}]
[null,{"$f":"B7","v":0},"ARBITRES",null,{"$f":"B8","v":0},null,null,null,{"$f":"B7","v":0},"ARBITRES",null,{"$f":"B20","v":0},null,null,null,{"$f":"IF(OR(J23=\"\",J24=\"\",K23=\"\",K23=0),\"\",IF(J23<J24,I23,IF(J24<J23,I24,IF(J23=J24,IF(AND(N23<>\"\",N24<>\"\"),IF(N23<N24,I23,IF(N24<N23,I24,\"\")),\"\"),\"\"))))","v":""},null,null,null,{"$f":"IF(AND(Q25<>\"\",R25<>\"\",R25<>0),ROUNDDOWN(Q25/R25,2),\"\")","v":""},null,null,null,null,null,null,null,null,null,null,null,null,{"$f":"IF(AK25=0,0,RANK(AK25,$AK$22:$AK$25))+12","v":12},{"$f":"IF(OR(J31=\"\",J32=\"\",K31=\"\",K31=0),\"\",IF(J31<J32,I31,IF(J32<J31,I32,IF(J31=J32,IF(AND(N31<>\"\",N32<>\"\"),IF(N31<N32,I31,IF(N32<N31,I32,\"\")),\"\"),\"\"))))","v":""},2,0,{"$f":"IF(AH25=\"\",0,(SUMIF($AN$22:$AU$61,AH25,$AO$22:$AO$61)/SUMIF($AN$22:$AU$61,AH25,$AP$22:$AP$61))+(MAX(IF(ISERROR(VLOOKUP(AH25,DKO_16_Joueurs!$AN$22:$AU$29,5,FALSE)),0,VLOOKUP(AH25,DKO_16_Joueurs!$AN$22:$AU$29,5,FALSE)),IF(ISERROR(VLOOKUP(AH25,DKO_16_Joueurs!$AN$30:$AU$45,5,FALSE)),0,VLOOKUP(AH25,DKO_16_Joueurs!$AN$30:$AU$45,5,FALSE)),IF(ISERROR(VLOOKUP(AH25,DKO_16_Joueurs!$AN$46:$AU$61,5,FALSE)),0,VLOOKUP(AH25,DKO_16_Joueurs!$AN$46:$AU$61,5,FALSE)))/1000))","v":0},null,null,{"$f":"DKO_16_Joueurs!P18","v":""},{"$f":"DKO_16_Joueurs!Q18","v":0},{"$f":"AP24","v":0},{"$f":"DKO_16_Joueurs!S18","v":0},{"$f":"DKO_16_Joueurs!T18","v":""},{"$f":"DKO_16_Joueurs!U18","v":0},{"$f":"IF(AO24+AO25=0,0,IF(AO25>=AO24,AR25,0))","v":0},{"$f":"IF((AO24+AO25)=0,0,IF(AO24>AO25,0,IF(AO24<AO25,2,IF(AS24>AS25,0,2))))","v":0}]
["B2","Match 6",null,null,null,null,null,null,"Match 13   B5",null,null,null,null,null,null,{"$f":"IF(OR(J31=\"\",J32=\"\",K31=\"\",K31=0),\"\",IF(J31>J32,I31,IF(J32>J31,I32,IF(J31=J32,IF(AND(N31<>\"\",N32<>\"\"),IF(N31>N32,I31,IF(N32>N31,I32,\"\")),\"\"),\"\"))))","v":""},null,null,null,{"$f":"IF(AND(Q26<>\"\",R25<>\"\",R25<>0),ROUNDDOWN(Q26/R25,2),\"\")","v":""},null,null,10,{"$f":"IF(SUM($AK$22:$AK$29)=0,\"\",IF(ISERROR(VLOOKUP(W26,$AG$26:$AH$29,2,FALSE)),\"\",VLOOKUP(W26,$AG$26:$AH$29,2,FALSE)))","v":""},{"$f":"IF(X26=\"\",\"\",IF(SUMIF($AN$8:$AU$61,X26,$AU$8:$AU$61)=0,0,1/(COUNTIF($AN$8:$AU$61,X26)*2/SUMIF($AN$8:$AU$61,X26,$AU$8:$AU$61))))","v":""},{"$f":"IF(X26=\"\",\"\",SUMIF(DKO_16_Joueurs!$AN$8:$AU$61,X26,DKO_16_Joueurs!$AO$8:$AO$61))","v":""},{"$f":"IF(X26=\"\",\"\",SUMIF(DKO_16_Joueurs!$AN$8:$AU$61,X26,DKO_16_Joueurs!$AP$8:$AP$61))","v":""},{"$f":"IF(X26=\"\",\"\",MAX(IF(ISERROR(VLOOKUP(X26,DKO_16_Joueurs!$AN$8:$AU$9,4,FALSE)),0,VLOOKUP(X26,DKO_16_Joueurs!$AN$8:$AU$9,4,FALSE)),IF(ISERROR(VLOOKUP(X26,DKO_16_Joueurs!$AN$10:$AU$13,4,FALSE)),0,VLOOKUP(X26,DKO_16_Joueurs!$AN$10:$AU$13,4,FALSE)),IF(ISERROR(VLOOKUP(X26,DKO_16_Joueurs!$AN$14:$AU$21,4,FALSE)),0,VLOOKUP(X26,DKO_16_Joueurs!$AN$14:$AU$21,4,FALSE)),IF(ISERROR(VLOOKUP(X26,DKO_16_Joueurs!$AN$22:$AU$29,4,FALSE)),0,VLOOKUP(X26,DKO_16_Joueurs!$AN$22:$AU$29,4,FALSE)),IF(ISERROR(VLOOKUP(X26,DKO_16_Joueurs!$AN$30:$AU$45,4,FALSE)),0,VLOOKUP(X26,DKO_16_Joueurs!$AN$30:$AU$45,4,FALSE)),IF(ISERROR(VLOOKUP(X26,DKO_16_Joueurs!$AN$46:$AU$61,4,FALSE)),0,VLOOKUP(X26,DKO_16_Joueurs!$AN$46:$AU$61,4,FALSE))))","v":""},{"$f":"IF(X26=\"\",\"\",MAX(IF(ISERROR(VLOOKUP(X26,DKO_16_Joueurs!$AN$8:$AU$9,7,FALSE)),0,VLOOKUP(X26,DKO_16_Joueurs!$AN$8:$AU$9,7,FALSE)),IF(ISERROR(VLOOKUP(X26,DKO_16_Joueurs!$AN$10:$AU$13,7,FALSE)),0,VLOOKUP(X26,DKO_16_Joueurs!$AN$10:$AU$13,7,FALSE)),IF(ISERROR(VLOOKUP(X26,DKO_16_Joueurs!$AN$14:$AU$21,7,FALSE)),0,VLOOKUP(X26,DKO_16_Joueurs!$AN$14:$AU$21,7,FALSE)),IF(ISERROR(VLOOKUP(X26,DKO_16_Joueurs!$AN$22:$AU$29,7,FALSE)),0,VLOOKUP(X26,DKO_16_Joueurs!$AN$22:$AU$29,7,FALSE)),IF(ISERROR(VLOOKUP(X26,DKO_16_Joueurs!$AN$30:$AU$45,7,FALSE)),0,VLOOKUP(X26,DKO_16_Joueurs!$AN$30:$AU$45,7,FALSE)),IF(ISERROR(VLOOKUP(X26,DKO_16_Joueurs!$AN$46:$AU$61,7,FALSE)),0,VLOOKUP(X26,DKO_16_Joueurs!$AN$46:$AU$61,7,FALSE))))","v":""},{"$f":"IF(X26=\"\",\"\",ROUNDDOWN(Z26/AA26,2))","v":""},null,null,{"$f":"IF(AK26=0,0,RANK(AK26,$AK$26:$AK$29))+8","v":8},{"$f":"IF(OR(Q9=\"\",Q10=\"\",R9=\"\",R9=0),\"\",IF(Q9<Q10,P9,IF(Q10<Q9,P10,IF(Q9=Q10,IF(AND(U9<>\"\",U10<>\"\"),IF(U9<U10,P9,IF(U10<U9,P10,\"\")),\"\"),\"\"))))","v":""},2,0,{"$f":"IF(AH26=\"\",0,(SUMIF($AN$22:$AU$61,AH26,$AO$22:$AO$61)/SUMIF($AN$22:$AU$61,AH26,$AP$22:$AP$61))+(MAX(IF(ISERROR(VLOOKUP(AH26,DKO_16_Joueurs!$AN$22:$AU$29,5,FALSE)),0,VLOOKUP(AH26,DKO_16_Joueurs!$AN$22:$AU$29,5,FALSE)),IF(ISERROR(VLOOKUP(AH26,DKO_16_Joueurs!$AN$30:$AU$45,5,FALSE)),0,VLOOKUP(AH26,DKO_16_Joueurs!$AN$30:$AU$45,5,FALSE)),IF(ISERROR(VLOOKUP(AH26,DKO_16_Joueurs!$AN$46:$AU$61,5,FALSE)),0,VLOOKUP(AH26,DKO_16_Joueurs!$AN$46:$AU$61,5,FALSE)))/1000))","v":0},null,null,{"$f":"DKO_16_Joueurs!P25","v":""},{"$f":"DKO_16_Joueurs!Q25","v":0},{"$f":"DKO_16_Joueurs!R25","v":0},{"$f":"DKO_16_Joueurs!S25","v":0},{"$f":"DKO_16_Joueurs!T25","v":""},{"$f":"DKO_16_Joueurs!U25","v":0},{"$f":"IF(AO26+AO27=0,0,IF(AO26>=AO27,AR26,0))","v":0},{"$f":"IF((AO26+AO27)=0,0,IF(AO26>AO27,2,IF(AO26<AO27,0,IF(AS26>AS27,2,0))))","v":0}]
[6,{"$f":"'Saisie des joueurs'!L23","v":0},null,null,null,null,null,null,{"$f":"IF(OR(C23=\"\",C24=\"\",D23=\"\",D23=0),\"\",IF(C23<C24,B23,IF(C24<C23,B24,IF(C23=C24,IF(AND(G23<>\"\",G24<>\"\"),IF(G23<G24,B23,IF(G24<G23,B24,\"\")),\"\"),\"\"))))","v":""},null,null,null,{"$f":"IF(AND(J27<>\"\",K27<>\"\",K27<>0),ROUNDDOWN(J27/K27,2),\"\")","v":""},null,null,{"$f":"P23","v":""},"ARBITRES",null,null,null,null,null,null,null,null,null,null,null,null,null,null,null,{"$f":"IF(AK27=0,0,RANK(AK27,$AK$26:$AK$29))+8","v":8},{"$f":"IF(OR(Q17=\"\",Q18=\"\",R17=\"\",R17=0),\"\",IF(Q17<Q18,P17,IF(Q18<Q17,P18,IF(Q17=Q18,IF(AND(U17<>\"\",U18<>\"\"),IF(U17<U18,P17,IF(U18<U17,P18,\"\")),\"\"),\"\"))))","v":""},2,0,{"$f":"IF(AH27=\"\",0,(SUMIF($AN$22:$AU$61,AH27,$AO$22:$AO$61)/SUMIF($AN$22:$AU$61,AH27,$AP$22:$AP$61))+(MAX(IF(ISERROR(VLOOKUP(AH27,DKO_16_Joueurs!$AN$22:$AU$29,5,FALSE)),0,VLOOKUP(AH27,DKO_16_Joueurs!$AN$22:$AU$29,5,FALSE)),IF(ISERROR(VLOOKUP(AH27,DKO_16_Joueurs!$AN$30:$AU$45,5,FALSE)),0,VLOOKUP(AH27,DKO_16_Joueurs!$AN$30:$AU$45,5,FALSE)),IF(ISERROR(VLOOKUP(AH27,DKO_16_Joueurs!$AN$46:$AU$61,5,FALSE)),0,VLOOKUP(AH27,DKO_16_Joueurs!$AN$46:$AU$61,5,FALSE)))/1000))","v":0},null,null,{"$f":"DKO_16_Joueurs!P26","v":""},{"$f":"DKO_16_Joueurs!Q26","v":0},{"$f":"AP26","v":0},{"$f":"DKO_16_Joueurs!S26","v":0},{"$f":"DKO_16_Joueurs!T26","v":""},{"$f":"DKO_16_Joueurs!U26","v":0},{"$f":"IF(AO26+AO27=0,0,IF(AO27>=AO26,AR27,0))","v":0},{"$f":"IF((AO26+AO27)=0,0,IF(AO26>AO27,0,IF(AO26<AO27,2,IF(AS26>AS27,0,2))))","v":0}]
[11,{"$f":"'Saisie des joueurs'!L28","v":0},null,null,null,null,null,null,{"$f":"IF(OR(C27=\"\",C28=\"\",D27=\"\",D27=0),\"\",IF(C27<C28,B27,IF(C28<C27,B28,IF(C27=C28,IF(AND(G27<>\"\",G28<>\"\"),IF(G27<G28,B27,IF(G28<G27,B28,\"\")),\"\"),\"\"))))","v":""},null,null,null,{"$f":"IF(AND(J28<>\"\",K27<>\"\",K27<>0),ROUNDDOWN(J28/K27,2),\"\")","v":""},null,null,null,null,null,null,null,null,null,11,{"$f":"IF(SUM($AK$22:$AK$29)=0,\"\",IF(ISERROR(VLOOKUP(W28,$AG$26:$AH$29,2,FALSE)),\"\",VLOOKUP(W28,$AG$26:$AH$29,2,FALSE)))","v":""},{"$f":"IF(X28=\"\",\"\",IF(SUMIF($AN$8:$AU$61,X28,$AU$8:$AU$61)=0,0,1/(COUNTIF($AN$8:$AU$61,X28)*2/SUMIF($AN$8:$AU$61,X28,$AU$8:$AU$61))))","v":""},{"$f":"IF(X28=\"\",\"\",SUMIF(DKO_16_Joueurs!$AN$8:$AU$61,X28,DKO_16_Joueurs!$AO$8:$AO$61))","v":""},{"$f":"IF(X28=\"\",\"\",SUMIF(DKO_16_Joueurs!$AN$8:$AU$61,X28,DKO_16_Joueurs!$AP$8:$AP$61))","v":""},{"$f":"IF(X28=\"\",\"\",MAX(IF(ISERROR(VLOOKUP(X28,DKO_16_Joueurs!$AN$8:$AU$9,4,FALSE)),0,VLOOKUP(X28,DKO_16_Joueurs!$AN$8:$AU$9,4,FALSE)),IF(ISERROR(VLOOKUP(X28,DKO_16_Joueurs!$AN$10:$AU$13,4,FALSE)),0,VLOOKUP(X28,DKO_16_Joueurs!$AN$10:$AU$13,4,FALSE)),IF(ISERROR(VLOOKUP(X28,DKO_16_Joueurs!$AN$14:$AU$21,4,FALSE)),0,VLOOKUP(X28,DKO_16_Joueurs!$AN$14:$AU$21,4,FALSE)),IF(ISERROR(VLOOKUP(X28,DKO_16_Joueurs!$AN$22:$AU$29,4,FALSE)),0,VLOOKUP(X28,DKO_16_Joueurs!$AN$22:$AU$29,4,FALSE)),IF(ISERROR(VLOOKUP(X28,DKO_16_Joueurs!$AN$30:$AU$45,4,FALSE)),0,VLOOKUP(X28,DKO_16_Joueurs!$AN$30:$AU$45,4,FALSE)),IF(ISERROR(VLOOKUP(X28,DKO_16_Joueurs!$AN$46:$AU$61,4,FALSE)),0,VLOOKUP(X28,DKO_16_Joueurs!$AN$46:$AU$61,4,FALSE))))","v":""},{"$f":"IF(X28=\"\",\"\",MAX(IF(ISERROR(VLOOKUP(X28,DKO_16_Joueurs!$AN$8:$AU$9,7,FALSE)),0,VLOOKUP(X28,DKO_16_Joueurs!$AN$8:$AU$9,7,FALSE)),IF(ISERROR(VLOOKUP(X28,DKO_16_Joueurs!$AN$10:$AU$13,7,FALSE)),0,VLOOKUP(X28,DKO_16_Joueurs!$AN$10:$AU$13,7,FALSE)),IF(ISERROR(VLOOKUP(X28,DKO_16_Joueurs!$AN$14:$AU$21,7,FALSE)),0,VLOOKUP(X28,DKO_16_Joueurs!$AN$14:$AU$21,7,FALSE)),IF(ISERROR(VLOOKUP(X28,DKO_16_Joueurs!$AN$22:$AU$29,7,FALSE)),0,VLOOKUP(X28,DKO_16_Joueurs!$AN$22:$AU$29,7,FALSE)),IF(ISERROR(VLOOKUP(X28,DKO_16_Joueurs!$AN$30:$AU$45,7,FALSE)),0,VLOOKUP(X28,DKO_16_Joueurs!$AN$30:$AU$45,7,FALSE)),IF(ISERROR(VLOOKUP(X28,DKO_16_Joueurs!$AN$46:$AU$61,7,FALSE)),0,VLOOKUP(X28,DKO_16_Joueurs!$AN$46:$AU$61,7,FALSE))))","v":""},{"$f":"IF(X28=\"\",\"\",ROUNDDOWN(Z28/AA28,2))","v":""},null,null,{"$f":"IF(AK28=0,0,RANK(AK28,$AK$26:$AK$29))+8","v":8},{"$f":"IF(OR(Q25=\"\",Q26=\"\",R25=\"\",R25=0),\"\",IF(Q25<Q26,P25,IF(Q26<Q25,P26,IF(Q25=Q26,IF(AND(U25<>\"\",U26<>\"\"),IF(U25<U26,P25,IF(U26<U25,P26,\"\")),\"\"),\"\"))))","v":""},2,0,{"$f":"IF(AH28=\"\",0,(SUMIF($AN$22:$AU$61,AH28,$AO$22:$AO$61)/SUMIF($AN$22:$AU$61,AH28,$AP$22:$AP$61))+(MAX(IF(ISERROR(VLOOKUP(AH28,DKO_16_Joueurs!$AN$22:$AU$29,5,FALSE)),0,VLOOKUP(AH28,DKO_16_Joueurs!$AN$22:$AU$29,5,FALSE)),IF(ISERROR(VLOOKUP(AH28,DKO_16_Joueurs!$AN$30:$AU$45,5,FALSE)),0,VLOOKUP(AH28,DKO_16_Joueurs!$AN$30:$AU$45,5,FALSE)),IF(ISERROR(VLOOKUP(AH28,DKO_16_Joueurs!$AN$46:$AU$61,5,FALSE)),0,VLOOKUP(AH28,DKO_16_Joueurs!$AN$46:$AU$61,5,FALSE)))/1000))","v":0},null,null,{"$f":"DKO_16_Joueurs!P33","v":""},{"$f":"DKO_16_Joueurs!Q33","v":0},{"$f":"DKO_16_Joueurs!R33","v":0},{"$f":"DKO_16_Joueurs!S33","v":0},{"$f":"DKO_16_Joueurs!T33","v":""},{"$f":"DKO_16_Joueurs!U33","v":0},{"$f":"IF(AO28+AO29=0,0,IF(AO28>=AO29,AR28,0))","v":0},{"$f":"IF((AO28+AO29)=0,0,IF(AO28>AO29,2,IF(AO28<AO29,0,IF(AS28>AS29,2,0))))","v":0}]
[null,{"$f":"B11","v":0},null,null,null,null,null,null,{"$f":"B11","v":0},"ARBITRES",null,{"$f":"B16","v":0},null,null,null,null,null,null,null,null,null,null,null,null,null,null,null,null,null,null,null,null,{"$f":"IF(AK29=0,0,RANK(AK29,$AK$26:$AK$29))+8","v":8},{"$f":"IF(OR(Q33=\"\",Q34=\"\",R33=\"\",R33=0),\"\",IF(Q33<Q34,P33,IF(Q34<Q33,P34,IF(Q33=Q34,IF(AND(U33<>\"\",U34<>\"\"),IF(U33<U34,P33,IF(U34<U33,P34,\"\")),\"\"),\"\"))))","v":""},2,0,{"$f":"IF(AH29=\"\",0,(SUMIF($AN$22:$AU$61,AH29,$AO$22:$AO$61)/SUMIF($AN$22:$AU$61,AH29,$AP$22:$AP$61))+(MAX(IF(ISERROR(VLOOKUP(AH29,DKO_16_Joueurs!$AN$22:$AU$29,5,FALSE)),0,VLOOKUP(AH29,DKO_16_Joueurs!$AN$22:$AU$29,5,FALSE)),IF(ISERROR(VLOOKUP(AH29,DKO_16_Joueurs!$AN$30:$AU$45,5,FALSE)),0,VLOOKUP(AH29,DKO_16_Joueurs!$AN$30:$AU$45,5,FALSE)),IF(ISERROR(VLOOKUP(AH29,DKO_16_Joueurs!$AN$46:$AU$61,5,FALSE)),0,VLOOKUP(AH29,DKO_16_Joueurs!$AN$46:$AU$61,5,FALSE)))/1000))","v":0},null,null,{"$f":"DKO_16_Joueurs!P34","v":""},{"$f":"DKO_16_Joueurs!Q34","v":0},{"$f":"AP28","v":0},{"$f":"DKO_16_Joueurs!S34","v":0},{"$f":"DKO_16_Joueurs!T34","v":""},{"$f":"DKO_16_Joueurs!U34","v":0},{"$f":"IF(AO28+AO29=0,0,IF(AO29>=AO28,AR29,0))","v":0},{"$f":"IF((AO28+AO29)=0,0,IF(AO28>AO29,0,IF(AO28<AO29,2,IF(AS28>AS29,0,2))))","v":0}]
["B3","Match 7",null,null,null,null,null,null,"Match 14   B6",null,null,null,null,null,null,{"$f":"IF(AG17=0,\"Q\",\"Qualifié N° \"&AG17)","v":"Q"},null,null,null,null,null,{"$f":"IF(AG21=0,\"Q\",\"Qualifié N° \"&AG21)","v":"Q"},12,{"$f":"IF(SUM($AK$22:$AK$29)=0,\"\",IF(ISERROR(VLOOKUP(W30,$AG$26:$AH$29,2,FALSE)),\"\",VLOOKUP(W30,$AG$26:$AH$29,2,FALSE)))","v":""},{"$f":"IF(X30=\"\",\"\",IF(SUMIF($AN$8:$AU$61,X30,$AU$8:$AU$61)=0,0,1/(COUNTIF($AN$8:$AU$61,X30)*2/SUMIF($AN$8:$AU$61,X30,$AU$8:$AU$61))))","v":""},{"$f":"IF(X30=\"\",\"\",SUMIF(DKO_16_Joueurs!$AN$8:$AU$61,X30,DKO_16_Joueurs!$AO$8:$AO$61))","v":""},{"$f":"IF(X30=\"\",\"\",SUMIF(DKO_16_Joueurs!$AN$8:$AU$61,X30,DKO_16_Joueurs!$AP$8:$AP$61))","v":""},{"$f":"IF(X30=\"\",\"\",MAX(IF(ISERROR(VLOOKUP(X30,DKO_16_Joueurs!$AN$8:$AU$9,4,FALSE)),0,VLOOKUP(X30,DKO_16_Joueurs!$AN$8:$AU$9,4,FALSE)),IF(ISERROR(VLOOKUP(X30,DKO_16_Joueurs!$AN$10:$AU$13,4,FALSE)),0,VLOOKUP(X30,DKO_16_Joueurs!$AN$10:$AU$13,4,FALSE)),IF(ISERROR(VLOOKUP(X30,DKO_16_Joueurs!$AN$14:$AU$21,4,FALSE)),0,VLOOKUP(X30,DKO_16_Joueurs!$AN$14:$AU$21,4,FALSE)),IF(ISERROR(VLOOKUP(X30,DKO_16_Joueurs!$AN$22:$AU$29,4,FALSE)),0,VLOOKUP(X30,DKO_16_Joueurs!$AN$22:$AU$29,4,FALSE)),IF(ISERROR(VLOOKUP(X30,DKO_16_Joueurs!$AN$30:$AU$45,4,FALSE)),0,VLOOKUP(X30,DKO_16_Joueurs!$AN$30:$AU$45,4,FALSE)),IF(ISERROR(VLOOKUP(X30,DKO_16_Joueurs!$AN$46:$AU$61,4,FALSE)),0,VLOOKUP(X30,DKO_16_Joueurs!$AN$46:$AU$61,4,FALSE))))","v":""},{"$f":"IF(X30=\"\",\"\",MAX(IF(ISERROR(VLOOKUP(X30,DKO_16_Joueurs!$AN$8:$AU$9,7,FALSE)),0,VLOOKUP(X30,DKO_16_Joueurs!$AN$8:$AU$9,7,FALSE)),IF(ISERROR(VLOOKUP(X30,DKO_16_Joueurs!$AN$10:$AU$13,7,FALSE)),0,VLOOKUP(X30,DKO_16_Joueurs!$AN$10:$AU$13,7,FALSE)),IF(ISERROR(VLOOKUP(X30,DKO_16_Joueurs!$AN$14:$AU$21,7,FALSE)),0,VLOOKUP(X30,DKO_16_Joueurs!$AN$14:$AU$21,7,FALSE)),IF(ISERROR(VLOOKUP(X30,DKO_16_Joueurs!$AN$22:$AU$29,7,FALSE)),0,VLOOKUP(X30,DKO_16_Joueurs!$AN$22:$AU$29,7,FALSE)),IF(ISERROR(VLOOKUP(X30,DKO_16_Joueurs!$AN$30:$AU$45,7,FALSE)),0,VLOOKUP(X30,DKO_16_Joueurs!$AN$30:$AU$45,7,FALSE)),IF(ISERROR(VLOOKUP(X30,DKO_16_Joueurs!$AN$46:$AU$61,7,FALSE)),0,VLOOKUP(X30,DKO_16_Joueurs!$AN$46:$AU$61,7,FALSE))))","v":""},{"$f":"IF(X30=\"\",\"\",ROUNDDOWN(Z30/AA30,2))","v":""},null,null,null,null,null,null,null,null,"T2",{"$f":"DKO_16_Joueurs!I7","v":""},{"$f":"DKO_16_Joueurs!J7","v":0},{"$f":"DKO_16_Joueurs!K7","v":0},{"$f":"DKO_16_Joueurs!L7","v":0},{"$f":"DKO_16_Joueurs!M7","v":""},{"$f":"DKO_16_Joueurs!N7","v":0},{"$f":"IF(AO30+AO31=0,0,IF(AO30>=AO31,AR30,0))","v":0},{"$f":"IF((AO30+AO31)=0,0,IF(AO30>AO31,2,IF(AO30<AO31,0,IF(AS30>AS31,2,0))))","v":0}]
[7,{"$f":"'Saisie des joueurs'!L24","v":0},null,null,null,null,null,null,{"$f":"IF(OR(C31=\"\",C32=\"\",D31=\"\",D31=0),\"\",IF(C31<C32,B31,IF(C32<C31,B32,IF(C31=C32,IF(AND(G31<>\"\",G32<>\"\"),IF(G31<G32,B31,IF(G32<G31,B32,\"\")),\"\"),\"\"))))","v":""},0,1,null,{"$f":"IF(AND(J31<>\"\",K31<>\"\",K31<>0),ROUNDDOWN(J31/K31,2),\"\")","v":0},null,null,{"$f":"IF(AG17=0,\"\",AH17)","v":""},null,null,null,null,null,{"$f":"IF(AG21=0,\"\",AH21)","v":""},null,null,null,null,null,null,null,null,null,null,null,null,null,null,null,null,null,{"$f":"DKO_16_Joueurs!I8","v":""},{"$f":"DKO_16_Joueurs!J8","v":0},{"$f":"AP30","v":0},{"$f":"DKO_16_Joueurs!L8","v":0},{"$f":"DKO_16_Joueurs!M8","v":""},{"$f":"DKO_16_Joueurs!N8","v":0},{"$f":"IF(AO30+AO31=0,0,IF(AO31>=AO30,AR31,0))","v":0},{"$f":"IF((AO30+AO31)=0,0,IF(AO30>AO31,0,IF(AO30<AO31,2,IF(AS30>AS31,0,2))))","v":0}]
[10,{"$f":"'Saisie des joueurs'!L27","v":0},null,null,null,null,null,null,{"$f":"IF(OR(C35=\"\",C36=\"\",D35=\"\",D35=0),\"\",IF(C35<C36,B35,IF(C36<C35,B36,IF(C35=C36,IF(AND(G35<>\"\",G36<>\"\"),IF(G35<G36,B35,IF(G36<G35,B36,\"\")),\"\"),\"\"))))","v":""},1,null,null,{"$f":"IF(AND(J32<>\"\",K31<>\"\",K31<>0),ROUNDDOWN(J32/K31,2),\"\")","v":1},null,null,"Match 20   B10",null,null,null,null,null,null,13,{"$f":"IF(SUM($AK$22:$AK$29)=0,\"\",IF(ISERROR(VLOOKUP(W32,$AG$22:$AH$25,2,FALSE)),\"\",VLOOKUP(W32,$AG$22:$AH$25,2,FALSE)))","v":""},{"$f":"IF(X32=\"\",\"\",IF(SUMIF($AN$8:$AU$61,X32,$AU$8:$AU$61)=0,0,1/(COUNTIF($AN$8:$AU$61,X32)*2/SUMIF($AN$8:$AU$61,X32,$AU$8:$AU$61))))","v":""},{"$f":"IF(X32=\"\",\"\",SUMIF(DKO_16_Joueurs!$AN$8:$AU$61,X32,DKO_16_Joueurs!$AO$8:$AO$61))","v":""},{"$f":"IF(X32=\"\",\"\",SUMIF(DKO_16_Joueurs!$AN$8:$AU$61,X32,DKO_16_Joueurs!$AP$8:$AP$61))","v":""},{"$f":"IF(X32=\"\",\"\",MAX(IF(ISERROR(VLOOKUP(X32,DKO_16_Joueurs!$AN$8:$AU$9,4,FALSE)),0,VLOOKUP(X32,DKO_16_Joueurs!$AN$8:$AU$9,4,FALSE)),IF(ISERROR(VLOOKUP(X32,DKO_16_Joueurs!$AN$10:$AU$13,4,FALSE)),0,VLOOKUP(X32,DKO_16_Joueurs!$AN$10:$AU$13,4,FALSE)),IF(ISERROR(VLOOKUP(X32,DKO_16_Joueurs!$AN$14:$AU$21,4,FALSE)),0,VLOOKUP(X32,DKO_16_Joueurs!$AN$14:$AU$21,4,FALSE)),IF(ISERROR(VLOOKUP(X32,DKO_16_Joueurs!$AN$22:$AU$29,4,FALSE)),0,VLOOKUP(X32,DKO_16_Joueurs!$AN$22:$AU$29,4,FALSE)),IF(ISERROR(VLOOKUP(X32,DKO_16_Joueurs!$AN$30:$AU$45,4,FALSE)),0,VLOOKUP(X32,DKO_16_Joueurs!$AN$30:$AU$45,4,FALSE)),IF(ISERROR(VLOOKUP(X32,DKO_16_Joueurs!$AN$46:$AU$61,4,FALSE)),0,VLOOKUP(X32,DKO_16_Joueurs!$AN$46:$AU$61,4,FALSE))))","v":""},{"$f":"IF(X32=\"\",\"\",MAX(IF(ISERROR(VLOOKUP(X32,DKO_16_Joueurs!$AN$8:$AU$9,7,FALSE)),0,VLOOKUP(X32,DKO_16_Joueurs!$AN$8:$AU$9,7,FALSE)),IF(ISERROR(VLOOKUP(X32,DKO_16_Joueurs!$AN$10:$AU$13,7,FALSE)),0,VLOOKUP(X32,DKO_16_Joueurs!$AN$10:$AU$13,7,FALSE)),IF(ISERROR(VLOOKUP(X32,DKO_16_Joueurs!$AN$14:$AU$21,7,FALSE)),0,VLOOKUP(X32,DKO_16_Joueurs!$AN$14:$AU$21,7,FALSE)),IF(ISERROR(VLOOKUP(X32,DKO_16_Joueurs!$AN$22:$AU$29,7,FALSE)),0,VLOOKUP(X32,DKO_16_Joueurs!$AN$22:$AU$29,7,FALSE)),IF(ISERROR(VLOOKUP(X32,DKO_16_Joueurs!$AN$30:$AU$45,7,FALSE)),0,VLOOKUP(X32,DKO_16_Joueurs!$AN$30:$AU$45,7,FALSE)),IF(ISERROR(VLOOKUP(X32,DKO_16_Joueurs!$AN$46:$AU$61,7,FALSE)),0,VLOOKUP(X32,DKO_16_Joueurs!$AN$46:$AU$61,7,FALSE))))","v":""},{"$f":"IF(X32=\"\",\"\",ROUNDDOWN(Z32/AA32,2))","v":""},null,null,null,null,null,null,null,null,null,{"$f":"DKO_16_Joueurs!I11","v":""},{"$f":"DKO_16_Joueurs!J11","v":0},{"$f":"DKO_16_Joueurs!K11","v":0},{"$f":"DKO_16_Joueurs!L11","v":0},{"$f":"DKO_16_Joueurs!M11","v":""},{"$f":"DKO_16_Joueurs!N11","v":0},{"$f":"IF(AO32+AO33=0,0,IF(AO32>=AO33,AR32,0))","v":0},{"$f":"IF((AO32+AO33)=0,0,IF(AO32>AO33,2,IF(AO32<AO33,0,IF(AS32>AS33,2,0))))","v":0}]
[null,{"$f":"B15","v":0},null,null,null,null,null,null,{"$f":"B15","v":0},"ARBITRES",null,{"$f":"B12","v":0},null,null,null,{"$f":"IF(OR(J27=\"\",J28=\"\",K27=\"\",K27=0),\"\",IF(J27>J28,I27,IF(J28>J27,I28,IF(J27=J28,IF(AND(N27<>\"\",N28<>\"\"),IF(N27>N28,I27,IF(N28>N27,I28,\"\")),\"\"),\"\"))))","v":""},null,null,null,{"$f":"IF(AND(Q33<>\"\",R33<>\"\",R33<>0),ROUNDDOWN(Q33/R33,2),\"\")","v":""},null,null,null,null,null,null,null,null,null,null,null,null,null,null,null,null,null,null,null,{"$f":"DKO_16_Joueurs!I12","v":""},{"$f":"DKO_16_Joueurs!J12","v":0},{"$f":"AP32","v":0},{"$f":"DKO_16_Joueurs!L12","v":0},{"$f":"DKO_16_Joueurs!M12","v":""},{"$f":"DKO_16_Joueurs!N12","v":0},{"$f":"IF(AO32+AO33=0,0,IF(AO33>=AO32,AR33,0))","v":0},{"$f":"IF((AO32+AO33)=0,0,IF(AO32>AO33,0,IF(AO32<AO33,2,IF(AS32>AS33,0,2))))","v":0}]
["B4","Match 8",null,null,null,null,null,null,"Match 16   B8",null,null,null,null,null,null,{"$f":"IF(OR(J35=\"\",J36=\"\",K35=\"\",K35=0),\"\",IF(J35<J36,I35,IF(J36<J35,I36,IF(J35=J36,IF(AND(N35<>\"\",N36<>\"\"),IF(N35<N36,I35,IF(N36<N35,I36,\"\")),\"\"),\"\"))))","v":""},null,null,null,{"$f":"IF(AND(Q34<>\"\",R33<>\"\",R33<>0),ROUNDDOWN(Q34/R33,2),\"\")","v":""},null,null,14,{"$f":"IF(SUM($AK$22:$AK$29)=0,\"\",IF(ISERROR(VLOOKUP(W34,$AG$22:$AH$25,2,FALSE)),\"\",VLOOKUP(W34,$AG$22:$AH$25,2,FALSE)))","v":""},{"$f":"IF(X34=\"\",\"\",IF(SUMIF($AN$8:$AU$61,X34,$AU$8:$AU$61)=0,0,1/(COUNTIF($AN$8:$AU$61,X34)*2/SUMIF($AN$8:$AU$61,X34,$AU$8:$AU$61))))","v":""},{"$f":"IF(X34=\"\",\"\",SUMIF(DKO_16_Joueurs!$AN$8:$AU$61,X34,DKO_16_Joueurs!$AO$8:$AO$61))","v":""},{"$f":"IF(X34=\"\",\"\",SUMIF(DKO_16_Joueurs!$AN$8:$AU$61,X34,DKO_16_Joueurs!$AP$8:$AP$61))","v":""},{"$f":"IF(X34=\"\",\"\",MAX(IF(ISERROR(VLOOKUP(X34,DKO_16_Joueurs!$AN$8:$AU$9,4,FALSE)),0,VLOOKUP(X34,DKO_16_Joueurs!$AN$8:$AU$9,4,FALSE)),IF(ISERROR(VLOOKUP(X34,DKO_16_Joueurs!$AN$10:$AU$13,4,FALSE)),0,VLOOKUP(X34,DKO_16_Joueurs!$AN$10:$AU$13,4,FALSE)),IF(ISERROR(VLOOKUP(X34,DKO_16_Joueurs!$AN$14:$AU$21,4,FALSE)),0,VLOOKUP(X34,DKO_16_Joueurs!$AN$14:$AU$21,4,FALSE)),IF(ISERROR(VLOOKUP(X34,DKO_16_Joueurs!$AN$22:$AU$29,4,FALSE)),0,VLOOKUP(X34,DKO_16_Joueurs!$AN$22:$AU$29,4,FALSE)),IF(ISERROR(VLOOKUP(X34,DKO_16_Joueurs!$AN$30:$AU$45,4,FALSE)),0,VLOOKUP(X34,DKO_16_Joueurs!$AN$30:$AU$45,4,FALSE)),IF(ISERROR(VLOOKUP(X34,DKO_16_Joueurs!$AN$46:$AU$61,4,FALSE)),0,VLOOKUP(X34,DKO_16_Joueurs!$AN$46:$AU$61,4,FALSE))))","v":""},{"$f":"IF(X34=\"\",\"\",MAX(IF(ISERROR(VLOOKUP(X34,DKO_16_Joueurs!$AN$8:$AU$9,7,FALSE)),0,VLOOKUP(X34,DKO_16_Joueurs!$AN$8:$AU$9,7,FALSE)),IF(ISERROR(VLOOKUP(X34,DKO_16_Joueurs!$AN$10:$AU$13,7,FALSE)),0,VLOOKUP(X34,DKO_16_Joueurs!$AN$10:$AU$13,7,FALSE)),IF(ISERROR(VLOOKUP(X34,DKO_16_Joueurs!$AN$14:$AU$21,7,FALSE)),0,VLOOKUP(X34,DKO_16_Joueurs!$AN$14:$AU$21,7,FALSE)),IF(ISERROR(VLOOKUP(X34,DKO_16_Joueurs!$AN$22:$AU$29,7,FALSE)),0,VLOOKUP(X34,DKO_16_Joueurs!$AN$22:$AU$29,7,FALSE)),IF(ISERROR(VLOOKUP(X34,DKO_16_Joueurs!$AN$30:$AU$45,7,FALSE)),0,VLOOKUP(X34,DKO_16_Joueurs!$AN$30:$AU$45,7,FALSE)),IF(ISERROR(VLOOKUP(X34,DKO_16_Joueurs!$AN$46:$AU$61,7,FALSE)),0,VLOOKUP(X34,DKO_16_Joueurs!$AN$46:$AU$61,7,FALSE))))","v":""},{"$f":"IF(X34=\"\",\"\",ROUNDDOWN(Z34/AA34,2))","v":""},null,null,null,null,null,null,null,null,null,{"$f":"DKO_16_Joueurs!I15","v":""},{"$f":"DKO_16_Joueurs!J15","v":0},{"$f":"DKO_16_Joueurs!K15","v":0},{"$f":"DKO_16_Joueurs!L15","v":0},{"$f":"DKO_16_Joueurs!M15","v":""},{"$f":"DKO_16_Joueurs!N15","v":0},{"$f":"IF(AO34+AO35=0,0,IF(AO34>=AO35,AR34,0))","v":0},{"$f":"IF((AO34+AO35)=0,0,IF(AO34>AO35,2,IF(AO34<AO35,0,IF(AS34>AS35,2,0))))","v":0}]
[2,{"$f":"'Saisie des joueurs'!L19","v":0},null,null,null,null,null,null,{"$f":"IF(OR(C31=\"\",C32=\"\",D31=\"\",D31=0),\"\",IF(C31>C32,B31,IF(C32>C31,B32,IF(C31=C32,IF(AND(G31<>\"\",G32<>\"\"),IF(G31>G32,B31,IF(G32>G31,B32,\"\")),\"\"),\"\"))))","v":""},null,null,null,{"$f":"IF(AND(J35<>\"\",K35<>\"\",K35<>0),ROUNDDOWN(J35/K35,2),\"\")","v":""},null,null,{"$f":"P31","v":""},"ARBITRES",null,null,null,null,null,null,null,null,null,null,null,null,null,null,null,null,null,null,null,null,null,null,{"$f":"DKO_16_Joueurs!I16","v":""},{"$f":"DKO_16_Joueurs!J16","v":0},{"$f":"AP34","v":0},{"$f":"DKO_16_Joueurs!L16","v":0},{"$f":"DKO_16_Joueurs!M16","v":""},{"$f":"DKO_16_Joueurs!N16","v":0},{"$f":"IF(AO34+AO35=0,0,IF(AO35>=AO34,AR35,0))","v":0},{"$f":"IF((AO34+AO35)=0,0,IF(AO34>AO35,0,IF(AO34<AO35,2,IF(AS34>AS35,0,2))))","v":0}]
[15,{"$f":"'Saisie des joueurs'!L32","v":0},null,null,null,null,null,null,{"$f":"IF(OR(C35=\"\",C36=\"\",D35=\"\",D35=0),\"\",IF(C35>C36,B35,IF(C36>C35,B36,IF(C35=C36,IF(AND(G35<>\"\",G36<>\"\"),IF(G35>G36,B35,IF(G36>G35,B36,\"\")),\"\"),\"\"))))","v":""},null,null,null,{"$f":"IF(AND(J36<>\"\",K35<>\"\",K35<>0),ROUNDDOWN(J36/K35,2),\"\")","v":""},null,null,null,null,null,null,null,null,null,15,{"$f":"IF(SUM($AK$22:$AK$29)=0,\"\",IF(ISERROR(VLOOKUP(W36,$AG$22:$AH$25,2,FALSE)),\"\",VLOOKUP(W36,$AG$22:$AH$25,2,FALSE)))","v":""},{"$f":"IF(X36=\"\",\"\",IF(SUMIF($AN$8:$AU$61,X36,$AU$8:$AU$61)=0,0,1/(COUNTIF($AN$8:$AU$61,X36)*2/SUMIF($AN$8:$AU$61,X36,$AU$8:$AU$61))))","v":""},{"$f":"IF(X36=\"\",\"\",SUMIF(DKO_16_Joueurs!$AN$8:$AU$61,X36,DKO_16_Joueurs!$AO$8:$AO$61))","v":""},{"$f":"IF(X36=\"\",\"\",SUMIF(DKO_16_Joueurs!$AN$8:$AU$61,X36,DKO_16_Joueurs!$AP$8:$AP$61))","v":""},{"$f":"IF(X36=\"\",\"\",MAX(IF(ISERROR(VLOOKUP(X36,DKO_16_Joueurs!$AN$8:$AU$9,4,FALSE)),0,VLOOKUP(X36,DKO_16_Joueurs!$AN$8:$AU$9,4,FALSE)),IF(ISERROR(VLOOKUP(X36,DKO_16_Joueurs!$AN$10:$AU$13,4,FALSE)),0,VLOOKUP(X36,DKO_16_Joueurs!$AN$10:$AU$13,4,FALSE)),IF(ISERROR(VLOOKUP(X36,DKO_16_Joueurs!$AN$14:$AU$21,4,FALSE)),0,VLOOKUP(X36,DKO_16_Joueurs!$AN$14:$AU$21,4,FALSE)),IF(ISERROR(VLOOKUP(X36,DKO_16_Joueurs!$AN$22:$AU$29,4,FALSE)),0,VLOOKUP(X36,DKO_16_Joueurs!$AN$22:$AU$29,4,FALSE)),IF(ISERROR(VLOOKUP(X36,DKO_16_Joueurs!$AN$30:$AU$45,4,FALSE)),0,VLOOKUP(X36,DKO_16_Joueurs!$AN$30:$AU$45,4,FALSE)),IF(ISERROR(VLOOKUP(X36,DKO_16_Joueurs!$AN$46:$AU$61,4,FALSE)),0,VLOOKUP(X36,DKO_16_Joueurs!$AN$46:$AU$61,4,FALSE))))","v":""},{"$f":"IF(X36=\"\",\"\",MAX(IF(ISERROR(VLOOKUP(X36,DKO_16_Joueurs!$AN$8:$AU$9,7,FALSE)),0,VLOOKUP(X36,DKO_16_Joueurs!$AN$8:$AU$9,7,FALSE)),IF(ISERROR(VLOOKUP(X36,DKO_16_Joueurs!$AN$10:$AU$13,7,FALSE)),0,VLOOKUP(X36,DKO_16_Joueurs!$AN$10:$AU$13,7,FALSE)),IF(ISERROR(VLOOKUP(X36,DKO_16_Joueurs!$AN$14:$AU$21,7,FALSE)),0,VLOOKUP(X36,DKO_16_Joueurs!$AN$14:$AU$21,7,FALSE)),IF(ISERROR(VLOOKUP(X36,DKO_16_Joueurs!$AN$22:$AU$29,7,FALSE)),0,VLOOKUP(X36,DKO_16_Joueurs!$AN$22:$AU$29,7,FALSE)),IF(ISERROR(VLOOKUP(X36,DKO_16_Joueurs!$AN$30:$AU$45,7,FALSE)),0,VLOOKUP(X36,DKO_16_Joueurs!$AN$30:$AU$45,7,FALSE)),IF(ISERROR(VLOOKUP(X36,DKO_16_Joueurs!$AN$46:$AU$61,7,FALSE)),0,VLOOKUP(X36,DKO_16_Joueurs!$AN$46:$AU$61,7,FALSE))))","v":""},{"$f":"IF(X36=\"\",\"\",ROUNDDOWN(Z36/AA36,2))","v":""},null,null,null,null,null,null,null,null,null,{"$f":"DKO_16_Joueurs!I19","v":""},{"$f":"DKO_16_Joueurs!J19","v":0},{"$f":"DKO_16_Joueurs!K19","v":0},{"$f":"DKO_16_Joueurs!L19","v":0},{"$f":"DKO_16_Joueurs!M19","v":""},{"$f":"DKO_16_Joueurs!N19","v":0},{"$f":"IF(AO36+AO37=0,0,IF(AO36>=AO37,AR36,0))","v":0},{"$f":"IF((AO36+AO37)=0,0,IF(AO36>AO37,2,IF(AO36<AO37,0,IF(AS36>AS37,2,0))))","v":0}]
[null,{"$f":"B19","v":0},"ARBITRES",null,{"$f":"B20","v":0},null,null,null,{"$f":"B19","v":0},"ARBITRES",null,{"$f":"B8","v":0},null,null,null,null,null,null,null,null,null,null,null,null,null,null,null,null,null,null,null,null,null,null,null,null,null,null,null,{"$f":"DKO_16_Joueurs!I20","v":""},{"$f":"DKO_16_Joueurs!J20","v":0},{"$f":"AP36","v":0},{"$f":"DKO_16_Joueurs!L20","v":0},{"$f":"DKO_16_Joueurs!M20","v":""},{"$f":"DKO_16_Joueurs!N20","v":0},{"$f":"IF(AO36+AO37=0,0,IF(AO37>=AO36,AR37,0))","v":0},{"$f":"IF((AO36+AO37)=0,0,IF(AO36>AO37,0,IF(AO36<AO37,2,IF(AS36>AS37,0,2))))","v":0}]
[null,null,null,null,null,null,null,null,null,null,null,null,null,null,null,null,null,null,null,null,null,null,16,{"$f":"IF(SUM($AK$22:$AK$29)=0,\"\",IF(ISERROR(VLOOKUP(W38,$AG$22:$AH$25,2,FALSE)),\"\",VLOOKUP(W38,$AG$22:$AH$25,2,FALSE)))","v":""},{"$f":"IF(X38=\"\",\"\",IF(SUMIF($AN$8:$AU$61,X38,$AU$8:$AU$61)=0,0,1/(COUNTIF($AN$8:$AU$61,X38)*2/SUMIF($AN$8:$AU$61,X38,$AU$8:$AU$61))))","v":""},{"$f":"IF(X38=\"\",\"\",SUMIF(DKO_16_Joueurs!$AN$8:$AU$61,X38,DKO_16_Joueurs!$AO$8:$AO$61))","v":""},{"$f":"IF(X38=\"\",\"\",SUMIF(DKO_16_Joueurs!$AN$8:$AU$61,X38,DKO_16_Joueurs!$AP$8:$AP$61))","v":""},{"$f":"IF(X38=\"\",\"\",MAX(IF(ISERROR(VLOOKUP(X38,DKO_16_Joueurs!$AN$8:$AU$9,4,FALSE)),0,VLOOKUP(X38,DKO_16_Joueurs!$AN$8:$AU$9,4,FALSE)),IF(ISERROR(VLOOKUP(X38,DKO_16_Joueurs!$AN$10:$AU$13,4,FALSE)),0,VLOOKUP(X38,DKO_16_Joueurs!$AN$10:$AU$13,4,FALSE)),IF(ISERROR(VLOOKUP(X38,DKO_16_Joueurs!$AN$14:$AU$21,4,FALSE)),0,VLOOKUP(X38,DKO_16_Joueurs!$AN$14:$AU$21,4,FALSE)),IF(ISERROR(VLOOKUP(X38,DKO_16_Joueurs!$AN$22:$AU$29,4,FALSE)),0,VLOOKUP(X38,DKO_16_Joueurs!$AN$22:$AU$29,4,FALSE)),IF(ISERROR(VLOOKUP(X38,DKO_16_Joueurs!$AN$30:$AU$45,4,FALSE)),0,VLOOKUP(X38,DKO_16_Joueurs!$AN$30:$AU$45,4,FALSE)),IF(ISERROR(VLOOKUP(X38,DKO_16_Joueurs!$AN$46:$AU$61,4,FALSE)),0,VLOOKUP(X38,DKO_16_Joueurs!$AN$46:$AU$61,4,FALSE))))","v":""},{"$f":"IF(X38=\"\",\"\",MAX(IF(ISERROR(VLOOKUP(X38,DKO_16_Joueurs!$AN$8:$AU$9,7,FALSE)),0,VLOOKUP(X38,DKO_16_Joueurs!$AN$8:$AU$9,7,FALSE)),IF(ISERROR(VLOOKUP(X38,DKO_16_Joueurs!$AN$10:$AU$13,7,FALSE)),0,VLOOKUP(X38,DKO_16_Joueurs!$AN$10:$AU$13,7,FALSE)),IF(ISERROR(VLOOKUP(X38,DKO_16_Joueurs!$AN$14:$AU$21,7,FALSE)),0,VLOOKUP(X38,DKO_16_Joueurs!$AN$14:$AU$21,7,FALSE)),IF(ISERROR(VLOOKUP(X38,DKO_16_Joueurs!$AN$22:$AU$29,7,FALSE)),0,VLOOKUP(X38,DKO_16_Joueurs!$AN$22:$AU$29,7,FALSE)),IF(ISERROR(VLOOKUP(X38,DKO_16_Joueurs!$AN$30:$AU$45,7,FALSE)),0,VLOOKUP(X38,DKO_16_Joueurs!$AN$30:$AU$45,7,FALSE)),IF(ISERROR(VLOOKUP(X38,DKO_16_Joueurs!$AN$46:$AU$61,7,FALSE)),0,VLOOKUP(X38,DKO_16_Joueurs!$AN$46:$AU$61,7,FALSE))))","v":""},{"$f":"IF(X38=\"\",\"\",ROUNDDOWN(Z38/AA38,2))","v":""},null,null,null,null,null,null,null,null,null,{"$f":"DKO_16_Joueurs!I23","v":""},{"$f":"DKO_16_Joueurs!J23","v":0},{"$f":"DKO_16_Joueurs!K23","v":0},{"$f":"DKO_16_Joueurs!L23","v":0},{"$f":"DKO_16_Joueurs!M23","v":""},{"$f":"DKO_16_Joueurs!N23","v":0},{"$f":"IF(AO38+AO39=0,0,IF(AO38>=AO39,AR38,0))","v":0},{"$f":"IF((AO38+AO39)=0,0,IF(AO38>AO39,2,IF(AO38<AO39,0,IF(AS38>AS39,2,0))))","v":0}]
[null,null,null,null,null,null,null,null,null,null,null,null,null,null,null,null,null,null,null,null,null,null,null,null,null,null,null,null,null,null,null,null,null,null,null,null,null,null,null,{"$f":"DKO_16_Joueurs!I24","v":""},{"$f":"DKO_16_Joueurs!J24","v":0},{"$f":"AP38","v":0},{"$f":"DKO_16_Joueurs!L24","v":0},{"$f":"DKO_16_Joueurs!M24","v":""},{"$f":"DKO_16_Joueurs!N24","v":0},{"$f":"IF(AO38+AO39=0,0,IF(AO39>=AO38,AR39,0))","v":0},{"$f":"IF((AO38+AO39)=0,0,IF(AO38>AO39,0,IF(AO38<AO39,2,IF(AS38>AS39,0,2))))","v":0}]
[null,"Phase 4 - 1/4 de Finale",null,null,null,null,null,null,"Phase 5 - 1/2 Finale",null,null,null,null,null,null,"Phase 6 - Finale",null,null,null,null,null,null,null,null,null,{"$f":"SUM(Z8:Z39)","v":0},{"$f":"SUM(AA8:AA39)","v":0},{"$f":"MAX(AB8:AB39)","v":0},{"$f":"MAX(AC8:AC39)","v":0},{"$f":"IF(Z40=0,0,Z40/AA40)","v":0},null,null,null,null,null,null,null,null,null,{"$f":"DKO_16_Joueurs!I27","v":""},{"$f":"DKO_16_Joueurs!J27","v":0},{"$f":"DKO_16_Joueurs!K27","v":0},{"$f":"DKO_16_Joueurs!L27","v":0},{"$f":"DKO_16_Joueurs!M27","v":""},{"$f":"DKO_16_Joueurs!N27","v":0},{"$f":"IF(AO40+AO41=0,0,IF(AO40>=AO41,AR40,0))","v":0},{"$f":"IF((AO40+AO41)=0,0,IF(AO40>AO41,2,IF(AO40<AO41,0,IF(AS40>AS41,2,0))))","v":0}]
[null,null,null,null,null,null,null,null,null,null,null,null,null,null,null,null,null,null,null,null,null,null,null,null,null,null,null,null,null,null,null,null,null,null,null,null,null,null,null,{"$f":"DKO_16_Joueurs!I28","v":""},{"$f":"DKO_16_Joueurs!J28","v":0},{"$f":"AP40","v":0},{"$f":"DKO_16_Joueurs!L28","v":0},{"$f":"DKO_16_Joueurs!M28","v":""},{"$f":"DKO_16_Joueurs!N28","v":0},{"$f":"IF(AO40+AO41=0,0,IF(AO41>=AO40,AR41,0))","v":0},{"$f":"IF((AO40+AO41)=0,0,IF(AO40>AO41,0,IF(AO40<AO41,2,IF(AS40>AS41,0,2))))","v":0}]
[null,null,null,null,null,null,null,null,null,null,null,null,null,null,null,null,null,null,null,null,null,null,null,null,null,null,null,null,null,null,null,null,null,null,null,null,null,null,null,{"$f":"DKO_16_Joueurs!I31","v":""},{"$f":"DKO_16_Joueurs!J31","v":0},{"$f":"DKO_16_Joueurs!K31","v":1},{"$f":"DKO_16_Joueurs!L31","v":0},{"$f":"DKO_16_Joueurs!M31","v":0},{"$f":"DKO_16_Joueurs!N31","v":0},{"$f":"IF(AO42+AO43=0,0,IF(AO42>=AO43,AR42,0))","v":0},{"$f":"IF((AO42+AO43)=0,0,IF(AO42>AO43,2,IF(AO42<AO43,0,IF(AS42>AS43,2,0))))","v":0}]
[null,"Match 21 ","pts","rep","serie","moy","p°",null,null,null,null,null,null,null,null,null,null,null,null,null,null,null,null,null,null,null,null,null,null,null,null,null,null,null,null,null,null,null,null,{"$f":"DKO_16_Joueurs!I32","v":""},{"$f":"DKO_16_Joueurs!J32","v":1},{"$f":"AP42","v":1},{"$f":"DKO_16_Joueurs!L32","v":0},{"$f":"DKO_16_Joueurs!M32","v":1},{"$f":"DKO_16_Joueurs!N32","v":0},{"$f":"IF(AO42+AO43=0,0,IF(AO43>=AO42,AR43,0))","v":1},{"$f":"IF((AO42+AO43)=0,0,IF(AO42>AO43,0,IF(AO42<AO43,2,IF(AS42>AS43,0,2))))","v":2}]
["Q 1",{"$f":"IF(ISERROR(VLOOKUP(1,$AG$14:$AH$21,2,FALSE)),\"\",VLOOKUP(1,$AG$14:$AH$21,2,FALSE))","v":""},null,null,null,{"$f":"IF(AND(C44<>\"\",D44<>\"\",D44<>0),ROUNDDOWN(C44/D44,2),\"\")","v":""},null,null,null,null,null,null,null,null,null,null,null,null,null,null,null,null,null,null,null,null,null,null,null,null,null,null,null,null,null,null,null,null,null,{"$f":"DKO_16_Joueurs!I35","v":""},{"$f":"DKO_16_Joueurs!J35","v":0},{"$f":"DKO_16_Joueurs!K35","v":0},{"$f":"DKO_16_Joueurs!L35","v":0},{"$f":"DKO_16_Joueurs!M35","v":""},{"$f":"DKO_16_Joueurs!N35","v":0},{"$f":"IF(AO44+AO45=0,0,IF(AO44>=AO45,AR44,0))","v":0},{"$f":"IF((AO44+AO45)=0,0,IF(AO44>AO45,2,IF(AO44<AO45,0,IF(AS44>AS45,2,0))))","v":0}]
["Q 8",{"$f":"IF(ISERROR(VLOOKUP(8,$AG$14:$AH$21,2,FALSE)),\"\",VLOOKUP(8,$AG$14:$AH$21,2,FALSE))","v":""},null,null,null,{"$f":"IF(AND(C45<>\"\",D44<>\"\",D44<>0),ROUNDDOWN(C45/D44,2),\"\")","v":""},null,null,"Match 25","pts","rep","serie","moy","p°",null,null,null,null,null,null,null,null,null,null,null,null,null,null,null,null,null,null,null,null,null,null,null,null,null,{"$f":"DKO_16_Joueurs!I36","v":""},{"$f":"DKO_16_Joueurs!J36","v":0},{"$f":"AP44","v":0},{"$f":"DKO_16_Joueurs!L36","v":0},{"$f":"DKO_16_Joueurs!M36","v":""},{"$f":"DKO_16_Joueurs!N36","v":0},{"$f":"IF(AO44+AO45=0,0,IF(AO45>=AO44,AR45,0))","v":0},{"$f":"IF((AO44+AO45)=0,0,IF(AO44>AO45,0,IF(AO44<AO45,2,IF(AS44>AS45,0,2))))","v":0}]
[null,{"$f":"IF(OR(P9=\"\",Q10=\"\",T9=\"\",T9=0),\"\",IF(Q9<Q10,P9,IF(Q10<Q9,P10,IF(Q9=Q10,IF(AND(U9<>\"\",U10<>\"\"),IF(U9<U10,P9,IF(U10<U9,P10,\"\")),\"\"),\"\"))))","v":""},"ARBITRES",null,null,null,null,null,{"$f":"IF(OR(C44=\"\",C45=\"\",D44=\"\",D44=0),\"\",IF(C44>C45,B44,IF(C45>C44,B45,IF(C44=C45,IF(AND(G44<>\"\",G45<>\"\"),IF(G44>G45,B44,IF(G45>G44,B45,\"\")),\"\"),\"\"))))","v":""},null,null,null,{"$f":"IF(AND(J46<>\"\",K46<>\"\",K46<>0),ROUNDDOWN(J46/K46,2),\"\")","v":""},null,null,null,null,null,null,null,null,null,null,null,null,null,null,null,null,null,null,null,null,null,null,null,null,null,"T1",{"$f":"DKO_16_Joueurs!B7","v":0},{"$f":"DKO_16_Joueurs!C7","v":0},{"$f":"DKO_16_Joueurs!D7","v":0},{"$f":"DKO_16_Joueurs!E7","v":0},{"$f":"DKO_16_Joueurs!F7","v":""},{"$f":"DKO_16_Joueurs!G7","v":0},{"$f":"IF(AO46+AO47=0,0,IF(AO46>=AO47,AR46,0))","v":0},{"$f":"IF((AO46+AO47)=0,0,IF(AO46>AO47,2,IF(AO46<AO47,0,IF(AS46>AS47,2,0))))","v":0}]
[null,"Match 24",null,null,null,null,null,null,{"$f":"IF(OR(C48=\"\",C49=\"\",D48=\"\",D48=0),\"\",IF(C48>C49,B48,IF(C49>C48,B49,IF(C48=C49,IF(AND(G48<>\"\",G49<>\"\"),IF(G48>G49,B48,IF(G49>G48,B49,\"\")),\"\"),\"\"))))","v":""},null,null,null,{"$f":"IF(AND(J47<>\"\",K46<>\"\",K46<>0),ROUNDDOWN(J47/K46,2),\"\")","v":""},null,null,null,null,null,null,null,null,null,null,null,null,null,null,null,null,null,null,null,null,null,null,null,null,null,null,{"$f":"DKO_16_Joueurs!B8","v":0},{"$f":"DKO_16_Joueurs!C8","v":0},{"$f":"AP46","v":0},{"$f":"DKO_16_Joueurs!E8","v":0},{"$f":"DKO_16_Joueurs!F8","v":""},{"$f":"DKO_16_Joueurs!G8","v":0},{"$f":"IF(AO46+AO47=0,0,IF(AO47>=AO46,AR47,0))","v":0},{"$f":"IF((AO46+AO47)=0,0,IF(AO46>AO47,0,IF(AO46<AO47,2,IF(AS46>AS47,0,2))))","v":0}]
["Q 4",{"$f":"IF(ISERROR(VLOOKUP(4,$AG$14:$AH$21,2,FALSE)),\"\",VLOOKUP(4,$AG$14:$AH$21,2,FALSE))","v":""},null,null,null,{"$f":"IF(AND(C48<>\"\",D48<>\"\",D48<>0),ROUNDDOWN(C48/D48,2),\"\")","v":""},null,null,{"$f":"IF(OR(B44=\"\",C45=\"\",F44=\"\",F44=0),\"\",IF(C44<C45,B44,IF(C45<C44,B45,IF(C44=C45,IF(AND(G44<>\"\",G45<>\"\"),IF(G44<G45,B44,IF(G45<G44,B45,\"\")),\"\"),\"\"))))","v":""},"ARBITRES",null,null,null,null,null,null,null,null,null,null,null,null,null,null,null,null,null,null,null,null,null,null,null,null,null,null,null,null,null,{"$f":"DKO_16_Joueurs!B11","v":0},{"$f":"DKO_16_Joueurs!C11","v":0},{"$f":"DKO_16_Joueurs!D11","v":0},{"$f":"DKO_16_Joueurs!E11","v":0},{"$f":"DKO_16_Joueurs!F11","v":""},{"$f":"DKO_16_Joueurs!G11","v":0},{"$f":"IF(AO48+AO49=0,0,IF(AO48>=AO49,AR48,0))","v":0},{"$f":"IF((AO48+AO49)=0,0,IF(AO48>AO49,2,IF(AO48<AO49,0,IF(AS48>AS49,2,0))))","v":0}]
["Q 5",{"$f":"IF(ISERROR(VLOOKUP(5,$AG$14:$AH$21,2,FALSE)),\"\",VLOOKUP(5,$AG$14:$AH$21,2,FALSE))","v":""},null,null,null,{"$f":"IF(AND(C49<>\"\",D48<>\"\",D48<>0),ROUNDDOWN(C49/D48,2),\"\")","v":""},null,null,null,null,null,null,null,null,null,"Match 27","pts","rep","serie","moy","p°",null,null,null,null,null,null,null,null,null,null,null,null,null,null,null,null,null,null,{"$f":"DKO_16_Joueurs!B12","v":0},{"$f":"DKO_16_Joueurs!C12","v":0},{"$f":"AP48","v":0},{"$f":"DKO_16_Joueurs!E12","v":0},{"$f":"DKO_16_Joueurs!F12","v":""},{"$f":"DKO_16_Joueurs!G12","v":0},{"$f":"IF(AO48+AO49=0,0,IF(AO49>=AO48,AR49,0))","v":0},{"$f":"IF((AO48+AO49)=0,0,IF(AO48>AO49,0,IF(AO48<AO49,2,IF(AS48>AS49,0,2))))","v":0}]
[null,{"$f":"IF(OR(J17=\"\",Q18=\"\",T17=\"\",T17=0),\"\",IF(Q17<Q18,P17,IF(Q18<Q17,P18,IF(Q17=Q18,IF(AND(U17<>\"\",U18<>\"\"),IF(U17<U18,P17,IF(U18<U17,P18,\"\")),\"\"),\"\"))))","v":""},"ARBITRES",null,null,null,null,null,null,null,null,null,null,null,null,{"$f":"IF(OR(J46=\"\",J47=\"\",K46=\"\",K46=0),\"\",IF(J46>J47,I46,IF(J47>J46,I47,IF(J46=J47,IF(AND(N46<>\"\",N47<>\"\"),IF(N46>N47,I46,IF(N47>N46,I47,\"\")),\"\"),\"\"))))","v":""},null,null,null,{"$f":"IF(AND(Q50<>\"\",R50<>\"\",R50<>0),ROUNDDOWN(Q50/R50,2),\"\")","v":""},null,null,null,null,null,null,null,null,null,null,null,null,null,null,null,null,null,null,null,{"$f":"DKO_16_Joueurs!B15","v":0},{"$f":"DKO_16_Joueurs!C15","v":0},{"$f":"DKO_16_Joueurs!D15","v":0},{"$f":"DKO_16_Joueurs!E15","v":0},{"$f":"DKO_16_Joueurs!F15","v":""},{"$f":"DKO_16_Joueurs!G15","v":0},{"$f":"IF(AO50+AO51=0,0,IF(AO50>=AO51,AR50,0))","v":0},{"$f":"IF((AO50+AO51)=0,0,IF(AO50>AO51,2,IF(AO50<AO51,0,IF(AS50>AS51,2,0))))","v":0}]
[null,"Match 23",null,null,null,null,null,null,null,null,null,null,null,null,null,{"$f":"IF(OR(J54=\"\",J55=\"\",K54=\"\",K54=0),\"\",IF(J54>J55,I54,IF(J55>J54,I55,IF(J54=J55,IF(AND(N54<>\"\",N55<>\"\"),IF(N54>N55,I54,IF(N55>N54,I55,\"\")),\"\"),\"\"))))","v":""},null,null,null,{"$f":"IF(AND(Q51<>\"\",R50<>\"\",R50<>0),ROUNDDOWN(Q51/R50,2),\"\")","v":""},null,null,null,null,null,null,null,null,null,null,null,null,null,null,null,null,null,null,null,{"$f":"DKO_16_Joueurs!B16","v":0},{"$f":"DKO_16_Joueurs!C16","v":0},{"$f":"AP50","v":0},{"$f":"DKO_16_Joueurs!E16","v":0},{"$f":"DKO_16_Joueurs!F16","v":""},{"$f":"DKO_16_Joueurs!G16","v":0},{"$f":"IF(AO50+AO51=0,0,IF(AO51>=AO50,AR51,0))","v":0},{"$f":"IF((AO50+AO51)=0,0,IF(AO50>AO51,0,IF(AO50<AO51,2,IF(AS50>AS51,0,2))))","v":0}]
["Q 3",{"$f":"IF(ISERROR(VLOOKUP(3,$AG$14:$AH$21,2,FALSE)),\"\",VLOOKUP(3,$AG$14:$AH$21,2,FALSE))","v":""},null,null,null,null,null,null,null,null,null,null,null,null,null,{"$f":"IF(OR(B48=\"\",C49=\"\",F48=\"\",F48=0),\"\",IF(C48<C49,B48,IF(C49<C48,B49,IF(C48=C49,IF(AND(G48<>\"\",G49<>\"\"),IF(G48<G49,B48,IF(G49<G48,B49,\"\")),\"\"),\"\"))))","v":""},"OU",null,{"$f":"IF(OR(B56=\"\",C57=\"\",F56=\"\",F56=0),\"\",IF(C56<C57,B56,IF(C57<C56,B57,IF(C56=C57,IF(AND(G56<>\"\",G57<>\"\"),IF(G56<G57,B56,IF(G57<G56,B57,\"\")),\"\"),\"\"))))","v":""},null,null,null,null,null,null,null,null,null,null,null,null,null,null,null,null,null,null,null,null,{"$f":"DKO_16_Joueurs!B19","v":0},{"$f":"DKO_16_Joueurs!C19","v":0},{"$f":"DKO_16_Joueurs!D19","v":0},{"$f":"DKO_16_Joueurs!E19","v":0},{"$f":"DKO_16_Joueurs!F19","v":0},{"$f":"DKO_16_Joueurs!G19","v":0},{"$f":"IF(AO52+AO53=0,0,IF(AO52>=AO53,AR52,0))","v":0},{"$f":"IF((AO52+AO53)=0,0,IF(AO52>AO53,2,IF(AO52<AO53,0,IF(AS52>AS53,2,0))))","v":0}]
["Q 6",{"$f":"IF(ISERROR(VLOOKUP(6,$AG$14:$AH$21,2,FALSE)),\"\",VLOOKUP(6,$AG$14:$AH$21,2,FALSE))","v":""},null,null,null,null,null,null,"Match 26",null,null,null,null,null,null,null,null,null,null,null,null,null,null,null,null,null,null,null,null,null,null,null,null,null,null,null,null,null,null,{"$f":"DKO_16_Joueurs!B20","v":0},{"$f":"DKO_16_Joueurs!C20","v":0},{"$f":"AP52","v":0},{"$f":"DKO_16_Joueurs!E20","v":0},{"$f":"DKO_16_Joueurs!F20","v":0},{"$f":"DKO_16_Joueurs!G20","v":0},{"$f":"IF(AO52+AO53=0,0,IF(AO53>=AO52,AR53,0))","v":0},{"$f":"IF((AO52+AO53)=0,0,IF(AO52>AO53,0,IF(AO52<AO53,2,IF(AS52>AS53,0,2))))","v":0}]
[null,{"$f":"IF(OR(J25=\"\",Q26=\"\",T25=\"\",T25=0),\"\",IF(Q25<Q26,P25,IF(Q26<Q25,P26,IF(Q21=Q26,IF(AND(U25<>\"\",U26<>\"\"),IF(U25<U26,P25,IF(U26<U25,P26,\"\")),\"\"),\"\"))))","v":""},"ARBITRES",null,null,null,null,null,{"$f":"IF(OR(C52=\"\",C53=\"\",D52=\"\",D52=0),\"\",IF(C52>C53,B52,IF(C53>C52,B53,IF(C52=C53,IF(AND(G52<>\"\",G53<>\"\"),IF(G52>G53,B52,IF(G53>G52,B53,\"\")),\"\"),\"\"))))","v":""},null,null,null,{"$f":"IF(AND(J54<>\"\",K54<>\"\",K54<>0),ROUNDDOWN(J54/K54,2),\"\")","v":""},null,null,null,null,null,null,null,null,null,null,null,null,null,null,null,null,null,null,null,null,null,null,null,null,null,null,{"$f":"DKO_16_Joueurs!B23","v":0},{"$f":"DKO_16_Joueurs!C23","v":0},{"$f":"DKO_16_Joueurs!D23","v":0},{"$f":"DKO_16_Joueurs!E23","v":0},{"$f":"DKO_16_Joueurs!F23","v":0},{"$f":"DKO_16_Joueurs!G23","v":0},{"$f":"IF(AO54+AO55=0,0,IF(AO54>=AO55,AR54,0))","v":0},{"$f":"IF((AO54+AO55)=0,0,IF(AO54>AO55,2,IF(AO54<AO55,0,IF(AS54>AS55,2,0))))","v":0}]
[null,"Match 22",null,null,null,null,null,null,{"$f":"IF(OR(C56=\"\",C57=\"\",D56=\"\",D56=0),\"\",IF(C56>C57,B56,IF(C57>C56,B57,IF(C56=C57,IF(AND(G56<>\"\",G57<>\"\"),IF(G56>G57,B56,IF(G57>G56,B57,\"\")),\"\"),\"\"))))","v":""},null,null,null,{"$f":"IF(AND(J55<>\"\",K54<>\"\",K54<>0),ROUNDDOWN(J55/K54,2),\"\")","v":""},null,null,null,null,null,null,null,null,null,null,null,null,null,null,null,null,null,null,null,null,null,null,null,null,null,null,{"$f":"DKO_16_Joueurs!B24","v":0},{"$f":"DKO_16_Joueurs!C24","v":0},{"$f":"AP54","v":0},{"$f":"DKO_16_Joueurs!E24","v":0},{"$f":"DKO_16_Joueurs!F24","v":0},{"$f":"DKO_16_Joueurs!G24","v":0},{"$f":"IF(AO54+AO55=0,0,IF(AO55>=AO54,AR55,0))","v":0},{"$f":"IF((AO54+AO55)=0,0,IF(AO54>AO55,0,IF(AO54<AO55,2,IF(AS54>AS55,0,2))))","v":0}]
["Q 2",{"$f":"IF(ISERROR(VLOOKUP(2,$AG$14:$AH$21,2,FALSE)),\"\",VLOOKUP(2,$AG$14:$AH$21,2,FALSE))","v":""},null,null,null,null,null,null,{"$f":"IF(OR(B52=\"\",C53=\"\",F52=\"\",F52=0),\"\",IF(C52<C53,B52,IF(C53<C52,B53,IF(C52=C53,IF(AND(G52<>\"\",G53<>\"\"),IF(G52<G53,B52,IF(G53<G52,B53,\"\")),\"\"),\"\"))))","v":""},"ARBITRES",null,null,null,null,null,null,null,null,null,null,null,null,null,null,null,null,null,null,null,null,null,null,null,null,null,null,null,null,null,{"$f":"DKO_16_Joueurs!B27","v":0},{"$f":"DKO_16_Joueurs!C27","v":0},{"$f":"DKO_16_Joueurs!D27","v":0},{"$f":"DKO_16_Joueurs!E27","v":0},{"$f":"DKO_16_Joueurs!F27","v":0},{"$f":"DKO_16_Joueurs!G27","v":0},{"$f":"IF(AO56+AO57=0,0,IF(AO56>=AO57,AR56,0))","v":0},{"$f":"IF((AO56+AO57)=0,0,IF(AO56>AO57,2,IF(AO56<AO57,0,IF(AS56>AS57,2,0))))","v":0}]
["Q 7",{"$f":"IF(ISERROR(VLOOKUP(7,$AG$14:$AH$21,2,FALSE)),\"\",VLOOKUP(7,$AG$14:$AH$21,2,FALSE))","v":""},null,null,null,null,null,null,null,null,null,null,null,null,null,null,null,null,null,null,null,null,null,null,null,null,null,null,null,null,null,null,null,null,null,null,null,null,null,{"$f":"DKO_16_Joueurs!B28","v":0},{"$f":"DKO_16_Joueurs!C28","v":0},{"$f":"AP56","v":0},{"$f":"DKO_16_Joueurs!E28","v":0},{"$f":"DKO_16_Joueurs!F28","v":0},{"$f":"DKO_16_Joueurs!G28","v":0},{"$f":"IF(AO56+AO57=0,0,IF(AO57>=AO56,AR57,0))","v":0},{"$f":"IF((AO56+AO57)=0,0,IF(AO56>AO57,0,IF(AO56<AO57,2,IF(AS56>AS57,0,2))))","v":0}]
[null,{"$f":"IF(OR(J33=\"\",Q34=\"\",T33=\"\",T33=0),\"\",IF(Q33<Q34,P33,IF(Q34<Q33,P34,IF(Q33=Q34,IF(AND(U33<>\"\",U34<>\"\"),IF(U33<U34,P33,IF(U34<U33,P34,\"\")),\"\"),\"\"))))","v":""},null,null,null,null,null,null,null,null,null,null,null,null,null,null,null,null,null,null,null,null,null,null,null,null,null,null,null,null,null,null,null,null,null,null,null,null,null,{"$f":"DKO_16_Joueurs!B31","v":0},{"$f":"DKO_16_Joueurs!C31","v":0},{"$f":"DKO_16_Joueurs!D31","v":0},{"$f":"DKO_16_Joueurs!E31","v":0},{"$f":"DKO_16_Joueurs!F31","v":0},{"$f":"DKO_16_Joueurs!G31","v":0},{"$f":"IF(AO58+AO59=0,0,IF(AO58>=AO59,AR58,0))","v":0},{"$f":"IF((AO58+AO59)=0,0,IF(AO58>AO59,2,IF(AO58<AO59,0,IF(AS58>AS59,2,0))))","v":0}]
[null,null,null,null,null,null,null,null,null,null,null,null,null,null,null,null,null,null,null,null,null,null,null,null,null,null,null,null,null,null,null,null,null,null,null,null,null,null,null,{"$f":"DKO_16_Joueurs!B32","v":0},{"$f":"DKO_16_Joueurs!C32","v":0},{"$f":"AP58","v":0},{"$f":"DKO_16_Joueurs!E32","v":0},{"$f":"DKO_16_Joueurs!F32","v":0},{"$f":"DKO_16_Joueurs!G32","v":0},{"$f":"IF(AO58+AO59=0,0,IF(AO59>=AO58,AR59,0))","v":0},{"$f":"IF((AO58+AO59)=0,0,IF(AO58>AO59,0,IF(AO58<AO59,2,IF(AS58>AS59,0,2))))","v":0}]
[null,"© - A.FERHAT",null,null,null,null,null,null,null,null,null,null,null,null,null,null,null,null,null,null,null,null,null,null,null,null,null,null,null,null,null,null,null,null,null,null,null,null,null,{"$f":"DKO_16_Joueurs!B35","v":0},{"$f":"DKO_16_Joueurs!C35","v":0},{"$f":"DKO_16_Joueurs!D35","v":0},{"$f":"DKO_16_Joueurs!E35","v":0},{"$f":"DKO_16_Joueurs!F35","v":0},{"$f":"DKO_16_Joueurs!G35","v":0},{"$f":"IF(AO60+AO61=0,0,IF(AO60>=AO61,AR60,0))","v":0},{"$f":"IF((AO60+AO61)=0,0,IF(AO60>AO61,2,IF(AO60<AO61,0,IF(AS60>AS61,2,0))))","v":0}]
[null,null,null,null,null,null,null,null,null,null,null,null,null,null,null,null,null,null,null,null,null,null,null,null,null,null,null,null,null,null,null,null,null,null,null,null,null,null,null,{"$f":"DKO_16_Joueurs!B36","v":0},{"$f":"DKO_16_Joueurs!C36","v":0},{"$f":"AP60","v":0},{"$f":"DKO_16_Joueurs!E36","v":0},{"$f":"DKO_16_Joueurs!F36","v":0},{"$f":"DKO_16_Joueurs!G36","v":0},{"$f":"IF(AO60+AO61=0,0,IF(AO61>=AO60,AR61,0))","v":0},{"$f":"IF((AO60+AO61)=0,0,IF(AO60>AO61,0,IF(AO60<AO61,2,IF(AS60>AS61,0,2))))","v":0}]

{"sheet":"DKO_8_Joueurs","index":15,"n_rows":42,"n_cols":45,"rows_kept":42,"cut":false,"hidden":true,"merged":[[3,34,4,34],[0,15,0,22],[0,30,1,34],[1,1,1,6],[1,8,1,13],[1,16,1,21],[2,24,2,26],[3,44,4,44],[4,3,5,3],[4,10,5,10],[3,41,4,41],[3,42,4,42],[8,3,9,3],[8,10,9,10],[8,17,8,18],[8,19,8,21],[10,2,10,3],[10,4,10,6],[10,9,10,10],[10,11,10,13],[3,43,4,43],[10,24,10,26],[6,2,6,3],[6,4,6,6],[6,9,6,10],[6,11,6,13],[6,18,7,18],[3,37,4,37],[3,38,4,38],[3,39,4,39],[3,40,4,40],[3,24,3,26],[3,30,4,30],[3,31,4,31],[3,32,4,32],[3,33,4,33],[11,24,11,26],[12,3,13,3],[12,10,13,10],[14,2,14,3],[14,4,14,6],[14,9,14,10],[14,11,14,13],[14,18,15,18],[20,1,21,6],[20,8,21,13],[21,16,22,18],[16,3,17,3],[16,10,17,10],[16,17,16,18],[16,19,16,21],[17,14,17,15],[18,2,18,3],[18,4,18,6],[18,9,18,10],[18,11,18,13],[23,25,24,25],[23,26,23,27],[24,8,25,13],[25,3,26,3],[25,15,26,15],[25,16,26,18],[25,19,26,20],[25,21,26,23],[25,24,26,24],[25,25,26,25],[25,26,26,26],[25,27,26,27],[23,19,24,20],[23,21,24,23],[23,24,24,24],[25,28,26,28],[27,2,27,3],[27,4,27,6],[27,10,28,10],[27,15,28,15],[27,16,28,18],[27,19,28,20],[27,21,28,23],[27,24,28,24],[27,25,28,25],[27,26,28,26],[27,27,28,27],[27,28,28,28],[29,3,30,3],[29,9,29,10],[29,11,29,13],[29,15,30,15],[29,16,30,18],[29,28,30,28],[31,2,31,3],[31,4,31,6],[31,15,32,15],[31,16,32,18],[31,19,32,20],[31,21,32,23],[31,24,32,24],[31,25,32,25],[31,26,32,26],[29,19,30,20],[29,21,30,23],[29,24,30,24],[29,25,30,25],[29,26,30,26],[29,27,30,27],[31,27,32,27],[31,28,32,28],[33,15,34,15],[33,16,34,18],[33,19,34,20],[33,21,34,23],[33,24,34,24],[33,25,34,25],[33,26,34,26],[33,27,34,27],[33,28,34,28],[35,15,36,15],[35,16,36,18],[35,19,36,20],[35,21,36,23],[35,24,36,24],[35,25,36,25],[35,26,36,26],[35,27,36,27],[35,28,36,28],[39,15,40,15],[39,16,40,18],[39,19,40,20],[39,21,40,23],[39,24,40,24],[39,25,40,25],[37,3,42,13],[37,15,38,15],[37,16,38,18],[37,19,38,20],[37,21,38,23],[37,24,38,24],[39,26,40,26],[39,27,40,27],[39,28,40,28],[41,21,42,23],[41,24,42,24],[41,25,42,25],[41,26,42,26],[41,27,42,27],[37,25,38,25],[37,26,38,26],[37,27,38,27],[37,28,38,28]]}
[null,null,null,null,null,null,null,null,null,null,null,null,null,null,null,null,null,null,null,null,null,null,null,null,null,null,null,null,null,null,"TOURNOI 2-KO\nLIGUE MEDITERRANÉE BILLARD\n2024/2025"]
[null,"Phase 1 ",null,null,null,null,null,null,"Phase 2",null,null,null,null,null,null,null,"Phase 3"]
[null,null,null,null,null,null,null,null,null,null,null,null,null,null,null,null,"Qualifié 1",null,null,null,null,null,null,null,"Qualifié 3"]
[null,"Match 1","pts","rep","serie","moy","p°",null,"Match 7","pts","rep","serie","moy","p°",null,null,{"$f":"IF(AF8=X60,\"\",AF8)","v":""},null,null,null,null,null,null,null,{"$f":"IF(AF10=0,\"\",AF10)","v":""},null,null,null,null,null,"RANG","JOUEURS","POINTS\nMATCH","NB\nMATCH","CALCUL",null,null,"JOUEUR","PTS","REP","SERIE","MG","P°","MP","PM"]
[1,{"$f":"'Saisie des joueurs'!L18","v":0},null,null,null,{"$f":"IF(AND(C5<>\"\",D5<>\"\",D5<>0),ROUNDDOWN(C5/D5,2),\"\")","v":""},null,null,{"$f":"IF(OR(C5=\"\",C6=\"\",D5=\"\",D5=0),\"\",IF(C5>C6,B5,IF(C6>C5,B6,IF(C5=C6,IF(AND(G5<>\"\",G6<>\"\"),IF(G5>G6,B5,IF(G6>G5,B6,\"\")),\"\"),\"\"))))","v":""},null,null,null,{"$f":"IF(AND(J5<>\"\",K5<>\"\",K5<>0),ROUNDDOWN(J5/K5,2),\"\")","v":""}]
[8,{"$f":"'Saisie des joueurs'!L25","v":0},null,null,null,{"$f":"IF(AND(C6<>\"\",D5<>\"\",D5<>0),ROUNDDOWN(C6/D5,2),\"\")","v":""},null,null,{"$f":"IF(OR(C9=\"\",C10=\"\",D9=\"\",D9=0),\"\",IF(C9>C10,B9,IF(C10>C9,B10,IF(C9=C10,IF(AND(G9<>\"\",G10<>\"\"),IF(G9>G10,B9,IF(G10>G9,B10,\"\")),\"\"),\"\"))))","v":""},null,null,null,{"$f":"IF(AND(J6<>\"\",K5<>\"\",K5<>0),ROUNDDOWN(J6/K5,2),\"\")","v":""},null,null,null,"Match 9","pts","rep","serie","moy","p°",null,null,null,null,null,null,null,"DF",{"$f":"IF($AI$6+$AI$7=0,0,RANK(AI6,$AI$6:$AI$7))","v":0},{"$f":"IF(OR(C26=\"\",C27=\"\",D26=\"\",D26=0),\"\",IF(C26<C27,B26,IF(C27<C26,B27,IF(C26=C27,IF(AND(G26<>\"\",G27<>\"\"),IF(G26<G27,B26,IF(G27<G26,B27,\"\")),\"\"),\"\"))))","v":""},{"$f":"SUMIF($AL$8:$AS$31,AF6,$AS$8:$AS$31)","v":0},{"$f":"IF(AF6=\"\",0,COUNTIF($AL$8:$AS$31,AF6))","v":0},{"$f":"IF(D26=\"\",0,IF(G26=G27,IF(C26>C27,F27,F26),IF(G26>G27,F27,F26)))*1000+IF(D26=\"\",0,IF(G26=G27,IF(C26>C27,E27,E26),IF(G26>G27,E27,E26)))","v":0},null,"F",{"$f":"I28","v":""},{"$f":"J28","v":0},0,0,"",0,{"$f":"IF(AM6+AM7=0,0,IF(AM6>=AM7,AP6,0))","v":0},{"$f":"IF((AM6+AM7)=0,0,IF(AM6>AM7,2,IF(AM6<AM7,0,IF((AQ6+AQ7)=0,0,IF(AQ6>AQ7,2,0)))))","v":0}]
[null,{"$f":"B13","v":0},"ARBITRES",null,{"$f":"B14","v":0},null,null,null,{"$f":"IF(OR(B17=\"\",C17=\"\",F17=\"\",F17=0),\"\",IF(C17<C18,B17,IF(C18<C17,B18,IF(C17=C18,IF(AND(G17<>\"\",G18<>\"\"),IF(G17<G18,B17,IF(G18<G17,B18,\"\")),\"\"),\"\"))))","v":""},"ARBITRES",null,null,null,null,null,null,{"$f":"IF(OR(J5=\"\",J6=\"\",K5=\"\",K5=0),\"\",IF(J5<J6,I5,IF(J6<J5,I6,IF(J5=J6,IF(AND(Q3<>\"\",O6<>\"\"),IF(Q3<O6,I5,IF(O6<Q3,I6,\"\")),\"\"),\"\"))))","v":""},null,null,null,{"$f":"IF(AND(R7<>\"\",S7<>\"\",S7<>0),ROUNDDOWN(R7/S7,2),\"\")","v":""},null,null,null,null,null,null,null,null,null,{"$f":"IF($AI$6+$AI$7=0,0,RANK(AI7,$AI$6:$AI$7))","v":0},{"$f":"IF(OR(C30=\"\",C31=\"\",D30=\"\",D30=0),\"\",IF(C30<C31,B30,IF(C31<C30,B31,IF(C30=C31,IF(AND(G30<>\"\",G31<>\"\"),IF(G30<G31,B30,IF(G31<G30,B31,\"\")),\"\"),\"\"))))","v":""},{"$f":"SUMIF($AL$8:$AS$31,AF7,$AS$8:$AS$31)","v":0},{"$f":"IF(AF7=\"\",0,COUNTIF($AL$8:$AS$31,AF7))","v":0},{"$f":"IF(D30=\"\",0,IF(G30=G31,IF(C30>C31,F31,F30),IF(G30>G31,F31,F30)))*1000+IF(D30=\"\",0,IF(G30=G31,IF(C30>C31,E31,E30),IF(G30>G31,E31,E30)))","v":0},null,null,{"$f":"I29","v":""},{"$f":"J29","v":0},{"$f":"K28","v":0},{"$f":"L29","v":0},"",0,{"$f":"IF(AM6+AM7=0,0,IF(AM7>=AM6,AP7,0))","v":0},{"$f":"IF((AM6+AM7)=0,0,IF(AM6>AM7,0,IF((AQ6+AQ7)=0,0,IF(AM6<AM7,2,IF(AQ6>AQ7,0,2)))))","v":0}]
[null,"Match 2",null,null,null,null,null,null,"Match 5",null,null,null,null,null,null,null,{"$f":"IF(OR(J13=\"\",J14=\"\",K13=\"\",K13=0),\"\",IF(J13>J14,I13,IF(J14>J13,I14,IF(J13=J14,IF(AND(O13<>\"\",O14<>\"\"),IF(O13>O14,I13,IF(O14>O13,I14,\"\")),\"\"),\"\"))))","v":""},null,null,null,{"$f":"IF(AND(R8<>\"\",S7<>\"\",S7<>0),ROUNDDOWN(R8/S7,2),\"\")","v":""},null,null,null,null,null,null,null,null,"T3G",{"$f":"IF(AI8=0,0,RANK(AI8,$AI$8:$AI$9))","v":0},{"$f":"IF(OR(J5=\"\",J6=\"\",K5=\"\",K5=0),\"\",IF(J5>J6,I5,IF(J6>J5,I6,IF(J5=J6,IF(AND(N5<>\"\",N6<>\"\"),IF(N5>N6,I5,IF(N6>N5,I6,\"\")),\"\"),\"\"))))","v":""},{"$f":"SUMIF($AL$12:$AS$31,AF8,$AS$12:$AS$31)","v":0},{"$f":"IF(AF8=\"\",0,COUNTIF($AL$12:$AS$31,AF8))","v":0},{"$f":"IF(AF8=\"\",0,IF(AG8=0,0,(100/(AH8*2/AG8)*1000))+(SUMIF($AL$12:$AS$31,AF8,$AM$12:$AM$31)/SUMIF($AL$12:$AS$31,AF8,$AN$12:$AN$31))+(MAX(IF(ISERROR(VLOOKUP(AF8,$AL$12:$AS$15,5,FALSE)),0,VLOOKUP(AF8,$AL$12:$AS$15,5,FALSE)),IF(ISERROR(VLOOKUP(AF8,$AL$16:$AS$23,5,FALSE)),0,VLOOKUP(AF8,$AL$16:$AS$23,5,FALSE)),IF(ISERROR(VLOOKUP(AF8,$AL$24:$AS$31,5,FALSE)),0,VLOOKUP(AF8,$AL$24:$AS$31,5,FALSE)))/1000))","v":0},null,"DF",{"$f":"B26","v":""},0,0,0,"",0,{"$f":"IF(AM8+AM9=0,0,IF(AM8>=AM9,AP8,0))","v":0},{"$f":"IF((AM8+AM9)=0,0,IF(AM8>AM9,2,IF(AM8<AM9,0,IF(AQ8>AQ9,2,0))))","v":0}]
[4,{"$f":"'Saisie des joueurs'!L21","v":0},null,null,null,{"$f":"IF(AND(C9<>\"\",D9<>\"\",D9<>0),ROUNDDOWN(C9/D9,2),\"\")","v":""},null,null,{"$f":"IF(OR(C5=\"\",C6=\"\",D5=\"\",D5=0),\"\",IF(C5<C6,B5,IF(C6<C5,B6,IF(C5=C6,IF(AND(G5<>\"\",G6<>\"\"),IF(G5<G6,B5,IF(G6<G5,B6,\"\")),\"\"),\"\"))))","v":""},null,null,null,{"$f":"IF(AND(J9<>\"\",K9<>\"\",K9<>0),ROUNDDOWN(J9/K9,2),\"\")","v":""},null,null,null,{"$f":"Q4","v":""},"ARBITRES",null,null,null,null,null,null,null,null,null,null,null,null,{"$f":"IF(AI9=0,0,RANK(AI9,$AI$8:$AI$9))","v":1},{"$f":"IF(OR(J17=\"\",J18=\"\",K17=\"\",K17=0),\"\",IF(J17>J18,I17,IF(J18>J17,I18,IF(J17=J18,IF(AND(N17<>\"\",N18<>\"\"),IF(N17>N18,I17,IF(N18>N17,I18,\"\")),\"\"),\"\"))))","v":""},0,0,{"$f":"IF(AF9=\"\",0,IF(AG9=0,0,(100/(AH9*2/AG9)*1000))+(SUMIF($AL$12:$AS$31,AF9,$AM$12:$AM$31)/SUMIF($AL$12:$AS$31,AF9,$AN$12:$AN$31))+(MAX(IF(ISERROR(VLOOKUP(AF9,$AL$12:$AS$15,5,FALSE)),0,VLOOKUP(AF9,$AL$12:$AS$15,5,FALSE)),IF(ISERROR(VLOOKUP(AF9,$AL$16:$AS$23,5,FALSE)),0,VLOOKUP(AF9,$AL$16:$AS$23,5,FALSE)),IF(ISERROR(VLOOKUP(AF9,$AL$24:$AS$31,5,FALSE)),0,VLOOKUP(AF9,$AL$24:$AS$31,5,FALSE)))/1000))+1","v":1},null,null,"",0,{"$f":"D26","v":0},0,"",0,{"$f":"IF(AM8+AM9=0,0,IF(AM9>=AM8,AP9,0))","v":0},{"$f":"IF((AM8+AM9)=0,0,IF(AM8>AM9,0,IF(AM8<AM9,2,IF(AQ8>AQ9,0,2))))","v":0}]
[5,{"$f":"'Saisie des joueurs'!L22","v":0},null,null,null,{"$f":"IF(AND(C10<>\"\",D9<>\"\",D9<>0),ROUNDDOWN(C10/D9,2),\"\")","v":""},null,null,{"$f":"IF(OR(C9=\"\",C10=\"\",D9=\"\",D9=0),\"\",IF(C9<C10,B9,IF(C10<C9,B10,IF(C9=C10,IF(AND(G9<>\"\",G10<>\"\"),IF(G9<G10,B9,IF(G10<G9,B10,\"\")),\"\"),\"\"))))","v":""},null,null,null,{"$f":"IF(AND(J10<>\"\",K9<>\"\",K9<>0),ROUNDDOWN(J10/K9,2),\"\")","v":""},null,null,null,null,null,null,null,null,null,null,null,null,null,null,null,null,null,{"$f":"IF(AI10=0,0,RANK(AI10,$AI$10:$AI$11)+2)","v":0},{"$f":"IF(OR(R7=\"\",R8=\"\",S7=\"\",S7=0),\"\",IF(R7>R8,Q7,IF(R8>R7,Q8,IF(R7=R8,IF(AND(V7<>\"\",V8<>\"\"),IF(V7>V8,Q7,IF(V8>V7,Q8,\"\")),\"\"),\"\"))))","v":""},0,0,0,null,null,{"$f":"B30","v":""},{"$f":"C30","v":0},0,0,"",0,{"$f":"IF(AM10+AM11=0,0,IF(AM10>=AM11,AP10,0))","v":0},{"$f":"IF((AM10+AM11)=0,0,IF(AM10>AM11,2,IF(AM10<AM11,0,IF(AQ10>AQ11,2,0))))","v":0}]
[null,{"$f":"B17","v":0},"ARBITRES",null,{"$f":"B18","v":0},null,null,null,{"$f":"IF(OR(B13=\"\",C13=\"\",F13=\"\",F13=0),\"\",IF(C13<C14,B13,IF(C14<C13,B14,IF(C13=C14,IF(AND(G13<>\"\",G14<>\"\"),IF(G13<G14,B13,IF(G14<G52,B14,\"\")),\"\"),\"\"))))","v":""},"ARBITRES",null,null,null,null,null,null,"Qualifié 2",null,null,null,null,null,null,null,"Qualifié 4",null,null,null,null,null,{"$f":"IF(AI11=0,0,RANK(AI11,$AI$10:$AI$11)+2)","v":0},{"$f":"IF(OR(R15=\"\",R16=\"\",S15=\"\",S15=0),\"\",IF(R15>R16,Q15,IF(R16>R15,Q16,IF(R15=R16,IF(AND(V15<>\"\",V16<>\"\"),IF(V15>V16,Q15,IF(V16>V15,Q16,\"\")),\"\"),\"\"))))","v":""},0,0,0,null,null,{"$f":"B31","v":""},{"$f":"C31","v":0},{"$f":"D30","v":0},{"$f":"E31","v":0},"",0,{"$f":"IF(AM10+AM11=0,0,IF(AM11>=AM10,AP11,0))","v":0},{"$f":"IF((AM10+AM11)=0,0,IF(AM10>AM11,0,IF(AM10<AM11,2,IF(AQ10>AQ11,0,2))))","v":0}]
[null,"Match 3",null,null,null,null,null,null,"Match 6",null,null,null,null,null,null,null,{"$f":"IF(AF9=0,\"\",AF9)","v":""},null,null,null,null,null,null,null,{"$f":"IF(AF11=0,\"\",AF11)","v":""},null,null,null,null,"T3P",{"$f":"IF(SUM($AI$12:$AI$15)=0,0,RANK(AI12,$AI$12:$AI$13))+6","v":6},{"$f":"IF(OR(J9=\"\",J10=\"\",K9=\"\",K9=0),\"\",IF(J9<J10,I9,IF(J10<J9,I10,IF(J9=J10,IF(AND(N9<>\"\",N10<>\"\"),IF(N9<N10,I9,IF(N10<N9,I10,\"\")),\"\"),\"\"))))","v":""},0,0,0,null,"T3",{"$f":"Q7","v":""},0,0,0,"",0,{"$f":"IF(AM12+AM13=0,0,IF(AM12>=AM13,AP12,0))","v":0},{"$f":"IF((AM12+AM13)=0,0,IF(AM12>AM13,2,IF(AM12<AM13,0,IF(AQ12>AQ13,2,0))))","v":0}]
[3,{"$f":"'Saisie des joueurs'!L20","v":0},null,null,null,{"$f":"IF(AND(C13<>\"\",D13<>\"\",D13<>0),ROUNDDOWN(C13/D13,2),\"\")","v":""},null,null,{"$f":"IF(OR(C13=\"\",C14=\"\",D13=\"\",D13=0),\"\",IF(C13<C14,B13,IF(C14<C13,B14,IF(C13=C14,IF(AND(G13<>\"\",G14<>\"\"),IF(G13<G14,B13,IF(G14<G13,B14,\"\")),\"\"),\"\"))))","v":""},null,null,null,{"$f":"IF(AND(J13<>\"\",K13<>\"\",K13<>0),ROUNDDOWN(J13/K13,2),\"\")","v":""},null,null,null,null,null,null,null,null,null,null,null,null,null,null,null,null,null,{"$f":"IF(SUM($AI$12:$AI$15)=0,0,RANK(AI13,$AI$12:$AI$13))+6","v":6},{"$f":"IF(OR(J13=\"\",J14=\"\",K13=\"\",K13=0),\"\",IF(J13<J14,I13,IF(J14<J13,I14,IF(J13=J14,IF(AND(N13<>\"\",N14<>\"\"),IF(N13<N14,I13,IF(N14<N13,I14,\"\")),\"\"),\"\"))))","v":""},0,0,0,null,null,{"$f":"Q8","v":""},{"$f":"R8","v":0},{"$f":"AN12","v":0},{"$f":"T8","v":0},{"$f":"U8","v":""},{"$f":"V8","v":0},{"$f":"IF(AM12+AM13=0,0,IF(AM13>=AM12,AP13,0))","v":0},{"$f":"IF((AM12+AM13)=0,0,IF(AM12>AM13,0,IF(AM12<AM13,2,IF(AQ12>AQ13,0,2))))","v":0}]
[6,{"$f":"'Saisie des joueurs'!L23","v":0},null,null,null,{"$f":"IF(AND(C14<>\"\",D13<>\"\",D13<>0),ROUNDDOWN(C14/D13,2),\"\")","v":""},null,null,{"$f":"IF(OR(C17=\"\",C18=\"\",D17=\"\",D17=0),\"\",IF(C17<C18,B17,IF(C18<C17,B18,IF(C17=C18,IF(AND(G17<>\"\",G18<>\"\"),IF(G17<G18,B17,IF(G18<G17,B18,\"\")),\"\"),\"\"))))","v":""},null,null,null,{"$f":"IF(AND(J14<>\"\",K13<>\"\",K13<>0),ROUNDDOWN(J14/K13,2),\"\")","v":""},null,null,null,"Match 10",null,null,null,null,null,null,null,null,null,null,null,null,null,{"$f":"IF(SUM($AI$12:$AI$15)=0,0,RANK(AI14,$AI$14:$AI$15))+4","v":4},{"$f":"IF(OR(R7=\"\",R8=\"\",S7=\"\",S7=0),\"\",IF(R7<R8,Q7,IF(R8<R7,Q8,IF(R7=R8,IF(AND(V7<>\"\",V8<>\"\"),IF(V7<V8,Q7,IF(V8<V7,Q8,\"\")),\"\"),\"\"))))","v":""},0,0,0,null,null,{"$f":"Q15","v":""},0,0,0,"",0,{"$f":"IF(AM14+AM15=0,0,IF(AM14>=AM15,AP14,0))","v":0},{"$f":"IF((AM14+AM15)=0,0,IF(AM14>AM15,2,IF(AM14<AM15,0,IF(AQ14>AQ15,2,0))))","v":0}]
[null,{"$f":"B5","v":0},"ARBITRES",null,{"$f":"B6","v":0},null,null,null,{"$f":"IF(OR(B5=\"\",C5=\"\",F5=\"\",F5=0),\"\",IF(C5<C6,B5,IF(C6<C5,B6,IF(C5=C6,IF(AND(G5<>\"\",G6<>\"\"),IF(G5<G6,B5,IF(G6<G5,B6,\"\")),\"\"),\"\"))))","v":""},"ARBITRES",null,null,null,null,null,null,{"$f":"IF(OR(J9=\"\",J10=\"\",K9=\"\",K9=0),\"\",IF(J9>J10,I9,IF(J10>J9,I10,IF(J9=J10,IF(AND(O9<>\"\",O10<>\"\"),IF(O9>O10,I9,IF(O10>O9,I10,\"\")),\"\"),\"\"))))","v":""},null,null,null,{"$f":"IF(AND(R15<>\"\",S15<>\"\",S15<>0),ROUNDDOWN(R15/S15,2),\"\")","v":""},null,null,null,null,null,null,null,null,null,{"$f":"IF(SUM($AI$12:$AI$15)=0,0,RANK(AI15,$AI$14:$AI$15))+4","v":4},{"$f":"IF(OR(R15=\"\",R16=\"\",S15=\"\",S15=0),\"\",IF(R15<R16,Q15,IF(R16<R15,Q16,IF(R15=R16,IF(AND(V15<>\"\",V16<>\"\"),IF(V15<V16,Q15,IF(V16<V15,Q16,\"\")),\"\"),\"\"))))","v":""},0,0,0,null,null,{"$f":"Q16","v":""},{"$f":"R16","v":0},{"$f":"AN14","v":0},{"$f":"T16","v":0},{"$f":"U16","v":""},{"$f":"V16","v":0},{"$f":"IF(AM14+AM15=0,0,IF(AM15>=AM14,AP15,0))","v":0},{"$f":"IF((AM14+AM15)=0,0,IF(AM14>AM15,0,IF(AM14<AM15,2,IF(AQ14>AQ15,0,2))))","v":0}]
[null,"Match 4",null,null,null,null,null,null,"Match 8",null,null,null,null,null,null,null,{"$f":"IF(OR(J17=\"\",J18=\"\",K17=\"\",K17=0),\"\",IF(J17<J18,I17,IF(J18<J17,I18,IF(J17=J18,IF(AND(O17<>\"\",O18<>\"\"),IF(O17<O18,I17,IF(O18<O17,I18,\"\")),\"\"),\"\"))))","v":""},null,null,null,{"$f":"IF(AND(R16<>\"\",S15<>\"\",S15<>0),ROUNDDOWN(R16/S15,2),\"\")","v":""},null,null,null,null,null,null,null,null,null,null,null,null,null,null,null,"T2",{"$f":"I5","v":""},0,0,0,"",0,{"$f":"IF(AM16+AM17=0,0,IF(AM16>=AM17,AP16,0))","v":0},{"$f":"IF((AM16+AM17)=0,0,IF(AM16>AM17,2,IF(AM16<AM17,0,IF(AQ16>AQ17,2,0))))","v":0}]
[2,{"$f":"'Saisie des joueurs'!L19","v":0},null,null,null,{"$f":"IF(AND(C17<>\"\",D17<>\"\",D17<>0),ROUNDDOWN(C17/D17,2),\"\")","v":""},null,null,{"$f":"IF(OR(C13=\"\",C14=\"\",D13=\"\",D13=0),\"\",IF(C13>C14,B13,IF(C14>C13,B14,IF(C13=C14,IF(AND(G13<>\"\",G14<>\"\"),IF(G13>G14,B13,IF(G14>G13,B14,\"\")),\"\"),\"\"))))","v":""},null,null,null,{"$f":"IF(AND(J17<>\"\",K17<>\"\",K17<>0),ROUNDDOWN(J17/K17,2),\"\")","v":""},null,null,null,{"$f":"Q12","v":""},"ARBITRES",null,null,null,null,null,null,null,null,null,null,null,null,null,null,null,null,null,null,null,{"$f":"I6","v":""},{"$f":"J6","v":0},{"$f":"AN16","v":0},{"$f":"L6","v":0},{"$f":"M6","v":""},{"$f":"N6","v":0},{"$f":"IF(AM16+AM17=0,0,IF(AM17>=AM16,AP17,0))","v":0},{"$f":"IF((AM16+AM17)=0,0,IF(AM16>AM17,0,IF(AM16<AM17,2,IF(AQ16>AQ17,0,2))))","v":0}]
[7,{"$f":"'Saisie des joueurs'!L24","v":0},null,null,null,{"$f":"IF(AND(C18<>\"\",D17<>\"\",D17<>0),ROUNDDOWN(C18/D17,2),\"\")","v":""},null,null,{"$f":"IF(OR(C17=\"\",C18=\"\",D17=\"\",D17=0),\"\",IF(C17>C18,B17,IF(C18>C17,B18,IF(C17=C18,IF(AND(G17<>\"\",G18<>\"\"),IF(G17>G18,B17,IF(G18>G17,B18,\"\")),\"\"),\"\"))))","v":""},null,null,null,{"$f":"IF(AND(J18<>\"\",K17<>\"\",K17<>0),ROUNDDOWN(J18/K17,2),\"\")","v":""},null,null,null,null,null,null,null,null,null,null,null,null,null,null,null,null,null,null,null,null,null,null,null,null,{"$f":"I9","v":""},0,0,0,"",0,{"$f":"IF(AM18+AM19=0,0,IF(AM18>=AM19,AP18,0))","v":0},{"$f":"IF((AM18+AM19)=0,0,IF(AM18>AM19,2,IF(AM18<AM19,0,IF(AQ18>AQ19,2,0))))","v":0}]
[null,{"$f":"B9","v":0},"ARBITRES",null,{"$f":"B10","v":0},null,null,null,{"$f":"IF(OR(B9=\"\",C9=\"\",F9=\"\",F9=0),\"\",IF(C9<C10,B9,IF(C10<C9,B10,IF(C9=C10,IF(AND(G9<>\"\",G10<>\"\"),IF(G9<G10,B9,IF(G10<G48,B10,\"\")),\"\"),\"\"))))","v":""},"ARBITRES",null,null,null,null,null,null,null,null,null,null,null,null,null,null,null,null,null,null,null,null,null,null,null,null,null,null,null,{"$f":"I10","v":""},{"$f":"J10","v":0},{"$f":"AN18","v":0},{"$f":"L10","v":0},{"$f":"M10","v":""},{"$f":"N10","v":0},{"$f":"IF(AM18+AM19=0,0,IF(AM19>=AM18,AP19,0))","v":0},{"$f":"IF((AM18+AM19)=0,0,IF(AM18>AM19,0,IF(AM18<AM19,2,IF(AQ18>AQ19,0,2))))","v":0}]
[null,null,null,null,null,null,null,null,null,null,null,null,null,null,null,null,null,null,null,null,null,null,null,null,null,null,null,null,null,null,null,null,null,null,null,null,null,{"$f":"I13","v":""},0,0,0,"",0,{"$f":"IF(AM20+AM21=0,0,IF(AM20>=AM21,AP20,0))","v":0},{"$f":"IF((AM20+AM21)=0,0,IF(AM20>AM21,2,IF(AM20<AM21,0,IF(AQ20>AQ21,2,0))))","v":0}]
[null,"Phase 4 - 1/2 - Finales",null,null,null,null,null,null,"Phase 5 - Finales",null,null,null,null,null,null,null,null,null,null,null,null,null,null,null,null,null,null,null,null,null,null,null,null,null,null,null,null,{"$f":"I14","v":""},{"$f":"J14","v":0},{"$f":"AN20","v":0},{"$f":"L14","v":0},{"$f":"M14","v":""},{"$f":"N14","v":0},{"$f":"IF(AM20+AM21=0,0,IF(AM21>=AM20,AP21,0))","v":0},{"$f":"IF((AM20+AM21)=0,0,IF(AM20>AM21,0,IF(AM20<AM21,2,IF(AQ20>AQ21,0,2))))","v":0}]
[null,null,null,null,null,null,null,null,null,null,null,null,null,null,null,null,"Classement",null,null,null,null,null,null,null,null,null,null,null,null,null,null,null,null,null,null,null,null,{"$f":"I17","v":""},0,0,0,"",0,{"$f":"IF(AM22+AM23=0,0,IF(AM22>=AM23,AP22,0))","v":0},{"$f":"IF((AM22+AM23)=0,0,IF(AM22>AM23,2,IF(AM22<AM23,0,IF(AQ22>AQ23,2,0))))","v":0}]
[null,null,null,null,null,null,null,null,null,null,null,null,null,null,null,null,null,null,null,null,null,null,null,null,null,null,null,null,null,null,null,null,null,null,null,null,null,{"$f":"I18","v":""},{"$f":"J18","v":0},{"$f":"AN22","v":0},{"$f":"L18","v":0},{"$f":"M18","v":""},{"$f":"N18","v":0},{"$f":"IF(AM22+AM23=0,0,IF(AM23>=AM22,AP23,0))","v":0},{"$f":"IF((AM22+AM23)=0,0,IF(AM22>AM23,0,IF(AM22<AM23,2,IF(AQ22>AQ23,0,2))))","v":0}]
[null,null,null,null,null,null,null,null,null,null,null,null,null,null,null,null,null,null,null,"% PTS\nMATCH",null,"POINTS",null,null,"REPRISES","SERIE","MOYENNE",null,null,null,null,null,null,null,null,null,"T1",{"$f":"B5","v":0},0,0,0,"",0,{"$f":"IF(AM24+AM25=0,0,IF(AM24>=AM25,AP24,0))","v":0},{"$f":"IF((AM24+AM25)=0,0,IF(AM24>AM25,2,IF(AM24<AM25,0,IF(AQ24>AQ25,2,0))))","v":0}]
[null,"Match 11 ","pts","rep","serie","moy","p°",null,null,null,null,null,null,null,null,"CLS",null,null,null,null,null,null,null,null,null,null,"Particulière","Générale",null,null,null,null,null,null,null,null,null,{"$f":"B6","v":0},{"$f":"C6","v":0},{"$f":"AN24","v":0},{"$f":"E6","v":0},{"$f":"F6","v":""},{"$f":"G6","v":0},{"$f":"IF(AM24+AM25=0,0,IF(AM25>=AM24,AP25,0))","v":0},{"$f":"IF((AM24+AM25)=0,0,IF(AM24>AM25,0,IF(AM24<AM25,2,IF(AQ24>AQ25,0,2))))","v":0}]
["Q 1",{"$f":"IF(OR(J5=\"\",J6=\"\",K5=\"\",K5=0),\"\",IF(J5>J6,I5,IF(J6>J5,I6,IF(J5=J6,IF(AND(N5<>\"\",N6<>\"\"),IF(N5>N6,I5,IF(N6>N5,I6,\"\")),\"\"),\"\"))))","v":""},null,null,null,{"$f":"IF(AND(C26<>\"\",D26<>\"\",D26<>0),ROUNDDOWN(C26/D26,2),\"\")","v":""},null,null,null,null,null,null,null,null,null,1,{"$f":"IF(AS6=2,AL6,IF(AS7=2,AL7,\"\"))","v":""},null,null,{"$f":"IF(Q26=\"\",\"\",IF(SUMIF($AL$6:$AS$31,Q26,$AS$6:$AS$31)=0,0,1/(COUNTIF($AL$6:$AS$31,Q26)*2/SUMIF($AL$6:$AS$31,Q26,$AS$6:$AS$31))))","v":""},null,{"$f":"IF(Q26=\"\",\"\",SUMIF($AL$6:$AS$31,Q26,$AM$6:$AM$31))","v":""},null,null,{"$f":"IF(Q26=\"\",\"\",SUMIF($AL$6:$AS$31,Q26,$AN$6:$AN$31))","v":""},{"$f":"IF(MAX(IF(ISERROR(VLOOKUP(Q26,$AL$6:$AS$7,4,FALSE)),0,VLOOKUP(Q26,$AL$6:$AS$7,4,FALSE)),IF(ISERROR(VLOOKUP(Q26,$AL$8:$AS$11,4,FALSE)),0,VLOOKUP(Q26,$AL$8:$AS$11,4,FALSE)),IF(ISERROR(VLOOKUP(Q26,$AL$12:$AS$15,4,FALSE)),0,VLOOKUP(Q26,$AL$12:$AS$15,4,FALSE)),IF(ISERROR(VLOOKUP(Q26,$AL$16:$AS$23,4,FALSE)),0,VLOOKUP(Q26,$AL$16:$AS$23,4,FALSE)),IF(ISERROR(VLOOKUP(Q26,$AL$24:$AS$31,4,FALSE)),0,VLOOKUP(Q26,$AL$24:$AS$31,4,FALSE)))=0,\"\",MAX(IF(ISERROR(VLOOKUP(Q26,$AL$6:$AS$7,4,FALSE)),0,VLOOKUP(Q26,$AL$6:$AS$7,4,FALSE)),IF(ISERROR(VLOOKUP(Q26,$AL$8:$AS$11,4,FALSE)),0,VLOOKUP(Q26,$AL$8:$AS$11,4,FALSE)),IF(ISERROR(VLOOKUP(Q26,$AL$12:$AS$15,4,FALSE)),0,VLOOKUP(Q26,$AL$12:$AS$15,4,FALSE)),IF(ISERROR(VLOOKUP(Q26,$AL$16:$AS$23,4,FALSE)),0,VLOOKUP(Q26,$AL$16:$AS$23,4,FALSE)),IF(ISERROR(VLOOKUP(Q26,$AL$24:$AS$31,4,FALSE)),0,VLOOKUP(Q26,$AL$24:$AS$31,4,FALSE))))","v":""},{"$f":"IF(MAX(IF(ISERROR(VLOOKUP(Q26,$AL$6:$AS$7,7,FALSE)),0,VLOOKUP(Q26,$AL$6:$AS$7,7,FALSE)),IF(ISERROR(VLOOKUP(Q26,$AL$8:$AS$11,7,FALSE)),0,VLOOKUP(Q26,$AL$8:$AS$11,7,FALSE)),IF(ISERROR(VLOOKUP(Q26,$AL$12:$AS$15,7,FALSE)),0,VLOOKUP(Q26,$AL$12:$AS$15,7,FALSE)),IF(ISERROR(VLOOKUP(Q26,$AL$16:$AS$23,7,FALSE)),0,VLOOKUP(Q26,$AL$16:$AS$23,7,FALSE)),IF(ISERROR(VLOOKUP(Q26,$AL$24:$AS$31,7,FALSE)),0,VLOOKUP(Q26,$AL$24:$AS$31,7,FALSE)))=0,\"\",MAX(IF(ISERROR(VLOOKUP(Q26,$AL$6:$AS$7,7,FALSE)),0,VLOOKUP(Q26,$AL$6:$AS$7,7,FALSE)),IF(ISERROR(VLOOKUP(Q26,$AL$8:$AS$11,7,FALSE)),0,VLOOKUP(Q26,$AL$8:$AS$11,7,FALSE)),IF(ISERROR(VLOOKUP(Q26,$AL$12:$AS$15,7,FALSE)),0,VLOOKUP(Q26,$AL$12:$AS$15,7,FALSE)),IF(ISERROR(VLOOKUP(Q26,$AL$16:$AS$23,7,FALSE)),0,VLOOKUP(Q26,$AL$16:$AS$23,7,FALSE)),IF(ISERROR(VLOOKUP(Q26,$AL$24:$AS$31,7,FALSE)),0,VLOOKUP(Q26,$AL$24:$AS$31,7,FALSE))))","v":""},{"$f":"IF(Q26=\"\",\"\",ROUNDDOWN(V26/Y26,2))","v":""},null,null,null,null,null,null,null,null,null,{"$f":"B9","v":0},0,0,0,"",0,{"$f":"IF(AM26+AM27=0,0,IF(AM26>=AM27,AP26,0))","v":0},{"$f":"IF((AM26+AM27)=0,0,IF(AM26>AM27,2,IF(AM26<AM27,0,IF(AQ26>AQ27,2,0))))","v":0}]
["Q 4",{"$f":"IF(OR(R15=\"\",R16=\"\",S15=\"\",S15=0),\"\",IF(R15>R16,Q15,IF(R16>R15,Q16,IF(R15=R16,IF(AND(V15<>\"\",V16<>\"\"),IF(V15>V16,Q15,IF(V16>V15,Q16,\"\")),\"\"),\"\"))))","v":""},null,null,null,{"$f":"IF(AND(C27<>\"\",D26<>\"\",D26<>0),ROUNDDOWN(C27/D26,2),\"\")","v":""},null,null,"Match 13","pts","rep","serie","moy","p°",null,null,null,null,null,null,null,null,null,null,null,null,null,null,null,null,null,null,null,null,null,null,null,{"$f":"B10","v":0},{"$f":"C10","v":0},{"$f":"AN26","v":0},{"$f":"E10","v":0},{"$f":"F10","v":""},{"$f":"G10","v":0},{"$f":"IF(AM26+AM27=0,0,IF(AM27>=AM26,AP27,0))","v":0},{"$f":"IF((AM26+AM27)=0,0,IF(AM26>AM27,0,IF(AM26<AM27,2,IF(AQ26>AQ27,0,2))))","v":0}]
[null,{"$f":"IF(OR(Q7=\"\",R7=\"\",R7=\"\",R7=0),\"\",IF(R7<R8,Q7,IF(R8<R7,Q8,IF(R7=R8,IF(AND(V7<>\"\",V8<>\"\"),IF(V7<V8,Q7,IF(V8<V7,Q8,\"\")),\"\"),\"\"))))","v":""},"ARBITRES",null,null,null,null,null,{"$f":"IF(OR(C26=\"\",C27=\"\",D26=\"\",D26=0),\"\",IF(C26>C27,B26,IF(C27>C26,B27,IF(C26=C27,IF(AND(G26<>\"\",G27<>\"\"),IF(G26>G27,B26,IF(G27>G26,B27,\"\")),\"\"),\"\"))))","v":""},null,null,null,{"$f":"IF(AND(J28<>\"\",K28<>\"\",K28<>0),ROUNDDOWN(J28/K28,2),\"\")","v":""},null,null,2,{"$f":"IF(AS6=2,AL7,IF(AS7=2,AL6,\"\"))","v":""},null,null,{"$f":"IF(Q28=\"\",\"\",IF(SUMIF($AL$6:$AS$31,Q28,$AS$6:$AS$31)=0,0,1/(COUNTIF($AL$6:$AS$31,Q28)*2/SUMIF($AL$6:$AS$31,Q28,$AS$6:$AS$31))))","v":""},null,{"$f":"IF(Q28=\"\",\"\",SUMIF($AL$6:$AS$31,Q28,$AM$6:$AM$31))","v":""},null,null,{"$f":"IF(Q28=\"\",\"\",SUMIF($AL$6:$AS$31,Q28,$AN$6:$AN$31))","v":""},{"$f":"IF(MAX(IF(ISERROR(VLOOKUP(Q28,$AL$6:$AS$7,4,FALSE)),0,VLOOKUP(Q28,$AL$6:$AS$7,4,FALSE)),IF(ISERROR(VLOOKUP(Q28,$AL$8:$AS$11,4,FALSE)),0,VLOOKUP(Q28,$AL$8:$AS$11,4,FALSE)),IF(ISERROR(VLOOKUP(Q28,$AL$12:$AS$15,4,FALSE)),0,VLOOKUP(Q28,$AL$12:$AS$15,4,FALSE)),IF(ISERROR(VLOOKUP(Q28,$AL$16:$AS$23,4,FALSE)),0,VLOOKUP(Q28,$AL$16:$AS$23,4,FALSE)),IF(ISERROR(VLOOKUP(Q28,$AL$24:$AS$31,4,FALSE)),0,VLOOKUP(Q28,$AL$24:$AS$31,4,FALSE)))=0,\"\",MAX(IF(ISERROR(VLOOKUP(Q28,$AL$6:$AS$7,4,FALSE)),0,VLOOKUP(Q28,$AL$6:$AS$7,4,FALSE)),IF(ISERROR(VLOOKUP(Q28,$AL$8:$AS$11,4,FALSE)),0,VLOOKUP(Q28,$AL$8:$AS$11,4,FALSE)),IF(ISERROR(VLOOKUP(Q28,$AL$12:$AS$15,4,FALSE)),0,VLOOKUP(Q28,$AL$12:$AS$15,4,FALSE)),IF(ISERROR(VLOOKUP(Q28,$AL$16:$AS$23,4,FALSE)),0,VLOOKUP(Q28,$AL$16:$AS$23,4,FALSE)),IF(ISERROR(VLOOKUP(Q28,$AL$24:$AS$31,4,FALSE)),0,VLOOKUP(Q28,$AL$24:$AS$31,4,FALSE))))","v":""},{"$f":"IF(MAX(IF(ISERROR(VLOOKUP(Q28,$AL$6:$AS$7,7,FALSE)),0,VLOOKUP(Q28,$AL$6:$AS$7,7,FALSE)),IF(ISERROR(VLOOKUP(Q28,$AL$8:$AS$11,7,FALSE)),0,VLOOKUP(Q28,$AL$8:$AS$11,7,FALSE)),IF(ISERROR(VLOOKUP(Q28,$AL$12:$AS$15,7,FALSE)),0,VLOOKUP(Q28,$AL$12:$AS$15,7,FALSE)),IF(ISERROR(VLOOKUP(Q28,$AL$16:$AS$23,7,FALSE)),0,VLOOKUP(Q28,$AL$16:$AS$23,7,FALSE)),IF(ISERROR(VLOOKUP(Q28,$AL$24:$AS$31,7,FALSE)),0,VLOOKUP(Q28,$AL$24:$AS$31,7,FALSE)))=0,\"\",MAX(IF(ISERROR(VLOOKUP(Q28,$AL$6:$AS$7,7,FALSE)),0,VLOOKUP(Q28,$AL$6:$AS$7,7,FALSE)),IF(ISERROR(VLOOKUP(Q28,$AL$8:$AS$11,7,FALSE)),0,VLOOKUP(Q28,$AL$8:$AS$11,7,FALSE)),IF(ISERROR(VLOOKUP(Q28,$AL$12:$AS$15,7,FALSE)),0,VLOOKUP(Q28,$AL$12:$AS$15,7,FALSE)),IF(ISERROR(VLOOKUP(Q28,$AL$16:$AS$23,7,FALSE)),0,VLOOKUP(Q28,$AL$16:$AS$23,7,FALSE)),IF(ISERROR(VLOOKUP(Q28,$AL$24:$AS$31,7,FALSE)),0,VLOOKUP(Q28,$AL$24:$AS$31,7,FALSE))))","v":""},{"$f":"IF(Q28=\"\",\"\",ROUNDDOWN(V28/Y28,2))","v":""},null,null,null,null,null,null,null,null,null,{"$f":"B13","v":0},0,0,0,"",0,{"$f":"IF(AM28+AM29=0,0,IF(AM28>=AM29,AP28,0))","v":0},{"$f":"IF((AM28+AM29)=0,0,IF(AM28>AM29,2,IF(AM28<AM29,0,IF(AQ28>AQ29,2,0))))","v":0}]
[null,"Match 12 ",null,null,null,null,null,null,{"$f":"IF(OR(C30=\"\",C31=\"\",D30=\"\",D30=0),\"\",IF(C30>C31,B30,IF(C31>C30,B31,IF(C30=C31,IF(AND(G30<>\"\",G31<>\"\"),IF(G30>G31,B30,IF(G31>G30,B31,\"\")),\"\"),\"\"))))","v":""},null,null,null,{"$f":"IF(AND(J29<>\"\",K28<>\"\",K28<>0),ROUNDDOWN(J29/K28,2),\"\")","v":""},null,null,null,null,null,null,null,null,null,null,null,null,null,null,null,null,null,null,null,null,null,null,null,null,{"$f":"B14","v":0},{"$f":"C14","v":0},{"$f":"AN28","v":0},{"$f":"E14","v":0},{"$f":"F14","v":""},{"$f":"G14","v":0},{"$f":"IF(AM28+AM29=0,0,IF(AM29>=AM28,AP29,0))","v":0},{"$f":"IF((AM28+AM29)=0,0,IF(AM28>AM29,0,IF(AM28<AM29,2,IF(AQ28>AQ29,0,2))))","v":0}]
["Q 2",{"$f":"IF(OR(J17=\"\",J18=\"\",K17=\"\",K17=0),\"\",IF(J17>J18,I17,IF(J18>J17,I18,IF(J17=J18,IF(AND(N17<>\"\",N18<>\"\"),IF(N17>N18,I17,IF(N18>N17,I18,\"\")),\"\"),\"\"))))","v":""},null,null,null,{"$f":"IF(AND(C30<>\"\",D30<>\"\",D30<>0),ROUNDDOWN(C30/D30,2),\"\")","v":""},null,null,{"$f":"IF(OR(B26=\"\",C26=\"\",F26=\"\",F26=0),\"\",IF(C26<C27,B26,IF(C27<C26,B27,IF(C26=C27,IF(AND(G26<>\"\",G27<>\"\"),IF(G26<G27,B26,IF(G27<G26,B27,\"\")),\"\"),\"\"))))","v":""},"ARBITRES",null,{"$f":"IF(OR(B30=\"\",C30=\"\",F30=\"\",F30=0),\"\",IF(C30<C31,B30,IF(C31<C30,B31,IF(C30=C31,IF(AND(G30<>\"\",G31<>\"\"),IF(G30<G31,B30,IF(G31<G30,B31,\"\")),\"\"),\"\"))))","v":""},null,null,null,3,{"$f":"IF(AI6+AI7>0,IF(AI6>AI7,AF6,AF7),\"\")","v":""},null,null,{"$f":"IF(Q30=\"\",\"\",IF(SUMIF($AL$6:$AS$31,Q30,$AS$6:$AS$31)=0,0,1/(COUNTIF($AL$6:$AS$31,Q30)*2/SUMIF($AL$6:$AS$31,Q30,$AS$6:$AS$31))))","v":""},null,{"$f":"IF(Q30=\"\",\"\",SUMIF($AL$6:$AS$31,Q30,$AM$6:$AM$31))","v":""},null,null,{"$f":"IF(Q30=\"\",\"\",SUMIF($AL$6:$AS$31,Q30,$AN$6:$AN$31))","v":""},{"$f":"IF(MAX(IF(ISERROR(VLOOKUP(Q30,$AL$6:$AS$7,4,FALSE)),0,VLOOKUP(Q30,$AL$6:$AS$7,4,FALSE)),IF(ISERROR(VLOOKUP(Q30,$AL$8:$AS$11,4,FALSE)),0,VLOOKUP(Q30,$AL$8:$AS$11,4,FALSE)),IF(ISERROR(VLOOKUP(Q30,$AL$12:$AS$15,4,FALSE)),0,VLOOKUP(Q30,$AL$12:$AS$15,4,FALSE)),IF(ISERROR(VLOOKUP(Q30,$AL$16:$AS$23,4,FALSE)),0,VLOOKUP(Q30,$AL$16:$AS$23,4,FALSE)),IF(ISERROR(VLOOKUP(Q30,$AL$24:$AS$31,4,FALSE)),0,VLOOKUP(Q30,$AL$24:$AS$31,4,FALSE)))=0,\"\",MAX(IF(ISERROR(VLOOKUP(Q30,$AL$6:$AS$7,4,FALSE)),0,VLOOKUP(Q30,$AL$6:$AS$7,4,FALSE)),IF(ISERROR(VLOOKUP(Q30,$AL$8:$AS$11,4,FALSE)),0,VLOOKUP(Q30,$AL$8:$AS$11,4,FALSE)),IF(ISERROR(VLOOKUP(Q30,$AL$12:$AS$15,4,FALSE)),0,VLOOKUP(Q30,$AL$12:$AS$15,4,FALSE)),IF(ISERROR(VLOOKUP(Q30,$AL$16:$AS$23,4,FALSE)),0,VLOOKUP(Q30,$AL$16:$AS$23,4,FALSE)),IF(ISERROR(VLOOKUP(Q30,$AL$24:$AS$31,4,FALSE)),0,VLOOKUP(Q30,$AL$24:$AS$31,4,FALSE))))","v":""},{"$f":"IF(MAX(IF(ISERROR(VLOOKUP(Q30,$AL$6:$AS$7,7,FALSE)),0,VLOOKUP(Q30,$AL$6:$AS$7,7,FALSE)),IF(ISERROR(VLOOKUP(Q30,$AL$8:$AS$11,7,FALSE)),0,VLOOKUP(Q30,$AL$8:$AS$11,7,FALSE)),IF(ISERROR(VLOOKUP(Q30,$AL$12:$AS$15,7,FALSE)),0,VLOOKUP(Q30,$AL$12:$AS$15,7,FALSE)),IF(ISERROR(VLOOKUP(Q30,$AL$16:$AS$23,7,FALSE)),0,VLOOKUP(Q30,$AL$16:$AS$23,7,FALSE)),IF(ISERROR(VLOOKUP(Q30,$AL$24:$AS$31,7,FALSE)),0,VLOOKUP(Q30,$AL$24:$AS$31,7,FALSE)))=0,\"\",MAX(IF(ISERROR(VLOOKUP(Q30,$AL$6:$AS$7,7,FALSE)),0,VLOOKUP(Q30,$AL$6:$AS$7,7,FALSE)),IF(ISERROR(VLOOKUP(Q30,$AL$8:$AS$11,7,FALSE)),0,VLOOKUP(Q30,$AL$8:$AS$11,7,FALSE)),IF(ISERROR(VLOOKUP(Q30,$AL$12:$AS$15,7,FALSE)),0,VLOOKUP(Q30,$AL$12:$AS$15,7,FALSE)),IF(ISERROR(VLOOKUP(Q30,$AL$16:$AS$23,7,FALSE)),0,VLOOKUP(Q30,$AL$16:$AS$23,7,FALSE)),IF(ISERROR(VLOOKUP(Q30,$AL$24:$AS$31,7,FALSE)),0,VLOOKUP(Q30,$AL$24:$AS$31,7,FALSE))))","v":""},{"$f":"IF(Q30=\"\",\"\",ROUNDDOWN(V30/Y30,2))","v":""},null,null,null,null,null,null,null,null,null,{"$f":"B17","v":0},0,0,0,"",0,{"$f":"IF(AM30+AM31=0,0,IF(AM30>=AM31,AP30,0))","v":0},{"$f":"IF((AM30+AM31)=0,0,IF(AM30>AM31,2,IF(AM30<AM31,0,IF(AQ30>AQ31,2,0))))","v":0}]
["Q 3",{"$f":"IF(OR(R7=\"\",R8=\"\",S7=\"\",S7=0),\"\",IF(R7>R8,Q7,IF(R8>R7,Q8,IF(R7=R8,IF(AND(V7<>\"\",V8<>\"\"),IF(V7>V8,Q7,IF(V8>V7,Q8,\"\")),\"\"),\"\"))))","v":""},null,null,null,{"$f":"IF(AND(C31<>\"\",D30<>\"\",D30<>0),ROUNDDOWN(C31/D30,2),\"\")","v":""},null,null,null,null,null,null,null,null,null,null,null,null,null,null,null,null,null,null,null,null,null,null,null,null,null,null,null,null,null,null,null,{"$f":"B18","v":0},{"$f":"C18","v":0},{"$f":"AN30","v":0},{"$f":"E18","v":0},{"$f":"F18","v":""},{"$f":"G18","v":0},{"$f":"IF(AM30+AM31=0,0,IF(AM31>=AM30,AP31,0))","v":0},{"$f":"IF((AM30+AM31)=0,0,IF(AM30>AM31,0,IF(AM30<AM31,2,IF(AQ30>AQ31,0,2))))","v":0}]
[null,{"$f":"IF(OR(Q15=\"\",R15=\"\",R15=\"\",R15=0),\"\",IF(R15<R16,Q15,IF(R16<R15,Q16,IF(R15=R16,IF(AND(V15<>\"\",V16<>\"\"),IF(V15<V16,Q16,IF(V16<V15,Q16,\"\")),\"\"),\"\"))))","v":""},"ARBITRES",null,null,null,null,null,null,null,null,null,null,null,null,3,{"$f":"IF(AI6+AI7>0,IF(AI6>AI7,AF7,AF6),\"\")","v":""},null,null,{"$f":"IF(Q32=\"\",\"\",IF(SUMIF($AL$6:$AS$31,Q32,$AS$6:$AS$31)=0,0,1/(COUNTIF($AL$6:$AS$31,Q32)*2/SUMIF($AL$6:$AS$31,Q32,$AS$6:$AS$31))))","v":""},null,{"$f":"IF(Q32=\"\",\"\",SUMIF($AL$6:$AS$31,Q32,$AM$6:$AM$31))","v":""},null,null,{"$f":"IF(Q32=\"\",\"\",SUMIF($AL$6:$AS$31,Q32,$AN$6:$AN$31))","v":""},{"$f":"IF(MAX(IF(ISERROR(VLOOKUP(Q32,$AL$6:$AS$7,4,FALSE)),0,VLOOKUP(Q32,$AL$6:$AS$7,4,FALSE)),IF(ISERROR(VLOOKUP(Q32,$AL$8:$AS$11,4,FALSE)),0,VLOOKUP(Q32,$AL$8:$AS$11,4,FALSE)),IF(ISERROR(VLOOKUP(Q32,$AL$12:$AS$15,4,FALSE)),0,VLOOKUP(Q32,$AL$12:$AS$15,4,FALSE)),IF(ISERROR(VLOOKUP(Q32,$AL$16:$AS$23,4,FALSE)),0,VLOOKUP(Q32,$AL$16:$AS$23,4,FALSE)),IF(ISERROR(VLOOKUP(Q32,$AL$24:$AS$31,4,FALSE)),0,VLOOKUP(Q32,$AL$24:$AS$31,4,FALSE)))=0,\"\",MAX(IF(ISERROR(VLOOKUP(Q32,$AL$6:$AS$7,4,FALSE)),0,VLOOKUP(Q32,$AL$6:$AS$7,4,FALSE)),IF(ISERROR(VLOOKUP(Q32,$AL$8:$AS$11,4,FALSE)),0,VLOOKUP(Q32,$AL$8:$AS$11,4,FALSE)),IF(ISERROR(VLOOKUP(Q32,$AL$12:$AS$15,4,FALSE)),0,VLOOKUP(Q32,$AL$12:$AS$15,4,FALSE)),IF(ISERROR(VLOOKUP(Q32,$AL$16:$AS$23,4,FALSE)),0,VLOOKUP(Q32,$AL$16:$AS$23,4,FALSE)),IF(ISERROR(VLOOKUP(Q32,$AL$24:$AS$31,4,FALSE)),0,VLOOKUP(Q32,$AL$24:$AS$31,4,FALSE))))","v":""},{"$f":"IF(MAX(IF(ISERROR(VLOOKUP(Q32,$AL$6:$AS$7,7,FALSE)),0,VLOOKUP(Q32,$AL$6:$AS$7,7,FALSE)),IF(ISERROR(VLOOKUP(Q32,$AL$8:$AS$11,7,FALSE)),0,VLOOKUP(Q32,$AL$8:$AS$11,7,FALSE)),IF(ISERROR(VLOOKUP(Q32,$AL$12:$AS$15,7,FALSE)),0,VLOOKUP(Q32,$AL$12:$AS$15,7,FALSE)),IF(ISERROR(VLOOKUP(Q32,$AL$16:$AS$23,7,FALSE)),0,VLOOKUP(Q32,$AL$16:$AS$23,7,FALSE)),IF(ISERROR(VLOOKUP(Q32,$AL$24:$AS$31,7,FALSE)),0,VLOOKUP(Q32,$AL$24:$AS$31,7,FALSE)))=0,\"\",MAX(IF(ISERROR(VLOOKUP(Q32,$AL$6:$AS$7,7,FALSE)),0,VLOOKUP(Q32,$AL$6:$AS$7,7,FALSE)),IF(ISERROR(VLOOKUP(Q32,$AL$8:$AS$11,7,FALSE)),0,VLOOKUP(Q32,$AL$8:$AS$11,7,FALSE)),IF(ISERROR(VLOOKUP(Q32,$AL$12:$AS$15,7,FALSE)),0,VLOOKUP(Q32,$AL$12:$AS$15,7,FALSE)),IF(ISERROR(VLOOKUP(Q32,$AL$16:$AS$23,7,FALSE)),0,VLOOKUP(Q32,$AL$16:$AS$23,7,FALSE)),IF(ISERROR(VLOOKUP(Q32,$AL$24:$AS$31,7,FALSE)),0,VLOOKUP(Q32,$AL$24:$AS$31,7,FALSE))))","v":""},{"$f":"IF(Q32=\"\",\"\",ROUNDDOWN(V32/Y32,2))","v":""}]
[]
[null,null,null,null,null,null,null,null,null,null,null,null,null,null,null,5,{"$f":"IF(ISERROR(IF(SUM($AI$12:$AI$15)=0,\"\",VLOOKUP(P34,$AE$12:$AF$15,2,FALSE))),\"\",IF(SUM($AI$12:$AI$15)=0,\"\",VLOOKUP(P34,$AE$12:$AF$15,2,FALSE)))","v":""},null,null,{"$f":"IF(Q34=\"\",\"\",IF(SUMIF($AL$6:$AS$31,Q34,$AS$6:$AS$31)=0,0,1/(COUNTIF($AL$6:$AS$31,Q34)*2/SUMIF($AL$6:$AS$31,Q34,$AS$6:$AS$31))))","v":""},null,{"$f":"IF(Q34=\"\",\"\",SUMIF($AL$6:$AS$31,Q34,$AM$6:$AM$31))","v":""},null,null,{"$f":"IF(Q34=\"\",\"\",SUMIF($AL$6:$AS$31,Q34,$AN$6:$AN$31))","v":""},{"$f":"IF(MAX(IF(ISERROR(VLOOKUP(Q34,$AL$6:$AS$7,4,FALSE)),0,VLOOKUP(Q34,$AL$6:$AS$7,4,FALSE)),IF(ISERROR(VLOOKUP(Q34,$AL$8:$AS$11,4,FALSE)),0,VLOOKUP(Q34,$AL$8:$AS$11,4,FALSE)),IF(ISERROR(VLOOKUP(Q34,$AL$12:$AS$15,4,FALSE)),0,VLOOKUP(Q34,$AL$12:$AS$15,4,FALSE)),IF(ISERROR(VLOOKUP(Q34,$AL$16:$AS$23,4,FALSE)),0,VLOOKUP(Q34,$AL$16:$AS$23,4,FALSE)),IF(ISERROR(VLOOKUP(Q34,$AL$24:$AS$31,4,FALSE)),0,VLOOKUP(Q34,$AL$24:$AS$31,4,FALSE)))=0,\"\",MAX(IF(ISERROR(VLOOKUP(Q34,$AL$6:$AS$7,4,FALSE)),0,VLOOKUP(Q34,$AL$6:$AS$7,4,FALSE)),IF(ISERROR(VLOOKUP(Q34,$AL$8:$AS$11,4,FALSE)),0,VLOOKUP(Q34,$AL$8:$AS$11,4,FALSE)),IF(ISERROR(VLOOKUP(Q34,$AL$12:$AS$15,4,FALSE)),0,VLOOKUP(Q34,$AL$12:$AS$15,4,FALSE)),IF(ISERROR(VLOOKUP(Q34,$AL$16:$AS$23,4,FALSE)),0,VLOOKUP(Q34,$AL$16:$AS$23,4,FALSE)),IF(ISERROR(VLOOKUP(Q34,$AL$24:$AS$31,4,FALSE)),0,VLOOKUP(Q34,$AL$24:$AS$31,4,FALSE))))","v":""},{"$f":"IF(MAX(IF(ISERROR(VLOOKUP(Q34,$AL$6:$AS$7,7,FALSE)),0,VLOOKUP(Q34,$AL$6:$AS$7,7,FALSE)),IF(ISERROR(VLOOKUP(Q34,$AL$8:$AS$11,7,FALSE)),0,VLOOKUP(Q34,$AL$8:$AS$11,7,FALSE)),IF(ISERROR(VLOOKUP(Q34,$AL$12:$AS$15,7,FALSE)),0,VLOOKUP(Q34,$AL$12:$AS$15,7,FALSE)),IF(ISERROR(VLOOKUP(Q34,$AL$16:$AS$23,7,FALSE)),0,VLOOKUP(Q34,$AL$16:$AS$23,7,FALSE)),IF(ISERROR(VLOOKUP(Q34,$AL$24:$AS$31,7,FALSE)),0,VLOOKUP(Q34,$AL$24:$AS$31,7,FALSE)))=0,\"\",MAX(IF(ISERROR(VLOOKUP(Q34,$AL$6:$AS$7,7,FALSE)),0,VLOOKUP(Q34,$AL$6:$AS$7,7,FALSE)),IF(ISERROR(VLOOKUP(Q34,$AL$8:$AS$11,7,FALSE)),0,VLOOKUP(Q34,$AL$8:$AS$11,7,FALSE)),IF(ISERROR(VLOOKUP(Q34,$AL$12:$AS$15,7,FALSE)),0,VLOOKUP(Q34,$AL$12:$AS$15,7,FALSE)),IF(ISERROR(VLOOKUP(Q34,$AL$16:$AS$23,7,FALSE)),0,VLOOKUP(Q34,$AL$16:$AS$23,7,FALSE)),IF(ISERROR(VLOOKUP(Q34,$AL$24:$AS$31,7,FALSE)),0,VLOOKUP(Q34,$AL$24:$AS$31,7,FALSE))))","v":""},{"$f":"IF(Q34=\"\",\"\",ROUNDDOWN(V34/Y34,2))","v":""}]
[]
[null,null,null,null,null,null,null,null,null,null,null,null,null,null,null,6,{"$f":"IF(ISERROR(IF(SUM($AI$12:$AI$15)=0,\"\",VLOOKUP(P36,$AE$12:$AF$15,2,FALSE))),\"\",IF(SUM($AI$12:$AI$15)=0,\"\",VLOOKUP(P36,$AE$12:$AF$15,2,FALSE)))","v":""},null,null,{"$f":"IF(Q36=\"\",\"\",IF(SUMIF($AL$6:$AS$31,Q36,$AS$6:$AS$31)=0,0,1/(COUNTIF($AL$6:$AS$31,Q36)*2/SUMIF($AL$6:$AS$31,Q36,$AS$6:$AS$31))))","v":""},null,{"$f":"IF(Q36=\"\",\"\",SUMIF($AL$6:$AS$31,Q36,$AM$6:$AM$31))","v":""},null,null,{"$f":"IF(Q36=\"\",\"\",SUMIF($AL$6:$AS$31,Q36,$AN$6:$AN$31))","v":""},{"$f":"IF(MAX(IF(ISERROR(VLOOKUP(Q36,$AL$6:$AS$7,4,FALSE)),0,VLOOKUP(Q36,$AL$6:$AS$7,4,FALSE)),IF(ISERROR(VLOOKUP(Q36,$AL$8:$AS$11,4,FALSE)),0,VLOOKUP(Q36,$AL$8:$AS$11,4,FALSE)),IF(ISERROR(VLOOKUP(Q36,$AL$12:$AS$15,4,FALSE)),0,VLOOKUP(Q36,$AL$12:$AS$15,4,FALSE)),IF(ISERROR(VLOOKUP(Q36,$AL$16:$AS$23,4,FALSE)),0,VLOOKUP(Q36,$AL$16:$AS$23,4,FALSE)),IF(ISERROR(VLOOKUP(Q36,$AL$24:$AS$31,4,FALSE)),0,VLOOKUP(Q36,$AL$24:$AS$31,4,FALSE)))=0,\"\",MAX(IF(ISERROR(VLOOKUP(Q36,$AL$6:$AS$7,4,FALSE)),0,VLOOKUP(Q36,$AL$6:$AS$7,4,FALSE)),IF(ISERROR(VLOOKUP(Q36,$AL$8:$AS$11,4,FALSE)),0,VLOOKUP(Q36,$AL$8:$AS$11,4,FALSE)),IF(ISERROR(VLOOKUP(Q36,$AL$12:$AS$15,4,FALSE)),0,VLOOKUP(Q36,$AL$12:$AS$15,4,FALSE)),IF(ISERROR(VLOOKUP(Q36,$AL$16:$AS$23,4,FALSE)),0,VLOOKUP(Q36,$AL$16:$AS$23,4,FALSE)),IF(ISERROR(VLOOKUP(Q36,$AL$24:$AS$31,4,FALSE)),0,VLOOKUP(Q36,$AL$24:$AS$31,4,FALSE))))","v":""},{"$f":"IF(MAX(IF(ISERROR(VLOOKUP(Q36,$AL$6:$AS$7,7,FALSE)),0,VLOOKUP(Q36,$AL$6:$AS$7,7,FALSE)),IF(ISERROR(VLOOKUP(Q36,$AL$8:$AS$11,7,FALSE)),0,VLOOKUP(Q36,$AL$8:$AS$11,7,FALSE)),IF(ISERROR(VLOOKUP(Q36,$AL$12:$AS$15,7,FALSE)),0,VLOOKUP(Q36,$AL$12:$AS$15,7,FALSE)),IF(ISERROR(VLOOKUP(Q36,$AL$16:$AS$23,7,FALSE)),0,VLOOKUP(Q36,$AL$16:$AS$23,7,FALSE)),IF(ISERROR(VLOOKUP(Q36,$AL$24:$AS$31,7,FALSE)),0,VLOOKUP(Q36,$AL$24:$AS$31,7,FALSE)))=0,\"\",MAX(IF(ISERROR(VLOOKUP(Q36,$AL$6:$AS$7,7,FALSE)),0,VLOOKUP(Q36,$AL$6:$AS$7,7,FALSE)),IF(ISERROR(VLOOKUP(Q36,$AL$8:$AS$11,7,FALSE)),0,VLOOKUP(Q36,$AL$8:$AS$11,7,FALSE)),IF(ISERROR(VLOOKUP(Q36,$AL$12:$AS$15,7,FALSE)),0,VLOOKUP(Q36,$AL$12:$AS$15,7,FALSE)),IF(ISERROR(VLOOKUP(Q36,$AL$16:$AS$23,7,FALSE)),0,VLOOKUP(Q36,$AL$16:$AS$23,7,FALSE)),IF(ISERROR(VLOOKUP(Q36,$AL$24:$AS$31,7,FALSE)),0,VLOOKUP(Q36,$AL$24:$AS$31,7,FALSE))))","v":""},{"$f":"IF(Q36=\"\",\"\",ROUNDDOWN(V36/Y36,2))","v":""}]
[]
[null,null,null,null,null,null,null,null,null,null,null,null,null,null,null,7,{"$f":"IF(ISERROR(IF(SUM($AI$12:$AI$15)=0,\"\",VLOOKUP(P38,$AE$12:$AF$15,2,FALSE))),\"\",IF(SUM($AI$12:$AI$15)=0,\"\",VLOOKUP(P38,$AE$12:$AF$15,2,FALSE)))","v":""},null,null,{"$f":"IF(Q38=\"\",\"\",IF(SUMIF($AL$6:$AS$31,Q38,$AS$6:$AS$31)=0,0,1/(COUNTIF($AL$6:$AS$31,Q38)*2/SUMIF($AL$6:$AS$31,Q38,$AS$6:$AS$31))))","v":""},null,{"$f":"IF(Q38=\"\",\"\",SUMIF($AL$6:$AS$31,Q38,$AM$6:$AM$31))","v":""},null,null,{"$f":"IF(Q38=\"\",\"\",SUMIF($AL$6:$AS$31,Q38,$AN$6:$AN$31))","v":""},{"$f":"IF(MAX(IF(ISERROR(VLOOKUP(Q38,$AL$6:$AS$7,4,FALSE)),0,VLOOKUP(Q38,$AL$6:$AS$7,4,FALSE)),IF(ISERROR(VLOOKUP(Q38,$AL$8:$AS$11,4,FALSE)),0,VLOOKUP(Q38,$AL$8:$AS$11,4,FALSE)),IF(ISERROR(VLOOKUP(Q38,$AL$12:$AS$15,4,FALSE)),0,VLOOKUP(Q38,$AL$12:$AS$15,4,FALSE)),IF(ISERROR(VLOOKUP(Q38,$AL$16:$AS$23,4,FALSE)),0,VLOOKUP(Q38,$AL$16:$AS$23,4,FALSE)),IF(ISERROR(VLOOKUP(Q38,$AL$24:$AS$31,4,FALSE)),0,VLOOKUP(Q38,$AL$24:$AS$31,4,FALSE)))=0,\"\",MAX(IF(ISERROR(VLOOKUP(Q38,$AL$6:$AS$7,4,FALSE)),0,VLOOKUP(Q38,$AL$6:$AS$7,4,FALSE)),IF(ISERROR(VLOOKUP(Q38,$AL$8:$AS$11,4,FALSE)),0,VLOOKUP(Q38,$AL$8:$AS$11,4,FALSE)),IF(ISERROR(VLOOKUP(Q38,$AL$12:$AS$15,4,FALSE)),0,VLOOKUP(Q38,$AL$12:$AS$15,4,FALSE)),IF(ISERROR(VLOOKUP(Q38,$AL$16:$AS$23,4,FALSE)),0,VLOOKUP(Q38,$AL$16:$AS$23,4,FALSE)),IF(ISERROR(VLOOKUP(Q38,$AL$24:$AS$31,4,FALSE)),0,VLOOKUP(Q38,$AL$24:$AS$31,4,FALSE))))","v":""},{"$f":"IF(MAX(IF(ISERROR(VLOOKUP(Q38,$AL$6:$AS$7,7,FALSE)),0,VLOOKUP(Q38,$AL$6:$AS$7,7,FALSE)),IF(ISERROR(VLOOKUP(Q38,$AL$8:$AS$11,7,FALSE)),0,VLOOKUP(Q38,$AL$8:$AS$11,7,FALSE)),IF(ISERROR(VLOOKUP(Q38,$AL$12:$AS$15,7,FALSE)),0,VLOOKUP(Q38,$AL$12:$AS$15,7,FALSE)),IF(ISERROR(VLOOKUP(Q38,$AL$16:$AS$23,7,FALSE)),0,VLOOKUP(Q38,$AL$16:$AS$23,7,FALSE)),IF(ISERROR(VLOOKUP(Q38,$AL$24:$AS$31,7,FALSE)),0,VLOOKUP(Q38,$AL$24:$AS$31,7,FALSE)))=0,\"\",MAX(IF(ISERROR(VLOOKUP(Q38,$AL$6:$AS$7,7,FALSE)),0,VLOOKUP(Q38,$AL$6:$AS$7,7,FALSE)),IF(ISERROR(VLOOKUP(Q38,$AL$8:$AS$11,7,FALSE)),0,VLOOKUP(Q38,$AL$8:$AS$11,7,FALSE)),IF(ISERROR(VLOOKUP(Q38,$AL$12:$AS$15,7,FALSE)),0,VLOOKUP(Q38,$AL$12:$AS$15,7,FALSE)),IF(ISERROR(VLOOKUP(Q38,$AL$16:$AS$23,7,FALSE)),0,VLOOKUP(Q38,$AL$16:$AS$23,7,FALSE)),IF(ISERROR(VLOOKUP(Q38,$AL$24:$AS$31,7,FALSE)),0,VLOOKUP(Q38,$AL$24:$AS$31,7,FALSE))))","v":""},{"$f":"IF(Q38=\"\",\"\",ROUNDDOWN(V38/Y38,2))","v":""}]
[]
[null,null,null,null,null,null,null,null,null,null,null,null,null,null,null,8,{"$f":"IF(ISERROR(IF(SUM($AI$12:$AI$15)=0,\"\",VLOOKUP(P40,$AE$12:$AF$15,2,FALSE))),\"\",IF(SUM($AI$12:$AI$15)=0,\"\",VLOOKUP(P40,$AE$12:$AF$15,2,FALSE)))","v":""},null,null,{"$f":"IF(Q40=\"\",\"\",IF(SUMIF($AL$6:$AS$31,Q40,$AS$6:$AS$31)=0,0,1/(COUNTIF($AL$6:$AS$31,Q40)*2/SUMIF($AL$6:$AS$31,Q40,$AS$6:$AS$31))))","v":""},null,{"$f":"IF(Q40=\"\",\"\",SUMIF($AL$6:$AS$31,Q40,$AM$6:$AM$31))","v":""},null,null,{"$f":"IF(Q40=\"\",\"\",SUMIF($AL$6:$AS$31,Q40,$AN$6:$AN$31))","v":""},{"$f":"IF(MAX(IF(ISERROR(VLOOKUP(Q40,$AL$6:$AS$7,4,FALSE)),0,VLOOKUP(Q40,$AL$6:$AS$7,4,FALSE)),IF(ISERROR(VLOOKUP(Q40,$AL$8:$AS$11,4,FALSE)),0,VLOOKUP(Q40,$AL$8:$AS$11,4,FALSE)),IF(ISERROR(VLOOKUP(Q40,$AL$12:$AS$15,4,FALSE)),0,VLOOKUP(Q40,$AL$12:$AS$15,4,FALSE)),IF(ISERROR(VLOOKUP(Q40,$AL$16:$AS$23,4,FALSE)),0,VLOOKUP(Q40,$AL$16:$AS$23,4,FALSE)),IF(ISERROR(VLOOKUP(Q40,$AL$24:$AS$31,4,FALSE)),0,VLOOKUP(Q40,$AL$24:$AS$31,4,FALSE)))=0,\"\",MAX(IF(ISERROR(VLOOKUP(Q40,$AL$6:$AS$7,4,FALSE)),0,VLOOKUP(Q40,$AL$6:$AS$7,4,FALSE)),IF(ISERROR(VLOOKUP(Q40,$AL$8:$AS$11,4,FALSE)),0,VLOOKUP(Q40,$AL$8:$AS$11,4,FALSE)),IF(ISERROR(VLOOKUP(Q40,$AL$12:$AS$15,4,FALSE)),0,VLOOKUP(Q40,$AL$12:$AS$15,4,FALSE)),IF(ISERROR(VLOOKUP(Q40,$AL$16:$AS$23,4,FALSE)),0,VLOOKUP(Q40,$AL$16:$AS$23,4,FALSE)),IF(ISERROR(VLOOKUP(Q40,$AL$24:$AS$31,4,FALSE)),0,VLOOKUP(Q40,$AL$24:$AS$31,4,FALSE))))","v":""},{"$f":"IF(MAX(IF(ISERROR(VLOOKUP(Q40,$AL$6:$AS$7,7,FALSE)),0,VLOOKUP(Q40,$AL$6:$AS$7,7,FALSE)),IF(ISERROR(VLOOKUP(Q40,$AL$8:$AS$11,7,FALSE)),0,VLOOKUP(Q40,$AL$8:$AS$11,7,FALSE)),IF(ISERROR(VLOOKUP(Q40,$AL$12:$AS$15,7,FALSE)),0,VLOOKUP(Q40,$AL$12:$AS$15,7,FALSE)),IF(ISERROR(VLOOKUP(Q40,$AL$16:$AS$23,7,FALSE)),0,VLOOKUP(Q40,$AL$16:$AS$23,7,FALSE)),IF(ISERROR(VLOOKUP(Q40,$AL$24:$AS$31,7,FALSE)),0,VLOOKUP(Q40,$AL$24:$AS$31,7,FALSE)))=0,\"\",MAX(IF(ISERROR(VLOOKUP(Q40,$AL$6:$AS$7,7,FALSE)),0,VLOOKUP(Q40,$AL$6:$AS$7,7,FALSE)),IF(ISERROR(VLOOKUP(Q40,$AL$8:$AS$11,7,FALSE)),0,VLOOKUP(Q40,$AL$8:$AS$11,7,FALSE)),IF(ISERROR(VLOOKUP(Q40,$AL$12:$AS$15,7,FALSE)),0,VLOOKUP(Q40,$AL$12:$AS$15,7,FALSE)),IF(ISERROR(VLOOKUP(Q40,$AL$16:$AS$23,7,FALSE)),0,VLOOKUP(Q40,$AL$16:$AS$23,7,FALSE)),IF(ISERROR(VLOOKUP(Q40,$AL$24:$AS$31,7,FALSE)),0,VLOOKUP(Q40,$AL$24:$AS$31,7,FALSE))))","v":""},{"$f":"IF(Q40=\"\",\"\",ROUNDDOWN(V40/Y40,2))","v":""}]
[]
[null,null,null,null,null,null,null,null,null,null,null,null,null,null,null,null,null,null,null,null,null,{"$f":"SUM(V26:V41)","v":0},null,null,{"$f":"SUM(Y26:Y41)","v":0},{"$f":"MAX(Z26:Z41)","v":0},{"$f":"MAX(AA26:AA41)","v":0},{"$f":"IF(V42=0,0,V42/Y42)","v":0}]

{"sheet":"DKO_12_Joueurs","index":16,"n_rows":88,"n_cols":39,"rows_kept":88,"cut":false,"hidden":true,"merged":[[82,10,82,12],[83,10,83,12],[84,2,84,3],[84,6,85,6],[85,2,85,3],[78,17,78,21],[79,17,79,21],[80,2,80,3],[80,6,81,6],[81,2,81,3],[81,10,81,12],[74,10,74,12],[75,10,75,12],[76,2,76,3],[76,6,77,6],[77,2,77,3],[77,17,77,21],[67,37,69,37],[67,38,69,38],[72,2,72,3],[72,6,73,6],[73,2,73,3],[73,10,73,12],[67,31,69,31],[67,32,69,32],[67,33,69,33],[67,34,69,34],[67,35,69,35],[67,36,69,36],[67,18,69,20],[67,25,69,25],[67,27,69,27],[67,28,69,28],[67,29,69,29],[67,30,69,30],[64,34,66,34],[64,35,66,35],[64,36,66,36],[64,37,66,37],[64,38,66,38],[67,0,69,0],[67,1,68,1],[67,3,68,3],[67,6,68,6],[67,10,69,11],[64,28,66,28],[64,29,66,29],[64,30,66,30],[64,31,66,31],[64,32,66,32],[64,33,66,33],[64,0,66,0],[64,1,65,1],[64,3,65,3],[64,6,65,6],[64,10,66,11],[64,15,66,17],[64,25,66,25],[64,27,66,27],[59,38,60,38],[61,0,63,0],[61,1,62,1],[61,3,62,3],[61,6,62,6],[61,10,63,11],[61,37,63,37],[61,38,63,38],[61,32,63,32],[61,33,63,33],[61,34,63,34],[61,35,63,35],[61,36,63,36],[61,31,63,31],[61,12,63,14],[61,25,63,25],[61,29,63,29],[61,30,63,30],[59,29,59,30],[59,31,59,32],[59,33,59,34],[59,35,59,36],[53,38,55,38],[53,32,55,32],[53,33,55,33],[53,34,55,34],[53,35,55,35],[53,36,55,36],[57,0,58,7],[58,10,60,11],[58,12,60,14],[58,15,60,17],[58,18,60,20],[58,21,69,21],[58,22,60,24],[58,25,60,25],[59,27,59,28],[61,27,63,27],[61,28,63,28],[53,37,55,37],[53,25,55,25],[53,27,55,27],[53,28,55,28],[53,29,55,29],[53,30,55,30],[53,31,55,31],[45,38,46,38],[50,0,52,0],[50,1,51,1],[50,3,51,3],[50,6,51,6],[50,10,52,11],[50,15,52,17],[50,25,52,25],[50,27,52,27],[50,28,52,28],[47,0,49,0],[47,1,48,1],[50,35,52,35],[50,36,52,36],[50,37,52,37],[50,38,52,38],[50,29,52,29],[50,30,52,30],[50,31,52,31],[50,32,52,32],[50,33,52,33],[50,34,52,34],[47,38,49,38],[47,32,49,32],[47,35,49,35],[47,36,49,36],[47,37,49,37],[47,25,49,25],[47,27,49,27],[47,28,49,28],[47,29,49,29],[47,30,49,30],[47,31,49,31],[43,0,44,7],[44,10,46,11],[44,12,46,14],[44,15,46,17],[44,18,46,20],[44,21,55,21],[44,22,46,24],[44,25,46,25],[47,33,49,33],[53,0,55,0],[53,1,54,1],[53,3,54,3],[53,6,54,6],[53,10,55,11],[53,18,55,20],[47,3,48,3],[47,6,48,6],[47,10,49,11],[47,12,49,14],[45,27,45,28],[45,29,45,30],[45,31,45,32],[45,33,45,34],[47,34,49,34],[31,29,33,29],[31,30,33,30],[37,36,39,36],[37,18,39,20],[37,25,39,25],[37,27,39,27],[37,28,39,28],[37,29,39,29],[37,30,39,30],[45,35,45,36],[34,34,36,34],[34,35,36,35],[34,36,36,36],[34,37,36,37],[34,38,36,38],[37,0,39,0],[37,1,38,1],[37,3,38,3],[37,6,38,6],[37,10,39,11],[34,28,36,28],[34,29,36,29],[34,30,36,30],[34,31,36,31],[34,32,36,32],[34,33,36,33],[37,37,39,37],[37,38,39,38],[37,32,39,32],[37,33,39,33],[37,34,39,34],[37,35,39,35],[37,31,39,31],[29,38,30,38],[31,0,33,0],[31,1,32,1],[31,3,32,3],[31,6,32,6],[31,10,33,11],[31,37,33,37],[31,38,33,38],[34,0,36,0],[34,1,35,1],[34,3,35,3],[34,6,35,6],[34,10,36,11],[34,15,36,17],[34,25,36,25],[34,27,36,27],[31,31,33,31],[31,32,33,32],[31,33,33,33],[31,34,33,34],[31,35,33,35],[31,36,33,36],[31,12,33,14],[31,25,33,25],[21,37,23,37],[21,25,23,25],[21,27,23,27],[21,28,23,28],[21,29,23,29],[21,30,23,30],[21,31,23,31],[29,29,29,30],[29,31,29,32],[29,33,29,34],[29,35,29,36],[27,0,28,7],[28,10,30,11],[28,12,30,14],[28,15,30,17],[28,18,30,20],[28,21,39,21],[28,22,30,24],[28,25,30,25],[29,27,29,28],[31,27,33,27],[31,28,33,28],[15,0,17,0],[15,1,16,1],[18,35,20,35],[18,36,20,36],[18,37,20,37],[18,38,20,38],[21,0,23,0],[21,1,22,1],[21,3,22,3],[21,6,22,6],[21,10,23,11],[21,18,23,20],[18,29,20,29],[18,30,20,30],[18,31,20,31],[18,32,20,32],[18,33,20,33],[18,34,20,34],[21,38,23,38],[21,32,23,32],[21,33,23,33],[21,34,23,34],[21,35,23,35],[21,36,23,36],[15,35,17,35],[15,36,17,36],[15,37,17,37],[15,25,17,25],[15,27,17,27],[15,28,17,28],[15,29,17,29],[15,30,17,30],[15,31,17,31],[18,6,19,6],[18,10,20,11],[18,15,20,17],[18,25,20,25],[18,27,20,27],[18,28,20,28],[15,32,17,32],[15,33,17,33],[15,34,17,34],[13,38,14,38],[8,3,9,7],[9,10,10,25],[11,0,12,7],[12,10,14,11],[12,12,14,14],[12,15,14,17],[12,18,14,20],[12,21,23,21],[12,22,14,24],[12,25,14,25],[15,3,16,3],[15,6,16,6],[15,10,17,11],[15,12,17,14],[13,27,13,28],[13,29,13,30],[13,31,13,32],[13,33,13,34],[13,35,13,36],[15,38,17,38],[18,0,20,0],[18,1,19,1],[18,3,19,3],[7,23,7,24],[7,25,7,26],[7,27,7,28],[7,29,7,30],[7,31,7,32],[7,33,7,34],[6,25,6,26],[6,27,6,28],[6,29,6,30],[6,31,6,32],[6,33,6,34],[6,23,6,24],[7,9,7,11],[7,13,7,14],[7,16,7,17],[7,19,7,20],[7,21,7,22],[4,31,4,32],[4,33,4,34],[5,3,6,3],[5,4,6,4],[5,27,5,28],[5,29,5,30],[5,31,5,32],[5,33,5,34],[6,9,6,11],[6,13,6,14],[1,9,4,26],[2,3,3,4],[4,3,4,4],[4,7,6,7],[4,27,4,28],[4,29,4,30],[6,16,6,17],[6,19,6,20],[6,21,6,22]]}
[]
[null,null,null,null,null,null,null,null,null,"LIGUE MÉDITÉRRANÉE DE BILLARD"]
[null,null,null,"CLUB ORGANISATEUR"]
[]
[null,null,null,"19002 – SPORT AMAT.DE BILLARD MARSEILLAIS",null,null,null,null,null,null,null,null,null,null,null,null,null,null,null,null,null,null,null,null,null,null,null,"POULE A",null,"POULE B",null,"POULE C",null,"POULE D"]
[null,null,null,"DIRECTEUR DE JEU :",null,null,null,null,null,null,null,null,null,null,null,null,null,null,null,null,null,null,null,null,null,null,null,{"$f":"B16","v":0},null,{"$f":"B32","v":0},null,{"$f":"B48","v":0},null,{"$f":"B62","v":0}]
[null,null,null,null,null,null,null,null,null,"Compétition",null,null,null,"Mode de jeu",null,null,"Catégorie",null,null,"Distance",null,null,null,"FORFAIT JOUEURS",null,"NOM ",null,{"$f":"B19","v":0},null,{"$f":"B35","v":0},null,{"$f":"B51","v":0},null,{"$f":"B65","v":0}]
[null,null,null,null,null,null,null,null,null,null,null,null,null,null,null,null,null,null,null,null,null,null,null,null,null,null,null,{"$f":"B22","v":0},null,{"$f":"B38","v":0},null,{"$f":"B54","v":0},null,{"$f":"B68","v":0}]
[null,null,null,"SAISIE DES RESULTATS"]
[null,null,null,null,null,null,null,null,null,null,"6 JOUEURS SUR 2 BILLARDS"]
[]
["POULE A"]
[null,null,null,null,null,null,null,null,null,null,null,null,{"$f":"B16","v":0},null,null,{"$f":"B19","v":0},null,null,{"$f":"B22","v":0},null,null,null,"TOTAUX",null,null,"CLASSEMENT"]
[null,null,null,null,null,null,null,null,null,null,null,null,null,null,null,null,null,null,null,null,null,null,null,null,null,null,null,"Classement",null,"Classement",null,"Classement",null,"Classement",null,"Classement",null,"GENERAL","RANG"]
[null,null,null,null,null,"Pts","Rep","Série",null,null,null,null,null,null,null,null,null,null,null,null,null,null,null,null,null,null,null,"Point-Match","CLS-M","Moy-Gen","CLS-G","Moy-Part","CLS-P","M-Series","CLS-S","MGPS","CLS","CLS"]
[1,{"$f":"'Saisie des joueurs'!L18","v":0},null,"Tour 1",{"$f":"B19","v":0},null,null,null,null,null,{"$f":"B16","v":0},null,"L",null,null,{"$f":"F22","v":0},null,{"$f":"G22","v":0},{"$f":"F19","v":0},null,{"$f":"G19","v":0},null,{"$f":"P16+S16","v":0},null,{"$f":"R16+U16","v":0},{"$f":"AM16","v":{"$error":"#DIV/0!"}},null,{"$f":"X17","v":0.02},{"$f":"RANK(AB16,AB$16:AB$24,0)","v":1},{"$f":"Y18","v":{"$error":"#DIV/0!"}},{"$f":"RANK(AD16,AD$16:AD$24,0)","v":{"$error":"#DIV/0!"}},{"$f":"MAX(R18,U18,)","v":{"$error":"#DIV/0!"}},{"$f":"RANK(AF16,AF$16:AF$24)","v":{"$error":"#DIV/0!"}},{"$f":"W18","v":0},{"$f":"RANK(AH16,AH$16:AH$24)","v":1},{"$f":"(AC16*1000)+(AE16*100)+(AG16*10)+(AI16*1)","v":{"$error":"#DIV/0!"}},{"$f":"AJ16","v":{"$error":"#DIV/0!"}},{"$f":"RANK(AK16,AK$16:AK$24,1)","v":{"$error":"#DIV/0!"}},{"$f":"RANK(AL16,AL$16:AL$24,1)","v":{"$error":"#DIV/0!"}}]
[null,null,null,null,{"$f":"B22","v":0},null,null,null,null,null,null,null,null,null,null,null,{"$f":"IF(R16<1,0.01,IF(P16>M19,2,IF(P16=M19,1,0)))","v":0.01},null,null,{"$f":"IF(U16<1,0.01,IF(S16>M22,2,IF(S16=M22,1,0)))","v":0.01},null,null,null,{"$f":"Q17+T17","v":0.02}]
[null,0,null,null,null,null,null,null,null,null,null,null,null,null,null,{"$f":"H22","v":0},null,{"$f":"P16/R16","v":{"$error":"#DIV/0!"}},{"$f":"H19","v":0},null,{"$f":"S16/U16","v":{"$error":"#DIV/0!"}},null,{"$f":"MAX(P18,S18,)","v":0},null,{"$f":"W16/Y16","v":{"$error":"#DIV/0!"}}]
[8,{"$f":"'Saisie des joueurs'!L25","v":0},null,"Tour 2",{"$f":"B16","v":0},null,null,null,null,null,{"$f":"B19","v":0},null,{"$f":"F23","v":0},null,{"$f":"G22","v":0},"M",null,null,{"$f":"F16","v":0},null,{"$f":"G16","v":0},null,{"$f":"M19+S19","v":0},null,{"$f":"O19+U19","v":0},{"$f":"AM19","v":{"$error":"#DIV/0!"}},null,{"$f":"X20","v":0.02},{"$f":"RANK(AB19,AB$16:AB$24,0)","v":1},{"$f":"Y21","v":{"$error":"#DIV/0!"}},{"$f":"RANK(AD19,AD$16:AD$24,0)","v":{"$error":"#DIV/0!"}},{"$f":"MAX(R21,U21,)","v":{"$error":"#DIV/0!"}},{"$f":"RANK(AF19,AF$16:AF$24)","v":{"$error":"#DIV/0!"}},{"$f":"W21","v":0},{"$f":"RANK(AH19,AH$16:AH$24)","v":1},{"$f":"(AC19*1000)+(AE19*100)+(AG19*10)+(AI19*1)","v":{"$error":"#DIV/0!"}},{"$f":"AJ19","v":{"$error":"#DIV/0!"}},{"$f":"RANK(AK19,AK$16:AK$24,1)","v":{"$error":"#DIV/0!"}},{"$f":"RANK(AL19,AL$16:AL$24,1)","v":{"$error":"#DIV/0!"}}]
[null,null,null,null,{"$f":"B22","v":0},null,null,null,null,null,null,null,null,{"$f":"IF(R16>0,2-Q17,0.01)","v":0.01},null,null,null,null,null,{"$f":"IF(U19<1,0.01,IF(S19>P22,2,IF(S19=P22,1,0)))","v":0.01},null,null,null,{"$f":"N20+T20","v":0.02}]
[null,0,null,null,null,null,null,null,null,null,null,null,{"$f":"H23","v":0},null,{"$f":"M19/O19","v":{"$error":"#DIV/0!"}},null,null,null,{"$f":"H16","v":0},null,{"$f":"S19/U19","v":{"$error":"#DIV/0!"}},null,{"$f":"MAXA(M21,S21,)","v":0},null,{"$f":"W19/Y19","v":{"$error":"#DIV/0!"}}]
[9,{"$f":"'Saisie des joueurs'!L26","v":0},null,"Tour 3",{"$f":"B16","v":0},null,null,null,null,null,{"$f":"B22","v":0},null,{"$f":"F20","v":0},null,{"$f":"G19","v":0},{"$f":"F17","v":0},null,{"$f":"G16","v":0},"B",null,null,null,{"$f":"M22+P22","v":0},null,{"$f":"O22+R22","v":0},{"$f":"AM22","v":{"$error":"#DIV/0!"}},null,{"$f":"X23","v":0.02},{"$f":"RANK(AB22,AB$16:AB$24,0)","v":1},{"$f":"Y24","v":{"$error":"#DIV/0!"}},{"$f":"RANK(AD22,AD$16:AD$24,0)","v":{"$error":"#DIV/0!"}},{"$f":"MAX(R24,U24,)","v":{"$error":"#DIV/0!"}},{"$f":"RANK(AF22,AF$16:AF$24)","v":{"$error":"#DIV/0!"}},{"$f":"W24","v":0},{"$f":"RANK(AH22,AH$16:AH$24)","v":1},{"$f":"(AC22*1000)+(AE22*100)+(AG22*10)+(AI22*1)","v":{"$error":"#DIV/0!"}},{"$f":"AJ22","v":{"$error":"#DIV/0!"}},{"$f":"RANK(AK22,AK$16:AK$24,1)","v":{"$error":"#DIV/0!"}},{"$f":"RANK(AL22,AL$16:AL$24,1)","v":{"$error":"#DIV/0!"}}]
[null,null,null,null,{"$f":"B19","v":0},null,null,null,null,null,null,null,null,{"$f":"IF(U16>0,2-T17,0.01)","v":0.01},null,null,{"$f":"IF(U19>0,2-T20,0.01)","v":0.01},null,null,null,null,null,null,{"$f":"N23+Q23","v":0.02}]
[null,0,null,null,null,null,null,null,null,null,null,null,{"$f":"H20","v":0},null,{"$f":"M22/O22","v":{"$error":"#DIV/0!"}},{"$f":"H17","v":0},null,{"$f":"P22/R22","v":{"$error":"#DIV/0!"}},null,null,null,null,{"$f":"MAXA(M24,P24,)","v":0},null,{"$f":"W22/Y22","v":{"$error":"#DIV/0!"}}]
[]
[]
[]
["POULE B"]
[null,null,null,null,null,null,null,null,null,null,null,null,{"$f":"B32","v":0},null,null,{"$f":"B35","v":0},null,null,{"$f":"B38","v":0},null,null,null,"TOTAUX",null,null,"CLASSEMENT"]
[null,null,null,null,null,null,null,null,null,null,null,null,null,null,null,null,null,null,null,null,null,null,null,null,null,null,null,"Classement",null,"Classement",null,"Classement",null,"Classement",null,"Classement",null,"GENERAL","RANG"]
[null,null,null,null,null,"Pts","Rep","Série",null,null,null,null,null,null,null,null,null,null,null,null,null,null,null,null,null,null,null,"Point-Match","CLS-M","Moy-Gen","CLS-G","Moy-Part","CLS-P","M-Series","CLS-S","MGPS","CLS","CLS"]
[2,{"$f":"'Saisie des joueurs'!L19","v":0},null,"Tour 1",{"$f":"B35","v":0},null,null,null,null,null,{"$f":"B32","v":0},null,"L",null,null,{"$f":"F38","v":0},null,{"$f":"G38","v":0},{"$f":"F35","v":0},null,{"$f":"G35","v":0},null,{"$f":"P32+S32","v":0},null,{"$f":"R32+U32","v":0},{"$f":"AM32","v":{"$error":"#DIV/0!"}},null,{"$f":"X33","v":0.02},{"$f":"RANK(AB32,AB$32:AB$40,0)","v":1},{"$f":"Y34","v":{"$error":"#DIV/0!"}},{"$f":"RANK(AD32,AD$32:AD$40,0)","v":{"$error":"#DIV/0!"}},{"$f":"MAX(R34,U34,)","v":{"$error":"#DIV/0!"}},{"$f":"RANK(AF32,AF$32:AF$40)","v":{"$error":"#DIV/0!"}},{"$f":"W34","v":0},{"$f":"RANK(AH32,AH$32:AH$40)","v":1},{"$f":"(AC32*1000)+(AE32*100)+(AG32*10)+(AI32*1)","v":{"$error":"#DIV/0!"}},{"$f":"AJ32","v":{"$error":"#DIV/0!"}},{"$f":"RANK(AK32,AK$32:AK$40,1)","v":{"$error":"#DIV/0!"}},{"$f":"RANK(AL32,AL$32:AL$40,1)","v":{"$error":"#DIV/0!"}}]
[null,null,null,null,{"$f":"B38","v":0},null,null,null,null,null,null,null,null,null,null,null,{"$f":"IF(R32<1,0.01,IF(P32>M35,2,IF(P32=M35,1,0)))","v":0.01},null,null,{"$f":"IF(U32<1,0.01,IF(S32>M38,2,IF(S32=M38,1,0)))","v":0.01},null,null,null,{"$f":"Q33+T33","v":0.02}]
[null,0,null,null,null,null,null,null,null,null,null,null,null,null,null,{"$f":"H38","v":0},null,{"$f":"P32/R32","v":{"$error":"#DIV/0!"}},{"$f":"H35","v":0},null,{"$f":"S32/U32","v":{"$error":"#DIV/0!"}},null,{"$f":"MAX(P34,S34,)","v":0},null,{"$f":"W32/Y32","v":{"$error":"#DIV/0!"}}]
[7,{"$f":"'Saisie des joueurs'!L24","v":0},null,"Tour 2",{"$f":"B32","v":0},null,null,null,null,null,{"$f":"B35","v":0},null,{"$f":"F39","v":0},null,{"$f":"G38","v":0},"M",null,null,{"$f":"F32","v":0},null,{"$f":"G32","v":0},null,{"$f":"M35+S35","v":0},null,{"$f":"O35+U35","v":0},{"$f":"AM35","v":{"$error":"#DIV/0!"}},null,{"$f":"X36","v":0.02},{"$f":"RANK(AB35,AB$32:AB$40,0)","v":1},{"$f":"Y37","v":{"$error":"#DIV/0!"}},{"$f":"RANK(AD35,AD$32:AD$40,0)","v":{"$error":"#DIV/0!"}},{"$f":"MAX(R37,U37,)","v":{"$error":"#DIV/0!"}},{"$f":"RANK(AF35,AF$32:AF$40)","v":{"$error":"#DIV/0!"}},{"$f":"W37","v":0},{"$f":"RANK(AH35,AH$32:AH$40)","v":1},{"$f":"(AC35*1000)+(AE35*100)+(AG35*10)+(AI35*1)","v":{"$error":"#DIV/0!"}},{"$f":"AJ35","v":{"$error":"#DIV/0!"}},{"$f":"RANK(AK35,AK$32:AK$40,1)","v":{"$error":"#DIV/0!"}},{"$error":"#DIV/0!"}]
[null,null,null,null,{"$f":"B38","v":0},null,null,null,null,null,null,null,null,{"$f":"IF(R32>0,2-Q33,0.01)","v":0.01},null,null,null,null,null,{"$f":"IF(U35<1,0.01,IF(S35>P38,2,IF(S35=P38,1,0)))","v":0.01},null,null,null,{"$f":"N36+T36","v":0.02}]
[null,0,null,null,null,null,null,null,null,null,null,null,{"$f":"H39","v":0},null,{"$f":"M35/O35","v":{"$error":"#DIV/0!"}},null,null,null,{"$f":"H32","v":0},null,{"$f":"S35/U35","v":{"$error":"#DIV/0!"}},null,{"$f":"MAXA(M37,S37,)","v":0},null,{"$f":"W35/Y35","v":{"$error":"#DIV/0!"}}]
[10,{"$f":"'Saisie des joueurs'!L27","v":0},null,"Tour 3",{"$f":"B32","v":0},null,null,null,null,null,{"$f":"B38","v":0},null,{"$f":"F36","v":0},null,{"$f":"G35","v":0},{"$f":"F33","v":0},null,{"$f":"G32","v":0},"B",null,null,null,{"$f":"M38+P38","v":0},null,{"$f":"O38+R38","v":0},{"$f":"AM38","v":{"$error":"#DIV/0!"}},null,{"$f":"X39","v":0.02},{"$f":"RANK(AB38,AB$32:AB$40,0)","v":1},{"$f":"Y40","v":{"$error":"#DIV/0!"}},{"$f":"RANK(AD38,AD$32:AD$40,0)","v":{"$error":"#DIV/0!"}},{"$f":"MAX(R40,U40,)","v":{"$error":"#DIV/0!"}},{"$f":"RANK(AF38,AF$32:AF$40)","v":{"$error":"#DIV/0!"}},{"$f":"W40","v":0},{"$f":"RANK(AH38,AH$32:AH$40)","v":1},{"$f":"(AC38*1000)+(AE38*100)+(AG38*10)+(AI38*1)","v":{"$error":"#DIV/0!"}},{"$f":"AJ38","v":{"$error":"#DIV/0!"}},{"$f":"RANK(AK38,AK$32:AK$40,1)","v":{"$error":"#DIV/0!"}},{"$error":"#DIV/0!"}]
[null,null,null,null,{"$f":"B35","v":0},null,null,null,null,null,null,null,null,{"$f":"IF(U32>0,2-T33,0.01)","v":0.01},null,null,{"$f":"IF(U35>0,2-T36,0.01)","v":0.01},null,null,null,null,null,null,{"$f":"N39+Q39","v":0.02}]
[null,0,null,null,null,null,null,null,null,null,null,null,{"$f":"H36","v":0},null,{"$f":"M38/O38","v":{"$error":"#DIV/0!"}},{"$f":"H33","v":0},null,{"$f":"P38/R38","v":{"$error":"#DIV/0!"}},null,null,null,null,{"$f":"MAXA(M40,P40,)","v":0},null,{"$f":"W38/Y38","v":{"$error":"#DIV/0!"}}]
[]
[]
[]
["POULE C"]
[null,null,null,null,null,null,null,null,null,null,null,null,{"$f":"B48","v":0},null,null,{"$f":"B51","v":0},null,null,{"$f":"B54","v":0},null,null,null,"TOTAUX",null,null,"CLASSEMENT"]
[null,null,null,null,null,null,null,null,null,null,null,null,null,null,null,null,null,null,null,null,null,null,null,null,null,null,null,"Classement",null,"Classement",null,"Classement",null,"Classement",null,"Classement",null,"GENERAL","RANG"]
[null,null,null,null,null,"Pts","Rep","Série",null,null,null,null,null,null,null,null,null,null,null,null,null,null,null,null,null,null,null,"Point-Match","CLS-M","Moy-Gen","CLS-G","Moy-Part","CLS-P","M-Series","CLS-S","MGPS","CLS","CLS"]
[3,{"$f":"'Saisie des joueurs'!L20","v":0},null,"Tour 1",{"$f":"B51","v":0},null,null,null,null,null,{"$f":"B48","v":0},null,"L",null,null,{"$f":"F54","v":0},null,{"$f":"G54","v":0},{"$f":"F51","v":0},null,{"$f":"G51","v":0},null,{"$f":"P48+S48","v":0},null,{"$f":"R48+U48","v":0},{"$f":"AM48","v":{"$error":"#DIV/0!"}},null,{"$f":"X49","v":0.02},{"$f":"RANK(AB48,AB$48:AB$56,0)","v":1},{"$f":"Y50","v":{"$error":"#DIV/0!"}},{"$f":"RANK(AD48,AD$48:AD$56,0)","v":{"$error":"#DIV/0!"}},{"$f":"MAX(R50,U50,)","v":{"$error":"#DIV/0!"}},{"$f":"RANK(AF48,AF$48:AF$56)","v":{"$error":"#DIV/0!"}},{"$f":"W50","v":0},{"$f":"RANK(AH48,AH$48:AH$56)","v":1},{"$f":"(AC48*1000)+(AE48*100)+(AG48*10)+(AI48*1)","v":{"$error":"#DIV/0!"}},{"$f":"AJ48","v":{"$error":"#DIV/0!"}},{"$f":"RANK(AK48,AK$48:AK$56,1)","v":{"$error":"#DIV/0!"}},{"$f":"RANK(AL48,AL$48:AL$56,1)","v":{"$error":"#DIV/0!"}}]
[null,null,null,null,{"$f":"B54","v":0},null,null,null,null,null,null,null,null,null,null,null,{"$f":"IF(R48<1,0.01,IF(P48>M51,2,IF(P48=M51,1,0)))","v":0.01},null,null,{"$f":"IF(U48<1,0.01,IF(S48>M54,2,IF(S48=M54,1,0)))","v":0.01},null,null,null,{"$f":"Q49+T49","v":0.02}]
[null,0,null,null,null,null,null,null,null,null,null,null,null,null,null,{"$f":"H54","v":0},null,{"$f":"P48/R48","v":{"$error":"#DIV/0!"}},{"$f":"H51","v":0},null,{"$f":"S48/U48","v":{"$error":"#DIV/0!"}},null,{"$f":"MAX(P50,S50,)","v":0},null,{"$f":"W48/Y48","v":{"$error":"#DIV/0!"}}]
[6,{"$f":"'Saisie des joueurs'!L23","v":0},null,"Tour 2",{"$f":"B48","v":0},null,null,null,null,null,{"$f":"B51","v":0},null,{"$f":"F55","v":0},null,{"$f":"G54","v":0},"M",null,null,{"$f":"F48","v":0},null,{"$f":"G48","v":0},null,{"$f":"M51+S51","v":0},null,{"$f":"O51+U51","v":0},{"$f":"AM51","v":{"$error":"#DIV/0!"}},null,{"$f":"X52","v":0.02},{"$f":"RANK(AB51,AB$48:AB$56,0)","v":1},{"$f":"Y53","v":{"$error":"#DIV/0!"}},{"$f":"RANK(AD51,AD$48:AD$56,0)","v":{"$error":"#DIV/0!"}},{"$f":"MAX(R53,U53,)","v":{"$error":"#DIV/0!"}},{"$f":"RANK(AF51,AF$48:AF$56)","v":{"$error":"#DIV/0!"}},{"$f":"W53","v":0},{"$f":"RANK(AH51,AH$48:AH$56)","v":1},{"$f":"(AC51*1000)+(AE51*100)+(AG51*10)+(AI51*1)","v":{"$error":"#DIV/0!"}},{"$f":"AJ51","v":{"$error":"#DIV/0!"}},{"$f":"RANK(AK51,AK$48:AK$56,1)","v":{"$error":"#DIV/0!"}},{"$error":"#DIV/0!"}]
[null,null,null,null,{"$f":"B54","v":0},null,null,null,null,null,null,null,null,{"$f":"IF(R48>0,2-Q49,0.01)","v":0.01},null,null,null,null,null,{"$f":"IF(U51<1,0.01,IF(S51>P54,2,IF(S51=P54,1,0)))","v":0.01},null,null,null,{"$f":"N52+T52","v":0.02}]
[null,0,null,null,null,null,null,null,null,null,null,null,{"$f":"H55","v":0},null,{"$f":"M51/O51","v":{"$error":"#DIV/0!"}},null,null,null,{"$f":"H48","v":0},null,{"$f":"S51/U51","v":{"$error":"#DIV/0!"}},null,{"$f":"MAXA(M53,S53,)","v":0},null,{"$f":"W51/Y51","v":{"$error":"#DIV/0!"}}]
[11,{"$f":"'Saisie des joueurs'!L28","v":0},null,"Tour 3",{"$f":"B48","v":0},null,null,null,null,null,{"$f":"B54","v":0},null,{"$f":"F52","v":0},null,{"$f":"G51","v":0},{"$f":"F49","v":0},null,{"$f":"G48","v":0},"B",null,null,null,{"$f":"M54+P54","v":0},null,{"$f":"O54+R54","v":0},{"$f":"AM54","v":{"$error":"#DIV/0!"}},null,{"$f":"X55","v":0.02},{"$f":"RANK(AB54,AB$48:AB$56,0)","v":1},{"$f":"Y56","v":{"$error":"#DIV/0!"}},{"$f":"RANK(AD54,AD$48:AD$56,0)","v":{"$error":"#DIV/0!"}},{"$f":"MAX(R56,U56,)","v":{"$error":"#DIV/0!"}},{"$f":"RANK(AF54,AF$48:AF$56)","v":{"$error":"#DIV/0!"}},{"$f":"W56","v":0},{"$f":"RANK(AH54,AH$48:AH$56)","v":1},{"$f":"(AC54*1000)+(AE54*100)+(AG54*10)+(AI54*1)","v":{"$error":"#DIV/0!"}},{"$f":"AJ54","v":{"$error":"#DIV/0!"}},{"$f":"RANK(AK54,AK$48:AK$56,1)","v":{"$error":"#DIV/0!"}},{"$error":"#DIV/0!"}]
[null,null,null,null,{"$f":"B51","v":0},null,null,null,null,null,null,null,null,{"$f":"IF(U48>0,2-T49,0.01)","v":0.01},null,null,{"$f":"IF(U51>0,2-T52,0.01)","v":0.01},null,null,null,null,null,null,{"$f":"N55+Q55","v":0.02}]
[null,0,null,null,null,null,null,null,null,null,null,null,{"$f":"H52","v":0},null,{"$f":"M54/O54","v":{"$error":"#DIV/0!"}},{"$f":"H49","v":0},null,{"$f":"P54/R54","v":{"$error":"#DIV/0!"}},null,null,null,null,{"$f":"MAXA(M56,P56,)","v":0},null,{"$f":"W54/Y54","v":{"$error":"#DIV/0!"}}]
[]
["POULE D"]
[null,null,null,null,null,null,null,null,null,null,null,null,{"$f":"B62","v":0},null,null,{"$f":"B65","v":0},null,null,{"$f":"B68","v":0},null,null,null,"TOTAUX",null,null,"CLASSEMENT"]
[null,null,null,null,null,null,null,null,null,null,null,null,null,null,null,null,null,null,null,null,null,null,null,null,null,null,null,"Classement",null,"Classement",null,"Classement",null,"Classement",null,"Classement",null,"GENERAL","RANG"]
[null,null,null,null,null,"Pts","Rep","Série",null,null,null,null,null,null,null,null,null,null,null,null,null,null,null,null,null,null,null,"Point-Match","CLS-M","Moy-Gen","CLS-G","Moy-Part","CLS-P","M-Series","CLS-S","MGPS","CLS","CLS"]
[4,{"$f":"'Saisie des joueurs'!L21","v":0},null,"Tour 1",{"$f":"B65","v":0},null,null,null,null,null,{"$f":"B62","v":0},null,"L",null,null,{"$f":"F68","v":0},null,{"$f":"G68","v":0},{"$f":"F65","v":0},null,{"$f":"G65","v":0},null,{"$f":"P62+S62","v":0},null,{"$f":"R62+U62","v":0},{"$f":"AM62","v":{"$error":"#DIV/0!"}},null,{"$f":"X63","v":0.02},{"$f":"RANK(AB62,AB$62:AB$70,0)","v":1},{"$f":"Y64","v":{"$error":"#DIV/0!"}},{"$f":"RANK(AD62,AD$62:AD$70,0)","v":{"$error":"#DIV/0!"}},{"$f":"MAX(R64,U64,)","v":{"$error":"#DIV/0!"}},{"$f":"RANK(AF62,AF$62:AF$70)","v":{"$error":"#DIV/0!"}},{"$f":"W64","v":0},{"$f":"RANK(AH62,AH$62:AH$70)","v":1},{"$f":"(AC62*1000)+(AE62*100)+(AG62*10)+(AI62*1)","v":{"$error":"#DIV/0!"}},{"$f":"AJ62","v":{"$error":"#DIV/0!"}},{"$f":"RANK(AK62,AK$62:AK$70,1)","v":{"$error":"#DIV/0!"}},{"$f":"RANK(AL62,AL$62:AL$70,1)","v":{"$error":"#DIV/0!"}}]
[null,null,null,null,{"$f":"B68","v":0},null,null,null,null,null,null,null,null,null,null,null,{"$f":"IF(R62<1,0.01,IF(P62>M65,2,IF(P62=M65,1,0)))","v":0.01},null,null,{"$f":"IF(U62<1,0.01,IF(S62>M68,2,IF(S62=M68,1,0)))","v":0.01},null,null,null,{"$f":"Q63+T63","v":0.02}]
[null,0,null,null,null,null,null,null,null,null,null,null,null,null,null,{"$f":"H68","v":0},null,{"$f":"P62/R62","v":{"$error":"#DIV/0!"}},{"$f":"H65","v":0},null,{"$f":"S62/U62","v":{"$error":"#DIV/0!"}},null,{"$f":"MAX(P64,S64,)","v":0},null,{"$f":"W62/Y62","v":{"$error":"#DIV/0!"}}]
[5,{"$f":"'Saisie des joueurs'!L22","v":0},null,"Tour 2",{"$f":"B62","v":0},null,null,null,null,null,{"$f":"B65","v":0},null,{"$f":"F69","v":0},null,{"$f":"G68","v":0},"M",null,null,{"$f":"F62","v":0},null,{"$f":"G62","v":0},null,{"$f":"M65+S65","v":0},null,{"$f":"O65+U65","v":0},{"$f":"AM65","v":{"$error":"#DIV/0!"}},null,{"$f":"X66","v":0.02},{"$f":"RANK(AB65,AB$62:AB$70,0)","v":1},{"$f":"Y67","v":{"$error":"#DIV/0!"}},{"$f":"RANK(AD65,AD$62:AD$70,0)","v":{"$error":"#DIV/0!"}},{"$f":"MAX(R67,U67,)","v":{"$error":"#DIV/0!"}},{"$f":"RANK(AF65,AF$62:AF$70)","v":{"$error":"#DIV/0!"}},{"$f":"W67","v":0},{"$f":"RANK(AH65,AH$62:AH$70)","v":1},{"$f":"(AC65*1000)+(AE65*100)+(AG65*10)+(AI65*1)","v":{"$error":"#DIV/0!"}},{"$f":"AJ65","v":{"$error":"#DIV/0!"}},{"$f":"RANK(AK65,AK$62:AK$70,1)","v":{"$error":"#DIV/0!"}},{"$error":"#DIV/0!"}]
[null,null,null,null,{"$f":"B68","v":0},null,null,null,null,null,null,null,null,{"$f":"IF(R62>0,2-Q63,0.01)","v":0.01},null,null,null,null,null,{"$f":"IF(U65<1,0.01,IF(S65>P68,2,IF(S65=P68,1,0)))","v":0.01},null,null,null,{"$f":"N66+T66","v":0.02}]
[null,0,null,null,null,null,null,null,null,null,null,null,{"$f":"H69","v":0},null,{"$f":"M65/O65","v":{"$error":"#DIV/0!"}},null,null,null,{"$f":"H62","v":0},null,{"$f":"S65/U65","v":{"$error":"#DIV/0!"}},null,{"$f":"MAXA(M67,S67,)","v":0},null,{"$f":"W65/Y65","v":{"$error":"#DIV/0!"}}]
[12,{"$f":"'Saisie des joueurs'!L29","v":0},null,"Tour 3",{"$f":"B62","v":0},null,null,null,null,null,{"$f":"B68","v":0},null,{"$f":"F66","v":0},null,{"$f":"G65","v":0},{"$f":"F63","v":0},null,{"$f":"G62","v":0},"B",null,null,null,{"$f":"M68+P68","v":0},null,{"$f":"O68+R68","v":0},{"$f":"AM68","v":{"$error":"#DIV/0!"}},null,{"$f":"X69","v":0.02},{"$f":"RANK(AB68,AB$62:AB$70,0)","v":1},{"$f":"Y70","v":{"$error":"#DIV/0!"}},{"$f":"RANK(AD68,AD$62:AD$70,0)","v":{"$error":"#DIV/0!"}},{"$f":"MAX(R70,U70,)","v":{"$error":"#DIV/0!"}},{"$f":"RANK(AF68,AF$62:AF$70)","v":{"$error":"#DIV/0!"}},{"$f":"W70","v":0},{"$f":"RANK(AH68,AH$62:AH$70)","v":1},{"$f":"(AC68*1000)+(AE68*100)+(AG68*10)+(AI68*1)","v":{"$error":"#DIV/0!"}},{"$f":"AJ68","v":{"$error":"#DIV/0!"}},{"$f":"RANK(AK68,AK$62:AK$70,1)","v":{"$error":"#DIV/0!"}},{"$error":"#DIV/0!"}]
[null,null,null,null,{"$f":"B65","v":0},null,null,null,null,null,null,null,null,{"$f":"IF(U62>0,2-T63,0.01)","v":0.01},null,null,{"$f":"IF(U65>0,2-T66,0.01)","v":0.01},null,null,null,null,null,null,{"$f":"N69+Q69","v":0.02}]
[null,0,null,null,null,null,null,null,null,null,null,null,{"$f":"H66","v":0},null,{"$f":"M68/O68","v":{"$error":"#DIV/0!"}},{"$f":"H63","v":0},null,{"$f":"P68/R68","v":{"$error":"#DIV/0!"}},null,null,null,null,{"$f":"MAXA(M70,P70,)","v":0},null,{"$f":"W68/Y68","v":{"$error":"#DIV/0!"}}]
[]
[null,null,null,null,"1/4 FINALE 1","Pts","Rep","Série"]
[null,null,"1er POULE - A"]
[null,null,"2e POULE - D",null,null,null,null,null,null,null,"DEMI FINALE 1 -2",null,null,"Pts","Rep","Série"]
[]
[null,null,null,null,"1/4 FINALE 2","Pts","Rep","Série"]
[null,null,"1er POULE - D"]
[null,null,"2e POULE - A",null,null,null,null,null,null,null,null,null,null,null,null,null,null,"FINALE ",null,null,null,null,"Pts","Rep","Série"]
[]
[null,null,null,null,"1/4 FINALE 3","Pts","Rep","Série"]
[null,null,"1er POULE - C"]
[null,null,"2e POULE - B",null,null,null,null,null,null,null,"DEMI FINALE 3 - 4",null,null,"Pts","Rep","Série"]
[]
[null,null,null,null,"1/4 FINALE 4","Pts","Rep","Série"]
[null,null,"1er POULE - B"]
[null,null,"2e POULE - C"]
[]
[null,"© - A.FERHAT C.PEREZ A.LETELLIER"]

{"sheet":"3JOUEURS","index":17,"n_rows":36,"n_cols":48,"rows_kept":36,"cut":false,"hidden":true,"merged":[[14,38,14,39],[19,41,21,41],[16,38,18,38],[16,39,18,39],[16,40,18,40],[19,38,21,38],[14,46,15,46],[16,46,18,46],[16,45,18,45],[14,41,14,42],[16,41,18,41],[14,43,14,44],[16,44,18,44],[16,42,18,42],[16,43,18,43],[22,34,24,34],[16,12,18,14],[19,15,21,17],[22,18,24,20],[22,27,24,29],[16,21,18,23],[19,24,21,26],[25,1,26,1],[25,4,26,4],[26,12,26,34],[19,4,20,4],[6,2,6,5],[7,2,7,5],[8,2,8,5],[9,2,9,5],[15,2,16,5],[16,10,18,11],[9,21,9,29],[12,21,15,23],[12,24,15,26],[12,27,15,29],[16,34,18,34],[19,34,21,34],[34,1,35,1],[34,4,35,4],[31,1,32,1],[31,4,32,4],[28,1,29,1],[28,4,29,4],[9,12,9,20],[12,12,15,14],[12,15,15,17],[12,18,15,20],[1,1,3,13],[12,1,13,5],[13,10,15,11],[22,1,23,1],[22,4,23,4],[19,1,20,1],[19,10,21,11],[22,10,24,11],[19,36,21,36],[22,46,24,46],[22,45,24,45],[19,44,21,44],[22,44,24,44],[22,42,24,42],[22,43,24,43],[19,37,21,37],[19,42,21,42],[19,46,21,46],[19,45,21,45],[19,43,21,43],[16,47,18,47],[19,47,21,47],[22,47,24,47],[22,41,24,41],[12,31,15,33],[12,34,15,34],[14,36,14,37],[16,36,18,36],[16,37,18,37],[22,39,24,39],[22,40,24,40],[22,36,24,36],[22,37,24,37],[22,38,24,38],[19,40,21,40],[19,39,21,39]]}
[]
[null,"LIGUE MÉDITERRANÉENNE DE BILLARD"]
[]
[]
[]
[]
[null,"Joueur 1",{"$f":"'Saisie des joueurs'!L18","v":0}]
[null,"Joueur 2",{"$f":"'Saisie des joueurs'!L19","v":0}]
[null,"Joueur 3",{"$f":"'Saisie des joueurs'!L20","v":0}]
[null,null,null,null,null,null,null,null,null,null,null,null,"MATCH ALLER",null,null,null,null,null,null,null,null,"MATCH RETOUR"]
[]
[]
[null,"SAISIE DES RESULTATS",null,null,null,null,null,null,null,null,null,null,{"$f":"C7","v":0},null,null,{"$f":"C8","v":0},null,null,{"$f":"C9","v":0},null,null,{"$f":"C7","v":0},null,null,{"$f":"C8","v":0},null,null,{"$f":"C9","v":0},null,null,null,"TOTAUX",null,null,"CLASSEMENT"]
[]
[null,null,null,null,null,null,null,null,null,null,null,null,null,null,null,null,null,null,null,null,null,null,null,null,null,null,null,null,null,null,null,null,null,null,null,null,"Classement",null,"Classement",null,"Classement","Classement",null,"Classement",null,"GENERAL","RANG"]
[null,null,"POULE A",null,null,null,null,null,null,null,null,null,null,null,null,null,null,null,null,null,null,null,null,null,null,null,null,null,null,null,null,null,null,null,null,null,"Point-Match","CLS-M","Moy-Gen","CLS-G","Moy-Part","M-Series","CLS-S","MGPS","CLS","CLS"]
[null,null,null,null,null,null,null,null,null,null,{"$f":"C7","v":0},null,"L",null,null,{"$f":"D26","v":0},null,{"$f":"E26","v":0},{"$f":"D20","v":0},null,{"$f":"E20","v":0},"L",null,null,{"$f":"D35","v":0},null,{"$f":"E35","v":0},{"$f":"D29","v":0},null,{"$f":"E29","v":0},null,{"$f":"P17+S17+Y17+AB17","v":0},null,{"$f":"R17+U17+AA17+AD17","v":0},{"$f":"AU17","v":{"$error":"#DIV/0!"}},null,{"$f":"AG18","v":0.04},{"$f":"RANK(AK17,AK$17:AK$25,0)","v":1},{"$f":"AH19","v":{"$error":"#DIV/0!"}},{"$f":"RANK(AM17,AM$17:AM$25,0)","v":{"$error":"#DIV/0!"}},{"$f":"MAX(R19,U19,AA19,AD19)","v":{"$error":"#DIV/0!"}},{"$f":"RANK(AO17,AO$17:AO$25)","v":{"$error":"#DIV/0!"}},{"$f":"AF19","v":0},{"$f":"RANK(AQ17,AQ$17:AQ$25)","v":1},{"$f":"(AL17*1000)+(AN17*100)+(AP17*10)+(AR17*1)","v":{"$error":"#DIV/0!"}},{"$f":"AS17","v":{"$error":"#DIV/0!"}},{"$f":"RANK(AT17,AT$17:AT$25,1)","v":{"$error":"#DIV/0!"}},{"$f":"RANK(AU17,AU$17:AU$25,1)","v":{"$error":"#DIV/0!"}}]
[null,null,null,null,null,null,null,null,null,null,null,null,null,null,null,null,{"$f":"IF(R17<1,0.01,IF(P17>M20,2,IF(P17=M20,1,0)))","v":0.01},null,null,{"$f":"IF(U17<1,0.01,IF(S17>M23,2,IF(S17=M23,1,0)))","v":0.01},null,null,null,null,null,{"$f":"IF(AA17<1,0.01,IF(Y17>V20,2,IF(Y17=V20,1,0)))","v":0.01},null,null,{"$f":"IF(AD17<1,0.01,IF(AB17>V23,2,IF(AB17=V23,1,0)))","v":0.01},null,null,null,{"$f":"Q18+T18+Z18+AC18","v":0.04}]
[null,null,null,"Pts","Rep","Série",null,null,null,null,null,null,null,null,null,{"$f":"F26","v":0},null,{"$f":"P17/R17","v":{"$error":"#DIV/0!"}},{"$f":"F20","v":0},null,{"$f":"S17/U17","v":{"$error":"#DIV/0!"}},null,null,null,{"$f":"F35","v":0},null,{"$f":"Y17/AA17","v":{"$error":"#DIV/0!"}},{"$f":"F29","v":0},null,{"$f":"AB17/AD17","v":{"$error":"#DIV/0!"}},null,{"$f":"MAX(P19,S19,Y19,AB19)","v":0},null,{"$f":"AF17/AH17","v":{"$error":"#DIV/0!"}}]
[null,"Tour 1\nMatch aller",{"$f":"C7","v":0},null,null,null,null,null,null,null,{"$f":"C8","v":0},null,{"$f":"D27","v":0},null,{"$f":"E26","v":0},"M",null,null,{"$f":"D23","v":0},null,{"$f":"E23","v":0},{"$f":"D36","v":0},null,{"$f":"E35","v":0},"M",null,null,{"$f":"D32","v":0},null,{"$f":"E32","v":0},null,{"$f":"M20+S20+V20+AB20","v":0},null,{"$f":"O20+U20+X20+AD20","v":0},{"$f":"AU20","v":{"$error":"#DIV/0!"}},null,{"$f":"AG21","v":0.04},{"$f":"RANK(AK20,AK$17:AK$25,0)","v":1},{"$f":"AH22","v":{"$error":"#DIV/0!"}},{"$f":"RANK(AM20,AM$17:AM$25,0)","v":{"$error":"#DIV/0!"}},{"$f":"MAX(R22,U22,AA22,AD22)","v":{"$error":"#DIV/0!"}},{"$f":"RANK(AO20,AO$17:AO$25)","v":{"$error":"#DIV/0!"}},{"$f":"AF22","v":0},{"$f":"RANK(AQ20,AQ$17:AQ$25)","v":1},{"$f":"(AL20*1000)+(AN20*100)+(AP20*10)+(AR20*1)","v":{"$error":"#DIV/0!"}},{"$f":"AS20","v":{"$error":"#DIV/0!"}},{"$f":"RANK(AT20,AT$17:AT$25,1)","v":{"$error":"#DIV/0!"}},{"$f":"RANK(AU20,AU$17:AU$25,1)","v":{"$error":"#DIV/0!"}}]
[null,null,{"$f":"C9","v":0},null,null,null,null,null,null,null,null,null,null,{"$f":"IF(R17>0,2-Q18,0.01)","v":0.01},null,null,null,null,null,{"$f":"IF(U20<1,0.01,IF(S20>P23,2,IF(S20=P23,1,0)))","v":0.01},null,null,{"$f":"IF(AA17>0,2-Z18,0.01)","v":0.01},null,null,null,null,null,{"$f":"IF(AD20<1,0.01,IF(AB20>Y23,2,IF(AB20=Y23,1,0)))","v":0.01},null,null,null,{"$f":"N21+T21+W21+AC21","v":0.04}]
[null,null,null,null,null,null,null,null,null,null,null,null,{"$f":"F27","v":0},null,{"$f":"M20/O20","v":{"$error":"#DIV/0!"}},null,null,null,{"$f":"F23","v":0},null,{"$f":"S20/U20","v":{"$error":"#DIV/0!"}},{"$f":"F36","v":0},null,{"$f":"V20/X20","v":{"$error":"#DIV/0!"}},null,null,null,{"$f":"F32","v":0},null,{"$f":"AB20/AD20","v":{"$error":"#DIV/0!"}},null,{"$f":"MAXA(M22,S22,V22,AB22)","v":0},null,{"$f":"AF20/AH20","v":{"$error":"#DIV/0!"}}]
[null,"Tour 2\nMatch aller",{"$f":"C8","v":0},null,null,null,null,null,null,null,{"$f":"C9","v":0},null,{"$f":"D21","v":0},null,{"$f":"E20","v":0},{"$f":"D24","v":0},null,{"$f":"E23","v":0},"B",null,null,{"$f":"D30","v":0},null,{"$f":"E29","v":0},{"$f":"D33","v":0},null,{"$f":"E32","v":0},"B",null,null,null,{"$f":"M23+P23+V23+Y23","v":0},null,{"$f":"O23+R23+X23+AA23","v":0},{"$f":"AU23","v":{"$error":"#DIV/0!"}},null,{"$f":"AG24","v":0.04},{"$f":"RANK(AK23,AK$17:AK$25,0)","v":1},{"$f":"AH25","v":{"$error":"#DIV/0!"}},{"$f":"RANK(AM23,AM$17:AM$25,0)","v":{"$error":"#DIV/0!"}},{"$f":"MAX(R25,U25,AA25,AD25)","v":{"$error":"#DIV/0!"}},{"$f":"RANK(AO23,AO$17:AO$25)","v":{"$error":"#DIV/0!"}},{"$f":"AF25","v":0},{"$f":"RANK(AQ23,AQ$17:AQ$25)","v":1},{"$f":"(AL23*1000)+(AN23*100)+(AP23*10)+(AR23*1)","v":{"$error":"#DIV/0!"}},{"$f":"AS23","v":{"$error":"#DIV/0!"}},{"$f":"RANK(AT23,AT$17:AT$25,1)","v":{"$error":"#DIV/0!"}},{"$f":"RANK(AU23,AU$17:AU$25,1)","v":{"$error":"#DIV/0!"}}]
[null,null,{"$f":"C9","v":0},null,null,null,null,null,null,null,null,null,null,{"$f":"IF(U17>0,2-T18,0.01)","v":0.01},null,null,{"$f":"IF(U20>0,2-T21,0.01)","v":0.01},null,null,null,null,null,{"$f":"IF(AD17>0,2-AC18,0.01)","v":0.01},null,null,{"$f":"IF(AD20>0,2-AC21,0.01)","v":0.01},null,null,null,null,null,null,{"$f":"N24+Q24+W24+Z24","v":0.04}]
[null,null,null,null,null,null,null,null,null,null,null,null,{"$f":"F21","v":0},null,{"$f":"M23/O23","v":{"$error":"#DIV/0!"}},{"$f":"F24","v":0},null,{"$f":"P23/R23","v":{"$error":"#DIV/0!"}},null,null,null,{"$f":"F30","v":0},null,{"$f":"V23/X23","v":{"$error":"#DIV/0!"}},{"$f":"F33","v":0},null,{"$f":"Y23/AA23","v":{"$error":"#DIV/0!"}},null,null,null,null,{"$f":"MAXA(M25,P25,V25,Y25)","v":0},null,{"$f":"AF23/AH23","v":{"$error":"#DIV/0!"}}]
[null,"Tour 3\nMatch aller",{"$f":"C7","v":0}]
[null,null,{"$f":"C8","v":0},null,null,null,null,null,null,null,null,null,"Pas de prolongation en cas de match nul."]
[]
[null,"Tour 1\nMatch retour",{"$f":"C7","v":0}]
[null,null,{"$f":"C9","v":0}]
[]
[null,"Tour 2\nMatch retour",{"$f":"C8","v":0}]
[null,null,{"$f":"C9","v":0}]
[]
[null,"Tour 3\nMatch retour",{"$f":"C7","v":0}]
[null,null,{"$f":"C8","v":0}]

{"sheet":"4JOUEURS","index":18,"n_rows":36,"n_cols":42,"rows_kept":36,"cut":false,"hidden":true,"merged":[[16,40,18,40],[16,41,18,41],[12,25,15,27],[12,28,15,28],[12,21,15,23],[14,41,15,41],[16,32,18,32],[16,33,18,33],[14,30,14,31],[16,28,18,28],[16,30,18,30],[16,31,18,31],[6,2,6,5],[7,2,7,5],[1,1,3,13],[12,18,15,20],[12,10,15,11],[8,2,8,5],[9,2,9,5],[12,1,13,5],[12,12,15,14],[12,15,15,17],[15,2,16,5],[16,10,18,11],[16,12,18,14],[19,1,20,1],[19,4,20,4],[19,10,21,11],[19,15,21,17],[19,28,21,28],[19,36,21,36],[19,37,21,37],[19,38,21,38],[14,38,14,39],[14,32,14,33],[14,34,14,35],[14,36,14,37],[16,36,18,36],[16,37,18,37],[16,38,18,38],[16,39,18,39],[19,30,21,30],[19,31,21,31],[19,32,21,32],[16,34,18,34],[16,35,18,35],[19,34,21,34],[19,35,21,35],[19,40,21,40],[19,41,21,41],[22,1,23,1],[22,4,23,4],[22,10,24,11],[22,18,24,20],[22,28,24,28],[22,30,24,30],[22,31,24,31],[19,33,21,33],[22,33,24,33],[22,34,24,34],[22,35,24,35],[22,36,24,36],[22,37,24,37],[19,39,21,39],[22,39,24,39],[22,40,24,40],[22,41,24,41],[25,1,26,1],[25,4,26,4],[25,10,27,11],[25,21,27,23],[25,28,27,28],[25,30,27,30],[22,32,24,32],[25,40,27,40],[25,41,27,41],[25,33,27,33],[25,34,27,34],[25,35,27,35],[22,38,24,38],[25,39,27,39],[25,36,27,36],[31,1,32,1],[31,4,32,4],[34,1,35,1],[34,4,35,4],[25,37,27,37],[28,1,29,1],[28,4,29,4],[29,12,29,23],[25,31,27,31],[25,32,27,32],[25,38,27,38]]}
[]
[null,"LIGUE MÉDITERRANÉENNE DE BILLARD"]
[]
[]
[]
[]
[null,"Joueur 1",{"$f":"'Saisie des joueurs'!L18","v":0}]
[null,"Joueur 2",{"$f":"'Saisie des joueurs'!L19","v":0}]
[null,"Joueur 3",{"$f":"'Saisie des joueurs'!L20","v":0}]
[null,"Joueur 4",{"$f":"'Saisie des joueurs'!L21","v":0}]
[]
[]
[null,"SAISIE DES RESULTATS",null,null,null,null,null,null,null,null,null,null,{"$f":"C7","v":0},null,null,{"$f":"C8","v":0},null,null,{"$f":"C9","v":0},null,null,{"$f":"C10","v":0},null,null,null,"TOTAUX",null,null,"CLASSEMENT"]
[]
[null,null,null,null,null,null,null,null,null,null,null,null,null,null,null,null,null,null,null,null,null,null,null,null,null,null,null,null,null,null,"Classement",null,"Classement",null,"Classement",null,"Classement",null,"Classement",null,"GENERAL","RANG"]
[null,null,"POULE A",null,null,null,null,null,null,null,null,null,null,null,null,null,null,null,null,null,null,null,null,null,null,null,null,null,null,null,"Point-Match","CLS-M","Moy-Gen","CLS-G","Moy-Part","CLS-P","M-Series","CLS-S","MGPS","CLS","CLS"]
[null,null,null,null,null,null,null,null,null,null,{"$f":"C7","v":0},null,"L",null,null,{"$f":"D32","v":0},null,{"$f":"E32","v":0},{"$f":"D26","v":0},null,{"$f":"E26","v":0},{"$f":"D20","v":0},null,{"$f":"E20","v":0},null,{"$f":"P17+S17+V17","v":0},null,{"$f":"R17+U17+X17","v":0},{"$f":"AP17","v":{"$error":"#DIV/0!"}},null,{"$f":"AA18","v":0.03},{"$f":"RANK(AE17,AE$17:AE$28,0)","v":1},{"$f":"AB19","v":{"$error":"#DIV/0!"}},{"$f":"RANK(AG17,AG$17:AG$28,0)","v":{"$error":"#DIV/0!"}},{"$f":"MAX(R19,U19,X19)","v":{"$error":"#DIV/0!"}},{"$f":"RANK(AI17,AI$17:AI$28)","v":{"$error":"#DIV/0!"}},{"$f":"Z19","v":0},{"$f":"RANK(AK17,AK$17:AK$28)","v":1},{"$f":"(AF17*1000)+(AH17*100)+(AJ17*10)+(AL17*1)","v":{"$error":"#DIV/0!"}},{"$f":"AM17","v":{"$error":"#DIV/0!"}},{"$f":"RANK(AN17,AN$17:AN$28,1)","v":{"$error":"#DIV/0!"}},{"$f":"RANK(AO17,AO$17:AO$28,1)","v":{"$error":"#DIV/0!"}}]
[null,null,null,"LMB",null,null,null,null,null,null,null,null,null,null,null,null,{"$f":"IF(R17<1,0.01,IF(P17>M20,2,IF(P17=M20,1,0)))","v":0.01},null,null,{"$f":"IF(U17<1,0.01,IF(S17>M23,2,IF(S17=M23,1,0)))","v":0.01},null,null,{"$f":"IF(X17<1,0.01,IF(V17>M26,2,IF(V17=M26,1,0)))","v":0.01},null,null,null,{"$f":"Q18+T18+W18","v":0.03}]
[null,null,null,"Pts","Rep","Série",null,null,null,null,null,null,null,null,null,{"$f":"F32","v":0},null,{"$f":"P17/R17","v":{"$error":"#DIV/0!"}},{"$f":"F26","v":0},null,{"$f":"S17/U17","v":{"$error":"#DIV/0!"}},{"$f":"F20","v":0},null,{"$f":"V17/X17","v":{"$error":"#DIV/0!"}},null,{"$f":"MAX(P19,S19,V19)","v":0},null,{"$f":"Z17/AB17","v":{"$error":"#DIV/0!"}}]
[null,"Tour 1",{"$f":"C7","v":0},null,null,null,null,null,null,null,{"$f":"C8","v":0},null,{"$f":"D33","v":0},null,{"$f":"E32","v":0},"M",null,null,{"$f":"D23","v":0},null,{"$f":"E23","v":0},{"$f":"D30","v":0},null,{"$f":"E29","v":0},null,{"$f":"M20+S20+V20","v":0},null,{"$f":"O20+U20+X20","v":0},{"$f":"AP20","v":{"$error":"#DIV/0!"}},null,{"$f":"AA21","v":0.03},{"$f":"RANK(AE20,AE$17:AE$28,0)","v":1},{"$f":"AB22","v":{"$error":"#DIV/0!"}},{"$f":"RANK(AG20,AG$17:AG$28,0)","v":{"$error":"#DIV/0!"}},{"$f":"MAX(O22,U22,X22)","v":{"$error":"#DIV/0!"}},{"$f":"RANK(AI20,AI$17:AI$28)","v":{"$error":"#DIV/0!"}},{"$f":"Z22","v":0},{"$f":"RANK(AK20,AK$17:AK$28)","v":1},{"$f":"(AF20*1000)+(AH20*100)+(AJ20*10)+(AL20*1)","v":{"$error":"#DIV/0!"}},{"$f":"AM20","v":{"$error":"#DIV/0!"}},{"$f":"RANK(AN20,AN$17:AN$28,1)","v":{"$error":"#DIV/0!"}},{"$f":"RANK(AO20,AO$17:AO$28,1)","v":{"$error":"#DIV/0!"}}]
[null,null,{"$f":"C10","v":0},null,null,null,null,null,null,null,null,null,null,{"$f":"IF(R17>0,2-Q18,0.01)","v":0.01},null,null,null,null,null,{"$f":"IF(U20<1,0.01,IF(S20>P23,2,IF(S20=P23,1,0)))","v":0.01},null,null,{"$f":"IF(X20<1,0.01,IF(V20>P26,2,IF(V20=P26,1,0)))","v":0.01},null,null,null,{"$f":"N21+T21+W21","v":0.03}]
[null,null,null,null,null,null,null,null,null,null,null,null,{"$f":"F33","v":0},null,{"$f":"M20/O20","v":{"$error":"#DIV/0!"}},null,null,null,{"$f":"F23","v":0},null,{"$f":"S20/U20","v":{"$error":"#DIV/0!"}},{"$f":"F30","v":0},null,{"$f":"V20/X20","v":{"$error":"#DIV/0!"}},null,{"$f":"MAXA(M22,S22,V22)","v":0},null,{"$f":"Z20/AB20","v":{"$error":"#DIV/0!"}}]
[null,"Tour 2",{"$f":"C8","v":0},null,null,null,null,null,null,null,{"$f":"C9","v":0},null,{"$f":"D27","v":0},null,{"$f":"E26","v":0},{"$f":"D24","v":0},null,{"$f":"E23","v":0},"B",null,null,{"$f":"D35","v":0},null,{"$f":"E35","v":0},null,{"$f":"M23+P23+V23","v":0},null,{"$f":"O23+R23+X23","v":0},{"$f":"AP23","v":{"$error":"#DIV/0!"}},null,{"$f":"AA24","v":0.03},{"$f":"RANK(AE23,AE$17:AE$28,0)","v":1},{"$f":"AB25","v":{"$error":"#DIV/0!"}},{"$f":"RANK(AG23,AG$17:AG$28,0)","v":{"$error":"#DIV/0!"}},{"$f":"MAX(O25,R25,X25)","v":{"$error":"#DIV/0!"}},{"$f":"RANK(AI23,AI$17:AI$28)","v":{"$error":"#DIV/0!"}},{"$f":"Z25","v":0},{"$f":"RANK(AK23,AK$17:AK$28)","v":1},{"$f":"(AF23*1000)+(AH23*100)+(AJ23*10)+(AL23*1)","v":{"$error":"#DIV/0!"}},{"$f":"AM23","v":{"$error":"#DIV/0!"}},{"$f":"RANK(AN23,AN$17:AN$28,1)","v":{"$error":"#DIV/0!"}},{"$f":"RANK(AO23,AO$17:AO$28,1)","v":{"$error":"#DIV/0!"}}]
[null,null,{"$f":"C9","v":0},null,null,null,null,null,null,null,null,null,null,{"$f":"IF(U17>0,2-T18,0.01)","v":0.01},null,null,{"$f":"IF(U20>0,2-T21,0.01)","v":0.01},null,null,null,null,null,{"$f":"IF(X23<1,0.01,IF(V23>S26,2,IF(V23=S26,1,0)))","v":0.01},null,null,null,{"$f":"N24+Q24+W24","v":0.03}]
[null,null,null,null,null,null,null,null,null,null,null,null,{"$f":"F27","v":0},null,{"$f":"M23/O23","v":{"$error":"#DIV/0!"}},{"$f":"F24","v":0},null,{"$f":"P23/R23","v":{"$error":"#DIV/0!"}},null,null,null,{"$f":"F35","v":0},null,{"$f":"V23/X23","v":{"$error":"#DIV/0!"}},null,{"$f":"MAXA(M25,P25,V25)","v":0},null,{"$f":"Z23/AB23","v":{"$error":"#DIV/0!"}}]
[null,"Tour 3",{"$f":"C7","v":0},null,null,null,null,null,null,null,{"$f":"C10","v":0},null,{"$f":"D21","v":0},null,{"$f":"E20","v":0},{"$f":"D29","v":0},null,{"$f":"E29","v":0},{"$f":"D36","v":0},null,{"$f":"E35","v":0},null,null,null,null,{"$f":"M26+P26+S26","v":0},null,{"$f":"O26+R26+U26","v":0},{"$f":"AP26","v":{"$error":"#DIV/0!"}},null,{"$f":"AA27","v":0.03},{"$f":"RANK(AE26,AE$17:AE$28,0)","v":1},{"$f":"AB28","v":{"$error":"#DIV/0!"}},{"$f":"RANK(AG26,AG$17:AG$28,0)","v":{"$error":"#DIV/0!"}},{"$f":"MAX(O28,R28,U28)","v":{"$error":"#DIV/0!"}},{"$f":"RANK(AI26,AI$17:AI$28)","v":{"$error":"#DIV/0!"}},{"$f":"Z28","v":0},{"$f":"RANK(AK26,AK$17:AK$28)","v":1},{"$f":"(AF26*1000)+(AH26*100)+(AJ26*10)+(AL26*1)","v":{"$error":"#DIV/0!"}},{"$f":"AM26","v":{"$error":"#DIV/0!"}},{"$f":"RANK(AN26,AN$17:AN$28,1)","v":{"$error":"#DIV/0!"}},{"$f":"RANK(AO26,AO$17:AO$28,1)","v":{"$error":"#DIV/0!"}}]
[null,null,{"$f":"C9","v":0},null,null,null,null,null,null,null,null,null,null,{"$f":"IF(X17>0,2-W18,0.01)","v":0.01},null,null,{"$f":"IF(X20>0,2-W21,0.01)","v":0.01},null,null,{"$f":"IF(X23>0,2-W24,0.01)","v":0.01},null,null,null,null,null,null,{"$f":"N27+Q27+T27","v":0.03}]
[null,null,null,null,null,null,null,null,null,null,null,null,{"$f":"F21","v":0},null,{"$f":"M26/O26","v":{"$error":"#DIV/0!"}},{"$f":"F29","v":0},null,{"$f":"P26/R26","v":{"$error":"#DIV/0!"}},{"$f":"F36","v":0},null,{"$f":"S26/U26","v":{"$error":"#DIV/0!"}},null,null,null,null,{"$f":"MAXA(M28,P28,S28)","v":0},null,{"$f":"Z26/AB26","v":{"$error":"#DIV/0!"}}]
[null,"Tour 4",{"$f":"C10","v":0}]
[null,null,{"$f":"C8","v":0},null,null,null,null,null,null,null,null,null,"Pas de prolongation en cas de match nul."]
[]
[null,"Tour 5",{"$f":"C7","v":0}]
[null,null,{"$f":"C8","v":0}]
[]
[null,"Tour 6",{"$f":"C9","v":0}]
[null,null,{"$f":"C10","v":0}]

{"sheet":"5JOUEURS","index":19,"n_rows":38,"n_cols":49,"rows_kept":38,"cut":false,"hidden":true,"merged":[[32,1,33,12],[32,14,32,30],[34,1,36,12],[28,45,30,45],[28,46,30,46],[28,47,30,47],[28,48,30,48],[29,1,30,1],[29,4,30,4],[29,9,30,9],[28,39,30,39],[28,40,30,40],[28,41,30,41],[28,42,30,42],[28,43,30,43],[28,44,30,44],[28,12,30,12],[28,14,30,15],[28,28,30,30],[28,35,30,35],[28,37,30,37],[28,38,30,38],[25,45,27,45],[25,46,27,46],[25,47,27,47],[25,48,27,48],[26,1,27,1],[26,4,27,4],[26,9,27,9],[25,39,27,39],[25,40,27,40],[25,41,27,41],[25,42,27,42],[25,43,27,43],[25,44,27,44],[25,12,27,12],[25,14,27,15],[25,25,27,27],[25,35,27,35],[25,37,27,37],[25,38,27,38],[22,45,24,45],[22,46,24,46],[22,47,24,47],[22,48,24,48],[23,1,24,1],[23,4,24,4],[23,9,24,9],[22,39,24,39],[22,40,24,40],[22,41,24,41],[22,42,24,42],[22,43,24,43],[22,44,24,44],[22,12,24,12],[22,14,24,15],[22,22,24,24],[22,35,24,35],[22,37,24,37],[22,38,24,38],[19,45,21,45],[19,46,21,46],[19,47,21,47],[19,48,21,48],[20,1,21,1],[20,4,21,4],[20,9,21,9],[19,39,21,39],[19,40,21,40],[19,41,21,41],[19,42,21,42],[19,43,21,43],[19,44,21,44],[19,12,21,12],[19,14,21,15],[19,19,21,21],[19,35,21,35],[19,37,21,37],[19,38,21,38],[17,1,18,1],[17,4,18,4],[17,9,18,9],[16,39,18,39],[16,40,18,40],[16,41,18,41],[16,42,18,42],[16,43,18,43],[16,44,18,44],[14,41,14,42],[14,43,14,44],[14,45,14,46],[14,48,15,48],[16,12,18,12],[16,14,18,15],[16,16,18,18],[16,35,18,35],[16,37,18,37],[16,38,18,38],[13,28,15,30],[13,32,15,34],[13,35,15,35],[14,12,15,12],[14,37,14,38],[14,39,14,40],[16,45,18,45],[16,46,18,46],[16,47,18,47],[16,48,18,48],[10,1,11,10],[10,12,11,12],[10,14,11,30],[13,2,14,5],[13,7,14,10],[13,14,15,15],[13,16,15,18],[13,19,15,21],[13,22,15,24],[13,25,15,27],[6,27,6,28],[7,12,7,15],[7,17,7,18],[7,20,7,21],[7,23,7,25],[7,27,7,28],[1,12,4,35],[2,1,3,2],[2,3,3,9],[4,5,8,7],[5,1,6,1],[5,2,6,2],[6,12,6,15],[6,17,6,18],[6,20,6,21],[6,23,6,25]]}
[]
[null,null,null,null,null,null,null,null,null,null,null,null,"LIGUE MÉDITERRANÉENNE DE BILLARD"]
[null,"CLUB ORGANISATEUR"]
[]
[]
[null,"DIRECTEUR DE JEU :"]
[null,null,null,null,null,null,null,null,null,null,null,null,"Compétition",null,null,null,null,"Mode de jeu",null,null,"Categorie",null,null,"Format billard",null,null,null,"Distance"]
[]
[]
[]
[null,"SAISIE DES RESULTATS",null,null,null,null,null,null,null,null,null,null,null,null,"POULE UNIQUE LMB - 5 JOUEURS - SUR 2 BILLARDS - 1 EXEMPT"]
[]
[]
[null,null,"Billard 1",null,null,null,null,"Billard 2",null,null,null,null,null,null,null,null,{"$f":"'Saisie des joueurs'!L18","v":0},null,null,{"$f":"'Saisie des joueurs'!L19","v":0},null,null,{"$f":"'Saisie des joueurs'!L20","v":0},null,null,{"$f":"'Saisie des joueurs'!L21","v":0},null,null,{"$f":"'Saisie des joueurs'!L22","v":0},null,null,null,"TOTAUX",null,null,"CLASSEMENT"]
[null,null,null,null,null,null,null,null,null,null,null,null,"EXEMPT",null,null,null,null,null,null,null,null,null,null,null,null,null,null,null,null,null,null,null,null,null,null,null,null,"Classement",null,"Classement",null,"Classement",null,"Classement",null,"Classement",null,"GENERAL","RANG"]
[null,null,null,null,null,null,null,null,null,null,null,null,null,null,null,null,null,null,null,null,null,null,null,null,null,null,null,null,null,null,null,null,null,null,null,null,null,"Point-Match","CLS-M","Moy-Gen","CLS-G","Moy-Part","CLS-P","M-Series","CLS-S","MGPS","CLS","CLS"]
[null,null,null,"Pts","Rep","Série",null,null,"Pts",null,null,null,{"$f":"O17","v":0},null,{"$f":"'Saisie des joueurs'!L18","v":0},null,null,null,null,{"$f":"D30","v":0},null,{"$f":"E30","v":0},{"$f":"I27","v":0},null,{"$f":"J27","v":0},{"$f":"I24","v":0},null,{"$f":"J24","v":0},{"$f":"D21","v":0},null,{"$f":"E21","v":0},null,{"$f":"T17+W17+Z17+AC17","v":0},null,{"$f":"V17+Y17+AB17+AE17","v":0},{"$f":"AW17","v":{"$error":"#DIV/0!"}},null,{"$f":"AH18","v":0.04},{"$f":"RANK(AL17,AL$17:AL$31,0)","v":1},{"$f":"AI19","v":{"$error":"#DIV/0!"}},{"$f":"RANK(AN17,AN$17:AN$31,0)","v":{"$error":"#DIV/0!"}},{"$f":"MAX(V19,Y19,AB19,AE19)","v":{"$error":"#DIV/0!"}},{"$f":"RANK(AP17,AP$17:AP$31)","v":{"$error":"#DIV/0!"}},{"$f":"AG19","v":0},{"$f":"RANK(AR17,AR$17:AR$31)","v":1},{"$f":"(AM17*1000)+(AO17*100)+(AQ17*10)+(AS17*1)","v":{"$error":"#DIV/0!"}},{"$f":"AT17","v":{"$error":"#DIV/0!"}},{"$f":"RANK(AU17,AU$17:AU$31,1)","v":{"$error":"#DIV/0!"}},{"$f":"RANK(AV17,AV$17:AV$31,1)","v":{"$error":"#DIV/0!"}}]
[null,"Tour 1",{"$f":"O23","v":0},null,null,null,null,{"$f":"O20","v":0},null,null,null,null,null,null,null,null,null,null,null,null,{"$f":"IF(V17<1,0.01,IF(T17>Q20,2,IF(T17=Q20,1,0)))","v":0.01},null,null,{"$f":"IF(Y17<1,0.01,IF(W17>Q23,2,IF(W17=Q23,1,0)))","v":0.01},null,null,{"$f":"IF(AB17<1,0.01,IF(Z17>Q26,2,IF(Z17=Q26,1,0)))","v":0.01},null,null,{"$f":"IF(AE17<1,0.01,IF(AC17>Q29,2,IF(AC17=Q29,1,0)))","v":0.01},null,null,null,{"$f":"U18+X18+AA18+AD18","v":0.04}]
[null,null,{"$f":"O26","v":0},null,null,null,null,{"$f":"O29","v":0},null,null,null,null,null,null,null,null,null,null,null,{"$f":"F30","v":0},null,{"$f":"T17/V17","v":{"$error":"#DIV/0!"}},{"$f":"K27","v":0},null,{"$f":"W17/Y17","v":{"$error":"#DIV/0!"}},{"$f":"K24","v":0},null,{"$f":"Z17/AB17","v":{"$error":"#DIV/0!"}},{"$f":"F21","v":0},null,{"$f":"AC17/AE17","v":{"$error":"#DIV/0!"}},null,{"$f":"MAX(T19,W19,Z19,AC19)","v":0},null,{"$f":"AG17/AI17","v":{"$error":"#DIV/0!"}}]
[null,null,null,null,null,null,null,null,null,null,null,null,{"$f":"O26","v":0},null,{"$f":"'Saisie des joueurs'!L19","v":0},null,{"$f":"D31","v":0},null,{"$f":"E30","v":0},"L",null,null,{"$f":"I21","v":0},null,{"$f":"J21","v":0},{"$f":"D27","v":0},null,{"$f":"E27","v":0},{"$f":"I18","v":0},null,{"$f":"J18","v":0},null,{"$f":"Q20+W20+Z20+AC20","v":0},null,{"$f":"S20+Y20+AB20+AE20","v":0},{"$f":"AW20","v":{"$error":"#DIV/0!"}},null,{"$f":"AH21","v":0.04},{"$f":"RANK(AL20,AL$17:AL$31,0)","v":1},{"$f":"AI22","v":{"$error":"#DIV/0!"}},{"$f":"RANK(AN20,AN$17:AN$31,0)","v":{"$error":"#DIV/0!"}},{"$f":"MAX(S22,Y22,AB22,AE22)","v":{"$error":"#DIV/0!"}},{"$f":"RANK(AP20,AP$17:AP$31)","v":{"$error":"#DIV/0!"}},{"$f":"AG22","v":0},{"$f":"RANK(AR20,AR$17:AR$31)","v":1},{"$f":"(AM20*1000)+(AO20*100)+(AQ20*10)+(AS20*1)","v":{"$error":"#DIV/0!"}},{"$f":"AT20","v":{"$error":"#DIV/0!"}},{"$f":"RANK(AU20,AU$17:AU$31,1)","v":{"$error":"#DIV/0!"}},{"$f":"RANK(AV20,AV$17:AV$31,1)","v":{"$error":"#DIV/0!"}}]
[null,"Tour 2",{"$f":"O17","v":0},null,null,null,null,{"$f":"O20","v":0},null,null,null,null,null,null,null,null,null,{"$f":"IF(V17>0,2-U18,0.01)","v":0.01},null,null,null,null,null,{"$f":"IF(Y20<1,0.01,IF(W20>T23,2,IF(W20=T23,1,0)))","v":0.01},null,null,{"$f":"IF(AB20<1,0.01,IF(Z20>T26,2,IF(Z20=T26,1,0)))","v":0.01},null,null,{"$f":"IF(AE20<1,0.01,IF(AC20>T29,2,IF(AC20=T29,1,0)))","v":0.01},null,null,null,{"$f":"R21+X21+AA21+AD21","v":0.04}]
[null,null,{"$f":"O29","v":0},null,null,null,null,{"$f":"O23","v":0},null,null,null,null,null,null,null,null,{"$f":"F31","v":0},null,{"$f":"Q20/S20","v":{"$error":"#DIV/0!"}},null,null,null,{"$f":"K21","v":0},null,{"$f":"W20/Y20","v":{"$error":"#DIV/0!"}},{"$f":"F27","v":0},null,{"$f":"Z20/AB20","v":{"$error":"#DIV/0!"}},{"$f":"F18","v":0},null,{"$f":"AC20/AE20","v":{"$error":"#DIV/0!"}},null,{"$f":"MAXA(Q22,W22,Z22,AC22)","v":0},null,{"$f":"AG20/AI20","v":{"$error":"#DIV/0!"}}]
[null,null,null,null,null,null,null,null,null,null,null,null,{"$f":"O20","v":0},null,{"$f":"'Saisie des joueurs'!L20","v":0},null,{"$f":"I28","v":0},null,{"$f":"J27","v":0},{"$f":"I22","v":0},null,{"$f":"J21","v":0},"M",null,null,{"$f":"D18","v":0},null,{"$f":"E18","v":0},{"$f":"D24","v":0},null,{"$f":"E24","v":0},null,{"$f":"Q23+T23+Z23+AC23","v":0},null,{"$f":"S23+V23+AB23+AE23","v":0},{"$f":"AW23","v":{"$error":"#DIV/0!"}},null,{"$f":"AH24","v":0.04},{"$f":"RANK(AL23,AL$17:AL$31,0)","v":1},{"$f":"AI25","v":{"$error":"#DIV/0!"}},{"$f":"RANK(AN23,AN$17:AN$31,0)","v":{"$error":"#DIV/0!"}},{"$f":"MAX(S25,V25,AB25,AE25)","v":{"$error":"#DIV/0!"}},{"$f":"RANK(AP23,AP$17:AP$31)","v":{"$error":"#DIV/0!"}},{"$f":"AG25","v":0},{"$f":"RANK(AR23,AR$17:AR$31)","v":1},{"$f":"(AM23*1000)+(AO23*100)+(AQ23*10)+(AS23*1)","v":{"$error":"#DIV/0!"}},{"$f":"AT23","v":{"$error":"#DIV/0!"}},{"$f":"RANK(AU23,AU$17:AU$31,1)","v":{"$error":"#DIV/0!"}},{"$f":"RANK(AV23,AV$17:AV$31,1)","v":{"$error":"#DIV/0!"}}]
[null,"Tour 3",{"$f":"O23","v":0},null,null,null,null,{"$f":"O17","v":0},null,null,null,null,null,null,null,null,null,{"$f":"IF(Y17>0,2-X18,0.01)","v":0.01},null,null,{"$f":"IF(Y20>0,2-X21,0.01)","v":0.01},null,null,null,null,null,{"$f":"IF(AB23<1,0.01,IF(Z23>W26,2,IF(Z23=W26,1,0)))","v":0.01},null,null,{"$f":"IF(AE23<1,0.01,IF(AC23>W29,2,IF(AC23=W29,1,0)))","v":0.01},null,null,null,{"$f":"R24+U24+AA24+AD24","v":0.04}]
[null,null,{"$f":"O29","v":0},null,null,null,null,{"$f":"O26","v":0},null,null,null,null,null,null,null,null,{"$f":"K28","v":0},null,{"$f":"Q23/S23","v":{"$error":"#DIV/0!"}},{"$f":"K22","v":0},null,{"$f":"T23/V23","v":{"$error":"#DIV/0!"}},null,null,null,{"$f":"F18","v":0},null,{"$f":"Z23/AB23","v":{"$error":"#DIV/0!"}},{"$f":"F24","v":0},null,{"$f":"AC23/AE23","v":{"$error":"#DIV/0!"}},null,{"$f":"MAXA(Q25,T25,Z25,AC25)","v":0},null,{"$f":"AG23/AI23","v":{"$error":"#DIV/0!"}}]
[null,null,null,null,null,null,null,null,null,null,null,null,{"$f":"O29","v":0},null,{"$f":"'Saisie des joueurs'!L21","v":0},null,{"$f":"I25","v":0},null,{"$f":"J24","v":0},{"$f":"D28","v":0},null,{"$f":"E27","v":0},{"$f":"D19","v":0},null,{"$f":"E18","v":0},"B",null,null,{"$f":"I30","v":0},null,{"$f":"J30","v":0},null,{"$f":"Q26+T26+W26+AC26","v":0},null,{"$f":"S26+V26+Y26+AE26","v":0},{"$f":"AW26","v":{"$error":"#DIV/0!"}},null,{"$f":"AH27","v":0.04},{"$f":"RANK(AL26,AL$17:AL$31,0)","v":1},{"$f":"AI28","v":{"$error":"#DIV/0!"}},{"$f":"RANK(AN26,AN$17:AN$31,0)","v":{"$error":"#DIV/0!"}},{"$f":"MAX(S28,V28,Y28)","v":{"$error":"#DIV/0!"}},{"$f":"RANK(AP26,AP$17:AP$31)","v":{"$error":"#DIV/0!"}},{"$f":"AG28","v":0},{"$f":"RANK(AR26,AR$17:AR$31)","v":1},{"$f":"(AM26*1000)+(AO26*100)+(AQ26*10)+(AS26*1)","v":{"$error":"#DIV/0!"}},{"$f":"AT26","v":{"$error":"#DIV/0!"}},{"$f":"RANK(AU26,AU$17:AU$31,1)","v":{"$error":"#DIV/0!"}},{"$f":"RANK(AV26,AV$17:AV$31,1)","v":{"$error":"#DIV/0!"}}]
[null,"Tour 4",{"$f":"O20","v":0},null,null,null,null,{"$f":"O17","v":0},null,null,null,null,null,null,null,null,null,{"$f":"IF(AB17>0,2-AA18,0.01)","v":0.01},null,null,{"$f":"IF(AB20>0,2-AA21,0.01)","v":0.01},null,null,{"$f":"IF(AB23>0,2-AA24,0.01)","v":0.01},null,null,null,null,null,{"$f":"IF(AE26<1,0.01,IF(AC26>Z29,2,IF(AC26=Z29,1,0)))","v":0.01},null,null,null,{"$f":"R27+U27+X27+AD27","v":0.04}]
[null,null,{"$f":"O26","v":0},null,null,null,null,{"$f":"O23","v":0},null,null,null,null,null,null,null,null,{"$f":"K25","v":0},null,{"$f":"Q26/S26","v":{"$error":"#DIV/0!"}},{"$f":"F28","v":0},null,{"$f":"T26/V26","v":{"$error":"#DIV/0!"}},{"$f":"F10","v":0},null,{"$f":"W26/Y26","v":{"$error":"#DIV/0!"}},null,null,null,{"$f":"K30","v":0},null,{"$f":"AC26/AE26","v":{"$error":"#DIV/0!"}},null,{"$f":"MAXA(Q28,T28,W28,AC28)","v":0},null,{"$f":"AG26/AI26","v":{"$error":"#DIV/0!"}}]
[null,null,null,null,null,null,null,null,null,null,null,null,{"$f":"O23","v":0},null,{"$f":"'Saisie des joueurs'!L22","v":0},null,{"$f":"D22","v":0},null,{"$f":"E21","v":0},{"$f":"I19","v":0},null,{"$f":"J18","v":0},{"$f":"D25","v":0},null,{"$f":"E24","v":0},{"$f":"I31","v":0},null,{"$f":"J30","v":0},null,null,null,null,{"$f":"Q29+T29+W29+Z29","v":0},null,{"$f":"S29+V29+Y29+AB29","v":0},{"$f":"AW29","v":{"$error":"#DIV/0!"}},null,{"$f":"AH30","v":0.04},{"$f":"RANK(AL29,AL$17:AL$31,0)","v":1},{"$f":"AI31","v":{"$error":"#DIV/0!"}},{"$f":"RANK(AN29,AN$17:AN$31,0)","v":{"$error":"#DIV/0!"}},{"$f":"MAX(S31,V31,Y31)","v":{"$error":"#DIV/0!"}},{"$f":"RANK(AP29,AP$17:AP$31)","v":{"$error":"#DIV/0!"}},{"$f":"AG31","v":0},{"$f":"RANK(AR29,AR$17:AR$31)","v":1},{"$f":"(AM29*1000)+(AO29*100)+(AQ29*10)+(AS29*1)","v":{"$error":"#DIV/0!"}},{"$f":"AT29","v":{"$error":"#DIV/0!"}},{"$f":"RANK(AU29,AU$17:AU$31,1)","v":{"$error":"#DIV/0!"}},{"$f":"RANK(AV29,AV$17:AV$31,1)","v":{"$error":"#DIV/0!"}}]
[null,"Tour 5",{"$f":"O17","v":0},null,null,null,null,{"$f":"O26","v":0},null,null,null,null,null,null,null,null,null,{"$f":"IF(AE17>0,2-AD18,0.01)","v":0.01},null,null,{"$f":"IF(AE20>0,2-AD21,0.01)","v":0.01},null,null,{"$f":"IF(AE23>0,2-AD24,0.01)","v":0.01},null,null,{"$f":"IF(AE26>0,2-AD27,0.01)","v":0.01},null,null,null,null,null,null,{"$f":"R30+U30+X30+AA30","v":0.04}]
[null,null,{"$f":"O20","v":0},null,null,null,null,{"$f":"O29","v":0},null,null,null,null,null,null,null,null,{"$f":"F22","v":0},null,{"$f":"Q29/S29","v":{"$error":"#DIV/0!"}},{"$f":"K19","v":0},null,{"$f":"T29/V29","v":{"$error":"#DIV/0!"}},{"$f":"F25","v":0},null,{"$f":"W29/Y29","v":{"$error":"#DIV/0!"}},{"$f":"K31","v":0},null,{"$f":"Z29/AB29","v":{"$error":"#DIV/0!"}},null,null,null,null,{"$f":"MAXA(Q31,T31,W31,Z31)","v":0},null,{"$f":"AG29/AI29","v":{"$error":"#DIV/0!"}}]
[]
[null,"OBSERVATIONS",null,null,null,null,null,null,null,null,null,null,null,null,"Pas de prolongation en cas de match nul."]
[]
[]
[]
[]
[null,"© - A. FERHAT - C. PEREZ - A.LETELLIER"]

{"sheet":"6JOUEURS","index":20,"n_rows":67,"n_cols":48,"rows_kept":67,"cut":false,"hidden":true,"merged":[[65,1,66,1],[65,4,66,4],[56,1,57,1],[56,4,57,4],[57,12,57,34],[59,1,60,1],[59,4,60,4],[62,1,63,1],[62,4,63,4],[50,47,52,47],[50,36,52,36],[50,37,52,37],[50,38,52,38],[50,39,52,39],[50,40,52,40],[50,41,52,41],[50,42,52,42],[53,46,55,46],[53,47,55,47],[53,36,55,36],[53,37,55,37],[53,38,55,38],[53,39,55,39],[53,40,55,40],[53,41,55,41],[50,43,52,43],[50,44,52,44],[53,42,55,42],[53,43,55,43],[53,44,55,44],[53,45,55,45],[47,39,49,39],[47,40,49,40],[47,41,49,41],[47,42,49,42],[47,43,49,43],[47,44,49,44],[47,45,49,45],[47,46,49,46],[53,1,54,1],[53,4,54,4],[53,10,55,11],[53,18,55,20],[53,27,55,29],[53,34,55,34],[50,45,52,45],[50,46,52,46],[47,47,49,47],[50,1,51,1],[50,4,51,4],[50,10,52,11],[50,15,52,17],[50,24,52,26],[50,34,52,34],[43,27,46,29],[43,31,46,33],[43,34,46,34],[44,10,46,11],[45,36,45,37],[45,38,45,39],[45,41,45,42],[45,43,45,44],[45,46,46,46],[46,2,47,5],[47,10,49,11],[47,12,49,14],[47,21,49,23],[47,34,49,34],[47,36,49,36],[47,37,49,37],[47,38,49,38],[39,2,39,5],[40,2,40,5],[41,12,41,20],[41,21,41,29],[43,1,44,5],[43,12,46,14],[43,15,46,17],[43,18,46,20],[43,21,46,23],[43,24,46,26],[37,2,37,5],[38,2,38,5],[22,47,24,47],[25,1,26,1],[25,4,26,4],[26,12,26,34],[28,1,29,1],[28,4,29,4],[22,41,24,41],[22,42,24,42],[22,43,24,43],[22,44,24,44],[22,45,24,45],[22,46,24,46],[22,34,24,34],[22,36,24,36],[22,37,24,37],[22,38,24,38],[22,39,24,39],[22,40,24,40],[19,38,21,38],[19,39,21,39],[19,40,21,40],[31,1,32,1],[31,4,32,4],[34,1,35,1],[34,4,35,4],[22,1,23,1],[22,4,23,4],[22,10,24,11],[22,18,24,20],[22,27,24,29],[19,37,21,37],[19,1,20,1],[19,4,20,4],[19,10,21,11],[19,15,21,17],[19,24,21,26],[19,34,21,34],[19,36,21,36],[19,43,21,43],[19,44,21,44],[19,45,21,45],[19,46,21,46],[19,47,21,47],[19,41,21,41],[19,42,21,42],[16,39,18,39],[16,40,18,40],[16,41,18,41],[16,42,18,42],[16,43,18,43],[16,44,18,44],[16,45,18,45],[16,46,18,46],[16,47,18,47],[12,31,15,33],[12,34,15,34],[13,10,15,11],[14,36,14,37],[14,38,14,39],[14,41,14,42],[14,43,14,44],[14,46,15,46],[15,2,16,5],[16,10,18,11],[16,12,18,14],[16,21,18,23],[16,34,18,34],[16,36,18,36],[16,37,18,37],[16,38,18,38],[6,2,6,5],[7,2,7,5],[8,2,8,5],[9,2,9,5],[10,12,10,20],[10,21,10,29],[1,1,3,13],[12,1,13,5],[12,12,15,14],[12,15,15,17],[12,18,15,20],[12,21,15,23],[12,24,15,26],[12,27,15,29]]}
[]
[null,"LIGUE MÉDITERRANÉENNE DE BILLARD"]
[]
[]
[]
[]
[null,"Joueur 1",{"$f":"'Saisie des joueurs'!L18","v":0}]
[null,"Joueur 2",{"$f":"'Saisie des joueurs'!L21","v":0}]
[null,"Joueur 3",{"$f":"'Saisie des joueurs'!L22","v":0}]
[]
[null,null,null,null,null,null,null,null,null,null,null,null,"MATCH ALLER",null,null,null,null,null,null,null,null,"MATCH RETOUR"]
[]
[null,"SAISIE DES RESULTATS",null,null,null,null,null,null,null,null,null,null,{"$f":"C7","v":0},null,null,{"$f":"C8","v":0},null,null,{"$f":"C9","v":0},null,null,{"$f":"C7","v":0},null,null,{"$f":"C8","v":0},null,null,{"$f":"C9","v":0},null,null,null,"TOTAUX",null,null,"CLASSEMENT"]
[]
[null,null,null,null,null,null,null,null,null,null,null,null,null,null,null,null,null,null,null,null,null,null,null,null,null,null,null,null,null,null,null,null,null,null,null,null,"Classement",null,"Classement",null,"Classement","Classement",null,"Classement",null,"GENERAL","RANG"]
[null,null,"POULE A",null,null,null,null,null,null,null,null,null,null,null,null,null,null,null,null,null,null,null,null,null,null,null,null,null,null,null,null,null,null,null,null,null,"Point-Match","CLS-M","Moy-Gen","CLS-G","Moy-Part","M-Series","CLS-S","MGPS","CLS","CLS"]
[null,null,null,null,null,null,null,null,null,null,{"$f":"C7","v":0},null,"L",null,null,{"$f":"D26","v":0},null,{"$f":"E26","v":0},{"$f":"D20","v":0},null,{"$f":"E20","v":0},"L",null,null,{"$f":"D35","v":0},null,{"$f":"E35","v":0},{"$f":"D29","v":0},null,{"$f":"E29","v":0},null,{"$f":"P17+S17+Y17+AB17","v":0},null,{"$f":"R17+U17+AA17+AD17","v":0},{"$f":"AU17","v":{"$error":"#DIV/0!"}},null,{"$f":"AG18","v":0.04},{"$f":"RANK(AK17,AK$17:AK$25,0)","v":1},{"$f":"AH19","v":{"$error":"#DIV/0!"}},{"$f":"RANK(AM17,AM$17:AM$25,0)","v":{"$error":"#DIV/0!"}},{"$f":"MAX(R19,U19,AA19,AD19)","v":{"$error":"#DIV/0!"}},{"$f":"RANK(AO17,AO$17:AO$25)","v":{"$error":"#DIV/0!"}},{"$f":"AF19","v":0},{"$f":"RANK(AQ17,AQ$17:AQ$25)","v":1},{"$f":"(AL17*1000)+(AN17*100)+(AP17*10)+(AR17*1)","v":{"$error":"#DIV/0!"}},{"$f":"AS17","v":{"$error":"#DIV/0!"}},{"$f":"RANK(AT17,AT$17:AT$25,1)","v":{"$error":"#DIV/0!"}},{"$f":"RANK(AU17,AU$17:AU$25,1)","v":{"$error":"#DIV/0!"}}]
[null,null,null,null,null,null,null,null,null,null,null,null,null,null,null,null,{"$f":"IF(R17<1,0.01,IF(P17>M20,2,IF(P17=M20,1,0)))","v":0.01},null,null,{"$f":"IF(U17<1,0.01,IF(S17>M23,2,IF(S17=M23,1,0)))","v":0.01},null,null,null,null,null,{"$f":"IF(AA17<1,0.01,IF(Y17>V20,2,IF(Y17=V20,1,0)))","v":0.01},null,null,{"$f":"IF(AD17<1,0.01,IF(AB17>V23,2,IF(AB17=V23,1,0)))","v":0.01},null,null,null,{"$f":"Q18+T18+Z18+AC18","v":0.04}]
[null,null,null,"Pts","Rep","Série",null,null,null,null,null,null,null,null,null,{"$f":"F26","v":0},null,{"$f":"P17/R17","v":{"$error":"#DIV/0!"}},{"$f":"F20","v":0},null,{"$f":"S17/U17","v":{"$error":"#DIV/0!"}},null,null,null,{"$f":"F35","v":0},null,{"$f":"Y17/AA17","v":{"$error":"#DIV/0!"}},{"$f":"F29","v":0},null,{"$f":"AB17/AD17","v":{"$error":"#DIV/0!"}},null,{"$f":"MAX(P19,S19,Y19,AB19)","v":0},null,{"$f":"AF17/AH17","v":{"$error":"#DIV/0!"}}]
[null,"Tour 1\nMatch aller",{"$f":"C7","v":0},null,null,null,null,null,null,null,{"$f":"C8","v":0},null,{"$f":"D27","v":0},null,{"$f":"E26","v":0},"M",null,null,{"$f":"D23","v":0},null,{"$f":"E23","v":0},{"$f":"D36","v":0},null,{"$f":"E35","v":0},"M",null,null,{"$f":"D32","v":0},null,{"$f":"E32","v":0},null,{"$f":"M20+S20+V20+AB20","v":0},null,{"$f":"O20+U20+X20+AD20","v":0},{"$f":"AU20","v":{"$error":"#DIV/0!"}},null,{"$f":"AG21","v":0.04},{"$f":"RANK(AK20,AK$17:AK$25,0)","v":1},{"$f":"AH22","v":{"$error":"#DIV/0!"}},{"$f":"RANK(AM20,AM$17:AM$25,0)","v":{"$error":"#DIV/0!"}},{"$f":"MAX(R22,U22,AA22,AD22)","v":{"$error":"#DIV/0!"}},{"$f":"RANK(AO20,AO$17:AO$25)","v":{"$error":"#DIV/0!"}},{"$f":"AF22","v":0},{"$f":"RANK(AQ20,AQ$17:AQ$25)","v":1},{"$f":"(AL20*1000)+(AN20*100)+(AP20*10)+(AR20*1)","v":{"$error":"#DIV/0!"}},{"$f":"AS20","v":{"$error":"#DIV/0!"}},{"$f":"RANK(AT20,AT$17:AT$25,1)","v":{"$error":"#DIV/0!"}},{"$f":"RANK(AU20,AU$17:AU$25,1)","v":{"$error":"#DIV/0!"}}]
[null,null,{"$f":"C9","v":0},null,null,null,null,null,null,null,null,null,null,{"$f":"IF(R17>0,2-Q18,0.01)","v":0.01},null,null,null,null,null,{"$f":"IF(U20<1,0.01,IF(S20>P23,2,IF(S20=P23,1,0)))","v":0.01},null,null,{"$f":"IF(AA17>0,2-Z18,0.01)","v":0.01},null,null,null,null,null,{"$f":"IF(AD20<1,0.01,IF(AB20>Y23,2,IF(AB20=Y23,1,0)))","v":0.01},null,null,null,{"$f":"N21+T21+W21+AC21","v":0.04}]
[null,null,null,null,null,null,null,null,null,null,null,null,{"$f":"F27","v":0},null,{"$f":"M20/O20","v":{"$error":"#DIV/0!"}},null,null,null,{"$f":"F23","v":0},null,{"$f":"S20/U20","v":{"$error":"#DIV/0!"}},{"$f":"F36","v":0},null,{"$f":"V20/X20","v":{"$error":"#DIV/0!"}},null,null,null,{"$f":"F32","v":0},null,{"$f":"AB20/AD20","v":{"$error":"#DIV/0!"}},null,{"$f":"MAXA(M22,S22,V22,AB22)","v":0},null,{"$f":"AF20/AH20","v":{"$error":"#DIV/0!"}}]
[null,"Tour 2\nMatch aller",{"$f":"C8","v":0},null,null,null,null,null,null,null,{"$f":"C9","v":0},null,{"$f":"D21","v":0},null,{"$f":"E20","v":0},{"$f":"D24","v":0},null,{"$f":"E23","v":0},"B",null,null,{"$f":"D30","v":0},null,{"$f":"E29","v":0},{"$f":"D33","v":0},null,{"$f":"E32","v":0},"B",null,null,null,{"$f":"M23+P23+V23+Y23","v":0},null,{"$f":"O23+R23+X23+AA23","v":0},{"$f":"AU23","v":{"$error":"#DIV/0!"}},null,{"$f":"AG24","v":0.04},{"$f":"RANK(AK23,AK$17:AK$25,0)","v":1},{"$f":"AH25","v":{"$error":"#DIV/0!"}},{"$f":"RANK(AM23,AM$17:AM$25,0)","v":{"$error":"#DIV/0!"}},{"$f":"MAX(R25,U25,AA25,AD25)","v":{"$error":"#DIV/0!"}},{"$f":"RANK(AO23,AO$17:AO$25)","v":{"$error":"#DIV/0!"}},{"$f":"AF25","v":0},{"$f":"RANK(AQ23,AQ$17:AQ$25)","v":1},{"$f":"(AL23*1000)+(AN23*100)+(AP23*10)+(AR23*1)","v":{"$error":"#DIV/0!"}},{"$f":"AS23","v":{"$error":"#DIV/0!"}},{"$f":"RANK(AT23,AT$17:AT$25,1)","v":{"$error":"#DIV/0!"}},{"$f":"RANK(AU23,AU$17:AU$25,1)","v":{"$error":"#DIV/0!"}}]
[null,null,{"$f":"C9","v":0},null,null,null,null,null,null,null,null,null,null,{"$f":"IF(U17>0,2-T18,0.01)","v":0.01},null,null,{"$f":"IF(U20>0,2-T21,0.01)","v":0.01},null,null,null,null,null,{"$f":"IF(AD17>0,2-AC18,0.01)","v":0.01},null,null,{"$f":"IF(AD20>0,2-AC21,0.01)","v":0.01},null,null,null,null,null,null,{"$f":"N24+Q24+W24+Z24","v":0.04}]
[null,null,null,null,null,null,null,null,null,null,null,null,{"$f":"F21","v":0},null,{"$f":"M23/O23","v":{"$error":"#DIV/0!"}},{"$f":"F24","v":0},null,{"$f":"P23/R23","v":{"$error":"#DIV/0!"}},null,null,null,{"$f":"F30","v":0},null,{"$f":"V23/X23","v":{"$error":"#DIV/0!"}},{"$f":"F33","v":0},null,{"$f":"Y23/AA23","v":{"$error":"#DIV/0!"}},null,null,null,null,{"$f":"MAXA(M25,P25,V25,Y25)","v":0},null,{"$f":"AF23/AH23","v":{"$error":"#DIV/0!"}}]
[null,"Tour 3\nMatch aller",{"$f":"C7","v":0}]
[null,null,{"$f":"C8","v":0},null,null,null,null,null,null,null,null,null,"Pas de prolongation en cas de match nul."]
[]
[null,"Tour 1\nMatch retour",{"$f":"C7","v":0}]
[null,null,{"$f":"C9","v":0}]
[]
[null,"Tour 2\nMatch retour",{"$f":"C8","v":0}]
[null,null,{"$f":"C9","v":0}]
[]
[null,"Tour 3\nMatch retour",{"$f":"C7","v":0}]
[null,null,{"$f":"C8","v":0}]
[]
[null,"Joueur 1",{"$f":"'Saisie des joueurs'!L19","v":0}]
[null,"Joueur 2",{"$f":"'Saisie des joueurs'!L20","v":0}]
[null,"Joueur 3",{"$f":"'Saisie des joueurs'!L23","v":0}]
[]
[null,null,null,null,null,null,null,null,null,null,null,null,"MATCH ALLER",null,null,null,null,null,null,null,null,"MATCH RETOUR"]
[]
[null,"SAISIE DES RESULTATS",null,null,null,null,null,null,null,null,null,null,{"$f":"C38","v":0},null,null,{"$f":"C39","v":0},null,null,{"$f":"C40","v":0},null,null,{"$f":"C38","v":0},null,null,{"$f":"C39","v":0},null,null,{"$f":"C40","v":0},null,null,null,"TOTAUX",null,null,"CLASSEMENT"]
[]
[null,null,null,null,null,null,null,null,null,null,null,null,null,null,null,null,null,null,null,null,null,null,null,null,null,null,null,null,null,null,null,null,null,null,null,null,"Classement",null,"Classement",null,"Classement","Classement",null,"Classement",null,"GENERAL","RANG"]
[null,null,"POULE B",null,null,null,null,null,null,null,null,null,null,null,null,null,null,null,null,null,null,null,null,null,null,null,null,null,null,null,null,null,null,null,null,null,"Point-Match","CLS-M","Moy-Gen","CLS-G","Moy-Part","M-Series","CLS-S","MGPS","CLS","CLS"]
[null,null,null,null,null,null,null,null,null,null,{"$f":"C38","v":0},null,"L",null,null,{"$f":"D57","v":0},null,{"$f":"E57","v":0},{"$f":"D51","v":0},null,{"$f":"E51","v":0},"L",null,null,{"$f":"D66","v":0},null,{"$f":"E66","v":0},{"$f":"D60","v":0},null,{"$f":"E60","v":0},null,{"$f":"P48+S48+Y48+AB48","v":0},null,{"$f":"R48+U48+AA48+AD48","v":0},{"$f":"AU48","v":{"$error":"#DIV/0!"}},null,{"$f":"AG49","v":0.04},{"$f":"RANK(AK48,AK$48:AK$56,0)","v":1},{"$f":"AH50","v":{"$error":"#DIV/0!"}},{"$f":"RANK(AM48,AM$48:AM$56,0)","v":{"$error":"#DIV/0!"}},{"$f":"MAX(R50,U50,AA50,AD50)","v":{"$error":"#DIV/0!"}},{"$f":"RANK(AO48,AO$48:AO$56)","v":{"$error":"#DIV/0!"}},{"$f":"AF50","v":0},{"$f":"RANK(AQ48,AQ$48:AQ$56)","v":1},{"$f":"(AL48*1000)+(AN48*100)+(AP48*10)+(AR48*1)","v":{"$error":"#DIV/0!"}},{"$f":"AS48","v":{"$error":"#DIV/0!"}},{"$f":"RANK(AT48,AT$48:AT$56,1)","v":{"$error":"#DIV/0!"}},{"$f":"RANK(AU48,AU$48:AU$56,1)","v":{"$error":"#DIV/0!"}}]
[null,null,null,null,null,null,null,null,null,null,null,null,null,null,null,null,{"$f":"IF(R48<1,0.01,IF(P48>M51,2,IF(P48=M51,1,0)))","v":0.01},null,null,{"$f":"IF(U48<1,0.01,IF(S48>M54,2,IF(S48=M54,1,0)))","v":0.01},null,null,null,null,null,{"$f":"IF(AA48<1,0.01,IF(Y48>V51,2,IF(Y48=V51,1,0)))","v":0.01},null,null,{"$f":"IF(AD48<1,0.01,IF(AB48>V54,2,IF(AB48=V54,1,0)))","v":0.01},null,null,null,{"$f":"Q49+T49+Z49+AC49","v":0.04}]
[null,null,null,"Pts","Rep","Série",null,null,null,null,null,null,null,null,null,{"$f":"F57","v":0},null,{"$f":"P48/R48","v":{"$error":"#DIV/0!"}},{"$f":"F51","v":0},null,{"$f":"S48/U48","v":{"$error":"#DIV/0!"}},null,null,null,{"$f":"F66","v":0},null,{"$f":"Y48/AA48","v":{"$error":"#DIV/0!"}},{"$f":"F60","v":0},null,{"$f":"AB48/AD48","v":{"$error":"#DIV/0!"}},null,{"$f":"MAX(P50,S50,Y50,AB50)","v":0},null,{"$f":"AF48/AH48","v":{"$error":"#DIV/0!"}}]
[null,"Tour 1\nMatch aller",{"$f":"C38","v":0},null,null,null,null,null,null,null,{"$f":"C39","v":0},null,{"$f":"D58","v":0},null,{"$f":"E57","v":0},"M",null,null,{"$f":"D54","v":0},null,{"$f":"E54","v":0},{"$f":"D67","v":0},null,{"$f":"E66","v":0},"M",null,null,{"$f":"D63","v":0},null,{"$f":"E63","v":0},null,{"$f":"M51+S51+V51+AB51","v":0},null,{"$f":"O51+U51+X51+AD51","v":0},{"$f":"AU51","v":{"$error":"#DIV/0!"}},null,{"$f":"AG52","v":0.04},{"$f":"RANK(AK51,AK$48:AK$56,0)","v":1},{"$f":"AH53","v":{"$error":"#DIV/0!"}},{"$f":"RANK(AM51,AM$48:AM$56,0)","v":{"$error":"#DIV/0!"}},{"$f":"MAX(O53,U53,X53,AD53)","v":{"$error":"#DIV/0!"}},{"$f":"RANK(AO51,AO$48:AO$56)","v":{"$error":"#DIV/0!"}},{"$f":"AF53","v":0},{"$f":"RANK(AQ51,AQ$48:AQ$56)","v":1},{"$f":"(AL51*1000)+(AN51*100)+(AP51*10)+(AR51*1)","v":{"$error":"#DIV/0!"}},{"$f":"AS51","v":{"$error":"#DIV/0!"}},{"$f":"RANK(AT51,AT$48:AT$56,1)","v":{"$error":"#DIV/0!"}},{"$f":"RANK(AU51,AU$48:AU$56,1)","v":{"$error":"#DIV/0!"}}]
[null,null,{"$f":"C40","v":0},null,null,null,null,null,null,null,null,null,null,{"$f":"IF(R48>0,2-Q49,0.01)","v":0.01},null,null,null,null,null,{"$f":"IF(U51<1,0.01,IF(S51>P54,2,IF(S51=P54,1,0)))","v":0.01},null,null,{"$f":"IF(AA48>0,2-Z49,0.01)","v":0.01},null,null,null,null,null,{"$f":"IF(AD51<1,0.01,IF(AB51>Y54,2,IF(AB51=Y54,1,0)))","v":0.01},null,null,null,{"$f":"N52+T52+W52+AC52","v":0.04}]
[null,null,null,null,null,null,null,null,null,null,null,null,{"$f":"F58","v":0},null,{"$f":"M51/O51","v":{"$error":"#DIV/0!"}},null,null,null,{"$f":"F54","v":0},null,{"$f":"S51/U51","v":{"$error":"#DIV/0!"}},{"$f":"F67","v":0},null,{"$f":"V51/X51","v":{"$error":"#DIV/0!"}},null,null,null,{"$f":"F63","v":0},null,{"$f":"AB51/AD51","v":{"$error":"#DIV/0!"}},null,{"$f":"MAXA(M53,S53,V53,AB53)","v":0},null,{"$f":"AF51/AH51","v":{"$error":"#DIV/0!"}}]
[null,"Tour 2\nMatch aller",{"$f":"C39","v":0},null,null,null,null,null,null,null,{"$f":"C40","v":0},null,{"$f":"D52","v":0},null,{"$f":"E51","v":0},{"$f":"D55","v":0},null,{"$f":"E54","v":0},"B",null,null,{"$f":"D61","v":0},null,{"$f":"E60","v":0},{"$f":"D64","v":0},null,{"$f":"E63","v":0},"B",null,null,null,{"$f":"M54+P54+V54+Y54","v":0},null,{"$f":"O54+R54+X54+AA54","v":0},{"$f":"AU54","v":{"$error":"#DIV/0!"}},null,{"$f":"AG55","v":0.04},{"$f":"RANK(AK54,AK$48:AK$56,0)","v":1},{"$f":"AH56","v":{"$error":"#DIV/0!"}},{"$f":"RANK(AM54,AM$48:AM$56,0)","v":{"$error":"#DIV/0!"}},{"$f":"MAX(O56,R56,X56,AA56)","v":{"$error":"#DIV/0!"}},{"$f":"RANK(AO54,AO$48:AO$56)","v":{"$error":"#DIV/0!"}},{"$f":"AF56","v":0},{"$f":"RANK(AQ54,AQ$48:AQ$56)","v":1},{"$f":"(AL54*1000)+(AN54*100)+(AP54*10)+(AR54*1)","v":{"$error":"#DIV/0!"}},{"$f":"AS54","v":{"$error":"#DIV/0!"}},{"$f":"RANK(AT54,AT$48:AT$56,1)","v":{"$error":"#DIV/0!"}},{"$f":"RANK(AU54,AU$48:AU$56,1)","v":{"$error":"#DIV/0!"}}]
[null,null,{"$f":"C40","v":0},null,null,null,null,null,null,null,null,null,null,{"$f":"IF(U48>0,2-T49,0.01)","v":0.01},null,null,{"$f":"IF(U51>0,2-T52,0.01)","v":0.01},null,null,null,null,null,{"$f":"IF(AD48>0,2-AC49,0.01)","v":0.01},null,null,{"$f":"IF(AD51>0,2-AC52,0.01)","v":0.01},null,null,null,null,null,null,{"$f":"N55+Q55+W55+Z55","v":0.04}]
[null,null,null,null,null,null,null,null,null,null,null,null,{"$f":"F52","v":0},null,{"$f":"M54/O54","v":{"$error":"#DIV/0!"}},{"$f":"F55","v":0},null,{"$f":"P54/R54","v":{"$error":"#DIV/0!"}},null,null,null,{"$f":"F61","v":0},null,{"$f":"V54/X54","v":{"$error":"#DIV/0!"}},{"$f":"F64","v":0},null,{"$f":"Y54/AA54","v":{"$error":"#DIV/0!"}},null,null,null,null,{"$f":"MAXA(M56,P56,V56,Y56)","v":0},null,{"$f":"AF54/AH54","v":{"$error":"#DIV/0!"}}]
[null,"Tour 3\nMatch aller",{"$f":"C38","v":0}]
[null,null,{"$f":"C39","v":0},null,null,null,null,null,null,null,null,null,"Pas de prolongation en cas de match nul."]
[]
[null,"Tour 1\nMatch retour",{"$f":"C38","v":0}]
[null,null,{"$f":"C40","v":0}]
[]
[null,"Tour 2\nMatch retour",{"$f":"C39","v":0}]
[null,null,{"$f":"C40","v":0}]
[]
[null,"Tour 3\nMatch retour",{"$f":"C38","v":0}]
[null,null,{"$f":"C39","v":0}]

{"sheet":"7JOUEURS","index":21,"n_rows":67,"n_cols":48,"rows_kept":67,"cut":false,"hidden":true,"merged":[[56,44,58,44],[56,45,58,45],[56,46,58,46],[56,47,58,47],[59,1,60,1],[59,4,60,4],[56,37,58,37],[56,38,58,38],[56,39,58,39],[56,40,58,40],[56,41,58,41],[56,42,58,42],[56,1,57,1],[56,4,57,4],[56,10,58,11],[56,21,58,23],[56,28,58,29],[56,36,58,36],[53,38,55,38],[53,39,55,39],[53,40,55,40],[53,41,55,41],[62,1,63,1],[62,4,63,4],[65,1,66,1],[65,4,66,4],[56,43,58,43],[50,43,52,43],[50,44,52,44],[50,45,52,45],[50,46,52,46],[50,47,52,47],[53,1,54,1],[53,4,54,4],[53,10,55,11],[53,18,55,20],[53,28,55,29],[50,37,52,37],[50,38,52,38],[50,39,52,39],[50,40,52,40],[50,41,52,41],[50,42,52,42],[53,42,55,42],[53,43,55,43],[53,44,55,44],[53,45,55,45],[53,46,55,46],[53,47,55,47],[53,36,55,36],[53,37,55,37],[50,1,51,1],[50,4,51,4],[50,10,52,11],[50,15,52,17],[50,28,52,29],[50,36,52,36],[47,38,49,38],[47,39,49,39],[47,40,49,40],[45,40,45,41],[45,42,45,43],[45,44,45,45],[45,47,46,47],[46,2,47,5],[47,10,49,11],[47,12,49,14],[47,28,49,29],[47,36,49,36],[47,37,49,37],[43,18,46,20],[43,21,46,23],[43,25,46,27],[43,28,46,29],[45,36,45,37],[45,38,45,39],[47,44,49,44],[47,45,49,45],[47,46,49,46],[47,47,49,47],[47,41,49,41],[47,42,49,42],[47,43,49,43],[39,2,39,5],[40,2,40,5],[43,1,44,5],[43,10,46,11],[43,12,46,14],[43,15,46,17],[31,1,32,1],[31,4,32,4],[34,1,35,1],[34,4,35,4],[37,2,37,5],[38,2,38,5],[22,47,24,47],[25,1,26,1],[25,4,26,4],[26,12,26,34],[28,1,29,1],[28,4,29,4],[22,41,24,41],[22,42,24,42],[22,43,24,43],[22,44,24,44],[22,45,24,45],[22,46,24,46],[22,34,24,34],[22,36,24,36],[22,37,24,37],[22,38,24,38],[22,39,24,39],[22,40,24,40],[22,1,23,1],[22,4,23,4],[22,10,24,11],[22,18,24,20],[22,27,24,29],[16,47,18,47],[19,1,20,1],[19,4,20,4],[19,10,21,11],[19,15,21,17],[19,24,21,26],[19,34,21,34],[19,36,21,36],[16,39,18,39],[16,40,18,40],[16,41,18,41],[16,42,18,42],[16,43,18,43],[16,44,18,44],[19,43,21,43],[19,44,21,44],[19,45,21,45],[19,46,21,46],[19,47,21,47],[19,41,21,41],[19,42,21,42],[19,37,21,37],[19,38,21,38],[19,39,21,39],[14,43,14,44],[14,46,15,46],[15,2,16,5],[16,10,18,11],[16,12,18,14],[16,21,18,23],[16,34,18,34],[16,36,18,36],[16,37,18,37],[16,38,18,38],[12,31,15,33],[12,34,15,34],[13,10,15,11],[14,36,14,37],[14,38,14,39],[14,41,14,42],[16,45,18,45],[16,46,18,46],[1,1,3,13],[6,2,6,5],[7,2,7,5],[8,2,8,5],[9,2,9,5],[10,12,10,20],[19,40,21,40],[10,21,10,29],[12,1,13,5],[12,12,15,14],[12,15,15,17],[12,18,15,20],[12,21,15,23],[12,24,15,26],[12,27,15,29]]}
[]
[null,"LIGUE MÉDITERRANÉENNE DE BILLARD"]
[]
[]
[]
[]
[null,"Joueur 1",{"$f":"'Saisie des joueurs'!L18","v":0}]
[null,"Joueur 2",{"$f":"'Saisie des joueurs'!L21","v":0}]
[null,"Joueur 3",{"$f":"'Saisie des joueurs'!L22","v":0}]
[]
[null,null,null,null,null,null,null,null,null,null,null,null,"MATCH ALLER",null,null,null,null,null,null,null,null,"MATCH RETOUR"]
[]
[null,"SAISIE DES RESULTATS",null,null,null,null,null,null,null,null,null,null,{"$f":"C7","v":0},null,null,{"$f":"C8","v":0},null,null,{"$f":"C9","v":0},null,null,{"$f":"C7","v":0},null,null,{"$f":"C8","v":0},null,null,{"$f":"C9","v":0},null,null,null,"TOTAUX",null,null,"CLASSEMENT"]
[]
[null,null,null,null,null,null,null,null,null,null,null,null,null,null,null,null,null,null,null,null,null,null,null,null,null,null,null,null,null,null,null,null,null,null,null,null,"Classement",null,"Classement",null,"Classement","Classement",null,"Classement",null,"GENERAL","RANG"]
[null,null,"POULE A",null,null,null,null,null,null,null,null,null,null,null,null,null,null,null,null,null,null,null,null,null,null,null,null,null,null,null,null,null,null,null,null,null,"Point-Match","CLS-M","Moy-Gen","CLS-G","Moy-Part","M-Series","CLS-S","MGPS","CLS","CLS"]
[null,null,null,null,null,null,null,null,null,null,{"$f":"C7","v":0},null,"L",null,null,{"$f":"D26","v":0},null,{"$f":"E26","v":0},{"$f":"D20","v":0},null,{"$f":"E20","v":0},"L",null,null,{"$f":"D35","v":0},null,{"$f":"E35","v":0},{"$f":"D29","v":0},null,{"$f":"E29","v":0},null,{"$f":"P17+S17+Y17+AB17","v":0},null,{"$f":"R17+U17+AA17+AD17","v":0},{"$f":"AU17","v":{"$error":"#DIV/0!"}},null,{"$f":"AG18","v":0.04},{"$f":"RANK(AK17,AK$17:AK$25,0)","v":1},{"$f":"AH19","v":{"$error":"#DIV/0!"}},{"$f":"RANK(AM17,AM$17:AM$25,0)","v":{"$error":"#DIV/0!"}},{"$f":"MAX(R19,U19,AA19,AD19)","v":{"$error":"#DIV/0!"}},{"$f":"RANK(AO17,AO$17:AO$25)","v":{"$error":"#DIV/0!"}},{"$f":"AF19","v":0},{"$f":"RANK(AQ17,AQ$17:AQ$25)","v":1},{"$f":"(AL17*1000)+(AN17*100)+(AP17*10)+(AR17*1)","v":{"$error":"#DIV/0!"}},{"$f":"AS17","v":{"$error":"#DIV/0!"}},{"$f":"RANK(AT17,AT$17:AT$25,1)","v":{"$error":"#DIV/0!"}},{"$f":"RANK(AU17,AU$17:AU$25,1)","v":{"$error":"#DIV/0!"}}]
[null,null,null,null,null,null,null,null,null,null,null,null,null,null,null,null,{"$f":"IF(R17<1,0.01,IF(P17>M20,2,IF(P17=M20,1,0)))","v":0.01},null,null,{"$f":"IF(U17<1,0.01,IF(S17>M23,2,IF(S17=M23,1,0)))","v":0.01},null,null,null,null,null,{"$f":"IF(AA17<1,0.01,IF(Y17>V20,2,IF(Y17=V20,1,0)))","v":0.01},null,null,{"$f":"IF(AD17<1,0.01,IF(AB17>V23,2,IF(AB17=V23,1,0)))","v":0.01},null,null,null,{"$f":"Q18+T18+Z18+AC18","v":0.04}]
[null,null,null,"Pts","Rep","Série",null,null,null,null,null,null,null,null,null,{"$f":"F26","v":0},null,{"$f":"P17/R17","v":{"$error":"#DIV/0!"}},{"$f":"F20","v":0},null,{"$f":"S17/U17","v":{"$error":"#DIV/0!"}},null,null,null,{"$f":"F35","v":0},null,{"$f":"Y17/AA17","v":{"$error":"#DIV/0!"}},{"$f":"F29","v":0},null,{"$f":"AB17/AD17","v":{"$error":"#DIV/0!"}},null,{"$f":"MAX(P19,S19,Y19,AB19)","v":0},null,{"$f":"AF17/AH17","v":{"$error":"#DIV/0!"}}]
[null,"Tour 1\nMatch aller",{"$f":"C7","v":0},null,null,null,null,null,null,null,{"$f":"C8","v":0},null,{"$f":"D27","v":0},null,{"$f":"E26","v":0},"M",null,null,{"$f":"D23","v":0},null,{"$f":"E23","v":0},{"$f":"D36","v":0},null,{"$f":"E35","v":0},"M",null,null,{"$f":"D32","v":0},null,{"$f":"E32","v":0},null,{"$f":"M20+S20+V20+AB20","v":0},null,{"$f":"O20+U20+X20+AD20","v":0},{"$f":"AU20","v":{"$error":"#DIV/0!"}},null,{"$f":"AG21","v":0.04},{"$f":"RANK(AK20,AK$17:AK$25,0)","v":1},{"$f":"AH22","v":{"$error":"#DIV/0!"}},{"$f":"RANK(AM20,AM$17:AM$25,0)","v":{"$error":"#DIV/0!"}},{"$f":"MAX(R22,U22,AA22,AD22)","v":{"$error":"#DIV/0!"}},{"$f":"RANK(AO20,AO$17:AO$25)","v":{"$error":"#DIV/0!"}},{"$f":"AF22","v":0},{"$f":"RANK(AQ20,AQ$17:AQ$25)","v":1},{"$f":"(AL20*1000)+(AN20*100)+(AP20*10)+(AR20*1)","v":{"$error":"#DIV/0!"}},{"$f":"AS20","v":{"$error":"#DIV/0!"}},{"$f":"RANK(AT20,AT$17:AT$25,1)","v":{"$error":"#DIV/0!"}},{"$f":"RANK(AU20,AU$17:AU$25,1)","v":{"$error":"#DIV/0!"}}]
[null,null,{"$f":"C9","v":0},null,null,null,null,null,null,null,null,null,null,{"$f":"IF(R17>0,2-Q18,0.01)","v":0.01},null,null,null,null,null,{"$f":"IF(U20<1,0.01,IF(S20>P23,2,IF(S20=P23,1,0)))","v":0.01},null,null,{"$f":"IF(AA17>0,2-Z18,0.01)","v":0.01},null,null,null,null,null,{"$f":"IF(AD20<1,0.01,IF(AB20>Y23,2,IF(AB20=Y23,1,0)))","v":0.01},null,null,null,{"$f":"N21+T21+W21+AC21","v":0.04}]
[null,null,null,null,null,null,null,null,null,null,null,null,{"$f":"F27","v":0},null,{"$f":"M20/O20","v":{"$error":"#DIV/0!"}},null,null,null,{"$f":"F23","v":0},null,{"$f":"S20/U20","v":{"$error":"#DIV/0!"}},{"$f":"F36","v":0},null,{"$f":"V20/X20","v":{"$error":"#DIV/0!"}},null,null,null,{"$f":"F32","v":0},null,{"$f":"AB20/AD20","v":{"$error":"#DIV/0!"}},null,{"$f":"MAXA(M22,S22,V22,AB22)","v":0},null,{"$f":"AF20/AH20","v":{"$error":"#DIV/0!"}}]
[null,"Tour 2\nMatch aller",{"$f":"C8","v":0},null,null,null,null,null,null,null,{"$f":"C9","v":0},null,{"$f":"D21","v":0},null,{"$f":"E20","v":0},{"$f":"D24","v":0},null,{"$f":"E23","v":0},"B",null,null,{"$f":"D30","v":0},null,{"$f":"E29","v":0},{"$f":"D33","v":0},null,{"$f":"E32","v":0},"B",null,null,null,{"$f":"M23+P23+V23+Y23","v":0},null,{"$f":"O23+R23+X23+AA23","v":0},{"$f":"AU23","v":{"$error":"#DIV/0!"}},null,{"$f":"AG24","v":0.04},{"$f":"RANK(AK23,AK$17:AK$25,0)","v":1},{"$f":"AH25","v":{"$error":"#DIV/0!"}},{"$f":"RANK(AM23,AM$17:AM$25,0)","v":{"$error":"#DIV/0!"}},{"$f":"MAX(R25,U25,AA25,AD25)","v":{"$error":"#DIV/0!"}},{"$f":"RANK(AO23,AO$17:AO$25)","v":{"$error":"#DIV/0!"}},{"$f":"AF25","v":0},{"$f":"RANK(AQ23,AQ$17:AQ$25)","v":1},{"$f":"(AL23*1000)+(AN23*100)+(AP23*10)+(AR23*1)","v":{"$error":"#DIV/0!"}},{"$f":"AS23","v":{"$error":"#DIV/0!"}},{"$f":"RANK(AT23,AT$17:AT$25,1)","v":{"$error":"#DIV/0!"}},{"$f":"RANK(AU23,AU$17:AU$25,1)","v":{"$error":"#DIV/0!"}}]
[null,null,{"$f":"C9","v":0},null,null,null,null,null,null,null,null,null,null,{"$f":"IF(U17>0,2-T18,0.01)","v":0.01},null,null,{"$f":"IF(U20>0,2-T21,0.01)","v":0.01},null,null,null,null,null,{"$f":"IF(AD17>0,2-AC18,0.01)","v":0.01},null,null,{"$f":"IF(AD20>0,2-AC21,0.01)","v":0.01},null,null,null,null,null,null,{"$f":"N24+Q24+W24+Z24","v":0.04}]
[null,null,null,null,null,null,null,null,null,null,null,null,{"$f":"F21","v":0},null,{"$f":"M23/O23","v":{"$error":"#DIV/0!"}},{"$f":"F24","v":0},null,{"$f":"P23/R23","v":{"$error":"#DIV/0!"}},null,null,null,{"$f":"F30","v":0},null,{"$f":"V23/X23","v":{"$error":"#DIV/0!"}},{"$f":"F33","v":0},null,{"$f":"Y23/AA23","v":{"$error":"#DIV/0!"}},null,null,null,null,{"$f":"MAXA(M25,P25,V25,Y25)","v":0},null,{"$f":"AF23/AH23","v":{"$error":"#DIV/0!"}}]
[null,"Tour 3\nMatch aller",{"$f":"C7","v":0}]
[null,null,{"$f":"C8","v":0},null,null,null,null,null,null,null,null,null,"Pas de prolongation en cas de match nul."]
[]
[null,"Tour 1\nMatch retour",{"$f":"C7","v":0}]
[null,null,{"$f":"C9","v":0}]
[]
[null,"Tour 2\nMatch retour",{"$f":"C8","v":0}]
[null,null,{"$f":"C9","v":0}]
[]
[null,"Tour 3\nMatch retour",{"$f":"C7","v":0}]
[null,null,{"$f":"C8","v":0}]
[]
[null,"Joueur 1",{"$f":"'Saisie des joueurs'!L19","v":0}]
[null,"Joueur 2",{"$f":"'Saisie des joueurs'!L20","v":0}]
[null,"Joueur 3",{"$f":"'Saisie des joueurs'!L23","v":0}]
[null,"Joueur 4",{"$f":"'Saisie des joueurs'!L24","v":0}]
[]
[]
[null,"SAISIE DES RESULTATS",null,null,null,null,null,null,null,null,null,null,{"$f":"C38","v":0},null,null,{"$f":"C39","v":0},null,null,{"$f":"C40","v":0},null,null,{"$f":"C41","v":0},null,null,null,"TOTAUX",null,null,"CLASSEMENT"]
[]
[null,null,null,null,null,null,null,null,null,null,null,null,null,null,null,null,null,null,null,null,null,null,null,null,null,null,null,null,null,null,null,null,null,null,null,null,"Classement",null,"Classement",null,"Classement",null,"Classement",null,"Classement",null,"GENERAL","RANG"]
[null,null,"POULE B",null,null,null,null,null,null,null,null,null,null,null,null,null,null,null,null,null,null,null,null,null,null,null,null,null,null,null,null,null,null,null,null,null,"Point-Match","CLS-M","Moy-Gen","CLS-G","Moy-Part","CLS-P","M-Series","CLS-S","MGPS","CLS","CLS"]
[null,null,null,null,null,null,null,null,null,null,{"$f":"C38","v":0},null,"L",null,null,{"$f":"D63","v":0},null,{"$f":"E63","v":0},{"$f":"D57","v":0},null,{"$f":"E57","v":0},{"$f":"D51","v":0},null,{"$f":"E51","v":0},null,{"$f":"P48+S48+V48","v":0},null,{"$f":"R48+U48+X48","v":0},{"$f":"AV48","v":{"$error":"#DIV/0!"}},null,null,null,null,null,null,null,{"$f":"AA49","v":0.03},{"$f":"RANK(AK48,AK$48:AK$59,0)","v":1},{"$f":"AB50","v":{"$error":"#DIV/0!"}},{"$f":"RANK(AM48,AM$48:AM$59,0)","v":{"$error":"#DIV/0!"}},{"$f":"MAX(R50,U50,X50)","v":{"$error":"#DIV/0!"}},{"$f":"RANK(AO48,AO$48:AO$59)","v":{"$error":"#DIV/0!"}},{"$f":"Z50","v":0},{"$f":"RANK(AQ48,AQ$48:AQ$59)","v":1},{"$f":"(AL48*1000)+(AN48*100)+(AP48*10)+(AR48*1)","v":{"$error":"#DIV/0!"}},{"$f":"AS48","v":{"$error":"#DIV/0!"}},{"$f":"RANK(AT48,AT$48:AT$59,1)","v":{"$error":"#DIV/0!"}},{"$f":"RANK(AU48,AU$48:AU$59,1)","v":{"$error":"#DIV/0!"}}]
[null,null,null,null,null,null,null,null,null,null,null,null,null,null,null,null,{"$f":"IF(R48<1,0.01,IF(P48>M51,2,IF(P48=M51,1,0)))","v":0.01},null,null,{"$f":"IF(U48<1,0.01,IF(S48>M54,2,IF(S48=M54,1,0)))","v":0.01},null,null,{"$f":"IF(X48<1,0.01,IF(V48>M57,2,IF(V48=M57,1,0)))","v":0.01},null,null,null,{"$f":"W49+T49+Q49","v":0.03}]
[null,null,null,"Pts","Rep","Série",null,null,null,null,null,null,null,null,null,{"$f":"F63","v":0},null,{"$f":"P48/R48","v":{"$error":"#DIV/0!"}},{"$f":"F57","v":0},null,{"$f":"S48/U48","v":{"$error":"#DIV/0!"}},{"$f":"F51","v":0},null,{"$f":"V48/X48","v":{"$error":"#DIV/0!"}},null,{"$f":"MAX(V50,S50,P50)","v":0},null,{"$f":"Z48/AB48","v":{"$error":"#DIV/0!"}}]
[null,"Tour 1",{"$f":"C38","v":0},null,null,null,null,null,null,null,{"$f":"C39","v":0},null,{"$f":"D64","v":0},null,{"$f":"E63","v":0},"M",null,null,{"$f":"D54","v":0},null,{"$f":"E54","v":0},{"$f":"D61","v":0},null,{"$f":"E60","v":0},null,{"$f":"M51+S51+V51","v":0},null,{"$f":"O51+U51+X51","v":0},{"$f":"AV51","v":{"$error":"#DIV/0!"}},null,null,null,null,null,null,null,{"$f":"AA52","v":0.03},{"$f":"RANK(AK51,AK$48:AK$59,0)","v":1},{"$f":"AB53","v":{"$error":"#DIV/0!"}},{"$f":"RANK(AM51,AM$48:AM$59,0)","v":{"$error":"#DIV/0!"}},{"$f":"MAX(R53,U53,X53)","v":{"$error":"#DIV/0!"}},{"$f":"RANK(AO51,AO$48:AO$59)","v":{"$error":"#DIV/0!"}},{"$f":"Z53","v":0},{"$f":"RANK(AQ51,AQ$48:AQ$59)","v":1},{"$f":"(AL51*1000)+(AN51*100)+(AP51*10)+(AR51*1)","v":{"$error":"#DIV/0!"}},{"$f":"AS51","v":{"$error":"#DIV/0!"}},{"$f":"RANK(AT51,AT$48:AT$59,1)","v":{"$error":"#DIV/0!"}},{"$f":"RANK(AU51,AU$48:AU$59,1)","v":{"$error":"#DIV/0!"}}]
[null,null,{"$f":"C41","v":0},null,null,null,null,null,null,null,null,null,null,{"$f":"IF(R48>0,2-Q49,0.01)","v":0.01},null,null,null,null,null,{"$f":"IF(U51<1,0.01,IF(S51>P54,2,IF(S51=P54,1,0)))","v":0.01},null,null,{"$f":"IF(X51<1,0.01,IF(V51>P57,2,IF(V51=P57,1,0)))","v":0.01},null,null,null,{"$f":"N52+T52+W52","v":0.03}]
[null,null,null,null,null,null,null,null,null,null,null,null,{"$f":"F64","v":0},null,{"$f":"M51/O51","v":{"$error":"#DIV/0!"}},null,null,null,{"$f":"F54","v":0},null,{"$f":"S51/U51","v":{"$error":"#DIV/0!"}},{"$f":"F61","v":0},null,{"$f":"V51/X51","v":{"$error":"#DIV/0!"}},null,{"$f":"MAXA(S53,V53,M53)","v":0},null,{"$f":"Z51/AB51","v":{"$error":"#DIV/0!"}}]
[null,"Tour 2",{"$f":"C39","v":0},null,null,null,null,null,null,null,{"$f":"C40","v":0},null,{"$f":"D58","v":0},null,{"$f":"E57","v":0},{"$f":"D55","v":0},null,{"$f":"E54","v":0},"B",null,null,{"$f":"D66","v":0},null,{"$f":"E66","v":0},null,{"$f":"M54+P54+V54","v":0},null,{"$f":"O54+R54+X54","v":0},{"$f":"AV54","v":{"$error":"#DIV/0!"}},null,null,null,null,null,null,null,{"$f":"AA55","v":0.02},{"$f":"RANK(AK54,AK$48:AK$59,0)","v":4},{"$f":"AB56","v":{"$error":"#DIV/0!"}},{"$f":"RANK(AM54,AM$48:AM$59,0)","v":{"$error":"#DIV/0!"}},{"$f":"MAX(R56,U56,X56)","v":{"$error":"#DIV/0!"}},{"$f":"RANK(AO54,AO$48:AO$59)","v":{"$error":"#DIV/0!"}},{"$f":"Z56","v":0},{"$f":"RANK(AQ54,AQ$48:AQ$59)","v":1},{"$f":"(AL54*1000)+(AN54*100)+(AP54*10)+(AR54*1)","v":{"$error":"#DIV/0!"}},{"$f":"AS54","v":{"$error":"#DIV/0!"}},{"$f":"RANK(AT54,AT$48:AT$59,1)","v":{"$error":"#DIV/0!"}},{"$f":"RANK(AU54,AU$48:AU$59,1)","v":{"$error":"#DIV/0!"}}]
[null,null,{"$f":"C40","v":0},null,null,null,null,null,null,null,null,null,null,{"$f":"IF(U48>0,2-T49,0.01)","v":0.01},null,null,{"$f":"IF(U51>0,2-T52,0.01)","v":0.01},null,null,null,null,null,{"$f":"IF(X54<1,0.01,IF(V54>S57,2,IF(V54=S57,1,0)))","v":0.01},null,null,null,{"$f":"N55+T55+W55","v":0.02}]
[null,null,null,null,null,null,null,null,null,null,null,null,{"$f":"F58","v":0},null,{"$f":"M54/O54","v":{"$error":"#DIV/0!"}},{"$f":"F55","v":0},null,{"$f":"P54/R54","v":{"$error":"#DIV/0!"}},null,null,null,{"$f":"F66","v":0},null,{"$f":"V54/X54","v":{"$error":"#DIV/0!"}},null,{"$f":"MAXA(V56,P56,M56)","v":0},null,{"$f":"Z54/AB54","v":{"$error":"#DIV/0!"}}]
[null,"Tour 3",{"$f":"C38","v":0},null,null,null,null,null,null,null,{"$f":"C41","v":0},null,{"$f":"D52","v":0},null,{"$f":"E51","v":0},{"$f":"D60","v":0},null,{"$f":"E60","v":0},{"$f":"D67","v":0},null,{"$f":"E66","v":0},null,null,null,null,{"$f":"M57+P57+S57","v":0},null,{"$f":"U57+R57+O57","v":0},{"$f":"AV57","v":{"$error":"#DIV/0!"}},null,null,null,null,null,null,null,{"$f":"AA58","v":0.03},{"$f":"RANK(AK57,AK$48:AK$59,0)","v":1},{"$f":"AB59","v":{"$error":"#DIV/0!"}},{"$f":"RANK(AM57,AM$48:AM$59,0)","v":{"$error":"#DIV/0!"}},{"$f":"MAX(R59,U59,X59)","v":{"$error":"#DIV/0!"}},{"$f":"RANK(AO57,AO$48:AO$59)","v":{"$error":"#DIV/0!"}},{"$f":"Z59","v":0},{"$f":"RANK(AQ57,AQ$48:AQ$59)","v":1},{"$f":"(AL57*1000)+(AN57*100)+(AP57*10)+(AR57*1)","v":{"$error":"#DIV/0!"}},{"$f":"AS57","v":{"$error":"#DIV/0!"}},{"$f":"RANK(AT57,AT$48:AT$59,1)","v":{"$error":"#DIV/0!"}},{"$f":"RANK(AU57,AU$48:AU$59,1)","v":{"$error":"#DIV/0!"}}]
[null,null,{"$f":"C40","v":0},null,null,null,null,null,null,null,null,null,null,{"$f":"IF(X48>0,2-W49,0.01)","v":0.01},null,null,{"$f":"IF(X51>0,2-W52,0.01)","v":0.01},null,null,{"$f":"IF(X54>0,2-W55,0.01)","v":0.01},null,null,null,null,null,null,{"$f":"N58+Q58+T58","v":0.03}]
[null,null,null,null,null,null,null,null,null,null,null,null,{"$f":"F52","v":0},null,{"$f":"M57/O57","v":{"$error":"#DIV/0!"}},{"$f":"F60","v":0},null,{"$f":"P57/R57","v":{"$error":"#DIV/0!"}},{"$f":"F67","v":0},null,{"$f":"S57/U57","v":{"$error":"#DIV/0!"}},null,null,null,null,{"$f":"MAXA(M59,P59,S59)","v":0},null,{"$f":"Z57/AB57","v":{"$error":"#DIV/0!"}}]
[null,"Tour 4",{"$f":"C41","v":0}]
[null,null,{"$f":"C39","v":0}]
[]
[null,"Tour 5",{"$f":"C38","v":0}]
[null,null,{"$f":"C39","v":0}]
[]
[null,"Tour 6",{"$f":"C40","v":0}]
[null,null,{"$f":"C41","v":0}]

{"sheet":"8JOUEURS","index":22,"n_rows":68,"n_cols":42,"rows_kept":68,"cut":false,"hidden":true,"merged":[[6,2,6,5],[7,2,7,5],[8,2,8,5],[9,2,9,5],[12,1,13,5],[12,12,15,14],[15,2,16,5],[1,1,3,13],[12,15,15,17],[12,18,15,20],[12,21,15,23],[13,10,15,11],[16,40,18,40],[16,41,18,41],[16,35,18,35],[16,36,18,36],[16,37,18,37],[16,38,18,38],[16,39,18,39],[13,25,15,27],[13,28,15,28],[14,30,14,31],[14,32,14,33],[14,34,14,35],[14,36,14,37],[14,38,14,39],[14,41,15,41],[16,10,18,11],[16,12,18,14],[16,28,18,28],[16,30,18,30],[16,31,18,31],[16,32,18,32],[16,33,18,33],[19,31,21,31],[19,32,21,32],[22,32,24,32],[22,33,24,33],[22,34,24,34],[16,34,18,34],[19,1,20,1],[19,4,20,4],[19,10,21,11],[19,15,21,17],[19,28,21,28],[19,30,21,30],[22,1,23,1],[22,4,23,4],[22,10,24,11],[22,18,24,20],[22,28,24,28],[22,30,24,30],[22,31,24,31],[22,38,24,38],[22,39,24,39],[22,40,24,40],[22,41,24,41],[22,35,24,35],[22,36,24,36],[22,37,24,37],[19,33,21,33],[19,34,21,34],[19,35,21,35],[19,36,21,36],[19,37,21,37],[19,38,21,38],[19,39,21,39],[19,40,21,40],[19,41,21,41],[25,37,27,37],[25,38,27,38],[25,39,27,39],[25,40,27,40],[25,41,27,41],[28,1,29,1],[28,4,29,4],[29,12,29,23],[25,31,27,31],[25,32,27,32],[25,33,27,33],[25,34,27,34],[25,35,27,35],[25,36,27,36],[25,1,26,1],[25,4,26,4],[25,10,27,11],[25,21,27,23],[25,28,27,28],[25,30,27,30],[31,1,32,1],[31,4,32,4],[34,1,35,1],[34,4,35,4],[38,2,38,5],[39,2,39,5],[48,41,50,41],[48,35,50,35],[48,36,50,36],[48,37,50,37],[40,2,40,5],[41,2,41,5],[44,1,45,5],[44,12,47,14],[44,15,47,17],[44,18,47,20],[45,28,47,28],[46,30,46,31],[46,32,46,33],[48,38,50,38],[48,39,50,39],[48,40,50,40],[46,41,47,41],[47,2,48,5],[54,35,56,35],[54,37,56,37],[54,38,56,38],[48,10,50,11],[48,12,50,14],[48,28,50,28],[48,30,50,30],[48,31,50,31],[44,21,47,23],[45,10,47,11],[45,25,47,27],[48,32,50,32],[54,33,56,33],[51,40,53,40],[51,41,53,41],[48,33,50,33],[48,34,50,34],[46,34,46,35],[46,36,46,37],[46,38,46,39],[51,30,53,30],[51,37,53,37],[51,38,53,38],[51,39,53,39],[51,34,53,34],[51,35,53,35],[51,36,53,36],[51,31,53,31],[51,32,53,32],[51,33,53,33],[66,1,67,1],[66,4,67,4],[63,1,64,1],[63,4,64,4],[57,1,58,1],[57,4,58,4],[57,10,59,11],[57,21,59,23],[57,28,59,28],[57,30,59,30],[51,1,52,1],[51,4,52,4],[51,10,53,11],[51,15,53,17],[51,28,53,28],[54,32,56,32],[54,30,56,30],[54,31,56,31],[54,39,56,39],[57,40,59,40],[57,41,59,41],[60,1,61,1],[60,4,61,4],[61,12,61,23],[57,31,59,31],[57,32,59,32],[57,33,59,33],[57,37,59,37],[57,34,59,34],[57,35,59,35],[57,36,59,36],[57,38,59,38],[57,39,59,39],[54,1,55,1],[54,4,55,4],[54,10,56,11],[54,18,56,20],[54,28,56,28],[54,40,56,40],[54,41,56,41],[54,36,56,36],[54,34,56,34]]}
[]
[null,"LIGUE MÉDITERRANÉENNE DE BILLARD"]
[]
[]
[]
[]
[null,"Joueur 1",{"$f":"'Saisie des joueurs'!L18","v":0}]
[null,"Joueur 2",{"$f":"'Saisie des joueurs'!L21","v":0}]
[null,"Joueur 3",{"$f":"'Saisie des joueurs'!L22","v":0}]
[null,"Joueur 4",{"$f":"'Saisie des joueurs'!L25","v":0}]
[]
[]
[null,"SAISIE DES RESULTATS",null,null,null,null,null,null,null,null,null,null,{"$f":"C7","v":0},null,null,{"$f":"C8","v":0},null,null,{"$f":"C9","v":0},null,null,{"$f":"C10","v":0}]
[null,null,null,null,null,null,null,null,null,null,null,null,null,null,null,null,null,null,null,null,null,null,null,null,null,"TOTAUX",null,null,"CLASSEMENT"]
[null,null,null,null,null,null,null,null,null,null,null,null,null,null,null,null,null,null,null,null,null,null,null,null,null,null,null,null,null,null,"Classement",null,"Classement",null,"Classement",null,"Classement",null,"Classement",null,"GENERAL","RANG"]
[null,null,"POULE A",null,null,null,null,null,null,null,null,null,null,null,null,null,null,null,null,null,null,null,null,null,null,null,null,null,null,null,"Point-Match","CLS-M","Moy-Gen","CLS-G","Moy-Part","CLS-P","M-Series","CLS-S","MGPS","CLS","CLS"]
[null,null,null,null,null,null,null,null,null,null,{"$f":"C7","v":0},null,"L",null,null,{"$f":"D32","v":0},null,{"$f":"E32","v":0},{"$f":"D26","v":0},null,{"$f":"E26","v":0},{"$f":"D20","v":0},null,{"$f":"E20","v":0},null,{"$f":"P17+S17+V17","v":0},null,{"$f":"R17+U17+X17","v":0},{"$f":"AP17","v":{"$error":"#DIV/0!"}},null,{"$f":"AA18","v":0.03},{"$f":"RANK(AE17,AE$17:AE$28,0)","v":1},{"$f":"AB19","v":{"$error":"#DIV/0!"}},{"$f":"RANK(AG17,AG$17:AG$28,0)","v":{"$error":"#DIV/0!"}},{"$f":"MAX(R19,U19,X19)","v":{"$error":"#DIV/0!"}},{"$f":"RANK(AI17,AI$17:AI$28)","v":{"$error":"#DIV/0!"}},{"$f":"Z19","v":0},{"$f":"RANK(AK17,AK$17:AK$28)","v":1},{"$f":"(AF17*1000)+(AH17*100)+(AJ17*10)+(AL17*1)","v":{"$error":"#DIV/0!"}},{"$f":"AM17","v":{"$error":"#DIV/0!"}},{"$f":"RANK(AN17,AN$17:AN$28,1)","v":{"$error":"#DIV/0!"}},{"$f":"RANK(AO17,AO$17:AO$28,1)","v":{"$error":"#DIV/0!"}}]
[null,null,null,null,null,null,null,null,null,null,null,null,null,null,null,null,{"$f":"IF(R17<1,0.01,IF(P17>M20,2,IF(P17=M20,1,0)))","v":0.01},null,null,{"$f":"IF(U17<1,0.01,IF(S17>M23,2,IF(S17=M23,1,0)))","v":0.01},null,null,{"$f":"IF(X17<1,0.01,IF(V17>M26,2,IF(V17=M26,1,0)))","v":0.01},null,null,null,{"$f":"Q18+T18+W18","v":0.03}]
[null,null,null,"Pts","Rep","Série",null,null,null,null,null,null,null,null,null,{"$f":"F32","v":0},null,{"$f":"P17/R17","v":{"$error":"#DIV/0!"}},{"$f":"F26","v":0},null,{"$f":"S17/U17","v":{"$error":"#DIV/0!"}},{"$f":"F20","v":0},null,{"$f":"V17/X17","v":{"$error":"#DIV/0!"}},null,{"$f":"MAX(P19,S19,V19)","v":0},null,{"$f":"Z17/AB17","v":{"$error":"#DIV/0!"}}]
[null,"Tour 1",{"$f":"C7","v":0},null,null,null,null,null,null,null,{"$f":"C8","v":0},null,{"$f":"D33","v":0},null,{"$f":"E32","v":0},"M",null,null,{"$f":"D23","v":0},null,{"$f":"E23","v":0},{"$f":"D30","v":0},null,{"$f":"E29","v":0},null,{"$f":"M20+S20+V20","v":0},null,{"$f":"O20+U20+X20","v":0},{"$f":"AP20","v":{"$error":"#DIV/0!"}},null,{"$f":"AA21","v":0.03},{"$f":"RANK(AE20,AE$17:AE$28,0)","v":1},{"$f":"AB22","v":{"$error":"#DIV/0!"}},{"$f":"RANK(AG20,AG$17:AG$28,0)","v":{"$error":"#DIV/0!"}},{"$f":"MAX(O22,U22,X22)","v":{"$error":"#DIV/0!"}},{"$f":"RANK(AI20,AI$17:AI$28)","v":{"$error":"#DIV/0!"}},{"$f":"Z22","v":0},{"$f":"RANK(AK20,AK$17:AK$28)","v":1},{"$f":"(AF20*1000)+(AH20*100)+(AJ20*10)+(AL20*1)","v":{"$error":"#DIV/0!"}},{"$f":"AM20","v":{"$error":"#DIV/0!"}},{"$f":"RANK(AN20,AN$17:AN$28,1)","v":{"$error":"#DIV/0!"}},{"$f":"RANK(AO20,AO$17:AO$28,1)","v":{"$error":"#DIV/0!"}}]
[null,null,{"$f":"C10","v":0},null,null,null,null,null,null,null,null,null,null,{"$f":"IF(R17>0,2-Q18,0.01)","v":0.01},null,null,null,null,null,{"$f":"IF(U20<1,0.01,IF(S20>P23,2,IF(S20=P23,1,0)))","v":0.01},null,null,{"$f":"IF(X20<1,0.01,IF(V20>P26,2,IF(V20=P26,1,0)))","v":0.01},null,null,null,{"$f":"N21+T21+W21","v":0.03}]
[null,null,null,null,null,null,null,null,null,null,null,null,{"$f":"F33","v":0},null,{"$f":"M20/O20","v":{"$error":"#DIV/0!"}},null,null,null,{"$f":"F23","v":0},null,{"$f":"S20/U20","v":{"$error":"#DIV/0!"}},{"$f":"F30","v":0},null,{"$f":"V20/X20","v":{"$error":"#DIV/0!"}},null,{"$f":"MAXA(M22,S22,V22)","v":0},null,{"$f":"Z20/AB20","v":{"$error":"#DIV/0!"}}]
[null,"Tour 2",{"$f":"C8","v":0},null,null,null,null,null,null,null,{"$f":"C9","v":0},null,{"$f":"D27","v":0},null,{"$f":"E26","v":0},{"$f":"D24","v":0},null,{"$f":"E23","v":0},"B",null,null,{"$f":"D35","v":0},null,{"$f":"E35","v":0},null,{"$f":"M23+P23+V23","v":0},null,{"$f":"O23+R23+X23","v":0},{"$f":"AP23","v":{"$error":"#DIV/0!"}},null,{"$f":"AA24","v":0.03},{"$f":"RANK(AE23,AE$17:AE$28,0)","v":1},{"$f":"AB25","v":{"$error":"#DIV/0!"}},{"$f":"RANK(AG23,AG$17:AG$28,0)","v":{"$error":"#DIV/0!"}},{"$f":"MAX(O25,R25,X25)","v":{"$error":"#DIV/0!"}},{"$f":"RANK(AI23,AI$17:AI$28)","v":{"$error":"#DIV/0!"}},{"$f":"Z25","v":0},{"$f":"RANK(AK23,AK$17:AK$28)","v":1},{"$f":"(AF23*1000)+(AH23*100)+(AJ23*10)+(AL23*1)","v":{"$error":"#DIV/0!"}},{"$f":"AM23","v":{"$error":"#DIV/0!"}},{"$f":"RANK(AN23,AN$17:AN$28,1)","v":{"$error":"#DIV/0!"}},{"$f":"RANK(AO23,AO$17:AO$28,1)","v":{"$error":"#DIV/0!"}}]
[null,null,{"$f":"C9","v":0},null,null,null,null,null,null,null,null,null,null,{"$f":"IF(U17>0,2-T18,0.01)","v":0.01},null,null,{"$f":"IF(U20>0,2-T21,0.01)","v":0.01},null,null,null,null,null,{"$f":"IF(X23<1,0.01,IF(V23>S26,2,IF(V23=S26,1,0)))","v":0.01},null,null,null,{"$f":"N24+Q24+W24","v":0.03}]
[null,null,null,null,null,null,null,null,null,null,null,null,{"$f":"F27","v":0},null,{"$f":"M23/O23","v":{"$error":"#DIV/0!"}},{"$f":"F24","v":0},null,{"$f":"P23/R23","v":{"$error":"#DIV/0!"}},null,null,null,{"$f":"F35","v":0},null,{"$f":"V23/X23","v":{"$error":"#DIV/0!"}},null,{"$f":"MAXA(M25,P25,V25)","v":0},null,{"$f":"Z23/AB23","v":{"$error":"#DIV/0!"}}]
[null,"Tour 3",{"$f":"C7","v":0},null,null,null,null,null,null,null,{"$f":"C10","v":0},null,{"$f":"D21","v":0},null,{"$f":"E20","v":0},{"$f":"D29","v":0},null,{"$f":"E29","v":0},{"$f":"D36","v":0},null,{"$f":"E35","v":0},null,null,null,null,{"$f":"M26+P26+S26","v":0},null,{"$f":"O26+R26+U26","v":0},{"$f":"AP26","v":{"$error":"#DIV/0!"}},null,{"$f":"AA27","v":0.03},{"$f":"RANK(AE26,AE$17:AE$28,0)","v":1},{"$f":"AB28","v":{"$error":"#DIV/0!"}},{"$f":"RANK(AG26,AG$17:AG$28,0)","v":{"$error":"#DIV/0!"}},{"$f":"MAX(O28,R28,U28)","v":{"$error":"#DIV/0!"}},{"$f":"RANK(AI26,AI$17:AI$28)","v":{"$error":"#DIV/0!"}},{"$f":"Z28","v":0},{"$f":"RANK(AK26,AK$17:AK$28)","v":1},{"$f":"(AF26*1000)+(AH26*100)+(AJ26*10)+(AL26*1)","v":{"$error":"#DIV/0!"}},{"$f":"AM26","v":{"$error":"#DIV/0!"}},{"$f":"RANK(AN26,AN$17:AN$28,1)","v":{"$error":"#DIV/0!"}},{"$f":"RANK(AO26,AO$17:AO$28,1)","v":{"$error":"#DIV/0!"}}]
[null,null,{"$f":"C9","v":0},null,null,null,null,null,null,null,null,null,null,{"$f":"IF(X17>0,2-W18,0.01)","v":0.01},null,null,{"$f":"IF(X20>0,2-W21,0.01)","v":0.01},null,null,{"$f":"IF(X23>0,2-W24,0.01)","v":0.01},null,null,null,null,null,null,{"$f":"N27+Q27+T27","v":0.03}]
[null,null,null,null,null,null,null,null,null,null,null,null,{"$f":"F21","v":0},null,{"$f":"M26/O26","v":{"$error":"#DIV/0!"}},{"$f":"F29","v":0},null,{"$f":"P26/R26","v":{"$error":"#DIV/0!"}},{"$f":"F36","v":0},null,{"$f":"S26/U26","v":{"$error":"#DIV/0!"}},null,null,null,null,{"$f":"MAXA(M28,P28,S28)","v":0},null,{"$f":"Z26/AB26","v":{"$error":"#DIV/0!"}}]
[null,"Tour 4",{"$f":"C10","v":0}]
[null,null,{"$f":"C8","v":0},null,null,null,null,null,null,null,null,null,"Pas de prolongation en cas de match nul."]
[]
[null,"Tour 5",{"$f":"C7","v":0}]
[null,null,{"$f":"C8","v":0}]
[]
[null,"Tour 6",{"$f":"C9","v":0}]
[null,null,{"$f":"C10","v":0}]
[]
[]
[null,"Joueur 1",{"$f":"'Saisie des joueurs'!L19","v":0}]
[null,"Joueur 2",{"$f":"'Saisie des joueurs'!L20","v":0}]
[null,"Joueur 3",{"$f":"'Saisie des joueurs'!L23","v":0}]
[null,"Joueur 4",{"$f":"'Saisie des joueurs'!L24","v":0}]
[]
[]
[null,"SAISIE DES RESULTATS",null,null,null,null,null,null,null,null,null,null,{"$f":"C39","v":0},null,null,{"$f":"C40","v":0},null,null,{"$f":"C41","v":0},null,null,{"$f":"C42","v":0}]
[null,null,null,null,null,null,null,null,null,null,null,null,null,null,null,null,null,null,null,null,null,null,null,null,null,"TOTAUX",null,null,"CLASSEMENT"]
[null,null,null,null,null,null,null,null,null,null,null,null,null,null,null,null,null,null,null,null,null,null,null,null,null,null,null,null,null,null,"Classement",null,"Classement",null,"Classement",null,"Classement",null,"Classement",null,"GENERAL","RANG"]
[null,null,"POULE B",null,null,null,null,null,null,null,null,null,null,null,null,null,null,null,null,null,null,null,null,null,null,null,null,null,null,null,"Point-Match","CLS-M","Moy-Gen","CLS-G","Moy-Part","CLS-P","M-Series","CLS-S","MGPS","CLS","CLS"]
[null,null,null,null,null,null,null,null,null,null,{"$f":"C39","v":0},null,"L",null,null,{"$f":"D64","v":0},null,{"$f":"E64","v":0},{"$f":"D58","v":0},null,{"$f":"E58","v":0},{"$f":"D52","v":0},null,{"$f":"E52","v":0},null,{"$f":"P49+S49+V49","v":0},null,{"$f":"R49+U49+X49","v":0},{"$f":"AP49","v":{"$error":"#DIV/0!"}},null,{"$f":"AA50","v":0.03},{"$f":"RANK(AE49,AE$49:AE$60,0)","v":1},{"$f":"AB51","v":{"$error":"#DIV/0!"}},{"$f":"RANK(AG49,AG$49:AG$60,0)","v":{"$error":"#DIV/0!"}},{"$f":"MAX(R51,U51,X51)","v":{"$error":"#DIV/0!"}},{"$f":"RANK(AI49,AI$49:AI$60)","v":{"$error":"#DIV/0!"}},{"$f":"Z51","v":0},{"$f":"RANK(AK49,AK$49:AK$60)","v":1},{"$f":"(AF49*1000)+(AH49*100)+(AJ49*10)+(AL49*1)","v":{"$error":"#DIV/0!"}},{"$f":"AM49","v":{"$error":"#DIV/0!"}},{"$f":"RANK(AN49,AN$49:AN$60,1)","v":{"$error":"#DIV/0!"}},{"$f":"RANK(AO49,AO$49:AO$60,1)","v":{"$error":"#DIV/0!"}}]
[null,null,null,null,null,null,null,null,null,null,null,null,null,null,null,null,{"$f":"IF(R49<1,0.01,IF(P49>M52,2,IF(P49=M52,1,0)))","v":0.01},null,null,{"$f":"IF(U49<1,0.01,IF(S49>M55,2,IF(S49=M55,1,0)))","v":0.01},null,null,{"$f":"IF(X49<1,0.01,IF(V49>M58,2,IF(V49=M58,1,0)))","v":0.01},null,null,null,{"$f":"Q50+T50+W50","v":0.03}]
[null,null,null,"Pts","Rep","Série",null,null,null,null,null,null,null,null,null,{"$f":"F64","v":0},null,{"$f":"P49/R49","v":{"$error":"#DIV/0!"}},{"$f":"F58","v":0},null,{"$f":"S49/U49","v":{"$error":"#DIV/0!"}},{"$f":"F52","v":0},null,{"$f":"V49/X49","v":{"$error":"#DIV/0!"}},null,{"$f":"MAX(P51,S51,V51)","v":0},null,{"$f":"Z49/AB49","v":{"$error":"#DIV/0!"}}]
[null,"Tour 1",{"$f":"C39","v":0},null,null,null,null,null,null,null,{"$f":"C40","v":0},null,{"$f":"D65","v":0},null,{"$f":"E64","v":0},"M",null,null,{"$f":"D55","v":0},null,{"$f":"E55","v":0},{"$f":"D62","v":0},null,{"$f":"E61","v":0},null,{"$f":"M52+S52+V52","v":0},null,{"$f":"O52+U52+X52","v":0},{"$f":"AP52","v":{"$error":"#DIV/0!"}},null,{"$f":"AA53","v":0.03},{"$f":"RANK(AE52,AE$49:AE$60,0)","v":1},{"$f":"AB54","v":{"$error":"#DIV/0!"}},{"$f":"RANK(AG52,AG$49:AG$60,0)","v":{"$error":"#DIV/0!"}},{"$f":"MAX(O54,U54,X54)","v":{"$error":"#DIV/0!"}},{"$f":"RANK(AI52,AI$49:AI$60)","v":{"$error":"#DIV/0!"}},{"$f":"Z54","v":0},{"$f":"RANK(AK52,AK$49:AK$60)","v":1},{"$f":"(AF52*1000)+(AH52*100)+(AJ52*10)+(AL52*1)","v":{"$error":"#DIV/0!"}},{"$f":"AM52","v":{"$error":"#DIV/0!"}},{"$f":"RANK(AN52,AN$49:AN$60,1)","v":{"$error":"#DIV/0!"}},{"$f":"RANK(AO52,AO$49:AO$60,1)","v":{"$error":"#DIV/0!"}}]
[null,null,{"$f":"C42","v":0},null,null,null,null,null,null,null,null,null,null,{"$f":"IF(R49>0,2-Q50,0.01)","v":0.01},null,null,null,null,null,{"$f":"IF(U52<1,0.01,IF(S52>P55,2,IF(S52=P55,1,0)))","v":0.01},null,null,{"$f":"IF(X52<1,0.01,IF(V52>P58,2,IF(V52=P58,1,0)))","v":0.01},null,null,null,{"$f":"N53+T53+W53","v":0.03}]
[null,null,null,null,null,null,null,null,null,null,null,null,{"$f":"F65","v":0},null,{"$f":"M52/O52","v":{"$error":"#DIV/0!"}},null,null,null,{"$f":"F55","v":0},null,{"$f":"S52/U52","v":{"$error":"#DIV/0!"}},{"$f":"F62","v":0},null,{"$f":"V52/X52","v":{"$error":"#DIV/0!"}},null,{"$f":"MAXA(M54,S54,V54)","v":0},null,{"$f":"Z52/AB52","v":{"$error":"#DIV/0!"}}]
[null,"Tour 2",{"$f":"C40","v":0},null,null,null,null,null,null,null,{"$f":"C41","v":0},null,{"$f":"D59","v":0},null,{"$f":"E58","v":0},{"$f":"D56","v":0},null,{"$f":"E55","v":0},"B",null,null,{"$f":"D67","v":0},null,{"$f":"E67","v":0},null,{"$f":"M55+P55+V55","v":0},null,{"$f":"O55+R55+X55","v":0},{"$f":"AP55","v":{"$error":"#DIV/0!"}},null,{"$f":"AA56","v":0.03},{"$f":"RANK(AE55,AE$49:AE$60,0)","v":1},{"$f":"AB57","v":{"$error":"#DIV/0!"}},{"$f":"RANK(AG55,AG$49:AG$60,0)","v":{"$error":"#DIV/0!"}},{"$f":"MAX(O57,R57,X57)","v":{"$error":"#DIV/0!"}},{"$f":"RANK(AI55,AI$49:AI$60)","v":{"$error":"#DIV/0!"}},{"$f":"Z57","v":0},{"$f":"RANK(AK55,AK$49:AK$60)","v":1},{"$f":"(AF55*1000)+(AH55*100)+(AJ55*10)+(AL55*1)","v":{"$error":"#DIV/0!"}},{"$f":"AM55","v":{"$error":"#DIV/0!"}},{"$f":"RANK(AN55,AN$49:AN$60,1)","v":{"$error":"#DIV/0!"}},{"$f":"RANK(AO55,AO$49:AO$60,1)","v":{"$error":"#DIV/0!"}}]
[null,null,{"$f":"C41","v":0},null,null,null,null,null,null,null,null,null,null,{"$f":"IF(U49>0,2-T50,0.01)","v":0.01},null,null,{"$f":"IF(U52>0,2-T53,0.01)","v":0.01},null,null,null,null,null,{"$f":"IF(X55<1,0.01,IF(V55>S58,2,IF(V55=S58,1,0)))","v":0.01},null,null,null,{"$f":"N56+Q56+W56","v":0.03}]
[null,null,null,null,null,null,null,null,null,null,null,null,{"$f":"F59","v":0},null,{"$f":"M55/O55","v":{"$error":"#DIV/0!"}},{"$f":"F56","v":0},null,{"$f":"P55/R55","v":{"$error":"#DIV/0!"}},null,null,null,{"$f":"F67","v":0},null,{"$f":"V55/X55","v":{"$error":"#DIV/0!"}},null,{"$f":"MAXA(M57,P57,V57)","v":0},null,{"$f":"Z55/AB55","v":{"$error":"#DIV/0!"}}]
[null,"Tour 3",{"$f":"C39","v":0},null,null,null,null,null,null,null,{"$f":"C42","v":0},null,{"$f":"D53","v":0},null,{"$f":"E52","v":0},{"$f":"D61","v":0},null,{"$f":"E61","v":0},{"$f":"D68","v":0},null,{"$f":"E67","v":0},null,null,null,null,{"$f":"M58+P58+S58","v":0},null,{"$f":"O58+R58+U58","v":0},{"$f":"AP58","v":{"$error":"#DIV/0!"}},null,{"$f":"AA59","v":0.03},{"$f":"RANK(AE58,AE$49:AE$60,0)","v":1},{"$f":"AB60","v":{"$error":"#DIV/0!"}},{"$f":"RANK(AG58,AG$49:AG$60,0)","v":{"$error":"#DIV/0!"}},{"$f":"MAX(O60,R60,U60)","v":{"$error":"#DIV/0!"}},{"$f":"RANK(AI58,AI$49:AI$60)","v":{"$error":"#DIV/0!"}},{"$f":"Z60","v":0},{"$f":"RANK(AK58,AK$49:AK$60)","v":1},{"$f":"(AF58*1000)+(AH58*100)+(AJ58*10)+(AL58*1)","v":{"$error":"#DIV/0!"}},{"$f":"AM58","v":{"$error":"#DIV/0!"}},{"$f":"RANK(AN58,AN$49:AN$60,1)","v":{"$error":"#DIV/0!"}},{"$f":"RANK(AO58,AO$49:AO$60,1)","v":{"$error":"#DIV/0!"}}]
[null,null,{"$f":"C41","v":0},null,null,null,null,null,null,null,null,null,null,{"$f":"IF(X49>0,2-W50,0.01)","v":0.01},null,null,{"$f":"IF(X52>0,2-W53,0.01)","v":0.01},null,null,{"$f":"IF(X55>0,2-W56,0.01)","v":0.01},null,null,null,null,null,null,{"$f":"N59+Q59+T59","v":0.03}]
[null,null,null,null,null,null,null,null,null,null,null,null,{"$f":"F53","v":0},null,{"$f":"M58/O58","v":{"$error":"#DIV/0!"}},{"$f":"F61","v":0},null,{"$f":"P58/R58","v":{"$error":"#DIV/0!"}},{"$f":"F68","v":0},null,{"$f":"S58/U58","v":{"$error":"#DIV/0!"}},null,null,null,null,{"$f":"MAXA(M60,P60,S60)","v":0},null,{"$f":"Z58/AB58","v":{"$error":"#DIV/0!"}}]
[null,"Tour 4",{"$f":"C42","v":0}]
[null,null,{"$f":"C40","v":0},null,null,null,null,null,null,null,null,null,"Pas de prolongation en cas de match nul."]
[]
[null,"Tour 5",{"$f":"C39","v":0}]
[null,null,{"$f":"C40","v":0}]
[]
[null,"Tour 6",{"$f":"C41","v":0}]
[null,null,{"$f":"C42","v":0}]

{"sheet":"9JOUEURS","index":23,"n_rows":98,"n_cols":48,"rows_kept":98,"cut":false,"hidden":true,"merged":[[96,1,97,1],[96,4,97,4],[84,47,86,47],[87,1,88,1],[87,4,88,4],[88,12,88,34],[90,1,91,1],[90,4,91,4],[84,41,86,41],[84,42,86,42],[93,1,94,1],[93,4,94,4],[84,43,86,43],[84,44,86,44],[84,45,86,45],[84,46,86,46],[81,40,83,40],[84,10,86,11],[84,18,86,20],[84,27,86,29],[81,37,83,37],[81,38,83,38],[81,39,83,39],[84,34,86,34],[84,36,86,36],[84,37,86,37],[84,38,86,38],[81,1,82,1],[81,4,82,4],[81,10,83,11],[84,39,86,39],[84,40,86,40],[84,1,85,1],[84,4,85,4],[78,47,80,47],[78,41,80,41],[78,42,80,42],[78,43,80,43],[78,44,80,44],[81,43,83,43],[81,44,83,44],[81,45,83,45],[78,45,80,45],[81,46,83,46],[81,47,83,47],[81,41,83,41],[81,42,83,42],[81,15,83,17],[81,24,83,26],[81,34,83,34],[81,36,83,36],[76,46,77,46],[77,2,78,5],[78,10,80,11],[78,12,80,14],[78,21,80,23],[78,34,80,34],[78,36,80,36],[78,37,80,37],[78,38,80,38],[78,46,80,46],[74,12,77,14],[74,15,77,17],[74,18,77,20],[74,21,77,23],[74,24,77,26],[74,27,77,29],[68,2,68,5],[69,2,69,5],[70,2,70,5],[71,2,71,5],[78,39,80,39],[78,40,80,40],[74,31,77,33],[74,34,77,34],[75,10,77,11],[76,36,76,37],[76,38,76,39],[74,1,75,5],[56,1,57,1],[56,4,57,4],[57,12,57,34],[59,1,60,1],[59,4,60,4],[62,1,63,1],[62,4,63,4],[65,1,66,1],[65,4,66,4],[53,41,55,41],[71,12,71,20],[71,21,71,29],[53,42,55,42],[53,43,55,43],[53,44,55,44],[53,45,55,45],[76,41,76,42],[76,43,76,44],[53,1,54,1],[53,4,54,4],[53,10,55,11],[53,18,55,20],[53,27,55,29],[53,34,55,34],[50,47,52,47],[50,36,52,36],[50,37,52,37],[50,38,52,38],[50,39,52,39],[50,40,52,40],[50,41,52,41],[50,42,52,42],[50,43,52,43],[50,44,52,44],[50,45,52,45],[53,46,55,46],[53,47,55,47],[53,36,55,36],[53,37,55,37],[53,38,55,38],[53,39,55,39],[53,40,55,40],[47,39,49,39],[47,40,49,40],[47,41,49,41],[47,42,49,42],[47,43,49,43],[47,44,49,44],[47,45,49,45],[47,46,49,46],[50,46,52,46],[47,47,49,47],[50,1,51,1],[50,4,51,4],[50,10,52,11],[50,15,52,17],[50,24,52,26],[50,34,52,34],[43,27,46,29],[43,31,46,33],[43,34,46,34],[44,10,46,11],[45,36,45,37],[45,38,45,39],[45,41,45,42],[45,43,45,44],[45,46,46,46],[46,2,47,5],[47,10,49,11],[47,12,49,14],[47,21,49,23],[47,34,49,34],[47,36,49,36],[47,37,49,37],[47,38,49,38],[39,2,39,5],[40,2,40,5],[40,12,40,20],[40,21,40,29],[43,1,44,5],[43,12,46,14],[43,15,46,17],[43,18,46,20],[43,21,46,23],[43,24,46,26],[37,2,37,5],[38,2,38,5],[22,47,24,47],[25,1,26,1],[25,4,26,4],[26,12,26,34],[28,1,29,1],[28,4,29,4],[22,41,24,41],[22,42,24,42],[22,43,24,43],[22,44,24,44],[22,45,24,45],[22,46,24,46],[22,34,24,34],[22,36,24,36],[22,37,24,37],[22,38,24,38],[22,39,24,39],[22,40,24,40],[19,38,21,38],[19,39,21,39],[19,40,21,40],[31,1,32,1],[31,4,32,4],[34,1,35,1],[34,4,35,4],[22,1,23,1],[22,4,23,4],[22,10,24,11],[22,18,24,20],[22,27,24,29],[19,37,21,37],[19,1,20,1],[19,4,20,4],[19,10,21,11],[19,15,21,17],[19,24,21,26],[19,34,21,34],[19,36,21,36],[19,43,21,43],[19,44,21,44],[19,45,21,45],[19,46,21,46],[19,47,21,47],[19,41,21,41],[19,42,21,42],[16,39,18,39],[16,40,18,40],[16,41,18,41],[16,42,18,42],[16,43,18,43],[16,44,18,44],[16,45,18,45],[16,46,18,46],[16,47,18,47],[12,31,15,33],[12,34,15,34],[13,10,15,11],[14,36,14,37],[14,38,14,39],[14,41,14,42],[14,43,14,44],[14,46,15,46],[15,2,16,5],[16,10,18,11],[16,12,18,14],[16,21,18,23],[16,34,18,34],[16,36,18,36],[16,37,18,37],[16,38,18,38],[6,2,6,5],[7,2,7,5],[8,2,8,5],[9,2,9,5],[10,12,10,20],[10,21,10,29],[1,1,3,13],[12,1,13,5],[12,12,15,14],[12,15,15,17],[12,18,15,20],[12,21,15,23],[12,24,15,26],[12,27,15,29]]}
[]
[null,"LIGUE MÉDITERRANÉENNE DE BILLARD"]
[]
[]
[]
[]
[null,"Joueur 1",{"$f":"'Saisie des joueurs'!L18","v":0}]
[null,"Joueur 2",{"$f":"'Saisie des joueurs'!L23","v":0}]
[null,"Joueur 3",{"$f":"'Saisie des joueurs'!L24","v":0}]
[]
[null,null,null,null,null,null,null,null,null,null,null,null,"MATCH ALLER",null,null,null,null,null,null,null,null,"MATCH RETOUR"]
[]
[null,"SAISIE DES RESULTATS",null,null,null,null,null,null,null,null,null,null,{"$f":"C7","v":0},null,null,{"$f":"C8","v":0},null,null,{"$f":"C9","v":0},null,null,{"$f":"C7","v":0},null,null,{"$f":"C8","v":0},null,null,{"$f":"C9","v":0},null,null,null,"TOTAUX",null,null,"CLASSEMENT"]
[]
[null,null,null,null,null,null,null,null,null,null,null,null,null,null,null,null,null,null,null,null,null,null,null,null,null,null,null,null,null,null,null,null,null,null,null,null,"Classement",null,"Classement",null,"Classement","Classement",null,"Classement",null,"GENERAL","RANG"]
[null,null,"POULE A",null,null,null,null,null,null,null,null,null,null,null,null,null,null,null,null,null,null,null,null,null,null,null,null,null,null,null,null,null,null,null,null,null,"Point-Match","CLS-M","Moy-Gen","CLS-G","Moy-Part","M-Series","CLS-S","MGPS","CLS","CLS"]
[null,null,null,null,null,null,null,null,null,null,{"$f":"C7","v":0},null,"L",null,null,{"$f":"D26","v":0},null,{"$f":"E26","v":0},{"$f":"D20","v":0},null,{"$f":"E20","v":0},"L",null,null,{"$f":"D35","v":0},null,{"$f":"E35","v":0},{"$f":"D29","v":0},null,{"$f":"E29","v":0},null,{"$f":"P17+S17+Y17+AB17","v":0},null,{"$f":"R17+U17+AA17+AD17","v":0},{"$f":"AU17","v":{"$error":"#DIV/0!"}},null,{"$f":"AG18","v":0.04},{"$f":"RANK(AK17,AK$17:AK$25,0)","v":1},{"$f":"AH19","v":{"$error":"#DIV/0!"}},{"$f":"RANK(AM17,AM$17:AM$25,0)","v":{"$error":"#DIV/0!"}},{"$f":"MAX(R19,U19,AA19,AD19)","v":{"$error":"#DIV/0!"}},{"$f":"RANK(AO17,AO$17:AO$25)","v":{"$error":"#DIV/0!"}},{"$f":"AF19","v":0},{"$f":"RANK(AQ17,AQ$17:AQ$25)","v":1},{"$f":"(AL17*1000)+(AN17*100)+(AP17*10)+(AR17*1)","v":{"$error":"#DIV/0!"}},{"$f":"AS17","v":{"$error":"#DIV/0!"}},{"$f":"RANK(AT17,AT$17:AT$25,1)","v":{"$error":"#DIV/0!"}},{"$f":"RANK(AU17,AU$17:AU$25,1)","v":{"$error":"#DIV/0!"}}]
[null,null,null,null,null,null,null,null,null,null,null,null,null,null,null,null,{"$f":"IF(R17<1,0.01,IF(P17>M20,2,IF(P17=M20,1,0)))","v":0.01},null,null,{"$f":"IF(U17<1,0.01,IF(S17>M23,2,IF(S17=M23,1,0)))","v":0.01},null,null,null,null,null,{"$f":"IF(AA17<1,0.01,IF(Y17>V20,2,IF(Y17=V20,1,0)))","v":0.01},null,null,{"$f":"IF(AD17<1,0.01,IF(AB17>V23,2,IF(AB17=V23,1,0)))","v":0.01},null,null,null,{"$f":"Q18+T18+Z18+AC18","v":0.04}]
[null,null,null,"Pts","Rep","Série",null,null,null,null,null,null,null,null,null,{"$f":"F26","v":0},null,{"$f":"P17/R17","v":{"$error":"#DIV/0!"}},{"$f":"F20","v":0},null,{"$f":"S17/U17","v":{"$error":"#DIV/0!"}},null,null,null,{"$f":"F35","v":0},null,{"$f":"Y17/AA17","v":{"$error":"#DIV/0!"}},{"$f":"F29","v":0},null,{"$f":"AB17/AD17","v":{"$error":"#DIV/0!"}},null,{"$f":"MAX(P19,S19,Y19,AB19)","v":0},null,{"$f":"AF17/AH17","v":{"$error":"#DIV/0!"}}]
[null,"Tour 1\nMatch aller",{"$f":"C7","v":0},null,null,null,null,null,null,null,{"$f":"C8","v":0},null,{"$f":"D27","v":0},null,{"$f":"E26","v":0},"M",null,null,{"$f":"D23","v":0},null,{"$f":"E23","v":0},{"$f":"D36","v":0},null,{"$f":"E35","v":0},"M",null,null,{"$f":"D32","v":0},null,{"$f":"E32","v":0},null,{"$f":"M20+S20+V20+AB20","v":0},null,{"$f":"O20+U20+X20+AD20","v":0},{"$f":"AU20","v":{"$error":"#DIV/0!"}},null,{"$f":"AG21","v":0.04},{"$f":"RANK(AK20,AK$17:AK$25,0)","v":1},{"$f":"AH22","v":{"$error":"#DIV/0!"}},{"$f":"RANK(AM20,AM$17:AM$25,0)","v":{"$error":"#DIV/0!"}},{"$f":"MAX(R22,U22,AA22,AD22)","v":{"$error":"#DIV/0!"}},{"$f":"RANK(AO20,AO$17:AO$25)","v":{"$error":"#DIV/0!"}},{"$f":"AF22","v":0},{"$f":"RANK(AQ20,AQ$17:AQ$25)","v":1},{"$f":"(AL20*1000)+(AN20*100)+(AP20*10)+(AR20*1)","v":{"$error":"#DIV/0!"}},{"$f":"AS20","v":{"$error":"#DIV/0!"}},{"$f":"RANK(AT20,AT$17:AT$25,1)","v":{"$error":"#DIV/0!"}},{"$f":"RANK(AU20,AU$17:AU$25,1)","v":{"$error":"#DIV/0!"}}]
[null,null,{"$f":"C9","v":0},null,null,null,null,null,null,null,null,null,null,{"$f":"IF(R17>0,2-Q18,0.01)","v":0.01},null,null,null,null,null,{"$f":"IF(U20<1,0.01,IF(S20>P23,2,IF(S20=P23,1,0)))","v":0.01},null,null,{"$f":"IF(AA17>0,2-Z18,0.01)","v":0.01},null,null,null,null,null,{"$f":"IF(AD20<1,0.01,IF(AB20>Y23,2,IF(AB20=Y23,1,0)))","v":0.01},null,null,null,{"$f":"N21+T21+W21+AC21","v":0.04}]
[null,null,null,null,null,null,null,null,null,null,null,null,{"$f":"F27","v":0},null,{"$f":"M20/O20","v":{"$error":"#DIV/0!"}},null,null,null,{"$f":"F23","v":0},null,{"$f":"S20/U20","v":{"$error":"#DIV/0!"}},{"$f":"F36","v":0},null,{"$f":"V20/X20","v":{"$error":"#DIV/0!"}},null,null,null,{"$f":"F32","v":0},null,{"$f":"AB20/AD20","v":{"$error":"#DIV/0!"}},null,{"$f":"MAXA(M22,S22,V22,AB22)","v":0},null,{"$f":"AF20/AH20","v":{"$error":"#DIV/0!"}}]
[null,"Tour 2\nMatch aller",{"$f":"C8","v":0},null,null,null,null,null,null,null,{"$f":"C9","v":0},null,{"$f":"D21","v":0},null,{"$f":"E20","v":0},{"$f":"D24","v":0},null,{"$f":"E23","v":0},"B",null,null,{"$f":"D30","v":0},null,{"$f":"E29","v":0},{"$f":"D33","v":0},null,{"$f":"E32","v":0},"B",null,null,null,{"$f":"M23+P23+V23+Y23","v":0},null,{"$f":"O23+R23+X23+AA23","v":0},{"$f":"AU23","v":{"$error":"#DIV/0!"}},null,{"$f":"AG24","v":0.04},{"$f":"RANK(AK23,AK$17:AK$25,0)","v":1},{"$f":"AH25","v":{"$error":"#DIV/0!"}},{"$f":"RANK(AM23,AM$17:AM$25,0)","v":{"$error":"#DIV/0!"}},{"$f":"MAX(R25,U25,AA25,AD25)","v":{"$error":"#DIV/0!"}},{"$f":"RANK(AO23,AO$17:AO$25)","v":{"$error":"#DIV/0!"}},{"$f":"AF25","v":0},{"$f":"RANK(AQ23,AQ$17:AQ$25)","v":1},{"$f":"(AL23*1000)+(AN23*100)+(AP23*10)+(AR23*1)","v":{"$error":"#DIV/0!"}},{"$f":"AS23","v":{"$error":"#DIV/0!"}},{"$f":"RANK(AT23,AT$17:AT$25,1)","v":{"$error":"#DIV/0!"}},{"$f":"RANK(AU23,AU$17:AU$25,1)","v":{"$error":"#DIV/0!"}}]
[null,null,{"$f":"C9","v":0},null,null,null,null,null,null,null,null,null,null,{"$f":"IF(U17>0,2-T18,0.01)","v":0.01},null,null,{"$f":"IF(U20>0,2-T21,0.01)","v":0.01},null,null,null,null,null,{"$f":"IF(AD17>0,2-AC18,0.01)","v":0.01},null,null,{"$f":"IF(AD20>0,2-AC21,0.01)","v":0.01},null,null,null,null,null,null,{"$f":"N24+Q24+W24+Z24","v":0.04}]
[null,null,null,null,null,null,null,null,null,null,null,null,{"$f":"F21","v":0},null,{"$f":"M23/O23","v":{"$error":"#DIV/0!"}},{"$f":"F24","v":0},null,{"$f":"P23/R23","v":{"$error":"#DIV/0!"}},null,null,null,{"$f":"F30","v":0},null,{"$f":"V23/X23","v":{"$error":"#DIV/0!"}},{"$f":"F33","v":0},null,{"$f":"Y23/AA23","v":{"$error":"#DIV/0!"}},null,null,null,null,{"$f":"MAXA(M25,P25,V25,Y25)","v":0},null,{"$f":"AF23/AH23","v":{"$error":"#DIV/0!"}}]
[null,"Tour 3\nMatch aller",{"$f":"C7","v":0}]
[null,null,{"$f":"C8","v":0},null,null,null,null,null,null,null,null,null,"Pas de prolongation en cas de match nul."]
[]
[null,"Tour 1\nMatch retour",{"$f":"C7","v":0}]
[null,null,{"$f":"C9","v":0}]
[]
[null,"Tour 2\nMatch retour",{"$f":"C8","v":0}]
[null,null,{"$f":"C9","v":0}]
[]
[null,"Tour 3\nMatch retour",{"$f":"C7","v":0}]
[null,null,{"$f":"C8","v":0}]
[]
[null,"Joueur 1",{"$f":"'Saisie des joueurs'!L19","v":0}]
[null,"Joueur 2",{"$f":"'Saisie des joueurs'!L22","v":0}]
[null,"Joueur 3",{"$f":"'Saisie des joueurs'!L25","v":0}]
[null,null,null,null,null,null,null,null,null,null,null,null,"MATCH ALLER",null,null,null,null,null,null,null,null,"MATCH RETOUR"]
[]
[]
[null,"SAISIE DES RESULTATS",null,null,null,null,null,null,null,null,null,null,{"$f":"C38","v":0},null,null,{"$f":"C39","v":0},null,null,{"$f":"C40","v":0},null,null,{"$f":"C38","v":0},null,null,{"$f":"C39","v":0},null,null,{"$f":"C40","v":0},null,null,null,"TOTAUX",null,null,"CLASSEMENT"]
[]
[null,null,null,null,null,null,null,null,null,null,null,null,null,null,null,null,null,null,null,null,null,null,null,null,null,null,null,null,null,null,null,null,null,null,null,null,"Classement",null,"Classement",null,"Classement","Classement",null,"Classement",null,"GENERAL","RANG"]
[null,null,"POULE B",null,null,null,null,null,null,null,null,null,null,null,null,null,null,null,null,null,null,null,null,null,null,null,null,null,null,null,null,null,null,null,null,null,"Point-Match","CLS-M","Moy-Gen","CLS-G","Moy-Part","M-Series","CLS-S","MGPS","CLS","CLS"]
[null,null,null,null,null,null,null,null,null,null,{"$f":"C38","v":0},null,"L",null,null,{"$f":"D57","v":0},null,{"$f":"E57","v":0},{"$f":"D51","v":0},null,{"$f":"E51","v":0},"L",null,null,{"$f":"D66","v":0},null,{"$f":"E66","v":0},{"$f":"D60","v":0},null,{"$f":"E60","v":0},null,{"$f":"P48+S48+Y48+AB48","v":0},null,{"$f":"R48+U48+AA48+AD48","v":0},{"$f":"AU48","v":{"$error":"#DIV/0!"}},null,{"$f":"AG49","v":0.04},{"$f":"RANK(AK48,AK$48:AK$56,0)","v":1},{"$f":"AH50","v":{"$error":"#DIV/0!"}},{"$f":"RANK(AM48,AM$48:AM$56,0)","v":{"$error":"#DIV/0!"}},{"$f":"MAX(R50,U50,AA50,AD50)","v":{"$error":"#DIV/0!"}},{"$f":"RANK(AO48,AO$48:AO$56)","v":{"$error":"#DIV/0!"}},{"$f":"AF50","v":0},{"$f":"RANK(AQ48,AQ$48:AQ$56)","v":1},{"$f":"(AL48*1000)+(AN48*100)+(AP48*10)+(AR48*1)","v":{"$error":"#DIV/0!"}},{"$f":"AS48","v":{"$error":"#DIV/0!"}},{"$f":"RANK(AT48,AT$48:AT$56,1)","v":{"$error":"#DIV/0!"}},{"$f":"RANK(AU48,AU$48:AU$56,1)","v":{"$error":"#DIV/0!"}}]
[null,null,null,null,null,null,null,null,null,null,null,null,null,null,null,null,{"$f":"IF(R48<1,0.01,IF(P48>M51,2,IF(P48=M51,1,0)))","v":0.01},null,null,{"$f":"IF(U48<1,0.01,IF(S48>M54,2,IF(S48=M54,1,0)))","v":0.01},null,null,null,null,null,{"$f":"IF(AA48<1,0.01,IF(Y48>V51,2,IF(Y48=V51,1,0)))","v":0.01},null,null,{"$f":"IF(AD48<1,0.01,IF(AB48>V54,2,IF(AB48=V54,1,0)))","v":0.01},null,null,null,{"$f":"Q49+T49+Z49+AC49","v":0.04}]
[null,null,null,"Pts","Rep","Série",null,null,null,null,null,null,null,null,null,{"$f":"F57","v":0},null,{"$f":"P48/R48","v":{"$error":"#DIV/0!"}},{"$f":"F51","v":0},null,{"$f":"S48/U48","v":{"$error":"#DIV/0!"}},null,null,null,{"$f":"F66","v":0},null,{"$f":"Y48/AA48","v":{"$error":"#DIV/0!"}},{"$f":"F60","v":0},null,{"$f":"AB48/AD48","v":{"$error":"#DIV/0!"}},null,{"$f":"MAX(P50,S50,Y50,AB50)","v":0},null,{"$f":"AF48/AH48","v":{"$error":"#DIV/0!"}}]
[null,"Tour 1\nMatch aller",{"$f":"C38","v":0},null,null,null,null,null,null,null,{"$f":"C39","v":0},null,{"$f":"D58","v":0},null,{"$f":"E57","v":0},"M",null,null,{"$f":"D54","v":0},null,{"$f":"E54","v":0},{"$f":"D67","v":0},null,{"$f":"E66","v":0},"M",null,null,{"$f":"D63","v":0},null,{"$f":"E63","v":0},null,{"$f":"M51+S51+V51+AB51","v":0},null,{"$f":"O51+U51+X51+AD51","v":0},{"$f":"AU51","v":{"$error":"#DIV/0!"}},null,{"$f":"AG52","v":0.04},{"$f":"RANK(AK51,AK$48:AK$56,0)","v":1},{"$f":"AH53","v":{"$error":"#DIV/0!"}},{"$f":"RANK(AM51,AM$48:AM$56,0)","v":{"$error":"#DIV/0!"}},{"$f":"MAX(O53,U53,X53,AD53)","v":{"$error":"#DIV/0!"}},{"$f":"RANK(AO51,AO$48:AO$56)","v":{"$error":"#DIV/0!"}},{"$f":"AF53","v":0},{"$f":"RANK(AQ51,AQ$48:AQ$56)","v":1},{"$f":"(AL51*1000)+(AN51*100)+(AP51*10)+(AR51*1)","v":{"$error":"#DIV/0!"}},{"$f":"AS51","v":{"$error":"#DIV/0!"}},{"$f":"RANK(AT51,AT$48:AT$56,1)","v":{"$error":"#DIV/0!"}},{"$f":"RANK(AU51,AU$48:AU$56,1)","v":{"$error":"#DIV/0!"}}]
[null,null,{"$f":"C40","v":0},null,null,null,null,null,null,null,null,null,null,{"$f":"IF(R48>0,2-Q49,0.01)","v":0.01},null,null,null,null,null,{"$f":"IF(U51<1,0.01,IF(S51>P54,2,IF(S51=P54,1,0)))","v":0.01},null,null,{"$f":"IF(AA48>0,2-Z49,0.01)","v":0.01},null,null,null,null,null,{"$f":"IF(AD51<1,0.01,IF(AB51>Y54,2,IF(AB51=Y54,1,0)))","v":0.01},null,null,null,{"$f":"N52+T52+W52+AC52","v":0.04}]
[null,null,null,null,null,null,null,null,null,null,null,null,{"$f":"F58","v":0},null,{"$f":"M51/O51","v":{"$error":"#DIV/0!"}},null,null,null,{"$f":"F54","v":0},null,{"$f":"S51/U51","v":{"$error":"#DIV/0!"}},{"$f":"F67","v":0},null,{"$f":"V51/X51","v":{"$error":"#DIV/0!"}},null,null,null,{"$f":"F63","v":0},null,{"$f":"AB51/AD51","v":{"$error":"#DIV/0!"}},null,{"$f":"MAXA(M53,S53,V53,AB53)","v":0},null,{"$f":"AF51/AH51","v":{"$error":"#DIV/0!"}}]
[null,"Tour 2\nMatch aller",{"$f":"C39","v":0},null,null,null,null,null,null,null,{"$f":"C40","v":0},null,{"$f":"D52","v":0},null,{"$f":"E51","v":0},{"$f":"D55","v":0},null,{"$f":"E54","v":0},"B",null,null,{"$f":"D61","v":0},null,{"$f":"E60","v":0},{"$f":"D64","v":0},null,{"$f":"E63","v":0},"B",null,null,null,{"$f":"M54+P54+V54+Y54","v":0},null,{"$f":"O54+R54+X54+AA54","v":0},{"$f":"AU54","v":{"$error":"#DIV/0!"}},null,{"$f":"AG55","v":0.04},{"$f":"RANK(AK54,AK$48:AK$56,0)","v":1},{"$f":"AH56","v":{"$error":"#DIV/0!"}},{"$f":"RANK(AM54,AM$48:AM$56,0)","v":{"$error":"#DIV/0!"}},{"$f":"MAX(O56,R56,X56,AA56)","v":{"$error":"#DIV/0!"}},{"$f":"RANK(AO54,AO$48:AO$56)","v":{"$error":"#DIV/0!"}},{"$f":"AF56","v":0},{"$f":"RANK(AQ54,AQ$48:AQ$56)","v":1},{"$f":"(AL54*1000)+(AN54*100)+(AP54*10)+(AR54*1)","v":{"$error":"#DIV/0!"}},{"$f":"AS54","v":{"$error":"#DIV/0!"}},{"$f":"RANK(AT54,AT$48:AT$56,1)","v":{"$error":"#DIV/0!"}},{"$f":"RANK(AU54,AU$48:AU$56,1)","v":{"$error":"#DIV/0!"}}]
[null,null,{"$f":"C40","v":0},null,null,null,null,null,null,null,null,null,null,{"$f":"IF(U48>0,2-T49,0.01)","v":0.01},null,null,{"$f":"IF(U51>0,2-T52,0.01)","v":0.01},null,null,null,null,null,{"$f":"IF(AD48>0,2-AC49,0.01)","v":0.01},null,null,{"$f":"IF(AD51>0,2-AC52,0.01)","v":0.01},null,null,null,null,null,null,{"$f":"N55+Q55+W55+Z55","v":0.04}]
[null,null,null,null,null,null,null,null,null,null,null,null,{"$f":"F52","v":0},null,{"$f":"M54/O54","v":{"$error":"#DIV/0!"}},{"$f":"F55","v":0},null,{"$f":"P54/R54","v":{"$error":"#DIV/0!"}},null,null,null,{"$f":"F61","v":0},null,{"$f":"V54/X54","v":{"$error":"#DIV/0!"}},{"$f":"F64","v":0},null,{"$f":"Y54/AA54","v":{"$error":"#DIV/0!"}},null,null,null,null,{"$f":"MAXA(M56,P56,V56,Y56)","v":0},null,{"$f":"AF54/AH54","v":{"$error":"#DIV/0!"}}]
[null,"Tour 3\nMatch aller",{"$f":"C38","v":0}]
[null,null,{"$f":"C39","v":0},null,null,null,null,null,null,null,null,null,"Pas de prolongation en cas de match nul."]
[]
[null,"Tour 1\nMatch retour",{"$f":"C38","v":0}]
[null,null,{"$f":"C40","v":0}]
[]
[null,"Tour 2\nMatch retour",{"$f":"C39","v":0}]
[null,null,{"$f":"C40","v":0}]
[]
[null,"Tour 3\nMatch retour",{"$f":"C38","v":0}]
[null,null,{"$f":"C39","v":0}]
[]
[null,"Joueur 1",{"$f":"'Saisie des joueurs'!L20","v":0}]
[null,"Joueur 2",{"$f":"'Saisie des joueurs'!L21","v":0}]
[null,"Joueur 3",{"$f":"'Saisie des joueurs'!L26","v":0}]
[null,null,null,null,null,null,null,null,null,null,null,null,"MATCH ALLER",null,null,null,null,null,null,null,null,"MATCH RETOUR"]
[]
[]
[null,"SAISIE DES RESULTATS",null,null,null,null,null,null,null,null,null,null,{"$f":"C69","v":0},null,null,{"$f":"C70","v":0},null,null,{"$f":"C71","v":0},null,null,{"$f":"C69","v":0},null,null,{"$f":"C70","v":0},null,null,{"$f":"C71","v":0},null,null,null,"TOTAUX",null,null,"CLASSEMENT"]
[]
[null,null,null,null,null,null,null,null,null,null,null,null,null,null,null,null,null,null,null,null,null,null,null,null,null,null,null,null,null,null,null,null,null,null,null,null,"Classement",null,"Classement",null,"Classement","Classement",null,"Classement",null,"GENERAL","RANG"]
[null,null,"POULE C",null,null,null,null,null,null,null,null,null,null,null,null,null,null,null,null,null,null,null,null,null,null,null,null,null,null,null,null,null,null,null,null,null,"Point-Match","CLS-M","Moy-Gen","CLS-G","Moy-Part","M-Series","CLS-S","MGPS","CLS","CLS"]
[null,null,null,null,null,null,null,null,null,null,{"$f":"C69","v":0},null,"L",null,null,{"$f":"D88","v":0},null,{"$f":"E88","v":0},{"$f":"D82","v":0},null,{"$f":"E82","v":0},"L",null,null,{"$f":"D97","v":0},null,{"$f":"E97","v":0},{"$f":"D91","v":0},null,{"$f":"E91","v":0},null,{"$f":"P79+S79+Y79+AB79","v":0},null,{"$f":"R79+U79+AA79+AD79","v":0},{"$f":"AU79","v":{"$error":"#DIV/0!"}},null,{"$f":"AG80","v":0.04},{"$f":"RANK(AK79,AK$79:AK$87,0)","v":1},{"$f":"AH81","v":{"$error":"#DIV/0!"}},{"$f":"RANK(AM79,AM$79:AM$87,0)","v":{"$error":"#DIV/0!"}},{"$f":"MAX(R81,U81,AA81,AD81)","v":{"$error":"#DIV/0!"}},{"$f":"RANK(AO79,AO$79:AO$87)","v":{"$error":"#DIV/0!"}},{"$f":"AF81","v":0},{"$f":"RANK(AQ79,AQ$79:AQ$87)","v":1},{"$f":"(AL79*1000)+(AN79*100)+(AP79*10)+(AR79*1)","v":{"$error":"#DIV/0!"}},{"$f":"AS79","v":{"$error":"#DIV/0!"}},{"$f":"RANK(AT79,AT79:AT$87,1)","v":{"$error":"#DIV/0!"}},{"$f":"RANK(AU79,AU$79:AU$87,1)","v":{"$error":"#DIV/0!"}}]
[null,null,null,null,null,null,null,null,null,null,null,null,null,null,null,null,{"$f":"IF(R79<1,0.01,IF(P79>M82,2,IF(P79=M82,1,0)))","v":0.01},null,null,{"$f":"IF(U79<1,0.01,IF(S79>M85,2,IF(S79=M85,1,0)))","v":0.01},null,null,null,null,null,{"$f":"IF(AA79<1,0.01,IF(Y79>V82,2,IF(Y79=V82,1,0)))","v":0.01},null,null,{"$f":"IF(AD79<1,0.01,IF(AB79>V85,2,IF(AB79=V85,1,0)))","v":0.01},null,null,null,{"$f":"Q80+T80+Z80+AC80","v":0.04}]
[null,null,null,"Pts","Rep","Série",null,null,null,null,null,null,null,null,null,{"$f":"F88","v":0},null,{"$f":"P79/R79","v":{"$error":"#DIV/0!"}},{"$f":"F82","v":0},null,{"$f":"S79/U79","v":{"$error":"#DIV/0!"}},null,null,null,{"$f":"F97","v":0},null,{"$f":"Y79/AA79","v":{"$error":"#DIV/0!"}},{"$f":"F91","v":0},null,{"$f":"AB79/AD79","v":{"$error":"#DIV/0!"}},null,{"$f":"MAX(P81,S81,Y81,AB81)","v":0},null,{"$f":"AF79/AH79","v":{"$error":"#DIV/0!"}}]
[null,"Tour 1\nMatch aller",{"$f":"C69","v":0},null,null,null,null,null,null,null,{"$f":"C70","v":0},null,{"$f":"D89","v":0},null,{"$f":"E88","v":0},"M",null,null,{"$f":"D85","v":0},null,{"$f":"E85","v":0},{"$f":"D98","v":0},null,{"$f":"E97","v":0},"M",null,null,{"$f":"D94","v":0},null,{"$f":"E94","v":0},null,{"$f":"M82+S82+V82+AB82","v":0},null,{"$f":"O82+U82+X82+AD82","v":0},{"$f":"AU82","v":{"$error":"#DIV/0!"}},null,{"$f":"AG83","v":0.04},{"$f":"RANK(AK82,AK$79:AK$87,0)","v":1},{"$f":"AH84","v":{"$error":"#DIV/0!"}},{"$f":"RANK(AM82,AM$79:AM$87,0)","v":{"$error":"#DIV/0!"}},{"$f":"MAX(O84,U84,X84,AD84)","v":{"$error":"#DIV/0!"}},{"$f":"RANK(AO82,AO$79:AO$87)","v":{"$error":"#DIV/0!"}},{"$f":"AF84","v":0},{"$f":"RANK(AQ82,AQ$79:AQ$87)","v":1},{"$f":"(AL82*1000)+(AN82*100)+(AP82*10)+(AR82*1)","v":{"$error":"#DIV/0!"}},{"$f":"AS82","v":{"$error":"#DIV/0!"}},{"$f":"RANK(AT82,AT82:AT$87,1)","v":{"$error":"#DIV/0!"}},{"$f":"RANK(AU82,AU$79:AU$87,1)","v":{"$error":"#DIV/0!"}}]
[null,null,{"$f":"C71","v":0},null,null,null,null,null,null,null,null,null,null,{"$f":"IF(R79>0,2-Q80,0.01)","v":0.01},null,null,null,null,null,{"$f":"IF(U82<1,0.01,IF(S82>P85,2,IF(S82=P85,1,0)))","v":0.01},null,null,{"$f":"IF(AA79>0,2-Z80,0.01)","v":0.01},null,null,null,null,null,{"$f":"IF(AD82<1,0.01,IF(AB82>Y85,2,IF(AB82=Y85,1,0)))","v":0.01},null,null,null,{"$f":"N83+T83+W83+AC83","v":0.04}]
[null,null,null,null,null,null,null,null,null,null,null,null,{"$f":"F89","v":0},null,{"$f":"M82/O82","v":{"$error":"#DIV/0!"}},null,null,null,{"$f":"F85","v":0},null,{"$f":"S82/U82","v":{"$error":"#DIV/0!"}},{"$f":"F98","v":0},null,{"$f":"V82/X82","v":{"$error":"#DIV/0!"}},null,null,null,{"$f":"F94","v":0},null,{"$f":"AB82/AD82","v":{"$error":"#DIV/0!"}},null,{"$f":"MAXA(M84,S84,V84,AB84)","v":0},null,{"$f":"AF82/AH82","v":{"$error":"#DIV/0!"}}]
[null,"Tour 2\nMatch aller",{"$f":"C70","v":0},null,null,null,null,null,null,null,{"$f":"C71","v":0},null,{"$f":"D83","v":0},null,{"$f":"E82","v":0},{"$f":"D86","v":0},null,{"$f":"E85","v":0},"B",null,null,{"$f":"D92","v":0},null,{"$f":"E91","v":0},{"$f":"D95","v":0},null,{"$f":"E94","v":0},"B",null,null,null,{"$f":"M85+P85+V85+Y85","v":0},null,{"$f":"O85+R85+X85+AA85","v":0},{"$f":"AU85","v":{"$error":"#DIV/0!"}},null,{"$f":"AG86","v":0.04},{"$f":"RANK(AK85,AK$79:AK$87,0)","v":1},{"$f":"AH87","v":{"$error":"#DIV/0!"}},{"$f":"RANK(AM85,AM$79:AM$87,0)","v":{"$error":"#DIV/0!"}},{"$f":"MAX(O87,R87,X87,AA87)","v":{"$error":"#DIV/0!"}},{"$f":"RANK(AO85,AO$79:AO$87)","v":{"$error":"#DIV/0!"}},{"$f":"AF87","v":0},{"$f":"RANK(AQ85,AQ$79:AQ$87)","v":1},{"$f":"(AL85*1000)+(AN85*100)+(AP85*10)+(AR85*1)","v":{"$error":"#DIV/0!"}},{"$f":"AS85","v":{"$error":"#DIV/0!"}},{"$f":"RANK(AT85,AT85:AT$87,1)","v":{"$error":"#DIV/0!"}},{"$f":"RANK(AU85,AU$79:AU$87,1)","v":{"$error":"#DIV/0!"}}]
[null,null,{"$f":"C71","v":0},null,null,null,null,null,null,null,null,null,null,{"$f":"IF(U79>0,2-T80,0.01)","v":0.01},null,null,{"$f":"IF(U82>0,2-T83,0.01)","v":0.01},null,null,null,null,null,{"$f":"IF(AD79>0,2-AC80,0.01)","v":0.01},null,null,{"$f":"IF(AD82>0,2-AC83,0.01)","v":0.01},null,null,null,null,null,null,{"$f":"N86+Q86+W86+Z86","v":0.04}]
[null,null,null,null,null,null,null,null,null,null,null,null,{"$f":"F83","v":0},null,{"$f":"M85/O85","v":{"$error":"#DIV/0!"}},{"$f":"F86","v":0},null,{"$f":"P85/R85","v":{"$error":"#DIV/0!"}},null,null,null,{"$f":"F92","v":0},null,{"$f":"V85/X85","v":{"$error":"#DIV/0!"}},{"$f":"F95","v":0},null,{"$f":"Y85/AA85","v":{"$error":"#DIV/0!"}},null,null,null,null,{"$f":"MAXA(M87,P87,V87,Y87)","v":0},null,{"$f":"AF85/AH85","v":{"$error":"#DIV/0!"}}]
[null,"Tour 3\nMatch aller",{"$f":"C69","v":0}]
[null,null,{"$f":"C70","v":0},null,null,null,null,null,null,null,null,null,"Pas de prolongation en cas de match nul."]
[]
[null,"Tour 1\nMatch retour",{"$f":"C69","v":0}]
[null,null,{"$f":"C71","v":0}]
[]
[null,"Tour 2\nMatch retour",{"$f":"C70","v":0}]
[null,null,{"$f":"C71","v":0}]
[]
[null,"Tour 3\nMatch retour",{"$f":"C69","v":0}]
[null,null,{"$f":"C70","v":0}]

{"sheet":"10JOUEURS","index":24,"n_rows":98,"n_cols":48,"rows_kept":98,"cut":false,"hidden":true,"merged":[[1,1,3,13],[10,21,10,29],[14,41,14,42],[16,45,18,45],[6,2,6,5],[7,2,7,5],[8,2,8,5],[9,2,9,5],[10,12,10,20],[16,38,18,38],[12,31,15,33],[12,34,15,34],[13,10,15,11],[14,36,14,37],[14,38,14,39],[12,27,15,29],[14,43,14,44],[14,46,15,46],[15,2,16,5],[16,10,18,11],[16,12,18,14],[16,21,18,23],[16,34,18,34],[16,36,18,36],[16,37,18,37],[12,1,13,5],[12,12,15,14],[12,15,15,17],[12,18,15,20],[12,21,15,23],[12,24,15,26],[16,46,18,46],[19,1,20,1],[19,4,20,4],[19,10,21,11],[19,15,21,17],[19,24,21,26],[19,43,21,43],[19,44,21,44],[19,45,21,45],[19,46,21,46],[19,41,21,41],[19,42,21,42],[19,37,21,37],[19,34,21,34],[19,36,21,36],[19,38,21,38],[19,39,21,39],[19,40,21,40],[22,45,24,45],[16,47,18,47],[19,47,21,47],[16,39,18,39],[16,40,18,40],[16,41,18,41],[16,42,18,42],[16,43,18,43],[16,44,18,44],[22,47,24,47],[22,46,24,46],[28,1,29,1],[28,4,29,4],[22,41,24,41],[22,42,24,42],[22,43,24,43],[22,44,24,44],[31,1,32,1],[31,4,32,4],[34,1,35,1],[34,4,35,4],[22,34,24,34],[22,36,24,36],[22,37,24,37],[22,38,24,38],[22,39,24,39],[22,40,24,40],[25,1,26,1],[25,4,26,4],[26,12,26,34],[22,1,23,1],[22,4,23,4],[22,10,24,11],[22,18,24,20],[22,27,24,29],[37,2,37,5],[38,2,38,5],[39,2,39,5],[40,2,40,5],[40,12,40,20],[40,21,40,29],[43,1,44,5],[43,12,46,14],[43,15,46,17],[43,18,46,20],[43,21,46,23],[43,24,46,26],[43,27,46,29],[43,34,46,34],[44,10,46,11],[45,36,45,37],[45,38,45,39],[45,41,45,42],[45,43,45,44],[45,46,46,46],[47,44,49,44],[47,45,49,45],[47,46,49,46],[47,10,49,11],[47,12,49,14],[47,21,49,23],[47,34,49,34],[47,36,49,36],[47,37,49,37],[47,47,49,47],[50,1,51,1],[50,4,51,4],[50,10,52,11],[50,15,52,17],[50,24,52,26],[50,34,52,34],[47,38,49,38],[47,39,49,39],[47,40,49,40],[50,42,52,42],[50,43,52,43],[50,44,52,44],[50,36,52,36],[50,37,52,37],[50,38,52,38],[50,39,52,39],[50,40,52,40],[50,41,52,41],[47,41,49,41],[47,42,49,42],[47,43,49,43],[46,2,47,5],[43,31,46,33],[53,1,54,1],[53,4,54,4],[53,10,55,11],[53,18,55,20],[53,27,55,29],[53,34,55,34],[50,45,52,45],[50,46,52,46],[50,47,52,47],[53,45,55,45],[53,46,55,46],[53,47,55,47],[53,36,55,36],[53,37,55,37],[53,38,55,38],[53,39,55,39],[53,40,55,40],[53,41,55,41],[53,42,55,42],[53,43,55,43],[53,44,55,44],[56,1,57,1],[56,4,57,4],[57,12,57,34],[59,1,60,1],[59,4,60,4],[62,1,63,1],[62,4,63,4],[74,10,77,11],[74,25,77,27],[65,1,66,1],[65,4,66,4],[68,2,68,5],[69,2,69,5],[70,2,70,5],[71,2,71,5],[76,36,76,37],[76,38,76,39],[74,28,77,29],[76,40,76,41],[76,42,76,43],[74,1,75,5],[74,12,77,14],[74,15,77,17],[74,18,77,20],[74,21,77,23],[77,2,78,5],[78,10,80,11],[78,12,80,14],[78,36,80,36],[78,37,80,37],[78,38,80,38],[78,28,80,29],[78,39,80,39],[78,40,80,40],[78,41,80,41],[78,42,80,42],[84,47,86,47],[87,1,88,1],[87,4,88,4],[90,1,91,1],[90,4,91,4],[87,38,89,38],[87,39,89,39],[87,40,89,40],[87,41,89,41],[84,41,86,41],[87,47,89,47],[84,40,86,40],[87,42,89,42],[87,43,89,43],[87,44,89,44],[84,1,85,1],[84,4,85,4],[84,10,86,11],[84,18,86,20],[84,42,86,42],[84,28,86,29],[87,28,89,29],[87,36,89,36],[87,37,89,37],[76,44,76,45],[76,47,77,47],[81,45,83,45],[81,46,83,46],[81,47,83,47],[78,47,80,47],[81,43,83,43],[81,44,83,44],[78,43,80,43],[78,44,80,44],[78,45,80,45],[78,46,80,46],[87,45,89,45],[87,46,89,46],[84,36,86,36],[84,37,86,37],[84,38,86,38],[84,39,86,39],[81,28,83,29],[84,43,86,43],[84,44,86,44],[84,45,86,45],[84,46,86,46],[81,39,83,39],[81,40,83,40],[81,37,83,37],[81,38,83,38],[93,1,94,1],[93,4,94,4],[96,1,97,1],[96,4,97,4],[81,1,82,1],[81,4,82,4],[81,10,83,11],[81,15,83,17],[81,42,83,42],[87,10,89,11],[87,21,89,23],[81,41,83,41],[81,36,83,36]]}
[]
[null,"LIGUE MÉDITERRANÉENNE DE BILLARD"]
[]
[]
[]
[]
[null,"Joueur 1",{"$f":"'Saisie des joueurs'!L18","v":0}]
[null,"Joueur 2",{"$f":"'Saisie des joueurs'!L23","v":0}]
[null,"Joueur 3",{"$f":"'Saisie des joueurs'!L24","v":0}]
[]
[null,null,null,null,null,null,null,null,null,null,null,null,"MATCH ALLER",null,null,null,null,null,null,null,null,"MATCH RETOUR"]
[]
[null,"SAISIE DES RESULTATS",null,null,null,null,null,null,null,null,null,null,{"$f":"C7","v":0},null,null,{"$f":"C8","v":0},null,null,{"$f":"C9","v":0},null,null,{"$f":"C7","v":0},null,null,{"$f":"C8","v":0},null,null,{"$f":"C9","v":0},null,null,null,"TOTAUX",null,null,"CLASSEMENT"]
[]
[null,null,null,null,null,null,null,null,null,null,null,null,null,null,null,null,null,null,null,null,null,null,null,null,null,null,null,null,null,null,null,null,null,null,null,null,"Classement",null,"Classement",null,"Classement","Classement",null,"Classement",null,"GENERAL","RANG"]
[null,null,"POULE A",null,null,null,null,null,null,null,null,null,null,null,null,null,null,null,null,null,null,null,null,null,null,null,null,null,null,null,null,null,null,null,null,null,"Point-Match","CLS-M","Moy-Gen","CLS-G","Moy-Part","M-Series","CLS-S","MGPS","CLS","CLS"]
[null,null,null,null,null,null,null,null,null,null,{"$f":"C7","v":0},null,"L",null,null,{"$f":"D21","v":0},null,{"$f":"E26","v":0},{"$f":"D20","v":0},null,{"$f":"E20","v":0},"L",null,null,{"$f":"D35","v":0},null,{"$f":"E35","v":0},{"$f":"D29","v":0},null,{"$f":"E29","v":0},null,{"$f":"P17+S17+Y17+AB17","v":0},null,{"$f":"R17+U17+AA17+AD17","v":0},{"$f":"AU17","v":{"$error":"#DIV/0!"}},null,{"$f":"AG18","v":0.04},{"$f":"RANK(AK17,AK$17:AK$25,0)","v":1},{"$f":"AH19","v":{"$error":"#DIV/0!"}},{"$f":"RANK(AM17,AM$17:AM$25,0)","v":{"$error":"#DIV/0!"}},{"$f":"MAX(R19,U19,AA19,AD19)","v":{"$error":"#DIV/0!"}},{"$f":"RANK(AO17,AO$17:AO$25)","v":{"$error":"#DIV/0!"}},{"$f":"AF19","v":0},{"$f":"RANK(AQ17,AQ$17:AQ$25)","v":1},{"$f":"(AL17*1000)+(AN17*100)+(AP17*10)+(AR17*1)","v":{"$error":"#DIV/0!"}},{"$f":"AS17","v":{"$error":"#DIV/0!"}},{"$f":"RANK(AT17,AT$17:AT$25,1)","v":{"$error":"#DIV/0!"}},{"$f":"RANK(AU17,AU$17:AU$25,1)","v":{"$error":"#DIV/0!"}}]
[null,null,null,null,null,null,null,null,null,null,null,null,null,null,null,null,{"$f":"IF(R17<1,0.01,IF(P17>M20,2,IF(P17=M20,1,0)))","v":0.01},null,null,{"$f":"IF(U17<1,0.01,IF(S17>M23,2,IF(S17=M23,1,0)))","v":0.01},null,null,null,null,null,{"$f":"IF(AA17<1,0.01,IF(Y17>V20,2,IF(Y17=V20,1,0)))","v":0.01},null,null,{"$f":"IF(AD17<1,0.01,IF(AB17>V23,2,IF(AB17=V23,1,0)))","v":0.01},null,null,null,{"$f":"Q18+T18+Z18+AC18","v":0.04}]
[null,null,null,"Pts","Rep","Série",null,null,null,null,null,null,null,null,null,{"$f":"F26","v":0},null,{"$f":"P17/R17","v":{"$error":"#DIV/0!"}},{"$f":"F20","v":0},null,{"$f":"S17/U17","v":{"$error":"#DIV/0!"}},null,null,null,{"$f":"F35","v":0},null,{"$f":"Y17/AA17","v":{"$error":"#DIV/0!"}},{"$f":"F29","v":0},null,{"$f":"AB17/AD17","v":{"$error":"#DIV/0!"}},null,{"$f":"MAX(P19,S19,Y19,AB19)","v":0},null,{"$f":"AF17/AH17","v":{"$error":"#DIV/0!"}}]
[null,"Tour 1\nMatch aller",{"$f":"C7","v":0},null,null,null,null,null,null,null,{"$f":"C8","v":0},null,{"$f":"D27","v":0},null,{"$f":"E26","v":0},"M",null,null,{"$f":"D23","v":0},null,{"$f":"E23","v":0},{"$f":"D36","v":0},null,{"$f":"E35","v":0},"M",null,null,{"$f":"D32","v":0},null,{"$f":"E32","v":0},null,{"$f":"M20+S20+V20+AB20","v":0},null,{"$f":"O20+U20+X20+AD20","v":0},{"$f":"AU20","v":{"$error":"#DIV/0!"}},null,{"$f":"AG21","v":0.04},{"$f":"RANK(AK20,AK$17:AK$25,0)","v":1},{"$f":"AH22","v":{"$error":"#DIV/0!"}},{"$f":"RANK(AM20,AM$17:AM$25,0)","v":{"$error":"#DIV/0!"}},{"$f":"MAX(R22,U22,AA22,AD22)","v":{"$error":"#DIV/0!"}},{"$f":"RANK(AO20,AO$17:AO$25)","v":{"$error":"#DIV/0!"}},{"$f":"AF22","v":0},{"$f":"RANK(AQ20,AQ$17:AQ$25)","v":1},{"$f":"(AL20*1000)+(AN20*100)+(AP20*10)+(AR20*1)","v":{"$error":"#DIV/0!"}},{"$f":"AS20","v":{"$error":"#DIV/0!"}},{"$f":"RANK(AT20,AT$17:AT$25,1)","v":{"$error":"#DIV/0!"}},{"$f":"RANK(AU20,AU$17:AU$25,1)","v":{"$error":"#DIV/0!"}}]
[null,null,{"$f":"C9","v":0},null,null,null,null,null,null,null,null,null,null,{"$f":"IF(R17>0,2-Q18,0.01)","v":0.01},null,null,null,null,null,{"$f":"IF(U20<1,0.01,IF(S20>P23,2,IF(S20=P23,1,0)))","v":0.01},null,null,{"$f":"IF(AA17>0,2-Z18,0.01)","v":0.01},null,null,null,null,null,{"$f":"IF(AD20<1,0.01,IF(AB20>Y23,2,IF(AB20=Y23,1,0)))","v":0.01},null,null,null,{"$f":"N21+T21+W21+AC21","v":0.04}]
[null,null,null,null,null,null,null,null,null,null,null,null,{"$f":"F27","v":0},null,{"$f":"M20/O20","v":{"$error":"#DIV/0!"}},null,null,null,{"$f":"F23","v":0},null,{"$f":"S20/U20","v":{"$error":"#DIV/0!"}},{"$f":"F36","v":0},null,{"$f":"V20/X20","v":{"$error":"#DIV/0!"}},null,null,null,{"$f":"F32","v":0},null,{"$f":"AB20/AD20","v":{"$error":"#DIV/0!"}},null,{"$f":"MAXA(M22,S22,V22,AB22)","v":0},null,{"$f":"AF20/AH20","v":{"$error":"#DIV/0!"}}]
[null,"Tour 2\nMatch aller",{"$f":"C8","v":0},null,null,null,null,null,null,null,{"$f":"C9","v":0},null,{"$f":"D21","v":0},null,{"$f":"E20","v":0},{"$f":"D24","v":0},null,{"$f":"E23","v":0},"B",null,null,{"$f":"D30","v":0},null,{"$f":"E29","v":0},{"$f":"D33","v":0},null,{"$f":"E32","v":0},"B",null,null,null,{"$f":"M23+P23+V23+Y23","v":0},null,{"$f":"O23+R23+X23+AA23","v":0},{"$f":"AU23","v":{"$error":"#DIV/0!"}},null,{"$f":"AG24","v":0.04},{"$f":"RANK(AK23,AK$17:AK$25,0)","v":1},{"$f":"AH25","v":{"$error":"#DIV/0!"}},{"$f":"RANK(AM23,AM$17:AM$25,0)","v":{"$error":"#DIV/0!"}},{"$f":"MAX(R25,U25,AA25,AD25)","v":{"$error":"#DIV/0!"}},{"$f":"RANK(AO23,AO$17:AO$25)","v":{"$error":"#DIV/0!"}},{"$f":"AF25","v":0},{"$f":"RANK(AQ23,AQ$17:AQ$25)","v":1},{"$f":"(AL23*1000)+(AN23*100)+(AP23*10)+(AR23*1)","v":{"$error":"#DIV/0!"}},{"$f":"AS23","v":{"$error":"#DIV/0!"}},{"$f":"RANK(AT23,AT$17:AT$25,1)","v":{"$error":"#DIV/0!"}},{"$f":"RANK(AU23,AU$17:AU$25,1)","v":{"$error":"#DIV/0!"}}]
[null,null,{"$f":"C9","v":0},null,null,null,null,null,null,null,null,null,null,{"$f":"IF(U17>0,2-T18,0.01)","v":0.01},null,null,{"$f":"IF(U20>0,2-T21,0.01)","v":0.01},null,null,null,null,null,{"$f":"IF(AD17>0,2-AC18,0.01)","v":0.01},null,null,{"$f":"IF(AD20>0,2-AC21,0.01)","v":0.01},null,null,null,null,null,null,{"$f":"N24+Q24+W24+Z24","v":0.04}]
[null,null,null,null,null,null,null,null,null,null,null,null,{"$f":"F21","v":0},null,{"$f":"M23/O23","v":{"$error":"#DIV/0!"}},{"$f":"F24","v":0},null,{"$f":"P23/R23","v":{"$error":"#DIV/0!"}},null,null,null,{"$f":"F30","v":0},null,{"$f":"V23/X23","v":{"$error":"#DIV/0!"}},{"$f":"F33","v":0},null,{"$f":"Y23/AA23","v":{"$error":"#DIV/0!"}},null,null,null,null,{"$f":"MAXA(M25,P25,V25,Y25)","v":0},null,{"$f":"AF23/AH23","v":{"$error":"#DIV/0!"}}]
[null,"Tour 3\nMatch aller",{"$f":"C7","v":0}]
[null,null,{"$f":"C8","v":0},null,null,null,null,null,null,null,null,null,"Pas de prolongation en cas de match nul."]
[]
[null,"Tour 1\nMatch retour",{"$f":"C7","v":0}]
[null,null,{"$f":"C9","v":0}]
[]
[null,"Tour 2\nMatch retour",{"$f":"C8","v":0}]
[null,null,{"$f":"C9","v":0}]
[]
[null,"Tour 3\nMatch retour",{"$f":"C7","v":0}]
[null,null,{"$f":"C8","v":0}]
[]
[null,"Joueur 1",{"$f":"'Saisie des joueurs'!L19","v":0}]
[null,"Joueur 2",{"$f":"'Saisie des joueurs'!L22","v":0}]
[null,"Joueur 3",{"$f":"'Saisie des joueurs'!L25","v":0}]
[null,null,null,null,null,null,null,null,null,null,null,null,"MATCH ALLER",null,null,null,null,null,null,null,null,"MATCH RETOUR"]
[]
[]
[null,"SAISIE DES RESULTATS",null,null,null,null,null,null,null,null,null,null,{"$f":"C38","v":0},null,null,{"$f":"C39","v":0},null,null,{"$f":"C40","v":0},null,null,{"$f":"C38","v":0},null,null,{"$f":"C39","v":0},null,null,{"$f":"C40","v":0},null,null,null,"TOTAUX",null,null,"CLASSEMENT"]
[]
[null,null,null,null,null,null,null,null,null,null,null,null,null,null,null,null,null,null,null,null,null,null,null,null,null,null,null,null,null,null,null,null,null,null,null,null,"Classement",null,"Classement",null,"Classement","Classement",null,"Classement",null,"GENERAL","RANG"]
[null,null,"POULE B",null,null,null,null,null,null,null,null,null,null,null,null,null,null,null,null,null,null,null,null,null,null,null,null,null,null,null,null,null,null,null,null,null,"Point-Match","CLS-M","Moy-Gen","CLS-G","Moy-Part","M-Series","CLS-S","MGPS","CLS","CLS"]
[null,null,null,null,null,null,null,null,null,null,{"$f":"C38","v":0},null,"L",null,null,{"$f":"D57","v":0},null,{"$f":"E57","v":0},{"$f":"D51","v":0},null,{"$f":"E51","v":0},"L",null,null,{"$f":"D66","v":0},null,{"$f":"E66","v":0},{"$f":"D60","v":0},null,{"$f":"E60","v":0},null,{"$f":"P48+S48+Y48+AB48","v":0},null,{"$f":"R48+U48+AA48+AD48","v":0},{"$f":"AU48","v":{"$error":"#DIV/0!"}},null,{"$f":"AG49","v":0.04},{"$f":"RANK(AK48,AK$48:AK$56,0)","v":1},{"$f":"AH50","v":{"$error":"#DIV/0!"}},{"$f":"RANK(AM48,AM$48:AM$56,0)","v":{"$error":"#DIV/0!"}},{"$f":"MAX(R50,U50,AA50,AD50)","v":{"$error":"#DIV/0!"}},{"$f":"RANK(AO48,AO$48:AO$56)","v":{"$error":"#DIV/0!"}},{"$f":"AF50","v":0},{"$f":"RANK(AQ48,AQ$48:AQ$56)","v":1},{"$f":"(AL48*1000)+(AN48*100)+(AP48*10)+(AR48*1)","v":{"$error":"#DIV/0!"}},{"$f":"AS48","v":{"$error":"#DIV/0!"}},{"$f":"RANK(AT48,AT$48:AT$56,1)","v":{"$error":"#DIV/0!"}},{"$f":"RANK(AU48,AU$48:AU$56,1)","v":{"$error":"#DIV/0!"}}]
[null,null,null,null,null,null,null,null,null,null,null,null,null,null,null,null,{"$f":"IF(R48<1,0.01,IF(P48>M51,2,IF(P48=M51,1,0)))","v":0.01},null,null,{"$f":"IF(U48<1,0.01,IF(S48>M54,2,IF(S48=M54,1,0)))","v":0.01},null,null,null,null,null,{"$f":"IF(AA48<1,0.01,IF(Y48>V51,2,IF(Y48=V51,1,0)))","v":0.01},null,null,{"$f":"IF(AD48<1,0.01,IF(AB48>V54,2,IF(AB48=V54,1,0)))","v":0.01},null,null,null,{"$f":"Q49+T49+Z49+AC49","v":0.04}]
[null,null,null,"Pts","Rep","Série",null,null,null,null,null,null,null,null,null,{"$f":"F57","v":0},null,{"$f":"P48/R48","v":{"$error":"#DIV/0!"}},{"$f":"F51","v":0},null,{"$f":"S48/U48","v":{"$error":"#DIV/0!"}},null,null,null,{"$f":"F66","v":0},null,{"$f":"Y48/AA48","v":{"$error":"#DIV/0!"}},{"$f":"F60","v":0},null,{"$f":"AB48/AD48","v":{"$error":"#DIV/0!"}},null,{"$f":"MAX(P50,S50,Y50,AB50)","v":0},null,{"$f":"AF48/AH48","v":{"$error":"#DIV/0!"}}]
[null,"Tour 1\nMatch aller",{"$f":"C38","v":0},null,null,null,null,null,null,null,{"$f":"C39","v":0},null,{"$f":"D58","v":0},null,{"$f":"E57","v":0},"M",null,null,{"$f":"D54","v":0},null,{"$f":"E54","v":0},{"$f":"D67","v":0},null,{"$f":"E66","v":0},"M",null,null,{"$f":"D63","v":0},null,{"$f":"E63","v":0},null,{"$f":"M51+S51+V51+AB51","v":0},null,{"$f":"O51+U51+X51+AD51","v":0},{"$f":"AU51","v":{"$error":"#DIV/0!"}},null,{"$f":"AG52","v":0.04},{"$f":"RANK(AK51,AK$48:AK$56,0)","v":1},{"$f":"AH53","v":{"$error":"#DIV/0!"}},{"$f":"RANK(AM51,AM$48:AM$56,0)","v":{"$error":"#DIV/0!"}},{"$f":"MAX(O53,U53,X53,AD53)","v":{"$error":"#DIV/0!"}},{"$f":"RANK(AO51,AO$48:AO$56)","v":{"$error":"#DIV/0!"}},{"$f":"AF53","v":0},{"$f":"RANK(AQ51,AQ$48:AQ$56)","v":1},{"$f":"(AL51*1000)+(AN51*100)+(AP51*10)+(AR51*1)","v":{"$error":"#DIV/0!"}},{"$f":"AS51","v":{"$error":"#DIV/0!"}},{"$f":"RANK(AT51,AT$48:AT$56,1)","v":{"$error":"#DIV/0!"}},{"$f":"RANK(AU51,AU$48:AU$56,1)","v":{"$error":"#DIV/0!"}}]
[null,null,{"$f":"C40","v":0},null,null,null,null,null,null,null,null,null,null,{"$f":"IF(R48>0,2-Q49,0.01)","v":0.01},null,null,null,null,null,{"$f":"IF(U51<1,0.01,IF(S51>P54,2,IF(S51=P54,1,0)))","v":0.01},null,null,{"$f":"IF(AA48>0,2-Z49,0.01)","v":0.01},null,null,null,null,null,{"$f":"IF(AD51<1,0.01,IF(AB51>Y54,2,IF(AB51=Y54,1,0)))","v":0.01},null,null,null,{"$f":"N52+T52+W52+AC52","v":0.04}]
[null,null,null,null,null,null,null,null,null,null,null,null,{"$f":"F58","v":0},null,{"$f":"M51/O51","v":{"$error":"#DIV/0!"}},null,null,null,{"$f":"F54","v":0},null,{"$f":"S51/U51","v":{"$error":"#DIV/0!"}},{"$f":"F67","v":0},null,{"$f":"V51/X51","v":{"$error":"#DIV/0!"}},null,null,null,{"$f":"F63","v":0},null,{"$f":"AB51/AD51","v":{"$error":"#DIV/0!"}},null,{"$f":"MAXA(M53,S53,V53,AB53)","v":0},null,{"$f":"AF51/AH51","v":{"$error":"#DIV/0!"}}]
[null,"Tour 2\nMatch aller",{"$f":"C39","v":0},null,null,null,null,null,null,null,{"$f":"C40","v":0},null,{"$f":"D52","v":0},null,{"$f":"E51","v":0},{"$f":"D55","v":0},null,{"$f":"E54","v":0},"B",null,null,{"$f":"D61","v":0},null,{"$f":"E60","v":0},{"$f":"D64","v":0},null,{"$f":"E63","v":0},"B",null,null,null,{"$f":"M54+P54+V54+Y54","v":0},null,{"$f":"O54+R54+X54+AA54","v":0},{"$f":"AU54","v":{"$error":"#DIV/0!"}},null,{"$f":"AG55","v":0.04},{"$f":"RANK(AK54,AK$48:AK$56,0)","v":1},{"$f":"AH56","v":{"$error":"#DIV/0!"}},{"$f":"RANK(AM54,AM$48:AM$56,0)","v":{"$error":"#DIV/0!"}},{"$f":"MAX(O56,R56,X56,AA56)","v":{"$error":"#DIV/0!"}},{"$f":"RANK(AO54,AO$48:AO$56)","v":{"$error":"#DIV/0!"}},{"$f":"AF56","v":0},{"$f":"RANK(AQ54,AQ$48:AQ$56)","v":1},{"$f":"(AL54*1000)+(AN54*100)+(AP54*10)+(AR54*1)","v":{"$error":"#DIV/0!"}},{"$f":"AS54","v":{"$error":"#DIV/0!"}},{"$f":"RANK(AT54,AT$48:AT$56,1)","v":{"$error":"#DIV/0!"}},{"$f":"RANK(AU54,AU$48:AU$56,1)","v":{"$error":"#DIV/0!"}}]
[null,null,{"$f":"C40","v":0},null,null,null,null,null,null,null,null,null,null,{"$f":"IF(U48>0,2-T49,0.01)","v":0.01},null,null,{"$f":"IF(U51>0,2-T52,0.01)","v":0.01},null,null,null,null,null,{"$f":"IF(AD48>0,2-AC49,0.01)","v":0.01},null,null,{"$f":"IF(AD51>0,2-AC52,0.01)","v":0.01},null,null,null,null,null,null,{"$f":"N55+Q55+W55+Z55","v":0.04}]
[null,null,null,null,null,null,null,null,null,null,null,null,{"$f":"F52","v":0},null,{"$f":"M54/O54","v":{"$error":"#DIV/0!"}},{"$f":"F55","v":0},null,{"$f":"P54/R54","v":{"$error":"#DIV/0!"}},null,null,null,{"$f":"F61","v":0},null,{"$f":"V54/X54","v":{"$error":"#DIV/0!"}},{"$f":"F64","v":0},null,{"$f":"Y54/AA54","v":{"$error":"#DIV/0!"}},null,null,null,null,{"$f":"MAXA(M56,P56,V56,Y56)","v":0},null,{"$f":"AF54/AH54","v":{"$error":"#DIV/0!"}}]
[null,"Tour 3\nMatch aller",{"$f":"C38","v":0}]
[null,null,{"$f":"C39","v":0},null,null,null,null,null,null,null,null,null,"Pas de prolongation en cas de match nul."]
[]
[null,"Tour 1\nMatch retour",{"$f":"C38","v":0}]
[null,null,{"$f":"C40","v":0}]
[]
[null,"Tour 2\nMatch retour",{"$f":"C39","v":0}]
[null,null,{"$f":"C40","v":0}]
[]
[null,"Tour 3\nMatch retour",{"$f":"C38","v":0}]
[null,null,{"$f":"C39","v":0}]
[]
[null,"Joueur 1",{"$f":"'Saisie des joueurs'!L20","v":0}]
[null,"Joueur 2",{"$f":"'Saisie des joueurs'!L21","v":0}]
[null,"Joueur 3",{"$f":"'Saisie des joueurs'!L26","v":0}]
[null,"Joueur 4",{"$f":"'Saisie des joueurs'!L27","v":0}]
[]
[]
[null,"SAISIE DES RESULTATS",null,null,null,null,null,null,null,null,null,null,{"$f":"C69","v":0},null,null,{"$f":"C70","v":0},null,null,{"$f":"C71","v":0},null,null,{"$f":"C72","v":0},null,null,null,"TOTAUX",null,null,"CLASSEMENT"]
[]
[null,null,null,null,null,null,null,null,null,null,null,null,null,null,null,null,null,null,null,null,null,null,null,null,null,null,null,null,null,null,null,null,null,null,null,null,"Classement",null,"Classement",null,"Classement",null,"Classement",null,"Classement",null,"GENERAL","RANG"]
[null,null,"POULE C",null,null,null,null,null,null,null,null,null,null,null,null,null,null,null,null,null,null,null,null,null,null,null,null,null,null,null,null,null,null,null,null,null,"Point-Match","CLS-M","Moy-Gen","CLS-G","Moy-Part","CLS-P","M-Series","CLS-S","MGPS","CLS","CLS"]
[null,null,null,null,null,null,null,null,null,null,{"$f":"C69","v":0},null,"L",null,null,{"$f":"D94","v":0},null,{"$f":"E94","v":0},{"$f":"D88","v":0},null,{"$f":"E88","v":0},{"$f":"D82","v":0},null,{"$f":"E82","v":0},null,{"$f":"P79+S79+V79","v":0},null,{"$f":"R79+U79+X79","v":0},{"$f":"AV79","v":{"$error":"#DIV/0!"}},null,null,null,null,null,null,null,{"$f":"AA80","v":0.03},{"$f":"RANK(AK79,AK$79:AK$90,0)","v":1},{"$f":"AB81","v":{"$error":"#DIV/0!"}},{"$f":"RANK(AM79,AM$79:AM$90,0)","v":{"$error":"#DIV/0!"}},{"$f":"MAX(R81,U81,X81)","v":{"$error":"#DIV/0!"}},{"$f":"RANK(AO79,AO$79:AO$90)","v":{"$error":"#DIV/0!"}},{"$f":"Z81","v":0},{"$f":"RANK(AQ79,AQ$79:AQ$90)","v":1},{"$f":"(AL79*1000)+(AN79*100)+(AP79*10)+(AR79*1)","v":{"$error":"#DIV/0!"}},{"$f":"AS79","v":{"$error":"#DIV/0!"}},{"$f":"RANK(AT79,AT$79:AT$90,1)","v":{"$error":"#DIV/0!"}},{"$f":"RANK(AU79,AU$79:AU$90,1)","v":{"$error":"#DIV/0!"}}]
[null,null,null,null,null,null,null,null,null,null,null,null,null,null,null,null,{"$f":"IF(R79<1,0.01,IF(P79>M82,2,IF(P79=M82,1,0)))","v":0.01},null,null,{"$f":"IF(U79<1,0.01,IF(S79>M85,2,IF(S79=M85,1,0)))","v":0.01},null,null,{"$f":"IF(X79<1,0.01,IF(V79>M88,2,IF(V79=M88,1,0)))","v":0.01},null,null,null,{"$f":"W80+T80+Q80","v":0.03}]
[null,null,null,"Pts","Rep","Série",null,null,null,null,null,null,null,null,null,{"$f":"F94","v":0},null,{"$f":"P79/R79","v":{"$error":"#DIV/0!"}},{"$f":"F88","v":0},null,{"$f":"S79/U79","v":{"$error":"#DIV/0!"}},{"$f":"F82","v":0},null,{"$f":"V79/X79","v":{"$error":"#DIV/0!"}},null,{"$f":"MAX(V81,S81,P81)","v":0},null,{"$f":"Z79/AB79","v":{"$error":"#DIV/0!"}}]
[null,"Tour 1",{"$f":"C69","v":0},null,null,null,null,null,null,null,{"$f":"C70","v":0},null,{"$f":"D95","v":0},null,{"$f":"E94","v":0},"M",null,null,{"$f":"D85","v":0},null,{"$f":"E85","v":0},{"$f":"D92","v":0},null,{"$f":"E91","v":0},null,{"$f":"M82+S82+V82","v":0},null,{"$f":"O82+U82+X82","v":0},{"$f":"AV82","v":{"$error":"#DIV/0!"}},null,null,null,null,null,null,null,{"$f":"AA83","v":0.03},{"$f":"RANK(AK82,AK$79:AK$90,0)","v":1},{"$f":"AB84","v":{"$error":"#DIV/0!"}},{"$f":"RANK(AM82,AM$79:AM$90,0)","v":{"$error":"#DIV/0!"}},{"$f":"MAX(R84,U84,X84)","v":{"$error":"#DIV/0!"}},{"$f":"RANK(AO82,AO$79:AO$90)","v":{"$error":"#DIV/0!"}},{"$f":"Z84","v":0},{"$f":"RANK(AQ82,AQ$79:AQ$90)","v":1},{"$f":"(AL82*1000)+(AN82*100)+(AP82*10)+(AR82*1)","v":{"$error":"#DIV/0!"}},{"$f":"AS82","v":{"$error":"#DIV/0!"}},{"$f":"RANK(AT82,AT$79:AT$90,1)","v":{"$error":"#DIV/0!"}},{"$f":"RANK(AU82,AU$79:AU$90,1)","v":{"$error":"#DIV/0!"}}]
[null,null,{"$f":"C72","v":0},null,null,null,null,null,null,null,null,null,null,{"$f":"IF(R79>0,2-Q80,0.01)","v":0.01},null,null,null,null,null,{"$f":"IF(U82<1,0.01,IF(S82>P85,2,IF(S82=P85,1,0)))","v":0.01},null,null,{"$f":"IF(X82<1,0.01,IF(V82>P88,2,IF(V82=P88,1,0)))","v":0.01},null,null,null,{"$f":"N83+T83+W83","v":0.03}]
[null,null,null,null,null,null,null,null,null,null,null,null,{"$f":"F95","v":0},null,{"$f":"M82/O82","v":{"$error":"#DIV/0!"}},null,null,null,{"$f":"F85","v":0},null,{"$f":"S82/U82","v":{"$error":"#DIV/0!"}},{"$f":"F92","v":0},null,{"$f":"V82/X82","v":{"$error":"#DIV/0!"}},null,{"$f":"MAXA(S84,V84,M84)","v":0},null,{"$f":"Z82/AB82","v":{"$error":"#DIV/0!"}}]
[null,"Tour 2",{"$f":"C70","v":0},null,null,null,null,null,null,null,{"$f":"C71","v":0},null,{"$f":"D89","v":0},null,{"$f":"E88","v":0},{"$f":"D86","v":0},null,{"$f":"E85","v":0},"B",null,null,{"$f":"D97","v":0},null,{"$f":"E97","v":0},null,{"$f":"M85+P85+V85","v":0},null,{"$f":"O85+U85+X85","v":0},{"$f":"AV85","v":{"$error":"#DIV/0!"}},null,null,null,null,null,null,null,{"$f":"AA86","v":0.02},{"$f":"RANK(AK85,AK$79:AK$90,0)","v":4},{"$f":"AB87","v":{"$error":"#DIV/0!"}},{"$f":"RANK(AM85,AM$79:AM$90,0)","v":{"$error":"#DIV/0!"}},{"$f":"MAX(R87,U87,X87)","v":{"$error":"#DIV/0!"}},{"$f":"RANK(AO85,AO$79:AO$90)","v":{"$error":"#DIV/0!"}},{"$f":"Z87","v":0},{"$f":"RANK(AQ85,AQ$79:AQ$90)","v":1},{"$f":"(AL85*1000)+(AN85*100)+(AP85*10)+(AR85*1)","v":{"$error":"#DIV/0!"}},{"$f":"AS85","v":{"$error":"#DIV/0!"}},{"$f":"RANK(AT85,AT$79:AT$90,1)","v":{"$error":"#DIV/0!"}},{"$f":"RANK(AU85,AU$79:AU$90,1)","v":{"$error":"#DIV/0!"}}]
[null,null,{"$f":"C71","v":0},null,null,null,null,null,null,null,null,null,null,{"$f":"IF(U79>0,2-T80,0.01)","v":0.01},null,null,{"$f":"IF(U82>0,2-T83,0.01)","v":0.01},null,null,null,null,null,{"$f":"IF(X85<1,0.01,IF(V85>S88,2,IF(V85=S88,1,0)))","v":0.01},null,null,null,{"$f":"N86+T86+W86","v":0.02}]
[null,null,null,null,null,null,null,null,null,null,null,null,{"$f":"F89","v":0},null,{"$f":"M85/O85","v":{"$error":"#DIV/0!"}},{"$f":"F86","v":0},null,{"$f":"P85/R85","v":{"$error":"#DIV/0!"}},null,null,null,{"$f":"F97","v":0},null,{"$f":"V85/X85","v":{"$error":"#DIV/0!"}},null,{"$f":"MAXA(V87,P87,M87)","v":0},null,{"$f":"Z85/AB85","v":{"$error":"#DIV/0!"}}]
[null,"Tour 3",{"$f":"C69","v":0},null,null,null,null,null,null,null,{"$f":"C72","v":0},null,{"$f":"D83","v":0},null,{"$f":"E82","v":0},{"$f":"D91","v":0},null,{"$f":"E91","v":0},{"$f":"D98","v":0},null,{"$f":"E97","v":0},null,null,null,null,{"$f":"M88+P88+S88","v":0},null,{"$f":"U88+R88+O88","v":0},{"$f":"AV88","v":{"$error":"#DIV/0!"}},null,null,null,null,null,null,null,{"$f":"AA89","v":0.03},{"$f":"RANK(AK88,AK$79:AK$90,0)","v":1},{"$f":"AB90","v":{"$error":"#DIV/0!"}},{"$f":"RANK(AM88,AM$79:AM$90,0)","v":{"$error":"#DIV/0!"}},{"$f":"MAX(R90,U90,X90)","v":{"$error":"#DIV/0!"}},{"$f":"RANK(AO88,AO$79:AO$90)","v":{"$error":"#DIV/0!"}},{"$f":"Z90","v":0},{"$f":"RANK(AQ88,AQ$79:AQ$90)","v":1},{"$f":"(AL88*1000)+(AN88*100)+(AP88*10)+(AR88*1)","v":{"$error":"#DIV/0!"}},{"$f":"AS88","v":{"$error":"#DIV/0!"}},{"$f":"RANK(AT88,AT$79:AT$90,1)","v":{"$error":"#DIV/0!"}},{"$f":"RANK(AU88,AU$79:AU$90,1)","v":{"$error":"#DIV/0!"}}]
[null,null,{"$f":"C71","v":0},null,null,null,null,null,null,null,null,null,null,{"$f":"IF(X79>0,2-W80,0.01)","v":0.01},null,null,{"$f":"IF(X82>0,2-W83,0.01)","v":0.01},null,null,{"$f":"IF(X85>0,2-W86,0.01)","v":0.01},null,null,null,null,null,null,{"$f":"N89+Q89+T89","v":0.03}]
[null,null,null,null,null,null,null,null,null,null,null,null,{"$f":"F83","v":0},null,{"$f":"M88/O88","v":{"$error":"#DIV/0!"}},{"$f":"F91","v":0},null,{"$f":"P88/R88","v":{"$error":"#DIV/0!"}},{"$f":"F98","v":0},null,{"$f":"S88/U88","v":{"$error":"#DIV/0!"}},null,null,null,null,{"$f":"MAXA(M90,P90,S90)","v":0},null,{"$f":"Z88/AB88","v":{"$error":"#DIV/0!"}}]
[null,"Tour 4",{"$f":"C72","v":0}]
[null,null,{"$f":"C70","v":0}]
[]
[null,"Tour 5",{"$f":"C69","v":0}]
[null,null,{"$f":"C70","v":0}]
[]
[null,"Tour 6",{"$f":"C71","v":0}]
[null,null,{"$f":"C72","v":0}]

{"sheet":"11JOUEURS","index":25,"n_rows":99,"n_cols":48,"rows_kept":99,"cut":false,"hidden":true,"merged":[[88,45,90,45],[88,46,90,46],[88,47,90,47],[88,39,90,39],[88,40,90,40],[88,41,90,41],[88,42,90,42],[88,43,90,43],[88,44,90,44],[94,1,95,1],[94,4,95,4],[97,1,98,1],[97,4,98,4],[85,47,87,47],[88,1,89,1],[88,4,89,4],[88,10,90,11],[88,21,90,23],[88,28,90,29],[85,42,87,42],[85,43,87,43],[85,44,87,44],[85,45,87,45],[85,46,87,46],[91,1,92,1],[91,4,92,4],[88,36,90,36],[88,37,90,37],[88,38,90,38],[85,36,87,36],[85,37,87,37],[85,38,87,38],[85,39,87,39],[85,40,87,40],[85,41,87,41],[82,43,84,43],[82,44,84,44],[82,45,84,45],[82,46,84,46],[82,47,84,47],[85,1,86,1],[85,4,86,4],[85,10,87,11],[85,18,87,20],[85,28,87,29],[82,37,84,37],[82,38,84,38],[82,39,84,39],[82,40,84,40],[82,41,84,41],[82,42,84,42],[82,1,83,1],[82,4,83,4],[82,10,84,11],[82,15,84,17],[82,28,84,29],[82,36,84,36],[79,38,81,38],[79,39,81,39],[79,40,81,40],[77,40,77,41],[77,42,77,43],[77,44,77,45],[77,47,78,47],[78,2,79,5],[79,10,81,11],[79,12,81,14],[79,28,81,29],[79,36,81,36],[79,37,81,37],[75,18,78,20],[75,21,78,23],[75,25,78,27],[75,28,78,29],[77,36,77,37],[77,38,77,39],[79,44,81,44],[79,45,81,45],[79,46,81,46],[79,47,81,47],[79,41,81,41],[79,42,81,42],[79,43,81,43],[51,10,53,11],[72,2,72,5],[75,1,76,5],[75,10,78,11],[75,12,78,14],[75,15,78,17],[34,4,35,4],[38,2,38,5],[39,2,39,5],[40,2,40,5],[41,2,41,5],[51,1,52,1],[51,4,52,4],[69,2,69,5],[70,2,70,5],[71,2,71,5],[54,1,55,1],[54,4,55,4],[54,10,56,11],[63,1,64,1],[63,4,64,4],[66,1,67,1],[66,4,67,4],[34,1,35,1],[6,2,6,5],[7,2,7,5],[8,2,8,5],[25,1,26,1],[25,4,26,4],[26,12,26,34],[31,1,32,1],[31,4,32,4],[19,1,20,1],[19,4,20,4],[19,10,21,11],[19,15,21,17],[10,21,10,29],[12,1,13,5],[12,12,15,14],[12,15,15,17],[12,18,15,20],[12,21,15,23],[12,24,15,26],[12,27,15,29],[12,34,15,34],[13,10,15,11],[9,2,9,5],[10,12,10,20],[16,45,18,45],[14,43,14,44],[14,46,15,46],[15,2,16,5],[16,10,18,11],[16,12,18,14],[16,21,18,23],[16,34,18,34],[16,36,18,36],[16,37,18,37],[16,38,18,38],[12,31,15,33],[19,40,21,40],[16,42,18,42],[16,43,18,43],[16,44,18,44],[19,43,21,43],[19,44,21,44],[14,36,14,37],[14,38,14,39],[14,41,14,42],[22,47,24,47],[16,46,18,46],[19,24,21,26],[19,34,21,34],[19,36,21,36],[16,39,18,39],[16,40,18,40],[16,41,18,41],[22,27,24,29],[19,41,21,41],[19,42,21,42],[16,47,18,47],[22,34,24,34],[22,36,24,36],[22,37,24,37],[22,38,24,38],[22,39,24,39],[22,40,24,40],[19,45,21,45],[19,46,21,46],[19,47,21,47],[19,37,21,37],[19,38,21,38],[19,39,21,39],[28,1,29,1],[28,4,29,4],[22,41,24,41],[22,42,24,42],[22,43,24,43],[22,44,24,44],[22,45,24,45],[22,46,24,46],[44,1,45,5],[44,10,47,11],[44,12,47,14],[44,15,47,17],[44,18,47,20],[44,21,47,23],[44,25,47,27],[44,28,47,29],[46,36,46,37],[46,38,46,39],[46,40,46,41],[46,42,46,43],[22,1,23,1],[22,4,23,4],[22,10,24,11],[22,18,24,20],[46,47,47,47],[47,2,48,5],[48,10,50,11],[48,12,50,14],[48,28,50,29],[48,36,50,36],[51,15,53,17],[51,28,53,29],[51,36,53,36],[51,37,53,37],[51,38,53,38],[48,40,50,40],[48,37,50,37],[48,38,50,38],[48,39,50,39],[51,44,53,44],[48,44,50,44],[48,45,50,45],[48,46,50,46],[48,47,50,47],[48,41,50,41],[48,42,50,42],[51,39,53,39],[54,36,56,36],[54,44,56,44],[54,45,56,45],[54,46,56,46],[54,47,56,47],[54,41,56,41],[54,42,56,42],[54,37,56,37],[1,1,3,13],[54,18,56,20],[54,28,56,29],[54,43,56,43],[54,38,56,38],[51,40,53,40],[51,41,53,41],[51,42,53,42],[51,43,53,43],[51,45,53,45],[51,46,53,46],[51,47,53,47],[48,43,50,43],[54,39,56,39],[54,40,56,40],[46,44,46,45],[57,47,59,47],[60,1,61,1],[60,4,61,4],[57,37,59,37],[57,38,59,38],[57,39,59,39],[57,40,59,40],[57,41,59,41],[57,42,59,42],[57,44,59,44],[57,45,59,45],[57,46,59,46],[57,1,58,1],[57,4,58,4],[57,10,59,11],[57,21,59,23],[57,28,59,29],[57,36,59,36],[57,43,59,43]]}
[]
[null,"LIGUE MÉDITERRANÉENNE DE BILLARD"]
[]
[]
[]
[]
[null,"Joueur 1",{"$f":"'Saisie des joueurs'!L18","v":0}]
[null,"Joueur 2",{"$f":"'Saisie des joueurs'!L23","v":0}]
[null,"Joueur 3",{"$f":"'Saisie des joueurs'!L24","v":0}]
[]
[null,null,null,null,null,null,null,null,null,null,null,null,"MATCH ALLER",null,null,null,null,null,null,null,null,"MATCH RETOUR"]
[]
[null,"SAISIE DES RESULTATS",null,null,null,null,null,null,null,null,null,null,{"$f":"C7","v":0},null,null,{"$f":"C8","v":0},null,null,{"$f":"C9","v":0},null,null,{"$f":"C7","v":0},null,null,{"$f":"C8","v":0},null,null,{"$f":"C9","v":0},null,null,null,"TOTAUX",null,null,"CLASSEMENT"]
[]
[null,null,null,null,null,null,null,null,null,null,null,null,null,null,null,null,null,null,null,null,null,null,null,null,null,null,null,null,null,null,null,null,null,null,null,null,"Classement",null,"Classement",null,"Classement","Classement",null,"Classement",null,"GENERAL","RANG"]
[null,null,"POULE A",null,null,null,null,null,null,null,null,null,null,null,null,null,null,null,null,null,null,null,null,null,null,null,null,null,null,null,null,null,null,null,null,null,"Point-Match","CLS-M","Moy-Gen","CLS-G","Moy-Part","M-Series","CLS-S","MGPS","CLS","CLS"]
[null,null,null,null,null,null,null,null,null,null,{"$f":"C7","v":0},null,"L",null,null,{"$f":"D26","v":0},null,{"$f":"E26","v":0},{"$f":"D20","v":0},null,{"$f":"E20","v":0},"L",null,null,{"$f":"D35","v":0},null,{"$f":"E35","v":0},{"$f":"D29","v":0},null,{"$f":"E29","v":0},null,{"$f":"P17+S17+Y17+AB17","v":0},null,{"$f":"R17+U17+AA17+AD17","v":0},{"$f":"AU17","v":{"$error":"#DIV/0!"}},null,{"$f":"AG18","v":0.04},{"$f":"RANK(AK17,AK$17:AK$25,0)","v":1},{"$f":"AH19","v":{"$error":"#DIV/0!"}},{"$f":"RANK(AM17,AM$17:AM$25,0)","v":{"$error":"#DIV/0!"}},{"$f":"MAX(R19,U19,AA19,AD19)","v":{"$error":"#DIV/0!"}},{"$f":"RANK(AO17,AO$17:AO$25)","v":{"$error":"#DIV/0!"}},{"$f":"AF19","v":0},{"$f":"RANK(AQ17,AQ$17:AQ$25)","v":1},{"$f":"(AL17*1000)+(AN17*100)+(AP17*10)+(AR17*1)","v":{"$error":"#DIV/0!"}},{"$f":"AS17","v":{"$error":"#DIV/0!"}},{"$f":"RANK(AT17,AT$17:AT$25,1)","v":{"$error":"#DIV/0!"}},{"$f":"RANK(AU17,AU$17:AU$25,1)","v":{"$error":"#DIV/0!"}}]
[null,null,null,null,null,null,null,null,null,null,null,null,null,null,null,null,{"$f":"IF(R17<1,0.01,IF(P17>M20,2,IF(P17=M20,1,0)))","v":0.01},null,null,{"$f":"IF(U17<1,0.01,IF(S17>M23,2,IF(S17=M23,1,0)))","v":0.01},null,null,null,null,null,{"$f":"IF(AA17<1,0.01,IF(Y17>V20,2,IF(Y17=V20,1,0)))","v":0.01},null,null,{"$f":"IF(AD17<1,0.01,IF(AB17>V23,2,IF(AB17=V23,1,0)))","v":0.01},null,null,null,{"$f":"Q18+T18+Z18+AC18","v":0.04}]
[null,null,null,"Pts","Rep","Série",null,null,null,null,null,null,null,null,null,{"$f":"F26","v":0},null,{"$f":"P17/R17","v":{"$error":"#DIV/0!"}},{"$f":"F20","v":0},null,{"$f":"S17/U17","v":{"$error":"#DIV/0!"}},null,null,null,{"$f":"F35","v":0},null,{"$f":"Y17/AA17","v":{"$error":"#DIV/0!"}},{"$f":"F29","v":0},null,{"$f":"AB17/AD17","v":{"$error":"#DIV/0!"}},null,{"$f":"MAX(P19,S19,Y19,AB19)","v":0},null,{"$f":"AF17/AH17","v":{"$error":"#DIV/0!"}}]
[null,"Tour 1\nMatch aller",{"$f":"C7","v":0},null,null,null,null,null,null,null,{"$f":"C8","v":0},null,{"$f":"D27","v":0},null,{"$f":"E26","v":0},"M",null,null,{"$f":"D23","v":0},null,{"$f":"E23","v":0},{"$f":"D36","v":0},null,{"$f":"E35","v":0},"M",null,null,{"$f":"D32","v":0},null,{"$f":"E32","v":0},null,{"$f":"M20+S20+V20+AB20","v":0},null,{"$f":"O20+U20+X20+AD20","v":0},{"$f":"AU20","v":{"$error":"#DIV/0!"}},null,{"$f":"AG21","v":0.04},{"$f":"RANK(AK20,AK$17:AK$25,0)","v":1},{"$f":"AH22","v":{"$error":"#DIV/0!"}},{"$f":"RANK(AM20,AM$17:AM$25,0)","v":{"$error":"#DIV/0!"}},{"$f":"MAX(R22,U22,AA22,AD22)","v":{"$error":"#DIV/0!"}},{"$f":"RANK(AO20,AO$17:AO$25)","v":{"$error":"#DIV/0!"}},{"$f":"AF22","v":0},{"$f":"RANK(AQ20,AQ$17:AQ$25)","v":1},{"$f":"(AL20*1000)+(AN20*100)+(AP20*10)+(AR20*1)","v":{"$error":"#DIV/0!"}},{"$f":"AS20","v":{"$error":"#DIV/0!"}},{"$f":"RANK(AT20,AT$17:AT$25,1)","v":{"$error":"#DIV/0!"}},{"$f":"RANK(AU20,AU$17:AU$25,1)","v":{"$error":"#DIV/0!"}}]
[null,null,{"$f":"C9","v":0},null,null,null,null,null,null,null,null,null,null,{"$f":"IF(R17>0,2-Q18,0.01)","v":0.01},null,null,null,null,null,{"$f":"IF(U20<1,0.01,IF(S20>P23,2,IF(S20=P23,1,0)))","v":0.01},null,null,{"$f":"IF(AA17>0,2-Z18,0.01)","v":0.01},null,null,null,null,null,{"$f":"IF(AD20<1,0.01,IF(AB20>Y23,2,IF(AB20=Y23,1,0)))","v":0.01},null,null,null,{"$f":"N21+T21+W21+AC21","v":0.04}]
[null,null,null,null,null,null,null,null,null,null,null,null,{"$f":"F27","v":0},null,{"$f":"M20/O20","v":{"$error":"#DIV/0!"}},null,null,null,{"$f":"F23","v":0},null,{"$f":"S20/U20","v":{"$error":"#DIV/0!"}},{"$f":"F36","v":0},null,{"$f":"V20/X20","v":{"$error":"#DIV/0!"}},null,null,null,{"$f":"F32","v":0},null,{"$f":"AB20/AD20","v":{"$error":"#DIV/0!"}},null,{"$f":"MAXA(M22,S22,V22,AB22)","v":0},null,{"$f":"AF20/AH20","v":{"$error":"#DIV/0!"}}]
[null,"Tour 2\nMatch aller",{"$f":"C8","v":0},null,null,null,null,null,null,null,{"$f":"C9","v":0},null,{"$f":"D21","v":0},null,{"$f":"E20","v":0},{"$f":"D24","v":0},null,{"$f":"E23","v":0},"B",null,null,{"$f":"D30","v":0},null,{"$f":"E29","v":0},{"$f":"D33","v":0},null,{"$f":"E32","v":0},"B",null,null,null,{"$f":"M23+P23+V23+Y23","v":0},null,{"$f":"O23+R23+X23+AA23","v":0},{"$f":"AU23","v":{"$error":"#DIV/0!"}},null,{"$f":"AG24","v":0.04},{"$f":"RANK(AK23,AK$17:AK$25,0)","v":1},{"$f":"AH25","v":{"$error":"#DIV/0!"}},{"$f":"RANK(AM23,AM$17:AM$25,0)","v":{"$error":"#DIV/0!"}},{"$f":"MAX(R25,U25,AA25,AD25)","v":{"$error":"#DIV/0!"}},{"$f":"RANK(AO23,AO$17:AO$25)","v":{"$error":"#DIV/0!"}},{"$f":"AF25","v":0},{"$f":"RANK(AQ23,AQ$17:AQ$25)","v":1},{"$f":"(AL23*1000)+(AN23*100)+(AP23*10)+(AR23*1)","v":{"$error":"#DIV/0!"}},{"$f":"AS23","v":{"$error":"#DIV/0!"}},{"$f":"RANK(AT23,AT$17:AT$25,1)","v":{"$error":"#DIV/0!"}},{"$f":"RANK(AU23,AU$17:AU$25,1)","v":{"$error":"#DIV/0!"}}]
[null,null,{"$f":"C9","v":0},null,null,null,null,null,null,null,null,null,null,{"$f":"IF(U17>0,2-T18,0.01)","v":0.01},null,null,{"$f":"IF(U20>0,2-T21,0.01)","v":0.01},null,null,null,null,null,{"$f":"IF(AD17>0,2-AC18,0.01)","v":0.01},null,null,{"$f":"IF(AD20>0,2-AC21,0.01)","v":0.01},null,null,null,null,null,null,{"$f":"N24+Q24+W24+Z24","v":0.04}]
[null,null,null,null,null,null,null,null,null,null,null,null,{"$f":"F21","v":0},null,{"$f":"M23/O23","v":{"$error":"#DIV/0!"}},{"$f":"F24","v":0},null,{"$f":"P23/R23","v":{"$error":"#DIV/0!"}},null,null,null,{"$f":"F30","v":0},null,{"$f":"V23/X23","v":{"$error":"#DIV/0!"}},{"$f":"F33","v":0},null,{"$f":"Y23/AA23","v":{"$error":"#DIV/0!"}},null,null,null,null,{"$f":"MAXA(M25,P25,V25,Y25)","v":0},null,{"$f":"AF23/AH23","v":{"$error":"#DIV/0!"}}]
[null,"Tour 3\nMatch aller",{"$f":"C7","v":0}]
[null,null,{"$f":"C8","v":0},null,null,null,null,null,null,null,null,null,"Pas de prolongation en cas de match nul."]
[]
[null,"Tour 1\nMatch retour",{"$f":"C7","v":0}]
[null,null,{"$f":"C9","v":0}]
[]
[null,"Tour 2\nMatch retour",{"$f":"C8","v":0}]
[null,null,{"$f":"C9","v":0}]
[]
[null,"Tour 3\nMatch retour",{"$f":"C7","v":0}]
[null,null,{"$f":"C8","v":0}]
[]
[]
[null,"Joueur 1",{"$f":"'Saisie des joueurs'!L19","v":0}]
[null,"Joueur 2",{"$f":"'Saisie des joueurs'!L22","v":0}]
[null,"Joueur 3",{"$f":"'Saisie des joueurs'!L25","v":0}]
[null,"Joueur 4",{"$f":"'Saisie des joueurs'!L28","v":0}]
[]
[]
[null,"SAISIE DES RESULTATS",null,null,null,null,null,null,null,null,null,null,{"$f":"C39","v":0},null,null,{"$f":"C40","v":0},null,null,{"$f":"C41","v":0},null,null,{"$f":"C42","v":0},null,null,null,"TOTAUX",null,null,"CLASSEMENT"]
[]
[null,null,null,null,null,null,null,null,null,null,null,null,null,null,null,null,null,null,null,null,null,null,null,null,null,null,null,null,null,null,null,null,null,null,null,null,"Classement",null,"Classement",null,"Classement",null,"Classement",null,"Classement",null,"GENERAL","RANG"]
[null,null,"POULE B",null,null,null,null,null,null,null,null,null,null,null,null,null,null,null,null,null,null,null,null,null,null,null,null,null,null,null,null,null,null,null,null,null,"Point-Match","CLS-M","Moy-Gen","CLS-G","Moy-Part","CLS-P","M-Series","CLS-S","MGPS","CLS","CLS"]
[null,null,null,null,null,null,null,null,null,null,{"$f":"C39","v":0},null,"L",null,null,{"$f":"D64","v":0},null,{"$f":"E64","v":0},{"$f":"D58","v":0},null,{"$f":"E58","v":0},{"$f":"D52","v":0},null,{"$f":"E52","v":0},null,{"$f":"P49+S49+V49","v":0},null,{"$f":"R49+U49+X49","v":0},{"$f":"AV49","v":{"$error":"#DIV/0!"}},null,null,null,null,null,null,null,{"$f":"AA50","v":0.03},{"$f":"RANK(AK49,AK$49:AK$60,0)","v":1},{"$f":"AB51","v":{"$error":"#DIV/0!"}},{"$f":"RANK(AM49,AM$49:AM$60,0)","v":{"$error":"#DIV/0!"}},{"$f":"MAX(R51,U51,X51)","v":{"$error":"#DIV/0!"}},{"$f":"RANK(AO49,AO$49:AO$60)","v":{"$error":"#DIV/0!"}},{"$f":"Z51","v":0},{"$f":"RANK(AQ49,AQ$49:AQ$60)","v":1},{"$f":"(AL49*1000)+(AN49*100)+(AP49*10)+(AR49*1)","v":{"$error":"#DIV/0!"}},{"$f":"AS49","v":{"$error":"#DIV/0!"}},{"$f":"RANK(AT49,AT$49:AT$60,1)","v":{"$error":"#DIV/0!"}},{"$f":"RANK(AU49,AU$49:AU$60,1)","v":{"$error":"#DIV/0!"}}]
[null,null,null,null,null,null,null,null,null,null,null,null,null,null,null,null,{"$f":"IF(R49<1,0.01,IF(P49>M52,2,IF(P49=M52,1,0)))","v":0.01},null,null,{"$f":"IF(U49<1,0.01,IF(S49>M55,2,IF(S49=M55,1,0)))","v":0.01},null,null,{"$f":"IF(X49<1,0.01,IF(V49>M58,2,IF(V49=M58,1,0)))","v":0.01},null,null,null,{"$f":"Q50+T50+W50","v":0.03}]
[null,null,null,"Pts","Rep","Série",null,null,null,null,null,null,null,null,null,{"$f":"F64","v":0},null,{"$f":"P49/R49","v":{"$error":"#DIV/0!"}},{"$f":"F58","v":0},null,{"$f":"S49/U49","v":{"$error":"#DIV/0!"}},{"$f":"F52","v":0},null,{"$f":"V49/X49","v":{"$error":"#DIV/0!"}},null,{"$f":"MAX(P51,S51,V51)","v":0},null,{"$f":"Z49/AB49","v":{"$error":"#DIV/0!"}}]
[null,"Tour 1",{"$f":"C39","v":0},null,null,null,null,null,null,null,{"$f":"C40","v":0},null,{"$f":"D65","v":0},null,{"$f":"E64","v":0},"M",null,null,{"$f":"D55","v":0},null,{"$f":"E55","v":0},{"$f":"D62","v":0},null,{"$f":"E61","v":0},null,{"$f":"M52+S52+V52","v":0},null,{"$f":"O52+U52+X52","v":0},{"$f":"AV52","v":{"$error":"#DIV/0!"}},null,null,null,null,null,null,null,{"$f":"AA53","v":0.03},{"$f":"RANK(AK52,AK$49:AK$60,0)","v":1},{"$f":"AB54","v":{"$error":"#DIV/0!"}},{"$f":"RANK(AM52,AM$49:AM$60,0)","v":{"$error":"#DIV/0!"}},{"$f":"MAX(O54,U54,X54)","v":{"$error":"#DIV/0!"}},{"$f":"RANK(AO52,AO$49:AO$60)","v":{"$error":"#DIV/0!"}},{"$f":"Z54","v":0},{"$f":"RANK(AQ52,AQ$49:AQ$60)","v":1},{"$f":"(AL52*1000)+(AN52*100)+(AP52*10)+(AR52*1)","v":{"$error":"#DIV/0!"}},{"$f":"AS52","v":{"$error":"#DIV/0!"}},{"$f":"RANK(AT52,AT$49:AT$60,1)","v":{"$error":"#DIV/0!"}},{"$f":"RANK(AU52,AU$49:AU$60,1)","v":{"$error":"#DIV/0!"}}]
[null,null,{"$f":"C42","v":0},null,null,null,null,null,null,null,null,null,null,{"$f":"IF(R49>0,2-Q50,0.01)","v":0.01},null,null,null,null,null,{"$f":"IF(U52<1,0.01,IF(S52>P55,2,IF(S52=P55,1,0)))","v":0.01},null,null,{"$f":"IF(X52<1,0.01,IF(V52>P58,2,IF(V52=P58,1,0)))","v":0.01},null,null,null,{"$f":"N53+T53+W53","v":0.03}]
[null,null,null,null,null,null,null,null,null,null,null,null,{"$f":"F65","v":0},null,{"$f":"M52/O52","v":{"$error":"#DIV/0!"}},null,null,null,{"$f":"F55","v":0},null,{"$f":"S52/U52","v":{"$error":"#DIV/0!"}},{"$f":"F62","v":0},null,{"$f":"V52/X52","v":{"$error":"#DIV/0!"}},null,{"$f":"MAXA(M54,S54,V54)","v":0},null,{"$f":"Z52/AB52","v":{"$error":"#DIV/0!"}}]
[null,"Tour 2",{"$f":"C40","v":0},null,null,null,null,null,null,null,{"$f":"C41","v":0},null,{"$f":"D59","v":0},null,{"$f":"E58","v":0},{"$f":"D56","v":0},null,{"$f":"E55","v":0},"B",null,null,{"$f":"D67","v":0},null,{"$f":"E67","v":0},null,{"$f":"M55+P55+V55","v":0},null,{"$f":"O55+R55+X55","v":0},{"$f":"AV55","v":{"$error":"#DIV/0!"}},null,null,null,null,null,null,null,{"$f":"AA56","v":0.03},{"$f":"RANK(AK55,AK$49:AK$60,0)","v":1},{"$f":"AB57","v":{"$error":"#DIV/0!"}},{"$f":"RANK(AM55,AM$49:AM$60,0)","v":{"$error":"#DIV/0!"}},{"$f":"MAX(O57,R57,X57)","v":{"$error":"#DIV/0!"}},{"$f":"RANK(AO55,AO$49:AO$60)","v":{"$error":"#DIV/0!"}},{"$f":"Z57","v":0},{"$f":"RANK(AQ55,AQ$49:AQ$60)","v":1},{"$f":"(AL55*1000)+(AN55*100)+(AP55*10)+(AR55*1)","v":{"$error":"#DIV/0!"}},{"$f":"AS55","v":{"$error":"#DIV/0!"}},{"$f":"RANK(AT55,AT$49:AT$60,1)","v":{"$error":"#DIV/0!"}},{"$f":"RANK(AU55,AU$49:AU$60,1)","v":{"$error":"#DIV/0!"}}]
[null,null,{"$f":"C41","v":0},null,null,null,null,null,null,null,null,null,null,{"$f":"IF(U49>0,2-T50,0.01)","v":0.01},null,null,{"$f":"IF(U52>0,2-T53,0.01)","v":0.01},null,null,null,null,null,{"$f":"IF(X55<1,0.01,IF(V55>S58,2,IF(V55=S58,1,0)))","v":0.01},null,null,null,{"$f":"N56+Q56+W56","v":0.03}]
[null,null,null,null,null,null,null,null,null,null,null,null,{"$f":"F59","v":0},null,{"$f":"M55/O55","v":{"$error":"#DIV/0!"}},{"$f":"F56","v":0},null,{"$f":"P55/R55","v":{"$error":"#DIV/0!"}},null,null,null,{"$f":"F67","v":0},null,{"$f":"V55/X55","v":{"$error":"#DIV/0!"}},null,{"$f":"MAXA(M57,P57,V57)","v":0},null,{"$f":"Z55/AB55","v":{"$error":"#DIV/0!"}}]
[null,"Tour 3",{"$f":"C39","v":0},null,null,null,null,null,null,null,{"$f":"C42","v":0},null,{"$f":"D53","v":0},null,{"$f":"E52","v":0},{"$f":"D61","v":0},null,{"$f":"E61","v":0},{"$f":"D68","v":0},null,{"$f":"E67","v":0},null,null,null,null,{"$f":"M58+P58+S58","v":0},null,{"$f":"O58+R58+U58","v":0},{"$f":"AV58","v":{"$error":"#DIV/0!"}},null,null,null,null,null,null,null,{"$f":"AA59","v":0.03},{"$f":"RANK(AK58,AK$49:AK$60,0)","v":1},{"$f":"AB60","v":{"$error":"#DIV/0!"}},{"$f":"RANK(AM58,AM$49:AM$60,0)","v":{"$error":"#DIV/0!"}},{"$f":"MAX(O60,R60,U60)","v":{"$error":"#DIV/0!"}},{"$f":"RANK(AO58,AO$49:AO$60)","v":{"$error":"#DIV/0!"}},{"$f":"Z60","v":0},{"$f":"RANK(AQ58,AQ$49:AQ$60)","v":1},{"$f":"(AL58*1000)+(AN58*100)+(AP58*10)+(AR58*1)","v":{"$error":"#DIV/0!"}},{"$f":"AS58","v":{"$error":"#DIV/0!"}},{"$f":"RANK(AT58,AT$49:AT$60,1)","v":{"$error":"#DIV/0!"}},{"$f":"RANK(AU58,AU$49:AU$60,1)","v":{"$error":"#DIV/0!"}}]
[null,null,{"$f":"C41","v":0},null,null,null,null,null,null,null,null,null,null,{"$f":"IF(X49>0,2-W50,0.01)","v":0.01},null,null,{"$f":"IF(X52>0,2-W53,0.01)","v":0.01},null,null,{"$f":"IF(X55>0,2-W56,0.01)","v":0.01},null,null,null,null,null,null,{"$f":"N59+Q59+T59","v":0.03}]
[null,null,null,null,null,null,null,null,null,null,null,null,{"$f":"F53","v":0},null,{"$f":"M58/O58","v":{"$error":"#DIV/0!"}},{"$f":"F61","v":0},null,{"$f":"P58/R58","v":{"$error":"#DIV/0!"}},{"$f":"F68","v":0},null,{"$f":"S58/U58","v":{"$error":"#DIV/0!"}},null,null,null,null,{"$f":"MAXA(M60,P60,S60)","v":0},null,{"$f":"Z58/AB58","v":{"$error":"#DIV/0!"}}]
[null,"Tour 4",{"$f":"C42","v":0}]
[null,null,{"$f":"C40","v":0}]
[]
[null,"Tour 5",{"$f":"C39","v":0}]
[null,null,{"$f":"C40","v":0}]
[]
[null,"Tour 6",{"$f":"C41","v":0}]
[null,null,{"$f":"C42","v":0}]
[]
[null,"Joueur 1",{"$f":"'Saisie des joueurs'!L20","v":0}]
[null,"Joueur 2",{"$f":"'Saisie des joueurs'!L21","v":0}]
[null,"Joueur 3",{"$f":"'Saisie des joueurs'!L26","v":0}]
[null,"Joueur 4",{"$f":"'Saisie des joueurs'!L27","v":0}]
[]
[]
[null,"SAISIE DES RESULTATS",null,null,null,null,null,null,null,null,null,null,{"$f":"C70","v":0},null,null,{"$f":"C71","v":0},null,null,{"$f":"C72","v":0},null,null,{"$f":"C73","v":0},null,null,null,"TOTAUX",null,null,"CLASSEMENT"]
[]
[null,null,null,null,null,null,null,null,null,null,null,null,null,null,null,null,null,null,null,null,null,null,null,null,null,null,null,null,null,null,null,null,null,null,null,null,"Classement",null,"Classement",null,"Classement",null,"Classement",null,"Classement",null,"GENERAL","RANG"]
[null,null,"POULE C",null,null,null,null,null,null,null,null,null,null,null,null,null,null,null,null,null,null,null,null,null,null,null,null,null,null,null,null,null,null,null,null,null,"Point-Match","CLS-M","Moy-Gen","CLS-G","Moy-Part","CLS-P","M-Series","CLS-S","MGPS","CLS","CLS"]
[null,null,null,null,null,null,null,null,null,null,{"$f":"C70","v":0},null,"L",null,null,{"$f":"D95","v":0},null,{"$f":"E95","v":0},{"$f":"D89","v":0},null,{"$f":"E89","v":0},{"$f":"D83","v":0},null,{"$f":"E83","v":0},null,{"$f":"P80+S80+V80","v":0},null,{"$f":"R80+U80+X80","v":0},{"$f":"AV80","v":{"$error":"#DIV/0!"}},null,null,null,null,null,null,null,{"$f":"AA81","v":0.03},{"$f":"RANK(AK80,AK$80:AK$91,0)","v":1},{"$f":"AB82","v":{"$error":"#DIV/0!"}},{"$f":"RANK(AM80,AM$80:AM$91,0)","v":{"$error":"#DIV/0!"}},{"$f":"MAX(R82,U82,X82)","v":{"$error":"#DIV/0!"}},{"$f":"RANK(AO80,AO$80:AO$91)","v":{"$error":"#DIV/0!"}},{"$f":"Z82","v":0},{"$f":"RANK(AQ80,AQ$80:AQ$91)","v":1},{"$f":"(AL80*1000)+(AN80*100)+(AP80*10)+(AR80*1)","v":{"$error":"#DIV/0!"}},{"$f":"AS80","v":{"$error":"#DIV/0!"}},{"$f":"RANK(AT80,AT$80:AT$91,1)","v":{"$error":"#DIV/0!"}},{"$f":"RANK(AU80,AU$80:AU$91,1)","v":{"$error":"#DIV/0!"}}]
[null,null,null,null,null,null,null,null,null,null,null,null,null,null,null,null,{"$f":"IF(R80<1,0.01,IF(P80>M83,2,IF(P80=M83,1,0)))","v":0.01},null,null,{"$f":"IF(U80<1,0.01,IF(S80>M86,2,IF(S80=M86,1,0)))","v":0.01},null,null,{"$f":"IF(X80<1,0.01,IF(V80>M89,2,IF(V80=M89,1,0)))","v":0.01},null,null,null,{"$f":"Q81+T81+W81","v":0.03}]
[null,null,null,null,null,null,null,null,null,null,null,null,null,null,null,{"$f":"F95","v":0},null,{"$f":"P80/R80","v":{"$error":"#DIV/0!"}},{"$f":"F89","v":0},null,{"$f":"S80/U80","v":{"$error":"#DIV/0!"}},{"$f":"F83","v":0},null,{"$f":"V80/X80","v":{"$error":"#DIV/0!"}},null,{"$f":"MAX(P82,S82,V82)","v":0},null,{"$f":"Z80/AB80","v":{"$error":"#DIV/0!"}}]
[null,"Tour 1",{"$f":"C70","v":0},null,null,null,null,null,null,null,{"$f":"C71","v":0},null,{"$f":"D96","v":0},null,{"$f":"E95","v":0},"M",null,null,{"$f":"D86","v":0},null,{"$f":"E86","v":0},{"$f":"D93","v":0},null,{"$f":"E92","v":0},null,{"$f":"M83+S83+V83","v":0},null,{"$f":"O83+U83+X83","v":0},{"$f":"AV83","v":{"$error":"#DIV/0!"}},null,null,null,null,null,null,null,{"$f":"AA84","v":0.03},{"$f":"RANK(AK83,AK$80:AK$91,0)","v":1},{"$f":"AB85","v":{"$error":"#DIV/0!"}},{"$f":"RANK(AM83,AM$80:AM$91,0)","v":{"$error":"#DIV/0!"}},{"$f":"MAX(O85,U85,X85)","v":{"$error":"#DIV/0!"}},{"$f":"RANK(AO83,AO$80:AO$91)","v":{"$error":"#DIV/0!"}},{"$f":"Z85","v":0},{"$f":"RANK(AQ83,AQ$80:AQ$91)","v":1},{"$f":"(AL83*1000)+(AN83*100)+(AP83*10)+(AR83*1)","v":{"$error":"#DIV/0!"}},{"$f":"AS83","v":{"$error":"#DIV/0!"}},{"$f":"RANK(AT83,AT$80:AT$91,1)","v":{"$error":"#DIV/0!"}},{"$f":"RANK(AU83,AU$80:AU$91,1)","v":{"$error":"#DIV/0!"}}]
[null,null,{"$f":"C73","v":0},null,null,null,null,null,null,null,null,null,null,{"$f":"IF(R80>0,2-Q81,0.01)","v":0.01},null,null,null,null,null,{"$f":"IF(U83<1,0.01,IF(S83>P86,2,IF(S83=P86,1,0)))","v":0.01},null,null,{"$f":"IF(X83<1,0.01,IF(V83>P89,2,IF(V83=P89,1,0)))","v":0.01},null,null,null,{"$f":"N84+T84+W84","v":0.03}]
[null,null,null,null,null,null,null,null,null,null,null,null,{"$f":"F96","v":0},null,{"$f":"M83/O83","v":{"$error":"#DIV/0!"}},null,null,null,{"$f":"F86","v":0},null,{"$f":"S83/U83","v":{"$error":"#DIV/0!"}},{"$f":"F93","v":0},null,{"$f":"V83/X83","v":{"$error":"#DIV/0!"}},null,{"$f":"MAXA(M85,S85,V85)","v":0},null,{"$f":"Z83/AB83","v":{"$error":"#DIV/0!"}}]
[null,"Tour 2",{"$f":"C71","v":0},null,null,null,null,null,null,null,{"$f":"C72","v":0},null,{"$f":"D90","v":0},null,{"$f":"E89","v":0},{"$f":"D87","v":0},null,{"$f":"E86","v":0},"B",null,null,{"$f":"D98","v":0},null,{"$f":"E98","v":0},null,{"$f":"M86+P86+V86","v":0},null,{"$f":"O86+R86+X86","v":0},{"$f":"AV86","v":{"$error":"#DIV/0!"}},null,null,null,null,null,null,null,{"$f":"AA87","v":0.03},{"$f":"RANK(AK86,AK$80:AK$91,0)","v":1},{"$f":"AB88","v":{"$error":"#DIV/0!"}},{"$f":"RANK(AM86,AM$80:AM$91,0)","v":{"$error":"#DIV/0!"}},{"$f":"MAX(O88,R88,X88)","v":{"$error":"#DIV/0!"}},{"$f":"RANK(AO86,AO$80:AO$91)","v":{"$error":"#DIV/0!"}},{"$f":"Z88","v":0},{"$f":"RANK(AQ86,AQ$80:AQ$91)","v":1},{"$f":"(AL86*1000)+(AN86*100)+(AP86*10)+(AR86*1)","v":{"$error":"#DIV/0!"}},{"$f":"AS86","v":{"$error":"#DIV/0!"}},{"$f":"RANK(AT86,AT$80:AT$91,1)","v":{"$error":"#DIV/0!"}},{"$f":"RANK(AU86,AU$80:AU$91,1)","v":{"$error":"#DIV/0!"}}]
[null,null,{"$f":"C72","v":0},null,null,null,null,null,null,null,null,null,null,{"$f":"IF(U80>0,2-T81,0.01)","v":0.01},null,null,{"$f":"IF(U83>0,2-T84,0.01)","v":0.01},null,null,null,null,null,{"$f":"IF(X86<1,0.01,IF(V86>S89,2,IF(V86=S89,1,0)))","v":0.01},null,null,null,{"$f":"N87+Q87+W87","v":0.03}]
[null,null,null,null,null,null,null,null,null,null,null,null,{"$f":"F90","v":0},null,{"$f":"M86/O86","v":{"$error":"#DIV/0!"}},{"$f":"F87","v":0},null,{"$f":"P86/R86","v":{"$error":"#DIV/0!"}},null,null,null,{"$f":"F98","v":0},null,{"$f":"V86/X86","v":{"$error":"#DIV/0!"}},null,{"$f":"MAXA(M88,P88,V88)","v":0},null,{"$f":"Z86/AB86","v":{"$error":"#DIV/0!"}}]
[null,"Tour 3",{"$f":"C70","v":0},null,null,null,null,null,null,null,{"$f":"C73","v":0},null,{"$f":"D84","v":0},null,{"$f":"E83","v":0},{"$f":"D92","v":0},null,{"$f":"E92","v":0},{"$f":"D99","v":0},null,{"$f":"E98","v":0},null,null,null,null,{"$f":"M89+P89+S89","v":0},null,{"$f":"O89+R89+U89","v":0},{"$f":"AV89","v":{"$error":"#DIV/0!"}},null,null,null,null,null,null,null,{"$f":"AA90","v":0.03},{"$f":"RANK(AK89,AK$80:AK$91,0)","v":1},{"$f":"AB91","v":{"$error":"#DIV/0!"}},{"$f":"RANK(AM89,AM$80:AM$91,0)","v":{"$error":"#DIV/0!"}},{"$f":"MAX(O91,R91,U91)","v":{"$error":"#DIV/0!"}},{"$f":"RANK(AO89,AO$80:AO$91)","v":{"$error":"#DIV/0!"}},{"$f":"Z91","v":0},{"$f":"RANK(AQ89,AQ$80:AQ$91)","v":1},{"$f":"(AL89*1000)+(AN89*100)+(AP89*10)+(AR89*1)","v":{"$error":"#DIV/0!"}},{"$f":"AS89","v":{"$error":"#DIV/0!"}},{"$f":"RANK(AT89,AT$80:AT$91,1)","v":{"$error":"#DIV/0!"}},{"$f":"RANK(AU89,AU$80:AU$91,1)","v":{"$error":"#DIV/0!"}}]
[null,null,{"$f":"C72","v":0},null,null,null,null,null,null,null,null,null,null,{"$f":"IF(X80>0,2-W81,0.01)","v":0.01},null,null,{"$f":"IF(X83>0,2-W84,0.01)","v":0.01},null,null,{"$f":"IF(X86>0,2-W87,0.01)","v":0.01},null,null,null,null,null,null,{"$f":"N90+Q90+T90","v":0.03}]
[null,null,null,null,null,null,null,null,null,null,null,null,{"$f":"F84","v":0},null,{"$f":"M89/O89","v":{"$error":"#DIV/0!"}},{"$f":"F92","v":0},null,{"$f":"P89/R89","v":{"$error":"#DIV/0!"}},{"$f":"F99","v":0},null,{"$f":"S89/U89","v":{"$error":"#DIV/0!"}},null,null,null,null,{"$f":"MAXA(M91,P91,S91)","v":0},null,{"$f":"Z89/AB89","v":{"$error":"#DIV/0!"}}]
[null,"Tour 4",{"$f":"C73","v":0}]
[null,null,{"$f":"C71","v":0}]
[]
[null,"Tour 5",{"$f":"C70","v":0}]
[null,null,{"$f":"C71","v":0}]
[]
[null,"Tour 6",{"$f":"C72","v":0}]
[null,null,{"$f":"C73","v":0}]

{"sheet":"12JOUEURS","index":26,"n_rows":99,"n_cols":42,"rows_kept":99,"cut":false,"hidden":true,"merged":[[6,2,6,5],[7,2,7,5],[8,2,8,5],[9,2,9,5],[12,1,13,5],[12,12,15,14],[15,2,16,5],[1,1,3,13],[12,15,15,17],[12,18,15,20],[12,21,15,23],[13,10,15,11],[16,40,18,40],[16,41,18,41],[16,35,18,35],[16,36,18,36],[16,37,18,37],[16,38,18,38],[16,39,18,39],[13,25,15,27],[13,28,15,28],[14,30,14,31],[14,32,14,33],[14,34,14,35],[14,36,14,37],[14,38,14,39],[14,41,15,41],[16,10,18,11],[16,12,18,14],[16,28,18,28],[16,30,18,30],[16,31,18,31],[16,32,18,32],[16,33,18,33],[19,31,21,31],[19,32,21,32],[22,32,24,32],[22,33,24,33],[22,34,24,34],[16,34,18,34],[19,1,20,1],[19,4,20,4],[19,10,21,11],[19,15,21,17],[19,28,21,28],[19,30,21,30],[22,1,23,1],[22,4,23,4],[22,10,24,11],[22,18,24,20],[22,28,24,28],[22,30,24,30],[22,31,24,31],[22,38,24,38],[22,39,24,39],[22,40,24,40],[22,41,24,41],[22,35,24,35],[22,36,24,36],[22,37,24,37],[19,33,21,33],[19,34,21,34],[19,35,21,35],[19,36,21,36],[19,37,21,37],[19,38,21,38],[19,39,21,39],[19,40,21,40],[19,41,21,41],[25,37,27,37],[25,38,27,38],[25,39,27,39],[25,40,27,40],[25,41,27,41],[28,1,29,1],[28,4,29,4],[29,12,29,23],[25,31,27,31],[25,32,27,32],[25,33,27,33],[25,34,27,34],[25,35,27,35],[25,36,27,36],[25,1,26,1],[25,4,26,4],[25,10,27,11],[25,21,27,23],[25,28,27,28],[25,30,27,30],[31,1,32,1],[31,4,32,4],[34,1,35,1],[34,4,35,4],[38,2,38,5],[39,2,39,5],[48,41,50,41],[48,35,50,35],[48,36,50,36],[48,37,50,37],[40,2,40,5],[41,2,41,5],[44,1,45,5],[44,12,47,14],[44,15,47,17],[44,18,47,20],[45,28,47,28],[46,30,46,31],[46,32,46,33],[48,38,50,38],[48,39,50,39],[48,40,50,40],[46,41,47,41],[47,2,48,5],[48,10,50,11],[48,12,50,14],[48,28,50,28],[48,30,50,30],[48,31,50,31],[44,21,47,23],[45,10,47,11],[45,25,47,27],[48,32,50,32],[48,33,50,33],[48,34,50,34],[46,34,46,35],[46,36,46,37],[46,38,46,39],[54,39,56,39],[54,40,56,40],[54,41,56,41],[54,30,56,30],[54,31,56,31],[51,36,53,36],[54,36,56,36],[54,1,55,1],[54,4,55,4],[54,10,56,11],[54,18,56,20],[54,28,56,28],[51,31,53,31],[51,30,53,30],[57,39,59,39],[57,40,59,40],[57,1,58,1],[57,4,58,4],[57,10,59,11],[57,21,59,23],[57,28,59,28],[57,30,59,30],[51,1,52,1],[51,4,52,4],[51,10,53,11],[51,15,53,17],[51,28,53,28],[51,32,53,32],[51,33,53,33],[51,34,53,34],[51,35,53,35],[57,41,59,41],[51,37,53,37],[51,38,53,38],[51,39,53,39],[51,40,53,40],[51,41,53,41],[54,37,56,37],[54,38,56,38],[54,32,56,32],[54,33,56,33],[54,34,56,34],[54,35,56,35],[57,37,59,37],[57,38,59,38],[57,34,59,34],[57,35,59,35],[57,36,59,36],[60,1,61,1],[60,4,61,4],[61,12,61,23],[57,31,59,31],[57,32,59,32],[57,33,59,33],[63,1,64,1],[63,4,64,4],[66,1,67,1],[66,4,67,4],[69,2,69,5],[70,2,70,5],[79,41,81,41],[79,35,81,35],[79,36,81,36],[79,37,81,37],[71,2,71,5],[72,2,72,5],[75,1,76,5],[75,12,78,14],[75,15,78,17],[75,18,78,20],[76,28,78,28],[77,30,77,31],[77,32,77,33],[79,38,81,38],[79,39,81,39],[79,40,81,40],[77,41,78,41],[78,2,79,5],[79,10,81,11],[79,12,81,14],[79,28,81,28],[79,30,81,30],[77,38,77,39],[82,1,83,1],[82,4,83,4],[82,10,84,11],[82,15,84,17],[82,28,84,28],[82,30,84,30],[85,37,87,37],[85,38,87,38],[85,39,87,39],[79,31,81,31],[75,21,78,23],[76,10,78,11],[76,25,78,27],[79,32,81,32],[79,33,81,33],[79,34,81,34],[77,34,77,35],[77,36,77,37],[85,40,87,40],[85,41,87,41],[85,30,87,30],[85,31,87,31],[82,40,84,40],[82,41,84,41],[85,1,86,1],[85,4,86,4],[85,10,87,11],[85,18,87,20],[85,28,87,28],[82,31,84,31],[82,32,84,32],[82,33,84,33],[97,1,98,1],[97,4,98,4],[88,37,90,37],[82,37,84,37],[82,38,84,38],[82,39,84,39],[82,34,84,34],[82,35,84,35],[82,36,84,36],[85,36,87,36],[85,32,87,32],[85,33,87,33],[85,34,87,34],[85,35,87,35],[94,1,95,1],[94,4,95,4],[88,34,90,34],[88,35,90,35],[88,36,90,36],[88,1,89,1],[88,4,89,4],[88,10,90,11],[88,21,90,23],[88,28,90,28],[88,30,90,30],[88,38,90,38],[88,39,90,39],[88,40,90,40],[88,41,90,41],[91,1,92,1],[91,4,92,4],[92,12,92,23],[88,31,90,31],[88,32,90,32],[88,33,90,33]]}
[]
[null,"LIGUE MÉDITERRANÉENNE DE BILLARD"]
[]
[]
[]
[]
[null,"Joueur 1",{"$f":"'Saisie des joueurs'!L18","v":0}]
[null,"Joueur 2",{"$f":"'Saisie des joueurs'!L23","v":0}]
[null,"Joueur 3",{"$f":"'Saisie des joueurs'!L24","v":0}]
[null,"Joueur 4",{"$f":"'Saisie des joueurs'!L29","v":0}]
[]
[]
[null,"SAISIE DES RESULTATS",null,null,null,null,null,null,null,null,null,null,{"$f":"C7","v":0},null,null,{"$f":"C8","v":0},null,null,{"$f":"C9","v":0},null,null,{"$f":"C10","v":0}]
[null,null,null,null,null,null,null,null,null,null,null,null,null,null,null,null,null,null,null,null,null,null,null,null,null,"TOTAUX",null,null,"CLASSEMENT"]
[null,null,null,null,null,null,null,null,null,null,null,null,null,null,null,null,null,null,null,null,null,null,null,null,null,null,null,null,null,null,"Classement",null,"Classement",null,"Classement",null,"Classement",null,"Classement",null,"GENERAL","RANG"]
[null,null,"POULE A",null,null,null,null,null,null,null,null,null,null,null,null,null,null,null,null,null,null,null,null,null,null,null,null,null,null,null,"Point-Match","CLS-M","Moy-Gen","CLS-G","Moy-Part","CLS-P","M-Series","CLS-S","MGPS","CLS","CLS"]
[null,null,null,null,null,null,null,null,null,null,{"$f":"C7","v":0},null,"L",null,null,{"$f":"D32","v":0},null,{"$f":"E32","v":0},{"$f":"D26","v":0},null,{"$f":"E26","v":0},{"$f":"D20","v":0},null,{"$f":"E20","v":0},null,{"$f":"P17+S17+V17","v":0},null,{"$f":"R17+U17+X17","v":0},{"$f":"AP17","v":{"$error":"#DIV/0!"}},null,{"$f":"AA18","v":0.03},{"$f":"RANK(AE17,AE$17:AE$28,0)","v":1},{"$f":"AB19","v":{"$error":"#DIV/0!"}},{"$f":"RANK(AG17,AG$17:AG$28,0)","v":{"$error":"#DIV/0!"}},{"$f":"MAX(R19,U19,X19)","v":{"$error":"#DIV/0!"}},{"$f":"RANK(AI17,AI$17:AI$28)","v":{"$error":"#DIV/0!"}},{"$f":"Z19","v":0},{"$f":"RANK(AK17,AK$17:AK$28)","v":1},{"$f":"(AF17*1000)+(AH17*100)+(AJ17*10)+(AL17*1)","v":{"$error":"#DIV/0!"}},{"$f":"AM17","v":{"$error":"#DIV/0!"}},{"$f":"RANK(AN17,AN$17:AN$28,1)","v":{"$error":"#DIV/0!"}},{"$f":"RANK(AO17,AO$17:AO$28,1)","v":{"$error":"#DIV/0!"}}]
[null,null,null,null,null,null,null,null,null,null,null,null,null,null,null,null,{"$f":"IF(R17<1,0.01,IF(P17>M20,2,IF(P17=M20,1,0)))","v":0.01},null,null,{"$f":"IF(U17<1,0.01,IF(S17>M23,2,IF(S17=M23,1,0)))","v":0.01},null,null,{"$f":"IF(X17<1,0.01,IF(V17>M26,2,IF(V17=M26,1,0)))","v":0.01},null,null,null,{"$f":"Q18+T18+W18","v":0.03}]
[null,null,null,"Pts","Rep","Série",null,null,null,null,null,null,null,null,null,{"$f":"F32","v":0},null,{"$f":"P17/R17","v":{"$error":"#DIV/0!"}},{"$f":"F26","v":0},null,{"$f":"S17/U17","v":{"$error":"#DIV/0!"}},{"$f":"F20","v":0},null,{"$f":"V17/X17","v":{"$error":"#DIV/0!"}},null,{"$f":"MAX(P19,S19,V19)","v":0},null,{"$f":"Z17/AB17","v":{"$error":"#DIV/0!"}}]
[null,"Tour 1",{"$f":"C7","v":0},null,null,null,null,null,null,null,{"$f":"C8","v":0},null,{"$f":"D33","v":0},null,{"$f":"E32","v":0},"M",null,null,{"$f":"D23","v":0},null,{"$f":"E23","v":0},{"$f":"D30","v":0},null,{"$f":"E29","v":0},null,{"$f":"M20+S20+V20","v":0},null,{"$f":"O20+U20+X20","v":0},{"$f":"AP20","v":{"$error":"#DIV/0!"}},null,{"$f":"AA21","v":0.03},{"$f":"RANK(AE20,AE$17:AE$28,0)","v":1},{"$f":"AB22","v":{"$error":"#DIV/0!"}},{"$f":"RANK(AG20,AG$17:AG$28,0)","v":{"$error":"#DIV/0!"}},{"$f":"MAX(O22,U22,X22)","v":{"$error":"#DIV/0!"}},{"$f":"RANK(AI20,AI$17:AI$28)","v":{"$error":"#DIV/0!"}},{"$f":"Z22","v":0},{"$f":"RANK(AK20,AK$17:AK$28)","v":1},{"$f":"(AF20*1000)+(AH20*100)+(AJ20*10)+(AL20*1)","v":{"$error":"#DIV/0!"}},{"$f":"AM20","v":{"$error":"#DIV/0!"}},{"$f":"RANK(AN20,AN$17:AN$28,1)","v":{"$error":"#DIV/0!"}},{"$f":"RANK(AO20,AO$17:AO$28,1)","v":{"$error":"#DIV/0!"}}]
[null,null,{"$f":"C10","v":0},null,null,null,null,null,null,null,null,null,null,{"$f":"IF(R17>0,2-Q18,0.01)","v":0.01},null,null,null,null,null,{"$f":"IF(U20<1,0.01,IF(S20>P23,2,IF(S20=P23,1,0)))","v":0.01},null,null,{"$f":"IF(X20<1,0.01,IF(V20>P26,2,IF(V20=P26,1,0)))","v":0.01},null,null,null,{"$f":"N21+T21+W21","v":0.03}]
[null,null,null,null,null,null,null,null,null,null,null,null,{"$f":"F33","v":0},null,{"$f":"M20/O20","v":{"$error":"#DIV/0!"}},null,null,null,{"$f":"F23","v":0},null,{"$f":"S20/U20","v":{"$error":"#DIV/0!"}},{"$f":"F30","v":0},null,{"$f":"V20/X20","v":{"$error":"#DIV/0!"}},null,{"$f":"MAXA(M22,S22,V22)","v":0},null,{"$f":"Z20/AB20","v":{"$error":"#DIV/0!"}}]
[null,"Tour 2",{"$f":"C8","v":0},null,null,null,null,null,null,null,{"$f":"C9","v":0},null,{"$f":"D27","v":0},null,{"$f":"E26","v":0},{"$f":"D24","v":0},null,{"$f":"E23","v":0},"B",null,null,{"$f":"D35","v":0},null,{"$f":"E35","v":0},null,{"$f":"M23+P23+V23","v":0},null,{"$f":"O23+R23+X23","v":0},{"$f":"AP23","v":{"$error":"#DIV/0!"}},null,{"$f":"AA24","v":0.03},{"$f":"RANK(AE23,AE$17:AE$28,0)","v":1},{"$f":"AB25","v":{"$error":"#DIV/0!"}},{"$f":"RANK(AG23,AG$17:AG$28,0)","v":{"$error":"#DIV/0!"}},{"$f":"MAX(O25,R25,X25)","v":{"$error":"#DIV/0!"}},{"$f":"RANK(AI23,AI$17:AI$28)","v":{"$error":"#DIV/0!"}},{"$f":"Z25","v":0},{"$f":"RANK(AK23,AK$17:AK$28)","v":1},{"$f":"(AF23*1000)+(AH23*100)+(AJ23*10)+(AL23*1)","v":{"$error":"#DIV/0!"}},{"$f":"AM23","v":{"$error":"#DIV/0!"}},{"$f":"RANK(AN23,AN$17:AN$28,1)","v":{"$error":"#DIV/0!"}},{"$f":"RANK(AO23,AO$17:AO$28,1)","v":{"$error":"#DIV/0!"}}]
[null,null,{"$f":"C9","v":0},null,null,null,null,null,null,null,null,null,null,{"$f":"IF(U17>0,2-T18,0.01)","v":0.01},null,null,{"$f":"IF(U20>0,2-T21,0.01)","v":0.01},null,null,null,null,null,{"$f":"IF(X23<1,0.01,IF(V23>S26,2,IF(V23=S26,1,0)))","v":0.01},null,null,null,{"$f":"N24+Q24+W24","v":0.03}]
[null,null,null,null,null,null,null,null,null,null,null,null,{"$f":"F27","v":0},null,{"$f":"M23/O23","v":{"$error":"#DIV/0!"}},{"$f":"F24","v":0},null,{"$f":"P23/R23","v":{"$error":"#DIV/0!"}},null,null,null,{"$f":"F35","v":0},null,{"$f":"V23/X23","v":{"$error":"#DIV/0!"}},null,{"$f":"MAXA(M25,P25,V25)","v":0},null,{"$f":"Z23/AB23","v":{"$error":"#DIV/0!"}}]
[null,"Tour 3",{"$f":"C7","v":0},null,null,null,null,null,null,null,{"$f":"C10","v":0},null,{"$f":"D21","v":0},null,{"$f":"E20","v":0},{"$f":"D29","v":0},null,{"$f":"E29","v":0},{"$f":"D36","v":0},null,{"$f":"E35","v":0},null,null,null,null,{"$f":"M26+P26+S26","v":0},null,{"$f":"O26+R26+U26","v":0},{"$f":"AP26","v":{"$error":"#DIV/0!"}},null,{"$f":"AA27","v":0.03},{"$f":"RANK(AE26,AE$17:AE$28,0)","v":1},{"$f":"AB28","v":{"$error":"#DIV/0!"}},{"$f":"RANK(AG26,AG$17:AG$28,0)","v":{"$error":"#DIV/0!"}},{"$f":"MAX(O28,R28,U28)","v":{"$error":"#DIV/0!"}},{"$f":"RANK(AI26,AI$17:AI$28)","v":{"$error":"#DIV/0!"}},{"$f":"Z28","v":0},{"$f":"RANK(AK26,AK$17:AK$28)","v":1},{"$f":"(AF26*1000)+(AH26*100)+(AJ26*10)+(AL26*1)","v":{"$error":"#DIV/0!"}},{"$f":"AM26","v":{"$error":"#DIV/0!"}},{"$f":"RANK(AN26,AN$17:AN$28,1)","v":{"$error":"#DIV/0!"}},{"$f":"RANK(AO26,AO$17:AO$28,1)","v":{"$error":"#DIV/0!"}}]
[null,null,{"$f":"C9","v":0},null,null,null,null,null,null,null,null,null,null,{"$f":"IF(X17>0,2-W18,0.01)","v":0.01},null,null,{"$f":"IF(X20>0,2-W21,0.01)","v":0.01},null,null,{"$f":"IF(X23>0,2-W24,0.01)","v":0.01},null,null,null,null,null,null,{"$f":"N27+Q27+T27","v":0.03}]
[null,null,null,null,null,null,null,null,null,null,null,null,{"$f":"F21","v":0},null,{"$f":"M26/O26","v":{"$error":"#DIV/0!"}},{"$f":"F29","v":0},null,{"$f":"P26/R26","v":{"$error":"#DIV/0!"}},{"$f":"F36","v":0},null,{"$f":"S26/U26","v":{"$error":"#DIV/0!"}},null,null,null,null,{"$f":"MAXA(M28,P28,S28)","v":0},null,{"$f":"Z26/AB26","v":{"$error":"#DIV/0!"}}]
[null,"Tour 4",{"$f":"C10","v":0}]
[null,null,{"$f":"C8","v":0},null,null,null,null,null,null,null,null,null,"Pas de prolongation en cas de match nul."]
[]
[null,"Tour 5",{"$f":"C7","v":0}]
[null,null,{"$f":"C8","v":0}]
[]
[null,"Tour 6",{"$f":"C9","v":0}]
[null,null,{"$f":"C10","v":0}]
[]
[]
[null,"Joueur 1",{"$f":"'Saisie des joueurs'!L19","v":0}]
[null,"Joueur 2",{"$f":"'Saisie des joueurs'!L22","v":0}]
[null,"Joueur 3",{"$f":"'Saisie des joueurs'!L25","v":0}]
[null,"Joueur 4",{"$f":"'Saisie des joueurs'!L28","v":0}]
[]
[]
[null,"SAISIE DES RESULTATS",null,null,null,null,null,null,null,null,null,null,{"$f":"C39","v":0},null,null,{"$f":"C40","v":0},null,null,{"$f":"C41","v":0},null,null,{"$f":"C42","v":0}]
[null,null,null,null,null,null,null,null,null,null,null,null,null,null,null,null,null,null,null,null,null,null,null,null,null,"TOTAUX",null,null,"CLASSEMENT"]
[null,null,null,null,null,null,null,null,null,null,null,null,null,null,null,null,null,null,null,null,null,null,null,null,null,null,null,null,null,null,"Classement",null,"Classement",null,"Classement",null,"Classement",null,"Classement",null,"GENERAL","RANG"]
[null,null,"POULE B",null,null,null,null,null,null,null,null,null,null,null,null,null,null,null,null,null,null,null,null,null,null,null,null,null,null,null,"Point-Match","CLS-M","Moy-Gen","CLS-G","Moy-Part","CLS-P","M-Series","CLS-S","MGPS","CLS","CLS"]
[null,null,null,null,null,null,null,null,null,null,{"$f":"C39","v":0},null,"L",null,null,{"$f":"D64","v":0},null,{"$f":"E64","v":0},{"$f":"D58","v":0},null,{"$f":"E58","v":0},{"$f":"D52","v":0},null,{"$f":"E52","v":0},null,{"$f":"P49+S49+V49","v":0},null,{"$f":"R49+U49+X49","v":0},{"$f":"AP49","v":{"$error":"#DIV/0!"}},null,{"$f":"AA50","v":0.03},{"$f":"RANK(AE49,AE$49:AE$60,0)","v":1},{"$f":"AB51","v":{"$error":"#DIV/0!"}},{"$f":"RANK(AG49,AG$49:AG$60,0)","v":{"$error":"#DIV/0!"}},{"$f":"MAX(R51,U51,X51)","v":{"$error":"#DIV/0!"}},{"$f":"RANK(AI49,AI$49:AI$60)","v":{"$error":"#DIV/0!"}},{"$f":"Z51","v":0},{"$f":"RANK(AK49,AK$49:AK$60)","v":1},{"$f":"(AF49*1000)+(AH49*100)+(AJ49*10)+(AL49*1)","v":{"$error":"#DIV/0!"}},{"$f":"AM49","v":{"$error":"#DIV/0!"}},{"$f":"RANK(AN49,AN$49:AN$60,1)","v":{"$error":"#DIV/0!"}},{"$f":"RANK(AO49,AO$49:AO$60,1)","v":{"$error":"#DIV/0!"}}]
[null,null,null,null,null,null,null,null,null,null,null,null,null,null,null,null,{"$f":"IF(R49<1,0.01,IF(P49>M52,2,IF(P49=M52,1,0)))","v":0.01},null,null,{"$f":"IF(U49<1,0.01,IF(S49>M55,2,IF(S49=M55,1,0)))","v":0.01},null,null,{"$f":"IF(X49<1,0.01,IF(V49>M58,2,IF(V49=M58,1,0)))","v":0.01},null,null,null,{"$f":"Q50+T50+W50","v":0.03}]
[null,null,null,"Pts","Rep","Série",null,null,null,null,null,null,null,null,null,{"$f":"F64","v":0},null,{"$f":"P49/R49","v":{"$error":"#DIV/0!"}},{"$f":"F58","v":0},null,{"$f":"S49/U49","v":{"$error":"#DIV/0!"}},{"$f":"F52","v":0},null,{"$f":"V49/X49","v":{"$error":"#DIV/0!"}},null,{"$f":"MAX(P51,S51,V51)","v":0},null,{"$f":"Z49/AB49","v":{"$error":"#DIV/0!"}}]
[null,"Tour 1",{"$f":"C39","v":0},null,null,null,null,null,null,null,{"$f":"C40","v":0},null,{"$f":"D65","v":0},null,{"$f":"E64","v":0},"M",null,null,{"$f":"D55","v":0},null,{"$f":"E55","v":0},{"$f":"D62","v":0},null,{"$f":"E61","v":0},null,{"$f":"M52+S52+V52","v":0},null,{"$f":"O52+U52+X52","v":0},{"$f":"AP52","v":{"$error":"#DIV/0!"}},null,{"$f":"AA53","v":0.03},{"$f":"RANK(AE52,AE$49:AE$60,0)","v":1},{"$f":"AB54","v":{"$error":"#DIV/0!"}},{"$f":"RANK(AG52,AG$49:AG$60,0)","v":{"$error":"#DIV/0!"}},{"$f":"MAX(O54,U54,X54)","v":{"$error":"#DIV/0!"}},{"$f":"RANK(AI52,AI$49:AI$60)","v":{"$error":"#DIV/0!"}},{"$f":"Z54","v":0},{"$f":"RANK(AK52,AK$49:AK$60)","v":1},{"$f":"(AF52*1000)+(AH52*100)+(AJ52*10)+(AL52*1)","v":{"$error":"#DIV/0!"}},{"$f":"AM52","v":{"$error":"#DIV/0!"}},{"$f":"RANK(AN52,AN$49:AN$60,1)","v":{"$error":"#DIV/0!"}},{"$f":"RANK(AO52,AO$49:AO$60,1)","v":{"$error":"#DIV/0!"}}]
[null,null,{"$f":"C42","v":0},null,null,null,null,null,null,null,null,null,null,{"$f":"IF(R49>0,2-Q50,0.01)","v":0.01},null,null,null,null,null,{"$f":"IF(U52<1,0.01,IF(S52>P55,2,IF(S52=P55,1,0)))","v":0.01},null,null,{"$f":"IF(X52<1,0.01,IF(V52>P58,2,IF(V52=P58,1,0)))","v":0.01},null,null,null,{"$f":"N53+T53+W53","v":0.03}]
[null,null,null,null,null,null,null,null,null,null,null,null,{"$f":"F65","v":0},null,{"$f":"M52/O52","v":{"$error":"#DIV/0!"}},null,null,null,{"$f":"F55","v":0},null,{"$f":"S52/U52","v":{"$error":"#DIV/0!"}},{"$f":"F62","v":0},null,{"$f":"V52/X52","v":{"$error":"#DIV/0!"}},null,{"$f":"MAXA(M54,S54,V54)","v":0},null,{"$f":"Z52/AB52","v":{"$error":"#DIV/0!"}}]
[null,"Tour 2",{"$f":"C40","v":0},null,null,null,null,null,null,null,{"$f":"C41","v":0},null,{"$f":"D59","v":0},null,{"$f":"E58","v":0},{"$f":"D56","v":0},null,{"$f":"E55","v":0},"B",null,null,{"$f":"D67","v":0},null,{"$f":"E67","v":0},null,{"$f":"M55+P55+V55","v":0},null,{"$f":"O55+R55+X55","v":0},{"$f":"AP55","v":{"$error":"#DIV/0!"}},null,{"$f":"AA56","v":0.03},{"$f":"RANK(AE55,AE$49:AE$60,0)","v":1},{"$f":"AB57","v":{"$error":"#DIV/0!"}},{"$f":"RANK(AG55,AG$49:AG$60,0)","v":{"$error":"#DIV/0!"}},{"$f":"MAX(O57,R57,X57)","v":{"$error":"#DIV/0!"}},{"$f":"RANK(AI55,AI$49:AI$60)","v":{"$error":"#DIV/0!"}},{"$f":"Z57","v":0},{"$f":"RANK(AK55,AK$49:AK$60)","v":1},{"$f":"(AF55*1000)+(AH55*100)+(AJ55*10)+(AL55*1)","v":{"$error":"#DIV/0!"}},{"$f":"AM55","v":{"$error":"#DIV/0!"}},{"$f":"RANK(AN55,AN$49:AN$60,1)","v":{"$error":"#DIV/0!"}},{"$f":"RANK(AO55,AO$49:AO$60,1)","v":{"$error":"#DIV/0!"}}]
[null,null,{"$f":"C41","v":0},null,null,null,null,null,null,null,null,null,null,{"$f":"IF(U49>0,2-T50,0.01)","v":0.01},null,null,{"$f":"IF(U52>0,2-T53,0.01)","v":0.01},null,null,null,null,null,{"$f":"IF(X55<1,0.01,IF(V55>S58,2,IF(V55=S58,1,0)))","v":0.01},null,null,null,{"$f":"N56+Q56+W56","v":0.03}]
[null,null,null,null,null,null,null,null,null,null,null,null,{"$f":"F59","v":0},null,{"$f":"M55/O55","v":{"$error":"#DIV/0!"}},{"$f":"F56","v":0},null,{"$f":"P55/R55","v":{"$error":"#DIV/0!"}},null,null,null,{"$f":"F67","v":0},null,{"$f":"V55/X55","v":{"$error":"#DIV/0!"}},null,{"$f":"MAXA(M57,P57,V57)","v":0},null,{"$f":"Z55/AB55","v":{"$error":"#DIV/0!"}}]
[null,"Tour 3",{"$f":"C39","v":0},null,null,null,null,null,null,null,{"$f":"C42","v":0},null,{"$f":"D53","v":0},null,{"$f":"E52","v":0},{"$f":"D61","v":0},null,{"$f":"E61","v":0},{"$f":"D68","v":0},null,{"$f":"E67","v":0},null,null,null,null,{"$f":"M58+P58+S58","v":0},null,{"$f":"O58+R58+U58","v":0},{"$f":"AP58","v":{"$error":"#DIV/0!"}},null,{"$f":"AA59","v":0.03},{"$f":"RANK(AE58,AE$49:AE$60,0)","v":1},{"$f":"AB60","v":{"$error":"#DIV/0!"}},{"$f":"RANK(AG58,AG$49:AG$60,0)","v":{"$error":"#DIV/0!"}},{"$f":"MAX(O60,R60,U60)","v":{"$error":"#DIV/0!"}},{"$f":"RANK(AI58,AI$49:AI$60)","v":{"$error":"#DIV/0!"}},{"$f":"Z60","v":0},{"$f":"RANK(AK58,AK$49:AK$60)","v":1},{"$f":"(AF58*1000)+(AH58*100)+(AJ58*10)+(AL58*1)","v":{"$error":"#DIV/0!"}},{"$f":"AM58","v":{"$error":"#DIV/0!"}},{"$f":"RANK(AN58,AN$49:AN$60,1)","v":{"$error":"#DIV/0!"}},{"$f":"RANK(AO58,AO$49:AO$60,1)","v":{"$error":"#DIV/0!"}}]
[null,null,{"$f":"C41","v":0},null,null,null,null,null,null,null,null,null,null,{"$f":"IF(X49>0,2-W50,0.01)","v":0.01},null,null,{"$f":"IF(X52>0,2-W53,0.01)","v":0.01},null,null,{"$f":"IF(X55>0,2-W56,0.01)","v":0.01},null,null,null,null,null,null,{"$f":"N59+Q59+T59","v":0.03}]
[null,null,null,null,null,null,null,null,null,null,null,null,{"$f":"F53","v":0},null,{"$f":"M58/O58","v":{"$error":"#DIV/0!"}},{"$f":"F61","v":0},null,{"$f":"P58/R58","v":{"$error":"#DIV/0!"}},{"$f":"F68","v":0},null,{"$f":"S58/U58","v":{"$error":"#DIV/0!"}},null,null,null,null,{"$f":"MAXA(M60,P60,S60)","v":0},null,{"$f":"Z58/AB58","v":{"$error":"#DIV/0!"}}]
[null,"Tour 4",{"$f":"C42","v":0}]
[null,null,{"$f":"C40","v":0},null,null,null,null,null,null,null,null,null,"Pas de prolongation en cas de match nul."]
[]
[null,"Tour 5",{"$f":"C39","v":0}]
[null,null,{"$f":"C40","v":0}]
[]
[null,"Tour 6",{"$f":"C41","v":0}]
[null,null,{"$f":"C42","v":0}]
[]
[null,"Joueur 1",{"$f":"'Saisie des joueurs'!L20","v":0}]
[null,"Joueur 2",{"$f":"'Saisie des joueurs'!L21","v":0}]
[null,"Joueur 3",{"$f":"'Saisie des joueurs'!L26","v":0}]
[null,"Joueur 4",{"$f":"'Saisie des joueurs'!L27","v":0}]
[]
[]
[null,"SAISIE DES RESULTATS",null,null,null,null,null,null,null,null,null,null,{"$f":"C70","v":0},null,null,{"$f":"C71","v":0},null,null,{"$f":"C72","v":0},null,null,{"$f":"C73","v":0}]
[null,null,null,null,null,null,null,null,null,null,null,null,null,null,null,null,null,null,null,null,null,null,null,null,null,"TOTAUX",null,null,"CLASSEMENT"]
[null,null,null,null,null,null,null,null,null,null,null,null,null,null,null,null,null,null,null,null,null,null,null,null,null,null,null,null,null,null,"Classement",null,"Classement",null,"Classement",null,"Classement",null,"Classement",null,"GENERAL","RANG"]
[null,null,"POULE C",null,null,null,null,null,null,null,null,null,null,null,null,null,null,null,null,null,null,null,null,null,null,null,null,null,null,null,"Point-Match","CLS-M","Moy-Gen","CLS-G","Moy-Part","CLS-P","M-Series","CLS-S","MGPS","CLS","CLS"]
[null,null,null,null,null,null,null,null,null,null,{"$f":"C70","v":0},null,"L",null,null,{"$f":"D95","v":0},null,{"$f":"E95","v":0},{"$f":"D89","v":0},null,{"$f":"E89","v":0},{"$f":"D83","v":0},null,{"$f":"E83","v":0},null,{"$f":"P80+S80+V80","v":0},null,{"$f":"R80+U80+X80","v":0},{"$f":"AP80","v":{"$error":"#DIV/0!"}},null,{"$f":"AA81","v":0.03},{"$f":"RANK(AE80,AE$80:AE$91,0)","v":1},{"$f":"AB82","v":{"$error":"#DIV/0!"}},{"$f":"RANK(AG80,AG$80:AG$91,0)","v":{"$error":"#DIV/0!"}},{"$f":"MAX(R82,U82,X82)","v":{"$error":"#DIV/0!"}},{"$f":"RANK(AI80,AI$80:AI$91)","v":{"$error":"#DIV/0!"}},{"$f":"Z82","v":0},{"$f":"RANK(AK80,AK$49:AK$60)","v":1},{"$f":"(AF80*1000)+(AH80*100)+(AJ80*10)+(AL80*1)","v":{"$error":"#DIV/0!"}},{"$f":"AM80","v":{"$error":"#DIV/0!"}},{"$f":"RANK(AN80,AN$80:AN$91,1)","v":{"$error":"#DIV/0!"}},{"$f":"RANK(AO80,AO$80:AO$91,1)","v":{"$error":"#DIV/0!"}}]
[null,null,null,null,null,null,null,null,null,null,null,null,null,null,null,null,{"$f":"IF(R80<1,0.01,IF(P80>M83,2,IF(P80=M83,1,0)))","v":0.01},null,null,{"$f":"IF(U80<1,0.01,IF(S80>M86,2,IF(S80=M86,1,0)))","v":0.01},null,null,{"$f":"IF(X80<1,0.01,IF(V80>M89,2,IF(V80=M89,1,0)))","v":0.01},null,null,null,{"$f":"Q81+T81+W81","v":0.03}]
[null,null,null,null,null,null,null,null,null,null,null,null,null,null,null,{"$f":"F95","v":0},null,{"$f":"P80/R80","v":{"$error":"#DIV/0!"}},{"$f":"F89","v":0},null,{"$f":"S80/U80","v":{"$error":"#DIV/0!"}},{"$f":"F83","v":0},null,{"$f":"V80/X80","v":{"$error":"#DIV/0!"}},null,{"$f":"MAX(P82,S82,V82)","v":0},null,{"$f":"Z80/AB80","v":{"$error":"#DIV/0!"}}]
[null,"Tour 1",{"$f":"C70","v":0},null,null,null,null,null,null,null,{"$f":"C71","v":0},null,{"$f":"D96","v":0},null,{"$f":"E95","v":0},"M",null,null,{"$f":"D86","v":0},null,{"$f":"E86","v":0},{"$f":"D93","v":0},null,{"$f":"E92","v":0},null,{"$f":"M83+S83+V83","v":0},null,{"$f":"O83+U83+X83","v":0},{"$f":"AP83","v":{"$error":"#DIV/0!"}},null,{"$f":"AA84","v":0.03},{"$f":"RANK(AE83,AE$80:AE$91,0)","v":1},{"$f":"AB85","v":{"$error":"#DIV/0!"}},{"$f":"RANK(AG83,AG$80:AG$91,0)","v":{"$error":"#DIV/0!"}},{"$f":"MAX(O85,U85,X85)","v":{"$error":"#DIV/0!"}},{"$f":"RANK(AI83,AI$80:AI$91)","v":{"$error":"#DIV/0!"}},{"$f":"Z85","v":0},{"$f":"RANK(AK83,AK$49:AK$60)","v":1},{"$f":"(AF83*1000)+(AH83*100)+(AJ83*10)+(AL83*1)","v":{"$error":"#DIV/0!"}},{"$f":"AM83","v":{"$error":"#DIV/0!"}},{"$f":"RANK(AN83,AN$80:AN$91,1)","v":{"$error":"#DIV/0!"}},{"$f":"RANK(AO83,AO$80:AO$91,1)","v":{"$error":"#DIV/0!"}}]
[null,null,{"$f":"C73","v":0},null,null,null,null,null,null,null,null,null,null,{"$f":"IF(R80>0,2-Q81,0.01)","v":0.01},null,null,null,null,null,{"$f":"IF(U83<1,0.01,IF(S83>P86,2,IF(S83=P86,1,0)))","v":0.01},null,null,{"$f":"IF(X83<1,0.01,IF(V83>P89,2,IF(V83=P89,1,0)))","v":0.01},null,null,null,{"$f":"N84+T84+W84","v":0.03}]
[null,null,null,null,null,null,null,null,null,null,null,null,{"$f":"F96","v":0},null,{"$f":"M83/O83","v":{"$error":"#DIV/0!"}},null,null,null,{"$f":"F86","v":0},null,{"$f":"S83/U83","v":{"$error":"#DIV/0!"}},{"$f":"F93","v":0},null,{"$f":"V83/X83","v":{"$error":"#DIV/0!"}},null,{"$f":"MAXA(M85,S85,V85)","v":0},null,{"$f":"Z83/AB83","v":{"$error":"#DIV/0!"}}]
[null,"Tour 2",{"$f":"C71","v":0},null,null,null,null,null,null,null,{"$f":"C72","v":0},null,{"$f":"D90","v":0},null,{"$f":"E89","v":0},{"$f":"D87","v":0},null,{"$f":"E86","v":0},"B",null,null,{"$f":"D98","v":0},null,{"$f":"E98","v":0},null,{"$f":"M86+P86+V86","v":0},null,{"$f":"O86+R86+X86","v":0},{"$f":"AP86","v":{"$error":"#DIV/0!"}},null,{"$f":"AA87","v":0.03},{"$f":"RANK(AE86,AE$80:AE$91,0)","v":1},{"$f":"AB88","v":{"$error":"#DIV/0!"}},{"$f":"RANK(AG86,AG$80:AG$91,0)","v":{"$error":"#DIV/0!"}},{"$f":"MAX(O88,R88,X88)","v":{"$error":"#DIV/0!"}},{"$f":"RANK(AI86,AI$80:AI$91)","v":{"$error":"#DIV/0!"}},{"$f":"Z88","v":0},{"$f":"RANK(AK86,AK$49:AK$60)","v":1},{"$f":"(AF86*1000)+(AH86*100)+(AJ86*10)+(AL86*1)","v":{"$error":"#DIV/0!"}},{"$f":"AM86","v":{"$error":"#DIV/0!"}},{"$f":"RANK(AN86,AN$80:AN$91,1)","v":{"$error":"#DIV/0!"}},{"$f":"RANK(AO86,AO$80:AO$91,1)","v":{"$error":"#DIV/0!"}}]
[null,null,{"$f":"C72","v":0},null,null,null,null,null,null,null,null,null,null,{"$f":"IF(U80>0,2-T81,0.01)","v":0.01},null,null,{"$f":"IF(U83>0,2-T84,0.01)","v":0.01},null,null,null,null,null,{"$f":"IF(X86<1,0.01,IF(V86>S89,2,IF(V86=S89,1,0)))","v":0.01},null,null,null,{"$f":"N87+Q87+W87","v":0.03}]
[null,null,null,null,null,null,null,null,null,null,null,null,{"$f":"F90","v":0},null,{"$f":"M86/O86","v":{"$error":"#DIV/0!"}},{"$f":"F87","v":0},null,{"$f":"P86/R86","v":{"$error":"#DIV/0!"}},null,null,null,{"$f":"F98","v":0},null,{"$f":"V86/X86","v":{"$error":"#DIV/0!"}},null,{"$f":"MAXA(M88,P88,V88)","v":0},null,{"$f":"Z86/AB86","v":{"$error":"#DIV/0!"}}]
[null,"Tour 3",{"$f":"C70","v":0},null,null,null,null,null,null,null,{"$f":"C73","v":0},null,{"$f":"D84","v":0},null,{"$f":"E83","v":0},{"$f":"D92","v":0},null,{"$f":"E92","v":0},{"$f":"D99","v":0},null,{"$f":"E98","v":0},null,null,null,null,{"$f":"M89+P89+S89","v":0},null,{"$f":"O89+R89+U89","v":0},{"$f":"AP89","v":{"$error":"#DIV/0!"}},null,{"$f":"AA90","v":0.03},{"$f":"RANK(AE89,AE$80:AE$91,0)","v":1},{"$f":"AB91","v":{"$error":"#DIV/0!"}},{"$f":"RANK(AG89,AG$80:AG$91,0)","v":{"$error":"#DIV/0!"}},{"$f":"MAX(O91,R91,U91)","v":{"$error":"#DIV/0!"}},{"$f":"RANK(AI89,AI$80:AI$91)","v":{"$error":"#DIV/0!"}},{"$f":"Z91","v":0},{"$f":"RANK(AK89,AK$49:AK$60)","v":1},{"$f":"(AF89*1000)+(AH89*100)+(AJ89*10)+(AL89*1)","v":{"$error":"#DIV/0!"}},{"$f":"AM89","v":{"$error":"#DIV/0!"}},{"$f":"RANK(AN89,AN$80:AN$91,1)","v":{"$error":"#DIV/0!"}},{"$f":"RANK(AO89,AO$80:AO$91,1)","v":{"$error":"#DIV/0!"}}]
[null,null,{"$f":"C72","v":0},null,null,null,null,null,null,null,null,null,null,{"$f":"IF(X80>0,2-W81,0.01)","v":0.01},null,null,{"$f":"IF(X83>0,2-W84,0.01)","v":0.01},null,null,{"$f":"IF(X86>0,2-W87,0.01)","v":0.01},null,null,null,null,null,null,{"$f":"N90+Q90+T90","v":0.03}]
[null,null,null,null,null,null,null,null,null,null,null,null,{"$f":"F84","v":0},null,{"$f":"M89/O89","v":{"$error":"#DIV/0!"}},{"$f":"F92","v":0},null,{"$f":"P89/R89","v":{"$error":"#DIV/0!"}},{"$f":"F99","v":0},null,{"$f":"S89/U89","v":{"$error":"#DIV/0!"}},null,null,null,null,{"$f":"MAXA(M91,P91,S91)","v":0},null,{"$f":"Z89/AB89","v":{"$error":"#DIV/0!"}}]
[null,"Tour 4",{"$f":"C73","v":0}]
[null,null,{"$f":"C71","v":0},null,null,null,null,null,null,null,null,null,"Pas de prolongation en cas de match nul."]
[]
[null,"Tour 5",{"$f":"C70","v":0}]
[null,null,{"$f":"C71","v":0}]
[]
[null,"Tour 6",{"$f":"C72","v":0}]
[null,null,{"$f":"C73","v":0}]

{"sheet":"13JOUEURS","index":27,"n_rows":129,"n_cols":48,"rows_kept":129,"cut":false,"hidden":true,"merged":[[118,45,120,45],[118,46,120,46],[118,47,120,47],[121,1,122,1],[121,4,122,4],[118,37,120,37],[118,38,120,38],[118,39,120,39],[118,40,120,40],[118,41,120,41],[124,1,125,1],[124,4,125,4],[127,1,128,1],[127,4,128,4],[118,43,120,43],[118,44,120,44],[118,42,120,42],[118,1,119,1],[118,4,119,4],[118,10,120,11],[118,21,120,23],[118,28,120,29],[118,36,120,36],[115,46,117,46],[115,47,117,47],[112,46,114,46],[112,47,114,47],[115,1,116,1],[115,4,116,4],[115,10,117,11],[115,18,117,20],[115,28,117,29],[112,37,114,37],[112,38,114,38],[112,39,114,39],[112,1,113,1],[112,4,113,4],[112,10,114,11],[112,15,114,17],[112,28,114,29],[112,36,114,36],[115,36,117,36],[115,37,117,37],[115,38,117,38],[115,39,117,39],[115,40,117,40],[115,41,117,41],[112,43,114,43],[112,44,114,44],[112,45,114,45],[112,40,114,40],[112,41,114,41],[112,42,114,42],[109,44,111,44],[109,45,111,45],[115,45,117,45],[115,42,117,42],[115,43,117,43],[115,44,117,44],[109,46,111,46],[109,47,111,47],[109,41,111,41],[109,42,111,42],[109,43,111,43],[105,18,108,20],[105,21,108,23],[105,25,108,27],[105,28,108,29],[107,36,107,37],[107,38,107,39],[107,40,107,41],[107,42,107,43],[107,44,107,45],[107,47,108,47],[109,38,111,38],[109,39,111,39],[109,40,111,40],[108,2,109,5],[109,10,111,11],[109,12,111,14],[109,28,111,29],[109,36,111,36],[109,37,111,37],[102,2,102,5],[105,1,106,5],[105,10,108,11],[105,12,108,14],[105,15,108,17],[93,1,94,1],[93,4,94,4],[96,1,97,1],[96,4,97,4],[99,2,99,5],[84,1,85,1],[84,4,85,4],[84,10,86,11],[84,18,86,20],[101,2,101,5],[100,2,100,5],[84,45,86,45],[84,46,86,46],[84,34,86,34],[84,36,86,36],[84,37,86,37],[84,38,86,38],[84,39,86,39],[84,40,86,40],[84,47,86,47],[87,1,88,1],[87,4,88,4],[88,12,88,34],[90,1,91,1],[90,4,91,4],[84,41,86,41],[84,42,86,42],[84,43,86,43],[84,44,86,44],[84,27,86,29],[81,37,83,37],[81,38,83,38],[78,47,80,47],[81,1,82,1],[81,4,82,4],[81,10,83,11],[81,15,83,17],[81,24,83,26],[81,34,83,34],[81,36,83,36],[81,45,83,45],[81,46,83,46],[81,47,83,47],[81,41,83,41],[81,42,83,42],[81,39,83,39],[81,40,83,40],[78,40,80,40],[78,41,80,41],[78,42,80,42],[78,43,80,43],[78,44,80,44],[81,43,83,43],[81,44,83,44],[74,1,75,5],[74,12,77,14],[74,15,77,17],[74,18,77,20],[74,21,77,23],[74,24,77,26],[74,27,77,29],[78,37,80,37],[78,38,80,38],[74,31,77,33],[74,34,77,34],[75,10,77,11],[76,36,76,37],[76,38,76,39],[78,39,80,39],[76,43,76,44],[76,46,77,46],[77,2,78,5],[78,10,80,11],[78,12,80,14],[78,21,80,23],[78,34,80,34],[78,36,80,36],[76,41,76,42],[78,45,80,45],[78,46,80,46],[72,12,72,20],[72,21,72,29],[53,42,55,42],[53,43,55,43],[53,44,55,44],[53,45,55,45],[56,1,57,1],[56,4,57,4],[57,12,57,34],[59,1,60,1],[59,4,60,4],[62,1,63,1],[62,4,63,4],[65,1,66,1],[65,4,66,4],[68,2,68,5],[69,2,69,5],[70,2,70,5],[71,2,71,5],[53,46,55,46],[53,47,55,47],[53,36,55,36],[53,37,55,37],[53,38,55,38],[53,39,55,39],[53,40,55,40],[53,41,55,41],[53,1,54,1],[53,4,54,4],[53,10,55,11],[53,18,55,20],[53,27,55,29],[53,34,55,34],[50,47,52,47],[50,36,52,36],[50,37,52,37],[50,38,52,38],[50,39,52,39],[50,40,52,40],[50,41,52,41],[50,42,52,42],[50,43,52,43],[50,44,52,44],[50,45,52,45],[47,39,49,39],[47,40,49,40],[47,41,49,41],[47,42,49,42],[47,43,49,43],[47,44,49,44],[47,45,49,45],[47,46,49,46],[50,46,52,46],[47,47,49,47],[50,1,51,1],[50,4,51,4],[50,10,52,11],[50,15,52,17],[50,24,52,26],[50,34,52,34],[43,27,46,29],[43,31,46,33],[43,34,46,34],[44,10,46,11],[45,36,45,37],[45,38,45,39],[45,41,45,42],[45,43,45,44],[45,46,46,46],[46,2,47,5],[47,10,49,11],[47,12,49,14],[47,21,49,23],[47,34,49,34],[47,36,49,36],[47,37,49,37],[47,38,49,38],[39,2,39,5],[40,2,40,5],[41,12,41,20],[41,21,41,29],[43,1,44,5],[43,12,46,14],[43,15,46,17],[43,18,46,20],[43,21,46,23],[43,24,46,26],[37,2,37,5],[38,2,38,5],[22,47,24,47],[25,1,26,1],[25,4,26,4],[26,12,26,34],[28,1,29,1],[28,4,29,4],[22,41,24,41],[22,42,24,42],[22,43,24,43],[22,44,24,44],[22,45,24,45],[22,46,24,46],[22,34,24,34],[22,36,24,36],[22,37,24,37],[22,38,24,38],[22,39,24,39],[22,40,24,40],[19,38,21,38],[19,39,21,39],[19,40,21,40],[31,1,32,1],[31,4,32,4],[34,1,35,1],[34,4,35,4],[22,1,23,1],[22,4,23,4],[22,10,24,11],[22,18,24,20],[22,27,24,29],[19,37,21,37],[19,1,20,1],[19,4,20,4],[19,10,21,11],[19,15,21,17],[19,24,21,26],[19,34,21,34],[19,36,21,36],[19,43,21,43],[19,44,21,44],[19,45,21,45],[19,46,21,46],[19,47,21,47],[19,41,21,41],[19,42,21,42],[16,39,18,39],[16,40,18,40],[16,41,18,41],[16,42,18,42],[16,43,18,43],[16,44,18,44],[16,45,18,45],[16,46,18,46],[16,47,18,47],[12,31,15,33],[12,34,15,34],[13,10,15,11],[14,36,14,37],[14,38,14,39],[14,41,14,42],[14,43,14,44],[14,46,15,46],[15,2,16,5],[16,10,18,11],[16,12,18,14],[16,21,18,23],[16,34,18,34],[16,36,18,36],[16,37,18,37],[16,38,18,38],[6,2,6,5],[7,2,7,5],[8,2,8,5],[9,2,9,5],[10,12,10,20],[10,21,10,29],[1,1,3,13],[12,1,13,5],[12,12,15,14],[12,15,15,17],[12,18,15,20],[12,21,15,23],[12,24,15,26],[12,27,15,29]]}
[]
[null,"LIGUE MÉDITERRANÉENNE DE BILLARD"]
[]
[]
[]
[]
[null,"Joueur 1",{"$f":"'Saisie des joueurs'!L18","v":0}]
[null,"Joueur 2",{"$f":"'Saisie des joueurs'!L25","v":0}]
[null,"Joueur 3",{"$f":"'Saisie des joueurs'!L26","v":0}]
[]
[null,null,null,null,null,null,null,null,null,null,null,null,"MATCH ALLER",null,null,null,null,null,null,null,null,"MATCH RETOUR"]
[]
[null,"SAISIE DES RESULTATS",null,null,null,null,null,null,null,null,null,null,{"$f":"C7","v":0},null,null,{"$f":"C8","v":0},null,null,{"$f":"C9","v":0},null,null,{"$f":"C7","v":0},null,null,{"$f":"C8","v":0},null,null,{"$f":"C9","v":0},null,null,null,"TOTAUX",null,null,"CLASSEMENT"]
[]
[null,null,null,null,null,null,null,null,null,null,null,null,null,null,null,null,null,null,null,null,null,null,null,null,null,null,null,null,null,null,null,null,null,null,null,null,"Classement",null,"Classement",null,"Classement","Classement",null,"Classement",null,"GENERAL","RANG"]
[null,null,"POULE A",null,null,null,null,null,null,null,null,null,null,null,null,null,null,null,null,null,null,null,null,null,null,null,null,null,null,null,null,null,null,null,null,null,"Point-Match","CLS-M","Moy-Gen","CLS-G","Moy-Part","M-Series","CLS-S","MGPS","CLS","CLS"]
[null,null,null,null,null,null,null,null,null,null,{"$f":"C7","v":0},null,"L",null,null,{"$f":"D26","v":0},null,{"$f":"E26","v":0},{"$f":"D20","v":0},null,{"$f":"E20","v":0},"L",null,null,{"$f":"D35","v":0},null,{"$f":"E35","v":0},{"$f":"D29","v":0},null,{"$f":"E29","v":0},null,{"$f":"P17+S17+Y17+AB17","v":0},null,{"$f":"R17+U17+AA17+AD17","v":0},{"$f":"AU17","v":{"$error":"#DIV/0!"}},null,{"$f":"AG18","v":0.04},{"$f":"RANK(AK17,AK$17:AK$25,0)","v":1},{"$f":"AH19","v":{"$error":"#DIV/0!"}},{"$f":"RANK(AM17,AM$17:AM$25,0)","v":{"$error":"#DIV/0!"}},{"$f":"MAX(R19,U19,AA19,AD19)","v":{"$error":"#DIV/0!"}},{"$f":"RANK(AO17,AO$17:AO$25)","v":{"$error":"#DIV/0!"}},{"$f":"AF19","v":0},{"$f":"RANK(AQ17,AQ$17:AQ$25)","v":1},{"$f":"(AL17*1000)+(AN17*100)+(AP17*10)+(AR17*1)","v":{"$error":"#DIV/0!"}},{"$f":"AS17","v":{"$error":"#DIV/0!"}},{"$f":"RANK(AT17,AT$17:AT$25,1)","v":{"$error":"#DIV/0!"}},{"$f":"RANK(AU17,AU$17:AU$25,1)","v":{"$error":"#DIV/0!"}}]
[null,null,null,null,null,null,null,null,null,null,null,null,null,null,null,null,{"$f":"IF(R17<1,0.01,IF(P17>M20,2,IF(P17=M20,1,0)))","v":0.01},null,null,{"$f":"IF(U17<1,0.01,IF(S17>M23,2,IF(S17=M23,1,0)))","v":0.01},null,null,null,null,null,{"$f":"IF(AA17<1,0.01,IF(Y17>V20,2,IF(Y17=V20,1,0)))","v":0.01},null,null,{"$f":"IF(AD17<1,0.01,IF(AB17>V23,2,IF(AB17=V23,1,0)))","v":0.01},null,null,null,{"$f":"Q18+T18+Z18+AC18","v":0.04}]
[null,null,null,"Pts","Rep","Série",null,null,null,null,null,null,null,null,null,{"$f":"F26","v":0},null,{"$f":"P17/R17","v":{"$error":"#DIV/0!"}},{"$f":"F20","v":0},null,{"$f":"S17/U17","v":{"$error":"#DIV/0!"}},null,null,null,{"$f":"F35","v":0},null,{"$f":"Y17/AA17","v":{"$error":"#DIV/0!"}},{"$f":"F29","v":0},null,{"$f":"AB17/AD17","v":{"$error":"#DIV/0!"}},null,{"$f":"MAX(P19,S19,Y19,AB19)","v":0},null,{"$f":"AF17/AH17","v":{"$error":"#DIV/0!"}}]
[null,"Tour 1\nMatch aller",{"$f":"C7","v":0},null,null,null,null,null,null,null,{"$f":"C8","v":0},null,{"$f":"D27","v":0},null,{"$f":"E26","v":0},"M",null,null,{"$f":"D23","v":0},null,{"$f":"E23","v":0},{"$f":"D36","v":0},null,{"$f":"E35","v":0},"M",null,null,{"$f":"D32","v":0},null,{"$f":"E32","v":0},null,{"$f":"M20+S20+V20+AB20","v":0},null,{"$f":"O20+U20+X20+AD20","v":0},{"$f":"AU20","v":{"$error":"#DIV/0!"}},null,{"$f":"AG21","v":0.04},{"$f":"RANK(AK20,AK$17:AK$25,0)","v":1},{"$f":"AH22","v":{"$error":"#DIV/0!"}},{"$f":"RANK(AM20,AM$17:AM$25,0)","v":{"$error":"#DIV/0!"}},{"$f":"MAX(R22,U22,AA22,AD22)","v":{"$error":"#DIV/0!"}},{"$f":"RANK(AO20,AO$17:AO$25)","v":{"$error":"#DIV/0!"}},{"$f":"AF22","v":0},{"$f":"RANK(AQ20,AQ$17:AQ$25)","v":1},{"$f":"(AL20*1000)+(AN20*100)+(AP20*10)+(AR20*1)","v":{"$error":"#DIV/0!"}},{"$f":"AS20","v":{"$error":"#DIV/0!"}},{"$f":"RANK(AT20,AT$17:AT$25,1)","v":{"$error":"#DIV/0!"}},{"$f":"RANK(AU20,AU$17:AU$25,1)","v":{"$error":"#DIV/0!"}}]
[null,null,{"$f":"C9","v":0},null,null,null,null,null,null,null,null,null,null,{"$f":"IF(R17>0,2-Q18,0.01)","v":0.01},null,null,null,null,null,{"$f":"IF(U20<1,0.01,IF(S20>P23,2,IF(S20=P23,1,0)))","v":0.01},null,null,{"$f":"IF(AA17>0,2-Z18,0.01)","v":0.01},null,null,null,null,null,{"$f":"IF(AD20<1,0.01,IF(AB20>Y23,2,IF(AB20=Y23,1,0)))","v":0.01},null,null,null,{"$f":"N21+T21+W21+AC21","v":0.04}]
[null,null,null,null,null,null,null,null,null,null,null,null,{"$f":"F27","v":0},null,{"$f":"M20/O20","v":{"$error":"#DIV/0!"}},null,null,null,{"$f":"F23","v":0},null,{"$f":"S20/U20","v":{"$error":"#DIV/0!"}},{"$f":"F36","v":0},null,{"$f":"V20/X20","v":{"$error":"#DIV/0!"}},null,null,null,{"$f":"F32","v":0},null,{"$f":"AB20/AD20","v":{"$error":"#DIV/0!"}},null,{"$f":"MAXA(M22,S22,V22,AB22)","v":0},null,{"$f":"AF20/AH20","v":{"$error":"#DIV/0!"}}]
[null,"Tour 2\nMatch aller",{"$f":"C8","v":0},null,null,null,null,null,null,null,{"$f":"C9","v":0},null,{"$f":"D21","v":0},null,{"$f":"E20","v":0},{"$f":"D24","v":0},null,{"$f":"E23","v":0},"B",null,null,{"$f":"D30","v":0},null,{"$f":"E29","v":0},{"$f":"D33","v":0},null,{"$f":"E32","v":0},"B",null,null,null,{"$f":"M23+P23+V23+Y23","v":0},null,{"$f":"O23+R23+X23+AA23","v":0},{"$f":"AU23","v":{"$error":"#DIV/0!"}},null,{"$f":"AG24","v":0.04},{"$f":"RANK(AK23,AK$17:AK$25,0)","v":1},{"$f":"AH25","v":{"$error":"#DIV/0!"}},{"$f":"RANK(AM23,AM$17:AM$25,0)","v":{"$error":"#DIV/0!"}},{"$f":"MAX(R25,U25,AA25,AD25)","v":{"$error":"#DIV/0!"}},{"$f":"RANK(AO23,AO$17:AO$25)","v":{"$error":"#DIV/0!"}},{"$f":"AF25","v":0},{"$f":"RANK(AQ23,AQ$17:AQ$25)","v":1},{"$f":"(AL23*1000)+(AN23*100)+(AP23*10)+(AR23*1)","v":{"$error":"#DIV/0!"}},{"$f":"AS23","v":{"$error":"#DIV/0!"}},{"$f":"RANK(AT23,AT$17:AT$25,1)","v":{"$error":"#DIV/0!"}},{"$f":"RANK(AU23,AU$17:AU$25,1)","v":{"$error":"#DIV/0!"}}]
[null,null,{"$f":"C9","v":0},null,null,null,null,null,null,null,null,null,null,{"$f":"IF(U17>0,2-T18,0.01)","v":0.01},null,null,{"$f":"IF(U20>0,2-T21,0.01)","v":0.01},null,null,null,null,null,{"$f":"IF(AD17>0,2-AC18,0.01)","v":0.01},null,null,{"$f":"IF(AD20>0,2-AC21,0.01)","v":0.01},null,null,null,null,null,null,{"$f":"N24+Q24+W24+Z24","v":0.04}]
[null,null,null,null,null,null,null,null,null,null,null,null,{"$f":"F21","v":0},null,{"$f":"M23/O23","v":{"$error":"#DIV/0!"}},{"$f":"F24","v":0},null,{"$f":"P23/R23","v":{"$error":"#DIV/0!"}},null,null,null,{"$f":"F30","v":0},null,{"$f":"V23/X23","v":{"$error":"#DIV/0!"}},{"$f":"F33","v":0},null,{"$f":"Y23/AA23","v":{"$error":"#DIV/0!"}},null,null,null,null,{"$f":"MAXA(M25,P25,V25,Y25)","v":0},null,{"$f":"AF23/AH23","v":{"$error":"#DIV/0!"}}]
[null,"Tour 3\nMatch aller",{"$f":"C7","v":0}]
[null,null,{"$f":"C8","v":0},null,null,null,null,null,null,null,null,null,"Pas de prolongation en cas de match nul."]
[]
[null,"Tour 1\nMatch retour",{"$f":"C7","v":0}]
[null,null,{"$f":"C9","v":0}]
[]
[null,"Tour 2\nMatch retour",{"$f":"C8","v":0}]
[null,null,{"$f":"C9","v":0}]
[]
[null,"Tour 3\nMatch retour",{"$f":"C7","v":0}]
[null,null,{"$f":"C8","v":0}]
[]
[null,"Joueur 1",{"$f":"'Saisie des joueurs'!L19","v":0}]
[null,"Joueur 2",{"$f":"'Saisie des joueurs'!L24","v":0}]
[null,"Joueur 3",{"$f":"'Saisie des joueurs'!L27","v":0}]
[]
[null,null,null,null,null,null,null,null,null,null,null,null,"MATCH ALLER",null,null,null,null,null,null,null,null,"MATCH RETOUR"]
[]
[null,"SAISIE DES RESULTATS",null,null,null,null,null,null,null,null,null,null,{"$f":"C38","v":0},null,null,{"$f":"C39","v":0},null,null,{"$f":"C40","v":0},null,null,{"$f":"C38","v":0},null,null,{"$f":"C39","v":0},null,null,{"$f":"C40","v":0},null,null,null,"TOTAUX",null,null,"CLASSEMENT"]
[]
[null,null,null,null,null,null,null,null,null,null,null,null,null,null,null,null,null,null,null,null,null,null,null,null,null,null,null,null,null,null,null,null,null,null,null,null,"Classement",null,"Classement",null,"Classement","Classement",null,"Classement",null,"GENERAL","RANG"]
[null,null,"POULE B",null,null,null,null,null,null,null,null,null,null,null,null,null,null,null,null,null,null,null,null,null,null,null,null,null,null,null,null,null,null,null,null,null,"Point-Match","CLS-M","Moy-Gen","CLS-G","Moy-Part","M-Series","CLS-S","MGPS","CLS","CLS"]
[null,null,null,null,null,null,null,null,null,null,{"$f":"C38","v":0},null,"L",null,null,{"$f":"D57","v":0},null,{"$f":"E57","v":0},{"$f":"D51","v":0},null,{"$f":"E51","v":0},"L",null,null,{"$f":"D66","v":0},null,{"$f":"E66","v":0},{"$f":"D60","v":0},null,{"$f":"E60","v":0},null,{"$f":"P48+S48+Y48+AB48","v":0},null,{"$f":"R48+U48+AA48+AD48","v":0},{"$f":"AU48","v":{"$error":"#DIV/0!"}},null,{"$f":"AG49","v":0.04},{"$f":"RANK(AK48,AK$48:AK$56,0)","v":1},{"$f":"AH50","v":{"$error":"#DIV/0!"}},{"$f":"RANK(AM48,AM$48:AM$56,0)","v":{"$error":"#DIV/0!"}},{"$f":"MAX(R50,U50,AA50,AD50)","v":{"$error":"#DIV/0!"}},{"$f":"RANK(AO48,AO$48:AO$56)","v":{"$error":"#DIV/0!"}},{"$f":"AF50","v":0},{"$f":"RANK(AQ48,AQ$48:AQ$56)","v":1},{"$f":"(AL48*1000)+(AN48*100)+(AP48*10)+(AR48*1)","v":{"$error":"#DIV/0!"}},{"$f":"AS48","v":{"$error":"#DIV/0!"}},{"$f":"RANK(AT48,AT$48:AT$56,1)","v":{"$error":"#DIV/0!"}},{"$f":"RANK(AU48,AU$48:AU$56,1)","v":{"$error":"#DIV/0!"}}]
[null,null,null,null,null,null,null,null,null,null,null,null,null,null,null,null,{"$f":"IF(R48<1,0.01,IF(P48>M51,2,IF(P48=M51,1,0)))","v":0.01},null,null,{"$f":"IF(U48<1,0.01,IF(S48>M54,2,IF(S48=M54,1,0)))","v":0.01},null,null,null,null,null,{"$f":"IF(AA48<1,0.01,IF(Y48>V51,2,IF(Y48=V51,1,0)))","v":0.01},null,null,{"$f":"IF(AD48<1,0.01,IF(AB48>V54,2,IF(AB48=V54,1,0)))","v":0.01},null,null,null,{"$f":"Q49+T49+Z49+AC49","v":0.04}]
[null,null,null,"Pts","Rep","Série",null,null,null,null,null,null,null,null,null,{"$f":"F57","v":0},null,{"$f":"P48/R48","v":{"$error":"#DIV/0!"}},{"$f":"F51","v":0},null,{"$f":"S48/U48","v":{"$error":"#DIV/0!"}},null,null,null,{"$f":"F66","v":0},null,{"$f":"Y48/AA48","v":{"$error":"#DIV/0!"}},{"$f":"F60","v":0},null,{"$f":"AB48/AD48","v":{"$error":"#DIV/0!"}},null,{"$f":"MAX(P50,S50,Y50,AB50)","v":0},null,{"$f":"AF48/AH48","v":{"$error":"#DIV/0!"}}]
[null,"Tour 1\nMatch aller",{"$f":"C38","v":0},null,null,null,null,null,null,null,{"$f":"C39","v":0},null,{"$f":"D58","v":0},null,{"$f":"E57","v":0},"M",null,null,{"$f":"D54","v":0},null,{"$f":"E54","v":0},{"$f":"D67","v":0},null,{"$f":"E66","v":0},"M",null,null,{"$f":"D63","v":0},null,{"$f":"E63","v":0},null,{"$f":"M51+S51+V51+AB51","v":0},null,{"$f":"O51+U51+X51+AD51","v":0},{"$f":"AU51","v":{"$error":"#DIV/0!"}},null,{"$f":"AG52","v":0.04},{"$f":"RANK(AK51,AK$48:AK$56,0)","v":1},{"$f":"AH53","v":{"$error":"#DIV/0!"}},{"$f":"RANK(AM51,AM$48:AM$56,0)","v":{"$error":"#DIV/0!"}},{"$f":"MAX(O53,U53,X53,AD53)","v":{"$error":"#DIV/0!"}},{"$f":"RANK(AO51,AO$48:AO$56)","v":{"$error":"#DIV/0!"}},{"$f":"AF53","v":0},{"$f":"RANK(AQ51,AQ$48:AQ$56)","v":1},{"$f":"(AL51*1000)+(AN51*100)+(AP51*10)+(AR51*1)","v":{"$error":"#DIV/0!"}},{"$f":"AS51","v":{"$error":"#DIV/0!"}},{"$f":"RANK(AT51,AT$48:AT$56,1)","v":{"$error":"#DIV/0!"}},{"$f":"RANK(AU51,AU$48:AU$56,1)","v":{"$error":"#DIV/0!"}}]
[null,null,{"$f":"C40","v":0},null,null,null,null,null,null,null,null,null,null,{"$f":"IF(R48>0,2-Q49,0.01)","v":0.01},null,null,null,null,null,{"$f":"IF(U51<1,0.01,IF(S51>P54,2,IF(S51=P54,1,0)))","v":0.01},null,null,{"$f":"IF(AA48>0,2-Z49,0.01)","v":0.01},null,null,null,null,null,{"$f":"IF(AD51<1,0.01,IF(AB51>Y54,2,IF(AB51=Y54,1,0)))","v":0.01},null,null,null,{"$f":"N52+T52+W52+AC52","v":0.04}]
[null,null,null,null,null,null,null,null,null,null,null,null,{"$f":"F58","v":0},null,{"$f":"M51/O51","v":{"$error":"#DIV/0!"}},null,null,null,{"$f":"F54","v":0},null,{"$f":"S51/U51","v":{"$error":"#DIV/0!"}},{"$f":"F67","v":0},null,{"$f":"V51/X51","v":{"$error":"#DIV/0!"}},null,null,null,{"$f":"F63","v":0},null,{"$f":"AB51/AD51","v":{"$error":"#DIV/0!"}},null,{"$f":"MAXA(M53,S53,V53,AB53)","v":0},null,{"$f":"AF51/AH51","v":{"$error":"#DIV/0!"}}]
[null,"Tour 2\nMatch aller",{"$f":"C39","v":0},null,null,null,null,null,null,null,{"$f":"C40","v":0},null,{"$f":"D52","v":0},null,{"$f":"E51","v":0},{"$f":"D55","v":0},null,{"$f":"E54","v":0},"B",null,null,{"$f":"D61","v":0},null,{"$f":"E60","v":0},{"$f":"D64","v":0},null,{"$f":"E63","v":0},"B",null,null,null,{"$f":"M54+P54+V54+Y54","v":0},null,{"$f":"O54+R54+X54+AA54","v":0},{"$f":"AU54","v":{"$error":"#DIV/0!"}},null,{"$f":"AG55","v":0.04},{"$f":"RANK(AK54,AK$48:AK$56,0)","v":1},{"$f":"AH56","v":{"$error":"#DIV/0!"}},{"$f":"RANK(AM54,AM$48:AM$56,0)","v":{"$error":"#DIV/0!"}},{"$f":"MAX(O56,R56,X56,AA56)","v":{"$error":"#DIV/0!"}},{"$f":"RANK(AO54,AO$48:AO$56)","v":{"$error":"#DIV/0!"}},{"$f":"AF56","v":0},{"$f":"RANK(AQ54,AQ$48:AQ$56)","v":1},{"$f":"(AL54*1000)+(AN54*100)+(AP54*10)+(AR54*1)","v":{"$error":"#DIV/0!"}},{"$f":"AS54","v":{"$error":"#DIV/0!"}},{"$f":"RANK(AT54,AT$48:AT$56,1)","v":{"$error":"#DIV/0!"}},{"$f":"RANK(AU54,AU$48:AU$56,1)","v":{"$error":"#DIV/0!"}}]
[null,null,{"$f":"C40","v":0},null,null,null,null,null,null,null,null,null,null,{"$f":"IF(U48>0,2-T49,0.01)","v":0.01},null,null,{"$f":"IF(U51>0,2-T52,0.01)","v":0.01},null,null,null,null,null,{"$f":"IF(AD48>0,2-AC49,0.01)","v":0.01},null,null,{"$f":"IF(AD51>0,2-AC52,0.01)","v":0.01},null,null,null,null,null,null,{"$f":"N55+Q55+W55+Z55","v":0.04}]
[null,null,null,null,null,null,null,null,null,null,null,null,{"$f":"F52","v":0},null,{"$f":"M54/O54","v":{"$error":"#DIV/0!"}},{"$f":"F55","v":0},null,{"$f":"P54/R54","v":{"$error":"#DIV/0!"}},null,null,null,{"$f":"F61","v":0},null,{"$f":"V54/X54","v":{"$error":"#DIV/0!"}},{"$f":"F64","v":0},null,{"$f":"Y54/AA54","v":{"$error":"#DIV/0!"}},null,null,null,null,{"$f":"MAXA(M56,P56,V56,Y56)","v":0},null,{"$f":"AF54/AH54","v":{"$error":"#DIV/0!"}}]
[null,"Tour 3\nMatch aller",{"$f":"C38","v":0}]
[null,null,{"$f":"C39","v":0},null,null,null,null,null,null,null,null,null,"Pas de prolongation en cas de match nul."]
[]
[null,"Tour 1\nMatch retour",{"$f":"C38","v":0}]
[null,null,{"$f":"C40","v":0}]
[]
[null,"Tour 2\nMatch retour",{"$f":"C39","v":0}]
[null,null,{"$f":"C40","v":0}]
[]
[null,"Tour 3\nMatch retour",{"$f":"C38","v":0}]
[null,null,{"$f":"C39","v":0}]
[]
[null,"Joueur 1",{"$f":"'Saisie des joueurs'!L20","v":0}]
[null,"Joueur 2",{"$f":"'Saisie des joueurs'!L23","v":0}]
[null,"Joueur 3",{"$f":"'Saisie des joueurs'!L28","v":0}]
[]
[null,null,null,null,null,null,null,null,null,null,null,null,"MATCH ALLER",null,null,null,null,null,null,null,null,"MATCH RETOUR"]
[]
[null,"SAISIE DES RESULTATS",null,null,null,null,null,null,null,null,null,null,{"$f":"C69","v":0},null,null,{"$f":"C70","v":0},null,null,{"$f":"C71","v":0},null,null,{"$f":"C69","v":0},null,null,{"$f":"C70","v":0},null,null,{"$f":"C71","v":0},null,null,null,"TOTAUX",null,null,"CLASSEMENT"]
[]
[null,null,null,null,null,null,null,null,null,null,null,null,null,null,null,null,null,null,null,null,null,null,null,null,null,null,null,null,null,null,null,null,null,null,null,null,"Classement",null,"Classement",null,"Classement","Classement",null,"Classement",null,"GENERAL","RANG"]
[null,null,"POULE C",null,null,null,null,null,null,null,null,null,null,null,null,null,null,null,null,null,null,null,null,null,null,null,null,null,null,null,null,null,null,null,null,null,"Point-Match","CLS-M","Moy-Gen","CLS-G","Moy-Part","M-Series","CLS-S","MGPS","CLS","CLS"]
[null,null,null,null,null,null,null,null,null,null,{"$f":"C69","v":0},null,"L",null,null,{"$f":"D88","v":0},null,{"$f":"E88","v":0},{"$f":"D82","v":0},null,{"$f":"E82","v":0},"L",null,null,{"$f":"D97","v":0},null,{"$f":"E97","v":0},{"$f":"D91","v":0},null,{"$f":"E91","v":0},null,{"$f":"P79+S79+Y79+AB79","v":0},null,{"$f":"R79+U79+AA79+AD79","v":0},{"$f":"AU79","v":{"$error":"#DIV/0!"}},null,{"$f":"AG80","v":0.04},{"$f":"RANK(AK79,AK$79:AK$87,0)","v":1},{"$f":"AH81","v":{"$error":"#DIV/0!"}},{"$f":"RANK(AM79,AM$79:AM$87,0)","v":{"$error":"#DIV/0!"}},{"$f":"MAX(R81,U81,AA81,AD81)","v":{"$error":"#DIV/0!"}},{"$f":"RANK(AO79,AO$79:AO$87)","v":{"$error":"#DIV/0!"}},{"$f":"AF81","v":0},{"$f":"RANK(AQ79,AQ$79:AQ$87)","v":1},{"$f":"(AL79*1000)+(AN79*100)+(AP79*10)+(AR79*1)","v":{"$error":"#DIV/0!"}},{"$f":"AS79","v":{"$error":"#DIV/0!"}},{"$f":"RANK(AT79,AT79:AT$87,1)","v":{"$error":"#DIV/0!"}},{"$f":"RANK(AU79,AU$79:AU$87,1)","v":{"$error":"#DIV/0!"}}]
[null,null,null,null,null,null,null,null,null,null,null,null,null,null,null,null,{"$f":"IF(R79<1,0.01,IF(P79>M82,2,IF(P79=M82,1,0)))","v":0.01},null,null,{"$f":"IF(U79<1,0.01,IF(S79>M85,2,IF(S79=M85,1,0)))","v":0.01},null,null,null,null,null,{"$f":"IF(AA79<1,0.01,IF(Y79>V82,2,IF(Y79=V82,1,0)))","v":0.01},null,null,{"$f":"IF(AD79<1,0.01,IF(AB79>V85,2,IF(AB79=V85,1,0)))","v":0.01},null,null,null,{"$f":"Q80+T80+Z80+AC80","v":0.04}]
[null,null,null,"Pts","Rep","Série",null,null,null,null,null,null,null,null,null,{"$f":"F88","v":0},null,{"$f":"P79/R79","v":{"$error":"#DIV/0!"}},{"$f":"F82","v":0},null,{"$f":"S79/U79","v":{"$error":"#DIV/0!"}},null,null,null,{"$f":"F97","v":0},null,{"$f":"Y79/AA79","v":{"$error":"#DIV/0!"}},{"$f":"F91","v":0},null,{"$f":"AB79/AD79","v":{"$error":"#DIV/0!"}},null,{"$f":"MAX(P81,S81,Y81,AB81)","v":0},null,{"$f":"AF79/AH79","v":{"$error":"#DIV/0!"}}]
[null,"Tour 1\nMatch aller",{"$f":"C69","v":0},null,null,null,null,null,null,null,{"$f":"C70","v":0},null,{"$f":"D89","v":0},null,{"$f":"E88","v":0},"M",null,null,{"$f":"D85","v":0},null,{"$f":"E85","v":0},{"$f":"D98","v":0},null,{"$f":"E97","v":0},"M",null,null,{"$f":"D94","v":0},null,{"$f":"E94","v":0},null,{"$f":"M82+S82+V82+AB82","v":0},null,{"$f":"O82+U82+X82+AD82","v":0},{"$f":"AU82","v":{"$error":"#DIV/0!"}},null,{"$f":"AG83","v":0.04},{"$f":"RANK(AK82,AK$79:AK$87,0)","v":1},{"$f":"AH84","v":{"$error":"#DIV/0!"}},{"$f":"RANK(AM82,AM$79:AM$87,0)","v":{"$error":"#DIV/0!"}},{"$f":"MAX(O84,U84,X84,AD84)","v":{"$error":"#DIV/0!"}},{"$f":"RANK(AO82,AO$79:AO$87)","v":{"$error":"#DIV/0!"}},{"$f":"AF84","v":0},{"$f":"RANK(AQ82,AQ$79:AQ$87)","v":1},{"$f":"(AL82*1000)+(AN82*100)+(AP82*10)+(AR82*1)","v":{"$error":"#DIV/0!"}},{"$f":"AS82","v":{"$error":"#DIV/0!"}},{"$f":"RANK(AT82,AT82:AT$87,1)","v":{"$error":"#DIV/0!"}},{"$f":"RANK(AU82,AU$79:AU$87,1)","v":{"$error":"#DIV/0!"}}]
[null,null,{"$f":"C71","v":0},null,null,null,null,null,null,null,null,null,null,{"$f":"IF(R79>0,2-Q80,0.01)","v":0.01},null,null,null,null,null,{"$f":"IF(U82<1,0.01,IF(S82>P85,2,IF(S82=P85,1,0)))","v":0.01},null,null,{"$f":"IF(AA79>0,2-Z80,0.01)","v":0.01},null,null,null,null,null,{"$f":"IF(AD82<1,0.01,IF(AB82>Y85,2,IF(AB82=Y85,1,0)))","v":0.01},null,null,null,{"$f":"N83+T83+W83+AC83","v":0.04}]
[null,null,null,null,null,null,null,null,null,null,null,null,{"$f":"F89","v":0},null,{"$f":"M82/O82","v":{"$error":"#DIV/0!"}},null,null,null,{"$f":"F85","v":0},null,{"$f":"S82/U82","v":{"$error":"#DIV/0!"}},{"$f":"F98","v":0},null,{"$f":"V82/X82","v":{"$error":"#DIV/0!"}},null,null,null,{"$f":"F94","v":0},null,{"$f":"AB82/AD82","v":{"$error":"#DIV/0!"}},null,{"$f":"MAXA(M84,S84,V84,AB84)","v":0},null,{"$f":"AF82/AH82","v":{"$error":"#DIV/0!"}}]
[null,"Tour 2\nMatch aller",{"$f":"C70","v":0},null,null,null,null,null,null,null,{"$f":"C71","v":0},null,{"$f":"D83","v":0},null,{"$f":"E82","v":0},{"$f":"D86","v":0},null,{"$f":"E85","v":0},"B",null,null,{"$f":"D92","v":0},null,{"$f":"E91","v":0},{"$f":"D95","v":0},null,{"$f":"E94","v":0},"B",null,null,null,{"$f":"M85+P85+V85+Y85","v":0},null,{"$f":"O85+R85+X85+AA85","v":0},{"$f":"AU85","v":{"$error":"#DIV/0!"}},null,{"$f":"AG86","v":0.04},{"$f":"RANK(AK85,AK$79:AK$87,0)","v":1},{"$f":"AH87","v":{"$error":"#DIV/0!"}},{"$f":"RANK(AM85,AM$79:AM$87,0)","v":{"$error":"#DIV/0!"}},{"$f":"MAX(O87,R87,X87,AA87)","v":{"$error":"#DIV/0!"}},{"$f":"RANK(AO85,AO$79:AO$87)","v":{"$error":"#DIV/0!"}},{"$f":"AF87","v":0},{"$f":"RANK(AQ85,AQ$79:AQ$87)","v":1},{"$f":"(AL85*1000)+(AN85*100)+(AP85*10)+(AR85*1)","v":{"$error":"#DIV/0!"}},{"$f":"AS85","v":{"$error":"#DIV/0!"}},{"$f":"RANK(AT85,AT85:AT$87,1)","v":{"$error":"#DIV/0!"}},{"$f":"RANK(AU85,AU$79:AU$87,1)","v":{"$error":"#DIV/0!"}}]
[null,null,{"$f":"C71","v":0},null,null,null,null,null,null,null,null,null,null,{"$f":"IF(U79>0,2-T80,0.01)","v":0.01},null,null,{"$f":"IF(U82>0,2-T83,0.01)","v":0.01},null,null,null,null,null,{"$f":"IF(AD79>0,2-AC80,0.01)","v":0.01},null,null,{"$f":"IF(AD82>0,2-AC83,0.01)","v":0.01},null,null,null,null,null,null,{"$f":"N86+Q86+W86+Z86","v":0.04}]
[null,null,null,null,null,null,null,null,null,null,null,null,{"$f":"F83","v":0},null,{"$f":"M85/O85","v":{"$error":"#DIV/0!"}},{"$f":"F86","v":0},null,{"$f":"P85/R85","v":{"$error":"#DIV/0!"}},null,null,null,{"$f":"F92","v":0},null,{"$f":"V85/X85","v":{"$error":"#DIV/0!"}},{"$f":"F95","v":0},null,{"$f":"Y85/AA85","v":{"$error":"#DIV/0!"}},null,null,null,null,{"$f":"MAXA(M87,P87,V87,Y87)","v":0},null,{"$f":"AF85/AH85","v":{"$error":"#DIV/0!"}}]
[null,"Tour 3\nMatch aller",{"$f":"C69","v":0}]
[null,null,{"$f":"C70","v":0},null,null,null,null,null,null,null,null,null,"Pas de prolongation en cas de match nul."]
[]
[null,"Tour 1\nMatch retour",{"$f":"C69","v":0}]
[null,null,{"$f":"C71","v":0}]
[]
[null,"Tour 2\nMatch retour",{"$f":"C70","v":0}]
[null,null,{"$f":"C71","v":0}]
[]
[null,"Tour 3\nMatch retour",{"$f":"C69","v":0}]
[null,null,{"$f":"C70","v":0}]
[]
[null,"Joueur 1",{"$f":"'Saisie des joueurs'!L21","v":0}]
[null,"Joueur 2",{"$f":"'Saisie des joueurs'!L22","v":0}]
[null,"Joueur 3",{"$f":"'Saisie des joueurs'!L29","v":0}]
[null,"Joueur 4",{"$f":"'Saisie des joueurs'!L30","v":0}]
[]
[]
[null,"SAISIE DES RESULTATS",null,null,null,null,null,null,null,null,null,null,{"$f":"C100","v":0},null,null,{"$f":"C101","v":0},null,null,{"$f":"C102","v":0},null,null,{"$f":"C103","v":0},null,null,null,"TOTAUX",null,null,"CLASSEMENT"]
[]
[null,null,null,null,null,null,null,null,null,null,null,null,null,null,null,null,null,null,null,null,null,null,null,null,null,null,null,null,null,null,null,null,null,null,null,null,"Classement",null,"Classement",null,"Classement",null,"Classement",null,"Classement",null,"GENERAL","RANG"]
[null,null,"POULE D",null,null,null,null,null,null,null,null,null,null,null,null,null,null,null,null,null,null,null,null,null,null,null,null,null,null,null,null,null,null,null,null,null,"Point-Match","CLS-M","Moy-Gen","CLS-G","Moy-Part","CLS-P","M-Series","CLS-S","MGPS","CLS","CLS"]
[null,null,null,null,null,null,null,null,null,null,{"$f":"C100","v":0},null,"L",null,null,{"$f":"D125","v":0},null,{"$f":"E125","v":0},{"$f":"D119","v":0},null,{"$f":"E119","v":0},{"$f":"D113","v":0},null,{"$f":"E113","v":0},null,{"$f":"P110+S110+V110","v":0},null,{"$f":"R110+U110+X110","v":0},{"$f":"AV110","v":{"$error":"#DIV/0!"}},null,null,null,null,null,null,null,{"$f":"AA111","v":0.03},{"$f":"RANK(AK110,AK$110:AK$121,0)","v":1},{"$f":"AB112","v":{"$error":"#DIV/0!"}},{"$f":"RANK(AM110,AM$110:AM$121,0)","v":{"$error":"#DIV/0!"}},{"$f":"MAX(R112,U112,X112)","v":{"$error":"#DIV/0!"}},{"$f":"RANK(AO110,AO$110:AO$121)","v":{"$error":"#DIV/0!"}},{"$f":"Z112","v":0},{"$f":"RANK(AQ110,AQ$110:AQ$121)","v":1},{"$f":"(AL110*1000)+(AN110*100)+(AP110*10)+(AR110*1)","v":{"$error":"#DIV/0!"}},{"$f":"AS110","v":{"$error":"#DIV/0!"}},{"$f":"RANK(AT110,AT$110:AT$121,1)","v":{"$error":"#DIV/0!"}},{"$f":"RANK(AU110,AU$110:AU$121,1)","v":{"$error":"#DIV/0!"}}]
[null,null,null,null,null,null,null,null,null,null,null,null,null,null,null,null,{"$f":"IF(R110<1,0.01,IF(P110>M113,2,IF(P110=M113,1,0)))","v":0.01},null,null,{"$f":"IF(U110<1,0.01,IF(S110>M116,2,IF(S110=M116,1,0)))","v":0.01},null,null,{"$f":"IF(X110<1,0.01,IF(V110>M119,2,IF(V110=M119,1,0)))","v":0.01},null,null,null,{"$f":"W111+T111+Q111","v":0.03}]
[null,null,null,"Pts","Rep","Série",null,null,null,null,null,null,null,null,null,{"$f":"F125","v":0},null,{"$f":"P110/R110","v":{"$error":"#DIV/0!"}},{"$f":"F119","v":0},null,{"$f":"S110/U110","v":{"$error":"#DIV/0!"}},{"$f":"F113","v":0},null,{"$f":"V110/X110","v":{"$error":"#DIV/0!"}},null,{"$f":"MAX(V112,S112,P112)","v":0},null,{"$f":"Z110/AB110","v":{"$error":"#DIV/0!"}}]
[null,"Tour 1",{"$f":"C100","v":0},null,null,null,null,null,null,null,{"$f":"C101","v":0},null,{"$f":"D126","v":0},null,{"$f":"E125","v":0},"M",null,null,{"$f":"D116","v":0},null,{"$f":"E116","v":0},{"$f":"D123","v":0},null,{"$f":"E122","v":0},null,{"$f":"M113+S113+V113","v":0},null,{"$f":"O113+U113+X113","v":0},{"$f":"AV113","v":{"$error":"#DIV/0!"}},null,null,null,null,null,null,null,{"$f":"AA114","v":0.03},{"$f":"RANK(AK113,AK$110:AK$121,0)","v":1},{"$f":"AB115","v":{"$error":"#DIV/0!"}},{"$f":"RANK(AM113,AM$110:AM$121,0)","v":{"$error":"#DIV/0!"}},{"$f":"MAX(R115,U115,X115)","v":{"$error":"#DIV/0!"}},{"$f":"RANK(AO113,AO$110:AO$121)","v":{"$error":"#DIV/0!"}},{"$f":"Z115","v":0},{"$f":"RANK(AQ113,AQ$110:AQ$121)","v":1},{"$f":"(AL113*1000)+(AN113*100)+(AP113*10)+(AR113*1)","v":{"$error":"#DIV/0!"}},{"$f":"AS113","v":{"$error":"#DIV/0!"}},{"$f":"RANK(AT113,AT$110:AT$121,1)","v":{"$error":"#DIV/0!"}},{"$f":"RANK(AU113,AU$110:AU$121,1)","v":{"$error":"#DIV/0!"}}]
[null,null,{"$f":"C103","v":0},null,null,null,null,null,null,null,null,null,null,{"$f":"IF(R110>0,2-Q111,0.01)","v":0.01},null,null,null,null,null,{"$f":"IF(U113<1,0.01,IF(S113>P116,2,IF(S113=P116,1,0)))","v":0.01},null,null,{"$f":"IF(X113<1,0.01,IF(V113>P119,2,IF(V113=P119,1,0)))","v":0.01},null,null,null,{"$f":"N114+T114+W114","v":0.03}]
[null,null,null,null,null,null,null,null,null,null,null,null,{"$f":"F126","v":0},null,{"$f":"M113/O113","v":{"$error":"#DIV/0!"}},null,null,null,{"$f":"F116","v":0},null,{"$f":"S113/U113","v":{"$error":"#DIV/0!"}},{"$f":"F123","v":0},null,{"$f":"V113/X113","v":{"$error":"#DIV/0!"}},null,{"$f":"MAXA(S115,V115,M115)","v":0},null,{"$f":"Z113/AB113","v":{"$error":"#DIV/0!"}}]
[null,"Tour 2",{"$f":"C101","v":0},null,null,null,null,null,null,null,{"$f":"C102","v":0},null,{"$f":"D120","v":0},null,{"$f":"E119","v":0},{"$f":"D117","v":0},null,{"$f":"E116","v":0},"B",null,null,{"$f":"D128","v":0},null,{"$f":"E128","v":0},null,{"$f":"M116+P116+V116","v":0},null,{"$f":"O116+U116+X116","v":0},{"$f":"AV116","v":{"$error":"#DIV/0!"}},null,null,null,null,null,null,null,{"$f":"AA117","v":0.02},{"$f":"RANK(AK116,AK$110:AK$121,0)","v":4},{"$f":"AB118","v":{"$error":"#DIV/0!"}},{"$f":"RANK(AM116,AM$110:AM$121,0)","v":{"$error":"#DIV/0!"}},{"$f":"MAX(R118,U118,X118)","v":{"$error":"#DIV/0!"}},{"$f":"RANK(AO116,AO$110:AO$121)","v":{"$error":"#DIV/0!"}},{"$f":"Z118","v":0},{"$f":"RANK(AQ116,AQ$110:AQ$121)","v":1},{"$f":"(AL116*1000)+(AN116*100)+(AP116*10)+(AR116*1)","v":{"$error":"#DIV/0!"}},{"$f":"AS116","v":{"$error":"#DIV/0!"}},{"$f":"RANK(AT116,AT$110:AT$121,1)","v":{"$error":"#DIV/0!"}},{"$f":"RANK(AU116,AU$110:AU$121,1)","v":{"$error":"#DIV/0!"}}]
[null,null,{"$f":"C102","v":0},null,null,null,null,null,null,null,null,null,null,{"$f":"IF(U110>0,2-T111,0.01)","v":0.01},null,null,{"$f":"IF(U113>0,2-T114,0.01)","v":0.01},null,null,null,null,null,{"$f":"IF(X116<1,0.01,IF(V116>S119,2,IF(V116=S119,1,0)))","v":0.01},null,null,null,{"$f":"N117+T117+W117","v":0.02}]
[null,null,null,null,null,null,null,null,null,null,null,null,{"$f":"F120","v":0},null,{"$f":"M116/O116","v":{"$error":"#DIV/0!"}},{"$f":"F117","v":0},null,{"$f":"P116/R116","v":{"$error":"#DIV/0!"}},null,null,null,{"$f":"F128","v":0},null,{"$f":"V116/X116","v":{"$error":"#DIV/0!"}},null,{"$f":"MAXA(V118,P118,M118)","v":0},null,{"$f":"Z116/AB116","v":{"$error":"#DIV/0!"}}]
[null,"Tour 3",{"$f":"C100","v":0},null,null,null,null,null,null,null,{"$f":"C103","v":0},null,{"$f":"D114","v":0},null,{"$f":"E113","v":0},{"$f":"D122","v":0},null,{"$f":"E122","v":0},{"$f":"D129","v":0},null,{"$f":"E128","v":0},null,null,null,null,{"$f":"S119+V119+Y119","v":0},null,{"$f":"U119+R119+O119","v":0},{"$f":"AV119","v":{"$error":"#DIV/0!"}},null,null,null,null,null,null,null,{"$f":"AA120","v":0.03},{"$f":"RANK(AK119,AK$110:AK$121,0)","v":1},{"$f":"AB121","v":{"$error":"#DIV/0!"}},{"$f":"RANK(AM119,AM$110:AM$121,0)","v":{"$error":"#DIV/0!"}},{"$f":"MAX(R121,U121,X121)","v":{"$error":"#DIV/0!"}},{"$f":"RANK(AO119,AO$110:AO$121)","v":{"$error":"#DIV/0!"}},{"$f":"Z121","v":0},{"$f":"RANK(AQ119,AQ$110:AQ$121)","v":1},{"$f":"(AL119*1000)+(AN119*100)+(AP119*10)+(AR119*1)","v":{"$error":"#DIV/0!"}},{"$f":"AS119","v":{"$error":"#DIV/0!"}},{"$f":"RANK(AT119,AT$110:AT$121,1)","v":{"$error":"#DIV/0!"}},{"$f":"RANK(AU119,AU$110:AU$121,1)","v":{"$error":"#DIV/0!"}}]
[null,null,{"$f":"C102","v":0},null,null,null,null,null,null,null,null,null,null,{"$f":"IF(X110>0,2-W111,0.01)","v":0.01},null,null,{"$f":"IF(X113>0,2-W114,0.01)","v":0.01},null,null,{"$f":"IF(X116>0,2-W117,0.01)","v":0.01},null,null,null,null,null,null,{"$f":"N120+Q120+T120","v":0.03}]
[null,null,null,null,null,null,null,null,null,null,null,null,{"$f":"F114","v":0},null,{"$f":"M119/O119","v":{"$error":"#DIV/0!"}},{"$f":"F122","v":0},null,{"$f":"P119/R119","v":{"$error":"#DIV/0!"}},{"$f":"F129","v":0},null,{"$f":"S119/U119","v":{"$error":"#DIV/0!"}},null,null,null,null,{"$f":"MAXA(S121,V121,Y121)","v":0},null,{"$f":"Z119/AB119","v":{"$error":"#DIV/0!"}}]
[null,"Tour 4",{"$f":"C103","v":0}]
[null,null,{"$f":"C101","v":0}]
[]
[null,"Tour 5",{"$f":"C100","v":0}]
[null,null,{"$f":"C101","v":0}]
[]
[null,"Tour 6",{"$f":"C102","v":0}]
[null,null,{"$f":"C103","v":0}]

{"sheet":"14JOUEURS","index":28,"n_rows":129,"n_cols":48,"rows_kept":129,"cut":false,"hidden":true,"merged":[[1,1,3,13],[10,21,10,29],[6,2,6,5],[7,2,7,5],[8,2,8,5],[9,2,9,5],[10,12,10,20],[14,46,15,46],[15,2,16,5],[16,10,18,11],[16,12,18,14],[16,21,18,23],[16,34,18,34],[16,36,18,36],[16,37,18,37],[12,1,13,5],[12,12,15,14],[12,15,15,17],[12,18,15,20],[12,21,15,23],[12,24,15,26],[16,46,18,46],[14,41,14,42],[13,10,15,11],[12,27,15,29],[19,1,20,1],[19,4,20,4],[19,10,21,11],[19,15,21,17],[19,24,21,26],[19,37,21,37],[19,34,21,34],[19,36,21,36],[16,38,18,38],[12,31,15,33],[12,34,15,34],[19,43,21,43],[19,44,21,44],[19,45,21,45],[14,43,14,44],[14,36,14,37],[14,38,14,39],[19,38,21,38],[19,39,21,39],[22,45,24,45],[16,47,18,47],[19,47,21,47],[16,39,18,39],[16,40,18,40],[16,41,18,41],[16,42,18,42],[16,43,18,43],[16,44,18,44],[22,47,24,47],[22,46,24,46],[19,46,21,46],[19,41,21,41],[19,42,21,42],[19,40,21,40],[16,45,18,45],[28,1,29,1],[28,4,29,4],[22,41,24,41],[22,42,24,42],[22,43,24,43],[22,44,24,44],[31,1,32,1],[31,4,32,4],[34,1,35,1],[34,4,35,4],[22,34,24,34],[22,36,24,36],[22,37,24,37],[22,38,24,38],[22,39,24,39],[22,40,24,40],[25,1,26,1],[25,4,26,4],[26,12,26,34],[22,1,23,1],[22,4,23,4],[22,10,24,11],[22,18,24,20],[22,27,24,29],[37,2,37,5],[38,2,38,5],[47,45,49,45],[47,46,49,46],[39,2,39,5],[40,2,40,5],[41,12,41,20],[41,21,41,29],[43,1,44,5],[43,12,46,14],[43,15,46,17],[43,18,46,20],[43,27,46,29],[43,31,46,33],[43,34,46,34],[44,10,46,11],[45,36,45,37],[45,38,45,39],[43,21,46,23],[43,24,46,26],[45,41,45,42],[45,43,45,44],[45,46,46,46],[46,2,47,5],[50,45,52,45],[50,46,52,46],[50,47,52,47],[50,36,52,36],[50,37,52,37],[50,38,52,38],[50,39,52,39],[50,40,52,40],[47,41,49,41],[47,42,49,42],[47,43,49,43],[50,42,52,42],[50,43,52,43],[50,44,52,44],[47,44,49,44],[47,47,49,47],[50,41,52,41],[50,1,51,1],[50,4,51,4],[50,10,52,11],[50,15,52,17],[50,24,52,26],[50,34,52,34],[47,38,49,38],[47,39,49,39],[47,40,49,40],[47,10,49,11],[47,12,49,14],[47,21,49,23],[47,34,49,34],[47,36,49,36],[47,37,49,37],[53,44,55,44],[53,45,55,45],[53,46,55,46],[53,47,55,47],[53,36,55,36],[53,37,55,37],[53,38,55,38],[53,39,55,39],[53,40,55,40],[53,43,55,43],[62,1,63,1],[62,4,63,4],[53,42,55,42],[68,2,68,5],[69,2,69,5],[65,1,66,1],[65,4,66,4],[56,1,57,1],[56,4,57,4],[53,1,54,1],[53,4,54,4],[53,10,55,11],[53,18,55,20],[53,27,55,29],[53,34,55,34],[53,41,55,41],[57,12,57,34],[59,1,60,1],[59,4,60,4],[78,47,80,47],[78,41,80,41],[78,42,80,42],[78,43,80,43],[70,2,70,5],[71,2,71,5],[74,1,75,5],[74,10,77,11],[74,12,77,14],[74,15,77,17],[74,28,77,29],[76,36,76,37],[76,38,76,39],[78,44,80,44],[78,45,80,45],[78,46,80,46],[76,47,77,47],[77,2,78,5],[78,10,80,11],[78,12,80,14],[78,28,80,29],[78,36,80,36],[78,37,80,37],[74,18,77,20],[74,21,77,23],[74,25,77,27],[78,38,80,38],[78,39,80,39],[78,40,80,40],[76,40,76,41],[76,42,76,43],[76,44,76,45],[84,45,86,45],[84,40,86,40],[84,41,86,41],[81,40,83,40],[81,41,83,41],[81,42,83,42],[84,42,86,42],[84,1,85,1],[84,4,85,4],[84,10,86,11],[84,18,86,20],[84,28,86,29],[81,37,83,37],[81,36,83,36],[84,38,86,38],[84,39,86,39],[84,36,86,36],[84,37,86,37],[81,1,82,1],[81,4,82,4],[81,10,83,11],[81,15,83,17],[81,28,83,29],[81,38,83,38],[81,39,83,39],[87,45,89,45],[87,46,89,46],[87,47,89,47],[81,43,83,43],[81,44,83,44],[81,45,83,45],[81,46,83,46],[81,47,83,47],[84,43,86,43],[84,44,86,44],[87,43,89,43],[87,44,89,44],[84,46,86,46],[84,47,86,47],[87,40,89,40],[87,41,89,41],[87,42,89,42],[93,1,94,1],[93,4,94,4],[96,1,97,1],[96,4,97,4],[90,1,91,1],[90,4,91,4],[87,1,88,1],[87,4,88,4],[87,10,89,11],[87,21,89,23],[87,28,89,29],[87,36,89,36],[87,37,89,37],[87,38,89,38],[87,39,89,39],[99,2,99,5],[100,2,100,5],[101,2,101,5],[102,2,102,5],[105,1,106,5],[107,44,107,45],[105,10,108,11],[105,12,108,14],[105,15,108,17],[105,18,108,20],[105,21,108,23],[105,25,108,27],[105,28,108,29],[107,36,107,37],[107,38,107,39],[107,40,107,41],[107,42,107,43],[107,47,108,47],[108,2,109,5],[109,10,111,11],[109,12,111,14],[109,28,111,29],[109,36,111,36],[109,37,111,37],[109,38,111,38],[109,39,111,39],[109,47,111,47],[109,41,111,41],[109,40,111,40],[109,42,111,42],[109,43,111,43],[109,44,111,44],[109,45,111,45],[109,46,111,46],[112,37,114,37],[112,38,114,38],[112,41,114,41],[112,40,114,40],[112,46,114,46],[112,42,114,42],[112,43,114,43],[112,44,114,44],[112,45,114,45],[124,1,125,1],[115,46,117,46],[124,4,125,4],[115,39,117,39],[115,40,117,40],[118,45,120,45],[118,46,120,46],[127,1,128,1],[127,4,128,4],[118,44,120,44],[118,1,119,1],[118,4,119,4],[118,10,120,11],[118,21,120,23],[118,28,120,29],[118,36,120,36],[118,37,120,37],[118,43,120,43],[115,45,117,45],[115,1,116,1],[115,4,116,4],[115,10,117,11],[115,18,117,20],[115,28,117,29],[112,47,114,47],[115,36,117,36],[115,37,117,37],[112,39,114,39],[112,1,113,1],[112,4,113,4],[118,47,120,47],[121,1,122,1],[121,4,122,4],[118,38,120,38],[118,39,120,39],[118,40,120,40],[118,41,120,41],[118,42,120,42],[115,38,117,38],[115,47,117,47],[115,41,117,41],[115,42,117,42],[115,43,117,43],[115,44,117,44],[112,10,114,11],[112,15,114,17],[112,28,114,29],[112,36,114,36]]}
[]
[null,"LIGUE MÉDITERRANÉENNE DE BILLARD"]
[]
[]
[]
[]
[null,"Joueur 1",{"$f":"'Saisie des joueurs'!L18","v":0}]
[null,"Joueur 2",{"$f":"'Saisie des joueurs'!L25","v":0}]
[null,"Joueur 3",{"$f":"'Saisie des joueurs'!L26","v":0}]
[]
[null,null,null,null,null,null,null,null,null,null,null,null,"MATCH ALLER",null,null,null,null,null,null,null,null,"MATCH RETOUR"]
[]
[null,"SAISIE DES RESULTATS",null,null,null,null,null,null,null,null,null,null,{"$f":"C7","v":0},null,null,{"$f":"C8","v":0},null,null,{"$f":"C9","v":0},null,null,{"$f":"C7","v":0},null,null,{"$f":"C8","v":0},null,null,{"$f":"C9","v":0},null,null,null,"TOTAUX",null,null,"CLASSEMENT"]
[]
[null,null,null,null,null,null,null,null,null,null,null,null,null,null,null,null,null,null,null,null,null,null,null,null,null,null,null,null,null,null,null,null,null,null,null,null,"Classement",null,"Classement",null,"Classement","Classement",null,"Classement",null,"GENERAL","RANG"]
[null,null,"POULE A",null,null,null,null,null,null,null,null,null,null,null,null,null,null,null,null,null,null,null,null,null,null,null,null,null,null,null,null,null,null,null,null,null,"Point-Match","CLS-M","Moy-Gen","CLS-G","Moy-Part","M-Series","CLS-S","MGPS","CLS","CLS"]
[null,null,null,null,null,null,null,null,null,null,{"$f":"C7","v":0},null,"L",null,null,{"$f":"D26","v":0},null,{"$f":"E26","v":0},{"$f":"D20","v":0},null,{"$f":"E20","v":0},"L",null,null,{"$f":"D35","v":0},null,{"$f":"E35","v":0},{"$f":"D29","v":0},null,{"$f":"E29","v":0},null,{"$f":"P17+S17+Y17+AB17","v":0},null,{"$f":"R17+U17+AA17+AD17","v":0},{"$f":"AU17","v":{"$error":"#DIV/0!"}},null,{"$f":"AG18","v":0.04},{"$f":"RANK(AK17,AK$17:AK$25,0)","v":1},{"$f":"AH19","v":{"$error":"#DIV/0!"}},{"$f":"RANK(AM17,AM$17:AM$25,0)","v":{"$error":"#DIV/0!"}},{"$f":"MAX(R19,U19,AA19,AD19)","v":{"$error":"#DIV/0!"}},{"$f":"RANK(AO17,AO$17:AO$25)","v":{"$error":"#DIV/0!"}},{"$f":"AF19","v":0},{"$f":"RANK(AQ17,AQ$17:AQ$25)","v":1},{"$f":"(AL17*1000)+(AN17*100)+(AP17*10)+(AR17*1)","v":{"$error":"#DIV/0!"}},{"$f":"AS17","v":{"$error":"#DIV/0!"}},{"$f":"RANK(AT17,AT$17:AT$25,1)","v":{"$error":"#DIV/0!"}},{"$f":"RANK(AU17,AU$17:AU$25,1)","v":{"$error":"#DIV/0!"}}]
[null,null,null,null,null,null,null,null,null,null,null,null,null,null,null,null,{"$f":"IF(R17<1,0.01,IF(P17>M20,2,IF(P17=M20,1,0)))","v":0.01},null,null,{"$f":"IF(U17<1,0.01,IF(S17>M23,2,IF(S17=M23,1,0)))","v":0.01},null,null,null,null,null,{"$f":"IF(AA17<1,0.01,IF(Y17>V20,2,IF(Y17=V20,1,0)))","v":0.01},null,null,{"$f":"IF(AD17<1,0.01,IF(AB17>V23,2,IF(AB17=V23,1,0)))","v":0.01},null,null,null,{"$f":"Q18+T18+Z18+AC18","v":0.04}]
[null,null,null,"Pts","Rep","Série",null,null,null,null,null,null,null,null,null,{"$f":"F26","v":0},null,{"$f":"P17/R17","v":{"$error":"#DIV/0!"}},{"$f":"F20","v":0},null,{"$f":"S17/U17","v":{"$error":"#DIV/0!"}},null,null,null,{"$f":"F35","v":0},null,{"$f":"Y17/AA17","v":{"$error":"#DIV/0!"}},{"$f":"F29","v":0},null,{"$f":"AB17/AD17","v":{"$error":"#DIV/0!"}},null,{"$f":"MAX(P19,S19,Y19,AB19)","v":0},null,{"$f":"AF17/AH17","v":{"$error":"#DIV/0!"}}]
[null,"Tour 1\nMatch aller",{"$f":"C7","v":0},null,null,null,null,null,null,null,{"$f":"C8","v":0},null,{"$f":"D27","v":0},null,{"$f":"E26","v":0},"M",null,null,{"$f":"D23","v":0},null,{"$f":"E23","v":0},{"$f":"D36","v":0},null,{"$f":"E35","v":0},"M",null,null,{"$f":"D32","v":0},null,{"$f":"E32","v":0},null,{"$f":"M20+S20+V20+AB20","v":0},null,{"$f":"O20+U20+X20+AD20","v":0},{"$f":"AU20","v":{"$error":"#DIV/0!"}},null,{"$f":"AG21","v":0.04},{"$f":"RANK(AK20,AK$17:AK$25,0)","v":1},{"$f":"AH22","v":{"$error":"#DIV/0!"}},{"$f":"RANK(AM20,AM$17:AM$25,0)","v":{"$error":"#DIV/0!"}},{"$f":"MAX(R22,U22,AA22,AD22)","v":{"$error":"#DIV/0!"}},{"$f":"RANK(AO20,AO$17:AO$25)","v":{"$error":"#DIV/0!"}},{"$f":"AF22","v":0},{"$f":"RANK(AQ20,AQ$17:AQ$25)","v":1},{"$f":"(AL20*1000)+(AN20*100)+(AP20*10)+(AR20*1)","v":{"$error":"#DIV/0!"}},{"$f":"AS20","v":{"$error":"#DIV/0!"}},{"$f":"RANK(AT20,AT$17:AT$25,1)","v":{"$error":"#DIV/0!"}},{"$f":"RANK(AU20,AU$17:AU$25,1)","v":{"$error":"#DIV/0!"}}]
[null,null,{"$f":"C9","v":0},null,null,null,null,null,null,null,null,null,null,{"$f":"IF(R17>0,2-Q18,0.01)","v":0.01},null,null,null,null,null,{"$f":"IF(U20<1,0.01,IF(S20>P23,2,IF(S20=P23,1,0)))","v":0.01},null,null,{"$f":"IF(AA17>0,2-Z18,0.01)","v":0.01},null,null,null,null,null,{"$f":"IF(AD20<1,0.01,IF(AB20>Y23,2,IF(AB20=Y23,1,0)))","v":0.01},null,null,null,{"$f":"N21+T21+W21+AC21","v":0.04}]
[null,null,null,null,null,null,null,null,null,null,null,null,{"$f":"F27","v":0},null,{"$f":"M20/O20","v":{"$error":"#DIV/0!"}},null,null,null,{"$f":"F23","v":0},null,{"$f":"S20/U20","v":{"$error":"#DIV/0!"}},{"$f":"F36","v":0},null,{"$f":"V20/X20","v":{"$error":"#DIV/0!"}},null,null,null,{"$f":"F32","v":0},null,{"$f":"AB20/AD20","v":{"$error":"#DIV/0!"}},null,{"$f":"MAXA(M22,S22,V22,AB22)","v":0},null,{"$f":"AF20/AH20","v":{"$error":"#DIV/0!"}}]
[null,"Tour 2\nMatch aller",{"$f":"C8","v":0},null,null,null,null,null,null,null,{"$f":"C9","v":0},null,{"$f":"D21","v":0},null,{"$f":"E20","v":0},{"$f":"D24","v":0},null,{"$f":"E23","v":0},"B",null,null,{"$f":"D30","v":0},null,{"$f":"E29","v":0},{"$f":"D33","v":0},null,{"$f":"E32","v":0},"B",null,null,null,{"$f":"M23+P23+V23+Y23","v":0},null,{"$f":"O23+R23+X23+AA23","v":0},{"$f":"AU23","v":{"$error":"#DIV/0!"}},null,{"$f":"AG24","v":0.04},{"$f":"RANK(AK23,AK$17:AK$25,0)","v":1},{"$f":"AH25","v":{"$error":"#DIV/0!"}},{"$f":"RANK(AM23,AM$17:AM$25,0)","v":{"$error":"#DIV/0!"}},{"$f":"MAX(R25,U25,AA25,AD25)","v":{"$error":"#DIV/0!"}},{"$f":"RANK(AO23,AO$17:AO$25)","v":{"$error":"#DIV/0!"}},{"$f":"AF25","v":0},{"$f":"RANK(AQ23,AQ$17:AQ$25)","v":1},{"$f":"(AL23*1000)+(AN23*100)+(AP23*10)+(AR23*1)","v":{"$error":"#DIV/0!"}},{"$f":"AS23","v":{"$error":"#DIV/0!"}},{"$f":"RANK(AT23,AT$17:AT$25,1)","v":{"$error":"#DIV/0!"}},{"$f":"RANK(AU23,AU$17:AU$25,1)","v":{"$error":"#DIV/0!"}}]
[null,null,{"$f":"C9","v":0},null,null,null,null,null,null,null,null,null,null,{"$f":"IF(U17>0,2-T18,0.01)","v":0.01},null,null,{"$f":"IF(U20>0,2-T21,0.01)","v":0.01},null,null,null,null,null,{"$f":"IF(AD17>0,2-AC18,0.01)","v":0.01},null,null,{"$f":"IF(AD20>0,2-AC21,0.01)","v":0.01},null,null,null,null,null,null,{"$f":"N24+Q24+W24+Z24","v":0.04}]
[null,null,null,null,null,null,null,null,null,null,null,null,{"$f":"F21","v":0},null,{"$f":"M23/O23","v":{"$error":"#DIV/0!"}},{"$f":"F24","v":0},null,{"$f":"P23/R23","v":{"$error":"#DIV/0!"}},null,null,null,{"$f":"F30","v":0},null,{"$f":"V23/X23","v":{"$error":"#DIV/0!"}},{"$f":"F33","v":0},null,{"$f":"Y23/AA23","v":{"$error":"#DIV/0!"}},null,null,null,null,{"$f":"MAXA(M25,P25,V25,Y25)","v":0},null,{"$f":"AF23/AH23","v":{"$error":"#DIV/0!"}}]
[null,"Tour 3\nMatch aller",{"$f":"C7","v":0}]
[null,null,{"$f":"C8","v":0},null,null,null,null,null,null,null,null,null,"Pas de prolongation en cas de match nul."]
[]
[null,"Tour 1\nMatch retour",{"$f":"C7","v":0}]
[null,null,{"$f":"C9","v":0}]
[]
[null,"Tour 2\nMatch retour",{"$f":"C8","v":0}]
[null,null,{"$f":"C9","v":0}]
[]
[null,"Tour 3\nMatch retour",{"$f":"C7","v":0}]
[null,null,{"$f":"C8","v":0}]
[]
[null,"Joueur 1",{"$f":"'Saisie des joueurs'!L19","v":0}]
[null,"Joueur 2",{"$f":"'Saisie des joueurs'!L24","v":0}]
[null,"Joueur 3",{"$f":"'Saisie des joueurs'!L27","v":0}]
[]
[null,null,null,null,null,null,null,null,null,null,null,null,"MATCH ALLER",null,null,null,null,null,null,null,null,"MATCH RETOUR"]
[]
[null,"SAISIE DES RESULTATS",null,null,null,null,null,null,null,null,null,null,{"$f":"C38","v":0},null,null,{"$f":"C39","v":0},null,null,{"$f":"C40","v":0},null,null,{"$f":"C38","v":0},null,null,{"$f":"C39","v":0},null,null,{"$f":"C40","v":0},null,null,null,"TOTAUX",null,null,"CLASSEMENT"]
[]
[null,null,null,null,null,null,null,null,null,null,null,null,null,null,null,null,null,null,null,null,null,null,null,null,null,null,null,null,null,null,null,null,null,null,null,null,"Classement",null,"Classement",null,"Classement","Classement",null,"Classement",null,"GENERAL","RANG"]
[null,null,"POULE B",null,null,null,null,null,null,null,null,null,null,null,null,null,null,null,null,null,null,null,null,null,null,null,null,null,null,null,null,null,null,null,null,null,"Point-Match","CLS-M","Moy-Gen","CLS-G","Moy-Part","M-Series","CLS-S","MGPS","CLS","CLS"]
[null,null,null,null,null,null,null,null,null,null,{"$f":"C38","v":0},null,"L",null,null,{"$f":"D57","v":0},null,{"$f":"E57","v":0},{"$f":"D51","v":0},null,{"$f":"E51","v":0},"L",null,null,{"$f":"D66","v":0},null,{"$f":"E66","v":0},{"$f":"D60","v":0},null,{"$f":"E60","v":0},null,{"$f":"P48+S48+Y48+AB48","v":0},null,{"$f":"R48+U48+AA48+AD48","v":0},{"$f":"AU48","v":{"$error":"#DIV/0!"}},null,{"$f":"AG49","v":0.04},{"$f":"RANK(AK48,AK$48:AK$56,0)","v":1},{"$f":"AH50","v":{"$error":"#DIV/0!"}},{"$f":"RANK(AM48,AM$48:AM$56,0)","v":{"$error":"#DIV/0!"}},{"$f":"MAX(R50,U50,AA50,AD50)","v":{"$error":"#DIV/0!"}},{"$f":"RANK(AO48,AO$48:AO$56)","v":{"$error":"#DIV/0!"}},{"$f":"AF50","v":0},{"$f":"RANK(AQ48,AQ$48:AQ$56)","v":1},{"$f":"(AL48*1000)+(AN48*100)+(AP48*10)+(AR48*1)","v":{"$error":"#DIV/0!"}},{"$f":"AS48","v":{"$error":"#DIV/0!"}},{"$f":"RANK(AT48,AT$48:AT$56,1)","v":{"$error":"#DIV/0!"}},{"$f":"RANK(AU48,AU$48:AU$56,1)","v":{"$error":"#DIV/0!"}}]
[null,null,null,null,null,null,null,null,null,null,null,null,null,null,null,null,{"$f":"IF(R48<1,0.01,IF(P48>M51,2,IF(P48=M51,1,0)))","v":0.01},null,null,{"$f":"IF(U48<1,0.01,IF(S48>M54,2,IF(S48=M54,1,0)))","v":0.01},null,null,null,null,null,{"$f":"IF(AA48<1,0.01,IF(Y48>V51,2,IF(Y48=V51,1,0)))","v":0.01},null,null,{"$f":"IF(AD48<1,0.01,IF(AB48>V54,2,IF(AB48=V54,1,0)))","v":0.01},null,null,null,{"$f":"Q49+T49+Z49+AC49","v":0.04}]
[null,null,null,"Pts","Rep","Série",null,null,null,null,null,null,null,null,null,{"$f":"F57","v":0},null,{"$f":"P48/R48","v":{"$error":"#DIV/0!"}},{"$f":"F51","v":0},null,{"$f":"S48/U48","v":{"$error":"#DIV/0!"}},null,null,null,{"$f":"F66","v":0},null,{"$f":"Y48/AA48","v":{"$error":"#DIV/0!"}},{"$f":"F60","v":0},null,{"$f":"AB48/AD48","v":{"$error":"#DIV/0!"}},null,{"$f":"MAX(P50,S50,Y50,AB50)","v":0},null,{"$f":"AF48/AH48","v":{"$error":"#DIV/0!"}}]
[null,"Tour 1\nMatch aller",{"$f":"C38","v":0},null,null,null,null,null,null,null,{"$f":"C39","v":0},null,{"$f":"D58","v":0},null,{"$f":"E57","v":0},"M",null,null,{"$f":"D54","v":0},null,{"$f":"E54","v":0},{"$f":"D67","v":0},null,{"$f":"E66","v":0},"M",null,null,{"$f":"D63","v":0},null,{"$f":"E63","v":0},null,{"$f":"M51+S51+V51+AB51","v":0},null,{"$f":"O51+U51+X51+AD51","v":0},{"$f":"AU51","v":{"$error":"#DIV/0!"}},null,{"$f":"AG52","v":0.04},{"$f":"RANK(AK51,AK$48:AK$56,0)","v":1},{"$f":"AH53","v":{"$error":"#DIV/0!"}},{"$f":"RANK(AM51,AM$48:AM$56,0)","v":{"$error":"#DIV/0!"}},{"$f":"MAX(O53,U53,X53,AD53)","v":{"$error":"#DIV/0!"}},{"$f":"RANK(AO51,AO$48:AO$56)","v":{"$error":"#DIV/0!"}},{"$f":"AF53","v":0},{"$f":"RANK(AQ51,AQ$48:AQ$56)","v":1},{"$f":"(AL51*1000)+(AN51*100)+(AP51*10)+(AR51*1)","v":{"$error":"#DIV/0!"}},{"$f":"AS51","v":{"$error":"#DIV/0!"}},{"$f":"RANK(AT51,AT$48:AT$56,1)","v":{"$error":"#DIV/0!"}},{"$f":"RANK(AU51,AU$48:AU$56,1)","v":{"$error":"#DIV/0!"}}]
[null,null,{"$f":"C40","v":0},null,null,null,null,null,null,null,null,null,null,{"$f":"IF(R48>0,2-Q49,0.01)","v":0.01},null,null,null,null,null,{"$f":"IF(U51<1,0.01,IF(S51>P54,2,IF(S51=P54,1,0)))","v":0.01},null,null,{"$f":"IF(AA48>0,2-Z49,0.01)","v":0.01},null,null,null,null,null,{"$f":"IF(AD51<1,0.01,IF(AB51>Y54,2,IF(AB51=Y54,1,0)))","v":0.01},null,null,null,{"$f":"N52+T52+W52+AC52","v":0.04}]
[null,null,null,null,null,null,null,null,null,null,null,null,{"$f":"F58","v":0},null,{"$f":"M51/O51","v":{"$error":"#DIV/0!"}},null,null,null,{"$f":"F54","v":0},null,{"$f":"S51/U51","v":{"$error":"#DIV/0!"}},{"$f":"F67","v":0},null,{"$f":"V51/X51","v":{"$error":"#DIV/0!"}},null,null,null,{"$f":"F63","v":0},null,{"$f":"AB51/AD51","v":{"$error":"#DIV/0!"}},null,{"$f":"MAXA(M53,S53,V53,AB53)","v":0},null,{"$f":"AF51/AH51","v":{"$error":"#DIV/0!"}}]
[null,"Tour 2\nMatch aller",{"$f":"C39","v":0},null,null,null,null,null,null,null,{"$f":"C40","v":0},null,{"$f":"D52","v":0},null,{"$f":"E51","v":0},{"$f":"D55","v":0},null,{"$f":"E54","v":0},"B",null,null,{"$f":"D61","v":0},null,{"$f":"E60","v":0},{"$f":"D64","v":0},null,{"$f":"E63","v":0},"B",null,null,null,{"$f":"M54+P54+V54+Y54","v":0},null,{"$f":"O54+R54+X54+AA54","v":0},{"$f":"AU54","v":{"$error":"#DIV/0!"}},null,{"$f":"AG55","v":0.04},{"$f":"RANK(AK54,AK$48:AK$56,0)","v":1},{"$f":"AH56","v":{"$error":"#DIV/0!"}},{"$f":"RANK(AM54,AM$48:AM$56,0)","v":{"$error":"#DIV/0!"}},{"$f":"MAX(O56,R56,X56,AA56)","v":{"$error":"#DIV/0!"}},{"$f":"RANK(AO54,AO$48:AO$56)","v":{"$error":"#DIV/0!"}},{"$f":"AF56","v":0},{"$f":"RANK(AQ54,AQ$48:AQ$56)","v":1},{"$f":"(AL54*1000)+(AN54*100)+(AP54*10)+(AR54*1)","v":{"$error":"#DIV/0!"}},{"$f":"AS54","v":{"$error":"#DIV/0!"}},{"$f":"RANK(AT54,AT$48:AT$56,1)","v":{"$error":"#DIV/0!"}},{"$f":"RANK(AU54,AU$48:AU$56,1)","v":{"$error":"#DIV/0!"}}]
[null,null,{"$f":"C40","v":0},null,null,null,null,null,null,null,null,null,null,{"$f":"IF(U48>0,2-T49,0.01)","v":0.01},null,null,{"$f":"IF(U51>0,2-T52,0.01)","v":0.01},null,null,null,null,null,{"$f":"IF(AD48>0,2-AC49,0.01)","v":0.01},null,null,{"$f":"IF(AD51>0,2-AC52,0.01)","v":0.01},null,null,null,null,null,null,{"$f":"N55+Q55+W55+Z55","v":0.04}]
[null,null,null,null,null,null,null,null,null,null,null,null,{"$f":"F52","v":0},null,{"$f":"M54/O54","v":{"$error":"#DIV/0!"}},{"$f":"F55","v":0},null,{"$f":"P54/R54","v":{"$error":"#DIV/0!"}},null,null,null,{"$f":"F61","v":0},null,{"$f":"V54/X54","v":{"$error":"#DIV/0!"}},{"$f":"F64","v":0},null,{"$f":"Y54/AA54","v":{"$error":"#DIV/0!"}},null,null,null,null,{"$f":"MAXA(M56,P56,V56,Y56)","v":0},null,{"$f":"AF54/AH54","v":{"$error":"#DIV/0!"}}]
[null,"Tour 3\nMatch aller",{"$f":"C38","v":0}]
[null,null,{"$f":"C39","v":0},null,null,null,null,null,null,null,null,null,"Pas de prolongation en cas de match nul."]
[]
[null,"Tour 1\nMatch retour",{"$f":"C38","v":0}]
[null,null,{"$f":"C40","v":0}]
[]
[null,"Tour 2\nMatch retour",{"$f":"C39","v":0}]
[null,null,{"$f":"C40","v":0}]
[]
[null,"Tour 3\nMatch retour",{"$f":"C38","v":0}]
[null,null,{"$f":"C39","v":0}]
[]
[null,"Joueur 1",{"$f":"'Saisie des joueurs'!L20","v":0}]
[null,"Joueur 2",{"$f":"'Saisie des joueurs'!L23","v":0}]
[null,"Joueur 3",{"$f":"'Saisie des joueurs'!L28","v":0}]
[null,"Joueur 4",{"$f":"'Saisie des joueurs'!L31","v":0}]
[]
[]
[null,"SAISIE DES RESULTATS",null,null,null,null,null,null,null,null,null,null,{"$f":"C69","v":0},null,null,{"$f":"C70","v":0},null,null,{"$f":"C71","v":0},null,null,{"$f":"C72","v":0},null,null,null,"TOTAUX",null,null,"CLASSEMENT"]
[]
[null,null,null,null,null,null,null,null,null,null,null,null,null,null,null,null,null,null,null,null,null,null,null,null,null,null,null,null,null,null,null,null,null,null,null,null,"Classement",null,"Classement",null,"Classement",null,"Classement",null,"Classement",null,"GENERAL","RANG"]
[null,null,"POULE C",null,null,null,null,null,null,null,null,null,null,null,null,null,null,null,null,null,null,null,null,null,null,null,null,null,null,null,null,null,null,null,null,null,"Point-Match","CLS-M","Moy-Gen","CLS-G","Moy-Part","CLS-P","M-Series","CLS-S","MGPS","CLS","CLS"]
[null,null,null,null,null,null,null,null,null,null,{"$f":"C69","v":0},null,"L",null,null,{"$f":"D94","v":0},null,{"$f":"E94","v":0},{"$f":"D88","v":0},null,{"$f":"E88","v":0},{"$f":"D82","v":0},null,{"$f":"E82","v":0},null,{"$f":"P79+S79+V79","v":0},null,{"$f":"R79+U79+X79","v":0},{"$f":"AV79","v":{"$error":"#DIV/0!"}},null,null,null,null,null,null,null,{"$f":"AA80","v":0.03},{"$f":"RANK(AK79,AK$79:AK$90,0)","v":1},{"$f":"AB81","v":{"$error":"#DIV/0!"}},{"$f":"RANK(AM79,AM$79:AM$90,0)","v":{"$error":"#DIV/0!"}},{"$f":"MAX(R81,U81,X81)","v":{"$error":"#DIV/0!"}},{"$f":"RANK(AO79,AO$79:AO$90)","v":{"$error":"#DIV/0!"}},{"$f":"Z81","v":0},{"$f":"RANK(AQ79,AQ$79:AQ$90)","v":1},{"$f":"(AL79*1000)+(AN79*100)+(AP79*10)+(AR79*1)","v":{"$error":"#DIV/0!"}},{"$f":"AS79","v":{"$error":"#DIV/0!"}},{"$f":"RANK(AT79,AT$79:AT$90,1)","v":{"$error":"#DIV/0!"}},{"$f":"RANK(AU79,AU$79:AU$90,1)","v":{"$error":"#DIV/0!"}}]
[null,null,null,null,null,null,null,null,null,null,null,null,null,null,null,null,{"$f":"IF(R79<1,0.01,IF(P79>M82,2,IF(P79=M82,1,0)))","v":0.01},null,null,{"$f":"IF(U79<1,0.01,IF(S79>M85,2,IF(S79=M85,1,0)))","v":0.01},null,null,{"$f":"IF(X79<1,0.01,IF(V79>M88,2,IF(V79=M88,1,0)))","v":0.01},null,null,null,{"$f":"W80+T80+Q80","v":0.03}]
[null,null,null,"Pts","Rep","Série",null,null,null,null,null,null,null,null,null,{"$f":"F94","v":0},null,{"$f":"P79/R79","v":{"$error":"#DIV/0!"}},{"$f":"F88","v":0},null,{"$f":"S79/U79","v":{"$error":"#DIV/0!"}},{"$f":"F82","v":0},null,{"$f":"V79/X79","v":{"$error":"#DIV/0!"}},null,{"$f":"MAX(V81,S81,P81)","v":0},null,{"$f":"Z79/AB79","v":{"$error":"#DIV/0!"}}]
[null,"Tour 1",{"$f":"C69","v":0},null,null,null,null,null,null,null,{"$f":"C70","v":0},null,{"$f":"D95","v":0},null,{"$f":"E94","v":0},"M",null,null,{"$f":"D85","v":0},null,{"$f":"E85","v":0},{"$f":"D92","v":0},null,{"$f":"E91","v":0},null,{"$f":"M82+S82+V82","v":0},null,{"$f":"O82+U82+X82","v":0},{"$f":"AV82","v":{"$error":"#DIV/0!"}},null,null,null,null,null,null,null,{"$f":"AA83","v":0.03},{"$f":"RANK(AK82,AK$79:AK$90,0)","v":1},{"$f":"AB84","v":{"$error":"#DIV/0!"}},{"$f":"RANK(AM82,AM$79:AM$90,0)","v":{"$error":"#DIV/0!"}},{"$f":"MAX(R84,U84,X84)","v":{"$error":"#DIV/0!"}},{"$f":"RANK(AO82,AO$79:AO$90)","v":{"$error":"#DIV/0!"}},{"$f":"Z84","v":0},{"$f":"RANK(AQ82,AQ$79:AQ$90)","v":1},{"$f":"(AL82*1000)+(AN82*100)+(AP82*10)+(AR82*1)","v":{"$error":"#DIV/0!"}},{"$f":"AS82","v":{"$error":"#DIV/0!"}},{"$f":"RANK(AT82,AT$79:AT$90,1)","v":{"$error":"#DIV/0!"}},{"$f":"RANK(AU82,AU$79:AU$90,1)","v":{"$error":"#DIV/0!"}}]
[null,null,{"$f":"C72","v":0},null,null,null,null,null,null,null,null,null,null,{"$f":"IF(R79>0,2-Q80,0.01)","v":0.01},null,null,null,null,null,{"$f":"IF(U82<1,0.01,IF(S82>P85,2,IF(S82=P85,1,0)))","v":0.01},null,null,{"$f":"IF(X82<1,0.01,IF(V82>P88,2,IF(V82=P88,1,0)))","v":0.01},null,null,null,{"$f":"N83+T83+W83","v":0.03}]
[null,null,null,null,null,null,null,null,null,null,null,null,{"$f":"F95","v":0},null,{"$f":"M82/O82","v":{"$error":"#DIV/0!"}},null,null,null,{"$f":"F85","v":0},null,{"$f":"S82/U82","v":{"$error":"#DIV/0!"}},{"$f":"F92","v":0},null,{"$f":"V82/X82","v":{"$error":"#DIV/0!"}},null,{"$f":"MAXA(S84,V84,M84)","v":0},null,{"$f":"Z82/AB82","v":{"$error":"#DIV/0!"}}]
[null,"Tour 2",{"$f":"C70","v":0},null,null,null,null,null,null,null,{"$f":"C71","v":0},null,{"$f":"D89","v":0},null,{"$f":"E88","v":0},{"$f":"D86","v":0},null,{"$f":"E85","v":0},"B",null,null,{"$f":"D97","v":0},null,{"$f":"E97","v":0},null,{"$f":"M85+P85+V85","v":0},null,{"$f":"O85+U85+X85","v":0},{"$f":"AV85","v":{"$error":"#DIV/0!"}},null,null,null,null,null,null,null,{"$f":"AA86","v":0.02},{"$f":"RANK(AK85,AK$79:AK$90,0)","v":4},{"$f":"AB87","v":{"$error":"#DIV/0!"}},{"$f":"RANK(AM85,AM$79:AM$90,0)","v":{"$error":"#DIV/0!"}},{"$f":"MAX(R87,U87,X87)","v":{"$error":"#DIV/0!"}},{"$f":"RANK(AO85,AO$79:AO$90)","v":{"$error":"#DIV/0!"}},{"$f":"Z87","v":0},{"$f":"RANK(AQ85,AQ$79:AQ$90)","v":1},{"$f":"(AL85*1000)+(AN85*100)+(AP85*10)+(AR85*1)","v":{"$error":"#DIV/0!"}},{"$f":"AS85","v":{"$error":"#DIV/0!"}},{"$f":"RANK(AT85,AT$79:AT$90,1)","v":{"$error":"#DIV/0!"}},{"$f":"RANK(AU85,AU$79:AU$90,1)","v":{"$error":"#DIV/0!"}}]
[null,null,{"$f":"C71","v":0},null,null,null,null,null,null,null,null,null,null,{"$f":"IF(U79>0,2-T80,0.01)","v":0.01},null,null,{"$f":"IF(U82>0,2-T83,0.01)","v":0.01},null,null,null,null,null,{"$f":"IF(X85<1,0.01,IF(V85>S88,2,IF(V85=S88,1,0)))","v":0.01},null,null,null,{"$f":"N86+T86+W86","v":0.02}]
[null,null,null,null,null,null,null,null,null,null,null,null,{"$f":"F89","v":0},null,{"$f":"M85/O85","v":{"$error":"#DIV/0!"}},{"$f":"F86","v":0},null,{"$f":"P85/R85","v":{"$error":"#DIV/0!"}},null,null,null,{"$f":"F97","v":0},null,{"$f":"V85/X85","v":{"$error":"#DIV/0!"}},null,{"$f":"MAXA(V87,P87,M87)","v":0},null,{"$f":"Z85/AB85","v":{"$error":"#DIV/0!"}}]
[null,"Tour 3",{"$f":"C69","v":0},null,null,null,null,null,null,null,{"$f":"C72","v":0},null,{"$f":"D83","v":0},null,{"$f":"E82","v":0},{"$f":"D91","v":0},null,{"$f":"E91","v":0},{"$f":"D98","v":0},null,{"$f":"E97","v":0},null,null,null,null,{"$f":"S88+V88+Y88","v":0},null,{"$f":"U88+R88+O88","v":0},{"$f":"AV88","v":{"$error":"#DIV/0!"}},null,null,null,null,null,null,null,{"$f":"AA89","v":0.03},{"$f":"RANK(AK88,AK$79:AK$90,0)","v":1},{"$f":"AB90","v":{"$error":"#DIV/0!"}},{"$f":"RANK(AM88,AM$79:AM$90,0)","v":{"$error":"#DIV/0!"}},{"$f":"MAX(R90,U90,X90)","v":{"$error":"#DIV/0!"}},{"$f":"RANK(AO88,AO$79:AO$90)","v":{"$error":"#DIV/0!"}},{"$f":"Z90","v":0},{"$f":"RANK(AQ88,AQ$79:AQ$90)","v":1},{"$f":"(AL88*1000)+(AN88*100)+(AP88*10)+(AR88*1)","v":{"$error":"#DIV/0!"}},{"$f":"AS88","v":{"$error":"#DIV/0!"}},{"$f":"RANK(AT88,AT$79:AT$90,1)","v":{"$error":"#DIV/0!"}},{"$f":"RANK(AU88,AU$79:AU$90,1)","v":{"$error":"#DIV/0!"}}]
[null,null,{"$f":"C71","v":0},null,null,null,null,null,null,null,null,null,null,{"$f":"IF(X79>0,2-W80,0.01)","v":0.01},null,null,{"$f":"IF(X82>0,2-W83,0.01)","v":0.01},null,null,{"$f":"IF(X85>0,2-W86,0.01)","v":0.01},null,null,null,null,null,null,{"$f":"N89+Q89+T89","v":0.03}]
[null,null,null,null,null,null,null,null,null,null,null,null,{"$f":"F83","v":0},null,{"$f":"M88/O88","v":{"$error":"#DIV/0!"}},{"$f":"F91","v":0},null,{"$f":"P88/R88","v":{"$error":"#DIV/0!"}},{"$f":"F98","v":0},null,{"$f":"S88/U88","v":{"$error":"#DIV/0!"}},null,null,null,null,{"$f":"MAXA(S90,V90,Y90)","v":0},null,{"$f":"Z88/AB88","v":{"$error":"#DIV/0!"}}]
[null,"Tour 4",{"$f":"C72","v":0}]
[null,null,{"$f":"C70","v":0}]
[]
[null,"Tour 5",{"$f":"C69","v":0}]
[null,null,{"$f":"C70","v":0}]
[]
[null,"Tour 6",{"$f":"C71","v":0}]
[null,null,{"$f":"C72","v":0}]
[]
[null,"Joueur 1",{"$f":"'Saisie des joueurs'!L21","v":0}]
[null,"Joueur 2",{"$f":"'Saisie des joueurs'!L22","v":0}]
[null,"Joueur 3",{"$f":"'Saisie des joueurs'!L29","v":0}]
[null,"Joueur 4",{"$f":"'Saisie des joueurs'!L30","v":0}]
[]
[]
[null,"SAISIE DES RESULTATS",null,null,null,null,null,null,null,null,null,null,{"$f":"C100","v":0},null,null,{"$f":"C101","v":0},null,null,{"$f":"C102","v":0},null,null,{"$f":"C103","v":0},null,null,null,"TOTAUX",null,null,"CLASSEMENT"]
[]
[null,null,null,null,null,null,null,null,null,null,null,null,null,null,null,null,null,null,null,null,null,null,null,null,null,null,null,null,null,null,null,null,null,null,null,null,"Classement",null,"Classement",null,"Classement",null,"Classement",null,"Classement",null,"GENERAL","RANG"]
[null,null,"POULE D",null,null,null,null,null,null,null,null,null,null,null,null,null,null,null,null,null,null,null,null,null,null,null,null,null,null,null,null,null,null,null,null,null,"Point-Match","CLS-M","Moy-Gen","CLS-G","Moy-Part","CLS-P","M-Series","CLS-S","MGPS","CLS","CLS"]
[null,null,null,null,null,null,null,null,null,null,{"$f":"C100","v":0},null,"L",null,null,{"$f":"D125","v":0},null,{"$f":"E125","v":0},{"$f":"D119","v":0},null,{"$f":"E119","v":0},{"$f":"D113","v":0},null,{"$f":"E113","v":0},null,{"$f":"P110+S110+V110","v":0},null,{"$f":"R110+U110+X110","v":0},{"$f":"AV110","v":{"$error":"#DIV/0!"}},null,null,null,null,null,null,null,{"$f":"AA111","v":0.03},{"$f":"RANK(AK110,AK$110:AK$121,0)","v":1},{"$f":"AB112","v":{"$error":"#DIV/0!"}},{"$f":"RANK(AM110,AM$79:AM$90,0)","v":{"$error":"#DIV/0!"}},{"$f":"MAX(R112,U112,X112)","v":{"$error":"#DIV/0!"}},{"$f":"RANK(AO110,AO$110:AO$121)","v":{"$error":"#DIV/0!"}},{"$f":"Z112","v":0},{"$f":"RANK(AQ110,AQ$110:AQ$121)","v":1},{"$f":"(AL110*1000)+(AN110*100)+(AP110*10)+(AR110*1)","v":{"$error":"#DIV/0!"}},{"$f":"AS110","v":{"$error":"#DIV/0!"}},{"$f":"RANK(AT110,AT$110:AT$121,1)","v":{"$error":"#DIV/0!"}},{"$f":"RANK(AU110,AU$110:AU$121,1)","v":{"$error":"#DIV/0!"}}]
[null,null,null,null,null,null,null,null,null,null,null,null,null,null,null,null,{"$f":"IF(R110<1,0.01,IF(P110>M113,2,IF(P110=M113,1,0)))","v":0.01},null,null,{"$f":"IF(U110<1,0.01,IF(S110>M116,2,IF(S110=M116,1,0)))","v":0.01},null,null,{"$f":"IF(X110<1,0.01,IF(V110>M119,2,IF(V110=M119,1,0)))","v":0.01},null,null,null,{"$f":"W111+T111+Q111","v":0.03}]
[null,null,null,"Pts","Rep","Série",null,null,null,null,null,null,null,null,null,{"$f":"F125","v":0},null,{"$f":"P110/R110","v":{"$error":"#DIV/0!"}},{"$f":"F119","v":0},null,{"$f":"S110/U110","v":{"$error":"#DIV/0!"}},{"$f":"F113","v":0},null,{"$f":"V110/X110","v":{"$error":"#DIV/0!"}},null,{"$f":"MAX(V112,S112,P112)","v":0},null,{"$f":"Z110/AB110","v":{"$error":"#DIV/0!"}}]
[null,"Tour 1",{"$f":"C100","v":0},null,null,null,null,null,null,null,{"$f":"C101","v":0},null,{"$f":"D126","v":0},null,{"$f":"E125","v":0},"M",null,null,{"$f":"D116","v":0},null,{"$f":"E116","v":0},{"$f":"D123","v":0},null,{"$f":"E122","v":0},null,{"$f":"M113+S113+V113","v":0},null,{"$f":"O113+U113+X113","v":0},{"$f":"AV113","v":{"$error":"#DIV/0!"}},null,null,null,null,null,null,null,{"$f":"AA114","v":0.03},{"$f":"RANK(AK113,AK$110:AK$121,0)","v":1},{"$f":"AB115","v":{"$error":"#DIV/0!"}},{"$f":"RANK(AM113,AM$79:AM$90,0)","v":{"$error":"#DIV/0!"}},{"$f":"MAX(R115,U115,X115)","v":{"$error":"#DIV/0!"}},{"$f":"RANK(AO113,AO$110:AO$121)","v":{"$error":"#DIV/0!"}},{"$f":"Z115","v":0},{"$f":"RANK(AQ113,AQ$110:AQ$121)","v":1},{"$f":"(AL113*1000)+(AN113*100)+(AP113*10)+(AR113*1)","v":{"$error":"#DIV/0!"}},{"$f":"AS113","v":{"$error":"#DIV/0!"}},{"$f":"RANK(AT113,AT$110:AT$121,1)","v":{"$error":"#DIV/0!"}},{"$f":"RANK(AU113,AU$110:AU$121,1)","v":{"$error":"#DIV/0!"}}]
[null,null,{"$f":"C103","v":0},null,null,null,null,null,null,null,null,null,null,{"$f":"IF(R110>0,2-Q111,0.01)","v":0.01},null,null,null,null,null,{"$f":"IF(U113<1,0.01,IF(S113>P116,2,IF(S113=P116,1,0)))","v":0.01},null,null,{"$f":"IF(X113<1,0.01,IF(V113>P119,2,IF(V113=P119,1,0)))","v":0.01},null,null,null,{"$f":"N114+T114+W114","v":0.03}]
[null,null,null,null,null,null,null,null,null,null,null,null,{"$f":"F126","v":0},null,{"$f":"M113/O113","v":{"$error":"#DIV/0!"}},null,null,null,{"$f":"F116","v":0},null,{"$f":"S113/U113","v":{"$error":"#DIV/0!"}},{"$f":"F123","v":0},null,{"$f":"V113/X113","v":{"$error":"#DIV/0!"}},null,{"$f":"MAXA(S115,V115,M115)","v":0},null,{"$f":"Z113/AB113","v":{"$error":"#DIV/0!"}}]
[null,"Tour 2",{"$f":"C101","v":0},null,null,null,null,null,null,null,{"$f":"C102","v":0},null,{"$f":"D120","v":0},null,{"$f":"E119","v":0},{"$f":"D117","v":0},null,{"$f":"E116","v":0},"B",null,null,{"$f":"D128","v":0},null,{"$f":"E128","v":0},null,{"$f":"M116+P116+V116","v":0},null,{"$f":"O116+U116+X116","v":0},{"$f":"AV116","v":{"$error":"#DIV/0!"}},null,null,null,null,null,null,null,{"$f":"AA117","v":0.02},{"$f":"RANK(AK116,AK$110:AK$121,0)","v":4},{"$f":"AB118","v":{"$error":"#DIV/0!"}},{"$f":"RANK(AM116,AM$79:AM$90,0)","v":{"$error":"#DIV/0!"}},{"$f":"MAX(R118,U118,X118)","v":{"$error":"#DIV/0!"}},{"$f":"RANK(AO116,AO$110:AO$121)","v":{"$error":"#DIV/0!"}},{"$f":"Z118","v":0},{"$f":"RANK(AQ116,AQ$110:AQ$121)","v":1},{"$f":"(AL116*1000)+(AN116*100)+(AP116*10)+(AR116*1)","v":{"$error":"#DIV/0!"}},{"$f":"AS116","v":{"$error":"#DIV/0!"}},{"$f":"RANK(AT116,AT$110:AT$121,1)","v":{"$error":"#DIV/0!"}},{"$f":"RANK(AU116,AU$110:AU$121,1)","v":{"$error":"#DIV/0!"}}]
[null,null,{"$f":"C102","v":0},null,null,null,null,null,null,null,null,null,null,{"$f":"IF(U110>0,2-T111,0.01)","v":0.01},null,null,{"$f":"IF(U113>0,2-T114,0.01)","v":0.01},null,null,null,null,null,{"$f":"IF(X116<1,0.01,IF(V116>S119,2,IF(V116=S119,1,0)))","v":0.01},null,null,null,{"$f":"N117+T117+W117","v":0.02}]
[null,null,null,null,null,null,null,null,null,null,null,null,{"$f":"F120","v":0},null,{"$f":"M116/O116","v":{"$error":"#DIV/0!"}},{"$f":"F117","v":0},null,{"$f":"P116/R116","v":{"$error":"#DIV/0!"}},null,null,null,{"$f":"F128","v":0},null,{"$f":"V116/X116","v":{"$error":"#DIV/0!"}},null,{"$f":"MAXA(V118,P118,M118)","v":0},null,{"$f":"Z116/AB116","v":{"$error":"#DIV/0!"}}]
[null,"Tour 3",{"$f":"C100","v":0},null,null,null,null,null,null,null,{"$f":"C103","v":0},null,{"$f":"D114","v":0},null,{"$f":"E113","v":0},{"$f":"D122","v":0},null,{"$f":"E122","v":0},{"$f":"D129","v":0},null,{"$f":"E128","v":0},null,null,null,null,{"$f":"S119+V119+Y119","v":0},null,{"$f":"U119+R119+O119","v":0},{"$f":"AV119","v":{"$error":"#DIV/0!"}},null,null,null,null,null,null,null,{"$f":"AA120","v":0.03},{"$f":"RANK(AK119,AK$110:AK$121,0)","v":1},{"$f":"AB121","v":{"$error":"#DIV/0!"}},{"$f":"RANK(AM119,AM$79:AM$90,0)","v":{"$error":"#DIV/0!"}},{"$f":"MAX(R121,U121,X121)","v":{"$error":"#DIV/0!"}},{"$f":"RANK(AO119,AO$110:AO$121)","v":{"$error":"#DIV/0!"}},{"$f":"Z121","v":0},{"$f":"RANK(AQ119,AQ$110:AQ$121)","v":1},{"$f":"(AL119*1000)+(AN119*100)+(AP119*10)+(AR119*1)","v":{"$error":"#DIV/0!"}},{"$f":"AS119","v":{"$error":"#DIV/0!"}},{"$f":"RANK(AT119,AT$110:AT$121,1)","v":{"$error":"#DIV/0!"}},{"$f":"RANK(AU119,AU$110:AU$121,1)","v":{"$error":"#DIV/0!"}}]
[null,null,{"$f":"C102","v":0},null,null,null,null,null,null,null,null,null,null,{"$f":"IF(X110>0,2-W111,0.01)","v":0.01},null,null,{"$f":"IF(X113>0,2-W114,0.01)","v":0.01},null,null,{"$f":"IF(X116>0,2-W117,0.01)","v":0.01},null,null,null,null,null,null,{"$f":"N120+Q120+T120","v":0.03}]
[null,null,null,null,null,null,null,null,null,null,null,null,{"$f":"F114","v":0},null,{"$f":"M119/O119","v":{"$error":"#DIV/0!"}},{"$f":"F122","v":0},null,{"$f":"P119/R119","v":{"$error":"#DIV/0!"}},{"$f":"F129","v":0},null,{"$f":"S119/U119","v":{"$error":"#DIV/0!"}},null,null,null,null,{"$f":"MAXA(S121,V121,Y121)","v":0},null,{"$f":"Z119/AB119","v":{"$error":"#DIV/0!"}}]
[null,"Tour 4",{"$f":"C103","v":0}]
[null,null,{"$f":"C101","v":0}]
[]
[null,"Tour 5",{"$f":"C100","v":0}]
[null,null,{"$f":"C101","v":0}]
[]
[null,"Tour 6",{"$f":"C102","v":0}]
[null,null,{"$f":"C103","v":0}]

{"sheet":"15JOUEURS","index":29,"n_rows":129,"n_cols":48,"rows_kept":129,"cut":false,"hidden":true,"merged":[[14,43,14,44],[12,1,13,5],[9,2,9,5],[10,12,10,20],[16,37,18,37],[16,38,18,38],[12,31,15,33],[12,34,15,34],[13,10,15,11],[14,36,14,37],[14,38,14,39],[12,24,15,26],[12,27,15,29],[1,1,3,13],[14,46,15,46],[15,2,16,5],[16,10,18,11],[16,12,18,14],[16,21,18,23],[16,34,18,34],[16,36,18,36],[16,40,18,40],[16,41,18,41],[16,42,18,42],[16,43,18,43],[16,44,18,44],[12,12,15,14],[12,15,15,17],[12,18,15,20],[12,21,15,23],[16,46,18,46],[10,21,10,29],[14,41,14,42],[16,45,18,45],[6,2,6,5],[7,2,7,5],[8,2,8,5],[16,47,18,47],[19,1,20,1],[19,4,20,4],[19,10,21,11],[19,15,21,17],[19,24,21,26],[19,34,21,34],[19,36,21,36],[16,39,18,39],[19,37,21,37],[19,38,21,38],[19,39,21,39],[19,40,21,40],[19,41,21,41],[19,42,21,42],[19,43,21,43],[19,44,21,44],[19,45,21,45],[19,46,21,46],[19,47,21,47],[22,39,24,39],[22,40,24,40],[22,41,24,41],[22,42,24,42],[22,43,24,43],[22,44,24,44],[22,45,24,45],[22,46,24,46],[31,1,32,1],[31,4,32,4],[22,1,23,1],[22,4,23,4],[22,10,24,11],[22,18,24,20],[22,27,24,29],[22,34,24,34],[22,36,24,36],[22,37,24,37],[22,38,24,38],[34,1,35,1],[34,4,35,4],[22,47,24,47],[25,1,26,1],[25,4,26,4],[26,12,26,34],[28,1,29,1],[28,4,29,4],[47,46,49,46],[47,47,49,47],[37,2,37,5],[38,2,38,5],[39,2,39,5],[40,2,40,5],[45,40,45,41],[45,42,45,43],[43,1,44,5],[43,10,46,11],[43,12,46,14],[43,15,46,17],[43,18,46,20],[43,21,46,23],[47,38,49,38],[47,39,49,39],[45,38,45,39],[50,38,52,38],[47,40,49,40],[45,44,45,45],[45,47,46,47],[46,2,47,5],[47,10,49,11],[47,12,49,14],[47,28,49,29],[47,36,49,36],[47,37,49,37],[50,47,52,47],[50,39,52,39],[50,40,52,40],[53,1,54,1],[53,4,54,4],[53,10,55,11],[53,18,55,20],[53,28,55,29],[53,36,55,36],[43,25,46,27],[43,28,46,29],[45,36,45,37],[50,1,51,1],[50,4,51,4],[50,10,52,11],[50,15,52,17],[50,28,52,29],[50,36,52,36],[50,37,52,37],[56,46,58,46],[56,47,58,47],[47,41,49,41],[47,42,49,42],[47,43,49,43],[47,44,49,44],[47,45,49,45],[53,38,55,38],[53,39,55,39],[53,40,55,40],[53,41,55,41],[53,42,55,42],[53,43,55,43],[56,41,58,41],[56,42,58,42],[53,44,55,44],[53,45,55,45],[53,46,55,46],[50,41,52,41],[50,42,52,42],[50,43,52,43],[50,44,52,44],[50,45,52,45],[50,46,52,46],[70,2,70,5],[53,47,55,47],[56,1,57,1],[56,4,57,4],[56,10,58,11],[56,21,58,23],[56,28,58,29],[56,36,58,36],[59,1,60,1],[59,4,60,4],[56,37,58,37],[56,38,58,38],[56,39,58,39],[56,40,58,40],[62,1,63,1],[62,4,63,4],[65,1,66,1],[65,4,66,4],[68,2,68,5],[69,2,69,5],[53,37,55,37],[56,43,58,43],[56,44,58,44],[56,45,58,45],[78,47,80,47],[78,41,80,41],[78,42,80,42],[78,43,80,43],[71,2,71,5],[74,1,75,5],[74,10,77,11],[74,12,77,14],[74,15,77,17],[74,28,77,29],[76,36,76,37],[76,38,76,39],[78,44,80,44],[78,45,80,45],[78,46,80,46],[76,47,77,47],[77,2,78,5],[78,10,80,11],[78,12,80,14],[78,28,80,29],[78,36,80,36],[78,37,80,37],[74,18,77,20],[74,21,77,23],[74,25,77,27],[78,38,80,38],[78,39,80,39],[78,40,80,40],[76,40,76,41],[76,42,76,43],[76,44,76,45],[84,45,86,45],[84,46,86,46],[84,41,86,41],[81,40,83,40],[81,41,83,41],[81,42,83,42],[84,42,86,42],[84,40,86,40],[84,1,85,1],[84,4,85,4],[84,10,86,11],[84,18,86,20],[84,28,86,29],[81,37,83,37],[81,36,83,36],[84,38,86,38],[84,39,86,39],[84,36,86,36],[84,37,86,37],[81,1,82,1],[81,4,82,4],[81,10,83,11],[81,15,83,17],[81,28,83,29],[81,38,83,38],[81,39,83,39],[87,45,89,45],[87,46,89,46],[87,47,89,47],[81,43,83,43],[81,44,83,44],[81,45,83,45],[81,46,83,46],[81,47,83,47],[84,43,86,43],[84,44,86,44],[87,43,89,43],[87,44,89,44],[84,47,86,47],[87,41,89,41],[87,42,89,42],[87,1,88,1],[87,4,88,4],[87,10,89,11],[87,21,89,23],[87,28,89,29],[87,36,89,36],[90,1,91,1],[90,4,91,4],[87,37,89,37],[87,38,89,38],[87,39,89,39],[87,40,89,40],[93,1,94,1],[93,4,94,4],[96,1,97,1],[96,4,97,4],[99,2,99,5],[100,2,100,5],[109,47,111,47],[109,41,111,41],[109,42,111,42],[109,43,111,43],[101,2,101,5],[102,2,102,5],[105,1,106,5],[105,10,108,11],[105,12,108,14],[105,15,108,17],[105,28,108,29],[107,36,107,37],[107,38,107,39],[109,44,111,44],[109,45,111,45],[109,46,111,46],[107,47,108,47],[108,2,109,5],[115,43,117,43],[115,44,117,44],[109,10,111,11],[109,12,111,14],[109,28,111,29],[109,36,111,36],[109,37,111,37],[105,18,108,20],[105,21,108,23],[105,25,108,27],[109,38,111,38],[115,39,117,39],[112,46,114,46],[112,47,114,47],[109,39,111,39],[109,40,111,40],[107,40,107,41],[107,42,107,43],[107,44,107,45],[112,36,114,36],[112,43,114,43],[112,44,114,44],[112,45,114,45],[112,40,114,40],[112,41,114,41],[112,42,114,42],[112,37,114,37],[112,38,114,38],[112,39,114,39],[127,1,128,1],[127,4,128,4],[124,1,125,1],[124,4,125,4],[118,1,119,1],[118,4,119,4],[118,10,120,11],[118,21,120,23],[118,28,120,29],[118,36,120,36],[112,1,113,1],[112,4,113,4],[112,10,114,11],[112,15,114,17],[112,28,114,29],[115,38,117,38],[115,36,117,36],[115,37,117,37],[115,45,117,45],[118,46,120,46],[118,47,120,47],[121,1,122,1],[121,4,122,4],[118,37,120,37],[118,38,120,38],[118,39,120,39],[118,40,120,40],[118,43,120,43],[118,41,120,41],[118,42,120,42],[118,44,120,44],[118,45,120,45],[115,1,116,1],[115,4,116,4],[115,10,117,11],[115,18,117,20],[115,28,117,29],[115,46,117,46],[115,47,117,47],[115,42,117,42],[115,40,117,40],[115,41,117,41]]}
[]
[null,"LIGUE MÉDITERRANÉENNE DE BILLARD"]
[]
[]
[]
[]
[null,"Joueur 1",{"$f":"'Saisie des joueurs'!L18","v":0}]
[null,"Joueur 2",{"$f":"'Saisie des joueurs'!L25","v":0}]
[null,"Joueur 3",{"$f":"'Saisie des joueurs'!L26","v":0}]
[]
[null,null,null,null,null,null,null,null,null,null,null,null,"MATCH ALLER",null,null,null,null,null,null,null,null,"MATCH RETOUR"]
[]
[null,"SAISIE DES RESULTATS",null,null,null,null,null,null,null,null,null,null,{"$f":"C7","v":0},null,null,{"$f":"C8","v":0},null,null,{"$f":"C9","v":0},null,null,{"$f":"C7","v":0},null,null,{"$f":"C8","v":0},null,null,{"$f":"C9","v":0},null,null,null,"TOTAUX",null,null,"CLASSEMENT"]
[]
[null,null,null,null,null,null,null,null,null,null,null,null,null,null,null,null,null,null,null,null,null,null,null,null,null,null,null,null,null,null,null,null,null,null,null,null,"Classement",null,"Classement",null,"Classement","Classement",null,"Classement",null,"GENERAL","RANG"]
[null,null,"POULE A",null,null,null,null,null,null,null,null,null,null,null,null,null,null,null,null,null,null,null,null,null,null,null,null,null,null,null,null,null,null,null,null,null,"Point-Match","CLS-M","Moy-Gen","CLS-G","Moy-Part","M-Series","CLS-S","MGPS","CLS","CLS"]
[null,null,null,null,null,null,null,null,null,null,{"$f":"C7","v":0},null,"L",null,null,{"$f":"D26","v":0},null,{"$f":"E26","v":0},{"$f":"D20","v":0},null,{"$f":"E20","v":0},"L",null,null,{"$f":"D35","v":0},null,{"$f":"E35","v":0},{"$f":"D29","v":0},null,{"$f":"E29","v":0},null,{"$f":"P17+S17+Y17+AB17","v":0},null,{"$f":"R17+U17+AA17+AD17","v":0},{"$f":"AU17","v":{"$error":"#DIV/0!"}},null,{"$f":"AG18","v":0.04},{"$f":"RANK(AK17,AK$17:AK$25,0)","v":1},{"$f":"AH19","v":{"$error":"#DIV/0!"}},{"$f":"RANK(AM17,AM$17:AM$25,0)","v":{"$error":"#DIV/0!"}},{"$f":"MAX(R19,U19,AA19,AD19)","v":{"$error":"#DIV/0!"}},{"$f":"RANK(AO17,AO$17:AO$25)","v":{"$error":"#DIV/0!"}},{"$f":"AF19","v":0},{"$f":"RANK(AQ17,AQ$17:AQ$25)","v":1},{"$f":"(AL17*1000)+(AN17*100)+(AP17*10)+(AR17*1)","v":{"$error":"#DIV/0!"}},{"$f":"AS17","v":{"$error":"#DIV/0!"}},{"$f":"RANK(AT17,AT$17:AT$25,1)","v":{"$error":"#DIV/0!"}},{"$f":"RANK(AU17,AU$17:AU$25,1)","v":{"$error":"#DIV/0!"}}]
[null,null,null,null,null,null,null,null,null,null,null,null,null,null,null,null,{"$f":"IF(R17<1,0.01,IF(P17>M20,2,IF(P17=M20,1,0)))","v":0.01},null,null,{"$f":"IF(U17<1,0.01,IF(S17>M23,2,IF(S17=M23,1,0)))","v":0.01},null,null,null,null,null,{"$f":"IF(AA17<1,0.01,IF(Y17>V20,2,IF(Y17=V20,1,0)))","v":0.01},null,null,{"$f":"IF(AD17<1,0.01,IF(AB17>V23,2,IF(AB17=V23,1,0)))","v":0.01},null,null,null,{"$f":"Q18+T18+Z18+AC18","v":0.04}]
[null,null,null,"Pts","Rep","Série",null,null,null,null,null,null,null,null,null,{"$f":"F26","v":0},null,{"$f":"P17/R17","v":{"$error":"#DIV/0!"}},{"$f":"F20","v":0},null,{"$f":"S17/U17","v":{"$error":"#DIV/0!"}},null,null,null,{"$f":"F35","v":0},null,{"$f":"Y17/AA17","v":{"$error":"#DIV/0!"}},{"$f":"F29","v":0},null,{"$f":"AB17/AD17","v":{"$error":"#DIV/0!"}},null,{"$f":"MAX(P19,S19,Y19,AB19)","v":0},null,{"$f":"AF17/AH17","v":{"$error":"#DIV/0!"}}]
[null,"Tour 1\nMatch aller",{"$f":"C7","v":0},null,null,null,null,null,null,null,{"$f":"C8","v":0},null,{"$f":"D27","v":0},null,{"$f":"E26","v":0},"M",null,null,{"$f":"D23","v":0},null,{"$f":"E23","v":0},{"$f":"D36","v":0},null,{"$f":"E35","v":0},"M",null,null,{"$f":"D32","v":0},null,{"$f":"E32","v":0},null,{"$f":"M20+S20+V20+AB20","v":0},null,{"$f":"O20+U20+X20+AD20","v":0},{"$f":"AU20","v":{"$error":"#DIV/0!"}},null,{"$f":"AG21","v":0.04},{"$f":"RANK(AK20,AK$17:AK$25,0)","v":1},{"$f":"AH22","v":{"$error":"#DIV/0!"}},{"$f":"RANK(AM20,AM$17:AM$25,0)","v":{"$error":"#DIV/0!"}},{"$f":"MAX(R22,U22,AA22,AD22)","v":{"$error":"#DIV/0!"}},{"$f":"RANK(AO20,AO$17:AO$25)","v":{"$error":"#DIV/0!"}},{"$f":"AF22","v":0},{"$f":"RANK(AQ20,AQ$17:AQ$25)","v":1},{"$f":"(AL20*1000)+(AN20*100)+(AP20*10)+(AR20*1)","v":{"$error":"#DIV/0!"}},{"$f":"AS20","v":{"$error":"#DIV/0!"}},{"$f":"RANK(AT20,AT$17:AT$25,1)","v":{"$error":"#DIV/0!"}},{"$f":"RANK(AU20,AU$17:AU$25,1)","v":{"$error":"#DIV/0!"}}]
[null,null,{"$f":"C9","v":0},null,null,null,null,null,null,null,null,null,null,{"$f":"IF(R17>0,2-Q18,0.01)","v":0.01},null,null,null,null,null,{"$f":"IF(U20<1,0.01,IF(S20>P23,2,IF(S20=P23,1,0)))","v":0.01},null,null,{"$f":"IF(AA17>0,2-Z18,0.01)","v":0.01},null,null,null,null,null,{"$f":"IF(AD20<1,0.01,IF(AB20>Y23,2,IF(AB20=Y23,1,0)))","v":0.01},null,null,null,{"$f":"N21+T21+W21+AC21","v":0.04}]
[null,null,null,null,null,null,null,null,null,null,null,null,{"$f":"F27","v":0},null,{"$f":"M20/O20","v":{"$error":"#DIV/0!"}},null,null,null,{"$f":"F23","v":0},null,{"$f":"S20/U20","v":{"$error":"#DIV/0!"}},{"$f":"F36","v":0},null,{"$f":"V20/X20","v":{"$error":"#DIV/0!"}},null,null,null,{"$f":"F32","v":0},null,{"$f":"AB20/AD20","v":{"$error":"#DIV/0!"}},null,{"$f":"MAXA(M22,S22,V22,AB22)","v":0},null,{"$f":"AF20/AH20","v":{"$error":"#DIV/0!"}}]
[null,"Tour 2\nMatch aller",{"$f":"C8","v":0},null,null,null,null,null,null,null,{"$f":"C9","v":0},null,{"$f":"D21","v":0},null,{"$f":"E20","v":0},{"$f":"D24","v":0},null,{"$f":"E23","v":0},"B",null,null,{"$f":"D30","v":0},null,{"$f":"E29","v":0},{"$f":"D33","v":0},null,{"$f":"E32","v":0},"B",null,null,null,{"$f":"M23+P23+V23+Y23","v":0},null,{"$f":"O23+R23+X23+AA23","v":0},{"$f":"AU23","v":{"$error":"#DIV/0!"}},null,{"$f":"AG24","v":0.04},{"$f":"RANK(AK23,AK$17:AK$25,0)","v":1},{"$f":"AH25","v":{"$error":"#DIV/0!"}},{"$f":"RANK(AM23,AM$17:AM$25,0)","v":{"$error":"#DIV/0!"}},{"$f":"MAX(R25,U25,AA25,AD25)","v":{"$error":"#DIV/0!"}},{"$f":"RANK(AO23,AO$17:AO$25)","v":{"$error":"#DIV/0!"}},{"$f":"AF25","v":0},{"$f":"RANK(AQ23,AQ$17:AQ$25)","v":1},{"$f":"(AL23*1000)+(AN23*100)+(AP23*10)+(AR23*1)","v":{"$error":"#DIV/0!"}},{"$f":"AS23","v":{"$error":"#DIV/0!"}},{"$f":"RANK(AT23,AT$17:AT$25,1)","v":{"$error":"#DIV/0!"}},{"$f":"RANK(AU23,AU$17:AU$25,1)","v":{"$error":"#DIV/0!"}}]
[null,null,{"$f":"C9","v":0},null,null,null,null,null,null,null,null,null,null,{"$f":"IF(U17>0,2-T18,0.01)","v":0.01},null,null,{"$f":"IF(U20>0,2-T21,0.01)","v":0.01},null,null,null,null,null,{"$f":"IF(AD17>0,2-AC18,0.01)","v":0.01},null,null,{"$f":"IF(AD20>0,2-AC21,0.01)","v":0.01},null,null,null,null,null,null,{"$f":"N24+Q24+W24+Z24","v":0.04}]
[null,null,null,null,null,null,null,null,null,null,null,null,{"$f":"F21","v":0},null,{"$f":"M23/O23","v":{"$error":"#DIV/0!"}},{"$f":"F24","v":0},null,{"$f":"P23/R23","v":{"$error":"#DIV/0!"}},null,null,null,{"$f":"F30","v":0},null,{"$f":"V23/X23","v":{"$error":"#DIV/0!"}},{"$f":"F33","v":0},null,{"$f":"Y23/AA23","v":{"$error":"#DIV/0!"}},null,null,null,null,{"$f":"MAXA(M25,P25,V25,Y25)","v":0},null,{"$f":"AF23/AH23","v":{"$error":"#DIV/0!"}}]
[null,"Tour 3\nMatch aller",{"$f":"C7","v":0}]
[null,null,{"$f":"C8","v":0},null,null,null,null,null,null,null,null,null,"Pas de prolongation en cas de match nul."]
[]
[null,"Tour 1\nMatch retour",{"$f":"C7","v":0}]
[null,null,{"$f":"C9","v":0}]
[]
[null,"Tour 2\nMatch retour",{"$f":"C8","v":0}]
[null,null,{"$f":"C9","v":0}]
[]
[null,"Tour 3\nMatch retour",{"$f":"C7","v":0}]
[null,null,{"$f":"C8","v":0}]
[]
[null,"Joueur 1",{"$f":"'Saisie des joueurs'!L18","v":0}]
[null,"Joueur 2",{"$f":"'Saisie des joueurs'!L24","v":0}]
[null,"Joueur 3",{"$f":"'Saisie des joueurs'!L27","v":0}]
[null,"Joueur 4",{"$f":"'Saisie des joueurs'!L32","v":0}]
[]
[]
[null,"SAISIE DES RESULTATS",null,null,null,null,null,null,null,null,null,null,{"$f":"C38","v":0},null,null,{"$f":"C39","v":0},null,null,{"$f":"C40","v":0},null,null,{"$f":"C41","v":0},null,null,null,"TOTAUX",null,null,"CLASSEMENT"]
[]
[null,null,null,null,null,null,null,null,null,null,null,null,null,null,null,null,null,null,null,null,null,null,null,null,null,null,null,null,null,null,null,null,null,null,null,null,"Classement",null,"Classement",null,"Classement",null,"Classement",null,"Classement",null,"GENERAL","RANG"]
[null,null,"POULE B",null,null,null,null,null,null,null,null,null,null,null,null,null,null,null,null,null,null,null,null,null,null,null,null,null,null,null,null,null,null,null,null,null,"Point-Match","CLS-M","Moy-Gen","CLS-G","Moy-Part","CLS-P","M-Series","CLS-S","MGPS","CLS","CLS"]
[null,null,null,null,null,null,null,null,null,null,{"$f":"C38","v":0},null,"L",null,null,{"$f":"D63","v":0},null,{"$f":"E63","v":0},{"$f":"D57","v":0},null,{"$f":"E57","v":0},{"$f":"D51","v":0},null,{"$f":"E51","v":0},null,{"$f":"P48+S48+V48","v":0},null,{"$f":"R48+U48+X48","v":0},{"$f":"AV48","v":{"$error":"#DIV/0!"}},null,null,null,null,null,null,null,{"$f":"AA49","v":0.03},{"$f":"RANK(AK48,AK$48:AK$59,0)","v":1},{"$f":"AB50","v":{"$error":"#DIV/0!"}},{"$f":"RANK(AM48,AM$48:AM$59,0)","v":{"$error":"#DIV/0!"}},{"$f":"MAX(R50,U50,X50)","v":{"$error":"#DIV/0!"}},{"$f":"RANK(AO48,AO$48:AO$59)","v":{"$error":"#DIV/0!"}},{"$f":"Z50","v":0},{"$f":"RANK(AQ48,AQ$48:AQ$59)","v":1},{"$f":"(AL48*1000)+(AN48*100)+(AP48*10)+(AR48*1)","v":{"$error":"#DIV/0!"}},{"$f":"AS48","v":{"$error":"#DIV/0!"}},{"$f":"RANK(AT48,AT$48:AT$59,1)","v":{"$error":"#DIV/0!"}},{"$f":"RANK(AU48,AU$48:AU$59,1)","v":{"$error":"#DIV/0!"}}]
[null,null,null,null,null,null,null,null,null,null,null,null,null,null,null,null,{"$f":"IF(R48<1,0.01,IF(P48>M51,2,IF(P48=M51,1,0)))","v":0.01},null,null,{"$f":"IF(U48<1,0.01,IF(S48>M54,2,IF(S48=M54,1,0)))","v":0.01},null,null,{"$f":"IF(X48<1,0.01,IF(V48>M57,2,IF(V48=M57,1,0)))","v":0.01},null,null,null,{"$f":"W49+T49+Q49","v":0.03}]
[null,null,null,"Pts","Rep","Série",null,null,null,null,null,null,null,null,null,{"$f":"F63","v":0},null,{"$f":"P48/R48","v":{"$error":"#DIV/0!"}},{"$f":"F57","v":0},null,{"$f":"S48/U48","v":{"$error":"#DIV/0!"}},{"$f":"F51","v":0},null,{"$f":"V48/X48","v":{"$error":"#DIV/0!"}},null,{"$f":"MAX(V50,S50,P50)","v":0},null,{"$f":"Z48/AB48","v":{"$error":"#DIV/0!"}}]
[null,"Tour 1",{"$f":"C38","v":0},null,null,null,null,null,null,null,{"$f":"C39","v":0},null,{"$f":"D64","v":0},null,{"$f":"E63","v":0},"M",null,null,{"$f":"D54","v":0},null,{"$f":"E54","v":0},{"$f":"D61","v":0},null,{"$f":"E60","v":0},null,{"$f":"M51+S51+V51","v":0},null,{"$f":"O51+U51+X51","v":0},{"$f":"AV51","v":{"$error":"#DIV/0!"}},null,null,null,null,null,null,null,{"$f":"AA52","v":0.03},{"$f":"RANK(AK51,AK$48:AK$59,0)","v":1},{"$f":"AB53","v":{"$error":"#DIV/0!"}},{"$f":"RANK(AM51,AM$48:AM$59,0)","v":{"$error":"#DIV/0!"}},{"$f":"MAX(R53,U53,X53)","v":{"$error":"#DIV/0!"}},{"$f":"RANK(AO51,AO$48:AO$59)","v":{"$error":"#DIV/0!"}},{"$f":"Z53","v":0},{"$f":"RANK(AQ51,AQ$48:AQ$59)","v":1},{"$f":"(AL51*1000)+(AN51*100)+(AP51*10)+(AR51*1)","v":{"$error":"#DIV/0!"}},{"$f":"AS51","v":{"$error":"#DIV/0!"}},{"$f":"RANK(AT51,AT$48:AT$59,1)","v":{"$error":"#DIV/0!"}},{"$f":"RANK(AU51,AU$48:AU$59,1)","v":{"$error":"#DIV/0!"}}]
[null,null,{"$f":"C41","v":0},null,null,null,null,null,null,null,null,null,null,{"$f":"IF(R48>0,2-Q49,0.01)","v":0.01},null,null,null,null,null,{"$f":"IF(U51<1,0.01,IF(S51>P54,2,IF(S51=P54,1,0)))","v":0.01},null,null,{"$f":"IF(X51<1,0.01,IF(V51>P57,2,IF(V51=P57,1,0)))","v":0.01},null,null,null,{"$f":"N52+T52+W52","v":0.03}]
[null,null,null,null,null,null,null,null,null,null,null,null,{"$f":"F64","v":0},null,{"$f":"M51/O51","v":{"$error":"#DIV/0!"}},null,null,null,{"$f":"F54","v":0},null,{"$f":"S51/U51","v":{"$error":"#DIV/0!"}},{"$f":"F61","v":0},null,{"$f":"V51/X51","v":{"$error":"#DIV/0!"}},null,{"$f":"MAXA(S53,V53,M53)","v":0},null,{"$f":"Z51/AB51","v":{"$error":"#DIV/0!"}}]
[null,"Tour 2",{"$f":"C39","v":0},null,null,null,null,null,null,null,{"$f":"C40","v":0},null,{"$f":"D58","v":0},null,{"$f":"E57","v":0},{"$f":"D55","v":0},null,{"$f":"E54","v":0},"B",null,null,{"$f":"D66","v":0},null,{"$f":"E66","v":0},null,{"$f":"M54+P54+V54","v":0},null,{"$f":"O54+U54+X54","v":0},{"$f":"AV54","v":{"$error":"#DIV/0!"}},null,null,null,null,null,null,null,{"$f":"AA55","v":0.02},{"$f":"RANK(AK54,AK$48:AK$59,0)","v":4},{"$f":"AB56","v":{"$error":"#DIV/0!"}},{"$f":"RANK(AM54,AM$48:AM$59,0)","v":{"$error":"#DIV/0!"}},{"$f":"MAX(R56,U56,X56)","v":{"$error":"#DIV/0!"}},{"$f":"RANK(AO54,AO$48:AO$59)","v":{"$error":"#DIV/0!"}},{"$f":"Z56","v":0},{"$f":"RANK(AQ54,AQ$48:AQ$59)","v":1},{"$f":"(AL54*1000)+(AN54*100)+(AP54*10)+(AR54*1)","v":{"$error":"#DIV/0!"}},{"$f":"AS54","v":{"$error":"#DIV/0!"}},{"$f":"RANK(AT54,AT$48:AT$59,1)","v":{"$error":"#DIV/0!"}},{"$f":"RANK(AU54,AU$48:AU$59,1)","v":{"$error":"#DIV/0!"}}]
[null,null,{"$f":"C40","v":0},null,null,null,null,null,null,null,null,null,null,{"$f":"IF(U48>0,2-T49,0.01)","v":0.01},null,null,{"$f":"IF(U51>0,2-T52,0.01)","v":0.01},null,null,null,null,null,{"$f":"IF(X54<1,0.01,IF(V54>S57,2,IF(V54=S57,1,0)))","v":0.01},null,null,null,{"$f":"N55+T55+W55","v":0.02}]
[null,null,null,null,null,null,null,null,null,null,null,null,{"$f":"F58","v":0},null,{"$f":"M54/O54","v":{"$error":"#DIV/0!"}},{"$f":"F55","v":0},null,{"$f":"P54/R54","v":{"$error":"#DIV/0!"}},null,null,null,{"$f":"F66","v":0},null,{"$f":"V54/X54","v":{"$error":"#DIV/0!"}},null,{"$f":"MAXA(V56,P56,M56)","v":0},null,{"$f":"Z54/AB54","v":{"$error":"#DIV/0!"}}]
[null,"Tour 3",{"$f":"C38","v":0},null,null,null,null,null,null,null,{"$f":"C41","v":0},null,{"$f":"D52","v":0},null,{"$f":"E51","v":0},{"$f":"D60","v":0},null,{"$f":"E60","v":0},{"$f":"D67","v":0},null,{"$f":"E66","v":0},null,null,null,null,{"$f":"S57+V57+Y57","v":0},null,{"$f":"U57+R57+O57","v":0},{"$f":"AV57","v":{"$error":"#DIV/0!"}},null,null,null,null,null,null,null,{"$f":"AA58","v":0.03},{"$f":"RANK(AK57,AK$48:AK$59,0)","v":1},{"$f":"AB59","v":{"$error":"#DIV/0!"}},{"$f":"RANK(AM57,AM$48:AM$59,0)","v":{"$error":"#DIV/0!"}},{"$f":"MAX(R59,U59,X59)","v":{"$error":"#DIV/0!"}},{"$f":"RANK(AO57,AO$48:AO$59)","v":{"$error":"#DIV/0!"}},{"$f":"Z59","v":0},{"$f":"RANK(AQ57,AQ$48:AQ$59)","v":1},{"$f":"(AL57*1000)+(AN57*100)+(AP57*10)+(AR57*1)","v":{"$error":"#DIV/0!"}},{"$f":"AS57","v":{"$error":"#DIV/0!"}},{"$f":"RANK(AT57,AT$48:AT$59,1)","v":{"$error":"#DIV/0!"}},{"$f":"RANK(AU57,AU$48:AU$59,1)","v":{"$error":"#DIV/0!"}}]
[null,null,{"$f":"C40","v":0},null,null,null,null,null,null,null,null,null,null,{"$f":"IF(X48>0,2-W49,0.01)","v":0.01},null,null,{"$f":"IF(X51>0,2-W52,0.01)","v":0.01},null,null,{"$f":"IF(X54>0,2-W55,0.01)","v":0.01},null,null,null,null,null,null,{"$f":"N58+Q58+T58","v":0.03}]
[null,null,null,null,null,null,null,null,null,null,null,null,{"$f":"F52","v":0},null,{"$f":"M57/O57","v":{"$error":"#DIV/0!"}},{"$f":"F60","v":0},null,{"$f":"P57/R57","v":{"$error":"#DIV/0!"}},{"$f":"F67","v":0},null,{"$f":"S57/U57","v":{"$error":"#DIV/0!"}},null,null,null,null,{"$f":"MAXA(S59,V59,Y59)","v":0},null,{"$f":"Z57/AB57","v":{"$error":"#DIV/0!"}}]
[null,"Tour 4",{"$f":"C41","v":0}]
[null,null,{"$f":"C39","v":0}]
[]
[null,"Tour 5",{"$f":"C38","v":0}]
[null,null,{"$f":"C39","v":0}]
[]
[null,"Tour 6",{"$f":"C40","v":0}]
[null,null,{"$f":"C41","v":0}]
[]
[null,"Joueur 1",{"$f":"'Saisie des joueurs'!L20","v":0}]
[null,"Joueur 2",{"$f":"'Saisie des joueurs'!L23","v":0}]
[null,"Joueur 3",{"$f":"'Saisie des joueurs'!L28","v":0}]
[null,"Joueur 4",{"$f":"'Saisie des joueurs'!L31","v":0}]
[]
[]
[null,"SAISIE DES RESULTATS",null,null,null,null,null,null,null,null,null,null,{"$f":"C69","v":0},null,null,{"$f":"C70","v":0},null,null,{"$f":"C71","v":0},null,null,{"$f":"C72","v":0},null,null,null,"TOTAUX",null,null,"CLASSEMENT"]
[]
[null,null,null,null,null,null,null,null,null,null,null,null,null,null,null,null,null,null,null,null,null,null,null,null,null,null,null,null,null,null,null,null,null,null,null,null,"Classement",null,"Classement",null,"Classement",null,"Classement",null,"Classement",null,"GENERAL","RANG"]
[null,null,"POULE C",null,null,null,null,null,null,null,null,null,null,null,null,null,null,null,null,null,null,null,null,null,null,null,null,null,null,null,null,null,null,null,null,null,"Point-Match","CLS-M","Moy-Gen","CLS-G","Moy-Part","CLS-P","M-Series","CLS-S","MGPS","CLS","CLS"]
[null,null,null,null,null,null,null,null,null,null,{"$f":"C69","v":0},null,"L",null,null,{"$f":"D94","v":0},null,{"$f":"E94","v":0},{"$f":"D88","v":0},null,{"$f":"E88","v":0},{"$f":"D82","v":0},null,{"$f":"E82","v":0},null,{"$f":"P79+S79+V79","v":0},null,{"$f":"R79+U79+X79","v":0},{"$f":"AV79","v":{"$error":"#DIV/0!"}},null,null,null,null,null,null,null,{"$f":"AA80","v":0.03},{"$f":"RANK(AK79,AK$79:AK$90,0)","v":1},{"$f":"AB81","v":{"$error":"#DIV/0!"}},{"$f":"RANK(AM79,AM$48:AM$59,0)","v":{"$error":"#DIV/0!"}},{"$f":"MAX(R81,U81,X81)","v":{"$error":"#DIV/0!"}},{"$f":"RANK(AO79,AO$79:AO$90)","v":{"$error":"#DIV/0!"}},{"$f":"Z81","v":0},{"$f":"RANK(AQ79,AQ$79:AQ$90)","v":1},{"$f":"(AL79*1000)+(AN79*100)+(AP79*10)+(AR79*1)","v":{"$error":"#DIV/0!"}},{"$f":"AS79","v":{"$error":"#DIV/0!"}},{"$f":"RANK(AT79,AT$79:AT$90,1)","v":{"$error":"#DIV/0!"}},{"$f":"RANK(AU79,AU$79:AU$90,1)","v":{"$error":"#DIV/0!"}}]
[null,null,null,null,null,null,null,null,null,null,null,null,null,null,null,null,{"$f":"IF(R79<1,0.01,IF(P79>M82,2,IF(P79=M82,1,0)))","v":0.01},null,null,{"$f":"IF(U79<1,0.01,IF(S79>M85,2,IF(S79=M85,1,0)))","v":0.01},null,null,{"$f":"IF(X79<1,0.01,IF(V79>M88,2,IF(V79=M88,1,0)))","v":0.01},null,null,null,{"$f":"W80+T80+Q80","v":0.03}]
[null,null,null,"Pts","Rep","Série",null,null,null,null,null,null,null,null,null,{"$f":"F94","v":0},null,{"$f":"P79/R79","v":{"$error":"#DIV/0!"}},{"$f":"F88","v":0},null,{"$f":"S79/U79","v":{"$error":"#DIV/0!"}},{"$f":"F82","v":0},null,{"$f":"V79/X79","v":{"$error":"#DIV/0!"}},null,{"$f":"MAX(V81,S81,P81)","v":0},null,{"$f":"Z79/AB79","v":{"$error":"#DIV/0!"}}]
[null,"Tour 1",{"$f":"C69","v":0},null,null,null,null,null,null,null,{"$f":"C70","v":0},null,{"$f":"D95","v":0},null,{"$f":"E94","v":0},"M",null,null,{"$f":"D85","v":0},null,{"$f":"E85","v":0},{"$f":"D92","v":0},null,{"$f":"E91","v":0},null,{"$f":"M82+S82+V82","v":0},null,{"$f":"O82+U82+X82","v":0},{"$f":"AV82","v":{"$error":"#DIV/0!"}},null,null,null,null,null,null,null,{"$f":"AA83","v":0.03},{"$f":"RANK(AK82,AK$79:AK$90,0)","v":1},{"$f":"AB84","v":{"$error":"#DIV/0!"}},{"$f":"RANK(AM82,AM$48:AM$59,0)","v":{"$error":"#DIV/0!"}},{"$f":"MAX(R84,U84,X84)","v":{"$error":"#DIV/0!"}},{"$f":"RANK(AO82,AO$79:AO$90)","v":{"$error":"#DIV/0!"}},{"$f":"Z84","v":0},{"$f":"RANK(AQ82,AQ$79:AQ$90)","v":1},{"$f":"(AL82*1000)+(AN82*100)+(AP82*10)+(AR82*1)","v":{"$error":"#DIV/0!"}},{"$f":"AS82","v":{"$error":"#DIV/0!"}},{"$f":"RANK(AT82,AT$79:AT$90,1)","v":{"$error":"#DIV/0!"}},{"$f":"RANK(AU82,AU$79:AU$90,1)","v":{"$error":"#DIV/0!"}}]
[null,null,{"$f":"C72","v":0},null,null,null,null,null,null,null,null,null,null,{"$f":"IF(R79>0,2-Q80,0.01)","v":0.01},null,null,null,null,null,{"$f":"IF(U82<1,0.01,IF(S82>P85,2,IF(S82=P85,1,0)))","v":0.01},null,null,{"$f":"IF(X82<1,0.01,IF(V82>P88,2,IF(V82=P88,1,0)))","v":0.01},null,null,null,{"$f":"N83+T83+W83","v":0.03}]
[null,null,null,null,null,null,null,null,null,null,null,null,{"$f":"F95","v":0},null,{"$f":"M82/O82","v":{"$error":"#DIV/0!"}},null,null,null,{"$f":"F85","v":0},null,{"$f":"S82/U82","v":{"$error":"#DIV/0!"}},{"$f":"F92","v":0},null,{"$f":"V82/X82","v":{"$error":"#DIV/0!"}},null,{"$f":"MAXA(S84,V84,M84)","v":0},null,{"$f":"Z82/AB82","v":{"$error":"#DIV/0!"}}]
[null,"Tour 2",{"$f":"C70","v":0},null,null,null,null,null,null,null,{"$f":"C71","v":0},null,{"$f":"D89","v":0},null,{"$f":"E88","v":0},{"$f":"D86","v":0},null,{"$f":"E85","v":0},"B",null,null,{"$f":"D97","v":0},null,{"$f":"E97","v":0},null,{"$f":"M85+P85+V85","v":0},null,{"$f":"O85+U85+X85","v":0},{"$f":"AV85","v":{"$error":"#DIV/0!"}},null,null,null,null,null,null,null,{"$f":"AA86","v":0.02},{"$f":"RANK(AK85,AK$79:AK$90,0)","v":4},{"$f":"AB87","v":{"$error":"#DIV/0!"}},{"$f":"RANK(AM85,AM$48:AM$59,0)","v":{"$error":"#DIV/0!"}},{"$f":"MAX(R87,U87,X87)","v":{"$error":"#DIV/0!"}},{"$f":"RANK(AO85,AO$79:AO$90)","v":{"$error":"#DIV/0!"}},{"$f":"Z87","v":0},{"$f":"RANK(AQ85,AQ$79:AQ$90)","v":1},{"$f":"(AL85*1000)+(AN85*100)+(AP85*10)+(AR85*1)","v":{"$error":"#DIV/0!"}},{"$f":"AS85","v":{"$error":"#DIV/0!"}},{"$f":"RANK(AT85,AT$79:AT$90,1)","v":{"$error":"#DIV/0!"}},{"$f":"RANK(AU85,AU$79:AU$90,1)","v":{"$error":"#DIV/0!"}}]
[null,null,{"$f":"C71","v":0},null,null,null,null,null,null,null,null,null,null,{"$f":"IF(U79>0,2-T80,0.01)","v":0.01},null,null,{"$f":"IF(U82>0,2-T83,0.01)","v":0.01},null,null,null,null,null,{"$f":"IF(X85<1,0.01,IF(V85>S88,2,IF(V85=S88,1,0)))","v":0.01},null,null,null,{"$f":"N86+T86+W86","v":0.02}]
[null,null,null,null,null,null,null,null,null,null,null,null,{"$f":"F89","v":0},null,{"$f":"M85/O85","v":{"$error":"#DIV/0!"}},{"$f":"F86","v":0},null,{"$f":"P85/R85","v":{"$error":"#DIV/0!"}},null,null,null,{"$f":"F97","v":0},null,{"$f":"V85/X85","v":{"$error":"#DIV/0!"}},null,{"$f":"MAXA(V87,P87,M87)","v":0},null,{"$f":"Z85/AB85","v":{"$error":"#DIV/0!"}}]
[null,"Tour 3",{"$f":"C69","v":0},null,null,null,null,null,null,null,{"$f":"C72","v":0},null,{"$f":"D83","v":0},null,{"$f":"E82","v":0},{"$f":"D91","v":0},null,{"$f":"E91","v":0},{"$f":"D98","v":0},null,{"$f":"E97","v":0},null,null,null,null,{"$f":"S88+V88+Y88","v":0},null,{"$f":"U88+R88+O88","v":0},{"$f":"AV88","v":{"$error":"#DIV/0!"}},null,null,null,null,null,null,null,{"$f":"AA89","v":0.03},{"$f":"RANK(AK88,AK$79:AK$90,0)","v":1},{"$f":"AB90","v":{"$error":"#DIV/0!"}},{"$f":"RANK(AM88,AM$48:AM$59,0)","v":{"$error":"#DIV/0!"}},{"$f":"MAX(R90,U90,X90)","v":{"$error":"#DIV/0!"}},{"$f":"RANK(AO88,AO$79:AO$90)","v":{"$error":"#DIV/0!"}},{"$f":"Z90","v":0},{"$f":"RANK(AQ88,AQ$79:AQ$90)","v":1},{"$f":"(AL88*1000)+(AN88*100)+(AP88*10)+(AR88*1)","v":{"$error":"#DIV/0!"}},{"$f":"AS88","v":{"$error":"#DIV/0!"}},{"$f":"RANK(AT88,AT$79:AT$90,1)","v":{"$error":"#DIV/0!"}},{"$f":"RANK(AU88,AU$79:AU$90,1)","v":{"$error":"#DIV/0!"}}]
[null,null,{"$f":"C71","v":0},null,null,null,null,null,null,null,null,null,null,{"$f":"IF(X79>0,2-W80,0.01)","v":0.01},null,null,{"$f":"IF(X82>0,2-W83,0.01)","v":0.01},null,null,{"$f":"IF(X85>0,2-W86,0.01)","v":0.01},null,null,null,null,null,null,{"$f":"N89+Q89+T89","v":0.03}]
[null,null,null,null,null,null,null,null,null,null,null,null,{"$f":"F83","v":0},null,{"$f":"M88/O88","v":{"$error":"#DIV/0!"}},{"$f":"F91","v":0},null,{"$f":"P88/R88","v":{"$error":"#DIV/0!"}},{"$f":"F98","v":0},null,{"$f":"S88/U88","v":{"$error":"#DIV/0!"}},null,null,null,null,{"$f":"MAXA(S90,V90,Y90)","v":0},null,{"$f":"Z88/AB88","v":{"$error":"#DIV/0!"}}]
[null,"Tour 4",{"$f":"C72","v":0}]
[null,null,{"$f":"C70","v":0}]
[]
[null,"Tour 5",{"$f":"C69","v":0}]
[null,null,{"$f":"C70","v":0}]
[]
[null,"Tour 6",{"$f":"C71","v":0}]
[null,null,{"$f":"C72","v":0}]
[]
[null,"Joueur 1",{"$f":"'Saisie des joueurs'!L21","v":0}]
[null,"Joueur 2",{"$f":"'Saisie des joueurs'!L22","v":0}]
[null,"Joueur 3",{"$f":"'Saisie des joueurs'!L29","v":0}]
[null,"Joueur 4",{"$f":"'Saisie des joueurs'!L30","v":0}]
[]
[]
[null,"SAISIE DES RESULTATS",null,null,null,null,null,null,null,null,null,null,{"$f":"C100","v":0},null,null,{"$f":"C101","v":0},null,null,{"$f":"C102","v":0},null,null,{"$f":"C103","v":0},null,null,null,"TOTAUX",null,null,"CLASSEMENT"]
[]
[null,null,null,null,null,null,null,null,null,null,null,null,null,null,null,null,null,null,null,null,null,null,null,null,null,null,null,null,null,null,null,null,null,null,null,null,"Classement",null,"Classement",null,"Classement",null,"Classement",null,"Classement",null,"GENERAL","RANG"]
[null,null,"POULE D",null,null,null,null,null,null,null,null,null,null,null,null,null,null,null,null,null,null,null,null,null,null,null,null,null,null,null,null,null,null,null,null,null,"Point-Match","CLS-M","Moy-Gen","CLS-G","Moy-Part","CLS-P","M-Series","CLS-S","MGPS","CLS","CLS"]
[null,null,null,null,null,null,null,null,null,null,{"$f":"C100","v":0},null,"L",null,null,{"$f":"D125","v":0},null,{"$f":"E125","v":0},{"$f":"D119","v":0},null,{"$f":"E119","v":0},{"$f":"D113","v":0},null,{"$f":"E113","v":0},null,{"$f":"P110+S110+V110","v":0},null,{"$f":"R110+U110+X110","v":0},{"$f":"AV110","v":{"$error":"#DIV/0!"}},null,null,null,null,null,null,null,{"$f":"AA111","v":0.03},{"$f":"RANK(AK110,AK$110:AK$121,0)","v":1},{"$f":"AB112","v":{"$error":"#DIV/0!"}},{"$f":"RANK(AM110,AM$110:AM$121,0)","v":{"$error":"#DIV/0!"}},{"$f":"MAX(R112,U112,X112)","v":{"$error":"#DIV/0!"}},{"$f":"RANK(AO110,AO$110:AO$121)","v":{"$error":"#DIV/0!"}},{"$f":"Z112","v":0},{"$f":"RANK(AQ110,AQ$110:AQ$121)","v":1},{"$f":"(AL110*1000)+(AN110*100)+(AP110*10)+(AR110*1)","v":{"$error":"#DIV/0!"}},{"$f":"AS110","v":{"$error":"#DIV/0!"}},{"$f":"RANK(AT110,AT$110:AT$121,1)","v":{"$error":"#DIV/0!"}},{"$f":"RANK(AU110,AU$110:AU$121,1)","v":{"$error":"#DIV/0!"}}]
[null,null,null,null,null,null,null,null,null,null,null,null,null,null,null,null,{"$f":"IF(R110<1,0.01,IF(P110>M113,2,IF(P110=M113,1,0)))","v":0.01},null,null,{"$f":"IF(U110<1,0.01,IF(S110>M116,2,IF(S110=M116,1,0)))","v":0.01},null,null,{"$f":"IF(X110<1,0.01,IF(V110>M119,2,IF(V110=M119,1,0)))","v":0.01},null,null,null,{"$f":"W111+T111+Q111","v":0.03}]
[null,null,null,"Pts","Rep","Série",null,null,null,null,null,null,null,null,null,{"$f":"F125","v":0},null,{"$f":"P110/R110","v":{"$error":"#DIV/0!"}},{"$f":"F119","v":0},null,{"$f":"S110/U110","v":{"$error":"#DIV/0!"}},{"$f":"F113","v":0},null,{"$f":"V110/X110","v":{"$error":"#DIV/0!"}},null,{"$f":"MAX(V112,S112,P112)","v":0},null,{"$f":"Z110/AB110","v":{"$error":"#DIV/0!"}}]
[null,"Tour 1",{"$f":"C100","v":0},null,null,null,null,null,null,null,{"$f":"C101","v":0},null,{"$f":"D126","v":0},null,{"$f":"E125","v":0},"M",null,null,{"$f":"D116","v":0},null,{"$f":"E116","v":0},{"$f":"D123","v":0},null,{"$f":"E122","v":0},null,{"$f":"M113+S113+V113","v":0},null,{"$f":"O113+U113+X113","v":0},{"$f":"AV113","v":{"$error":"#DIV/0!"}},null,null,null,null,null,null,null,{"$f":"AA114","v":0.03},{"$f":"RANK(AK113,AK$110:AK$121,0)","v":1},{"$f":"AB115","v":{"$error":"#DIV/0!"}},{"$f":"RANK(AM113,AM$110:AM$121,0)","v":{"$error":"#DIV/0!"}},{"$f":"MAX(R115,U115,X115)","v":{"$error":"#DIV/0!"}},{"$f":"RANK(AO113,AO$110:AO$121)","v":{"$error":"#DIV/0!"}},{"$f":"Z115","v":0},{"$f":"RANK(AQ113,AQ$110:AQ$121)","v":1},{"$f":"(AL113*1000)+(AN113*100)+(AP113*10)+(AR113*1)","v":{"$error":"#DIV/0!"}},{"$f":"AS113","v":{"$error":"#DIV/0!"}},{"$f":"RANK(AT113,AT$110:AT$121,1)","v":{"$error":"#DIV/0!"}},{"$f":"RANK(AU113,AU$110:AU$121,1)","v":{"$error":"#DIV/0!"}}]
[null,null,{"$f":"C103","v":0},null,null,null,null,null,null,null,null,null,null,{"$f":"IF(R110>0,2-Q111,0.01)","v":0.01},null,null,null,null,null,{"$f":"IF(U113<1,0.01,IF(S113>P116,2,IF(S113=P116,1,0)))","v":0.01},null,null,{"$f":"IF(X113<1,0.01,IF(V113>P119,2,IF(V113=P119,1,0)))","v":0.01},null,null,null,{"$f":"N114+T114+W114","v":0.03}]
[null,null,null,null,null,null,null,null,null,null,null,null,{"$f":"F126","v":0},null,{"$f":"M113/O113","v":{"$error":"#DIV/0!"}},null,null,null,{"$f":"F116","v":0},null,{"$f":"S113/U113","v":{"$error":"#DIV/0!"}},{"$f":"F123","v":0},null,{"$f":"V113/X113","v":{"$error":"#DIV/0!"}},null,{"$f":"MAXA(S115,V115,M115)","v":0},null,{"$f":"Z113/AB113","v":{"$error":"#DIV/0!"}}]
[null,"Tour 2",{"$f":"C101","v":0},null,null,null,null,null,null,null,{"$f":"C102","v":0},null,{"$f":"D120","v":0},null,{"$f":"E119","v":0},{"$f":"D117","v":0},null,{"$f":"E116","v":0},"B",null,null,{"$f":"D128","v":0},null,{"$f":"E128","v":0},null,{"$f":"M116+P116+V116","v":0},null,{"$f":"O116+U116+X116","v":0},{"$f":"AV116","v":{"$error":"#DIV/0!"}},null,null,null,null,null,null,null,{"$f":"AA117","v":0.02},{"$f":"RANK(AK116,AK$110:AK$121,0)","v":4},{"$f":"AB118","v":{"$error":"#DIV/0!"}},{"$f":"RANK(AM116,AM$110:AM$121,0)","v":{"$error":"#DIV/0!"}},{"$f":"MAX(R118,U118,X118)","v":{"$error":"#DIV/0!"}},{"$f":"RANK(AO116,AO$110:AO$121)","v":{"$error":"#DIV/0!"}},{"$f":"Z118","v":0},{"$f":"RANK(AQ116,AQ$110:AQ$121)","v":1},{"$f":"(AL116*1000)+(AN116*100)+(AP116*10)+(AR116*1)","v":{"$error":"#DIV/0!"}},{"$f":"AS116","v":{"$error":"#DIV/0!"}},{"$f":"RANK(AT116,AT$110:AT$121,1)","v":{"$error":"#DIV/0!"}},{"$f":"RANK(AU116,AU$110:AU$121,1)","v":{"$error":"#DIV/0!"}}]
[null,null,{"$f":"C102","v":0},null,null,null,null,null,null,null,null,null,null,{"$f":"IF(U110>0,2-T111,0.01)","v":0.01},null,null,{"$f":"IF(U113>0,2-T114,0.01)","v":0.01},null,null,null,null,null,{"$f":"IF(X116<1,0.01,IF(V116>S119,2,IF(V116=S119,1,0)))","v":0.01},null,null,null,{"$f":"N117+T117+W117","v":0.02}]
[null,null,null,null,null,null,null,null,null,null,null,null,{"$f":"F120","v":0},null,{"$f":"M116/O116","v":{"$error":"#DIV/0!"}},{"$f":"F117","v":0},null,{"$f":"P116/R116","v":{"$error":"#DIV/0!"}},null,null,null,{"$f":"F128","v":0},null,{"$f":"V116/X116","v":{"$error":"#DIV/0!"}},null,{"$f":"MAXA(V118,P118,M118)","v":0},null,{"$f":"Z116/AB116","v":{"$error":"#DIV/0!"}}]
[null,"Tour 3",{"$f":"C100","v":0},null,null,null,null,null,null,null,{"$f":"C103","v":0},null,{"$f":"D113","v":0},null,{"$f":"E113","v":0},{"$f":"D122","v":0},null,{"$f":"E122","v":0},{"$f":"D129","v":0},null,{"$f":"E128","v":0},null,null,null,null,{"$f":"S119+V119+Y119","v":0},null,{"$f":"U119+R119+O119","v":0},{"$f":"AV119","v":{"$error":"#DIV/0!"}},null,null,null,null,null,null,null,{"$f":"AA120","v":0.03},{"$f":"RANK(AK119,AK$110:AK$121,0)","v":1},{"$f":"AB121","v":{"$error":"#DIV/0!"}},{"$f":"RANK(AM119,AM$110:AM$121,0)","v":{"$error":"#DIV/0!"}},{"$f":"MAX(R121,U121,X121)","v":{"$error":"#DIV/0!"}},{"$f":"RANK(AO119,AO$110:AO$121)","v":{"$error":"#DIV/0!"}},{"$f":"Z121","v":0},{"$f":"RANK(AQ119,AQ$110:AQ$121)","v":1},{"$f":"(AL119*1000)+(AN119*100)+(AP119*10)+(AR119*1)","v":{"$error":"#DIV/0!"}},{"$f":"AS119","v":{"$error":"#DIV/0!"}},{"$f":"RANK(AT119,AT$110:AT$121,1)","v":{"$error":"#DIV/0!"}},{"$f":"RANK(AU119,AU$110:AU$121,1)","v":{"$error":"#DIV/0!"}}]
[null,null,{"$f":"C102","v":0},null,null,null,null,null,null,null,null,null,null,{"$f":"IF(X110>0,2-W111,0.01)","v":0.01},null,null,{"$f":"IF(X113>0,2-W114,0.01)","v":0.01},null,null,{"$f":"IF(X116>0,2-W117,0.01)","v":0.01},null,null,null,null,null,null,{"$f":"N120+Q120+T120","v":0.03}]
[null,null,null,null,null,null,null,null,null,null,null,null,{"$f":"F114","v":0},null,{"$f":"M119/O119","v":{"$error":"#DIV/0!"}},{"$f":"F122","v":0},null,{"$f":"P119/R119","v":{"$error":"#DIV/0!"}},{"$f":"F129","v":0},null,{"$f":"S119/U119","v":{"$error":"#DIV/0!"}},null,null,null,null,{"$f":"MAXA(S121,V121,Y121)","v":0},null,{"$f":"Z119/AB119","v":{"$error":"#DIV/0!"}}]
[null,"Tour 4",{"$f":"C103","v":0}]
[null,null,{"$f":"C101","v":0}]
[]
[null,"Tour 5",{"$f":"C100","v":0}]
[null,null,{"$f":"C101","v":0}]
[]
[null,"Tour 6",{"$f":"C102","v":0}]
[null,null,{"$f":"C103","v":0}]

{"sheet":"16JOUEURS","index":30,"n_rows":130,"n_cols":42,"rows_kept":130,"cut":false,"hidden":true,"merged":[[6,2,6,5],[7,2,7,5],[8,2,8,5],[9,2,9,5],[12,1,13,5],[12,12,15,14],[15,2,16,5],[1,1,3,13],[12,15,15,17],[12,18,15,20],[12,21,15,23],[13,10,15,11],[16,40,18,40],[16,41,18,41],[16,35,18,35],[16,36,18,36],[16,37,18,37],[16,38,18,38],[16,39,18,39],[13,25,15,27],[13,28,15,28],[14,30,14,31],[14,32,14,33],[14,34,14,35],[14,36,14,37],[14,38,14,39],[14,41,15,41],[16,10,18,11],[16,12,18,14],[16,28,18,28],[16,30,18,30],[16,31,18,31],[16,32,18,32],[16,33,18,33],[19,31,21,31],[19,32,21,32],[22,32,24,32],[22,33,24,33],[22,34,24,34],[16,34,18,34],[19,1,20,1],[19,4,20,4],[19,10,21,11],[19,15,21,17],[19,28,21,28],[19,30,21,30],[22,1,23,1],[22,4,23,4],[22,10,24,11],[22,18,24,20],[22,28,24,28],[22,30,24,30],[22,31,24,31],[22,38,24,38],[22,39,24,39],[22,40,24,40],[22,41,24,41],[22,35,24,35],[22,36,24,36],[22,37,24,37],[19,33,21,33],[19,34,21,34],[19,35,21,35],[19,36,21,36],[19,37,21,37],[19,38,21,38],[19,39,21,39],[19,40,21,40],[19,41,21,41],[25,37,27,37],[25,38,27,38],[25,39,27,39],[25,40,27,40],[25,41,27,41],[28,1,29,1],[28,4,29,4],[29,12,29,23],[25,31,27,31],[25,32,27,32],[25,33,27,33],[25,34,27,34],[25,35,27,35],[25,36,27,36],[25,1,26,1],[25,4,26,4],[25,10,27,11],[25,21,27,23],[25,28,27,28],[25,30,27,30],[31,1,32,1],[31,4,32,4],[34,1,35,1],[34,4,35,4],[38,2,38,5],[39,2,39,5],[48,41,50,41],[48,35,50,35],[48,36,50,36],[48,37,50,37],[40,2,40,5],[41,2,41,5],[44,1,45,5],[44,12,47,14],[44,15,47,17],[44,18,47,20],[45,28,47,28],[46,30,46,31],[46,32,46,33],[48,38,50,38],[48,39,50,39],[48,40,50,40],[46,41,47,41],[47,2,48,5],[48,10,50,11],[48,12,50,14],[48,28,50,28],[48,30,50,30],[48,31,50,31],[44,21,47,23],[45,10,47,11],[45,25,47,27],[48,32,50,32],[48,33,50,33],[48,34,50,34],[46,34,46,35],[46,36,46,37],[46,38,46,39],[54,39,56,39],[54,40,56,40],[54,41,56,41],[54,30,56,30],[54,31,56,31],[51,36,53,36],[54,36,56,36],[54,1,55,1],[54,4,55,4],[54,10,56,11],[54,18,56,20],[54,28,56,28],[51,31,53,31],[51,30,53,30],[57,39,59,39],[57,40,59,40],[57,1,58,1],[57,4,58,4],[57,10,59,11],[57,21,59,23],[57,28,59,28],[57,30,59,30],[51,1,52,1],[51,4,52,4],[51,10,53,11],[51,15,53,17],[51,28,53,28],[51,32,53,32],[51,33,53,33],[51,34,53,34],[51,35,53,35],[57,41,59,41],[51,37,53,37],[51,38,53,38],[51,39,53,39],[51,40,53,40],[51,41,53,41],[54,37,56,37],[54,38,56,38],[54,32,56,32],[54,33,56,33],[54,34,56,34],[54,35,56,35],[57,37,59,37],[57,38,59,38],[57,34,59,34],[57,35,59,35],[57,36,59,36],[57,33,59,33],[79,10,81,11],[79,12,81,14],[79,28,81,28],[79,30,81,30],[60,1,61,1],[60,4,61,4],[61,12,61,23],[57,31,59,31],[57,32,59,32],[63,1,64,1],[63,4,64,4],[66,1,67,1],[66,4,67,4],[79,33,81,33],[79,34,81,34],[77,34,77,35],[77,36,77,37],[69,2,69,5],[70,2,70,5],[79,41,81,41],[79,35,81,35],[79,36,81,36],[79,37,81,37],[71,2,71,5],[72,2,72,5],[75,1,76,5],[75,12,78,14],[75,15,78,17],[75,18,78,20],[76,28,78,28],[77,30,77,31],[77,32,77,33],[79,38,81,38],[79,39,81,39],[79,40,81,40],[77,41,78,41],[78,2,79,5],[82,31,84,31],[82,32,84,32],[82,33,84,33],[82,34,84,34],[82,35,84,35],[85,30,87,30],[85,31,87,31],[77,38,77,39],[82,1,83,1],[82,4,83,4],[82,10,84,11],[82,15,84,17],[82,28,84,28],[82,30,84,30],[82,36,84,36],[85,36,87,36],[85,37,87,37],[85,38,87,38],[85,39,87,39],[79,31,81,31],[75,21,78,23],[76,10,78,11],[76,25,78,27],[79,32,81,32],[88,41,90,41],[82,37,84,37],[82,38,84,38],[82,39,84,39],[82,40,84,40],[82,41,84,41],[85,41,87,41],[85,34,87,34],[85,35,87,35],[88,37,90,37],[88,38,90,38],[88,39,90,39],[88,40,90,40],[88,34,90,34],[88,35,90,35],[88,36,90,36],[85,40,87,40],[94,1,95,1],[94,4,95,4],[97,1,98,1],[97,4,98,4],[85,32,87,32],[85,33,87,33],[85,1,86,1],[85,4,86,4],[85,10,87,11],[85,18,87,20],[88,1,89,1],[88,4,89,4],[88,10,90,11],[88,21,90,23],[88,28,90,28],[88,30,90,30],[91,1,92,1],[91,4,92,4],[92,12,92,23],[88,31,90,31],[88,32,90,32],[88,33,90,33],[85,28,87,28],[100,2,100,5],[101,2,101,5],[102,2,102,5],[103,2,103,5],[106,1,107,5],[109,2,110,5],[113,33,115,33],[113,34,115,34],[113,35,115,35],[113,1,114,1],[113,4,114,4],[106,12,109,14],[107,10,109,11],[107,25,109,27],[107,28,109,28],[108,30,108,31],[108,32,108,33],[113,32,115,32],[110,10,112,11],[110,12,112,14],[110,28,112,28],[110,30,112,30],[110,31,112,31],[110,32,112,32],[108,41,109,41],[106,15,109,17],[106,18,109,20],[106,21,109,23],[110,40,112,40],[110,41,112,41],[108,34,108,35],[108,36,108,37],[108,38,108,39],[110,35,112,35],[110,36,112,36],[110,37,112,37],[110,38,112,38],[110,39,112,39],[110,33,112,33],[110,34,112,34],[116,1,117,1],[116,4,117,4],[116,10,118,11],[116,18,118,20],[116,28,118,28],[116,30,118,30],[116,37,118,37],[116,38,118,38],[113,38,115,38],[113,37,115,37],[113,36,115,36],[116,31,118,31],[116,32,118,32],[116,33,118,33],[113,31,115,31],[113,10,115,11],[113,15,115,17],[113,28,115,28],[113,30,115,30],[116,39,118,39],[116,40,118,40],[116,41,118,41],[116,34,118,34],[116,35,118,35],[116,36,118,36],[113,40,115,40],[113,41,115,41],[113,39,115,39],[119,39,121,39],[119,40,121,40],[119,41,121,41],[122,1,123,1],[122,4,123,4],[123,12,123,23],[119,31,121,31],[119,32,121,32],[119,33,121,33],[119,34,121,34],[119,10,121,11],[119,21,121,23],[119,28,121,28],[119,30,121,30],[125,1,126,1],[125,4,126,4],[128,1,129,1],[128,4,129,4],[119,37,121,37],[119,38,121,38],[119,35,121,35],[119,36,121,36],[119,1,120,1],[119,4,120,4]]}
[]
[null,"LIGUE MÉDITERRANÉENNE DE BILLARD"]
[]
[]
[]
[]
[null,"Joueur 1",{"$f":"'Saisie des joueurs'!L18","v":0}]
[null,"Joueur 2",{"$f":"'Saisie des joueurs'!L25","v":0}]
[null,"Joueur 3",{"$f":"'Saisie des joueurs'!L26","v":0}]
[null,"Joueur 4",{"$f":"'Saisie des joueurs'!L33","v":0}]
[]
[]
[null,"SAISIE DES RESULTATS",null,null,null,null,null,null,null,null,null,null,{"$f":"C7","v":0},null,null,{"$f":"C8","v":0},null,null,{"$f":"C9","v":0},null,null,{"$f":"C10","v":0}]
[null,null,null,null,null,null,null,null,null,null,null,null,null,null,null,null,null,null,null,null,null,null,null,null,null,"TOTAUX",null,null,"CLASSEMENT"]
[null,null,null,null,null,null,null,null,null,null,null,null,null,null,null,null,null,null,null,null,null,null,null,null,null,null,null,null,null,null,"Classement",null,"Classement",null,"Classement",null,"Classement",null,"Classement",null,"GENERAL","RANG"]
[null,null,"POULE A",null,null,null,null,null,null,null,null,null,null,null,null,null,null,null,null,null,null,null,null,null,null,null,null,null,null,null,"Point-Match","CLS-M","Moy-Gen","CLS-G","Moy-Part","CLS-P","M-Series","CLS-S","MGPS","CLS","CLS"]
[null,null,null,null,null,null,null,null,null,null,{"$f":"C7","v":0},null,"L",null,null,{"$f":"D32","v":0},null,{"$f":"E32","v":0},{"$f":"D26","v":0},null,{"$f":"E26","v":0},{"$f":"D20","v":0},null,{"$f":"E20","v":0},null,{"$f":"P17+S17+V17","v":0},null,{"$f":"R17+U17+X17","v":0},{"$f":"AP17","v":{"$error":"#DIV/0!"}},null,{"$f":"AA18","v":0.03},{"$f":"RANK(AE17,AE$17:AE$28,0)","v":1},{"$f":"AB19","v":{"$error":"#DIV/0!"}},{"$f":"RANK(AG17,AG$17:AG$28,0)","v":{"$error":"#DIV/0!"}},{"$f":"MAX(R19,U19,X19)","v":{"$error":"#DIV/0!"}},{"$f":"RANK(AI17,AI$17:AI$28)","v":{"$error":"#DIV/0!"}},{"$f":"Z19","v":0},{"$f":"RANK(AK17,AK$17:AK$28)","v":1},{"$f":"(AF17*1000)+(AH17*100)+(AJ17*10)+(AL17*1)","v":{"$error":"#DIV/0!"}},{"$f":"AM17","v":{"$error":"#DIV/0!"}},{"$f":"RANK(AN17,AN$17:AN$28,1)","v":{"$error":"#DIV/0!"}},{"$f":"RANK(AO17,AO$17:AO$28,1)","v":{"$error":"#DIV/0!"}}]
[null,null,null,null,null,null,null,null,null,null,null,null,null,null,null,null,{"$f":"IF(R17<1,0.01,IF(P17>M20,2,IF(P17=M20,1,0)))","v":0.01},null,null,{"$f":"IF(U17<1,0.01,IF(S17>M23,2,IF(S17=M23,1,0)))","v":0.01},null,null,{"$f":"IF(X17<1,0.01,IF(V17>M26,2,IF(V17=M26,1,0)))","v":0.01},null,null,null,{"$f":"Q18+T18+W18","v":0.03}]
[null,null,null,"Pts","Rep","Série",null,null,null,null,null,null,null,null,null,{"$f":"F32","v":0},null,{"$f":"P17/R17","v":{"$error":"#DIV/0!"}},{"$f":"F26","v":0},null,{"$f":"S17/U17","v":{"$error":"#DIV/0!"}},{"$f":"F20","v":0},null,{"$f":"V17/X17","v":{"$error":"#DIV/0!"}},null,{"$f":"MAX(P19,S19,V19)","v":0},null,{"$f":"Z17/AB17","v":{"$error":"#DIV/0!"}}]
[null,"Tour 1",{"$f":"C7","v":0},null,null,null,null,null,null,null,{"$f":"C8","v":0},null,{"$f":"D33","v":0},null,{"$f":"E32","v":0},"M",null,null,{"$f":"D23","v":0},null,{"$f":"E23","v":0},{"$f":"D30","v":0},null,{"$f":"E29","v":0},null,{"$f":"M20+S20+V20","v":0},null,{"$f":"O20+U20+X20","v":0},{"$f":"AP20","v":{"$error":"#DIV/0!"}},null,{"$f":"AA21","v":0.03},{"$f":"RANK(AE20,AE$17:AE$28,0)","v":1},{"$f":"AB22","v":{"$error":"#DIV/0!"}},{"$f":"RANK(AG20,AG$17:AG$28,0)","v":{"$error":"#DIV/0!"}},{"$f":"MAX(O22,U22,X22)","v":{"$error":"#DIV/0!"}},{"$f":"RANK(AI20,AI$17:AI$28)","v":{"$error":"#DIV/0!"}},{"$f":"Z22","v":0},{"$f":"RANK(AK20,AK$17:AK$28)","v":1},{"$f":"(AF20*1000)+(AH20*100)+(AJ20*10)+(AL20*1)","v":{"$error":"#DIV/0!"}},{"$f":"AM20","v":{"$error":"#DIV/0!"}},{"$f":"RANK(AN20,AN$17:AN$28,1)","v":{"$error":"#DIV/0!"}},{"$f":"RANK(AO20,AO$17:AO$28,1)","v":{"$error":"#DIV/0!"}}]
[null,null,{"$f":"C10","v":0},null,null,null,null,null,null,null,null,null,null,{"$f":"IF(R17>0,2-Q18,0.01)","v":0.01},null,null,null,null,null,{"$f":"IF(U20<1,0.01,IF(S20>P23,2,IF(S20=P23,1,0)))","v":0.01},null,null,{"$f":"IF(X20<1,0.01,IF(V20>P26,2,IF(V20=P26,1,0)))","v":0.01},null,null,null,{"$f":"N21+T21+W21","v":0.03}]
[null,null,null,null,null,null,null,null,null,null,null,null,{"$f":"F33","v":0},null,{"$f":"M20/O20","v":{"$error":"#DIV/0!"}},null,null,null,{"$f":"F23","v":0},null,{"$f":"S20/U20","v":{"$error":"#DIV/0!"}},{"$f":"F30","v":0},null,{"$f":"V20/X20","v":{"$error":"#DIV/0!"}},null,{"$f":"MAXA(M22,S22,V22)","v":0},null,{"$f":"Z20/AB20","v":{"$error":"#DIV/0!"}}]
[null,"Tour 2",{"$f":"C8","v":0},null,null,null,null,null,null,null,{"$f":"C9","v":0},null,{"$f":"D27","v":0},null,{"$f":"E26","v":0},{"$f":"D24","v":0},null,{"$f":"E23","v":0},"B",null,null,{"$f":"D35","v":0},null,{"$f":"E35","v":0},null,{"$f":"M23+P23+V23","v":0},null,{"$f":"O23+R23+X23","v":0},{"$f":"AP23","v":{"$error":"#DIV/0!"}},null,{"$f":"AA24","v":0.03},{"$f":"RANK(AE23,AE$17:AE$28,0)","v":1},{"$f":"AB25","v":{"$error":"#DIV/0!"}},{"$f":"RANK(AG23,AG$17:AG$28,0)","v":{"$error":"#DIV/0!"}},{"$f":"MAX(O25,R25,X25)","v":{"$error":"#DIV/0!"}},{"$f":"RANK(AI23,AI$17:AI$28)","v":{"$error":"#DIV/0!"}},{"$f":"Z25","v":0},{"$f":"RANK(AK23,AK$17:AK$28)","v":1},{"$f":"(AF23*1000)+(AH23*100)+(AJ23*10)+(AL23*1)","v":{"$error":"#DIV/0!"}},{"$f":"AM23","v":{"$error":"#DIV/0!"}},{"$f":"RANK(AN23,AN$17:AN$28,1)","v":{"$error":"#DIV/0!"}},{"$f":"RANK(AO23,AO$17:AO$28,1)","v":{"$error":"#DIV/0!"}}]
[null,null,{"$f":"C9","v":0},null,null,null,null,null,null,null,null,null,null,{"$f":"IF(U17>0,2-T18,0.01)","v":0.01},null,null,{"$f":"IF(U20>0,2-T21,0.01)","v":0.01},null,null,null,null,null,{"$f":"IF(X23<1,0.01,IF(V23>S26,2,IF(V23=S26,1,0)))","v":0.01},null,null,null,{"$f":"N24+Q24+W24","v":0.03}]
[null,null,null,null,null,null,null,null,null,null,null,null,{"$f":"F27","v":0},null,{"$f":"M23/O23","v":{"$error":"#DIV/0!"}},{"$f":"F24","v":0},null,{"$f":"P23/R23","v":{"$error":"#DIV/0!"}},null,null,null,{"$f":"F35","v":0},null,{"$f":"V23/X23","v":{"$error":"#DIV/0!"}},null,{"$f":"MAXA(M25,P25,V25)","v":0},null,{"$f":"Z23/AB23","v":{"$error":"#DIV/0!"}}]
[null,"Tour 3",{"$f":"C7","v":0},null,null,null,null,null,null,null,{"$f":"C10","v":0},null,{"$f":"D21","v":0},null,{"$f":"E20","v":0},{"$f":"D29","v":0},null,{"$f":"E29","v":0},{"$f":"D36","v":0},null,{"$f":"E35","v":0},null,null,null,null,{"$f":"M26+P26+S26","v":0},null,{"$f":"O26+R26+U26","v":0},{"$f":"AP26","v":{"$error":"#DIV/0!"}},null,{"$f":"AA27","v":0.03},{"$f":"RANK(AE26,AE$17:AE$28,0)","v":1},{"$f":"AB28","v":{"$error":"#DIV/0!"}},{"$f":"RANK(AG26,AG$17:AG$28,0)","v":{"$error":"#DIV/0!"}},{"$f":"MAX(O28,R28,U28)","v":{"$error":"#DIV/0!"}},{"$f":"RANK(AI26,AI$17:AI$28)","v":{"$error":"#DIV/0!"}},{"$f":"Z28","v":0},{"$f":"RANK(AK26,AK$17:AK$28)","v":1},{"$f":"(AF26*1000)+(AH26*100)+(AJ26*10)+(AL26*1)","v":{"$error":"#DIV/0!"}},{"$f":"AM26","v":{"$error":"#DIV/0!"}},{"$f":"RANK(AN26,AN$17:AN$28,1)","v":{"$error":"#DIV/0!"}},{"$f":"RANK(AO26,AO$17:AO$28,1)","v":{"$error":"#DIV/0!"}}]
[null,null,{"$f":"C9","v":0},null,null,null,null,null,null,null,null,null,null,{"$f":"IF(X17>0,2-W18,0.01)","v":0.01},null,null,{"$f":"IF(X20>0,2-W21,0.01)","v":0.01},null,null,{"$f":"IF(X23>0,2-W24,0.01)","v":0.01},null,null,null,null,null,null,{"$f":"N27+Q27+T27","v":0.03}]
[null,null,null,null,null,null,null,null,null,null,null,null,{"$f":"F21","v":0},null,{"$f":"M26/O26","v":{"$error":"#DIV/0!"}},{"$f":"F29","v":0},null,{"$f":"P26/R26","v":{"$error":"#DIV/0!"}},{"$f":"F36","v":0},null,{"$f":"S26/U26","v":{"$error":"#DIV/0!"}},null,null,null,null,{"$f":"MAXA(M28,P28,S28)","v":0},null,{"$f":"Z26/AB26","v":{"$error":"#DIV/0!"}}]
[null,"Tour 4",{"$f":"C10","v":0}]
[null,null,{"$f":"C8","v":0},null,null,null,null,null,null,null,null,null,"Pas de prolongation en cas de match nul."]
[]
[null,"Tour 5",{"$f":"C7","v":0}]
[null,null,{"$f":"C8","v":0}]
[]
[null,"Tour 6",{"$f":"C9","v":0}]
[null,null,{"$f":"C10","v":0}]
[]
[]
[null,"Joueur 1",{"$f":"'Saisie des joueurs'!L19","v":0}]
[null,"Joueur 2",{"$f":"'Saisie des joueurs'!L24","v":0}]
[null,"Joueur 3",{"$f":"'Saisie des joueurs'!L27","v":0}]
[null,"Joueur 4",{"$f":"'Saisie des joueurs'!L32","v":0}]
[]
[]
[null,"SAISIE DES RESULTATS",null,null,null,null,null,null,null,null,null,null,{"$f":"C39","v":0},null,null,{"$f":"C40","v":0},null,null,{"$f":"C41","v":0},null,null,{"$f":"C42","v":0}]
[null,null,null,null,null,null,null,null,null,null,null,null,null,null,null,null,null,null,null,null,null,null,null,null,null,"TOTAUX",null,null,"CLASSEMENT"]
[null,null,null,null,null,null,null,null,null,null,null,null,null,null,null,null,null,null,null,null,null,null,null,null,null,null,null,null,null,null,"Classement",null,"Classement",null,"Classement",null,"Classement",null,"Classement",null,"GENERAL","RANG"]
[null,null,"POULE B",null,null,null,null,null,null,null,null,null,null,null,null,null,null,null,null,null,null,null,null,null,null,null,null,null,null,null,"Point-Match","CLS-M","Moy-Gen","CLS-G","Moy-Part","CLS-P","M-Series","CLS-S","MGPS","CLS","CLS"]
[null,null,null,null,null,null,null,null,null,null,{"$f":"C39","v":0},null,"L",null,null,{"$f":"D64","v":0},null,{"$f":"E64","v":0},{"$f":"D58","v":0},null,{"$f":"E58","v":0},{"$f":"D52","v":0},null,{"$f":"E52","v":0},null,{"$f":"P49+S49+V49","v":0},null,{"$f":"R49+U49+X49","v":0},{"$f":"AP49","v":{"$error":"#DIV/0!"}},null,{"$f":"AA50","v":0.03},{"$f":"RANK(AE49,AE$49:AE$60,0)","v":1},{"$f":"AB51","v":{"$error":"#DIV/0!"}},{"$f":"RANK(AG49,AG$49:AG$60,0)","v":{"$error":"#DIV/0!"}},{"$f":"MAX(R51,U51,X51)","v":{"$error":"#DIV/0!"}},{"$f":"RANK(AI49,AI$49:AI$60)","v":{"$error":"#DIV/0!"}},{"$f":"Z51","v":0},{"$f":"RANK(AK49,AK$49:AK$60)","v":1},{"$f":"(AF49*1000)+(AH49*100)+(AJ49*10)+(AL49*1)","v":{"$error":"#DIV/0!"}},{"$f":"AM49","v":{"$error":"#DIV/0!"}},{"$f":"RANK(AN49,AN$49:AN$60,1)","v":{"$error":"#DIV/0!"}},{"$f":"RANK(AO49,AO$49:AO$60,1)","v":{"$error":"#DIV/0!"}}]
[null,null,null,null,null,null,null,null,null,null,null,null,null,null,null,null,{"$f":"IF(R49<1,0.01,IF(P49>M52,2,IF(P49=M52,1,0)))","v":0.01},null,null,{"$f":"IF(U49<1,0.01,IF(S49>M55,2,IF(S49=M55,1,0)))","v":0.01},null,null,{"$f":"IF(X49<1,0.01,IF(V49>M58,2,IF(V49=M58,1,0)))","v":0.01},null,null,null,{"$f":"Q50+T50+W50","v":0.03}]
[null,null,null,"Pts","Rep","Série",null,null,null,null,null,null,null,null,null,{"$f":"F64","v":0},null,{"$f":"P49/R49","v":{"$error":"#DIV/0!"}},{"$f":"F58","v":0},null,{"$f":"S49/U49","v":{"$error":"#DIV/0!"}},{"$f":"F52","v":0},null,{"$f":"V49/X49","v":{"$error":"#DIV/0!"}},null,{"$f":"MAX(P51,S51,V51)","v":0},null,{"$f":"Z49/AB49","v":{"$error":"#DIV/0!"}}]
[null,"Tour 1",{"$f":"C39","v":0},null,null,null,null,null,null,null,{"$f":"C40","v":0},null,{"$f":"D65","v":0},null,{"$f":"E64","v":0},"M",null,null,{"$f":"D55","v":0},null,{"$f":"E55","v":0},{"$f":"D62","v":0},null,{"$f":"E61","v":0},null,{"$f":"M52+S52+V52","v":0},null,{"$f":"O52+U52+X52","v":0},{"$f":"AP52","v":{"$error":"#DIV/0!"}},null,{"$f":"AA53","v":0.03},{"$f":"RANK(AE52,AE$49:AE$60,0)","v":1},{"$f":"AB54","v":{"$error":"#DIV/0!"}},{"$f":"RANK(AG52,AG$49:AG$60,0)","v":{"$error":"#DIV/0!"}},{"$f":"MAX(O54,U54,X54)","v":{"$error":"#DIV/0!"}},{"$f":"RANK(AI52,AI$49:AI$60)","v":{"$error":"#DIV/0!"}},{"$f":"Z54","v":0},{"$f":"RANK(AK52,AK$49:AK$60)","v":1},{"$f":"(AF52*1000)+(AH52*100)+(AJ52*10)+(AL52*1)","v":{"$error":"#DIV/0!"}},{"$f":"AM52","v":{"$error":"#DIV/0!"}},{"$f":"RANK(AN52,AN$49:AN$60,1)","v":{"$error":"#DIV/0!"}},{"$f":"RANK(AO52,AO$49:AO$60,1)","v":{"$error":"#DIV/0!"}}]
[null,null,{"$f":"C42","v":0},null,null,null,null,null,null,null,null,null,null,{"$f":"IF(R49>0,2-Q50,0.01)","v":0.01},null,null,null,null,null,{"$f":"IF(U52<1,0.01,IF(S52>P55,2,IF(S52=P55,1,0)))","v":0.01},null,null,{"$f":"IF(X52<1,0.01,IF(V52>P58,2,IF(V52=P58,1,0)))","v":0.01},null,null,null,{"$f":"N53+T53+W53","v":0.03}]
[null,null,null,null,null,null,null,null,null,null,null,null,{"$f":"F65","v":0},null,{"$f":"M52/O52","v":{"$error":"#DIV/0!"}},null,null,null,{"$f":"F55","v":0},null,{"$f":"S52/U52","v":{"$error":"#DIV/0!"}},{"$f":"F62","v":0},null,{"$f":"V52/X52","v":{"$error":"#DIV/0!"}},null,{"$f":"MAXA(M54,S54,V54)","v":0},null,{"$f":"Z52/AB52","v":{"$error":"#DIV/0!"}}]
[null,"Tour 2",{"$f":"C40","v":0},null,null,null,null,null,null,null,{"$f":"C41","v":0},null,{"$f":"D59","v":0},null,{"$f":"E58","v":0},{"$f":"D56","v":0},null,{"$f":"E55","v":0},"B",null,null,{"$f":"D67","v":0},null,{"$f":"E67","v":0},null,{"$f":"M55+P55+V55","v":0},null,{"$f":"O55+R55+X55","v":0},{"$f":"AP55","v":{"$error":"#DIV/0!"}},null,{"$f":"AA56","v":0.03},{"$f":"RANK(AE55,AE$49:AE$60,0)","v":1},{"$f":"AB57","v":{"$error":"#DIV/0!"}},{"$f":"RANK(AG55,AG$49:AG$60,0)","v":{"$error":"#DIV/0!"}},{"$f":"MAX(O57,R57,X57)","v":{"$error":"#DIV/0!"}},{"$f":"RANK(AI55,AI$49:AI$60)","v":{"$error":"#DIV/0!"}},{"$f":"Z57","v":0},{"$f":"RANK(AK55,AK$49:AK$60)","v":1},{"$f":"(AF55*1000)+(AH55*100)+(AJ55*10)+(AL55*1)","v":{"$error":"#DIV/0!"}},{"$f":"AM55","v":{"$error":"#DIV/0!"}},{"$f":"RANK(AN55,AN$49:AN$60,1)","v":{"$error":"#DIV/0!"}},{"$f":"RANK(AO55,AO$49:AO$60,1)","v":{"$error":"#DIV/0!"}}]
[null,null,{"$f":"C41","v":0},null,null,null,null,null,null,null,null,null,null,{"$f":"IF(U49>0,2-T50,0.01)","v":0.01},null,null,{"$f":"IF(U52>0,2-T53,0.01)","v":0.01},null,null,null,null,null,{"$f":"IF(X55<1,0.01,IF(V55>S58,2,IF(V55=S58,1,0)))","v":0.01},null,null,null,{"$f":"N56+Q56+W56","v":0.03}]
[null,null,null,null,null,null,null,null,null,null,null,null,{"$f":"F59","v":0},null,{"$f":"M55/O55","v":{"$error":"#DIV/0!"}},{"$f":"F56","v":0},null,{"$f":"P55/R55","v":{"$error":"#DIV/0!"}},null,null,null,{"$f":"F67","v":0},null,{"$f":"V55/X55","v":{"$error":"#DIV/0!"}},null,{"$f":"MAXA(M57,P57,V57)","v":0},null,{"$f":"Z55/AB55","v":{"$error":"#DIV/0!"}}]
[null,"Tour 3",{"$f":"C39","v":0},null,null,null,null,null,null,null,{"$f":"C42","v":0},null,{"$f":"D53","v":0},null,{"$f":"E52","v":0},{"$f":"D61","v":0},null,{"$f":"E61","v":0},{"$f":"D68","v":0},null,{"$f":"E67","v":0},null,null,null,null,{"$f":"M58+P58+S58","v":0},null,{"$f":"O58+R58+U58","v":0},{"$f":"AP58","v":{"$error":"#DIV/0!"}},null,{"$f":"AA59","v":0.03},{"$f":"RANK(AE58,AE$49:AE$60,0)","v":1},{"$f":"AB60","v":{"$error":"#DIV/0!"}},{"$f":"RANK(AG58,AG$49:AG$60,0)","v":{"$error":"#DIV/0!"}},{"$f":"MAX(O60,R60,U60)","v":{"$error":"#DIV/0!"}},{"$f":"RANK(AI58,AI$49:AI$60)","v":{"$error":"#DIV/0!"}},{"$f":"Z60","v":0},{"$f":"RANK(AK58,AK$49:AK$60)","v":1},{"$f":"(AF58*1000)+(AH58*100)+(AJ58*10)+(AL58*1)","v":{"$error":"#DIV/0!"}},{"$f":"AM58","v":{"$error":"#DIV/0!"}},{"$f":"RANK(AN58,AN$49:AN$60,1)","v":{"$error":"#DIV/0!"}},{"$f":"RANK(AO58,AO$49:AO$60,1)","v":{"$error":"#DIV/0!"}}]
[null,null,{"$f":"C41","v":0},null,null,null,null,null,null,null,null,null,null,{"$f":"IF(X49>0,2-W50,0.01)","v":0.01},null,null,{"$f":"IF(X52>0,2-W53,0.01)","v":0.01},null,null,{"$f":"IF(X55>0,2-W56,0.01)","v":0.01},null,null,null,null,null,null,{"$f":"N59+Q59+T59","v":0.03}]
[null,null,null,null,null,null,null,null,null,null,null,null,{"$f":"F53","v":0},null,{"$f":"M58/O58","v":{"$error":"#DIV/0!"}},{"$f":"F61","v":0},null,{"$f":"P58/R58","v":{"$error":"#DIV/0!"}},{"$f":"F68","v":0},null,{"$f":"S58/U58","v":{"$error":"#DIV/0!"}},null,null,null,null,{"$f":"MAXA(M60,P60,S60)","v":0},null,{"$f":"Z58/AB58","v":{"$error":"#DIV/0!"}}]
[null,"Tour 4",{"$f":"C42","v":0}]
[null,null,{"$f":"C40","v":0},null,null,null,null,null,null,null,null,null,"Pas de prolongation en cas de match nul."]
[]
[null,"Tour 5",{"$f":"C39","v":0}]
[null,null,{"$f":"C40","v":0}]
[]
[null,"Tour 6",{"$f":"C41","v":0}]
[null,null,{"$f":"C42","v":0}]
[]
[null,"Joueur 1",{"$f":"'Saisie des joueurs'!L20","v":0}]
[null,"Joueur 2",{"$f":"'Saisie des joueurs'!L23","v":0}]
[null,"Joueur 3",{"$f":"'Saisie des joueurs'!L28","v":0}]
[null,"Joueur 4",{"$f":"'Saisie des joueurs'!L31","v":0}]
[]
[]
[null,"SAISIE DES RESULTATS",null,null,null,null,null,null,null,null,null,null,{"$f":"C70","v":0},null,null,{"$f":"C71","v":0},null,null,{"$f":"C72","v":0},null,null,{"$f":"C73","v":0}]
[null,null,null,null,null,null,null,null,null,null,null,null,null,null,null,null,null,null,null,null,null,null,null,null,null,"TOTAUX",null,null,"CLASSEMENT"]
[null,null,null,null,null,null,null,null,null,null,null,null,null,null,null,null,null,null,null,null,null,null,null,null,null,null,null,null,null,null,"Classement",null,"Classement",null,"Classement",null,"Classement",null,"Classement",null,"GENERAL","RANG"]
[null,null,"POULE C",null,null,null,null,null,null,null,null,null,null,null,null,null,null,null,null,null,null,null,null,null,null,null,null,null,null,null,"Point-Match","CLS-M","Moy-Gen","CLS-G","Moy-Part","CLS-P","M-Series","CLS-S","MGPS","CLS","CLS"]
[null,null,null,null,null,null,null,null,null,null,{"$f":"C70","v":0},null,"L",null,null,{"$f":"D95","v":0},null,{"$f":"E95","v":0},{"$f":"D89","v":0},null,{"$f":"E89","v":0},{"$f":"D83","v":0},null,{"$f":"E83","v":0},null,{"$f":"P80+S80+V80","v":0},null,{"$f":"R80+U80+X80","v":0},{"$f":"AP80","v":{"$error":"#DIV/0!"}},null,{"$f":"AA81","v":0.03},{"$f":"RANK(AE80,AE$80:AE$91,0)","v":1},{"$f":"AB82","v":{"$error":"#DIV/0!"}},{"$f":"RANK(AG80,AG$80:AG$91,0)","v":{"$error":"#DIV/0!"}},{"$f":"MAX(R82,U82,X82)","v":{"$error":"#DIV/0!"}},{"$f":"RANK(AI80,AI$80:AI$91)","v":{"$error":"#DIV/0!"}},{"$f":"Z82","v":0},{"$f":"RANK(AK80,AK$49:AK$60)","v":1},{"$f":"(AF80*1000)+(AH80*100)+(AJ80*10)+(AL80*1)","v":{"$error":"#DIV/0!"}},{"$f":"AM80","v":{"$error":"#DIV/0!"}},{"$f":"RANK(AN80,AN$80:AN$91,1)","v":{"$error":"#DIV/0!"}},{"$f":"RANK(AO80,AO$80:AO$91,1)","v":{"$error":"#DIV/0!"}}]
[null,null,null,null,null,null,null,null,null,null,null,null,null,null,null,null,{"$f":"IF(R80<1,0.01,IF(P80>M83,2,IF(P80=M83,1,0)))","v":0.01},null,null,{"$f":"IF(U80<1,0.01,IF(S80>M86,2,IF(S80=M86,1,0)))","v":0.01},null,null,{"$f":"IF(X80<1,0.01,IF(V80>M89,2,IF(V80=M89,1,0)))","v":0.01},null,null,null,{"$f":"Q81+T81+W81","v":0.03}]
[null,null,null,"Pts","Rep","Série",null,null,null,null,null,null,null,null,null,{"$f":"F95","v":0},null,{"$f":"P80/R80","v":{"$error":"#DIV/0!"}},{"$f":"F89","v":0},null,{"$f":"S80/U80","v":{"$error":"#DIV/0!"}},{"$f":"F83","v":0},null,{"$f":"V80/X80","v":{"$error":"#DIV/0!"}},null,{"$f":"MAX(P82,S82,V82)","v":0},null,{"$f":"Z80/AB80","v":{"$error":"#DIV/0!"}}]
[null,"Tour 1",{"$f":"C70","v":0},null,null,null,null,null,null,null,{"$f":"C71","v":0},null,{"$f":"D96","v":0},null,{"$f":"E95","v":0},"M",null,null,{"$f":"D86","v":0},null,{"$f":"E86","v":0},{"$f":"D93","v":0},null,{"$f":"E92","v":0},null,{"$f":"M83+S83+V83","v":0},null,{"$f":"O83+U83+X83","v":0},{"$f":"AP83","v":{"$error":"#DIV/0!"}},null,{"$f":"AA84","v":0.03},{"$f":"RANK(AE83,AE$80:AE$91,0)","v":1},{"$f":"AB85","v":{"$error":"#DIV/0!"}},{"$f":"RANK(AG83,AG$80:AG$91,0)","v":{"$error":"#DIV/0!"}},{"$f":"MAX(O85,U85,X85)","v":{"$error":"#DIV/0!"}},{"$f":"RANK(AI83,AI$80:AI$91)","v":{"$error":"#DIV/0!"}},{"$f":"Z85","v":0},{"$f":"RANK(AK83,AK$49:AK$60)","v":1},{"$f":"(AF83*1000)+(AH83*100)+(AJ83*10)+(AL83*1)","v":{"$error":"#DIV/0!"}},{"$f":"AM83","v":{"$error":"#DIV/0!"}},{"$f":"RANK(AN83,AN$80:AN$91,1)","v":{"$error":"#DIV/0!"}},{"$f":"RANK(AO83,AO$80:AO$91,1)","v":{"$error":"#DIV/0!"}}]
[null,null,{"$f":"C73","v":0},null,null,null,null,null,null,null,null,null,null,{"$f":"IF(R80>0,2-Q81,0.01)","v":0.01},null,null,null,null,null,{"$f":"IF(U83<1,0.01,IF(S83>P86,2,IF(S83=P86,1,0)))","v":0.01},null,null,{"$f":"IF(X83<1,0.01,IF(V83>P89,2,IF(V83=P89,1,0)))","v":0.01},null,null,null,{"$f":"N84+T84+W84","v":0.03}]
[null,null,null,null,null,null,null,null,null,null,null,null,{"$f":"F96","v":0},null,{"$f":"M83/O83","v":{"$error":"#DIV/0!"}},null,null,null,{"$f":"F86","v":0},null,{"$f":"S83/U83","v":{"$error":"#DIV/0!"}},{"$f":"F93","v":0},null,{"$f":"V83/X83","v":{"$error":"#DIV/0!"}},null,{"$f":"MAXA(M85,S85,V85)","v":0},null,{"$f":"Z83/AB83","v":{"$error":"#DIV/0!"}}]
[null,"Tour 2",{"$f":"C71","v":0},null,null,null,null,null,null,null,{"$f":"C72","v":0},null,{"$f":"D90","v":0},null,{"$f":"E89","v":0},{"$f":"D87","v":0},null,{"$f":"E86","v":0},"B",null,null,{"$f":"D98","v":0},null,{"$f":"E98","v":0},null,{"$f":"M86+P86+V86","v":0},null,{"$f":"O86+R86+X86","v":0},{"$f":"AP86","v":{"$error":"#DIV/0!"}},null,{"$f":"AA87","v":0.03},{"$f":"RANK(AE86,AE$80:AE$91,0)","v":1},{"$f":"AB88","v":{"$error":"#DIV/0!"}},{"$f":"RANK(AG86,AG$80:AG$91,0)","v":{"$error":"#DIV/0!"}},{"$f":"MAX(O88,R88,X88)","v":{"$error":"#DIV/0!"}},{"$f":"RANK(AI86,AI$80:AI$91)","v":{"$error":"#DIV/0!"}},{"$f":"Z88","v":0},{"$f":"RANK(AK86,AK$49:AK$60)","v":1},{"$f":"(AF86*1000)+(AH86*100)+(AJ86*10)+(AL86*1)","v":{"$error":"#DIV/0!"}},{"$f":"AM86","v":{"$error":"#DIV/0!"}},{"$f":"RANK(AN86,AN$80:AN$91,1)","v":{"$error":"#DIV/0!"}},{"$f":"RANK(AO86,AO$80:AO$91,1)","v":{"$error":"#DIV/0!"}}]
[null,null,{"$f":"C72","v":0},null,null,null,null,null,null,null,null,null,null,{"$f":"IF(U80>0,2-T81,0.01)","v":0.01},null,null,{"$f":"IF(U83>0,2-T84,0.01)","v":0.01},null,null,null,null,null,{"$f":"IF(X86<1,0.01,IF(V86>S89,2,IF(V86=S89,1,0)))","v":0.01},null,null,null,{"$f":"N87+Q87+W87","v":0.03}]
[null,null,null,null,null,null,null,null,null,null,null,null,{"$f":"F90","v":0},null,{"$f":"M86/O86","v":{"$error":"#DIV/0!"}},{"$f":"F87","v":0},null,{"$f":"P86/R86","v":{"$error":"#DIV/0!"}},null,null,null,{"$f":"F98","v":0},null,{"$f":"V86/X86","v":{"$error":"#DIV/0!"}},null,{"$f":"MAXA(M88,P88,V88)","v":0},null,{"$f":"Z86/AB86","v":{"$error":"#DIV/0!"}}]
[null,"Tour 3",{"$f":"C70","v":0},null,null,null,null,null,null,null,{"$f":"C73","v":0},null,{"$f":"D84","v":0},null,{"$f":"E83","v":0},{"$f":"D92","v":0},null,{"$f":"E92","v":0},{"$f":"D99","v":0},null,{"$f":"E98","v":0},null,null,null,null,{"$f":"M89+P89+S89","v":0},null,{"$f":"O89+R89+U89","v":0},{"$f":"AP89","v":{"$error":"#DIV/0!"}},null,{"$f":"AA90","v":0.03},{"$f":"RANK(AE89,AE$80:AE$91,0)","v":1},{"$f":"AB91","v":{"$error":"#DIV/0!"}},{"$f":"RANK(AG89,AG$80:AG$91,0)","v":{"$error":"#DIV/0!"}},{"$f":"MAX(O91,R91,U91)","v":{"$error":"#DIV/0!"}},{"$f":"RANK(AI89,AI$80:AI$91)","v":{"$error":"#DIV/0!"}},{"$f":"Z91","v":0},{"$f":"RANK(AK89,AK$49:AK$60)","v":1},{"$f":"(AF89*1000)+(AH89*100)+(AJ89*10)+(AL89*1)","v":{"$error":"#DIV/0!"}},{"$f":"AM89","v":{"$error":"#DIV/0!"}},{"$f":"RANK(AN89,AN$80:AN$91,1)","v":{"$error":"#DIV/0!"}},{"$f":"RANK(AO89,AO$80:AO$91,1)","v":{"$error":"#DIV/0!"}}]
[null,null,{"$f":"C72","v":0},null,null,null,null,null,null,null,null,null,null,{"$f":"IF(X80>0,2-W81,0.01)","v":0.01},null,null,{"$f":"IF(X83>0,2-W84,0.01)","v":0.01},null,null,{"$f":"IF(X86>0,2-W87,0.01)","v":0.01},null,null,null,null,null,null,{"$f":"N90+Q90+T90","v":0.03}]
[null,null,null,null,null,null,null,null,null,null,null,null,{"$f":"F84","v":0},null,{"$f":"M89/O89","v":{"$error":"#DIV/0!"}},{"$f":"F92","v":0},null,{"$f":"P89/R89","v":{"$error":"#DIV/0!"}},{"$f":"F99","v":0},null,{"$f":"S89/U89","v":{"$error":"#DIV/0!"}},null,null,null,null,{"$f":"MAXA(M91,P91,S91)","v":0},null,{"$f":"Z89/AB89","v":{"$error":"#DIV/0!"}}]
[null,"Tour 4",{"$f":"C73","v":0}]
[null,null,{"$f":"C71","v":0},null,null,null,null,null,null,null,null,null,"Pas de prolongation en cas de match nul."]
[]
[null,"Tour 5",{"$f":"C70","v":0}]
[null,null,{"$f":"C71","v":0}]
[]
[null,"Tour 6",{"$f":"C72","v":0}]
[null,null,{"$f":"C73","v":0}]
[]
[null,"Joueur 1",{"$f":"'Saisie des joueurs'!L21","v":0}]
[null,"Joueur 2",{"$f":"'Saisie des joueurs'!L22","v":0}]
[null,"Joueur 3",{"$f":"'Saisie des joueurs'!L29","v":0}]
[null,"Joueur 4",{"$f":"'Saisie des joueurs'!L30","v":0}]
[]
[]
[null,"SAISIE DES RESULTATS",null,null,null,null,null,null,null,null,null,null,{"$f":"C101","v":0},null,null,{"$f":"C102","v":0},null,null,{"$f":"C103","v":0},null,null,{"$f":"C104","v":0}]
[null,null,null,null,null,null,null,null,null,null,null,null,null,null,null,null,null,null,null,null,null,null,null,null,null,"TOTAUX",null,null,"CLASSEMENT"]
[null,null,null,null,null,null,null,null,null,null,null,null,null,null,null,null,null,null,null,null,null,null,null,null,null,null,null,null,null,null,"Classement",null,"Classement",null,"Classement",null,"Classement",null,"Classement",null,"GENERAL","RANG"]
[null,null,"POULE D",null,null,null,null,null,null,null,null,null,null,null,null,null,null,null,null,null,null,null,null,null,null,null,null,null,null,null,"Point-Match","CLS-M","Moy-Gen","CLS-G","Moy-Part","CLS-P","M-Series","CLS-S","MGPS","CLS","CLS"]
[null,null,null,null,null,null,null,null,null,null,{"$f":"C101","v":0},null,"L",null,null,{"$f":"D126","v":0},null,{"$f":"E126","v":0},{"$f":"D120","v":0},null,{"$f":"E120","v":0},{"$f":"D114","v":0},null,{"$f":"E114","v":0},null,{"$f":"P111+S111+V111","v":0},null,{"$f":"R111+U111+X111","v":0},{"$f":"AP111","v":{"$error":"#DIV/0!"}},null,{"$f":"AA112","v":0.03},{"$f":"RANK(AE111,AE$111:AE$122,0)","v":1},{"$f":"AB113","v":{"$error":"#DIV/0!"}},{"$f":"RANK(AG111,AG$111:AG$122,0)","v":{"$error":"#DIV/0!"}},{"$f":"MAX(R113,U113,X113)","v":{"$error":"#DIV/0!"}},{"$f":"RANK(AI111,AI$111:AI$122)","v":{"$error":"#DIV/0!"}},{"$f":"Z113","v":0},{"$f":"RANK(AK111,AK$111:AK$122)","v":1},{"$f":"(AF111*1000)+(AH111*100)+(AJ111*10)+(AL111*1)","v":{"$error":"#DIV/0!"}},{"$f":"AM111","v":{"$error":"#DIV/0!"}},{"$f":"RANK(AN111,AN$111:AN$122,1)","v":{"$error":"#DIV/0!"}},{"$f":"RANK(AO111,AO$111:AO$122,1)","v":{"$error":"#DIV/0!"}}]
[null,null,null,null,null,null,null,null,null,null,null,null,null,null,null,null,{"$f":"IF(R111<1,0.01,IF(P111>M114,2,IF(P111=M114,1,0)))","v":0.01},null,null,{"$f":"IF(U111<1,0.01,IF(S111>M117,2,IF(S111=M117,1,0)))","v":0.01},null,null,{"$f":"IF(X111<1,0.01,IF(V111>M120,2,IF(V111=M120,1,0)))","v":0.01},null,null,null,{"$f":"Q112+T112+W112","v":0.03}]
[null,null,null,"Pts","Rep","Série",null,null,null,null,null,null,null,null,null,{"$f":"F126","v":0},null,{"$f":"P111/R111","v":{"$error":"#DIV/0!"}},{"$f":"F120","v":0},null,{"$f":"S111/U111","v":{"$error":"#DIV/0!"}},{"$f":"F114","v":0},null,{"$f":"V111/X111","v":{"$error":"#DIV/0!"}},null,{"$f":"MAX(P113,S113,V113)","v":0},null,{"$f":"Z111/AB111","v":{"$error":"#DIV/0!"}}]
[null,"Tour 1",{"$f":"C101","v":0},null,null,null,null,null,null,null,{"$f":"C102","v":0},null,{"$f":"D127","v":0},null,{"$f":"E126","v":0},"M",null,null,{"$f":"D117","v":0},null,{"$f":"E117","v":0},{"$f":"D124","v":0},null,{"$f":"E123","v":0},null,{"$f":"M114+S114+V114","v":0},null,{"$f":"O114+U114+X114","v":0},{"$f":"AP114","v":{"$error":"#DIV/0!"}},null,{"$f":"AA115","v":0.03},{"$f":"RANK(AE114,AE$111:AE$122,0)","v":1},{"$f":"AB116","v":{"$error":"#DIV/0!"}},{"$f":"RANK(AG114,AG$111:AG$122,0)","v":{"$error":"#DIV/0!"}},{"$f":"MAX(R116,U116,X116)","v":{"$error":"#DIV/0!"}},{"$f":"RANK(AI114,AI$111:AI$122)","v":{"$error":"#DIV/0!"}},{"$f":"Z116","v":0},{"$f":"RANK(AK114,AK$111:AK$122)","v":1},{"$f":"(AF114*1000)+(AH114*100)+(AJ114*10)+(AL114*1)","v":{"$error":"#DIV/0!"}},{"$f":"AM114","v":{"$error":"#DIV/0!"}},{"$f":"RANK(AN114,AN$111:AN$122,1)","v":{"$error":"#DIV/0!"}},{"$f":"RANK(AO114,AO$111:AO$122,1)","v":{"$error":"#DIV/0!"}}]
[null,null,{"$f":"C104","v":0},null,null,null,null,null,null,null,null,null,null,{"$f":"IF(R111>0,2-Q112,0.01)","v":0.01},null,null,null,null,null,{"$f":"IF(U114<1,0.01,IF(S114>P117,2,IF(S114=P117,1,0)))","v":0.01},null,null,{"$f":"IF(X114<1,0.01,IF(V114>P120,2,IF(V114=P120,1,0)))","v":0.01},null,null,null,{"$f":"N115+T115+W115","v":0.03}]
[null,null,null,null,null,null,null,null,null,null,null,null,{"$f":"F127","v":0},null,{"$f":"M114/O114","v":{"$error":"#DIV/0!"}},null,null,null,{"$f":"F117","v":0},null,{"$f":"S114/U114","v":{"$error":"#DIV/0!"}},{"$f":"F124","v":0},null,{"$f":"V114/X114","v":{"$error":"#DIV/0!"}},null,{"$f":"MAXA(M116,S116,V116)","v":0},null,{"$f":"Z114/AB114","v":{"$error":"#DIV/0!"}}]
[null,"Tour 2",{"$f":"C102","v":0},null,null,null,null,null,null,null,{"$f":"C103","v":0},null,{"$f":"D121","v":0},null,{"$f":"E120","v":0},{"$f":"D118","v":0},null,{"$f":"E117","v":0},"B",null,null,{"$f":"D129","v":0},null,{"$f":"E129","v":0},null,{"$f":"M117+P117+V117","v":0},null,{"$f":"O117+R117+X117","v":0},{"$f":"AP117","v":{"$error":"#DIV/0!"}},null,{"$f":"AA118","v":0.03},{"$f":"RANK(AE117,AE$111:AE$122,0)","v":1},{"$f":"AB119","v":{"$error":"#DIV/0!"}},{"$f":"RANK(AG117,AG$111:AG$122,0)","v":{"$error":"#DIV/0!"}},{"$f":"MAX(R119,U119,X119)","v":{"$error":"#DIV/0!"}},{"$f":"RANK(AI117,AI$111:AI$122)","v":{"$error":"#DIV/0!"}},{"$f":"Z119","v":0},{"$f":"RANK(AK117,AK$111:AK$122)","v":1},{"$f":"(AF117*1000)+(AH117*100)+(AJ117*10)+(AL117*1)","v":{"$error":"#DIV/0!"}},{"$f":"AM117","v":{"$error":"#DIV/0!"}},{"$f":"RANK(AN117,AN$111:AN$122,1)","v":{"$error":"#DIV/0!"}},{"$f":"RANK(AO117,AO$111:AO$122,1)","v":{"$error":"#DIV/0!"}}]
[null,null,{"$f":"C103","v":0},null,null,null,null,null,null,null,null,null,null,{"$f":"IF(U111>0,2-T112,0.01)","v":0.01},null,null,{"$f":"IF(U114>0,2-T115,0.01)","v":0.01},null,null,null,null,null,{"$f":"IF(X117<1,0.01,IF(V117>S120,2,IF(V117=S120,1,0)))","v":0.01},null,null,null,{"$f":"N118+Q118+W118","v":0.03}]
[null,null,null,null,null,null,null,null,null,null,null,null,{"$f":"F121","v":0},null,{"$f":"M117/O117","v":{"$error":"#DIV/0!"}},{"$f":"F118","v":0},null,{"$f":"P117/R117","v":{"$error":"#DIV/0!"}},null,null,null,{"$f":"F129","v":0},null,{"$f":"V117/X117","v":{"$error":"#DIV/0!"}},null,{"$f":"MAXA(M119,P119,V119)","v":0},null,{"$f":"Z117/AB117","v":{"$error":"#DIV/0!"}}]
[null,"Tour 3",{"$f":"C101","v":0},null,null,null,null,null,null,null,{"$f":"C104","v":0},null,{"$f":"D115","v":0},null,{"$f":"E114","v":0},{"$f":"D123","v":0},null,{"$f":"E123","v":0},{"$f":"D130","v":0},null,{"$f":"E129","v":0},null,null,null,null,{"$f":"M120+P120+S120","v":0},null,{"$f":"O120+R120+U120","v":0},{"$f":"AP120","v":{"$error":"#DIV/0!"}},null,{"$f":"AA121","v":0.03},{"$f":"RANK(AE120,AE$111:AE$122,0)","v":1},{"$f":"AB122","v":{"$error":"#DIV/0!"}},{"$f":"RANK(AG120,AG$111:AG$122,0)","v":{"$error":"#DIV/0!"}},{"$f":"MAX(R122,U122,X122)","v":{"$error":"#DIV/0!"}},{"$f":"RANK(AI120,AI$111:AI$122)","v":{"$error":"#DIV/0!"}},{"$f":"Z122","v":0},{"$f":"RANK(AK120,AK$111:AK$122)","v":1},{"$f":"(AF120*1000)+(AH120*100)+(AJ120*10)+(AL120*1)","v":{"$error":"#DIV/0!"}},{"$f":"AM120","v":{"$error":"#DIV/0!"}},{"$f":"RANK(AN120,AN$111:AN$122,1)","v":{"$error":"#DIV/0!"}},{"$f":"RANK(AO120,AO$111:AO$122,1)","v":{"$error":"#DIV/0!"}}]
[null,null,{"$f":"C103","v":0},null,null,null,null,null,null,null,null,null,null,{"$f":"IF(X111>0,2-W112,0.01)","v":0.01},null,null,{"$f":"IF(X114>0,2-W115,0.01)","v":0.01},null,null,{"$f":"IF(X117>0,2-W118,0.01)","v":0.01},null,null,null,null,null,null,{"$f":"N121+Q121+T121","v":0.03}]
[null,null,null,null,null,null,null,null,null,null,null,null,{"$f":"F115","v":0},null,{"$f":"M120/O120","v":{"$error":"#DIV/0!"}},{"$f":"F123","v":0},null,{"$f":"P120/R120","v":{"$error":"#DIV/0!"}},{"$f":"F130","v":0},null,{"$f":"S120/U120","v":{"$error":"#DIV/0!"}},null,null,null,null,{"$f":"MAXA(M122,P122,S122)","v":0},null,{"$f":"Z120/AB120","v":{"$error":"#DIV/0!"}}]
[null,"Tour 4",{"$f":"C104","v":0}]
[null,null,{"$f":"C102","v":0},null,null,null,null,null,null,null,null,null,"Pas de prolongation en cas de match nul."]
[]
[null,"Tour 5",{"$f":"C101","v":0}]
[null,null,{"$f":"C102","v":0}]
[]
[null,"Tour 6",{"$f":"C103","v":0}]
[null,null,{"$f":"C104","v":0}]

{"sheet":"20JOUEURS","index":31,"n_rows":162,"n_cols":42,"rows_kept":162,"cut":false,"hidden":true,"merged":[[6,2,6,5],[7,2,7,5],[8,2,8,5],[9,2,9,5],[12,1,13,5],[12,12,15,14],[15,2,16,5],[1,1,3,13],[12,15,15,17],[12,18,15,20],[12,21,15,23],[13,10,15,11],[16,40,18,40],[16,41,18,41],[16,35,18,35],[16,36,18,36],[16,37,18,37],[16,38,18,38],[16,39,18,39],[13,25,15,27],[13,28,15,28],[14,30,14,31],[14,32,14,33],[14,34,14,35],[14,36,14,37],[14,38,14,39],[14,41,15,41],[16,10,18,11],[16,12,18,14],[16,28,18,28],[16,30,18,30],[16,31,18,31],[16,32,18,32],[16,33,18,33],[19,31,21,31],[19,32,21,32],[22,32,24,32],[22,33,24,33],[22,34,24,34],[16,34,18,34],[19,1,20,1],[19,4,20,4],[19,10,21,11],[19,15,21,17],[19,28,21,28],[19,30,21,30],[22,1,23,1],[22,4,23,4],[22,10,24,11],[22,18,24,20],[22,28,24,28],[22,30,24,30],[22,31,24,31],[22,38,24,38],[22,39,24,39],[22,40,24,40],[22,41,24,41],[22,35,24,35],[22,36,24,36],[22,37,24,37],[19,33,21,33],[19,34,21,34],[19,35,21,35],[19,36,21,36],[19,37,21,37],[19,38,21,38],[19,39,21,39],[19,40,21,40],[19,41,21,41],[25,37,27,37],[25,38,27,38],[25,39,27,39],[25,40,27,40],[25,41,27,41],[28,1,29,1],[28,4,29,4],[29,12,29,23],[25,31,27,31],[25,32,27,32],[25,33,27,33],[25,34,27,34],[25,35,27,35],[25,36,27,36],[25,1,26,1],[25,4,26,4],[25,10,27,11],[25,21,27,23],[25,28,27,28],[25,30,27,30],[31,1,32,1],[31,4,32,4],[34,1,35,1],[34,4,35,4],[38,2,38,5],[39,2,39,5],[48,41,50,41],[48,35,50,35],[48,36,50,36],[48,37,50,37],[40,2,40,5],[41,2,41,5],[44,1,45,5],[44,12,47,14],[44,15,47,17],[44,18,47,20],[45,28,47,28],[46,30,46,31],[46,32,46,33],[48,38,50,38],[48,39,50,39],[48,40,50,40],[46,41,47,41],[47,2,48,5],[48,10,50,11],[48,12,50,14],[48,28,50,28],[48,30,50,30],[48,31,50,31],[44,21,47,23],[45,10,47,11],[45,25,47,27],[48,32,50,32],[48,33,50,33],[48,34,50,34],[46,34,46,35],[46,36,46,37],[46,38,46,39],[54,39,56,39],[54,40,56,40],[54,41,56,41],[54,30,56,30],[54,31,56,31],[51,36,53,36],[54,36,56,36],[54,1,55,1],[54,4,55,4],[54,10,56,11],[54,18,56,20],[54,28,56,28],[51,31,53,31],[51,30,53,30],[57,39,59,39],[57,40,59,40],[57,1,58,1],[57,4,58,4],[57,10,59,11],[57,21,59,23],[57,28,59,28],[57,30,59,30],[51,1,52,1],[51,4,52,4],[51,10,53,11],[51,15,53,17],[51,28,53,28],[51,32,53,32],[51,33,53,33],[51,34,53,34],[51,35,53,35],[57,41,59,41],[51,37,53,37],[51,38,53,38],[51,39,53,39],[51,40,53,40],[51,41,53,41],[54,37,56,37],[54,38,56,38],[54,32,56,32],[54,33,56,33],[54,34,56,34],[54,35,56,35],[57,37,59,37],[57,38,59,38],[57,34,59,34],[57,35,59,35],[57,36,59,36],[60,1,61,1],[60,4,61,4],[61,12,61,23],[57,31,59,31],[57,32,59,32],[57,33,59,33],[63,1,64,1],[63,4,64,4],[66,1,67,1],[66,4,67,4],[69,2,69,5],[70,2,70,5],[79,41,81,41],[79,35,81,35],[79,36,81,36],[79,37,81,37],[71,2,71,5],[72,2,72,5],[75,1,76,5],[75,12,78,14],[75,15,78,17],[75,18,78,20],[76,28,78,28],[77,30,77,31],[77,32,77,33],[79,38,81,38],[79,39,81,39],[79,40,81,40],[77,41,78,41],[78,2,79,5],[79,10,81,11],[79,12,81,14],[79,28,81,28],[79,30,81,30],[79,31,81,31],[75,21,78,23],[76,10,78,11],[76,25,78,27],[79,32,81,32],[79,33,81,33],[79,34,81,34],[77,34,77,35],[77,36,77,37],[77,38,77,39],[85,39,87,39],[85,40,87,40],[85,41,87,41],[85,30,87,30],[85,31,87,31],[82,1,83,1],[82,4,83,4],[82,10,84,11],[82,15,84,17],[82,28,84,28],[82,32,84,32],[82,33,84,33],[82,34,84,34],[82,35,84,35],[82,36,84,36],[85,36,87,36],[85,1,86,1],[85,4,86,4],[85,10,87,11],[85,18,87,20],[85,28,87,28],[82,31,84,31],[82,30,84,30],[88,39,90,39],[88,40,90,40],[88,41,90,41],[82,37,84,37],[82,38,84,38],[82,39,84,39],[82,40,84,40],[82,41,84,41],[85,37,87,37],[85,38,87,38],[85,32,87,32],[85,33,87,33],[85,34,87,34],[85,35,87,35],[88,37,90,37],[88,38,90,38],[88,34,90,34],[88,35,90,35],[88,36,90,36],[88,31,90,31],[88,32,90,32],[88,33,90,33],[94,1,95,1],[94,4,95,4],[97,1,98,1],[97,4,98,4],[100,2,100,5],[101,2,101,5],[88,1,89,1],[88,4,89,4],[88,10,90,11],[88,21,90,23],[88,28,90,28],[88,30,90,30],[91,1,92,1],[91,4,92,4],[92,12,92,23],[110,41,112,41],[110,35,112,35],[110,36,112,36],[110,37,112,37],[102,2,102,5],[103,2,103,5],[106,1,107,5],[106,12,109,14],[106,15,109,17],[106,18,109,20],[107,28,109,28],[108,30,108,31],[108,32,108,33],[110,38,112,38],[110,39,112,39],[110,40,112,40],[108,41,109,41],[109,2,110,5],[110,10,112,11],[110,12,112,14],[110,28,112,28],[110,30,112,30],[110,31,112,31],[106,21,109,23],[107,10,109,11],[107,25,109,27],[110,32,112,32],[110,33,112,33],[110,34,112,34],[108,34,108,35],[108,36,108,37],[108,38,108,39],[116,39,118,39],[116,34,118,34],[116,35,118,35],[113,34,115,34],[113,35,115,35],[113,36,115,36],[116,36,118,36],[116,1,117,1],[116,4,117,4],[116,10,118,11],[116,18,118,20],[116,28,118,28],[113,31,115,31],[113,30,115,30],[116,32,118,32],[116,33,118,33],[116,30,118,30],[116,31,118,31],[113,1,114,1],[113,4,114,4],[113,10,115,11],[113,15,115,17],[113,28,115,28],[113,32,115,32],[113,33,115,33],[119,39,121,39],[119,40,121,40],[119,41,121,41],[113,37,115,37],[113,38,115,38],[113,39,115,39],[113,40,115,40],[113,41,115,41],[116,37,118,37],[116,38,118,38],[119,37,121,37],[119,38,121,38],[116,40,118,40],[116,41,118,41],[119,34,121,34],[119,35,121,35],[119,36,121,36],[119,1,120,1],[119,4,120,4],[119,10,121,11],[119,21,121,23],[119,28,121,28],[119,30,121,30],[122,1,123,1],[122,4,123,4],[123,12,123,23],[119,31,121,31],[119,32,121,32],[119,33,121,33],[125,1,126,1],[125,4,126,4],[128,1,129,1],[128,4,129,4],[132,2,132,5],[133,2,133,5],[142,41,144,41],[142,35,144,35],[142,36,144,36],[142,37,144,37],[134,2,134,5],[135,2,135,5],[138,1,139,5],[138,12,141,14],[138,15,141,17],[138,18,141,20],[139,28,141,28],[140,30,140,31],[140,32,140,33],[142,38,144,38],[142,39,144,39],[142,40,144,40],[140,41,141,41],[141,2,142,5],[142,10,144,11],[142,12,144,14],[142,28,144,28],[142,30,144,30],[140,38,140,39],[145,1,146,1],[145,4,146,4],[145,10,147,11],[145,15,147,17],[145,28,147,28],[145,30,147,30],[148,37,150,37],[148,38,150,38],[148,39,150,39],[142,31,144,31],[138,21,141,23],[139,10,141,11],[139,25,141,27],[142,32,144,32],[142,33,144,33],[142,34,144,34],[140,34,140,35],[140,36,140,37],[148,40,150,40],[148,41,150,41],[148,30,150,30],[148,31,150,31],[145,40,147,40],[145,41,147,41],[148,1,149,1],[148,4,149,4],[148,10,150,11],[148,18,150,20],[148,28,150,28],[145,31,147,31],[145,32,147,32],[145,33,147,33],[160,1,161,1],[160,4,161,4],[151,37,153,37],[145,37,147,37],[145,38,147,38],[145,39,147,39],[145,34,147,34],[145,35,147,35],[145,36,147,36],[148,36,150,36],[148,32,150,32],[148,33,150,33],[148,34,150,34],[148,35,150,35],[157,1,158,1],[157,4,158,4],[151,34,153,34],[151,35,153,35],[151,36,153,36],[151,1,152,1],[151,4,152,4],[151,10,153,11],[151,21,153,23],[151,28,153,28],[151,30,153,30],[151,38,153,38],[151,39,153,39],[151,40,153,40],[151,41,153,41],[154,1,155,1],[154,4,155,4],[155,12,155,23],[151,31,153,31],[151,32,153,32],[151,33,153,33]]}
[]
[null,"LIGUE MÉDITERRANÉENNE DE BILLARD"]
[]
[]
[]
[]
[null,"Joueur 1",{"$f":"'Saisie des joueurs'!L18","v":0}]
[null,"Joueur 2",{"$f":"'Saisie des joueurs'!L27","v":0}]
[null,"Joueur 3",{"$f":"'Saisie des joueurs'!L28","v":0}]
[null,"Joueur 4",{"$f":"'Saisie des joueurs'!L37","v":0}]
[]
[]
[null,"SAISIE DES RESULTATS",null,null,null,null,null,null,null,null,null,null,{"$f":"C7","v":0},null,null,{"$f":"C8","v":0},null,null,{"$f":"C9","v":0},null,null,{"$f":"C10","v":0}]
[null,null,null,null,null,null,null,null,null,null,null,null,null,null,null,null,null,null,null,null,null,null,null,null,null,"TOTAUX",null,null,"CLASSEMENT"]
[null,null,null,null,null,null,null,null,null,null,null,null,null,null,null,null,null,null,null,null,null,null,null,null,null,null,null,null,null,null,"Classement",null,"Classement",null,"Classement",null,"Classement",null,"Classement",null,"GENERAL","RANG"]
[null,null,"POULE A",null,null,null,null,null,null,null,null,null,null,null,null,null,null,null,null,null,null,null,null,null,null,null,null,null,null,null,"Point-Match","CLS-M","Moy-Gen","CLS-G","Moy-Part","CLS-P","M-Series","CLS-S","MGPS","CLS","CLS"]
[null,null,null,null,null,null,null,null,null,null,{"$f":"C7","v":0},null,"L",null,null,{"$f":"D32","v":0},null,{"$f":"E32","v":0},{"$f":"D26","v":0},null,{"$f":"E26","v":0},{"$f":"D20","v":0},null,{"$f":"E20","v":0},null,{"$f":"P17+S17+V17","v":0},null,{"$f":"R17+U17+X17","v":0},{"$f":"AP17","v":{"$error":"#DIV/0!"}},null,{"$f":"AA18","v":0.03},{"$f":"RANK(AE17,AE$17:AE$28,0)","v":1},{"$f":"AB19","v":{"$error":"#DIV/0!"}},{"$f":"RANK(AG17,AG$17:AG$28,0)","v":{"$error":"#DIV/0!"}},{"$f":"MAX(R19,U19,X19)","v":{"$error":"#DIV/0!"}},{"$f":"RANK(AI17,AI$17:AI$28)","v":{"$error":"#DIV/0!"}},{"$f":"Z19","v":0},{"$f":"RANK(AK17,AK$17:AK$28)","v":1},{"$f":"(AF17*1000)+(AH17*100)+(AJ17*10)+(AL17*1)","v":{"$error":"#DIV/0!"}},{"$f":"AM17","v":{"$error":"#DIV/0!"}},{"$f":"RANK(AN17,AN$17:AN$28,1)","v":{"$error":"#DIV/0!"}},{"$f":"RANK(AO17,AO$17:AO$28,1)","v":{"$error":"#DIV/0!"}}]
[null,null,null,null,null,null,null,null,null,null,null,null,null,null,null,null,{"$f":"IF(R17<1,0.01,IF(P17>M20,2,IF(P17=M20,1,0)))","v":0.01},null,null,{"$f":"IF(U17<1,0.01,IF(S17>M23,2,IF(S17=M23,1,0)))","v":0.01},null,null,{"$f":"IF(X17<1,0.01,IF(V17>M26,2,IF(V17=M26,1,0)))","v":0.01},null,null,null,{"$f":"Q18+T18+W18","v":0.03}]
[null,null,null,"Pts","Rep","Série",null,null,null,null,null,null,null,null,null,{"$f":"F32","v":0},null,{"$f":"P17/R17","v":{"$error":"#DIV/0!"}},{"$f":"F26","v":0},null,{"$f":"S17/U17","v":{"$error":"#DIV/0!"}},{"$f":"F20","v":0},null,{"$f":"V17/X17","v":{"$error":"#DIV/0!"}},null,{"$f":"MAX(P19,S19,V19)","v":0},null,{"$f":"Z17/AB17","v":{"$error":"#DIV/0!"}}]
[null,"Tour 1",{"$f":"C7","v":0},null,null,null,null,null,null,null,{"$f":"C8","v":0},null,{"$f":"D33","v":0},null,{"$f":"E32","v":0},"M",null,null,{"$f":"D23","v":0},null,{"$f":"E23","v":0},{"$f":"D30","v":0},null,{"$f":"E29","v":0},null,{"$f":"M20+S20+V20","v":0},null,{"$f":"O20+U20+X20","v":0},{"$f":"AP20","v":{"$error":"#DIV/0!"}},null,{"$f":"AA21","v":0.03},{"$f":"RANK(AE20,AE$17:AE$28,0)","v":1},{"$f":"AB22","v":{"$error":"#DIV/0!"}},{"$f":"RANK(AG20,AG$17:AG$28,0)","v":{"$error":"#DIV/0!"}},{"$f":"MAX(O22,U22,X22)","v":{"$error":"#DIV/0!"}},{"$f":"RANK(AI20,AI$17:AI$28)","v":{"$error":"#DIV/0!"}},{"$f":"Z22","v":0},{"$f":"RANK(AK20,AK$17:AK$28)","v":1},{"$f":"(AF20*1000)+(AH20*100)+(AJ20*10)+(AL20*1)","v":{"$error":"#DIV/0!"}},{"$f":"AM20","v":{"$error":"#DIV/0!"}},{"$f":"RANK(AN20,AN$17:AN$28,1)","v":{"$error":"#DIV/0!"}},{"$f":"RANK(AO20,AO$17:AO$28,1)","v":{"$error":"#DIV/0!"}}]
[null,null,{"$f":"C10","v":0},null,null,null,null,null,null,null,null,null,null,{"$f":"IF(R17>0,2-Q18,0.01)","v":0.01},null,null,null,null,null,{"$f":"IF(U20<1,0.01,IF(S20>P23,2,IF(S20=P23,1,0)))","v":0.01},null,null,{"$f":"IF(X20<1,0.01,IF(V20>P26,2,IF(V20=P26,1,0)))","v":0.01},null,null,null,{"$f":"N21+T21+W21","v":0.03}]
[null,null,null,null,null,null,null,null,null,null,null,null,{"$f":"F33","v":0},null,{"$f":"M20/O20","v":{"$error":"#DIV/0!"}},null,null,null,{"$f":"F23","v":0},null,{"$f":"S20/U20","v":{"$error":"#DIV/0!"}},{"$f":"F30","v":0},null,{"$f":"V20/X20","v":{"$error":"#DIV/0!"}},null,{"$f":"MAXA(M22,S22,V22)","v":0},null,{"$f":"Z20/AB20","v":{"$error":"#DIV/0!"}}]
[null,"Tour 2",{"$f":"C8","v":0},null,null,null,null,null,null,null,{"$f":"C9","v":0},null,{"$f":"D27","v":0},null,{"$f":"E26","v":0},{"$f":"D24","v":0},null,{"$f":"E23","v":0},"B",null,null,{"$f":"D35","v":0},null,{"$f":"E35","v":0},null,{"$f":"M23+P23+V23","v":0},null,{"$f":"O23+R23+X23","v":0},{"$f":"AP23","v":{"$error":"#DIV/0!"}},null,{"$f":"AA24","v":0.03},{"$f":"RANK(AE23,AE$17:AE$28,0)","v":1},{"$f":"AB25","v":{"$error":"#DIV/0!"}},{"$f":"RANK(AG23,AG$17:AG$28,0)","v":{"$error":"#DIV/0!"}},{"$f":"MAX(O25,R25,X25)","v":{"$error":"#DIV/0!"}},{"$f":"RANK(AI23,AI$17:AI$28)","v":{"$error":"#DIV/0!"}},{"$f":"Z25","v":0},{"$f":"RANK(AK23,AK$17:AK$28)","v":1},{"$f":"(AF23*1000)+(AH23*100)+(AJ23*10)+(AL23*1)","v":{"$error":"#DIV/0!"}},{"$f":"AM23","v":{"$error":"#DIV/0!"}},{"$f":"RANK(AN23,AN$17:AN$28,1)","v":{"$error":"#DIV/0!"}},{"$f":"RANK(AO23,AO$17:AO$28,1)","v":{"$error":"#DIV/0!"}}]
[null,null,{"$f":"C9","v":0},null,null,null,null,null,null,null,null,null,null,{"$f":"IF(U17>0,2-T18,0.01)","v":0.01},null,null,{"$f":"IF(U20>0,2-T21,0.01)","v":0.01},null,null,null,null,null,{"$f":"IF(X23<1,0.01,IF(V23>S26,2,IF(V23=S26,1,0)))","v":0.01},null,null,null,{"$f":"N24+Q24+W24","v":0.03}]
[null,null,null,null,null,null,null,null,null,null,null,null,{"$f":"F27","v":0},null,{"$f":"M23/O23","v":{"$error":"#DIV/0!"}},{"$f":"F24","v":0},null,{"$f":"P23/R23","v":{"$error":"#DIV/0!"}},null,null,null,{"$f":"F35","v":0},null,{"$f":"V23/X23","v":{"$error":"#DIV/0!"}},null,{"$f":"MAXA(M25,P25,V25)","v":0},null,{"$f":"Z23/AB23","v":{"$error":"#DIV/0!"}}]
[null,"Tour 3",{"$f":"C7","v":0},null,null,null,null,null,null,null,{"$f":"C10","v":0},null,{"$f":"D21","v":0},null,{"$f":"E20","v":0},{"$f":"D29","v":0},null,{"$f":"E29","v":0},{"$f":"D36","v":0},null,{"$f":"E35","v":0},null,null,null,null,{"$f":"M26+P26+S26","v":0},null,{"$f":"O26+R26+U26","v":0},{"$f":"AP26","v":{"$error":"#DIV/0!"}},null,{"$f":"AA27","v":0.03},{"$f":"RANK(AE26,AE$17:AE$28,0)","v":1},{"$f":"AB28","v":{"$error":"#DIV/0!"}},{"$f":"RANK(AG26,AG$17:AG$28,0)","v":{"$error":"#DIV/0!"}},{"$f":"MAX(O28,R28,U28)","v":{"$error":"#DIV/0!"}},{"$f":"RANK(AI26,AI$17:AI$28)","v":{"$error":"#DIV/0!"}},{"$f":"Z28","v":0},{"$f":"RANK(AK26,AK$17:AK$28)","v":1},{"$f":"(AF26*1000)+(AH26*100)+(AJ26*10)+(AL26*1)","v":{"$error":"#DIV/0!"}},{"$f":"AM26","v":{"$error":"#DIV/0!"}},{"$f":"RANK(AN26,AN$17:AN$28,1)","v":{"$error":"#DIV/0!"}},{"$f":"RANK(AO26,AO$17:AO$28,1)","v":{"$error":"#DIV/0!"}}]
[null,null,{"$f":"C9","v":0},null,null,null,null,null,null,null,null,null,null,{"$f":"IF(X17>0,2-W18,0.01)","v":0.01},null,null,{"$f":"IF(X20>0,2-W21,0.01)","v":0.01},null,null,{"$f":"IF(X23>0,2-W24,0.01)","v":0.01},null,null,null,null,null,null,{"$f":"N27+Q27+T27","v":0.03}]
[null,null,null,null,null,null,null,null,null,null,null,null,{"$f":"F21","v":0},null,{"$f":"M26/O26","v":{"$error":"#DIV/0!"}},{"$f":"F29","v":0},null,{"$f":"P26/R26","v":{"$error":"#DIV/0!"}},{"$f":"F36","v":0},null,{"$f":"S26/U26","v":{"$error":"#DIV/0!"}},null,null,null,null,{"$f":"MAXA(M28,P28,S28)","v":0},null,{"$f":"Z26/AB26","v":{"$error":"#DIV/0!"}}]
[null,"Tour 4",{"$f":"C10","v":0}]
[null,null,{"$f":"C8","v":0},null,null,null,null,null,null,null,null,null,"Pas de prolongation en cas de match nul."]
[]
[null,"Tour 5",{"$f":"C7","v":0}]
[null,null,{"$f":"C8","v":0}]
[]
[null,"Tour 6",{"$f":"C9","v":0}]
[null,null,{"$f":"C10","v":0}]
[]
[]
[null,"Joueur 1",{"$f":"'Saisie des joueurs'!L19","v":0}]
[null,"Joueur 2",{"$f":"'Saisie des joueurs'!L26","v":0}]
[null,"Joueur 3",{"$f":"'Saisie des joueurs'!L29","v":0}]
[null,"Joueur 4",{"$f":"'Saisie des joueurs'!L36","v":0}]
[]
[]
[null,"SAISIE DES RESULTATS",null,null,null,null,null,null,null,null,null,null,{"$f":"C39","v":0},null,null,{"$f":"C40","v":0},null,null,{"$f":"C41","v":0},null,null,{"$f":"C42","v":0}]
[null,null,null,null,null,null,null,null,null,null,null,null,null,null,null,null,null,null,null,null,null,null,null,null,null,"TOTAUX",null,null,"CLASSEMENT"]
[null,null,null,null,null,null,null,null,null,null,null,null,null,null,null,null,null,null,null,null,null,null,null,null,null,null,null,null,null,null,"Classement",null,"Classement",null,"Classement",null,"Classement",null,"Classement",null,"GENERAL","RANG"]
[null,null,"POULE B",null,null,null,null,null,null,null,null,null,null,null,null,null,null,null,null,null,null,null,null,null,null,null,null,null,null,null,"Point-Match","CLS-M","Moy-Gen","CLS-G","Moy-Part","CLS-P","M-Series","CLS-S","MGPS","CLS","CLS"]
[null,null,null,null,null,null,null,null,null,null,{"$f":"C39","v":0},null,"L",null,null,{"$f":"D64","v":0},null,{"$f":"E64","v":0},{"$f":"D58","v":0},null,{"$f":"E58","v":0},{"$f":"D52","v":0},null,{"$f":"E52","v":0},null,{"$f":"P49+S49+V49","v":0},null,{"$f":"R49+U49+X49","v":0},{"$f":"AP49","v":{"$error":"#DIV/0!"}},null,{"$f":"AA50","v":0.03},{"$f":"RANK(AE49,AE$49:AE$60,0)","v":1},{"$f":"AB51","v":{"$error":"#DIV/0!"}},{"$f":"RANK(AG49,AG$49:AG$60,0)","v":{"$error":"#DIV/0!"}},{"$f":"MAX(R51,U51,X51)","v":{"$error":"#DIV/0!"}},{"$f":"RANK(AI49,AI$49:AI$60)","v":{"$error":"#DIV/0!"}},{"$f":"Z51","v":0},{"$f":"RANK(AK49,AK$49:AK$60)","v":1},{"$f":"(AF49*1000)+(AH49*100)+(AJ49*10)+(AL49*1)","v":{"$error":"#DIV/0!"}},{"$f":"AM49","v":{"$error":"#DIV/0!"}},{"$f":"RANK(AN49,AN$49:AN$60,1)","v":{"$error":"#DIV/0!"}},{"$f":"RANK(AO49,AO$49:AO$60,1)","v":{"$error":"#DIV/0!"}}]
[null,null,null,null,null,null,null,null,null,null,null,null,null,null,null,null,{"$f":"IF(R49<1,0.01,IF(P49>M52,2,IF(P49=M52,1,0)))","v":0.01},null,null,{"$f":"IF(U49<1,0.01,IF(S49>M55,2,IF(S49=M55,1,0)))","v":0.01},null,null,{"$f":"IF(X49<1,0.01,IF(V49>M58,2,IF(V49=M58,1,0)))","v":0.01},null,null,null,{"$f":"Q50+T50+W50","v":0.03}]
[null,null,null,"Pts","Rep","Série",null,null,null,null,null,null,null,null,null,{"$f":"F64","v":0},null,{"$f":"P49/R49","v":{"$error":"#DIV/0!"}},{"$f":"F58","v":0},null,{"$f":"S49/U49","v":{"$error":"#DIV/0!"}},{"$f":"F52","v":0},null,{"$f":"V49/X49","v":{"$error":"#DIV/0!"}},null,{"$f":"MAX(P51,S51,V51)","v":0},null,{"$f":"Z49/AB49","v":{"$error":"#DIV/0!"}}]
[null,"Tour 1",{"$f":"C39","v":0},null,null,null,null,null,null,null,{"$f":"C40","v":0},null,{"$f":"D65","v":0},null,{"$f":"E64","v":0},"M",null,null,{"$f":"D55","v":0},null,{"$f":"E55","v":0},{"$f":"D62","v":0},null,{"$f":"E61","v":0},null,{"$f":"M52+S52+V52","v":0},null,{"$f":"O52+U52+X52","v":0},{"$f":"AP52","v":{"$error":"#DIV/0!"}},null,{"$f":"AA53","v":0.03},{"$f":"RANK(AE52,AE$49:AE$60,0)","v":1},{"$f":"AB54","v":{"$error":"#DIV/0!"}},{"$f":"RANK(AG52,AG$49:AG$60,0)","v":{"$error":"#DIV/0!"}},{"$f":"MAX(O54,U54,X54)","v":{"$error":"#DIV/0!"}},{"$f":"RANK(AI52,AI$49:AI$60)","v":{"$error":"#DIV/0!"}},{"$f":"Z54","v":0},{"$f":"RANK(AK52,AK$49:AK$60)","v":1},{"$f":"(AF52*1000)+(AH52*100)+(AJ52*10)+(AL52*1)","v":{"$error":"#DIV/0!"}},{"$f":"AM52","v":{"$error":"#DIV/0!"}},{"$f":"RANK(AN52,AN$49:AN$60,1)","v":{"$error":"#DIV/0!"}},{"$f":"RANK(AO52,AO$49:AO$60,1)","v":{"$error":"#DIV/0!"}}]
[null,null,{"$f":"C42","v":0},null,null,null,null,null,null,null,null,null,null,{"$f":"IF(R49>0,2-Q50,0.01)","v":0.01},null,null,null,null,null,{"$f":"IF(U52<1,0.01,IF(S52>P55,2,IF(S52=P55,1,0)))","v":0.01},null,null,{"$f":"IF(X52<1,0.01,IF(V52>P58,2,IF(V52=P58,1,0)))","v":0.01},null,null,null,{"$f":"N53+T53+W53","v":0.03}]
[null,null,null,null,null,null,null,null,null,null,null,null,{"$f":"F65","v":0},null,{"$f":"M52/O52","v":{"$error":"#DIV/0!"}},null,null,null,{"$f":"F55","v":0},null,{"$f":"S52/U52","v":{"$error":"#DIV/0!"}},{"$f":"F62","v":0},null,{"$f":"V52/X52","v":{"$error":"#DIV/0!"}},null,{"$f":"MAXA(M54,S54,V54)","v":0},null,{"$f":"Z52/AB52","v":{"$error":"#DIV/0!"}}]
[null,"Tour 2",{"$f":"C40","v":0},null,null,null,null,null,null,null,{"$f":"C41","v":0},null,{"$f":"D59","v":0},null,{"$f":"E58","v":0},{"$f":"D56","v":0},null,{"$f":"E55","v":0},"B",null,null,{"$f":"D67","v":0},null,{"$f":"E67","v":0},null,{"$f":"M55+P55+V55","v":0},null,{"$f":"O55+R55+X55","v":0},{"$f":"AP55","v":{"$error":"#DIV/0!"}},null,{"$f":"AA56","v":0.03},{"$f":"RANK(AE55,AE$49:AE$60,0)","v":1},{"$f":"AB57","v":{"$error":"#DIV/0!"}},{"$f":"RANK(AG55,AG$49:AG$60,0)","v":{"$error":"#DIV/0!"}},{"$f":"MAX(O57,R57,X57)","v":{"$error":"#DIV/0!"}},{"$f":"RANK(AI55,AI$49:AI$60)","v":{"$error":"#DIV/0!"}},{"$f":"Z57","v":0},{"$f":"RANK(AK55,AK$49:AK$60)","v":1},{"$f":"(AF55*1000)+(AH55*100)+(AJ55*10)+(AL55*1)","v":{"$error":"#DIV/0!"}},{"$f":"AM55","v":{"$error":"#DIV/0!"}},{"$f":"RANK(AN55,AN$49:AN$60,1)","v":{"$error":"#DIV/0!"}},{"$f":"RANK(AO55,AO$49:AO$60,1)","v":{"$error":"#DIV/0!"}}]
[null,null,{"$f":"C41","v":0},null,null,null,null,null,null,null,null,null,null,{"$f":"IF(U49>0,2-T50,0.01)","v":0.01},null,null,{"$f":"IF(U52>0,2-T53,0.01)","v":0.01},null,null,null,null,null,{"$f":"IF(X55<1,0.01,IF(V55>S58,2,IF(V55=S58,1,0)))","v":0.01},null,null,null,{"$f":"N56+Q56+W56","v":0.03}]
[null,null,null,null,null,null,null,null,null,null,null,null,{"$f":"F59","v":0},null,{"$f":"M55/O55","v":{"$error":"#DIV/0!"}},{"$f":"F56","v":0},null,{"$f":"P55/R55","v":{"$error":"#DIV/0!"}},null,null,null,{"$f":"F67","v":0},null,{"$f":"V55/X55","v":{"$error":"#DIV/0!"}},null,{"$f":"MAXA(M57,P57,V57)","v":0},null,{"$f":"Z55/AB55","v":{"$error":"#DIV/0!"}}]
[null,"Tour 3",{"$f":"C39","v":0},null,null,null,null,null,null,null,{"$f":"C42","v":0},null,{"$f":"D53","v":0},null,{"$f":"E52","v":0},{"$f":"D61","v":0},null,{"$f":"E61","v":0},{"$f":"D68","v":0},null,{"$f":"E67","v":0},null,null,null,null,{"$f":"M58+P58+S58","v":0},null,{"$f":"O58+R58+U58","v":0},{"$f":"AP58","v":{"$error":"#DIV/0!"}},null,{"$f":"AA59","v":0.03},{"$f":"RANK(AE58,AE$49:AE$60,0)","v":1},{"$f":"AB60","v":{"$error":"#DIV/0!"}},{"$f":"RANK(AG58,AG$49:AG$60,0)","v":{"$error":"#DIV/0!"}},{"$f":"MAX(O60,R60,U60)","v":{"$error":"#DIV/0!"}},{"$f":"RANK(AI58,AI$49:AI$60)","v":{"$error":"#DIV/0!"}},{"$f":"Z60","v":0},{"$f":"RANK(AK58,AK$49:AK$60)","v":1},{"$f":"(AF58*1000)+(AH58*100)+(AJ58*10)+(AL58*1)","v":{"$error":"#DIV/0!"}},{"$f":"AM58","v":{"$error":"#DIV/0!"}},{"$f":"RANK(AN58,AN$49:AN$60,1)","v":{"$error":"#DIV/0!"}},{"$f":"RANK(AO58,AO$49:AO$60,1)","v":{"$error":"#DIV/0!"}}]
[null,null,{"$f":"C41","v":0},null,null,null,null,null,null,null,null,null,null,{"$f":"IF(X49>0,2-W50,0.01)","v":0.01},null,null,{"$f":"IF(X52>0,2-W53,0.01)","v":0.01},null,null,{"$f":"IF(X55>0,2-W56,0.01)","v":0.01},null,null,null,null,null,null,{"$f":"N59+Q59+T59","v":0.03}]
[null,null,null,null,null,null,null,null,null,null,null,null,{"$f":"F53","v":0},null,{"$f":"M58/O58","v":{"$error":"#DIV/0!"}},{"$f":"F61","v":0},null,{"$f":"P58/R58","v":{"$error":"#DIV/0!"}},{"$f":"F68","v":0},null,{"$f":"S58/U58","v":{"$error":"#DIV/0!"}},null,null,null,null,{"$f":"MAXA(M60,P60,S60)","v":0},null,{"$f":"Z58/AB58","v":{"$error":"#DIV/0!"}}]
[null,"Tour 4",{"$f":"C42","v":0}]
[null,null,{"$f":"C40","v":0},null,null,null,null,null,null,null,null,null,"Pas de prolongation en cas de match nul."]
[]
[null,"Tour 5",{"$f":"C39","v":0}]
[null,null,{"$f":"C40","v":0}]
[]
[null,"Tour 6",{"$f":"C41","v":0}]
[null,null,{"$f":"C42","v":0}]
[]
[null,"Joueur 1",{"$f":"'Saisie des joueurs'!L20","v":0}]
[null,"Joueur 2",{"$f":"'Saisie des joueurs'!L25","v":0}]
[null,"Joueur 3",{"$f":"'Saisie des joueurs'!L30","v":0}]
[null,"Joueur 4",{"$f":"'Saisie des joueurs'!L35","v":0}]
[]
[]
[null,"SAISIE DES RESULTATS",null,null,null,null,null,null,null,null,null,null,{"$f":"C70","v":0},null,null,{"$f":"C71","v":0},null,null,{"$f":"C72","v":0},null,null,{"$f":"C73","v":0}]
[null,null,null,null,null,null,null,null,null,null,null,null,null,null,null,null,null,null,null,null,null,null,null,null,null,"TOTAUX",null,null,"CLASSEMENT"]
[null,null,null,null,null,null,null,null,null,null,null,null,null,null,null,null,null,null,null,null,null,null,null,null,null,null,null,null,null,null,"Classement",null,"Classement",null,"Classement",null,"Classement",null,"Classement",null,"GENERAL","RANG"]
[null,null,"POULE C",null,null,null,null,null,null,null,null,null,null,null,null,null,null,null,null,null,null,null,null,null,null,null,null,null,null,null,"Point-Match","CLS-M","Moy-Gen","CLS-G","Moy-Part","CLS-P","M-Series","CLS-S","MGPS","CLS","CLS"]
[null,null,null,null,null,null,null,null,null,null,{"$f":"C70","v":0},null,"L",null,null,{"$f":"D95","v":0},null,{"$f":"E95","v":0},{"$f":"D89","v":0},null,{"$f":"E89","v":0},{"$f":"D83","v":0},null,{"$f":"E83","v":0},null,{"$f":"P80+S80+V80","v":0},null,{"$f":"R80+U80+X80","v":0},{"$f":"AP80","v":{"$error":"#DIV/0!"}},null,{"$f":"AA81","v":0.03},{"$f":"RANK(AE80,AE$80:AE$91,0)","v":1},{"$f":"AB82","v":{"$error":"#DIV/0!"}},{"$f":"RANK(AG80,AG$80:AG$91,0)","v":{"$error":"#DIV/0!"}},{"$f":"MAX(R82,U82,X82)","v":{"$error":"#DIV/0!"}},{"$f":"RANK(AI80,AI$80:AI$91)","v":{"$error":"#DIV/0!"}},{"$f":"Z82","v":0},{"$f":"RANK(AK80,AK$49:AK$60)","v":1},{"$f":"(AF80*1000)+(AH80*100)+(AJ80*10)+(AL80*1)","v":{"$error":"#DIV/0!"}},{"$f":"AM80","v":{"$error":"#DIV/0!"}},{"$f":"RANK(AN80,AN$80:AN$91,1)","v":{"$error":"#DIV/0!"}},{"$f":"RANK(AO80,AO$80:AO$91,1)","v":{"$error":"#DIV/0!"}}]
[null,null,null,null,null,null,null,null,null,null,null,null,null,null,null,null,{"$f":"IF(R80<1,0.01,IF(P80>M83,2,IF(P80=M83,1,0)))","v":0.01},null,null,{"$f":"IF(U80<1,0.01,IF(S80>M86,2,IF(S80=M86,1,0)))","v":0.01},null,null,{"$f":"IF(X80<1,0.01,IF(V80>M89,2,IF(V80=M89,1,0)))","v":0.01},null,null,null,{"$f":"Q81+T81+W81","v":0.03}]
[null,null,null,"Pts","Rep","Série",null,null,null,null,null,null,null,null,null,{"$f":"F95","v":0},null,{"$f":"P80/R80","v":{"$error":"#DIV/0!"}},{"$f":"F89","v":0},null,{"$f":"S80/U80","v":{"$error":"#DIV/0!"}},{"$f":"F83","v":0},null,{"$f":"V80/X80","v":{"$error":"#DIV/0!"}},null,{"$f":"MAX(P82,S82,V82)","v":0},null,{"$f":"Z80/AB80","v":{"$error":"#DIV/0!"}}]
[null,"Tour 1",{"$f":"C70","v":0},null,null,null,null,null,null,null,{"$f":"C71","v":0},null,{"$f":"D96","v":0},null,{"$f":"E95","v":0},"M",null,null,{"$f":"D86","v":0},null,{"$f":"E86","v":0},{"$f":"D93","v":0},null,{"$f":"E92","v":0},null,{"$f":"M83+S83+V83","v":0},null,{"$f":"O83+U83+X83","v":0},{"$f":"AP83","v":{"$error":"#DIV/0!"}},null,{"$f":"AA84","v":0.03},{"$f":"RANK(AE83,AE$80:AE$91,0)","v":1},{"$f":"AB85","v":{"$error":"#DIV/0!"}},{"$f":"RANK(AG83,AG$80:AG$91,0)","v":{"$error":"#DIV/0!"}},{"$f":"MAX(O85,U85,X85)","v":{"$error":"#DIV/0!"}},{"$f":"RANK(AI83,AI$80:AI$91)","v":{"$error":"#DIV/0!"}},{"$f":"Z85","v":0},{"$f":"RANK(AK83,AK$49:AK$60)","v":1},{"$f":"(AF83*1000)+(AH83*100)+(AJ83*10)+(AL83*1)","v":{"$error":"#DIV/0!"}},{"$f":"AM83","v":{"$error":"#DIV/0!"}},{"$f":"RANK(AN83,AN$80:AN$91,1)","v":{"$error":"#DIV/0!"}},{"$f":"RANK(AO83,AO$80:AO$91,1)","v":{"$error":"#DIV/0!"}}]
[null,null,{"$f":"C73","v":0},null,null,null,null,null,null,null,null,null,null,{"$f":"IF(R80>0,2-Q81,0.01)","v":0.01},null,null,null,null,null,{"$f":"IF(U83<1,0.01,IF(S83>P86,2,IF(S83=P86,1,0)))","v":0.01},null,null,{"$f":"IF(X83<1,0.01,IF(V83>P89,2,IF(V83=P89,1,0)))","v":0.01},null,null,null,{"$f":"N84+T84+W84","v":0.03}]
[null,null,null,null,null,null,null,null,null,null,null,null,{"$f":"F96","v":0},null,{"$f":"M83/O83","v":{"$error":"#DIV/0!"}},null,null,null,{"$f":"F86","v":0},null,{"$f":"S83/U83","v":{"$error":"#DIV/0!"}},{"$f":"F93","v":0},null,{"$f":"V83/X83","v":{"$error":"#DIV/0!"}},null,{"$f":"MAXA(M85,S85,V85)","v":0},null,{"$f":"Z83/AB83","v":{"$error":"#DIV/0!"}}]
[null,"Tour 2",{"$f":"C71","v":0},null,null,null,null,null,null,null,{"$f":"C72","v":0},null,{"$f":"D90","v":0},null,{"$f":"E89","v":0},{"$f":"D87","v":0},null,{"$f":"E86","v":0},"B",null,null,{"$f":"D98","v":0},null,{"$f":"E98","v":0},null,{"$f":"M86+P86+V86","v":0},null,{"$f":"O86+R86+X86","v":0},{"$f":"AP86","v":{"$error":"#DIV/0!"}},null,{"$f":"AA87","v":0.03},{"$f":"RANK(AE86,AE$80:AE$91,0)","v":1},{"$f":"AB88","v":{"$error":"#DIV/0!"}},{"$f":"RANK(AG86,AG$80:AG$91,0)","v":{"$error":"#DIV/0!"}},{"$f":"MAX(O88,R88,X88)","v":{"$error":"#DIV/0!"}},{"$f":"RANK(AI86,AI$80:AI$91)","v":{"$error":"#DIV/0!"}},{"$f":"Z88","v":0},{"$f":"RANK(AK86,AK$49:AK$60)","v":1},{"$f":"(AF86*1000)+(AH86*100)+(AJ86*10)+(AL86*1)","v":{"$error":"#DIV/0!"}},{"$f":"AM86","v":{"$error":"#DIV/0!"}},{"$f":"RANK(AN86,AN$80:AN$91,1)","v":{"$error":"#DIV/0!"}},{"$f":"RANK(AO86,AO$80:AO$91,1)","v":{"$error":"#DIV/0!"}}]
[null,null,{"$f":"C72","v":0},null,null,null,null,null,null,null,null,null,null,{"$f":"IF(U80>0,2-T81,0.01)","v":0.01},null,null,{"$f":"IF(U83>0,2-T84,0.01)","v":0.01},null,null,null,null,null,{"$f":"IF(X86<1,0.01,IF(V86>S89,2,IF(V86=S89,1,0)))","v":0.01},null,null,null,{"$f":"N87+Q87+W87","v":0.03}]
[null,null,null,null,null,null,null,null,null,null,null,null,{"$f":"F90","v":0},null,{"$f":"M86/O86","v":{"$error":"#DIV/0!"}},{"$f":"F87","v":0},null,{"$f":"P86/R86","v":{"$error":"#DIV/0!"}},null,null,null,{"$f":"F98","v":0},null,{"$f":"V86/X86","v":{"$error":"#DIV/0!"}},null,{"$f":"MAXA(M88,P88,V88)","v":0},null,{"$f":"Z86/AB86","v":{"$error":"#DIV/0!"}}]
[null,"Tour 3",{"$f":"C70","v":0},null,null,null,null,null,null,null,{"$f":"C73","v":0},null,{"$f":"D84","v":0},null,{"$f":"E83","v":0},{"$f":"D92","v":0},null,{"$f":"E92","v":0},{"$f":"D99","v":0},null,{"$f":"E98","v":0},null,null,null,null,{"$f":"M89+P89+S89","v":0},null,{"$f":"O89+R89+U89","v":0},{"$f":"AP89","v":{"$error":"#DIV/0!"}},null,{"$f":"AA90","v":0.03},{"$f":"RANK(AE89,AE$80:AE$91,0)","v":1},{"$f":"AB91","v":{"$error":"#DIV/0!"}},{"$f":"RANK(AG89,AG$80:AG$91,0)","v":{"$error":"#DIV/0!"}},{"$f":"MAX(O91,R91,U91)","v":{"$error":"#DIV/0!"}},{"$f":"RANK(AI89,AI$80:AI$91)","v":{"$error":"#DIV/0!"}},{"$f":"Z91","v":0},{"$f":"RANK(AK89,AK$49:AK$60)","v":1},{"$f":"(AF89*1000)+(AH89*100)+(AJ89*10)+(AL89*1)","v":{"$error":"#DIV/0!"}},{"$f":"AM89","v":{"$error":"#DIV/0!"}},{"$f":"RANK(AN89,AN$80:AN$91,1)","v":{"$error":"#DIV/0!"}},{"$f":"RANK(AO89,AO$80:AO$91,1)","v":{"$error":"#DIV/0!"}}]
[null,null,{"$f":"C72","v":0},null,null,null,null,null,null,null,null,null,null,{"$f":"IF(X80>0,2-W81,0.01)","v":0.01},null,null,{"$f":"IF(X83>0,2-W84,0.01)","v":0.01},null,null,{"$f":"IF(X86>0,2-W87,0.01)","v":0.01},null,null,null,null,null,null,{"$f":"N90+Q90+T90","v":0.03}]
[null,null,null,null,null,null,null,null,null,null,null,null,{"$f":"F84","v":0},null,{"$f":"M89/O89","v":{"$error":"#DIV/0!"}},{"$f":"F92","v":0},null,{"$f":"P89/R89","v":{"$error":"#DIV/0!"}},{"$f":"F99","v":0},null,{"$f":"S89/U89","v":{"$error":"#DIV/0!"}},null,null,null,null,{"$f":"MAXA(M91,P91,S91)","v":0},null,{"$f":"Z89/AB89","v":{"$error":"#DIV/0!"}}]
[null,"Tour 4",{"$f":"C73","v":0}]
[null,null,{"$f":"C71","v":0},null,null,null,null,null,null,null,null,null,"Pas de prolongation en cas de match nul."]
[]
[null,"Tour 5",{"$f":"C70","v":0}]
[null,null,{"$f":"C71","v":0}]
[]
[null,"Tour 6",{"$f":"C72","v":0}]
[null,null,{"$f":"C73","v":0}]
[]
[null,"Joueur 1",{"$f":"'Saisie des joueurs'!L21","v":0}]
[null,"Joueur 2",{"$f":"'Saisie des joueurs'!L24","v":0}]
[null,"Joueur 3",{"$f":"'Saisie des joueurs'!L31","v":0}]
[null,"Joueur 4",{"$f":"'Saisie des joueurs'!L34","v":0}]
[]
[]
[null,"SAISIE DES RESULTATS",null,null,null,null,null,null,null,null,null,null,{"$f":"C101","v":0},null,null,{"$f":"C102","v":0},null,null,{"$f":"C103","v":0},null,null,{"$f":"C104","v":0}]
[null,null,null,null,null,null,null,null,null,null,null,null,null,null,null,null,null,null,null,null,null,null,null,null,null,"TOTAUX",null,null,"CLASSEMENT"]
[null,null,null,null,null,null,null,null,null,null,null,null,null,null,null,null,null,null,null,null,null,null,null,null,null,null,null,null,null,null,"Classement",null,"Classement",null,"Classement",null,"Classement",null,"Classement",null,"GENERAL","RANG"]
[null,null,"POULE D",null,null,null,null,null,null,null,null,null,null,null,null,null,null,null,null,null,null,null,null,null,null,null,null,null,null,null,"Point-Match","CLS-M","Moy-Gen","CLS-G","Moy-Part","CLS-P","M-Series","CLS-S","MGPS","CLS","CLS"]
[null,null,null,null,null,null,null,null,null,null,{"$f":"C101","v":0},null,"L",null,null,{"$f":"D126","v":0},null,{"$f":"E126","v":0},{"$f":"D120","v":0},null,{"$f":"E120","v":0},{"$f":"D114","v":0},null,{"$f":"E114","v":0},null,{"$f":"P111+S111+V111","v":0},null,{"$f":"R111+U111+X111","v":0},{"$f":"AP111","v":{"$error":"#DIV/0!"}},null,{"$f":"AA112","v":0.03},{"$f":"RANK(AE111,AE$111:AE$122,0)","v":1},{"$f":"AB113","v":{"$error":"#DIV/0!"}},{"$f":"RANK(AG111,AG$111:AG$122,0)","v":{"$error":"#DIV/0!"}},{"$f":"MAX(R113,U113,X113)","v":{"$error":"#DIV/0!"}},{"$f":"RANK(AI111,AI$111:AI$122)","v":{"$error":"#DIV/0!"}},{"$f":"Z113","v":0},{"$f":"RANK(AK111,AK$111:AK$122)","v":1},{"$f":"(AF111*1000)+(AH111*100)+(AJ111*10)+(AL111*1)","v":{"$error":"#DIV/0!"}},{"$f":"AM111","v":{"$error":"#DIV/0!"}},{"$f":"RANK(AN111,AN$111:AN$122,1)","v":{"$error":"#DIV/0!"}},{"$f":"RANK(AO111,AO$111:AO$122,1)","v":{"$error":"#DIV/0!"}}]
[null,null,null,null,null,null,null,null,null,null,null,null,null,null,null,null,{"$f":"IF(R111<1,0.01,IF(P111>M114,2,IF(P111=M114,1,0)))","v":0.01},null,null,{"$f":"IF(U111<1,0.01,IF(S111>M117,2,IF(S111=M117,1,0)))","v":0.01},null,null,{"$f":"IF(X111<1,0.01,IF(V111>M120,2,IF(V111=M120,1,0)))","v":0.01},null,null,null,{"$f":"Q112+T112+W112","v":0.03}]
[null,null,null,"Pts","Rep","Série",null,null,null,null,null,null,null,null,null,{"$f":"F126","v":0},null,{"$f":"P111/R111","v":{"$error":"#DIV/0!"}},{"$f":"F120","v":0},null,{"$f":"S111/U111","v":{"$error":"#DIV/0!"}},{"$f":"F114","v":0},null,{"$f":"V111/X111","v":{"$error":"#DIV/0!"}},null,{"$f":"MAX(P113,S113,V113)","v":0},null,{"$f":"Z111/AB111","v":{"$error":"#DIV/0!"}}]
[null,"Tour 1",{"$f":"C101","v":0},null,null,null,null,null,null,null,{"$f":"C102","v":0},null,{"$f":"D127","v":0},null,{"$f":"E126","v":0},"M",null,null,{"$f":"D117","v":0},null,{"$f":"E117","v":0},{"$f":"D124","v":0},null,{"$f":"E123","v":0},null,{"$f":"M114+S114+V114","v":0},null,{"$f":"O114+U114+X114","v":0},{"$f":"AP114","v":{"$error":"#DIV/0!"}},null,{"$f":"AA115","v":0.03},{"$f":"RANK(AE114,AE$111:AE$122,0)","v":1},{"$f":"AB116","v":{"$error":"#DIV/0!"}},{"$f":"RANK(AG114,AG$111:AG$122,0)","v":{"$error":"#DIV/0!"}},{"$f":"MAX(R116,U116,X116)","v":{"$error":"#DIV/0!"}},{"$f":"RANK(AI114,AI$111:AI$122)","v":{"$error":"#DIV/0!"}},{"$f":"Z116","v":0},{"$f":"RANK(AK114,AK$111:AK$122)","v":1},{"$f":"(AF114*1000)+(AH114*100)+(AJ114*10)+(AL114*1)","v":{"$error":"#DIV/0!"}},{"$f":"AM114","v":{"$error":"#DIV/0!"}},{"$f":"RANK(AN114,AN$111:AN$122,1)","v":{"$error":"#DIV/0!"}},{"$f":"RANK(AO114,AO$111:AO$122,1)","v":{"$error":"#DIV/0!"}}]
[null,null,{"$f":"C104","v":0},null,null,null,null,null,null,null,null,null,null,{"$f":"IF(R111>0,2-Q112,0.01)","v":0.01},null,null,null,null,null,{"$f":"IF(U114<1,0.01,IF(S114>P117,2,IF(S114=P117,1,0)))","v":0.01},null,null,{"$f":"IF(X114<1,0.01,IF(V114>P120,2,IF(V114=P120,1,0)))","v":0.01},null,null,null,{"$f":"N115+T115+W115","v":0.03}]
[null,null,null,null,null,null,null,null,null,null,null,null,{"$f":"F127","v":0},null,{"$f":"M114/O114","v":{"$error":"#DIV/0!"}},null,null,null,{"$f":"F117","v":0},null,{"$f":"S114/U114","v":{"$error":"#DIV/0!"}},{"$f":"F124","v":0},null,{"$f":"V114/X114","v":{"$error":"#DIV/0!"}},null,{"$f":"MAXA(M116,S116,V116)","v":0},null,{"$f":"Z114/AB114","v":{"$error":"#DIV/0!"}}]
[null,"Tour 2",{"$f":"C102","v":0},null,null,null,null,null,null,null,{"$f":"C103","v":0},null,{"$f":"D121","v":0},null,{"$f":"E120","v":0},{"$f":"D118","v":0},null,{"$f":"E117","v":0},"B",null,null,{"$f":"D129","v":0},null,{"$f":"E129","v":0},null,{"$f":"M117+P117+V117","v":0},null,{"$f":"O117+R117+X117","v":0},{"$f":"AP117","v":{"$error":"#DIV/0!"}},null,{"$f":"AA118","v":0.03},{"$f":"RANK(AE117,AE$111:AE$122,0)","v":1},{"$f":"AB119","v":{"$error":"#DIV/0!"}},{"$f":"RANK(AG117,AG$111:AG$122,0)","v":{"$error":"#DIV/0!"}},{"$f":"MAX(R119,U119,X119)","v":{"$error":"#DIV/0!"}},{"$f":"RANK(AI117,AI$111:AI$122)","v":{"$error":"#DIV/0!"}},{"$f":"Z119","v":0},{"$f":"RANK(AK117,AK$111:AK$122)","v":1},{"$f":"(AF117*1000)+(AH117*100)+(AJ117*10)+(AL117*1)","v":{"$error":"#DIV/0!"}},{"$f":"AM117","v":{"$error":"#DIV/0!"}},{"$f":"RANK(AN117,AN$111:AN$122,1)","v":{"$error":"#DIV/0!"}},{"$f":"RANK(AO117,AO$111:AO$122,1)","v":{"$error":"#DIV/0!"}}]
[null,null,{"$f":"C103","v":0},null,null,null,null,null,null,null,null,null,null,{"$f":"IF(U111>0,2-T112,0.01)","v":0.01},null,null,{"$f":"IF(U114>0,2-T115,0.01)","v":0.01},null,null,null,null,null,{"$f":"IF(X117<1,0.01,IF(V117>S120,2,IF(V117=S120,1,0)))","v":0.01},null,null,null,{"$f":"N118+Q118+W118","v":0.03}]
[null,null,null,null,null,null,null,null,null,null,null,null,{"$f":"F121","v":0},null,{"$f":"M117/O117","v":{"$error":"#DIV/0!"}},{"$f":"F118","v":0},null,{"$f":"P117/R117","v":{"$error":"#DIV/0!"}},null,null,null,{"$f":"F129","v":0},null,{"$f":"V117/X117","v":{"$error":"#DIV/0!"}},null,{"$f":"MAXA(M119,P119,V119)","v":0},null,{"$f":"Z117/AB117","v":{"$error":"#DIV/0!"}}]
[null,"Tour 3",{"$f":"C101","v":0},null,null,null,null,null,null,null,{"$f":"C104","v":0},null,{"$f":"D115","v":0},null,{"$f":"E114","v":0},{"$f":"D123","v":0},null,{"$f":"E123","v":0},{"$f":"D130","v":0},null,{"$f":"E129","v":0},null,null,null,null,{"$f":"M120+P120+S120","v":0},null,{"$f":"O120+R120+U120","v":0},{"$f":"AP120","v":{"$error":"#DIV/0!"}},null,{"$f":"AA121","v":0.03},{"$f":"RANK(AE120,AE$111:AE$122,0)","v":1},{"$f":"AB122","v":{"$error":"#DIV/0!"}},{"$f":"RANK(AG120,AG$111:AG$122,0)","v":{"$error":"#DIV/0!"}},{"$f":"MAX(R122,U122,X122)","v":{"$error":"#DIV/0!"}},{"$f":"RANK(AI120,AI$111:AI$122)","v":{"$error":"#DIV/0!"}},{"$f":"Z122","v":0},{"$f":"RANK(AK120,AK$111:AK$122)","v":1},{"$f":"(AF120*1000)+(AH120*100)+(AJ120*10)+(AL120*1)","v":{"$error":"#DIV/0!"}},{"$f":"AM120","v":{"$error":"#DIV/0!"}},{"$f":"RANK(AN120,AN$111:AN$122,1)","v":{"$error":"#DIV/0!"}},{"$f":"RANK(AO120,AO$111:AO$122,1)","v":{"$error":"#DIV/0!"}}]
[null,null,{"$f":"C103","v":0},null,null,null,null,null,null,null,null,null,null,{"$f":"IF(X111>0,2-W112,0.01)","v":0.01},null,null,{"$f":"IF(X114>0,2-W115,0.01)","v":0.01},null,null,{"$f":"IF(X117>0,2-W118,0.01)","v":0.01},null,null,null,null,null,null,{"$f":"N121+Q121+T121","v":0.03}]
[null,null,null,null,null,null,null,null,null,null,null,null,{"$f":"F115","v":0},null,{"$f":"M120/O120","v":{"$error":"#DIV/0!"}},{"$f":"F123","v":0},null,{"$f":"P120/R120","v":{"$error":"#DIV/0!"}},{"$f":"F130","v":0},null,{"$f":"S120/U120","v":{"$error":"#DIV/0!"}},null,null,null,null,{"$f":"MAXA(M122,P122,S122)","v":0},null,{"$f":"Z120/AB120","v":{"$error":"#DIV/0!"}}]
[null,"Tour 4",{"$f":"C104","v":0}]
[null,null,{"$f":"C102","v":0},null,null,null,null,null,null,null,null,null,"Pas de prolongation en cas de match nul."]
[]
[null,"Tour 5",{"$f":"C101","v":0}]
[null,null,{"$f":"C102","v":0}]
[]
[null,"Tour 6",{"$f":"C103","v":0}]
[null,null,{"$f":"C104","v":0}]
[]
[]
[null,"Joueur 1",{"$f":"'Saisie des joueurs'!L22","v":0}]
[null,"Joueur 2",{"$f":"'Saisie des joueurs'!L23","v":0}]
[null,"Joueur 3",{"$f":"'Saisie des joueurs'!L32","v":0}]
[null,"Joueur 4",{"$f":"'Saisie des joueurs'!L33","v":0}]
[]
[]
[null,"SAISIE DES RESULTATS",null,null,null,null,null,null,null,null,null,null,{"$f":"C133","v":0},null,null,{"$f":"C134","v":0},null,null,{"$f":"C135","v":0},null,null,{"$f":"C136","v":0}]
[null,null,null,null,null,null,null,null,null,null,null,null,null,null,null,null,null,null,null,null,null,null,null,null,null,"TOTAUX",null,null,"CLASSEMENT"]
[null,null,null,null,null,null,null,null,null,null,null,null,null,null,null,null,null,null,null,null,null,null,null,null,null,null,null,null,null,null,"Classement",null,"Classement",null,"Classement",null,"Classement",null,"Classement",null,"GENERAL","RANG"]
[null,null,"POULE E",null,null,null,null,null,null,null,null,null,null,null,null,null,null,null,null,null,null,null,null,null,null,null,null,null,null,null,"Point-Match","CLS-M","Moy-Gen","CLS-G","Moy-Part","CLS-P","M-Series","CLS-S","MGPS","CLS","CLS"]
[null,null,null,null,null,null,null,null,null,null,{"$f":"C133","v":0},null,"L",null,null,{"$f":"D158","v":0},null,{"$f":"E158","v":0},{"$f":"D152","v":0},null,{"$f":"E152","v":0},{"$f":"D146","v":0},null,{"$f":"E146","v":0},null,{"$f":"P143+S143+V143","v":0},null,{"$f":"R143+U143+X143","v":0},{"$f":"AP143","v":{"$error":"#DIV/0!"}},null,{"$f":"AA144","v":0.03},{"$f":"RANK(AE143,AE$143:AE$154,0)","v":1},{"$f":"AB145","v":{"$error":"#DIV/0!"}},{"$f":"RANK(AG143,AG$143:AG$154,0)","v":{"$error":"#DIV/0!"}},{"$f":"MAX(R145,U145,X145)","v":{"$error":"#DIV/0!"}},{"$f":"RANK(AI143,AI$143:AI$154)","v":{"$error":"#DIV/0!"}},{"$f":"Z145","v":0},{"$f":"RANK(AK143,AK$143:AK$154)","v":1},{"$f":"(AF143*1000)+(AH143*100)+(AJ143*10)+(AL143*1)","v":{"$error":"#DIV/0!"}},{"$f":"AM143","v":{"$error":"#DIV/0!"}},{"$f":"RANK(AN143,AN$143:AN$154,1)","v":{"$error":"#DIV/0!"}},{"$f":"RANK(AO143,AO$143:AO$154,1)","v":{"$error":"#DIV/0!"}}]
[null,null,null,null,null,null,null,null,null,null,null,null,null,null,null,null,{"$f":"IF(R143<1,0.01,IF(P143>M146,2,IF(P143=M146,1,0)))","v":0.01},null,null,{"$f":"IF(U143<1,0.01,IF(S143>M149,2,IF(S143=M149,1,0)))","v":0.01},null,null,{"$f":"IF(X143<1,0.01,IF(V143>M152,2,IF(V143=M152,1,0)))","v":0.01},null,null,null,{"$f":"Q144+T144+W144","v":0.03}]
[null,null,null,"Pts","Rep","Série",null,null,null,null,null,null,null,null,null,{"$f":"F158","v":0},null,{"$f":"P143/R143","v":{"$error":"#DIV/0!"}},{"$f":"F152","v":0},null,{"$f":"S143/U143","v":{"$error":"#DIV/0!"}},{"$f":"F146","v":0},null,{"$f":"V143/X143","v":{"$error":"#DIV/0!"}},null,{"$f":"MAX(P145,S145,V145)","v":0},null,{"$f":"Z143/AB143","v":{"$error":"#DIV/0!"}}]
[null,"Tour 1",{"$f":"C133","v":0},null,null,null,null,null,null,null,{"$f":"C134","v":0},null,{"$f":"D159","v":0},null,{"$f":"E158","v":0},"M",null,null,{"$f":"D149","v":0},null,{"$f":"E149","v":0},{"$f":"D156","v":0},null,{"$f":"E155","v":0},null,{"$f":"M146+S146+V146","v":0},null,{"$f":"O146+U146+X146","v":0},{"$f":"AP146","v":{"$error":"#DIV/0!"}},null,{"$f":"AA147","v":0.03},{"$f":"RANK(AE146,AE$143:AE$154,0)","v":1},{"$f":"AB148","v":{"$error":"#DIV/0!"}},{"$f":"RANK(AG146,AG$143:AG$154,0)","v":{"$error":"#DIV/0!"}},{"$f":"MAX(R148,U148,X148)","v":{"$error":"#DIV/0!"}},{"$f":"RANK(AI146,AI$143:AI$154)","v":{"$error":"#DIV/0!"}},{"$f":"Z148","v":0},{"$f":"RANK(AK146,AK$143:AK$154)","v":1},{"$f":"(AF146*1000)+(AH146*100)+(AJ146*10)+(AL146*1)","v":{"$error":"#DIV/0!"}},{"$f":"AM146","v":{"$error":"#DIV/0!"}},{"$f":"RANK(AN146,AN$143:AN$154,1)","v":{"$error":"#DIV/0!"}},{"$f":"RANK(AO146,AO$143:AO$154,1)","v":{"$error":"#DIV/0!"}}]
[null,null,{"$f":"C136","v":0},null,null,null,null,null,null,null,null,null,null,{"$f":"IF(R143>0,2-Q144,0.01)","v":0.01},null,null,null,null,null,{"$f":"IF(U146<1,0.01,IF(S146>P149,2,IF(S146=P149,1,0)))","v":0.01},null,null,{"$f":"IF(X146<1,0.01,IF(V146>P152,2,IF(V146=P152,1,0)))","v":0.01},null,null,null,{"$f":"N147+T147+W147","v":0.03}]
[null,null,null,null,null,null,null,null,null,null,null,null,{"$f":"F159","v":0},null,{"$f":"M146/O146","v":{"$error":"#DIV/0!"}},null,null,null,{"$f":"F149","v":0},null,{"$f":"S146/U146","v":{"$error":"#DIV/0!"}},{"$f":"F156","v":0},null,{"$f":"V146/X146","v":{"$error":"#DIV/0!"}},null,{"$f":"MAXA(M148,S148,V148)","v":0},null,{"$f":"Z146/AB146","v":{"$error":"#DIV/0!"}}]
[null,"Tour 2",{"$f":"C134","v":0},null,null,null,null,null,null,null,{"$f":"C135","v":0},null,{"$f":"D153","v":0},null,{"$f":"E152","v":0},{"$f":"D150","v":0},null,{"$f":"E149","v":0},"B",null,null,{"$f":"D161","v":0},null,{"$f":"E161","v":0},null,{"$f":"M149+P149+V149","v":0},null,{"$f":"O149+R149+X149","v":0},{"$f":"AP149","v":{"$error":"#DIV/0!"}},null,{"$f":"AA150","v":0.03},{"$f":"RANK(AE149,AE$143:AE$154,0)","v":1},{"$f":"AB151","v":{"$error":"#DIV/0!"}},{"$f":"RANK(AG149,AG$143:AG$154,0)","v":{"$error":"#DIV/0!"}},{"$f":"MAX(R151,U151,X151)","v":{"$error":"#DIV/0!"}},{"$f":"RANK(AI149,AI$143:AI$154)","v":{"$error":"#DIV/0!"}},{"$f":"Z151","v":0},{"$f":"RANK(AK149,AK$143:AK$154)","v":1},{"$f":"(AF149*1000)+(AH149*100)+(AJ149*10)+(AL149*1)","v":{"$error":"#DIV/0!"}},{"$f":"AM149","v":{"$error":"#DIV/0!"}},{"$f":"RANK(AN149,AN$143:AN$154,1)","v":{"$error":"#DIV/0!"}},{"$f":"RANK(AO149,AO$143:AO$154,1)","v":{"$error":"#DIV/0!"}}]
[null,null,{"$f":"C135","v":0},null,null,null,null,null,null,null,null,null,null,{"$f":"IF(U143>0,2-T144,0.01)","v":0.01},null,null,{"$f":"IF(U146>0,2-T147,0.01)","v":0.01},null,null,null,null,null,{"$f":"IF(X149<1,0.01,IF(V149>S152,2,IF(V149=S152,1,0)))","v":0.01},null,null,null,{"$f":"N150+Q150+W150","v":0.03}]
[null,null,null,null,null,null,null,null,null,null,null,null,{"$f":"F153","v":0},null,{"$f":"M149/O149","v":{"$error":"#DIV/0!"}},{"$f":"F150","v":0},null,{"$f":"P149/R149","v":{"$error":"#DIV/0!"}},null,null,null,{"$f":"F161","v":0},null,{"$f":"V149/X149","v":{"$error":"#DIV/0!"}},null,{"$f":"MAXA(M151,P151,V151)","v":0},null,{"$f":"Z149/AB149","v":{"$error":"#DIV/0!"}}]
[null,"Tour 3",{"$f":"C133","v":0},null,null,null,null,null,null,null,{"$f":"C136","v":0},null,{"$f":"D147","v":0},null,{"$f":"E146","v":0},{"$f":"D155","v":0},null,{"$f":"E155","v":0},{"$f":"D162","v":0},null,{"$f":"E161","v":0},null,null,null,null,{"$f":"M152+P152+S152","v":0},null,{"$f":"O152+R152+U152","v":0},{"$f":"AP152","v":{"$error":"#DIV/0!"}},null,{"$f":"AA153","v":0.03},{"$f":"RANK(AE152,AE$143:AE$154,0)","v":1},{"$f":"AB154","v":{"$error":"#DIV/0!"}},{"$f":"RANK(AG152,AG$143:AG$154,0)","v":{"$error":"#DIV/0!"}},{"$f":"MAX(R154,U154,X154)","v":{"$error":"#DIV/0!"}},{"$f":"RANK(AI152,AI$143:AI$154)","v":{"$error":"#DIV/0!"}},{"$f":"Z154","v":0},{"$f":"RANK(AK152,AK$143:AK$154)","v":1},{"$f":"(AF152*1000)+(AH152*100)+(AJ152*10)+(AL152*1)","v":{"$error":"#DIV/0!"}},{"$f":"AM152","v":{"$error":"#DIV/0!"}},{"$f":"RANK(AN152,AN$143:AN$154,1)","v":{"$error":"#DIV/0!"}},{"$f":"RANK(AO152,AO$143:AO$154,1)","v":{"$error":"#DIV/0!"}}]
[null,null,{"$f":"C135","v":0},null,null,null,null,null,null,null,null,null,null,{"$f":"IF(X143>0,2-W144,0.01)","v":0.01},null,null,{"$f":"IF(X146>0,2-W147,0.01)","v":0.01},null,null,{"$f":"IF(X149>0,2-W150,0.01)","v":0.01},null,null,null,null,null,null,{"$f":"N153+Q153+T153","v":0.03}]
[null,null,null,null,null,null,null,null,null,null,null,null,{"$f":"F147","v":0},null,{"$f":"M152/O152","v":{"$error":"#DIV/0!"}},{"$f":"F155","v":0},null,{"$f":"P152/R152","v":{"$error":"#DIV/0!"}},{"$f":"F162","v":0},null,{"$f":"S152/U152","v":{"$error":"#DIV/0!"}},null,null,null,null,{"$f":"MAXA(M154,P154,S154)","v":0},null,{"$f":"Z152/AB152","v":{"$error":"#DIV/0!"}}]
[null,"Tour 4",{"$f":"C136","v":0}]
[null,null,{"$f":"C134","v":0},null,null,null,null,null,null,null,null,null,"Pas de prolongation en cas de match nul."]
[]
[null,"Tour 5",{"$f":"C133","v":0}]
[null,null,{"$f":"C134","v":0}]
[]
[null,"Tour 6",{"$f":"C135","v":0}]
[null,null,{"$f":"C136","v":0}]

{"sheet":"24JOUEURS","index":32,"n_rows":194,"n_cols":42,"rows_kept":194,"cut":false,"hidden":true,"merged":[[6,2,6,5],[7,2,7,5],[8,2,8,5],[9,2,9,5],[12,1,13,5],[12,12,15,14],[15,2,16,5],[1,1,3,13],[12,15,15,17],[12,18,15,20],[12,21,15,23],[13,10,15,11],[16,40,18,40],[16,41,18,41],[16,35,18,35],[16,36,18,36],[16,37,18,37],[16,38,18,38],[16,39,18,39],[13,25,15,27],[13,28,15,28],[14,30,14,31],[14,32,14,33],[14,34,14,35],[14,36,14,37],[14,38,14,39],[14,41,15,41],[16,10,18,11],[16,12,18,14],[16,28,18,28],[16,30,18,30],[16,31,18,31],[16,32,18,32],[16,33,18,33],[19,31,21,31],[19,32,21,32],[22,32,24,32],[22,33,24,33],[22,34,24,34],[16,34,18,34],[19,1,20,1],[19,4,20,4],[19,10,21,11],[19,15,21,17],[19,28,21,28],[19,30,21,30],[22,1,23,1],[22,4,23,4],[22,10,24,11],[22,18,24,20],[22,28,24,28],[22,30,24,30],[22,31,24,31],[22,38,24,38],[22,39,24,39],[22,40,24,40],[22,41,24,41],[22,35,24,35],[22,36,24,36],[22,37,24,37],[19,33,21,33],[19,34,21,34],[19,35,21,35],[19,36,21,36],[19,37,21,37],[19,38,21,38],[19,39,21,39],[19,40,21,40],[19,41,21,41],[25,37,27,37],[25,38,27,38],[25,39,27,39],[25,40,27,40],[25,41,27,41],[28,1,29,1],[28,4,29,4],[29,12,29,23],[25,31,27,31],[25,32,27,32],[25,33,27,33],[25,34,27,34],[25,35,27,35],[25,36,27,36],[25,1,26,1],[25,4,26,4],[25,10,27,11],[25,21,27,23],[25,28,27,28],[25,30,27,30],[31,1,32,1],[31,4,32,4],[34,1,35,1],[34,4,35,4],[38,2,38,5],[39,2,39,5],[48,41,50,41],[48,35,50,35],[48,36,50,36],[48,37,50,37],[40,2,40,5],[41,2,41,5],[44,1,45,5],[44,12,47,14],[44,15,47,17],[44,18,47,20],[45,28,47,28],[46,30,46,31],[46,32,46,33],[48,38,50,38],[48,39,50,39],[48,40,50,40],[46,41,47,41],[47,2,48,5],[48,10,50,11],[48,12,50,14],[48,28,50,28],[48,30,50,30],[48,31,50,31],[44,21,47,23],[45,10,47,11],[45,25,47,27],[48,32,50,32],[48,33,50,33],[48,34,50,34],[46,34,46,35],[46,36,46,37],[46,38,46,39],[54,39,56,39],[54,40,56,40],[54,41,56,41],[54,30,56,30],[54,31,56,31],[51,36,53,36],[54,36,56,36],[54,1,55,1],[54,4,55,4],[54,10,56,11],[54,18,56,20],[54,28,56,28],[51,31,53,31],[51,30,53,30],[57,39,59,39],[57,40,59,40],[57,1,58,1],[57,4,58,4],[57,10,59,11],[57,21,59,23],[57,28,59,28],[57,30,59,30],[51,1,52,1],[51,4,52,4],[51,10,53,11],[51,15,53,17],[51,28,53,28],[51,32,53,32],[51,33,53,33],[51,34,53,34],[51,35,53,35],[57,41,59,41],[51,37,53,37],[51,38,53,38],[51,39,53,39],[51,40,53,40],[51,41,53,41],[54,37,56,37],[54,38,56,38],[54,32,56,32],[54,33,56,33],[54,34,56,34],[54,35,56,35],[57,37,59,37],[57,38,59,38],[57,34,59,34],[57,35,59,35],[57,36,59,36],[60,1,61,1],[60,4,61,4],[61,12,61,23],[57,31,59,31],[57,32,59,32],[57,33,59,33],[63,1,64,1],[63,4,64,4],[66,1,67,1],[66,4,67,4],[69,2,69,5],[70,2,70,5],[79,41,81,41],[79,35,81,35],[79,36,81,36],[79,37,81,37],[71,2,71,5],[72,2,72,5],[75,1,76,5],[75,12,78,14],[75,15,78,17],[75,18,78,20],[76,28,78,28],[77,30,77,31],[77,32,77,33],[79,38,81,38],[79,39,81,39],[79,40,81,40],[77,41,78,41],[78,2,79,5],[79,10,81,11],[79,12,81,14],[79,28,81,28],[79,30,81,30],[79,31,81,31],[75,21,78,23],[76,10,78,11],[76,25,78,27],[79,32,81,32],[79,33,81,33],[79,34,81,34],[77,34,77,35],[77,36,77,37],[77,38,77,39],[85,39,87,39],[85,40,87,40],[85,41,87,41],[85,30,87,30],[85,31,87,31],[82,1,83,1],[82,4,83,4],[82,10,84,11],[82,15,84,17],[82,28,84,28],[82,32,84,32],[82,33,84,33],[82,34,84,34],[82,35,84,35],[82,36,84,36],[85,36,87,36],[85,1,86,1],[85,4,86,4],[85,10,87,11],[85,18,87,20],[85,28,87,28],[82,31,84,31],[82,30,84,30],[88,39,90,39],[88,40,90,40],[88,41,90,41],[82,37,84,37],[82,38,84,38],[82,39,84,39],[82,40,84,40],[82,41,84,41],[85,37,87,37],[85,38,87,38],[85,32,87,32],[85,33,87,33],[85,34,87,34],[85,35,87,35],[88,37,90,37],[88,38,90,38],[88,34,90,34],[88,35,90,35],[88,36,90,36],[88,31,90,31],[88,32,90,32],[88,33,90,33],[94,1,95,1],[94,4,95,4],[97,1,98,1],[97,4,98,4],[100,2,100,5],[101,2,101,5],[88,1,89,1],[88,4,89,4],[88,10,90,11],[88,21,90,23],[88,28,90,28],[88,30,90,30],[91,1,92,1],[91,4,92,4],[92,12,92,23],[110,41,112,41],[110,35,112,35],[110,36,112,36],[110,37,112,37],[102,2,102,5],[103,2,103,5],[106,1,107,5],[106,12,109,14],[106,15,109,17],[106,18,109,20],[107,28,109,28],[108,30,108,31],[108,32,108,33],[110,38,112,38],[110,39,112,39],[110,40,112,40],[108,41,109,41],[109,2,110,5],[110,10,112,11],[110,12,112,14],[110,28,112,28],[110,30,112,30],[110,31,112,31],[106,21,109,23],[107,10,109,11],[107,25,109,27],[110,32,112,32],[110,33,112,33],[110,34,112,34],[108,34,108,35],[108,36,108,37],[108,38,108,39],[116,39,118,39],[116,34,118,34],[116,35,118,35],[113,34,115,34],[113,35,115,35],[113,36,115,36],[116,36,118,36],[116,1,117,1],[116,4,117,4],[116,10,118,11],[116,18,118,20],[116,28,118,28],[113,31,115,31],[113,30,115,30],[116,32,118,32],[116,33,118,33],[116,30,118,30],[116,31,118,31],[113,1,114,1],[113,4,114,4],[113,10,115,11],[113,15,115,17],[113,28,115,28],[113,32,115,32],[113,33,115,33],[119,39,121,39],[119,40,121,40],[119,41,121,41],[113,37,115,37],[113,38,115,38],[113,39,115,39],[113,40,115,40],[113,41,115,41],[116,37,118,37],[116,38,118,38],[119,37,121,37],[119,38,121,38],[116,40,118,40],[116,41,118,41],[119,34,121,34],[119,35,121,35],[119,36,121,36],[119,1,120,1],[119,4,120,4],[119,10,121,11],[119,21,121,23],[119,28,121,28],[119,30,121,30],[122,1,123,1],[122,4,123,4],[123,12,123,23],[119,31,121,31],[119,32,121,32],[119,33,121,33],[125,1,126,1],[125,4,126,4],[128,1,129,1],[128,4,129,4],[132,2,132,5],[133,2,133,5],[142,41,144,41],[142,35,144,35],[142,36,144,36],[142,37,144,37],[134,2,134,5],[135,2,135,5],[138,1,139,5],[138,12,141,14],[138,15,141,17],[138,18,141,20],[139,28,141,28],[140,30,140,31],[140,32,140,33],[142,38,144,38],[142,39,144,39],[142,40,144,40],[140,41,141,41],[141,2,142,5],[142,10,144,11],[142,12,144,14],[142,28,144,28],[142,30,144,30],[142,31,144,31],[138,21,141,23],[139,10,141,11],[139,25,141,27],[142,32,144,32],[142,33,144,33],[142,34,144,34],[140,34,140,35],[140,36,140,37],[140,38,140,39],[148,39,150,39],[148,40,150,40],[148,41,150,41],[148,30,150,30],[148,31,150,31],[145,1,146,1],[145,4,146,4],[145,10,147,11],[145,15,147,17],[145,28,147,28],[145,32,147,32],[145,33,147,33],[145,34,147,34],[145,35,147,35],[145,36,147,36],[148,36,150,36],[148,1,149,1],[148,4,149,4],[148,10,150,11],[148,18,150,20],[148,28,150,28],[145,31,147,31],[145,30,147,30],[151,39,153,39],[151,40,153,40],[151,41,153,41],[145,37,147,37],[145,38,147,38],[145,39,147,39],[145,40,147,40],[145,41,147,41],[148,37,150,37],[148,38,150,38],[148,32,150,32],[148,33,150,33],[148,34,150,34],[148,35,150,35],[151,37,153,37],[151,38,153,38],[151,34,153,34],[151,35,153,35],[151,36,153,36],[151,31,153,31],[151,32,153,32],[151,33,153,33],[157,1,158,1],[157,4,158,4],[160,1,161,1],[160,4,161,4],[164,2,164,5],[165,2,165,5],[151,1,152,1],[151,4,152,4],[151,10,153,11],[151,21,153,23],[151,28,153,28],[151,30,153,30],[154,1,155,1],[154,4,155,4],[155,12,155,23],[174,40,176,40],[172,41,173,41],[173,2,174,5],[174,10,176,11],[174,12,176,14],[174,28,176,28],[174,30,176,30],[174,31,176,31],[170,21,173,23],[166,2,166,5],[167,2,167,5],[170,1,171,5],[170,12,173,14],[170,15,173,17],[170,18,173,20],[171,28,173,28],[172,30,172,31],[172,32,172,33],[180,40,182,40],[180,41,182,41],[180,30,182,30],[180,31,182,31],[177,40,179,40],[177,41,179,41],[171,10,173,11],[171,25,173,27],[174,32,176,32],[174,33,176,33],[174,34,176,34],[172,34,172,35],[172,36,172,37],[172,38,172,39],[177,10,179,11],[177,15,179,17],[177,28,179,28],[177,30,179,30],[174,41,176,41],[174,35,176,35],[174,36,176,36],[174,37,176,37],[174,38,176,38],[174,39,176,39],[180,1,181,1],[180,4,181,4],[180,10,182,11],[180,18,182,20],[180,28,182,28],[177,31,179,31],[177,32,179,32],[177,33,179,33],[192,1,193,1],[192,4,193,4],[189,1,190,1],[189,4,190,4],[183,1,184,1],[183,4,184,4],[183,10,185,11],[183,21,185,23],[183,28,185,28],[183,30,185,30],[177,1,178,1],[177,4,178,4],[177,37,179,37],[177,38,179,38],[177,39,179,39],[177,34,179,34],[177,35,179,35],[177,36,179,36],[180,36,182,36],[180,32,182,32],[180,33,182,33],[180,34,182,34],[180,35,182,35],[180,37,182,37],[180,38,182,38],[180,39,182,39],[183,40,185,40],[183,41,185,41],[186,1,187,1],[186,4,187,4],[187,12,187,23],[183,31,185,31],[183,32,185,32],[183,33,185,33],[183,37,185,37],[183,34,185,34],[183,35,185,35],[183,36,185,36],[183,38,185,38],[183,39,185,39]]}
[]
[null,"LIGUE MÉDITERRANÉENNE DE BILLARD"]
[]
[]
[]
[]
[null,"Joueur 1",{"$f":"'Saisie des joueurs'!L18","v":0}]
[null,"Joueur 2",{"$f":"'Saisie des joueurs'!L29","v":0}]
[null,"Joueur 3",{"$f":"'Saisie des joueurs'!L30","v":0}]
[null,"Joueur 4",{"$f":"'Saisie des joueurs'!L41","v":0}]
[]
[]
[null,"SAISIE DES RESULTATS",null,null,null,null,null,null,null,null,null,null,{"$f":"C7","v":0},null,null,{"$f":"C8","v":0},null,null,{"$f":"C9","v":0},null,null,{"$f":"C10","v":0}]
[null,null,null,null,null,null,null,null,null,null,null,null,null,null,null,null,null,null,null,null,null,null,null,null,null,"TOTAUX",null,null,"CLASSEMENT"]
[null,null,null,null,null,null,null,null,null,null,null,null,null,null,null,null,null,null,null,null,null,null,null,null,null,null,null,null,null,null,"Classement",null,"Classement",null,"Classement",null,"Classement",null,"Classement",null,"GENERAL","RANG"]
[null,null,"POULE A",null,null,null,null,null,null,null,null,null,null,null,null,null,null,null,null,null,null,null,null,null,null,null,null,null,null,null,"Point-Match","CLS-M","Moy-Gen","CLS-G","Moy-Part","CLS-P","M-Series","CLS-S","MGPS","CLS","CLS"]
[null,null,null,null,null,null,null,null,null,null,{"$f":"C7","v":0},null,"L",null,null,{"$f":"D32","v":0},null,{"$f":"E32","v":0},{"$f":"D26","v":0},null,{"$f":"E26","v":0},{"$f":"D20","v":0},null,{"$f":"E20","v":0},null,{"$f":"P17+S17+V17","v":0},null,{"$f":"R17+U17+X17","v":0},{"$f":"AP17","v":{"$error":"#DIV/0!"}},null,{"$f":"AA18","v":0.03},{"$f":"RANK(AE17,AE$17:AE$28,0)","v":1},{"$f":"AB19","v":{"$error":"#DIV/0!"}},{"$f":"RANK(AG17,AG$17:AG$28,0)","v":{"$error":"#DIV/0!"}},{"$f":"MAX(R19,U19,X19)","v":{"$error":"#DIV/0!"}},{"$f":"RANK(AI17,AI$17:AI$28)","v":{"$error":"#DIV/0!"}},{"$f":"Z19","v":0},{"$f":"RANK(AK17,AK$17:AK$28)","v":1},{"$f":"(AF17*1000)+(AH17*100)+(AJ17*10)+(AL17*1)","v":{"$error":"#DIV/0!"}},{"$f":"AM17","v":{"$error":"#DIV/0!"}},{"$f":"RANK(AN17,AN$17:AN$28,1)","v":{"$error":"#DIV/0!"}},{"$f":"RANK(AO17,AO$17:AO$28,1)","v":{"$error":"#DIV/0!"}}]
[null,null,null,null,null,null,null,null,null,null,null,null,null,null,null,null,{"$f":"IF(R17<1,0.01,IF(P17>M20,2,IF(P17=M20,1,0)))","v":0.01},null,null,{"$f":"IF(U17<1,0.01,IF(S17>M23,2,IF(S17=M23,1,0)))","v":0.01},null,null,{"$f":"IF(X17<1,0.01,IF(V17>M26,2,IF(V17=M26,1,0)))","v":0.01},null,null,null,{"$f":"Q18+T18+W18","v":0.03}]
[null,null,null,"Pts","Rep","Série",null,null,null,null,null,null,null,null,null,{"$f":"F32","v":0},null,{"$f":"P17/R17","v":{"$error":"#DIV/0!"}},{"$f":"F26","v":0},null,{"$f":"S17/U17","v":{"$error":"#DIV/0!"}},{"$f":"F20","v":0},null,{"$f":"V17/X17","v":{"$error":"#DIV/0!"}},null,{"$f":"MAX(P19,S19,V19)","v":0},null,{"$f":"Z17/AB17","v":{"$error":"#DIV/0!"}}]
[null,"Tour 1",{"$f":"C7","v":0},null,null,null,null,null,null,null,{"$f":"C8","v":0},null,{"$f":"D33","v":0},null,{"$f":"E32","v":0},"M",null,null,{"$f":"D23","v":0},null,{"$f":"E23","v":0},{"$f":"D30","v":0},null,{"$f":"E29","v":0},null,{"$f":"M20+S20+V20","v":0},null,{"$f":"O20+U20+X20","v":0},{"$f":"AP20","v":{"$error":"#DIV/0!"}},null,{"$f":"AA21","v":0.03},{"$f":"RANK(AE20,AE$17:AE$28,0)","v":1},{"$f":"AB22","v":{"$error":"#DIV/0!"}},{"$f":"RANK(AG20,AG$17:AG$28,0)","v":{"$error":"#DIV/0!"}},{"$f":"MAX(O22,U22,X22)","v":{"$error":"#DIV/0!"}},{"$f":"RANK(AI20,AI$17:AI$28)","v":{"$error":"#DIV/0!"}},{"$f":"Z22","v":0},{"$f":"RANK(AK20,AK$17:AK$28)","v":1},{"$f":"(AF20*1000)+(AH20*100)+(AJ20*10)+(AL20*1)","v":{"$error":"#DIV/0!"}},{"$f":"AM20","v":{"$error":"#DIV/0!"}},{"$f":"RANK(AN20,AN$17:AN$28,1)","v":{"$error":"#DIV/0!"}},{"$f":"RANK(AO20,AO$17:AO$28,1)","v":{"$error":"#DIV/0!"}}]
[null,null,{"$f":"C10","v":0},null,null,null,null,null,null,null,null,null,null,{"$f":"IF(R17>0,2-Q18,0.01)","v":0.01},null,null,null,null,null,{"$f":"IF(U20<1,0.01,IF(S20>P23,2,IF(S20=P23,1,0)))","v":0.01},null,null,{"$f":"IF(X20<1,0.01,IF(V20>P26,2,IF(V20=P26,1,0)))","v":0.01},null,null,null,{"$f":"N21+T21+W21","v":0.03}]
[null,null,null,null,null,null,null,null,null,null,null,null,{"$f":"F33","v":0},null,{"$f":"M20/O20","v":{"$error":"#DIV/0!"}},null,null,null,{"$f":"F23","v":0},null,{"$f":"S20/U20","v":{"$error":"#DIV/0!"}},{"$f":"F30","v":0},null,{"$f":"V20/X20","v":{"$error":"#DIV/0!"}},null,{"$f":"MAXA(M22,S22,V22)","v":0},null,{"$f":"Z20/AB20","v":{"$error":"#DIV/0!"}}]
[null,"Tour 2",{"$f":"C8","v":0},null,null,null,null,null,null,null,{"$f":"C9","v":0},null,{"$f":"D27","v":0},null,{"$f":"E26","v":0},{"$f":"D24","v":0},null,{"$f":"E23","v":0},"B",null,null,{"$f":"D35","v":0},null,{"$f":"E35","v":0},null,{"$f":"M23+P23+V23","v":0},null,{"$f":"O23+R23+X23","v":0},{"$f":"AP23","v":{"$error":"#DIV/0!"}},null,{"$f":"AA24","v":0.03},{"$f":"RANK(AE23,AE$17:AE$28,0)","v":1},{"$f":"AB25","v":{"$error":"#DIV/0!"}},{"$f":"RANK(AG23,AG$17:AG$28,0)","v":{"$error":"#DIV/0!"}},{"$f":"MAX(O25,R25,X25)","v":{"$error":"#DIV/0!"}},{"$f":"RANK(AI23,AI$17:AI$28)","v":{"$error":"#DIV/0!"}},{"$f":"Z25","v":0},{"$f":"RANK(AK23,AK$17:AK$28)","v":1},{"$f":"(AF23*1000)+(AH23*100)+(AJ23*10)+(AL23*1)","v":{"$error":"#DIV/0!"}},{"$f":"AM23","v":{"$error":"#DIV/0!"}},{"$f":"RANK(AN23,AN$17:AN$28,1)","v":{"$error":"#DIV/0!"}},{"$f":"RANK(AO23,AO$17:AO$28,1)","v":{"$error":"#DIV/0!"}}]
[null,null,{"$f":"C9","v":0},null,null,null,null,null,null,null,null,null,null,{"$f":"IF(U17>0,2-T18,0.01)","v":0.01},null,null,{"$f":"IF(U20>0,2-T21,0.01)","v":0.01},null,null,null,null,null,{"$f":"IF(X23<1,0.01,IF(V23>S26,2,IF(V23=S26,1,0)))","v":0.01},null,null,null,{"$f":"N24+Q24+W24","v":0.03}]
[null,null,null,null,null,null,null,null,null,null,null,null,{"$f":"F27","v":0},null,{"$f":"M23/O23","v":{"$error":"#DIV/0!"}},{"$f":"F24","v":0},null,{"$f":"P23/R23","v":{"$error":"#DIV/0!"}},null,null,null,{"$f":"F35","v":0},null,{"$f":"V23/X23","v":{"$error":"#DIV/0!"}},null,{"$f":"MAXA(M25,P25,V25)","v":0},null,{"$f":"Z23/AB23","v":{"$error":"#DIV/0!"}}]
[null,"Tour 3",{"$f":"C7","v":0},null,null,null,null,null,null,null,{"$f":"C10","v":0},null,{"$f":"D21","v":0},null,{"$f":"E20","v":0},{"$f":"D29","v":0},null,{"$f":"E29","v":0},{"$f":"D36","v":0},null,{"$f":"E35","v":0},null,null,null,null,{"$f":"M26+P26+S26","v":0},null,{"$f":"O26+R26+U26","v":0},{"$f":"AP26","v":{"$error":"#DIV/0!"}},null,{"$f":"AA27","v":0.03},{"$f":"RANK(AE26,AE$17:AE$28,0)","v":1},{"$f":"AB28","v":{"$error":"#DIV/0!"}},{"$f":"RANK(AG26,AG$17:AG$28,0)","v":{"$error":"#DIV/0!"}},{"$f":"MAX(O28,R28,U28)","v":{"$error":"#DIV/0!"}},{"$f":"RANK(AI26,AI$17:AI$28)","v":{"$error":"#DIV/0!"}},{"$f":"Z28","v":0},{"$f":"RANK(AK26,AK$17:AK$28)","v":1},{"$f":"(AF26*1000)+(AH26*100)+(AJ26*10)+(AL26*1)","v":{"$error":"#DIV/0!"}},{"$f":"AM26","v":{"$error":"#DIV/0!"}},{"$f":"RANK(AN26,AN$17:AN$28,1)","v":{"$error":"#DIV/0!"}},{"$f":"RANK(AO26,AO$17:AO$28,1)","v":{"$error":"#DIV/0!"}}]
[null,null,{"$f":"C9","v":0},null,null,null,null,null,null,null,null,null,null,{"$f":"IF(X17>0,2-W18,0.01)","v":0.01},null,null,{"$f":"IF(X20>0,2-W21,0.01)","v":0.01},null,null,{"$f":"IF(X23>0,2-W24,0.01)","v":0.01},null,null,null,null,null,null,{"$f":"N27+Q27+T27","v":0.03}]
[null,null,null,null,null,null,null,null,null,null,null,null,{"$f":"F21","v":0},null,{"$f":"M26/O26","v":{"$error":"#DIV/0!"}},{"$f":"F29","v":0},null,{"$f":"P26/R26","v":{"$error":"#DIV/0!"}},{"$f":"F36","v":0},null,{"$f":"S26/U26","v":{"$error":"#DIV/0!"}},null,null,null,null,{"$f":"MAXA(M28,P28,S28)","v":0},null,{"$f":"Z26/AB26","v":{"$error":"#DIV/0!"}}]
[null,"Tour 4",{"$f":"C10","v":0}]
[null,null,{"$f":"C8","v":0},null,null,null,null,null,null,null,null,null,"Pas de prolongation en cas de match nul."]
[]
[null,"Tour 5",{"$f":"C7","v":0}]
[null,null,{"$f":"C8","v":0}]
[]
[null,"Tour 6",{"$f":"C9","v":0}]
[null,null,{"$f":"C10","v":0}]
[]
[]
[null,"Joueur 1",{"$f":"'Saisie des joueurs'!L19","v":0}]
[null,"Joueur 2",{"$f":"'Saisie des joueurs'!L28","v":0}]
[null,"Joueur 3",{"$f":"'Saisie des joueurs'!L31","v":0}]
[null,"Joueur 4",{"$f":"'Saisie des joueurs'!L40","v":0}]
[]
[]
[null,"SAISIE DES RESULTATS",null,null,null,null,null,null,null,null,null,null,{"$f":"C39","v":0},null,null,{"$f":"C40","v":0},null,null,{"$f":"C41","v":0},null,null,{"$f":"C42","v":0}]
[null,null,null,null,null,null,null,null,null,null,null,null,null,null,null,null,null,null,null,null,null,null,null,null,null,"TOTAUX",null,null,"CLASSEMENT"]
[null,null,null,null,null,null,null,null,null,null,null,null,null,null,null,null,null,null,null,null,null,null,null,null,null,null,null,null,null,null,"Classement",null,"Classement",null,"Classement",null,"Classement",null,"Classement",null,"GENERAL","RANG"]
[null,null,"POULE B",null,null,null,null,null,null,null,null,null,null,null,null,null,null,null,null,null,null,null,null,null,null,null,null,null,null,null,"Point-Match","CLS-M","Moy-Gen","CLS-G","Moy-Part","CLS-P","M-Series","CLS-S","MGPS","CLS","CLS"]
[null,null,null,null,null,null,null,null,null,null,{"$f":"C39","v":0},null,"L",null,null,{"$f":"D64","v":0},null,{"$f":"E64","v":0},{"$f":"D58","v":0},null,{"$f":"E58","v":0},{"$f":"D52","v":0},null,{"$f":"E52","v":0},null,{"$f":"P49+S49+V49","v":0},null,{"$f":"R49+U49+X49","v":0},{"$f":"AP49","v":{"$error":"#DIV/0!"}},null,{"$f":"AA50","v":0.03},{"$f":"RANK(AE49,AE$49:AE$60,0)","v":1},{"$f":"AB51","v":{"$error":"#DIV/0!"}},{"$f":"RANK(AG49,AG$49:AG$60,0)","v":{"$error":"#DIV/0!"}},{"$f":"MAX(R51,U51,X51)","v":{"$error":"#DIV/0!"}},{"$f":"RANK(AI49,AI$49:AI$60)","v":{"$error":"#DIV/0!"}},{"$f":"Z51","v":0},{"$f":"RANK(AK49,AK$49:AK$60)","v":1},{"$f":"(AF49*1000)+(AH49*100)+(AJ49*10)+(AL49*1)","v":{"$error":"#DIV/0!"}},{"$f":"AM49","v":{"$error":"#DIV/0!"}},{"$f":"RANK(AN49,AN$49:AN$60,1)","v":{"$error":"#DIV/0!"}},{"$f":"RANK(AO49,AO$49:AO$60,1)","v":{"$error":"#DIV/0!"}}]
[null,null,null,null,null,null,null,null,null,null,null,null,null,null,null,null,{"$f":"IF(R49<1,0.01,IF(P49>M52,2,IF(P49=M52,1,0)))","v":0.01},null,null,{"$f":"IF(U49<1,0.01,IF(S49>M55,2,IF(S49=M55,1,0)))","v":0.01},null,null,{"$f":"IF(X49<1,0.01,IF(V49>M58,2,IF(V49=M58,1,0)))","v":0.01},null,null,null,{"$f":"Q50+T50+W50","v":0.03}]
[null,null,null,"Pts","Rep","Série",null,null,null,null,null,null,null,null,null,{"$f":"F64","v":0},null,{"$f":"P49/R49","v":{"$error":"#DIV/0!"}},{"$f":"F58","v":0},null,{"$f":"S49/U49","v":{"$error":"#DIV/0!"}},{"$f":"F52","v":0},null,{"$f":"V49/X49","v":{"$error":"#DIV/0!"}},null,{"$f":"MAX(P51,S51,V51)","v":0},null,{"$f":"Z49/AB49","v":{"$error":"#DIV/0!"}}]
[null,"Tour 1",{"$f":"C39","v":0},null,null,null,null,null,null,null,{"$f":"C40","v":0},null,{"$f":"D65","v":0},null,{"$f":"E64","v":0},"M",null,null,{"$f":"D55","v":0},null,{"$f":"E55","v":0},{"$f":"D62","v":0},null,{"$f":"E61","v":0},null,{"$f":"M52+S52+V52","v":0},null,{"$f":"O52+U52+X52","v":0},{"$f":"AP52","v":{"$error":"#DIV/0!"}},null,{"$f":"AA53","v":0.03},{"$f":"RANK(AE52,AE$49:AE$60,0)","v":1},{"$f":"AB54","v":{"$error":"#DIV/0!"}},{"$f":"RANK(AG52,AG$49:AG$60,0)","v":{"$error":"#DIV/0!"}},{"$f":"MAX(O54,U54,X54)","v":{"$error":"#DIV/0!"}},{"$f":"RANK(AI52,AI$49:AI$60)","v":{"$error":"#DIV/0!"}},{"$f":"Z54","v":0},{"$f":"RANK(AK52,AK$49:AK$60)","v":1},{"$f":"(AF52*1000)+(AH52*100)+(AJ52*10)+(AL52*1)","v":{"$error":"#DIV/0!"}},{"$f":"AM52","v":{"$error":"#DIV/0!"}},{"$f":"RANK(AN52,AN$49:AN$60,1)","v":{"$error":"#DIV/0!"}},{"$f":"RANK(AO52,AO$49:AO$60,1)","v":{"$error":"#DIV/0!"}}]
[null,null,{"$f":"C42","v":0},null,null,null,null,null,null,null,null,null,null,{"$f":"IF(R49>0,2-Q50,0.01)","v":0.01},null,null,null,null,null,{"$f":"IF(U52<1,0.01,IF(S52>P55,2,IF(S52=P55,1,0)))","v":0.01},null,null,{"$f":"IF(X52<1,0.01,IF(V52>P58,2,IF(V52=P58,1,0)))","v":0.01},null,null,null,{"$f":"N53+T53+W53","v":0.03}]
[null,null,null,null,null,null,null,null,null,null,null,null,{"$f":"F65","v":0},null,{"$f":"M52/O52","v":{"$error":"#DIV/0!"}},null,null,null,{"$f":"F55","v":0},null,{"$f":"S52/U52","v":{"$error":"#DIV/0!"}},{"$f":"F62","v":0},null,{"$f":"V52/X52","v":{"$error":"#DIV/0!"}},null,{"$f":"MAXA(M54,S54,V54)","v":0},null,{"$f":"Z52/AB52","v":{"$error":"#DIV/0!"}}]
[null,"Tour 2",{"$f":"C40","v":0},null,null,null,null,null,null,null,{"$f":"C41","v":0},null,{"$f":"D59","v":0},null,{"$f":"E58","v":0},{"$f":"D56","v":0},null,{"$f":"E55","v":0},"B",null,null,{"$f":"D67","v":0},null,{"$f":"E67","v":0},null,{"$f":"M55+P55+V55","v":0},null,{"$f":"O55+R55+X55","v":0},{"$f":"AP55","v":{"$error":"#DIV/0!"}},null,{"$f":"AA56","v":0.03},{"$f":"RANK(AE55,AE$49:AE$60,0)","v":1},{"$f":"AB57","v":{"$error":"#DIV/0!"}},{"$f":"RANK(AG55,AG$49:AG$60,0)","v":{"$error":"#DIV/0!"}},{"$f":"MAX(O57,R57,X57)","v":{"$error":"#DIV/0!"}},{"$f":"RANK(AI55,AI$49:AI$60)","v":{"$error":"#DIV/0!"}},{"$f":"Z57","v":0},{"$f":"RANK(AK55,AK$49:AK$60)","v":1},{"$f":"(AF55*1000)+(AH55*100)+(AJ55*10)+(AL55*1)","v":{"$error":"#DIV/0!"}},{"$f":"AM55","v":{"$error":"#DIV/0!"}},{"$f":"RANK(AN55,AN$49:AN$60,1)","v":{"$error":"#DIV/0!"}},{"$f":"RANK(AO55,AO$49:AO$60,1)","v":{"$error":"#DIV/0!"}}]
[null,null,{"$f":"C41","v":0},null,null,null,null,null,null,null,null,null,null,{"$f":"IF(U49>0,2-T50,0.01)","v":0.01},null,null,{"$f":"IF(U52>0,2-T53,0.01)","v":0.01},null,null,null,null,null,{"$f":"IF(X55<1,0.01,IF(V55>S58,2,IF(V55=S58,1,0)))","v":0.01},null,null,null,{"$f":"N56+Q56+W56","v":0.03}]
[null,null,null,null,null,null,null,null,null,null,null,null,{"$f":"F59","v":0},null,{"$f":"M55/O55","v":{"$error":"#DIV/0!"}},{"$f":"F56","v":0},null,{"$f":"P55/R55","v":{"$error":"#DIV/0!"}},null,null,null,{"$f":"F67","v":0},null,{"$f":"V55/X55","v":{"$error":"#DIV/0!"}},null,{"$f":"MAXA(M57,P57,V57)","v":0},null,{"$f":"Z55/AB55","v":{"$error":"#DIV/0!"}}]
[null,"Tour 3",{"$f":"C39","v":0},null,null,null,null,null,null,null,{"$f":"C42","v":0},null,{"$f":"D53","v":0},null,{"$f":"E52","v":0},{"$f":"D61","v":0},null,{"$f":"E61","v":0},{"$f":"D68","v":0},null,{"$f":"E67","v":0},null,null,null,null,{"$f":"M58+P58+S58","v":0},null,{"$f":"O58+R58+U58","v":0},{"$f":"AP58","v":{"$error":"#DIV/0!"}},null,{"$f":"AA59","v":0.03},{"$f":"RANK(AE58,AE$49:AE$60,0)","v":1},{"$f":"AB60","v":{"$error":"#DIV/0!"}},{"$f":"RANK(AG58,AG$49:AG$60,0)","v":{"$error":"#DIV/0!"}},{"$f":"MAX(O60,R60,U60)","v":{"$error":"#DIV/0!"}},{"$f":"RANK(AI58,AI$49:AI$60)","v":{"$error":"#DIV/0!"}},{"$f":"Z60","v":0},{"$f":"RANK(AK58,AK$49:AK$60)","v":1},{"$f":"(AF58*1000)+(AH58*100)+(AJ58*10)+(AL58*1)","v":{"$error":"#DIV/0!"}},{"$f":"AM58","v":{"$error":"#DIV/0!"}},{"$f":"RANK(AN58,AN$49:AN$60,1)","v":{"$error":"#DIV/0!"}},{"$f":"RANK(AO58,AO$49:AO$60,1)","v":{"$error":"#DIV/0!"}}]
[null,null,{"$f":"C41","v":0},null,null,null,null,null,null,null,null,null,null,{"$f":"IF(X49>0,2-W50,0.01)","v":0.01},null,null,{"$f":"IF(X52>0,2-W53,0.01)","v":0.01},null,null,{"$f":"IF(X55>0,2-W56,0.01)","v":0.01},null,null,null,null,null,null,{"$f":"N59+Q59+T59","v":0.03}]
[null,null,null,null,null,null,null,null,null,null,null,null,{"$f":"F53","v":0},null,{"$f":"M58/O58","v":{"$error":"#DIV/0!"}},{"$f":"F61","v":0},null,{"$f":"P58/R58","v":{"$error":"#DIV/0!"}},{"$f":"F68","v":0},null,{"$f":"S58/U58","v":{"$error":"#DIV/0!"}},null,null,null,null,{"$f":"MAXA(M60,P60,S60)","v":0},null,{"$f":"Z58/AB58","v":{"$error":"#DIV/0!"}}]
[null,"Tour 4",{"$f":"C42","v":0}]
[null,null,{"$f":"C40","v":0},null,null,null,null,null,null,null,null,null,"Pas de prolongation en cas de match nul."]
[]
[null,"Tour 5",{"$f":"C39","v":0}]
[null,null,{"$f":"C40","v":0}]
[]
[null,"Tour 6",{"$f":"C41","v":0}]
[null,null,{"$f":"C42","v":0}]
[]
[null,"Joueur 1",{"$f":"'Saisie des joueurs'!L20","v":0}]
[null,"Joueur 2",{"$f":"'Saisie des joueurs'!L27","v":0}]
[null,"Joueur 3",{"$f":"'Saisie des joueurs'!L32","v":0}]
[null,"Joueur 4",{"$f":"'Saisie des joueurs'!L39","v":0}]
[]
[]
[null,"SAISIE DES RESULTATS",null,null,null,null,null,null,null,null,null,null,{"$f":"C70","v":0},null,null,{"$f":"C71","v":0},null,null,{"$f":"C72","v":0},null,null,{"$f":"C73","v":0}]
[null,null,null,null,null,null,null,null,null,null,null,null,null,null,null,null,null,null,null,null,null,null,null,null,null,"TOTAUX",null,null,"CLASSEMENT"]
[null,null,null,null,null,null,null,null,null,null,null,null,null,null,null,null,null,null,null,null,null,null,null,null,null,null,null,null,null,null,"Classement",null,"Classement",null,"Classement",null,"Classement",null,"Classement",null,"GENERAL","RANG"]
[null,null,"POULE C",null,null,null,null,null,null,null,null,null,null,null,null,null,null,null,null,null,null,null,null,null,null,null,null,null,null,null,"Point-Match","CLS-M","Moy-Gen","CLS-G","Moy-Part","CLS-P","M-Series","CLS-S","MGPS","CLS","CLS"]
[null,null,null,null,null,null,null,null,null,null,{"$f":"C70","v":0},null,"L",null,null,{"$f":"D95","v":0},null,{"$f":"E95","v":0},{"$f":"D89","v":0},null,{"$f":"E89","v":0},{"$f":"D83","v":0},null,{"$f":"E83","v":0},null,{"$f":"P80+S80+V80","v":0},null,{"$f":"R80+U80+X80","v":0},{"$f":"AP80","v":{"$error":"#DIV/0!"}},null,{"$f":"AA81","v":0.03},{"$f":"RANK(AE80,AE$80:AE$91,0)","v":1},{"$f":"AB82","v":{"$error":"#DIV/0!"}},{"$f":"RANK(AG80,AG$80:AG$91,0)","v":{"$error":"#DIV/0!"}},{"$f":"MAX(R82,U82,X82)","v":{"$error":"#DIV/0!"}},{"$f":"RANK(AI80,AI$80:AI$91)","v":{"$error":"#DIV/0!"}},{"$f":"Z82","v":0},{"$f":"RANK(AK80,AK$49:AK$60)","v":1},{"$f":"(AF80*1000)+(AH80*100)+(AJ80*10)+(AL80*1)","v":{"$error":"#DIV/0!"}},{"$f":"AM80","v":{"$error":"#DIV/0!"}},{"$f":"RANK(AN80,AN$80:AN$91,1)","v":{"$error":"#DIV/0!"}},{"$f":"RANK(AO80,AO$80:AO$91,1)","v":{"$error":"#DIV/0!"}}]
[null,null,null,null,null,null,null,null,null,null,null,null,null,null,null,null,{"$f":"IF(R80<1,0.01,IF(P80>M83,2,IF(P80=M83,1,0)))","v":0.01},null,null,{"$f":"IF(U80<1,0.01,IF(S80>M86,2,IF(S80=M86,1,0)))","v":0.01},null,null,{"$f":"IF(X80<1,0.01,IF(V80>M89,2,IF(V80=M89,1,0)))","v":0.01},null,null,null,{"$f":"Q81+T81+W81","v":0.03}]
[null,null,null,"Pts","Rep","Série",null,null,null,null,null,null,null,null,null,{"$f":"F95","v":0},null,{"$f":"P80/R80","v":{"$error":"#DIV/0!"}},{"$f":"F89","v":0},null,{"$f":"S80/U80","v":{"$error":"#DIV/0!"}},{"$f":"F83","v":0},null,{"$f":"V80/X80","v":{"$error":"#DIV/0!"}},null,{"$f":"MAX(P82,S82,V82)","v":0},null,{"$f":"Z80/AB80","v":{"$error":"#DIV/0!"}}]
[null,"Tour 1",{"$f":"C70","v":0},null,null,null,null,null,null,null,{"$f":"C71","v":0},null,{"$f":"D96","v":0},null,{"$f":"E95","v":0},"M",null,null,{"$f":"D86","v":0},null,{"$f":"E86","v":0},{"$f":"D93","v":0},null,{"$f":"E92","v":0},null,{"$f":"M83+S83+V83","v":0},null,{"$f":"O83+U83+X83","v":0},{"$f":"AP83","v":{"$error":"#DIV/0!"}},null,{"$f":"AA84","v":0.03},{"$f":"RANK(AE83,AE$80:AE$91,0)","v":1},{"$f":"AB85","v":{"$error":"#DIV/0!"}},{"$f":"RANK(AG83,AG$80:AG$91,0)","v":{"$error":"#DIV/0!"}},{"$f":"MAX(O85,U85,X85)","v":{"$error":"#DIV/0!"}},{"$f":"RANK(AI83,AI$80:AI$91)","v":{"$error":"#DIV/0!"}},{"$f":"Z85","v":0},{"$f":"RANK(AK83,AK$49:AK$60)","v":1},{"$f":"(AF83*1000)+(AH83*100)+(AJ83*10)+(AL83*1)","v":{"$error":"#DIV/0!"}},{"$f":"AM83","v":{"$error":"#DIV/0!"}},{"$f":"RANK(AN83,AN$80:AN$91,1)","v":{"$error":"#DIV/0!"}},{"$f":"RANK(AO83,AO$80:AO$91,1)","v":{"$error":"#DIV/0!"}}]
[null,null,{"$f":"C73","v":0},null,null,null,null,null,null,null,null,null,null,{"$f":"IF(R80>0,2-Q81,0.01)","v":0.01},null,null,null,null,null,{"$f":"IF(U83<1,0.01,IF(S83>P86,2,IF(S83=P86,1,0)))","v":0.01},null,null,{"$f":"IF(X83<1,0.01,IF(V83>P89,2,IF(V83=P89,1,0)))","v":0.01},null,null,null,{"$f":"N84+T84+W84","v":0.03}]
[null,null,null,null,null,null,null,null,null,null,null,null,{"$f":"F96","v":0},null,{"$f":"M83/O83","v":{"$error":"#DIV/0!"}},null,null,null,{"$f":"F86","v":0},null,{"$f":"S83/U83","v":{"$error":"#DIV/0!"}},{"$f":"F93","v":0},null,{"$f":"V83/X83","v":{"$error":"#DIV/0!"}},null,{"$f":"MAXA(M85,S85,V85)","v":0},null,{"$f":"Z83/AB83","v":{"$error":"#DIV/0!"}}]
[null,"Tour 2",{"$f":"C71","v":0},null,null,null,null,null,null,null,{"$f":"C72","v":0},null,{"$f":"D90","v":0},null,{"$f":"E89","v":0},{"$f":"D87","v":0},null,{"$f":"E86","v":0},"B",null,null,{"$f":"D98","v":0},null,{"$f":"E98","v":0},null,{"$f":"M86+P86+V86","v":0},null,{"$f":"O86+R86+X86","v":0},{"$f":"AP86","v":{"$error":"#DIV/0!"}},null,{"$f":"AA87","v":0.03},{"$f":"RANK(AE86,AE$80:AE$91,0)","v":1},{"$f":"AB88","v":{"$error":"#DIV/0!"}},{"$f":"RANK(AG86,AG$80:AG$91,0)","v":{"$error":"#DIV/0!"}},{"$f":"MAX(O88,R88,X88)","v":{"$error":"#DIV/0!"}},{"$f":"RANK(AI86,AI$80:AI$91)","v":{"$error":"#DIV/0!"}},{"$f":"Z88","v":0},{"$f":"RANK(AK86,AK$49:AK$60)","v":1},{"$f":"(AF86*1000)+(AH86*100)+(AJ86*10)+(AL86*1)","v":{"$error":"#DIV/0!"}},{"$f":"AM86","v":{"$error":"#DIV/0!"}},{"$f":"RANK(AN86,AN$80:AN$91,1)","v":{"$error":"#DIV/0!"}},{"$f":"RANK(AO86,AO$80:AO$91,1)","v":{"$error":"#DIV/0!"}}]
[null,null,{"$f":"C72","v":0},null,null,null,null,null,null,null,null,null,null,{"$f":"IF(U80>0,2-T81,0.01)","v":0.01},null,null,{"$f":"IF(U83>0,2-T84,0.01)","v":0.01},null,null,null,null,null,{"$f":"IF(X86<1,0.01,IF(V86>S89,2,IF(V86=S89,1,0)))","v":0.01},null,null,null,{"$f":"N87+Q87+W87","v":0.03}]
[null,null,null,null,null,null,null,null,null,null,null,null,{"$f":"F90","v":0},null,{"$f":"M86/O86","v":{"$error":"#DIV/0!"}},{"$f":"F87","v":0},null,{"$f":"P86/R86","v":{"$error":"#DIV/0!"}},null,null,null,{"$f":"F98","v":0},null,{"$f":"V86/X86","v":{"$error":"#DIV/0!"}},null,{"$f":"MAXA(M88,P88,V88)","v":0},null,{"$f":"Z86/AB86","v":{"$error":"#DIV/0!"}}]
[null,"Tour 3",{"$f":"C70","v":0},null,null,null,null,null,null,null,{"$f":"C73","v":0},null,{"$f":"D84","v":0},null,{"$f":"E83","v":0},{"$f":"D92","v":0},null,{"$f":"E92","v":0},{"$f":"D99","v":0},null,{"$f":"E98","v":0},null,null,null,null,{"$f":"M89+P89+S89","v":0},null,{"$f":"O89+R89+U89","v":0},{"$f":"AP89","v":{"$error":"#DIV/0!"}},null,{"$f":"AA90","v":0.03},{"$f":"RANK(AE89,AE$80:AE$91,0)","v":1},{"$f":"AB91","v":{"$error":"#DIV/0!"}},{"$f":"RANK(AG89,AG$80:AG$91,0)","v":{"$error":"#DIV/0!"}},{"$f":"MAX(O91,R91,U91)","v":{"$error":"#DIV/0!"}},{"$f":"RANK(AI89,AI$80:AI$91)","v":{"$error":"#DIV/0!"}},{"$f":"Z91","v":0},{"$f":"RANK(AK89,AK$49:AK$60)","v":1},{"$f":"(AF89*1000)+(AH89*100)+(AJ89*10)+(AL89*1)","v":{"$error":"#DIV/0!"}},{"$f":"AM89","v":{"$error":"#DIV/0!"}},{"$f":"RANK(AN89,AN$80:AN$91,1)","v":{"$error":"#DIV/0!"}},{"$f":"RANK(AO89,AO$80:AO$91,1)","v":{"$error":"#DIV/0!"}}]
[null,null,{"$f":"C72","v":0},null,null,null,null,null,null,null,null,null,null,{"$f":"IF(X80>0,2-W81,0.01)","v":0.01},null,null,{"$f":"IF(X83>0,2-W84,0.01)","v":0.01},null,null,{"$f":"IF(X86>0,2-W87,0.01)","v":0.01},null,null,null,null,null,null,{"$f":"N90+Q90+T90","v":0.03}]
[null,null,null,null,null,null,null,null,null,null,null,null,{"$f":"F84","v":0},null,{"$f":"M89/O89","v":{"$error":"#DIV/0!"}},{"$f":"F92","v":0},null,{"$f":"P89/R89","v":{"$error":"#DIV/0!"}},{"$f":"F99","v":0},null,{"$f":"S89/U89","v":{"$error":"#DIV/0!"}},null,null,null,null,{"$f":"MAXA(M91,P91,S91)","v":0},null,{"$f":"Z89/AB89","v":{"$error":"#DIV/0!"}}]
[null,"Tour 4",{"$f":"C73","v":0}]
[null,null,{"$f":"C71","v":0},null,null,null,null,null,null,null,null,null,"Pas de prolongation en cas de match nul."]
[]
[null,"Tour 5",{"$f":"C70","v":0}]
[null,null,{"$f":"C71","v":0}]
[]
[null,"Tour 6",{"$f":"C72","v":0}]
[null,null,{"$f":"C73","v":0}]
[]
[null,"Joueur 1",{"$f":"'Saisie des joueurs'!L21","v":0}]
[null,"Joueur 2",{"$f":"'Saisie des joueurs'!L26","v":0}]
[null,"Joueur 3",{"$f":"'Saisie des joueurs'!L33","v":0}]
[null,"Joueur 4",{"$f":"'Saisie des joueurs'!L38","v":0}]
[]
[]
[null,"SAISIE DES RESULTATS",null,null,null,null,null,null,null,null,null,null,{"$f":"C101","v":0},null,null,{"$f":"C102","v":0},null,null,{"$f":"C103","v":0},null,null,{"$f":"C104","v":0}]
[null,null,null,null,null,null,null,null,null,null,null,null,null,null,null,null,null,null,null,null,null,null,null,null,null,"TOTAUX",null,null,"CLASSEMENT"]
[null,null,null,null,null,null,null,null,null,null,null,null,null,null,null,null,null,null,null,null,null,null,null,null,null,null,null,null,null,null,"Classement",null,"Classement",null,"Classement",null,"Classement",null,"Classement",null,"GENERAL","RANG"]
[null,null,"POULE D",null,null,null,null,null,null,null,null,null,null,null,null,null,null,null,null,null,null,null,null,null,null,null,null,null,null,null,"Point-Match","CLS-M","Moy-Gen","CLS-G","Moy-Part","CLS-P","M-Series","CLS-S","MGPS","CLS","CLS"]
[null,null,null,null,null,null,null,null,null,null,{"$f":"C101","v":0},null,"L",null,null,{"$f":"D126","v":0},null,{"$f":"E126","v":0},{"$f":"D120","v":0},null,{"$f":"E120","v":0},{"$f":"D114","v":0},null,{"$f":"E114","v":0},null,{"$f":"P111+S111+V111","v":0},null,{"$f":"R111+U111+X111","v":0},{"$f":"AP111","v":{"$error":"#DIV/0!"}},null,{"$f":"AA112","v":0.03},{"$f":"RANK(AE111,AE$111:AE$122,0)","v":1},{"$f":"AB113","v":{"$error":"#DIV/0!"}},{"$f":"RANK(AG111,AG$111:AG$122,0)","v":{"$error":"#DIV/0!"}},{"$f":"MAX(R113,U113,X113)","v":{"$error":"#DIV/0!"}},{"$f":"RANK(AI111,AI$111:AI$122)","v":{"$error":"#DIV/0!"}},{"$f":"Z113","v":0},{"$f":"RANK(AK111,AK$111:AK$122)","v":1},{"$f":"(AF111*1000)+(AH111*100)+(AJ111*10)+(AL111*1)","v":{"$error":"#DIV/0!"}},{"$f":"AM111","v":{"$error":"#DIV/0!"}},{"$f":"RANK(AN111,AN$111:AN$122,1)","v":{"$error":"#DIV/0!"}},{"$f":"RANK(AO111,AO$111:AO$122,1)","v":{"$error":"#DIV/0!"}}]
[null,null,null,null,null,null,null,null,null,null,null,null,null,null,null,null,{"$f":"IF(R111<1,0.01,IF(P111>M114,2,IF(P111=M114,1,0)))","v":0.01},null,null,{"$f":"IF(U111<1,0.01,IF(S111>M117,2,IF(S111=M117,1,0)))","v":0.01},null,null,{"$f":"IF(X111<1,0.01,IF(V111>M120,2,IF(V111=M120,1,0)))","v":0.01},null,null,null,{"$f":"Q112+T112+W112","v":0.03}]
[null,null,null,"Pts","Rep","Série",null,null,null,null,null,null,null,null,null,{"$f":"F126","v":0},null,{"$f":"P111/R111","v":{"$error":"#DIV/0!"}},{"$f":"F120","v":0},null,{"$f":"S111/U111","v":{"$error":"#DIV/0!"}},{"$f":"F114","v":0},null,{"$f":"V111/X111","v":{"$error":"#DIV/0!"}},null,{"$f":"MAX(P113,S113,V113)","v":0},null,{"$f":"Z111/AB111","v":{"$error":"#DIV/0!"}}]
[null,"Tour 1",{"$f":"C101","v":0},null,null,null,null,null,null,null,{"$f":"C102","v":0},null,{"$f":"D127","v":0},null,{"$f":"E126","v":0},"M",null,null,{"$f":"D117","v":0},null,{"$f":"E117","v":0},{"$f":"D124","v":0},null,{"$f":"E123","v":0},null,{"$f":"M114+S114+V114","v":0},null,{"$f":"O114+U114+X114","v":0},{"$f":"AP114","v":{"$error":"#DIV/0!"}},null,{"$f":"AA115","v":0.03},{"$f":"RANK(AE114,AE$111:AE$122,0)","v":1},{"$f":"AB116","v":{"$error":"#DIV/0!"}},{"$f":"RANK(AG114,AG$111:AG$122,0)","v":{"$error":"#DIV/0!"}},{"$f":"MAX(R116,U116,X116)","v":{"$error":"#DIV/0!"}},{"$f":"RANK(AI114,AI$111:AI$122)","v":{"$error":"#DIV/0!"}},{"$f":"Z116","v":0},{"$f":"RANK(AK114,AK$111:AK$122)","v":1},{"$f":"(AF114*1000)+(AH114*100)+(AJ114*10)+(AL114*1)","v":{"$error":"#DIV/0!"}},{"$f":"AM114","v":{"$error":"#DIV/0!"}},{"$f":"RANK(AN114,AN$111:AN$122,1)","v":{"$error":"#DIV/0!"}},{"$f":"RANK(AO114,AO$111:AO$122,1)","v":{"$error":"#DIV/0!"}}]
[null,null,{"$f":"C104","v":0},null,null,null,null,null,null,null,null,null,null,{"$f":"IF(R111>0,2-Q112,0.01)","v":0.01},null,null,null,null,null,{"$f":"IF(U114<1,0.01,IF(S114>P117,2,IF(S114=P117,1,0)))","v":0.01},null,null,{"$f":"IF(X114<1,0.01,IF(V114>P120,2,IF(V114=P120,1,0)))","v":0.01},null,null,null,{"$f":"N115+T115+W115","v":0.03}]
[null,null,null,null,null,null,null,null,null,null,null,null,{"$f":"F127","v":0},null,{"$f":"M114/O114","v":{"$error":"#DIV/0!"}},null,null,null,{"$f":"F117","v":0},null,{"$f":"S114/U114","v":{"$error":"#DIV/0!"}},{"$f":"F124","v":0},null,{"$f":"V114/X114","v":{"$error":"#DIV/0!"}},null,{"$f":"MAXA(M116,S116,V116)","v":0},null,{"$f":"Z114/AB114","v":{"$error":"#DIV/0!"}}]
[null,"Tour 2",{"$f":"C102","v":0},null,null,null,null,null,null,null,{"$f":"C103","v":0},null,{"$f":"D121","v":0},null,{"$f":"E120","v":0},{"$f":"D118","v":0},null,{"$f":"E117","v":0},"B",null,null,{"$f":"D129","v":0},null,{"$f":"E129","v":0},null,{"$f":"M117+P117+V117","v":0},null,{"$f":"O117+R117+X117","v":0},{"$f":"AP117","v":{"$error":"#DIV/0!"}},null,{"$f":"AA118","v":0.03},{"$f":"RANK(AE117,AE$111:AE$122,0)","v":1},{"$f":"AB119","v":{"$error":"#DIV/0!"}},{"$f":"RANK(AG117,AG$111:AG$122,0)","v":{"$error":"#DIV/0!"}},{"$f":"MAX(R119,U119,X119)","v":{"$error":"#DIV/0!"}},{"$f":"RANK(AI117,AI$111:AI$122)","v":{"$error":"#DIV/0!"}},{"$f":"Z119","v":0},{"$f":"RANK(AK117,AK$111:AK$122)","v":1},{"$f":"(AF117*1000)+(AH117*100)+(AJ117*10)+(AL117*1)","v":{"$error":"#DIV/0!"}},{"$f":"AM117","v":{"$error":"#DIV/0!"}},{"$f":"RANK(AN117,AN$111:AN$122,1)","v":{"$error":"#DIV/0!"}},{"$f":"RANK(AO117,AO$111:AO$122,1)","v":{"$error":"#DIV/0!"}}]
[null,null,{"$f":"C103","v":0},null,null,null,null,null,null,null,null,null,null,{"$f":"IF(U111>0,2-T112,0.01)","v":0.01},null,null,{"$f":"IF(U114>0,2-T115,0.01)","v":0.01},null,null,null,null,null,{"$f":"IF(X117<1,0.01,IF(V117>S120,2,IF(V117=S120,1,0)))","v":0.01},null,null,null,{"$f":"N118+Q118+W118","v":0.03}]
[null,null,null,null,null,null,null,null,null,null,null,null,{"$f":"F121","v":0},null,{"$f":"M117/O117","v":{"$error":"#DIV/0!"}},{"$f":"F118","v":0},null,{"$f":"P117/R117","v":{"$error":"#DIV/0!"}},null,null,null,{"$f":"F129","v":0},null,{"$f":"V117/X117","v":{"$error":"#DIV/0!"}},null,{"$f":"MAXA(M119,P119,V119)","v":0},null,{"$f":"Z117/AB117","v":{"$error":"#DIV/0!"}}]
[null,"Tour 3",{"$f":"C101","v":0},null,null,null,null,null,null,null,{"$f":"C104","v":0},null,{"$f":"D115","v":0},null,{"$f":"E114","v":0},{"$f":"D123","v":0},null,{"$f":"E123","v":0},{"$f":"D130","v":0},null,{"$f":"E129","v":0},null,null,null,null,{"$f":"M120+P120+S120","v":0},null,{"$f":"O120+R120+U120","v":0},{"$f":"AP120","v":{"$error":"#DIV/0!"}},null,{"$f":"AA121","v":0.03},{"$f":"RANK(AE120,AE$111:AE$122,0)","v":1},{"$f":"AB122","v":{"$error":"#DIV/0!"}},{"$f":"RANK(AG120,AG$111:AG$122,0)","v":{"$error":"#DIV/0!"}},{"$f":"MAX(R122,U122,X122)","v":{"$error":"#DIV/0!"}},{"$f":"RANK(AI120,AI$111:AI$122)","v":{"$error":"#DIV/0!"}},{"$f":"Z122","v":0},{"$f":"RANK(AK120,AK$111:AK$122)","v":1},{"$f":"(AF120*1000)+(AH120*100)+(AJ120*10)+(AL120*1)","v":{"$error":"#DIV/0!"}},{"$f":"AM120","v":{"$error":"#DIV/0!"}},{"$f":"RANK(AN120,AN$111:AN$122,1)","v":{"$error":"#DIV/0!"}},{"$f":"RANK(AO120,AO$111:AO$122,1)","v":{"$error":"#DIV/0!"}}]
[null,null,{"$f":"C103","v":0},null,null,null,null,null,null,null,null,null,null,{"$f":"IF(X111>0,2-W112,0.01)","v":0.01},null,null,{"$f":"IF(X114>0,2-W115,0.01)","v":0.01},null,null,{"$f":"IF(X117>0,2-W118,0.01)","v":0.01},null,null,null,null,null,null,{"$f":"N121+Q121+T121","v":0.03}]
[null,null,null,null,null,null,null,null,null,null,null,null,{"$f":"F115","v":0},null,{"$f":"M120/O120","v":{"$error":"#DIV/0!"}},{"$f":"F123","v":0},null,{"$f":"P120/R120","v":{"$error":"#DIV/0!"}},{"$f":"F130","v":0},null,{"$f":"S120/U120","v":{"$error":"#DIV/0!"}},null,null,null,null,{"$f":"MAXA(M122,P122,S122)","v":0},null,{"$f":"Z120/AB120","v":{"$error":"#DIV/0!"}}]
[null,"Tour 4",{"$f":"C104","v":0}]
[null,null,{"$f":"C102","v":0},null,null,null,null,null,null,null,null,null,"Pas de prolongation en cas de match nul."]
[]
[null,"Tour 5",{"$f":"C101","v":0}]
[null,null,{"$f":"C102","v":0}]
[]
[null,"Tour 6",{"$f":"C103","v":0}]
[null,null,{"$f":"C104","v":0}]
[]
[]
[null,"Joueur 1",{"$f":"'Saisie des joueurs'!L22","v":0}]
[null,"Joueur 2",{"$f":"'Saisie des joueurs'!L25","v":0}]
[null,"Joueur 3",{"$f":"'Saisie des joueurs'!L34","v":0}]
[null,"Joueur 4",{"$f":"'Saisie des joueurs'!L37","v":0}]
[]
[]
[null,"SAISIE DES RESULTATS",null,null,null,null,null,null,null,null,null,null,{"$f":"C133","v":0},null,null,{"$f":"C134","v":0},null,null,{"$f":"C135","v":0},null,null,{"$f":"C136","v":0}]
[null,null,null,null,null,null,null,null,null,null,null,null,null,null,null,null,null,null,null,null,null,null,null,null,null,"TOTAUX",null,null,"CLASSEMENT"]
[null,null,null,null,null,null,null,null,null,null,null,null,null,null,null,null,null,null,null,null,null,null,null,null,null,null,null,null,null,null,"Classement",null,"Classement",null,"Classement",null,"Classement",null,"Classement",null,"GENERAL","RANG"]
[null,null,"POULE E",null,null,null,null,null,null,null,null,null,null,null,null,null,null,null,null,null,null,null,null,null,null,null,null,null,null,null,"Point-Match","CLS-M","Moy-Gen","CLS-G","Moy-Part","CLS-P","M-Series","CLS-S","MGPS","CLS","CLS"]
[null,null,null,null,null,null,null,null,null,null,{"$f":"C133","v":0},null,"L",null,null,{"$f":"D158","v":0},null,{"$f":"E158","v":0},{"$f":"D152","v":0},null,{"$f":"E152","v":0},{"$f":"D146","v":0},null,{"$f":"E146","v":0},null,{"$f":"P143+S143+V143","v":0},null,{"$f":"R143+U143+X143","v":0},{"$f":"AP143","v":{"$error":"#DIV/0!"}},null,{"$f":"AA144","v":0.03},{"$f":"RANK(AE143,AE$143:AE$154,0)","v":1},{"$f":"AB145","v":{"$error":"#DIV/0!"}},{"$f":"RANK(AG143,AG$143:AG$154,0)","v":{"$error":"#DIV/0!"}},{"$f":"MAX(R145,U145,X145)","v":{"$error":"#DIV/0!"}},{"$f":"RANK(AI143,AI$143:AI$154)","v":{"$error":"#DIV/0!"}},{"$f":"Z145","v":0},{"$f":"RANK(AK143,AK$143:AK$154)","v":1},{"$f":"(AF143*1000)+(AH143*100)+(AJ143*10)+(AL143*1)","v":{"$error":"#DIV/0!"}},{"$f":"AM143","v":{"$error":"#DIV/0!"}},{"$f":"RANK(AN143,AN$143:AN$154,1)","v":{"$error":"#DIV/0!"}},{"$f":"RANK(AO143,AO$143:AO$154,1)","v":{"$error":"#DIV/0!"}}]
[null,null,null,null,null,null,null,null,null,null,null,null,null,null,null,null,{"$f":"IF(R143<1,0.01,IF(P143>M146,2,IF(P143=M146,1,0)))","v":0.01},null,null,{"$f":"IF(U143<1,0.01,IF(S143>M149,2,IF(S143=M149,1,0)))","v":0.01},null,null,{"$f":"IF(X143<1,0.01,IF(V143>M152,2,IF(V143=M152,1,0)))","v":0.01},null,null,null,{"$f":"Q144+T144+W144","v":0.03}]
[null,null,null,"Pts","Rep","Série",null,null,null,null,null,null,null,null,null,{"$f":"F158","v":0},null,{"$f":"P143/R143","v":{"$error":"#DIV/0!"}},{"$f":"F152","v":0},null,{"$f":"S143/U143","v":{"$error":"#DIV/0!"}},{"$f":"F146","v":0},null,{"$f":"V143/X143","v":{"$error":"#DIV/0!"}},null,{"$f":"MAX(P145,S145,V145)","v":0},null,{"$f":"Z143/AB143","v":{"$error":"#DIV/0!"}}]
[null,"Tour 1",{"$f":"C133","v":0},null,null,null,null,null,null,null,{"$f":"C134","v":0},null,{"$f":"D159","v":0},null,{"$f":"E158","v":0},"M",null,null,{"$f":"D149","v":0},null,{"$f":"E149","v":0},{"$f":"D156","v":0},null,{"$f":"E155","v":0},null,{"$f":"M146+S146+V146","v":0},null,{"$f":"O146+U146+X146","v":0},{"$f":"AP146","v":{"$error":"#DIV/0!"}},null,{"$f":"AA147","v":0.03},{"$f":"RANK(AE146,AE$143:AE$154,0)","v":1},{"$f":"AB148","v":{"$error":"#DIV/0!"}},{"$f":"RANK(AG146,AG$143:AG$154,0)","v":{"$error":"#DIV/0!"}},{"$f":"MAX(R148,U148,X148)","v":{"$error":"#DIV/0!"}},{"$f":"RANK(AI146,AI$143:AI$154)","v":{"$error":"#DIV/0!"}},{"$f":"Z148","v":0},{"$f":"RANK(AK146,AK$143:AK$154)","v":1},{"$f":"(AF146*1000)+(AH146*100)+(AJ146*10)+(AL146*1)","v":{"$error":"#DIV/0!"}},{"$f":"AM146","v":{"$error":"#DIV/0!"}},{"$f":"RANK(AN146,AN$143:AN$154,1)","v":{"$error":"#DIV/0!"}},{"$f":"RANK(AO146,AO$143:AO$154,1)","v":{"$error":"#DIV/0!"}}]
[null,null,{"$f":"C136","v":0},null,null,null,null,null,null,null,null,null,null,{"$f":"IF(R143>0,2-Q144,0.01)","v":0.01},null,null,null,null,null,{"$f":"IF(U146<1,0.01,IF(S146>P149,2,IF(S146=P149,1,0)))","v":0.01},null,null,{"$f":"IF(X146<1,0.01,IF(V146>P152,2,IF(V146=P152,1,0)))","v":0.01},null,null,null,{"$f":"N147+T147+W147","v":0.03}]
[null,null,null,null,null,null,null,null,null,null,null,null,{"$f":"F159","v":0},null,{"$f":"M146/O146","v":{"$error":"#DIV/0!"}},null,null,null,{"$f":"F149","v":0},null,{"$f":"S146/U146","v":{"$error":"#DIV/0!"}},{"$f":"F156","v":0},null,{"$f":"V146/X146","v":{"$error":"#DIV/0!"}},null,{"$f":"MAXA(M148,S148,V148)","v":0},null,{"$f":"Z146/AB146","v":{"$error":"#DIV/0!"}}]
[null,"Tour 2",{"$f":"C134","v":0},null,null,null,null,null,null,null,{"$f":"C135","v":0},null,{"$f":"D153","v":0},null,{"$f":"E152","v":0},{"$f":"D150","v":0},null,{"$f":"E149","v":0},"B",null,null,{"$f":"D161","v":0},null,{"$f":"E161","v":0},null,{"$f":"M149+P149+V149","v":0},null,{"$f":"O149+R149+X149","v":0},{"$f":"AP149","v":{"$error":"#DIV/0!"}},null,{"$f":"AA150","v":0.03},{"$f":"RANK(AE149,AE$143:AE$154,0)","v":1},{"$f":"AB151","v":{"$error":"#DIV/0!"}},{"$f":"RANK(AG149,AG$143:AG$154,0)","v":{"$error":"#DIV/0!"}},{"$f":"MAX(R151,U151,X151)","v":{"$error":"#DIV/0!"}},{"$f":"RANK(AI149,AI$143:AI$154)","v":{"$error":"#DIV/0!"}},{"$f":"Z151","v":0},{"$f":"RANK(AK149,AK$143:AK$154)","v":1},{"$f":"(AF149*1000)+(AH149*100)+(AJ149*10)+(AL149*1)","v":{"$error":"#DIV/0!"}},{"$f":"AM149","v":{"$error":"#DIV/0!"}},{"$f":"RANK(AN149,AN$143:AN$154,1)","v":{"$error":"#DIV/0!"}},{"$f":"RANK(AO149,AO$143:AO$154,1)","v":{"$error":"#DIV/0!"}}]
[null,null,{"$f":"C135","v":0},null,null,null,null,null,null,null,null,null,null,{"$f":"IF(U143>0,2-T144,0.01)","v":0.01},null,null,{"$f":"IF(U146>0,2-T147,0.01)","v":0.01},null,null,null,null,null,{"$f":"IF(X149<1,0.01,IF(V149>S152,2,IF(V149=S152,1,0)))","v":0.01},null,null,null,{"$f":"N150+Q150+W150","v":0.03}]
[null,null,null,null,null,null,null,null,null,null,null,null,{"$f":"F153","v":0},null,{"$f":"M149/O149","v":{"$error":"#DIV/0!"}},{"$f":"F150","v":0},null,{"$f":"P149/R149","v":{"$error":"#DIV/0!"}},null,null,null,{"$f":"F161","v":0},null,{"$f":"V149/X149","v":{"$error":"#DIV/0!"}},null,{"$f":"MAXA(M151,P151,V151)","v":0},null,{"$f":"Z149/AB149","v":{"$error":"#DIV/0!"}}]
[null,"Tour 3",{"$f":"C133","v":0},null,null,null,null,null,null,null,{"$f":"C136","v":0},null,{"$f":"D147","v":0},null,{"$f":"E146","v":0},{"$f":"D155","v":0},null,{"$f":"E155","v":0},{"$f":"D162","v":0},null,{"$f":"E161","v":0},null,null,null,null,{"$f":"M152+P152+S152","v":0},null,{"$f":"O152+R152+U152","v":0},{"$f":"AP152","v":{"$error":"#DIV/0!"}},null,{"$f":"AA153","v":0.03},{"$f":"RANK(AE152,AE$143:AE$154,0)","v":1},{"$f":"AB154","v":{"$error":"#DIV/0!"}},{"$f":"RANK(AG152,AG$143:AG$154,0)","v":{"$error":"#DIV/0!"}},{"$f":"MAX(R154,U154,X154)","v":{"$error":"#DIV/0!"}},{"$f":"RANK(AI152,AI$143:AI$154)","v":{"$error":"#DIV/0!"}},{"$f":"Z154","v":0},{"$f":"RANK(AK152,AK$143:AK$154)","v":1},{"$f":"(AF152*1000)+(AH152*100)+(AJ152*10)+(AL152*1)","v":{"$error":"#DIV/0!"}},{"$f":"AM152","v":{"$error":"#DIV/0!"}},{"$f":"RANK(AN152,AN$143:AN$154,1)","v":{"$error":"#DIV/0!"}},{"$f":"RANK(AO152,AO$143:AO$154,1)","v":{"$error":"#DIV/0!"}}]
[null,null,{"$f":"C135","v":0},null,null,null,null,null,null,null,null,null,null,{"$f":"IF(X143>0,2-W144,0.01)","v":0.01},null,null,{"$f":"IF(X146>0,2-W147,0.01)","v":0.01},null,null,{"$f":"IF(X149>0,2-W150,0.01)","v":0.01},null,null,null,null,null,null,{"$f":"N153+Q153+T153","v":0.03}]
[null,null,null,null,null,null,null,null,null,null,null,null,{"$f":"F147","v":0},null,{"$f":"M152/O152","v":{"$error":"#DIV/0!"}},{"$f":"F155","v":0},null,{"$f":"P152/R152","v":{"$error":"#DIV/0!"}},{"$f":"F162","v":0},null,{"$f":"S152/U152","v":{"$error":"#DIV/0!"}},null,null,null,null,{"$f":"MAXA(M154,P154,S154)","v":0},null,{"$f":"Z152/AB152","v":{"$error":"#DIV/0!"}}]
[null,"Tour 4",{"$f":"C136","v":0}]
[null,null,{"$f":"C134","v":0},null,null,null,null,null,null,null,null,null,"Pas de prolongation en cas de match nul."]
[]
[null,"Tour 5",{"$f":"C133","v":0}]
[null,null,{"$f":"C134","v":0}]
[]
[null,"Tour 6",{"$f":"C135","v":0}]
[null,null,{"$f":"C136","v":0}]
[]
[]
[null,"Joueur 1",{"$f":"'Saisie des joueurs'!L23","v":0}]
[null,"Joueur 2",{"$f":"'Saisie des joueurs'!L24","v":0}]
[null,"Joueur 3",{"$f":"'Saisie des joueurs'!L35","v":0}]
[null,"Joueur 4",{"$f":"'Saisie des joueurs'!L36","v":0}]
[]
[]
[null,"SAISIE DES RESULTATS",null,null,null,null,null,null,null,null,null,null,{"$f":"C165","v":0},null,null,{"$f":"C166","v":0},null,null,{"$f":"C167","v":0},null,null,{"$f":"C168","v":0}]
[null,null,null,null,null,null,null,null,null,null,null,null,null,null,null,null,null,null,null,null,null,null,null,null,null,"TOTAUX",null,null,"CLASSEMENT"]
[null,null,null,null,null,null,null,null,null,null,null,null,null,null,null,null,null,null,null,null,null,null,null,null,null,null,null,null,null,null,"Classement",null,"Classement",null,"Classement",null,"Classement",null,"Classement",null,"GENERAL","RANG"]
[null,null,"POULE F",null,null,null,null,null,null,null,null,null,null,null,null,null,null,null,null,null,null,null,null,null,null,null,null,null,null,null,"Point-Match","CLS-M","Moy-Gen","CLS-G","Moy-Part","CLS-P","M-Series","CLS-S","MGPS","CLS","CLS"]
[null,null,null,null,null,null,null,null,null,null,{"$f":"C165","v":0},null,"L",null,null,{"$f":"D190","v":0},null,{"$f":"E190","v":0},{"$f":"D184","v":0},null,{"$f":"E184","v":0},{"$f":"D178","v":0},null,{"$f":"E178","v":0},null,{"$f":"P175+S175+V175","v":0},null,{"$f":"R175+U175+X175","v":0},{"$f":"AP175","v":{"$error":"#DIV/0!"}},null,{"$f":"AA176","v":0.03},{"$f":"RANK(AE175,AE$175:AE$186,0)","v":1},{"$f":"AB177","v":{"$error":"#DIV/0!"}},{"$f":"RANK(AG175,AG$175:AG$186,0)","v":{"$error":"#DIV/0!"}},{"$f":"MAX(R177,U177,X177)","v":{"$error":"#DIV/0!"}},{"$f":"RANK(AI175,AI$175:AI$186)","v":{"$error":"#DIV/0!"}},{"$f":"Z177","v":0},{"$f":"RANK(AK175,AK$175:AK$186)","v":1},{"$f":"(AF175*1000)+(AH175*100)+(AJ175*10)+(AL175*1)","v":{"$error":"#DIV/0!"}},{"$f":"AM175","v":{"$error":"#DIV/0!"}},{"$f":"RANK(AN175,AN$175:AN$186,1)","v":{"$error":"#DIV/0!"}},{"$f":"RANK(AO175,AO$175:AO$186,1)","v":{"$error":"#DIV/0!"}}]
[null,null,null,null,null,null,null,null,null,null,null,null,null,null,null,null,{"$f":"IF(R175<1,0.01,IF(P175>M178,2,IF(P175=M178,1,0)))","v":0.01},null,null,{"$f":"IF(U175<1,0.01,IF(S175>M181,2,IF(S175=M181,1,0)))","v":0.01},null,null,{"$f":"IF(X175<1,0.01,IF(V175>M184,2,IF(V175=M184,1,0)))","v":0.01},null,null,null,{"$f":"Q176+T176+W176","v":0.03}]
[null,null,null,"Pts","Rep","Série",null,null,null,null,null,null,null,null,null,{"$f":"F190","v":0},null,{"$f":"P175/R175","v":{"$error":"#DIV/0!"}},{"$f":"F184","v":0},null,{"$f":"S175/U175","v":{"$error":"#DIV/0!"}},{"$f":"F178","v":0},null,{"$f":"V175/X175","v":{"$error":"#DIV/0!"}},null,{"$f":"MAX(P177,S177,V177)","v":0},null,{"$f":"Z175/AB175","v":{"$error":"#DIV/0!"}}]
[null,"Tour 1",{"$f":"C165","v":0},null,null,null,null,null,null,null,{"$f":"C166","v":0},null,{"$f":"D191","v":0},null,{"$f":"E190","v":0},"M",null,null,{"$f":"D181","v":0},null,{"$f":"E181","v":0},{"$f":"D188","v":0},null,{"$f":"E187","v":0},null,{"$f":"M178+S178+V178","v":0},null,{"$f":"O178+U178+X178","v":0},{"$f":"AP178","v":{"$error":"#DIV/0!"}},null,{"$f":"AA179","v":0.03},{"$f":"RANK(AE178,AE$175:AE$186,0)","v":1},{"$f":"AB180","v":{"$error":"#DIV/0!"}},{"$f":"RANK(AG178,AG$175:AG$186,0)","v":{"$error":"#DIV/0!"}},{"$f":"MAX(R180,U180,X180)","v":{"$error":"#DIV/0!"}},{"$f":"RANK(AI178,AI$175:AI$186)","v":{"$error":"#DIV/0!"}},{"$f":"Z180","v":0},{"$f":"RANK(AK178,AK$175:AK$186)","v":1},{"$f":"(AF178*1000)+(AH178*100)+(AJ178*10)+(AL178*1)","v":{"$error":"#DIV/0!"}},{"$f":"AM178","v":{"$error":"#DIV/0!"}},{"$f":"RANK(AN178,AN$175:AN$186,1)","v":{"$error":"#DIV/0!"}},{"$f":"RANK(AO178,AO$175:AO$186,1)","v":{"$error":"#DIV/0!"}}]
[null,null,{"$f":"C168","v":0},null,null,null,null,null,null,null,null,null,null,{"$f":"IF(R175>0,2-Q176,0.01)","v":0.01},null,null,null,null,null,{"$f":"IF(U178<1,0.01,IF(S178>P181,2,IF(S178=P181,1,0)))","v":0.01},null,null,{"$f":"IF(X178<1,0.01,IF(V178>P184,2,IF(V178=P184,1,0)))","v":0.01},null,null,null,{"$f":"N179+T179+W179","v":0.03}]
[null,null,null,null,null,null,null,null,null,null,null,null,{"$f":"F191","v":0},null,{"$f":"M178/O178","v":{"$error":"#DIV/0!"}},null,null,null,{"$f":"F181","v":0},null,{"$f":"S178/U178","v":{"$error":"#DIV/0!"}},{"$f":"F188","v":0},null,{"$f":"V178/X178","v":{"$error":"#DIV/0!"}},null,{"$f":"MAXA(M180,S180,V180)","v":0},null,{"$f":"Z178/AB178","v":{"$error":"#DIV/0!"}}]
[null,"Tour 2",{"$f":"C166","v":0},null,null,null,null,null,null,null,{"$f":"C167","v":0},null,{"$f":"D185","v":0},null,{"$f":"E184","v":0},{"$f":"D182","v":0},null,{"$f":"E181","v":0},"B",null,null,{"$f":"D193","v":0},null,{"$f":"E193","v":0},null,{"$f":"M181+P181+V181","v":0},null,{"$f":"O181+R181+X181","v":0},{"$f":"AP181","v":{"$error":"#DIV/0!"}},null,{"$f":"AA182","v":0.03},{"$f":"RANK(AE181,AE$175:AE$186,0)","v":1},{"$f":"AB183","v":{"$error":"#DIV/0!"}},{"$f":"RANK(AG181,AG$175:AG$186,0)","v":{"$error":"#DIV/0!"}},{"$f":"MAX(R183,U183,X183)","v":{"$error":"#DIV/0!"}},{"$f":"RANK(AI181,AI$175:AI$186)","v":{"$error":"#DIV/0!"}},{"$f":"Z183","v":0},{"$f":"RANK(AK181,AK$175:AK$186)","v":1},{"$f":"(AF181*1000)+(AH181*100)+(AJ181*10)+(AL181*1)","v":{"$error":"#DIV/0!"}},{"$f":"AM181","v":{"$error":"#DIV/0!"}},{"$f":"RANK(AN181,AN$175:AN$186,1)","v":{"$error":"#DIV/0!"}},{"$f":"RANK(AO181,AO$175:AO$186,1)","v":{"$error":"#DIV/0!"}}]
[null,null,{"$f":"C167","v":0},null,null,null,null,null,null,null,null,null,null,{"$f":"IF(U175>0,2-T176,0.01)","v":0.01},null,null,{"$f":"IF(U178>0,2-T179,0.01)","v":0.01},null,null,null,null,null,{"$f":"IF(X181<1,0.01,IF(V181>S184,2,IF(V181=S184,1,0)))","v":0.01},null,null,null,{"$f":"N182+Q182+W182","v":0.03}]
[null,null,null,null,null,null,null,null,null,null,null,null,{"$f":"F185","v":0},null,{"$f":"M181/O181","v":{"$error":"#DIV/0!"}},{"$f":"F182","v":0},null,{"$f":"P181/R181","v":{"$error":"#DIV/0!"}},null,null,null,{"$f":"F193","v":0},null,{"$f":"V181/X181","v":{"$error":"#DIV/0!"}},null,{"$f":"MAXA(M183,P183,V183)","v":0},null,{"$f":"Z181/AB181","v":{"$error":"#DIV/0!"}}]
[null,"Tour 3",{"$f":"C165","v":0},null,null,null,null,null,null,null,{"$f":"C168","v":0},null,{"$f":"D179","v":0},null,{"$f":"E178","v":0},{"$f":"D187","v":0},null,{"$f":"E187","v":0},{"$f":"D194","v":0},null,{"$f":"E193","v":0},null,null,null,null,{"$f":"M184+P184+S184","v":0},null,{"$f":"O184+R184+U184","v":0},{"$f":"AP184","v":{"$error":"#DIV/0!"}},null,{"$f":"AA185","v":0.03},{"$f":"RANK(AE184,AE$175:AE$186,0)","v":1},{"$f":"AB186","v":{"$error":"#DIV/0!"}},{"$f":"RANK(AG184,AG$175:AG$186,0)","v":{"$error":"#DIV/0!"}},{"$f":"MAX(R186,U186,X186)","v":{"$error":"#DIV/0!"}},{"$f":"RANK(AI184,AI$175:AI$186)","v":{"$error":"#DIV/0!"}},{"$f":"Z186","v":0},{"$f":"RANK(AK184,AK$175:AK$186)","v":1},{"$f":"(AF184*1000)+(AH184*100)+(AJ184*10)+(AL184*1)","v":{"$error":"#DIV/0!"}},{"$f":"AM184","v":{"$error":"#DIV/0!"}},{"$f":"RANK(AN184,AN$175:AN$186,1)","v":{"$error":"#DIV/0!"}},{"$f":"RANK(AO184,AO$175:AO$186,1)","v":{"$error":"#DIV/0!"}}]
[null,null,{"$f":"C167","v":0},null,null,null,null,null,null,null,null,null,null,{"$f":"IF(X175>0,2-W176,0.01)","v":0.01},null,null,{"$f":"IF(X178>0,2-W179,0.01)","v":0.01},null,null,{"$f":"IF(X181>0,2-W182,0.01)","v":0.01},null,null,null,null,null,null,{"$f":"N185+Q185+T185","v":0.03}]
[null,null,null,null,null,null,null,null,null,null,null,null,{"$f":"F179","v":0},null,{"$f":"M184/O184","v":{"$error":"#DIV/0!"}},{"$f":"F187","v":0},null,{"$f":"P184/R184","v":{"$error":"#DIV/0!"}},{"$f":"F194","v":0},null,{"$f":"S184/U184","v":{"$error":"#DIV/0!"}},null,null,null,null,{"$f":"MAXA(M186,P186,S186)","v":0},null,{"$f":"Z184/AB184","v":{"$error":"#DIV/0!"}}]
[null,"Tour 4",{"$f":"C168","v":0}]
[null,null,{"$f":"C166","v":0},null,null,null,null,null,null,null,null,null,"Pas de prolongation en cas de match nul."]
[]
[null,"Tour 5",{"$f":"C165","v":0}]
[null,null,{"$f":"C166","v":0}]
[]
[null,"Tour 6",{"$f":"C167","v":0}]
[null,null,{"$f":"C168","v":0}]

{"sheet":"BILLARD_1","index":33,"n_rows":53,"n_cols":42,"rows_kept":53,"cut":false,"hidden":true,"merged":[[38,3,39,5],[22,36,24,36],[25,36,27,36],[25,37,27,37],[22,35,24,35],[14,41,15,41],[16,41,18,41],[16,40,18,40],[14,32,14,33],[14,34,14,35],[14,36,14,37],[16,36,18,36],[19,36,21,36],[14,38,14,39],[16,32,18,32],[16,33,18,33],[16,34,18,34],[16,35,18,35],[16,39,18,39],[16,37,18,37],[19,37,21,37],[19,38,21,38],[16,38,18,38],[19,35,21,35],[19,34,21,34],[19,33,21,33],[19,32,21,32],[19,31,21,31],[19,30,21,30],[14,30,14,31],[16,30,18,30],[16,31,18,31],[22,33,24,33],[22,34,24,34],[22,30,24,30],[22,31,24,31],[22,32,24,32],[16,12,18,14],[19,15,21,17],[22,18,24,20],[12,12,15,14],[12,15,15,17],[12,18,15,20],[12,21,15,23],[15,2,16,5],[13,28,15,28],[16,10,18,11],[19,10,21,11],[22,10,24,11],[16,28,18,28],[19,28,21,28],[22,28,24,28],[25,1,26,1],[25,4,26,4],[22,1,23,1],[22,4,23,4],[19,1,20,1],[19,4,20,4],[6,2,6,5],[7,2,7,5],[8,2,8,5],[9,2,9,5],[52,1,52,2],[34,1,35,1],[34,4,35,4],[25,28,27,28],[25,10,27,11],[38,7,39,10],[36,7,37,10],[29,12,29,23],[31,1,32,1],[31,4,32,4],[28,1,29,1],[28,4,29,4],[25,21,27,23],[50,1,50,10],[43,1,43,10],[44,1,44,10],[45,1,45,10],[46,1,46,10],[47,1,47,10],[48,1,48,10],[49,1,49,10],[41,1,42,10],[38,1,39,1],[38,2,39,2],[1,1,3,6],[25,31,27,31],[25,30,27,30],[25,32,27,32],[25,33,27,33],[25,34,27,34],[25,41,27,41],[19,41,21,41],[19,40,21,40],[22,41,24,41],[22,40,24,40],[25,40,27,40],[25,38,27,38],[25,39,27,39],[19,39,21,39],[22,39,24,39],[22,37,24,37],[22,38,24,38],[25,35,27,35],[1,7,3,9],[1,10,3,13],[12,1,13,5],[13,10,15,11],[13,25,15,27]]}
[]
[null,{"$f":"'Saisie des joueurs'!C1","v":"LIGUE MÉDITERRANÉENNE DE BILLARD"},null,null,null,null,null,{"$f":"'Saisie des joueurs'!D7","v":0},null,null,{"$f":"'Saisie des joueurs'!D9","v":0}]
[]
[]
[]
[]
[null,"Joueur 1",{"$f":"'Saisie des joueurs'!L18","v":0}]
[null,"Joueur 2",{"$f":"'Saisie des joueurs'!L19","v":0}]
[null,"Joueur 3",{"$f":"'Saisie des joueurs'!L20","v":0}]
[null,"Joueur 4",{"$f":"'Saisie des joueurs'!L21","v":0}]
[]
[]
[null,"SAISIE DES RESULTATS",null,null,null,null,null,null,null,null,null,null,{"$f":"C7","v":0},null,null,{"$f":"C8","v":0},null,null,{"$f":"C9","v":0},null,null,{"$f":"C10","v":0}]
[null,null,null,null,null,null,null,null,null,null,null,null,null,null,null,null,null,null,null,null,null,null,null,null,null,"TOTAUX",null,null,"CLASSEMENT"]
[null,null,null,null,null,null,null,null,null,null,null,null,null,null,null,null,null,null,null,null,null,null,null,null,null,null,null,null,null,null,"Classement",null,"Classement",null,"Classement",null,"Classement",null,"Classement",null,"GENERAL","RANG"]
[null,null,"BILLARD 1",null,null,null,null,null,null,null,null,null,null,null,null,null,null,null,null,null,null,null,null,null,null,null,null,null,null,null,"Point-Match","CLS-M","Moy-Gen","CLS-G","Moy-Part","CLS-P","M-Series","CLS-S","MGPS","CLS","CLS"]
[null,null,null,null,null,null,null,null,null,null,{"$f":"C7","v":0},null,"L",null,null,{"$f":"D32","v":0},null,{"$f":"E32","v":0},{"$f":"D26","v":0},null,{"$f":"E26","v":0},{"$f":"D20","v":0},null,{"$f":"E20","v":0},null,{"$f":"P17+S17+V17","v":0},null,{"$f":"R17+U17+X17","v":0},{"$f":"AP17","v":{"$error":"#DIV/0!"}},null,{"$f":"AA18","v":0.03},{"$f":"RANK(AE17,AE$17:AE$28,0)","v":1},{"$f":"AB19","v":{"$error":"#DIV/0!"}},{"$f":"RANK(AG17,AG$17:AG$28,0)","v":{"$error":"#DIV/0!"}},{"$f":"MAX(R19,U19,X19)","v":{"$error":"#DIV/0!"}},{"$f":"RANK(AI17,AI$17:AI$28)","v":{"$error":"#DIV/0!"}},{"$f":"Z19","v":0},{"$f":"RANK(AK17,AK$17:AK$28)","v":1},{"$f":"(AF17*1000)+(AH17*100)+(AJ17*10)+(AL17*1)","v":{"$error":"#DIV/0!"}},{"$f":"AM17","v":{"$error":"#DIV/0!"}},{"$f":"RANK(AN17,AN$17:AN$28,1)","v":{"$error":"#DIV/0!"}},{"$f":"RANK(AO17,AO$17:AO$28,1)","v":{"$error":"#DIV/0!"}}]
[null,null,null,null,null,null,null,null,null,null,null,null,null,null,null,null,{"$f":"IF(R17<1,0.01,IF(P17>M20,2,IF(P17=M20,1,0)))","v":0.01},null,null,{"$f":"IF(U17<1,0.01,IF(S17>M23,2,IF(S17=M23,1,0)))","v":0.01},null,null,{"$f":"IF(X17<1,0.01,IF(V17>M26,2,IF(V17=M26,1,0)))","v":0.01},null,null,null,{"$f":"Q18+T18+W18","v":0.03}]
[null,null,null,"Pts","Rep","Série",null,null,null,null,null,null,null,null,null,{"$f":"F32","v":0},null,{"$f":"P17/R17","v":{"$error":"#DIV/0!"}},{"$f":"F26","v":0},null,{"$f":"S17/U17","v":{"$error":"#DIV/0!"}},{"$f":"F20","v":0},null,{"$f":"V17/X17","v":{"$error":"#DIV/0!"}},null,{"$f":"MAX(P19,S19,V19)","v":0},null,{"$f":"Z17/AB17","v":{"$error":"#DIV/0!"}}]
[null,"Tour 1",{"$f":"C7","v":0},null,null,null,null,null,null,null,{"$f":"C8","v":0},null,{"$f":"D33","v":0},null,{"$f":"E32","v":0},"M",null,null,{"$f":"D23","v":0},null,{"$f":"E23","v":0},{"$f":"D30","v":0},null,{"$f":"E29","v":0},null,{"$f":"M20+S20+V20","v":0},null,{"$f":"O20+U20+X20","v":0},{"$f":"AP20","v":{"$error":"#DIV/0!"}},null,{"$f":"AA21","v":0.03},{"$f":"RANK(AE20,AE$17:AE$28,0)","v":1},{"$f":"AB22","v":{"$error":"#DIV/0!"}},{"$f":"RANK(AG20,AG$17:AG$28,0)","v":{"$error":"#DIV/0!"}},{"$f":"MAX(O22,U22,X22)","v":{"$error":"#DIV/0!"}},{"$f":"RANK(AI20,AI$17:AI$28)","v":{"$error":"#DIV/0!"}},{"$f":"Z22","v":0},{"$f":"RANK(AK20,AK$17:AK$28)","v":1},{"$f":"(AF20*1000)+(AH20*100)+(AJ20*10)+(AL20*1)","v":{"$error":"#DIV/0!"}},{"$f":"AM20","v":{"$error":"#DIV/0!"}},{"$f":"RANK(AN20,AN$17:AN$28,1)","v":{"$error":"#DIV/0!"}},{"$f":"RANK(AO20,AO$17:AO$28,1)","v":{"$error":"#DIV/0!"}}]
[null,null,{"$f":"C10","v":0},null,null,null,null,null,null,null,null,null,null,{"$f":"IF(R17>0,2-Q18,0.01)","v":0.01},null,null,null,null,null,{"$f":"IF(U20<1,0.01,IF(S20>P23,2,IF(S20=P23,1,0)))","v":0.01},null,null,{"$f":"IF(X20<1,0.01,IF(V20>P26,2,IF(V20=P26,1,0)))","v":0.01},null,null,null,{"$f":"N21+T21+W21","v":0.03}]
[null,null,null,null,null,null,null,null,null,null,null,null,{"$f":"F33","v":0},null,{"$f":"M20/O20","v":{"$error":"#DIV/0!"}},null,null,null,{"$f":"F23","v":0},null,{"$f":"S20/U20","v":{"$error":"#DIV/0!"}},{"$f":"F30","v":0},null,{"$f":"V20/X20","v":{"$error":"#DIV/0!"}},null,{"$f":"MAXA(M22,S22,V22)","v":0},null,{"$f":"Z20/AB20","v":{"$error":"#DIV/0!"}}]
[null,"Tour 2",{"$f":"C8","v":0},null,null,null,null,null,null,null,{"$f":"C9","v":0},null,{"$f":"D27","v":0},null,{"$f":"E26","v":0},{"$f":"D24","v":0},null,{"$f":"E23","v":0},"B",null,null,{"$f":"D35","v":0},null,{"$f":"E35","v":0},null,{"$f":"M23+P23+V23","v":0},null,{"$f":"O23+R23+X23","v":0},{"$f":"AP23","v":{"$error":"#DIV/0!"}},null,{"$f":"AA24","v":0.03},{"$f":"RANK(AE23,AE$17:AE$28,0)","v":1},{"$f":"AB25","v":{"$error":"#DIV/0!"}},{"$f":"RANK(AG23,AG$17:AG$28,0)","v":{"$error":"#DIV/0!"}},{"$f":"MAX(O25,R25,X25)","v":{"$error":"#DIV/0!"}},{"$f":"RANK(AI23,AI$17:AI$28)","v":{"$error":"#DIV/0!"}},{"$f":"Z25","v":0},{"$f":"RANK(AK23,AK$17:AK$28)","v":1},{"$f":"(AF23*1000)+(AH23*100)+(AJ23*10)+(AL23*1)","v":{"$error":"#DIV/0!"}},{"$f":"AM23","v":{"$error":"#DIV/0!"}},{"$f":"RANK(AN23,AN$17:AN$28,1)","v":{"$error":"#DIV/0!"}},{"$f":"RANK(AO23,AO$17:AO$28,1)","v":{"$error":"#DIV/0!"}}]
[null,null,{"$f":"C9","v":0},null,null,null,null,null,null,null,null,null,null,{"$f":"IF(U17>0,2-T18,0.01)","v":0.01},null,null,{"$f":"IF(U20>0,2-T21,0.01)","v":0.01},null,null,null,null,null,{"$f":"IF(X23<1,0.01,IF(V23>S26,2,IF(V23=S26,1,0)))","v":0.01},null,null,null,{"$f":"N24+Q24+W24","v":0.03}]
[null,null,null,null,null,null,null,null,null,null,null,null,{"$f":"F27","v":0},null,{"$f":"M23/O23","v":{"$error":"#DIV/0!"}},{"$f":"F24","v":0},null,{"$f":"P23/R23","v":{"$error":"#DIV/0!"}},null,null,null,{"$f":"F35","v":0},null,{"$f":"V23/X23","v":{"$error":"#DIV/0!"}},null,{"$f":"MAXA(M25,P25,V25)","v":0},null,{"$f":"Z23/AB23","v":{"$error":"#DIV/0!"}}]
[null,"Tour 3",{"$f":"C7","v":0},null,null,null,null,null,null,null,{"$f":"C10","v":0},null,{"$f":"D21","v":0},null,{"$f":"E20","v":0},{"$f":"D29","v":0},null,{"$f":"E29","v":0},{"$f":"D36","v":0},null,{"$f":"E35","v":0},null,null,null,null,{"$f":"M26+P26+S26","v":0},null,{"$f":"O26+R26+U26","v":0},{"$f":"AP26","v":{"$error":"#DIV/0!"}},null,{"$f":"AA27","v":0.03},{"$f":"RANK(AE26,AE$17:AE$28,0)","v":1},{"$f":"AB28","v":{"$error":"#DIV/0!"}},{"$f":"RANK(AG26,AG$17:AG$28,0)","v":{"$error":"#DIV/0!"}},{"$f":"MAX(O28,R28,U28)","v":{"$error":"#DIV/0!"}},{"$f":"RANK(AI26,AI$17:AI$28)","v":{"$error":"#DIV/0!"}},{"$f":"Z28","v":0},{"$f":"RANK(AK26,AK$17:AK$28)","v":1},{"$f":"(AF26*1000)+(AH26*100)+(AJ26*10)+(AL26*1)","v":{"$error":"#DIV/0!"}},{"$f":"AM26","v":{"$error":"#DIV/0!"}},{"$f":"RANK(AN26,AN$17:AN$28,1)","v":{"$error":"#DIV/0!"}},{"$f":"RANK(AO26,AO$17:AO$28,1)","v":{"$error":"#DIV/0!"}}]
[null,null,{"$f":"C9","v":0},null,null,null,null,null,null,null,null,null,null,{"$f":"IF(X17>0,2-W18,0.01)","v":0.01},null,null,{"$f":"IF(X20>0,2-W21,0.01)","v":0.01},null,null,{"$f":"IF(X23>0,2-W24,0.01)","v":0.01},null,null,null,null,null,null,{"$f":"N27+Q27+T27","v":0.03}]
[null,null,null,null,null,null,null,null,null,null,null,null,{"$f":"F21","v":0},null,{"$f":"M26/O26","v":{"$error":"#DIV/0!"}},{"$f":"F29","v":0},null,{"$f":"P26/R26","v":{"$error":"#DIV/0!"}},{"$f":"F36","v":0},null,{"$f":"S26/U26","v":{"$error":"#DIV/0!"}},null,null,null,null,{"$f":"MAXA(M28,P28,S28)","v":0},null,{"$f":"Z26/AB26","v":{"$error":"#DIV/0!"}}]
[null,"Tour 4",{"$f":"C10","v":0}]
[null,null,{"$f":"C8","v":0},null,null,null,null,null,null,null,null,null,"Pas de prolongation en cas de match nul."]
[]
[null,"Tour 5",{"$f":"C7","v":0}]
[null,null,{"$f":"C8","v":0}]
[]
[null,"Tour 6",{"$f":"C9","v":0}]
[null,null,{"$f":"C10","v":0}]
[null,null,null,null,null,null,null,"DIRECTEUR DE JEU :"]
[]
[null,"DATE : ",{"$f":"'Saisie des joueurs'!D5","v":"00:00:00"},null,null,null,null,{"$f":"'Saisie des joueurs'!G11","v":0}]
[]
[]
[null,"OBSERVATIONS"]
[]
[]
[]
[]
[]
[]
[]
[]
[]
[]
[null,"™A.FERHAT ™ C.PEREZ"]

{"sheet":"BILLARD_2","index":34,"n_rows":53,"n_cols":42,"rows_kept":53,"cut":false,"hidden":true,"merged":[[48,1,48,10],[49,1,49,10],[50,1,50,10],[52,1,52,2],[12,10,15,11],[41,1,42,10],[43,1,43,10],[44,1,44,10],[45,1,45,10],[46,1,46,10],[47,1,47,10],[31,1,32,1],[31,4,32,4],[34,1,35,1],[34,4,35,4],[36,7,37,10],[38,1,39,1],[38,2,39,2],[38,3,39,5],[38,7,39,10],[19,4,20,4],[19,10,21,11],[25,37,27,37],[25,38,27,38],[25,39,27,39],[25,40,27,40],[25,41,27,41],[28,1,29,1],[28,4,29,4],[29,12,29,23],[25,31,27,31],[25,32,27,32],[25,33,27,33],[25,34,27,34],[25,35,27,35],[25,36,27,36],[25,1,26,1],[25,4,26,4],[25,10,27,11],[25,21,27,23],[25,28,27,28],[25,30,27,30],[19,39,21,39],[19,40,21,40],[19,41,21,41],[22,1,23,1],[22,4,23,4],[22,10,24,11],[22,18,24,20],[22,28,24,28],[22,30,24,30],[22,31,24,31],[19,33,21,33],[19,34,21,34],[19,35,21,35],[19,36,21,36],[19,37,21,37],[19,38,21,38],[22,38,24,38],[22,39,24,39],[22,40,24,40],[22,41,24,41],[22,35,24,35],[22,36,24,36],[22,37,24,37],[19,1,20,1],[19,15,21,17],[19,28,21,28],[19,30,21,30],[19,31,21,31],[19,32,21,32],[22,32,24,32],[22,33,24,33],[22,34,24,34],[16,34,18,34],[14,38,14,39],[14,41,15,41],[15,2,16,5],[16,10,18,11],[16,12,18,14],[16,28,18,28],[16,30,18,30],[16,31,18,31],[16,32,18,32],[16,33,18,33],[13,25,15,27],[13,28,15,28],[14,30,14,31],[14,32,14,33],[14,34,14,35],[14,36,14,37],[16,40,18,40],[16,41,18,41],[16,35,18,35],[16,36,18,36],[16,37,18,37],[16,38,18,38],[16,39,18,39],[9,2,9,5],[12,1,13,5],[12,12,15,14],[12,15,15,17],[12,18,15,20],[12,21,15,23],[1,7,3,9],[1,10,3,13],[6,2,6,5],[7,2,7,5],[8,2,8,5],[1,1,3,6]]}
[]
[null,{"$f":"'Saisie des joueurs'!C1","v":"LIGUE MÉDITERRANÉENNE DE BILLARD"},null,null,null,null,null,{"$f":"'Saisie des joueurs'!D7","v":0},null,null,{"$f":"'Saisie des joueurs'!D9","v":0}]
[]
[]
[]
[]
[null,"Joueur 1",{"$f":"'Saisie des joueurs'!L22","v":0}]
[null,"Joueur 2",{"$f":"'Saisie des joueurs'!L23","v":0}]
[null,"Joueur 3",{"$f":"'Saisie des joueurs'!L24","v":0}]
[null,"Joueur 4",{"$f":"'Saisie des joueurs'!L25","v":0}]
[]
[]
[null,"SAISIE DES RESULTATS",null,null,null,null,null,null,null,null,null,null,{"$f":"C7","v":0},null,null,{"$f":"C8","v":0},null,null,{"$f":"C9","v":0},null,null,{"$f":"C10","v":0}]
[null,null,null,null,null,null,null,null,null,null,null,null,null,null,null,null,null,null,null,null,null,null,null,null,null,"TOTAUX",null,null,"CLASSEMENT"]
[null,null,null,null,null,null,null,null,null,null,null,null,null,null,null,null,null,null,null,null,null,null,null,null,null,null,null,null,null,null,"Classement",null,"Classement",null,"Classement",null,"Classement",null,"Classement",null,"GENERAL","RANG"]
[null,null,"BILLARD 2",null,null,null,null,null,null,null,null,null,null,null,null,null,null,null,null,null,null,null,null,null,null,null,null,null,null,null,"Point-Match","CLS-M","Moy-Gen","CLS-G","Moy-Part","CLS-P","M-Series","CLS-S","MGPS","CLS","CLS"]
[null,null,null,null,null,null,null,null,null,null,{"$f":"C7","v":0},null,"L",null,null,{"$f":"D32","v":0},null,{"$f":"E32","v":0},{"$f":"D26","v":0},null,{"$f":"E26","v":0},{"$f":"D20","v":0},null,{"$f":"E20","v":0},null,{"$f":"P17+S17+V17","v":0},null,{"$f":"R17+U17+X17","v":0},{"$f":"AP17","v":{"$error":"#DIV/0!"}},null,{"$f":"AA18","v":0.03},{"$f":"RANK(AE17,AE$17:AE$28,0)","v":1},{"$f":"AB19","v":{"$error":"#DIV/0!"}},{"$f":"RANK(AG17,AG$17:AG$28,0)","v":{"$error":"#DIV/0!"}},{"$f":"MAX(R19,U19,X19)","v":{"$error":"#DIV/0!"}},{"$f":"RANK(AI17,AI$17:AI$28)","v":{"$error":"#DIV/0!"}},{"$f":"Z19","v":0},{"$f":"RANK(AK17,AK$17:AK$28)","v":1},{"$f":"(AF17*1000)+(AH17*100)+(AJ17*10)+(AL17*1)","v":{"$error":"#DIV/0!"}},{"$f":"AM17","v":{"$error":"#DIV/0!"}},{"$f":"RANK(AN17,AN$17:AN$28,1)","v":{"$error":"#DIV/0!"}},{"$f":"RANK(AO17,AO$17:AO$28,1)","v":{"$error":"#DIV/0!"}}]
[null,null,null,null,null,null,null,null,null,null,null,null,null,null,null,null,{"$f":"IF(R17<1,0.01,IF(P17>M20,2,IF(P17=M20,1,0)))","v":0.01},null,null,{"$f":"IF(U17<1,0.01,IF(S17>M23,2,IF(S17=M23,1,0)))","v":0.01},null,null,{"$f":"IF(X17<1,0.01,IF(V17>M26,2,IF(V17=M26,1,0)))","v":0.01},null,null,null,{"$f":"Q18+T18+W18","v":0.03}]
[null,null,null,"Pts","Rep","Série",null,null,null,null,null,null,null,null,null,{"$f":"F32","v":0},null,{"$f":"P17/R17","v":{"$error":"#DIV/0!"}},{"$f":"F26","v":0},null,{"$f":"S17/U17","v":{"$error":"#DIV/0!"}},{"$f":"F20","v":0},null,{"$f":"V17/X17","v":{"$error":"#DIV/0!"}},null,{"$f":"MAX(P19,S19,V19)","v":0},null,{"$f":"Z17/AB17","v":{"$error":"#DIV/0!"}}]
[null,"Tour 1",{"$f":"C7","v":0},null,null,null,null,null,null,null,{"$f":"C8","v":0},null,{"$f":"D33","v":0},null,{"$f":"E32","v":0},"M",null,null,{"$f":"D23","v":0},null,{"$f":"E23","v":0},{"$f":"D30","v":0},null,{"$f":"E29","v":0},null,{"$f":"M20+S20+V20","v":0},null,{"$f":"O20+U20+X20","v":0},{"$f":"AP20","v":{"$error":"#DIV/0!"}},null,{"$f":"AA21","v":0.03},{"$f":"RANK(AE20,AE$17:AE$28,0)","v":1},{"$f":"AB22","v":{"$error":"#DIV/0!"}},{"$f":"RANK(AG20,AG$17:AG$28,0)","v":{"$error":"#DIV/0!"}},{"$f":"MAX(O22,U22,X22)","v":{"$error":"#DIV/0!"}},{"$f":"RANK(AI20,AI$17:AI$28)","v":{"$error":"#DIV/0!"}},{"$f":"Z22","v":0},{"$f":"RANK(AK20,AK$17:AK$28)","v":1},{"$f":"(AF20*1000)+(AH20*100)+(AJ20*10)+(AL20*1)","v":{"$error":"#DIV/0!"}},{"$f":"AM20","v":{"$error":"#DIV/0!"}},{"$f":"RANK(AN20,AN$17:AN$28,1)","v":{"$error":"#DIV/0!"}},{"$f":"RANK(AO20,AO$17:AO$28,1)","v":{"$error":"#DIV/0!"}}]
[null,null,{"$f":"C10","v":0},null,null,null,null,null,null,null,null,null,null,{"$f":"IF(R17>0,2-Q18,0.01)","v":0.01},null,null,null,null,null,{"$f":"IF(U20<1,0.01,IF(S20>P23,2,IF(S20=P23,1,0)))","v":0.01},null,null,{"$f":"IF(X20<1,0.01,IF(V20>P26,2,IF(V20=P26,1,0)))","v":0.01},null,null,null,{"$f":"N21+T21+W21","v":0.03}]
[null,null,null,null,null,null,null,null,null,null,null,null,{"$f":"F33","v":0},null,{"$f":"M20/O20","v":{"$error":"#DIV/0!"}},null,null,null,{"$f":"F23","v":0},null,{"$f":"S20/U20","v":{"$error":"#DIV/0!"}},{"$f":"F30","v":0},null,{"$f":"V20/X20","v":{"$error":"#DIV/0!"}},null,{"$f":"MAXA(M22,S22,V22)","v":0},null,{"$f":"Z20/AB20","v":{"$error":"#DIV/0!"}}]
[null,"Tour 2",{"$f":"C8","v":0},null,null,null,null,null,null,null,{"$f":"C9","v":0},null,{"$f":"D27","v":0},null,{"$f":"E26","v":0},{"$f":"D24","v":0},null,{"$f":"E23","v":0},"B",null,null,{"$f":"D35","v":0},null,{"$f":"E35","v":0},null,{"$f":"M23+P23+V23","v":0},null,{"$f":"O23+R23+X23","v":0},{"$f":"AP23","v":{"$error":"#DIV/0!"}},null,{"$f":"AA24","v":0.03},{"$f":"RANK(AE23,AE$17:AE$28,0)","v":1},{"$f":"AB25","v":{"$error":"#DIV/0!"}},{"$f":"RANK(AG23,AG$17:AG$28,0)","v":{"$error":"#DIV/0!"}},{"$f":"MAX(O25,R25,X25)","v":{"$error":"#DIV/0!"}},{"$f":"RANK(AI23,AI$17:AI$28)","v":{"$error":"#DIV/0!"}},{"$f":"Z25","v":0},{"$f":"RANK(AK23,AK$17:AK$28)","v":1},{"$f":"(AF23*1000)+(AH23*100)+(AJ23*10)+(AL23*1)","v":{"$error":"#DIV/0!"}},{"$f":"AM23","v":{"$error":"#DIV/0!"}},{"$f":"RANK(AN23,AN$17:AN$28,1)","v":{"$error":"#DIV/0!"}},{"$f":"RANK(AO23,AO$17:AO$28,1)","v":{"$error":"#DIV/0!"}}]
[null,null,{"$f":"C9","v":0},null,null,null,null,null,null,null,null,null,null,{"$f":"IF(U17>0,2-T18,0.01)","v":0.01},null,null,{"$f":"IF(U20>0,2-T21,0.01)","v":0.01},null,null,null,null,null,{"$f":"IF(X23<1,0.01,IF(V23>S26,2,IF(V23=S26,1,0)))","v":0.01},null,null,null,{"$f":"N24+Q24+W24","v":0.03}]
[null,null,null,null,null,null,null,null,null,null,null,null,{"$f":"F27","v":0},null,{"$f":"M23/O23","v":{"$error":"#DIV/0!"}},{"$f":"F24","v":0},null,{"$f":"P23/R23","v":{"$error":"#DIV/0!"}},null,null,null,{"$f":"F35","v":0},null,{"$f":"V23/X23","v":{"$error":"#DIV/0!"}},null,{"$f":"MAXA(M25,P25,V25)","v":0},null,{"$f":"Z23/AB23","v":{"$error":"#DIV/0!"}}]
[null,"Tour 3",{"$f":"C7","v":0},null,null,null,null,null,null,null,{"$f":"C10","v":0},null,{"$f":"D21","v":0},null,{"$f":"E20","v":0},{"$f":"D29","v":0},null,{"$f":"E29","v":0},{"$f":"D36","v":0},null,{"$f":"E35","v":0},null,null,null,null,{"$f":"M26+P26+S26","v":0},null,{"$f":"O26+R26+U26","v":0},{"$f":"AP26","v":{"$error":"#DIV/0!"}},null,{"$f":"AA27","v":0.03},{"$f":"RANK(AE26,AE$17:AE$28,0)","v":1},{"$f":"AB28","v":{"$error":"#DIV/0!"}},{"$f":"RANK(AG26,AG$17:AG$28,0)","v":{"$error":"#DIV/0!"}},{"$f":"MAX(O28,R28,U28)","v":{"$error":"#DIV/0!"}},{"$f":"RANK(AI26,AI$17:AI$28)","v":{"$error":"#DIV/0!"}},{"$f":"Z28","v":0},{"$f":"RANK(AK26,AK$17:AK$28)","v":1},{"$f":"(AF26*1000)+(AH26*100)+(AJ26*10)+(AL26*1)","v":{"$error":"#DIV/0!"}},{"$f":"AM26","v":{"$error":"#DIV/0!"}},{"$f":"RANK(AN26,AN$17:AN$28,1)","v":{"$error":"#DIV/0!"}},{"$f":"RANK(AO26,AO$17:AO$28,1)","v":{"$error":"#DIV/0!"}}]
[null,null,{"$f":"C9","v":0},null,null,null,null,null,null,null,null,null,null,{"$f":"IF(X17>0,2-W18,0.01)","v":0.01},null,null,{"$f":"IF(X20>0,2-W21,0.01)","v":0.01},null,null,{"$f":"IF(X23>0,2-W24,0.01)","v":0.01},null,null,null,null,null,null,{"$f":"N27+Q27+T27","v":0.03}]
[null,null,null,null,null,null,null,null,null,null,null,null,{"$f":"F21","v":0},null,{"$f":"M26/O26","v":{"$error":"#DIV/0!"}},{"$f":"F29","v":0},null,{"$f":"P26/R26","v":{"$error":"#DIV/0!"}},{"$f":"F36","v":0},null,{"$f":"S26/U26","v":{"$error":"#DIV/0!"}},null,null,null,null,{"$f":"MAXA(M28,P28,S28)","v":0},null,{"$f":"Z26/AB26","v":{"$error":"#DIV/0!"}}]
[null,"Tour 4",{"$f":"C10","v":0}]
[null,null,{"$f":"C8","v":0},null,null,null,null,null,null,null,null,null,"Pas de prolongation en cas de match nul."]
[]
[null,"Tour 5",{"$f":"C7","v":0}]
[null,null,{"$f":"C8","v":0}]
[]
[null,"Tour 6",{"$f":"C9","v":0}]
[null,null,{"$f":"C10","v":0}]
[null,null,null,null,null,null,null,"DIRECTEUR DE JEU :"]
[]
[null,"DATE : ",{"$f":"'Saisie des joueurs'!D5","v":"00:00:00"},null,null,null,null,{"$f":"'Saisie des joueurs'!G11","v":0}]
[]
[]
[null,"OBSERVATIONS"]
[]
[]
[]
[]
[]
[]
[]
[]
[]
[]
[null,"™A.FERHAT ™ C.PEREZ"]

{"sheet":"BILLARD_3","index":35,"n_rows":53,"n_cols":42,"rows_kept":53,"cut":false,"hidden":true,"merged":[[48,1,48,10],[49,1,49,10],[50,1,50,10],[52,1,52,2],[12,10,15,11],[41,1,42,10],[43,1,43,10],[44,1,44,10],[45,1,45,10],[46,1,46,10],[47,1,47,10],[31,1,32,1],[31,4,32,4],[34,1,35,1],[34,4,35,4],[36,7,37,10],[38,1,39,1],[38,2,39,2],[38,3,39,5],[38,7,39,10],[19,4,20,4],[19,10,21,11],[25,37,27,37],[25,38,27,38],[25,39,27,39],[25,40,27,40],[25,41,27,41],[28,1,29,1],[28,4,29,4],[29,12,29,23],[25,31,27,31],[25,32,27,32],[25,33,27,33],[25,34,27,34],[25,35,27,35],[25,36,27,36],[25,1,26,1],[25,4,26,4],[25,10,27,11],[25,21,27,23],[25,28,27,28],[25,30,27,30],[19,39,21,39],[19,40,21,40],[19,41,21,41],[22,1,23,1],[22,4,23,4],[22,10,24,11],[22,18,24,20],[22,28,24,28],[22,30,24,30],[22,31,24,31],[19,33,21,33],[19,34,21,34],[19,35,21,35],[19,36,21,36],[19,37,21,37],[19,38,21,38],[22,38,24,38],[22,39,24,39],[22,40,24,40],[22,41,24,41],[22,35,24,35],[22,36,24,36],[22,37,24,37],[19,1,20,1],[19,15,21,17],[19,28,21,28],[19,30,21,30],[19,31,21,31],[19,32,21,32],[22,32,24,32],[22,33,24,33],[22,34,24,34],[16,34,18,34],[14,38,14,39],[14,41,15,41],[15,2,16,5],[16,10,18,11],[16,12,18,14],[16,28,18,28],[16,30,18,30],[16,31,18,31],[16,32,18,32],[16,33,18,33],[13,25,15,27],[13,28,15,28],[14,30,14,31],[14,32,14,33],[14,34,14,35],[14,36,14,37],[16,40,18,40],[16,41,18,41],[16,35,18,35],[16,36,18,36],[16,37,18,37],[16,38,18,38],[16,39,18,39],[9,2,9,5],[12,1,13,5],[12,12,15,14],[12,15,15,17],[12,18,15,20],[12,21,15,23],[1,7,3,9],[1,10,3,13],[6,2,6,5],[7,2,7,5],[8,2,8,5],[1,1,3,6]]}
[]
[null,{"$f":"'Saisie des joueurs'!C1","v":"LIGUE MÉDITERRANÉENNE DE BILLARD"},null,null,null,null,null,{"$f":"'Saisie des joueurs'!D7","v":0},null,null,{"$f":"'Saisie des joueurs'!D9","v":0}]
[]
[]
[]
[]
[null,"Joueur 1",{"$f":"'Saisie des joueurs'!L26","v":0}]
[null,"Joueur 2",{"$f":"'Saisie des joueurs'!L27","v":0}]
[null,"Joueur 3",{"$f":"'Saisie des joueurs'!L28","v":0}]
[null,"Joueur 4",{"$f":"'Saisie des joueurs'!L29","v":0}]
[]
[]
[null,"SAISIE DES RESULTATS",null,null,null,null,null,null,null,null,null,null,{"$f":"C7","v":0},null,null,{"$f":"C8","v":0},null,null,{"$f":"C9","v":0},null,null,{"$f":"C10","v":0}]
[null,null,null,null,null,null,null,null,null,null,null,null,null,null,null,null,null,null,null,null,null,null,null,null,null,"TOTAUX",null,null,"CLASSEMENT"]
[null,null,null,null,null,null,null,null,null,null,null,null,null,null,null,null,null,null,null,null,null,null,null,null,null,null,null,null,null,null,"Classement",null,"Classement",null,"Classement",null,"Classement",null,"Classement",null,"GENERAL","RANG"]
[null,null,"BILLARD 3",null,null,null,null,null,null,null,null,null,null,null,null,null,null,null,null,null,null,null,null,null,null,null,null,null,null,null,"Point-Match","CLS-M","Moy-Gen","CLS-G","Moy-Part","CLS-P","M-Series","CLS-S","MGPS","CLS","CLS"]
[null,null,null,null,null,null,null,null,null,null,{"$f":"C7","v":0},null,"L",null,null,{"$f":"D32","v":0},null,{"$f":"E32","v":0},{"$f":"D26","v":0},null,{"$f":"E26","v":0},{"$f":"D20","v":0},null,{"$f":"E20","v":0},null,{"$f":"P17+S17+V17","v":0},null,{"$f":"R17+U17+X17","v":0},{"$f":"AP17","v":{"$error":"#DIV/0!"}},null,{"$f":"AA18","v":0.03},{"$f":"RANK(AE17,AE$17:AE$28,0)","v":1},{"$f":"AB19","v":{"$error":"#DIV/0!"}},{"$f":"RANK(AG17,AG$17:AG$28,0)","v":{"$error":"#DIV/0!"}},{"$f":"MAX(R19,U19,X19)","v":{"$error":"#DIV/0!"}},{"$f":"RANK(AI17,AI$17:AI$28)","v":{"$error":"#DIV/0!"}},{"$f":"Z19","v":0},{"$f":"RANK(AK17,AK$17:AK$28)","v":1},{"$f":"(AF17*1000)+(AH17*100)+(AJ17*10)+(AL17*1)","v":{"$error":"#DIV/0!"}},{"$f":"AM17","v":{"$error":"#DIV/0!"}},{"$f":"RANK(AN17,AN$17:AN$28,1)","v":{"$error":"#DIV/0!"}},{"$f":"RANK(AO17,AO$17:AO$28,1)","v":{"$error":"#DIV/0!"}}]
[null,null,null,null,null,null,null,null,null,null,null,null,null,null,null,null,{"$f":"IF(R17<1,0.01,IF(P17>M20,2,IF(P17=M20,1,0)))","v":0.01},null,null,{"$f":"IF(U17<1,0.01,IF(S17>M23,2,IF(S17=M23,1,0)))","v":0.01},null,null,{"$f":"IF(X17<1,0.01,IF(V17>M26,2,IF(V17=M26,1,0)))","v":0.01},null,null,null,{"$f":"Q18+T18+W18","v":0.03}]
[null,null,null,"Pts","Rep","Série",null,null,null,null,null,null,null,null,null,{"$f":"F32","v":0},null,{"$f":"P17/R17","v":{"$error":"#DIV/0!"}},{"$f":"F26","v":0},null,{"$f":"S17/U17","v":{"$error":"#DIV/0!"}},{"$f":"F20","v":0},null,{"$f":"V17/X17","v":{"$error":"#DIV/0!"}},null,{"$f":"MAX(P19,S19,V19)","v":0},null,{"$f":"Z17/AB17","v":{"$error":"#DIV/0!"}}]
[null,"Tour 1",{"$f":"C7","v":0},null,null,null,null,null,null,null,{"$f":"C8","v":0},null,{"$f":"D33","v":0},null,{"$f":"E32","v":0},"M",null,null,{"$f":"D23","v":0},null,{"$f":"E23","v":0},{"$f":"D30","v":0},null,{"$f":"E29","v":0},null,{"$f":"M20+S20+V20","v":0},null,{"$f":"O20+U20+X20","v":0},{"$f":"AP20","v":{"$error":"#DIV/0!"}},null,{"$f":"AA21","v":0.03},{"$f":"RANK(AE20,AE$17:AE$28,0)","v":1},{"$f":"AB22","v":{"$error":"#DIV/0!"}},{"$f":"RANK(AG20,AG$17:AG$28,0)","v":{"$error":"#DIV/0!"}},{"$f":"MAX(O22,U22,X22)","v":{"$error":"#DIV/0!"}},{"$f":"RANK(AI20,AI$17:AI$28)","v":{"$error":"#DIV/0!"}},{"$f":"Z22","v":0},{"$f":"RANK(AK20,AK$17:AK$28)","v":1},{"$f":"(AF20*1000)+(AH20*100)+(AJ20*10)+(AL20*1)","v":{"$error":"#DIV/0!"}},{"$f":"AM20","v":{"$error":"#DIV/0!"}},{"$f":"RANK(AN20,AN$17:AN$28,1)","v":{"$error":"#DIV/0!"}},{"$f":"RANK(AO20,AO$17:AO$28,1)","v":{"$error":"#DIV/0!"}}]
[null,null,{"$f":"C10","v":0},null,null,null,null,null,null,null,null,null,null,{"$f":"IF(R17>0,2-Q18,0.01)","v":0.01},null,null,null,null,null,{"$f":"IF(U20<1,0.01,IF(S20>P23,2,IF(S20=P23,1,0)))","v":0.01},null,null,{"$f":"IF(X20<1,0.01,IF(V20>P26,2,IF(V20=P26,1,0)))","v":0.01},null,null,null,{"$f":"N21+T21+W21","v":0.03}]
[null,null,null,null,null,null,null,null,null,null,null,null,{"$f":"F33","v":0},null,{"$f":"M20/O20","v":{"$error":"#DIV/0!"}},null,null,null,{"$f":"F23","v":0},null,{"$f":"S20/U20","v":{"$error":"#DIV/0!"}},{"$f":"F30","v":0},null,{"$f":"V20/X20","v":{"$error":"#DIV/0!"}},null,{"$f":"MAXA(M22,S22,V22)","v":0},null,{"$f":"Z20/AB20","v":{"$error":"#DIV/0!"}}]
[null,"Tour 2",{"$f":"C8","v":0},null,null,null,null,null,null,null,{"$f":"C9","v":0},null,{"$f":"D27","v":0},null,{"$f":"E26","v":0},{"$f":"D24","v":0},null,{"$f":"E23","v":0},"B",null,null,{"$f":"D35","v":0},null,{"$f":"E35","v":0},null,{"$f":"M23+P23+V23","v":0},null,{"$f":"O23+R23+X23","v":0},{"$f":"AP23","v":{"$error":"#DIV/0!"}},null,{"$f":"AA24","v":0.03},{"$f":"RANK(AE23,AE$17:AE$28,0)","v":1},{"$f":"AB25","v":{"$error":"#DIV/0!"}},{"$f":"RANK(AG23,AG$17:AG$28,0)","v":{"$error":"#DIV/0!"}},{"$f":"MAX(O25,R25,X25)","v":{"$error":"#DIV/0!"}},{"$f":"RANK(AI23,AI$17:AI$28)","v":{"$error":"#DIV/0!"}},{"$f":"Z25","v":0},{"$f":"RANK(AK23,AK$17:AK$28)","v":1},{"$f":"(AF23*1000)+(AH23*100)+(AJ23*10)+(AL23*1)","v":{"$error":"#DIV/0!"}},{"$f":"AM23","v":{"$error":"#DIV/0!"}},{"$f":"RANK(AN23,AN$17:AN$28,1)","v":{"$error":"#DIV/0!"}},{"$f":"RANK(AO23,AO$17:AO$28,1)","v":{"$error":"#DIV/0!"}}]
[null,null,{"$f":"C9","v":0},null,null,null,null,null,null,null,null,null,null,{"$f":"IF(U17>0,2-T18,0.01)","v":0.01},null,null,{"$f":"IF(U20>0,2-T21,0.01)","v":0.01},null,null,null,null,null,{"$f":"IF(X23<1,0.01,IF(V23>S26,2,IF(V23=S26,1,0)))","v":0.01},null,null,null,{"$f":"N24+Q24+W24","v":0.03}]
[null,null,null,null,null,null,null,null,null,null,null,null,{"$f":"F27","v":0},null,{"$f":"M23/O23","v":{"$error":"#DIV/0!"}},{"$f":"F24","v":0},null,{"$f":"P23/R23","v":{"$error":"#DIV/0!"}},null,null,null,{"$f":"F35","v":0},null,{"$f":"V23/X23","v":{"$error":"#DIV/0!"}},null,{"$f":"MAXA(M25,P25,V25)","v":0},null,{"$f":"Z23/AB23","v":{"$error":"#DIV/0!"}}]
[null,"Tour 3",{"$f":"C7","v":0},null,null,null,null,null,null,null,{"$f":"C10","v":0},null,{"$f":"D21","v":0},null,{"$f":"E20","v":0},{"$f":"D29","v":0},null,{"$f":"E29","v":0},{"$f":"D36","v":0},null,{"$f":"E35","v":0},null,null,null,null,{"$f":"M26+P26+S26","v":0},null,{"$f":"O26+R26+U26","v":0},{"$f":"AP26","v":{"$error":"#DIV/0!"}},null,{"$f":"AA27","v":0.03},{"$f":"RANK(AE26,AE$17:AE$28,0)","v":1},{"$f":"AB28","v":{"$error":"#DIV/0!"}},{"$f":"RANK(AG26,AG$17:AG$28,0)","v":{"$error":"#DIV/0!"}},{"$f":"MAX(O28,R28,U28)","v":{"$error":"#DIV/0!"}},{"$f":"RANK(AI26,AI$17:AI$28)","v":{"$error":"#DIV/0!"}},{"$f":"Z28","v":0},{"$f":"RANK(AK26,AK$17:AK$28)","v":1},{"$f":"(AF26*1000)+(AH26*100)+(AJ26*10)+(AL26*1)","v":{"$error":"#DIV/0!"}},{"$f":"AM26","v":{"$error":"#DIV/0!"}},{"$f":"RANK(AN26,AN$17:AN$28,1)","v":{"$error":"#DIV/0!"}},{"$f":"RANK(AO26,AO$17:AO$28,1)","v":{"$error":"#DIV/0!"}}]
[null,null,{"$f":"C9","v":0},null,null,null,null,null,null,null,null,null,null,{"$f":"IF(X17>0,2-W18,0.01)","v":0.01},null,null,{"$f":"IF(X20>0,2-W21,0.01)","v":0.01},null,null,{"$f":"IF(X23>0,2-W24,0.01)","v":0.01},null,null,null,null,null,null,{"$f":"N27+Q27+T27","v":0.03}]
[null,null,null,null,null,null,null,null,null,null,null,null,{"$f":"F21","v":0},null,{"$f":"M26/O26","v":{"$error":"#DIV/0!"}},{"$f":"F29","v":0},null,{"$f":"P26/R26","v":{"$error":"#DIV/0!"}},{"$f":"F36","v":0},null,{"$f":"S26/U26","v":{"$error":"#DIV/0!"}},null,null,null,null,{"$f":"MAXA(M28,P28,S28)","v":0},null,{"$f":"Z26/AB26","v":{"$error":"#DIV/0!"}}]
[null,"Tour 4",{"$f":"C10","v":0}]
[null,null,{"$f":"C8","v":0},null,null,null,null,null,null,null,null,null,"Pas de prolongation en cas de match nul."]
[]
[null,"Tour 5",{"$f":"C7","v":0}]
[null,null,{"$f":"C8","v":0}]
[]
[null,"Tour 6",{"$f":"C9","v":0}]
[null,null,{"$f":"C10","v":0}]
[null,null,null,null,null,null,null,"DIRECTEUR DE JEU :"]
[]
[null,"DATE : ",{"$f":"'Saisie des joueurs'!D5","v":"00:00:00"},null,null,null,null,{"$f":"'Saisie des joueurs'!G11","v":0}]
[]
[]
[null,"OBSERVATIONS"]
[]
[]
[]
[]
[]
[]
[]
[]
[]
[]
[null,"™A.FERHAT ™ C.PEREZ"]

{"sheet":"BILLARD_4","index":36,"n_rows":53,"n_cols":42,"rows_kept":53,"cut":false,"hidden":true,"merged":[[48,1,48,10],[49,1,49,10],[50,1,50,10],[52,1,52,2],[12,10,15,11],[41,1,42,10],[43,1,43,10],[44,1,44,10],[45,1,45,10],[46,1,46,10],[47,1,47,10],[31,1,32,1],[31,4,32,4],[34,1,35,1],[34,4,35,4],[36,7,37,10],[38,1,39,1],[38,2,39,2],[38,3,39,5],[38,7,39,10],[19,4,20,4],[19,10,21,11],[25,37,27,37],[25,38,27,38],[25,39,27,39],[25,40,27,40],[25,41,27,41],[28,1,29,1],[28,4,29,4],[29,12,29,23],[25,31,27,31],[25,32,27,32],[25,33,27,33],[25,34,27,34],[25,35,27,35],[25,36,27,36],[25,1,26,1],[25,4,26,4],[25,10,27,11],[25,21,27,23],[25,28,27,28],[25,30,27,30],[19,39,21,39],[19,40,21,40],[19,41,21,41],[22,1,23,1],[22,4,23,4],[22,10,24,11],[22,18,24,20],[22,28,24,28],[22,30,24,30],[22,31,24,31],[19,33,21,33],[19,34,21,34],[19,35,21,35],[19,36,21,36],[19,37,21,37],[19,38,21,38],[22,38,24,38],[22,39,24,39],[22,40,24,40],[22,41,24,41],[22,35,24,35],[22,36,24,36],[22,37,24,37],[19,1,20,1],[19,15,21,17],[19,28,21,28],[19,30,21,30],[19,31,21,31],[19,32,21,32],[22,32,24,32],[22,33,24,33],[22,34,24,34],[16,34,18,34],[14,38,14,39],[14,41,15,41],[15,2,16,5],[16,10,18,11],[16,12,18,14],[16,28,18,28],[16,30,18,30],[16,31,18,31],[16,32,18,32],[16,33,18,33],[13,25,15,27],[13,28,15,28],[14,30,14,31],[14,32,14,33],[14,34,14,35],[14,36,14,37],[16,40,18,40],[16,41,18,41],[16,35,18,35],[16,36,18,36],[16,37,18,37],[16,38,18,38],[16,39,18,39],[9,2,9,5],[12,1,13,5],[12,12,15,14],[12,15,15,17],[12,18,15,20],[12,21,15,23],[1,7,3,9],[1,10,3,13],[6,2,6,5],[7,2,7,5],[8,2,8,5],[1,1,3,6]]}
[]
[null,{"$f":"'Saisie des joueurs'!C1","v":"LIGUE MÉDITERRANÉENNE DE BILLARD"},null,null,null,null,null,{"$f":"'Saisie des joueurs'!D7","v":0},null,null,{"$f":"'Saisie des joueurs'!D9","v":0}]
[]
[]
[]
[]
[null,"Joueur 1",{"$f":"'Saisie des joueurs'!L30","v":0}]
[null,"Joueur 2",{"$f":"'Saisie des joueurs'!L31","v":0}]
[null,"Joueur 3",{"$f":"'Saisie des joueurs'!L32","v":0}]
[null,"Joueur 4",{"$f":"'Saisie des joueurs'!L33","v":0}]
[]
[]
[null,"SAISIE DES RESULTATS",null,null,null,null,null,null,null,null,null,null,{"$f":"C7","v":0},null,null,{"$f":"C8","v":0},null,null,{"$f":"C9","v":0},null,null,{"$f":"C10","v":0}]
[null,null,null,null,null,null,null,null,null,null,null,null,null,null,null,null,null,null,null,null,null,null,null,null,null,"TOTAUX",null,null,"CLASSEMENT"]
[null,null,null,null,null,null,null,null,null,null,null,null,null,null,null,null,null,null,null,null,null,null,null,null,null,null,null,null,null,null,"Classement",null,"Classement",null,"Classement",null,"Classement",null,"Classement",null,"GENERAL","RANG"]
[null,null,"BILLARD 4",null,null,null,null,null,null,null,null,null,null,null,null,null,null,null,null,null,null,null,null,null,null,null,null,null,null,null,"Point-Match","CLS-M","Moy-Gen","CLS-G","Moy-Part","CLS-P","M-Series","CLS-S","MGPS","CLS","CLS"]
[null,null,null,null,null,null,null,null,null,null,{"$f":"C7","v":0},null,"L",null,null,{"$f":"D32","v":0},null,{"$f":"E32","v":0},{"$f":"D26","v":0},null,{"$f":"E26","v":0},{"$f":"D20","v":0},null,{"$f":"E20","v":0},null,{"$f":"P17+S17+V17","v":0},null,{"$f":"R17+U17+X17","v":0},{"$f":"AP17","v":{"$error":"#DIV/0!"}},null,{"$f":"AA18","v":0.03},{"$f":"RANK(AE17,AE$17:AE$28,0)","v":1},{"$f":"AB19","v":{"$error":"#DIV/0!"}},{"$f":"RANK(AG17,AG$17:AG$28,0)","v":{"$error":"#DIV/0!"}},{"$f":"MAX(R19,U19,X19)","v":{"$error":"#DIV/0!"}},{"$f":"RANK(AI17,AI$17:AI$28)","v":{"$error":"#DIV/0!"}},{"$f":"Z19","v":0},{"$f":"RANK(AK17,AK$17:AK$28)","v":1},{"$f":"(AF17*1000)+(AH17*100)+(AJ17*10)+(AL17*1)","v":{"$error":"#DIV/0!"}},{"$f":"AM17","v":{"$error":"#DIV/0!"}},{"$f":"RANK(AN17,AN$17:AN$28,1)","v":{"$error":"#DIV/0!"}},{"$f":"RANK(AO17,AO$17:AO$28,1)","v":{"$error":"#DIV/0!"}}]
[null,null,null,null,null,null,null,null,null,null,null,null,null,null,null,null,{"$f":"IF(R17<1,0.01,IF(P17>M20,2,IF(P17=M20,1,0)))","v":0.01},null,null,{"$f":"IF(U17<1,0.01,IF(S17>M23,2,IF(S17=M23,1,0)))","v":0.01},null,null,{"$f":"IF(X17<1,0.01,IF(V17>M26,2,IF(V17=M26,1,0)))","v":0.01},null,null,null,{"$f":"Q18+T18+W18","v":0.03}]
[null,null,null,"Pts","Rep","Série",null,null,null,null,null,null,null,null,null,{"$f":"F32","v":0},null,{"$f":"P17/R17","v":{"$error":"#DIV/0!"}},{"$f":"F26","v":0},null,{"$f":"S17/U17","v":{"$error":"#DIV/0!"}},{"$f":"F20","v":0},null,{"$f":"V17/X17","v":{"$error":"#DIV/0!"}},null,{"$f":"MAX(P19,S19,V19)","v":0},null,{"$f":"Z17/AB17","v":{"$error":"#DIV/0!"}}]
[null,"Tour 1",{"$f":"C7","v":0},null,null,null,null,null,null,null,{"$f":"C8","v":0},null,{"$f":"D33","v":0},null,{"$f":"E32","v":0},"M",null,null,{"$f":"D23","v":0},null,{"$f":"E23","v":0},{"$f":"D30","v":0},null,{"$f":"E29","v":0},null,{"$f":"M20+S20+V20","v":0},null,{"$f":"O20+U20+X20","v":0},{"$f":"AP20","v":{"$error":"#DIV/0!"}},null,{"$f":"AA21","v":0.03},{"$f":"RANK(AE20,AE$17:AE$28,0)","v":1},{"$f":"AB22","v":{"$error":"#DIV/0!"}},{"$f":"RANK(AG20,AG$17:AG$28,0)","v":{"$error":"#DIV/0!"}},{"$f":"MAX(O22,U22,X22)","v":{"$error":"#DIV/0!"}},{"$f":"RANK(AI20,AI$17:AI$28)","v":{"$error":"#DIV/0!"}},{"$f":"Z22","v":0},{"$f":"RANK(AK20,AK$17:AK$28)","v":1},{"$f":"(AF20*1000)+(AH20*100)+(AJ20*10)+(AL20*1)","v":{"$error":"#DIV/0!"}},{"$f":"AM20","v":{"$error":"#DIV/0!"}},{"$f":"RANK(AN20,AN$17:AN$28,1)","v":{"$error":"#DIV/0!"}},{"$f":"RANK(AO20,AO$17:AO$28,1)","v":{"$error":"#DIV/0!"}}]
[null,null,{"$f":"C10","v":0},null,null,null,null,null,null,null,null,null,null,{"$f":"IF(R17>0,2-Q18,0.01)","v":0.01},null,null,null,null,null,{"$f":"IF(U20<1,0.01,IF(S20>P23,2,IF(S20=P23,1,0)))","v":0.01},null,null,{"$f":"IF(X20<1,0.01,IF(V20>P26,2,IF(V20=P26,1,0)))","v":0.01},null,null,null,{"$f":"N21+T21+W21","v":0.03}]
[null,null,null,null,null,null,null,null,null,null,null,null,{"$f":"F33","v":0},null,{"$f":"M20/O20","v":{"$error":"#DIV/0!"}},null,null,null,{"$f":"F23","v":0},null,{"$f":"S20/U20","v":{"$error":"#DIV/0!"}},{"$f":"F30","v":0},null,{"$f":"V20/X20","v":{"$error":"#DIV/0!"}},null,{"$f":"MAXA(M22,S22,V22)","v":0},null,{"$f":"Z20/AB20","v":{"$error":"#DIV/0!"}}]
[null,"Tour 2",{"$f":"C8","v":0},null,null,null,null,null,null,null,{"$f":"C9","v":0},null,{"$f":"D27","v":0},null,{"$f":"E26","v":0},{"$f":"D24","v":0},null,{"$f":"E23","v":0},"B",null,null,{"$f":"D35","v":0},null,{"$f":"E35","v":0},null,{"$f":"M23+P23+V23","v":0},null,{"$f":"O23+R23+X23","v":0},{"$f":"AP23","v":{"$error":"#DIV/0!"}},null,{"$f":"AA24","v":0.03},{"$f":"RANK(AE23,AE$17:AE$28,0)","v":1},{"$f":"AB25","v":{"$error":"#DIV/0!"}},{"$f":"RANK(AG23,AG$17:AG$28,0)","v":{"$error":"#DIV/0!"}},{"$f":"MAX(O25,R25,X25)","v":{"$error":"#DIV/0!"}},{"$f":"RANK(AI23,AI$17:AI$28)","v":{"$error":"#DIV/0!"}},{"$f":"Z25","v":0},{"$f":"RANK(AK23,AK$17:AK$28)","v":1},{"$f":"(AF23*1000)+(AH23*100)+(AJ23*10)+(AL23*1)","v":{"$error":"#DIV/0!"}},{"$f":"AM23","v":{"$error":"#DIV/0!"}},{"$f":"RANK(AN23,AN$17:AN$28,1)","v":{"$error":"#DIV/0!"}},{"$f":"RANK(AO23,AO$17:AO$28,1)","v":{"$error":"#DIV/0!"}}]
[null,null,{"$f":"C9","v":0},null,null,null,null,null,null,null,null,null,null,{"$f":"IF(U17>0,2-T18,0.01)","v":0.01},null,null,{"$f":"IF(U20>0,2-T21,0.01)","v":0.01},null,null,null,null,null,{"$f":"IF(X23<1,0.01,IF(V23>S26,2,IF(V23=S26,1,0)))","v":0.01},null,null,null,{"$f":"N24+Q24+W24","v":0.03}]
[null,null,null,null,null,null,null,null,null,null,null,null,{"$f":"F27","v":0},null,{"$f":"M23/O23","v":{"$error":"#DIV/0!"}},{"$f":"F24","v":0},null,{"$f":"P23/R23","v":{"$error":"#DIV/0!"}},null,null,null,{"$f":"F35","v":0},null,{"$f":"V23/X23","v":{"$error":"#DIV/0!"}},null,{"$f":"MAXA(M25,P25,V25)","v":0},null,{"$f":"Z23/AB23","v":{"$error":"#DIV/0!"}}]
[null,"Tour 3",{"$f":"C7","v":0},null,null,null,null,null,null,null,{"$f":"C10","v":0},null,{"$f":"D21","v":0},null,{"$f":"E20","v":0},{"$f":"D29","v":0},null,{"$f":"E29","v":0},{"$f":"D36","v":0},null,{"$f":"E35","v":0},null,null,null,null,{"$f":"M26+P26+S26","v":0},null,{"$f":"O26+R26+U26","v":0},{"$f":"AP26","v":{"$error":"#DIV/0!"}},null,{"$f":"AA27","v":0.03},{"$f":"RANK(AE26,AE$17:AE$28,0)","v":1},{"$f":"AB28","v":{"$error":"#DIV/0!"}},{"$f":"RANK(AG26,AG$17:AG$28,0)","v":{"$error":"#DIV/0!"}},{"$f":"MAX(O28,R28,U28)","v":{"$error":"#DIV/0!"}},{"$f":"RANK(AI26,AI$17:AI$28)","v":{"$error":"#DIV/0!"}},{"$f":"Z28","v":0},{"$f":"RANK(AK26,AK$17:AK$28)","v":1},{"$f":"(AF26*1000)+(AH26*100)+(AJ26*10)+(AL26*1)","v":{"$error":"#DIV/0!"}},{"$f":"AM26","v":{"$error":"#DIV/0!"}},{"$f":"RANK(AN26,AN$17:AN$28,1)","v":{"$error":"#DIV/0!"}},{"$f":"RANK(AO26,AO$17:AO$28,1)","v":{"$error":"#DIV/0!"}}]
[null,null,{"$f":"C9","v":0},null,null,null,null,null,null,null,null,null,null,{"$f":"IF(X17>0,2-W18,0.01)","v":0.01},null,null,{"$f":"IF(X20>0,2-W21,0.01)","v":0.01},null,null,{"$f":"IF(X23>0,2-W24,0.01)","v":0.01},null,null,null,null,null,null,{"$f":"N27+Q27+T27","v":0.03}]
[null,null,null,null,null,null,null,null,null,null,null,null,{"$f":"F21","v":0},null,{"$f":"M26/O26","v":{"$error":"#DIV/0!"}},{"$f":"F29","v":0},null,{"$f":"P26/R26","v":{"$error":"#DIV/0!"}},{"$f":"F36","v":0},null,{"$f":"S26/U26","v":{"$error":"#DIV/0!"}},null,null,null,null,{"$f":"MAXA(M28,P28,S28)","v":0},null,{"$f":"Z26/AB26","v":{"$error":"#DIV/0!"}}]
[null,"Tour 4",{"$f":"C10","v":0}]
[null,null,{"$f":"C8","v":0},null,null,null,null,null,null,null,null,null,"Pas de prolongation en cas de match nul."]
[]
[null,"Tour 5",{"$f":"C7","v":0}]
[null,null,{"$f":"C8","v":0}]
[]
[null,"Tour 6",{"$f":"C9","v":0}]
[null,null,{"$f":"C10","v":0}]
[null,null,null,null,null,null,null,"DIRECTEUR DE JEU :"]
[]
[null,"DATE : ",{"$f":"'Saisie des joueurs'!D5","v":"00:00:00"},null,null,null,null,{"$f":"'Saisie des joueurs'!G11","v":0}]
[]
[]
[null,"OBSERVATIONS"]
[]
[]
[]
[]
[]
[]
[]
[]
[]
[]
[null,"™A.FERHAT ™ C.PEREZ"]

{"sheet":"BILLARD_5","index":37,"n_rows":53,"n_cols":42,"rows_kept":53,"cut":false,"hidden":true,"merged":[[48,1,48,10],[49,1,49,10],[50,1,50,10],[52,1,52,2],[12,10,15,11],[41,1,42,10],[43,1,43,10],[44,1,44,10],[45,1,45,10],[46,1,46,10],[47,1,47,10],[31,1,32,1],[31,4,32,4],[34,1,35,1],[34,4,35,4],[36,7,37,10],[38,1,39,1],[38,2,39,2],[38,3,39,5],[38,7,39,10],[19,4,20,4],[19,10,21,11],[25,37,27,37],[25,38,27,38],[25,39,27,39],[25,40,27,40],[25,41,27,41],[28,1,29,1],[28,4,29,4],[29,12,29,23],[25,31,27,31],[25,32,27,32],[25,33,27,33],[25,34,27,34],[25,35,27,35],[25,36,27,36],[25,1,26,1],[25,4,26,4],[25,10,27,11],[25,21,27,23],[25,28,27,28],[25,30,27,30],[19,39,21,39],[19,40,21,40],[19,41,21,41],[22,1,23,1],[22,4,23,4],[22,10,24,11],[22,18,24,20],[22,28,24,28],[22,30,24,30],[22,31,24,31],[19,33,21,33],[19,34,21,34],[19,35,21,35],[19,36,21,36],[19,37,21,37],[19,38,21,38],[22,38,24,38],[22,39,24,39],[22,40,24,40],[22,41,24,41],[22,35,24,35],[22,36,24,36],[22,37,24,37],[19,1,20,1],[19,15,21,17],[19,28,21,28],[19,30,21,30],[19,31,21,31],[19,32,21,32],[22,32,24,32],[22,33,24,33],[22,34,24,34],[16,34,18,34],[14,38,14,39],[14,41,15,41],[15,2,16,5],[16,10,18,11],[16,12,18,14],[16,28,18,28],[16,30,18,30],[16,31,18,31],[16,32,18,32],[16,33,18,33],[13,25,15,27],[13,28,15,28],[14,30,14,31],[14,32,14,33],[14,34,14,35],[14,36,14,37],[16,40,18,40],[16,41,18,41],[16,35,18,35],[16,36,18,36],[16,37,18,37],[16,38,18,38],[16,39,18,39],[9,2,9,5],[12,1,13,5],[12,12,15,14],[12,15,15,17],[12,18,15,20],[12,21,15,23],[1,7,3,9],[1,10,3,13],[6,2,6,5],[7,2,7,5],[8,2,8,5],[1,1,3,6]]}
[]
[null,{"$f":"'Saisie des joueurs'!C1","v":"LIGUE MÉDITERRANÉENNE DE BILLARD"},null,null,null,null,null,{"$f":"'Saisie des joueurs'!D7","v":0},null,null,{"$f":"'Saisie des joueurs'!D9","v":0}]
[]
[]
[]
[]
[null,"Joueur 1",{"$f":"'Saisie des joueurs'!L34","v":0}]
[null,"Joueur 2",{"$f":"'Saisie des joueurs'!L35","v":0}]
[null,"Joueur 3",{"$f":"'Saisie des joueurs'!L36","v":0}]
[null,"Joueur 4",{"$f":"'Saisie des joueurs'!L37","v":0}]
[]
[]
[null,"SAISIE DES RESULTATS",null,null,null,null,null,null,null,null,null,null,{"$f":"C7","v":0},null,null,{"$f":"C8","v":0},null,null,{"$f":"C9","v":0},null,null,{"$f":"C10","v":0}]
[null,null,null,null,null,null,null,null,null,null,null,null,null,null,null,null,null,null,null,null,null,null,null,null,null,"TOTAUX",null,null,"CLASSEMENT"]
[null,null,null,null,null,null,null,null,null,null,null,null,null,null,null,null,null,null,null,null,null,null,null,null,null,null,null,null,null,null,"Classement",null,"Classement",null,"Classement",null,"Classement",null,"Classement",null,"GENERAL","RANG"]
[null,null,"BILLARD 5",null,null,null,null,null,null,null,null,null,null,null,null,null,null,null,null,null,null,null,null,null,null,null,null,null,null,null,"Point-Match","CLS-M","Moy-Gen","CLS-G","Moy-Part","CLS-P","M-Series","CLS-S","MGPS","CLS","CLS"]
[null,null,null,null,null,null,null,null,null,null,{"$f":"C7","v":0},null,"L",null,null,{"$f":"D32","v":0},null,{"$f":"E32","v":0},{"$f":"D26","v":0},null,{"$f":"E26","v":0},{"$f":"D20","v":0},null,{"$f":"E20","v":0},null,{"$f":"P17+S17+V17","v":0},null,{"$f":"R17+U17+X17","v":0},{"$f":"AP17","v":{"$error":"#DIV/0!"}},null,{"$f":"AA18","v":0.03},{"$f":"RANK(AE17,AE$17:AE$28,0)","v":1},{"$f":"AB19","v":{"$error":"#DIV/0!"}},{"$f":"RANK(AG17,AG$17:AG$28,0)","v":{"$error":"#DIV/0!"}},{"$f":"MAX(R19,U19,X19)","v":{"$error":"#DIV/0!"}},{"$f":"RANK(AI17,AI$17:AI$28)","v":{"$error":"#DIV/0!"}},{"$f":"Z19","v":0},{"$f":"RANK(AK17,AK$17:AK$28)","v":1},{"$f":"(AF17*1000)+(AH17*100)+(AJ17*10)+(AL17*1)","v":{"$error":"#DIV/0!"}},{"$f":"AM17","v":{"$error":"#DIV/0!"}},{"$f":"RANK(AN17,AN$17:AN$28,1)","v":{"$error":"#DIV/0!"}},{"$f":"RANK(AO17,AO$17:AO$28,1)","v":{"$error":"#DIV/0!"}}]
[null,null,null,null,null,null,null,null,null,null,null,null,null,null,null,null,{"$f":"IF(R17<1,0.01,IF(P17>M20,2,IF(P17=M20,1,0)))","v":0.01},null,null,{"$f":"IF(U17<1,0.01,IF(S17>M23,2,IF(S17=M23,1,0)))","v":0.01},null,null,{"$f":"IF(X17<1,0.01,IF(V17>M26,2,IF(V17=M26,1,0)))","v":0.01},null,null,null,{"$f":"Q18+T18+W18","v":0.03}]
[null,null,null,"Pts","Rep","Série",null,null,null,null,null,null,null,null,null,{"$f":"F32","v":0},null,{"$f":"P17/R17","v":{"$error":"#DIV/0!"}},{"$f":"F26","v":0},null,{"$f":"S17/U17","v":{"$error":"#DIV/0!"}},{"$f":"F20","v":0},null,{"$f":"V17/X17","v":{"$error":"#DIV/0!"}},null,{"$f":"MAX(P19,S19,V19)","v":0},null,{"$f":"Z17/AB17","v":{"$error":"#DIV/0!"}}]
[null,"Tour 1",{"$f":"C7","v":0},null,null,null,null,null,null,null,{"$f":"C8","v":0},null,{"$f":"D33","v":0},null,{"$f":"E32","v":0},"M",null,null,{"$f":"D23","v":0},null,{"$f":"E23","v":0},{"$f":"D30","v":0},null,{"$f":"E29","v":0},null,{"$f":"M20+S20+V20","v":0},null,{"$f":"O20+U20+X20","v":0},{"$f":"AP20","v":{"$error":"#DIV/0!"}},null,{"$f":"AA21","v":0.03},{"$f":"RANK(AE20,AE$17:AE$28,0)","v":1},{"$f":"AB22","v":{"$error":"#DIV/0!"}},{"$f":"RANK(AG20,AG$17:AG$28,0)","v":{"$error":"#DIV/0!"}},{"$f":"MAX(O22,U22,X22)","v":{"$error":"#DIV/0!"}},{"$f":"RANK(AI20,AI$17:AI$28)","v":{"$error":"#DIV/0!"}},{"$f":"Z22","v":0},{"$f":"RANK(AK20,AK$17:AK$28)","v":1},{"$f":"(AF20*1000)+(AH20*100)+(AJ20*10)+(AL20*1)","v":{"$error":"#DIV/0!"}},{"$f":"AM20","v":{"$error":"#DIV/0!"}},{"$f":"RANK(AN20,AN$17:AN$28,1)","v":{"$error":"#DIV/0!"}},{"$f":"RANK(AO20,AO$17:AO$28,1)","v":{"$error":"#DIV/0!"}}]
[null,null,{"$f":"C10","v":0},null,null,null,null,null,null,null,null,null,null,{"$f":"IF(R17>0,2-Q18,0.01)","v":0.01},null,null,null,null,null,{"$f":"IF(U20<1,0.01,IF(S20>P23,2,IF(S20=P23,1,0)))","v":0.01},null,null,{"$f":"IF(X20<1,0.01,IF(V20>P26,2,IF(V20=P26,1,0)))","v":0.01},null,null,null,{"$f":"N21+T21+W21","v":0.03}]
[null,null,null,null,null,null,null,null,null,null,null,null,{"$f":"F33","v":0},null,{"$f":"M20/O20","v":{"$error":"#DIV/0!"}},null,null,null,{"$f":"F23","v":0},null,{"$f":"S20/U20","v":{"$error":"#DIV/0!"}},{"$f":"F30","v":0},null,{"$f":"V20/X20","v":{"$error":"#DIV/0!"}},null,{"$f":"MAXA(M22,S22,V22)","v":0},null,{"$f":"Z20/AB20","v":{"$error":"#DIV/0!"}}]
[null,"Tour 2",{"$f":"C8","v":0},null,null,null,null,null,null,null,{"$f":"C9","v":0},null,{"$f":"D27","v":0},null,{"$f":"E26","v":0},{"$f":"D24","v":0},null,{"$f":"E23","v":0},"B",null,null,{"$f":"D35","v":0},null,{"$f":"E35","v":0},null,{"$f":"M23+P23+V23","v":0},null,{"$f":"O23+R23+X23","v":0},{"$f":"AP23","v":{"$error":"#DIV/0!"}},null,{"$f":"AA24","v":0.03},{"$f":"RANK(AE23,AE$17:AE$28,0)","v":1},{"$f":"AB25","v":{"$error":"#DIV/0!"}},{"$f":"RANK(AG23,AG$17:AG$28,0)","v":{"$error":"#DIV/0!"}},{"$f":"MAX(O25,R25,X25)","v":{"$error":"#DIV/0!"}},{"$f":"RANK(AI23,AI$17:AI$28)","v":{"$error":"#DIV/0!"}},{"$f":"Z25","v":0},{"$f":"RANK(AK23,AK$17:AK$28)","v":1},{"$f":"(AF23*1000)+(AH23*100)+(AJ23*10)+(AL23*1)","v":{"$error":"#DIV/0!"}},{"$f":"AM23","v":{"$error":"#DIV/0!"}},{"$f":"RANK(AN23,AN$17:AN$28,1)","v":{"$error":"#DIV/0!"}},{"$f":"RANK(AO23,AO$17:AO$28,1)","v":{"$error":"#DIV/0!"}}]
[null,null,{"$f":"C9","v":0},null,null,null,null,null,null,null,null,null,null,{"$f":"IF(U17>0,2-T18,0.01)","v":0.01},null,null,{"$f":"IF(U20>0,2-T21,0.01)","v":0.01},null,null,null,null,null,{"$f":"IF(X23<1,0.01,IF(V23>S26,2,IF(V23=S26,1,0)))","v":0.01},null,null,null,{"$f":"N24+Q24+W24","v":0.03}]
[null,null,null,null,null,null,null,null,null,null,null,null,{"$f":"F27","v":0},null,{"$f":"M23/O23","v":{"$error":"#DIV/0!"}},{"$f":"F24","v":0},null,{"$f":"P23/R23","v":{"$error":"#DIV/0!"}},null,null,null,{"$f":"F35","v":0},null,{"$f":"V23/X23","v":{"$error":"#DIV/0!"}},null,{"$f":"MAXA(M25,P25,V25)","v":0},null,{"$f":"Z23/AB23","v":{"$error":"#DIV/0!"}}]
[null,"Tour 3",{"$f":"C7","v":0},null,null,null,null,null,null,null,{"$f":"C10","v":0},null,{"$f":"D21","v":0},null,{"$f":"E20","v":0},{"$f":"D29","v":0},null,{"$f":"E29","v":0},{"$f":"D36","v":0},null,{"$f":"E35","v":0},null,null,null,null,{"$f":"M26+P26+S26","v":0},null,{"$f":"O26+R26+U26","v":0},{"$f":"AP26","v":{"$error":"#DIV/0!"}},null,{"$f":"AA27","v":0.03},{"$f":"RANK(AE26,AE$17:AE$28,0)","v":1},{"$f":"AB28","v":{"$error":"#DIV/0!"}},{"$f":"RANK(AG26,AG$17:AG$28,0)","v":{"$error":"#DIV/0!"}},{"$f":"MAX(O28,R28,U28)","v":{"$error":"#DIV/0!"}},{"$f":"RANK(AI26,AI$17:AI$28)","v":{"$error":"#DIV/0!"}},{"$f":"Z28","v":0},{"$f":"RANK(AK26,AK$17:AK$28)","v":1},{"$f":"(AF26*1000)+(AH26*100)+(AJ26*10)+(AL26*1)","v":{"$error":"#DIV/0!"}},{"$f":"AM26","v":{"$error":"#DIV/0!"}},{"$f":"RANK(AN26,AN$17:AN$28,1)","v":{"$error":"#DIV/0!"}},{"$f":"RANK(AO26,AO$17:AO$28,1)","v":{"$error":"#DIV/0!"}}]
[null,null,{"$f":"C9","v":0},null,null,null,null,null,null,null,null,null,null,{"$f":"IF(X17>0,2-W18,0.01)","v":0.01},null,null,{"$f":"IF(X20>0,2-W21,0.01)","v":0.01},null,null,{"$f":"IF(X23>0,2-W24,0.01)","v":0.01},null,null,null,null,null,null,{"$f":"N27+Q27+T27","v":0.03}]
[null,null,null,null,null,null,null,null,null,null,null,null,{"$f":"F21","v":0},null,{"$f":"M26/O26","v":{"$error":"#DIV/0!"}},{"$f":"F29","v":0},null,{"$f":"P26/R26","v":{"$error":"#DIV/0!"}},{"$f":"F36","v":0},null,{"$f":"S26/U26","v":{"$error":"#DIV/0!"}},null,null,null,null,{"$f":"MAXA(M28,P28,S28)","v":0},null,{"$f":"Z26/AB26","v":{"$error":"#DIV/0!"}}]
[null,"Tour 4",{"$f":"C10","v":0}]
[null,null,{"$f":"C8","v":0},null,null,null,null,null,null,null,null,null,"Pas de prolongation en cas de match nul."]
[]
[null,"Tour 5",{"$f":"C7","v":0}]
[null,null,{"$f":"C8","v":0}]
[]
[null,"Tour 6",{"$f":"C9","v":0}]
[null,null,{"$f":"C10","v":0}]
[null,null,null,null,null,null,null,"DIRECTEUR DE JEU :"]
[]
[null,"DATE : ",{"$f":"'Saisie des joueurs'!D5","v":"00:00:00"},null,null,null,null,{"$f":"'Saisie des joueurs'!G11","v":0}]
[]
[]
[null,"OBSERVATIONS"]
[]
[]
[]
[]
[]
[]
[]
[]
[]
[]
[null,"™A.FERHAT ™ C.PEREZ"]

{"sheet":"BILLARD_6","index":38,"n_rows":53,"n_cols":42,"rows_kept":53,"cut":false,"hidden":true,"merged":[[48,1,48,10],[49,1,49,10],[50,1,50,10],[52,1,52,2],[12,10,15,11],[41,1,42,10],[43,1,43,10],[44,1,44,10],[45,1,45,10],[46,1,46,10],[47,1,47,10],[31,1,32,1],[31,4,32,4],[34,1,35,1],[34,4,35,4],[36,7,37,10],[38,1,39,1],[38,2,39,2],[38,3,39,5],[38,7,39,10],[19,4,20,4],[19,10,21,11],[25,37,27,37],[25,38,27,38],[25,39,27,39],[25,40,27,40],[25,41,27,41],[28,1,29,1],[28,4,29,4],[29,12,29,23],[25,31,27,31],[25,32,27,32],[25,33,27,33],[25,34,27,34],[25,35,27,35],[25,36,27,36],[25,1,26,1],[25,4,26,4],[25,10,27,11],[25,21,27,23],[25,28,27,28],[25,30,27,30],[19,39,21,39],[19,40,21,40],[19,41,21,41],[22,1,23,1],[22,4,23,4],[22,10,24,11],[22,18,24,20],[22,28,24,28],[22,30,24,30],[22,31,24,31],[19,33,21,33],[19,34,21,34],[19,35,21,35],[19,36,21,36],[19,37,21,37],[19,38,21,38],[22,38,24,38],[22,39,24,39],[22,40,24,40],[22,41,24,41],[22,35,24,35],[22,36,24,36],[22,37,24,37],[19,1,20,1],[19,15,21,17],[19,28,21,28],[19,30,21,30],[19,31,21,31],[19,32,21,32],[22,32,24,32],[22,33,24,33],[22,34,24,34],[16,34,18,34],[14,38,14,39],[14,41,15,41],[15,2,16,5],[16,10,18,11],[16,12,18,14],[16,28,18,28],[16,30,18,30],[16,31,18,31],[16,32,18,32],[16,33,18,33],[13,25,15,27],[13,28,15,28],[14,30,14,31],[14,32,14,33],[14,34,14,35],[14,36,14,37],[16,40,18,40],[16,41,18,41],[16,35,18,35],[16,36,18,36],[16,37,18,37],[16,38,18,38],[16,39,18,39],[9,2,9,5],[12,1,13,5],[12,12,15,14],[12,15,15,17],[12,18,15,20],[12,21,15,23],[1,7,3,9],[1,10,3,13],[6,2,6,5],[7,2,7,5],[8,2,8,5],[1,1,3,6]]}
[]
[null,{"$f":"'Saisie des joueurs'!C1","v":"LIGUE MÉDITERRANÉENNE DE BILLARD"},null,null,null,null,null,"T1",null,null,{"$f":"'Saisie des joueurs'!D9","v":0}]
[]
[]
[]
[]
[null,"Joueur 1",{"$f":"'Saisie des joueurs'!L38","v":0}]
[null,"Joueur 2",{"$f":"'Saisie des joueurs'!L39","v":0}]
[null,"Joueur 3",{"$f":"'Saisie des joueurs'!L40","v":0}]
[null,"Joueur 4",{"$f":"'Saisie des joueurs'!L41","v":0}]
[]
[]
[null,"SAISIE DES RESULTATS",null,null,null,null,null,null,null,null,null,null,{"$f":"C7","v":0},null,null,{"$f":"C8","v":0},null,null,{"$f":"C9","v":0},null,null,{"$f":"C10","v":0}]
[null,null,null,null,null,null,null,null,null,null,null,null,null,null,null,null,null,null,null,null,null,null,null,null,null,"TOTAUX",null,null,"CLASSEMENT"]
[null,null,null,null,null,null,null,null,null,null,null,null,null,null,null,null,null,null,null,null,null,null,null,null,null,null,null,null,null,null,"Classement",null,"Classement",null,"Classement",null,"Classement",null,"Classement",null,"GENERAL","RANG"]
[null,null,"BILLARD 6",null,null,null,null,null,null,null,null,null,null,null,null,null,null,null,null,null,null,null,null,null,null,null,null,null,null,null,"Point-Match","CLS-M","Moy-Gen","CLS-G","Moy-Part","CLS-P","M-Series","CLS-S","MGPS","CLS","CLS"]
[null,null,null,null,null,null,null,null,null,null,{"$f":"C7","v":0},null,"L",null,null,{"$f":"D32","v":0},null,{"$f":"E32","v":0},{"$f":"D26","v":0},null,{"$f":"E26","v":0},{"$f":"D20","v":0},null,{"$f":"E20","v":0},null,{"$f":"P17+S17+V17","v":0},null,{"$f":"R17+U17+X17","v":0},{"$f":"AP17","v":{"$error":"#DIV/0!"}},null,{"$f":"AA18","v":0.03},{"$f":"RANK(AE17,AE$17:AE$28,0)","v":1},{"$f":"AB19","v":{"$error":"#DIV/0!"}},{"$f":"RANK(AG17,AG$17:AG$28,0)","v":{"$error":"#DIV/0!"}},{"$f":"MAX(R19,U19,X19)","v":{"$error":"#DIV/0!"}},{"$f":"RANK(AI17,AI$17:AI$28)","v":{"$error":"#DIV/0!"}},{"$f":"Z19","v":0},{"$f":"RANK(AK17,AK$17:AK$28)","v":1},{"$f":"(AF17*1000)+(AH17*100)+(AJ17*10)+(AL17*1)","v":{"$error":"#DIV/0!"}},{"$f":"AM17","v":{"$error":"#DIV/0!"}},{"$f":"RANK(AN17,AN$17:AN$28,1)","v":{"$error":"#DIV/0!"}},{"$f":"RANK(AO17,AO$17:AO$28,1)","v":{"$error":"#DIV/0!"}}]
[null,null,null,null,null,null,null,null,null,null,null,null,null,null,null,null,{"$f":"IF(R17<1,0.01,IF(P17>M20,2,IF(P17=M20,1,0)))","v":0.01},null,null,{"$f":"IF(U17<1,0.01,IF(S17>M23,2,IF(S17=M23,1,0)))","v":0.01},null,null,{"$f":"IF(X17<1,0.01,IF(V17>M26,2,IF(V17=M26,1,0)))","v":0.01},null,null,null,{"$f":"Q18+T18+W18","v":0.03}]
[null,null,null,"Pts","Rep","Série",null,null,null,null,null,null,null,null,null,{"$f":"F32","v":0},null,{"$f":"P17/R17","v":{"$error":"#DIV/0!"}},{"$f":"F26","v":0},null,{"$f":"S17/U17","v":{"$error":"#DIV/0!"}},{"$f":"F20","v":0},null,{"$f":"V17/X17","v":{"$error":"#DIV/0!"}},null,{"$f":"MAX(P19,S19,V19)","v":0},null,{"$f":"Z17/AB17","v":{"$error":"#DIV/0!"}}]
[null,"Tour 1",{"$f":"C7","v":0},null,null,null,null,null,null,null,{"$f":"C8","v":0},null,{"$f":"D33","v":0},null,{"$f":"E32","v":0},"M",null,null,{"$f":"D23","v":0},null,{"$f":"E23","v":0},{"$f":"D30","v":0},null,{"$f":"E29","v":0},null,{"$f":"M20+S20+V20","v":0},null,{"$f":"O20+U20+X20","v":0},{"$f":"AP20","v":{"$error":"#DIV/0!"}},null,{"$f":"AA21","v":0.03},{"$f":"RANK(AE20,AE$17:AE$28,0)","v":1},{"$f":"AB22","v":{"$error":"#DIV/0!"}},{"$f":"RANK(AG20,AG$17:AG$28,0)","v":{"$error":"#DIV/0!"}},{"$f":"MAX(O22,U22,X22)","v":{"$error":"#DIV/0!"}},{"$f":"RANK(AI20,AI$17:AI$28)","v":{"$error":"#DIV/0!"}},{"$f":"Z22","v":0},{"$f":"RANK(AK20,AK$17:AK$28)","v":1},{"$f":"(AF20*1000)+(AH20*100)+(AJ20*10)+(AL20*1)","v":{"$error":"#DIV/0!"}},{"$f":"AM20","v":{"$error":"#DIV/0!"}},{"$f":"RANK(AN20,AN$17:AN$28,1)","v":{"$error":"#DIV/0!"}},{"$f":"RANK(AO20,AO$17:AO$28,1)","v":{"$error":"#DIV/0!"}}]
[null,null,{"$f":"C10","v":0},null,null,null,null,null,null,null,null,null,null,{"$f":"IF(R17>0,2-Q18,0.01)","v":0.01},null,null,null,null,null,{"$f":"IF(U20<1,0.01,IF(S20>P23,2,IF(S20=P23,1,0)))","v":0.01},null,null,{"$f":"IF(X20<1,0.01,IF(V20>P26,2,IF(V20=P26,1,0)))","v":0.01},null,null,null,{"$f":"N21+T21+W21","v":0.03}]
[null,null,null,null,null,null,null,null,null,null,null,null,{"$f":"F33","v":0},null,{"$f":"M20/O20","v":{"$error":"#DIV/0!"}},null,null,null,{"$f":"F23","v":0},null,{"$f":"S20/U20","v":{"$error":"#DIV/0!"}},{"$f":"F30","v":0},null,{"$f":"V20/X20","v":{"$error":"#DIV/0!"}},null,{"$f":"MAXA(M22,S22,V22)","v":0},null,{"$f":"Z20/AB20","v":{"$error":"#DIV/0!"}}]
[null,"Tour 2",{"$f":"C8","v":0},null,null,null,null,null,null,null,{"$f":"C9","v":0},null,{"$f":"D27","v":0},null,{"$f":"E26","v":0},{"$f":"D24","v":0},null,{"$f":"E23","v":0},"B",null,null,{"$f":"D35","v":0},null,{"$f":"E35","v":0},null,{"$f":"M23+P23+V23","v":0},null,{"$f":"O23+R23+X23","v":0},{"$f":"AP23","v":{"$error":"#DIV/0!"}},null,{"$f":"AA24","v":0.03},{"$f":"RANK(AE23,AE$17:AE$28,0)","v":1},{"$f":"AB25","v":{"$error":"#DIV/0!"}},{"$f":"RANK(AG23,AG$17:AG$28,0)","v":{"$error":"#DIV/0!"}},{"$f":"MAX(O25,R25,X25)","v":{"$error":"#DIV/0!"}},{"$f":"RANK(AI23,AI$17:AI$28)","v":{"$error":"#DIV/0!"}},{"$f":"Z25","v":0},{"$f":"RANK(AK23,AK$17:AK$28)","v":1},{"$f":"(AF23*1000)+(AH23*100)+(AJ23*10)+(AL23*1)","v":{"$error":"#DIV/0!"}},{"$f":"AM23","v":{"$error":"#DIV/0!"}},{"$f":"RANK(AN23,AN$17:AN$28,1)","v":{"$error":"#DIV/0!"}},{"$f":"RANK(AO23,AO$17:AO$28,1)","v":{"$error":"#DIV/0!"}}]
[null,null,{"$f":"C9","v":0},null,null,null,null,null,null,null,null,null,null,{"$f":"IF(U17>0,2-T18,0.01)","v":0.01},null,null,{"$f":"IF(U20>0,2-T21,0.01)","v":0.01},null,null,null,null,null,{"$f":"IF(X23<1,0.01,IF(V23>S26,2,IF(V23=S26,1,0)))","v":0.01},null,null,null,{"$f":"N24+Q24+W24","v":0.03}]
[null,null,null,null,null,null,null,null,null,null,null,null,{"$f":"F27","v":0},null,{"$f":"M23/O23","v":{"$error":"#DIV/0!"}},{"$f":"F24","v":0},null,{"$f":"P23/R23","v":{"$error":"#DIV/0!"}},null,null,null,{"$f":"F35","v":0},null,{"$f":"V23/X23","v":{"$error":"#DIV/0!"}},null,{"$f":"MAXA(M25,P25,V25)","v":0},null,{"$f":"Z23/AB23","v":{"$error":"#DIV/0!"}}]
[null,"Tour 3",{"$f":"C7","v":0},null,null,null,null,null,null,null,{"$f":"C10","v":0},null,{"$f":"D21","v":0},null,{"$f":"E20","v":0},{"$f":"D29","v":0},null,{"$f":"E29","v":0},{"$f":"D36","v":0},null,{"$f":"E35","v":0},null,null,null,null,{"$f":"M26+P26+S26","v":0},null,{"$f":"O26+R26+U26","v":0},{"$f":"AP26","v":{"$error":"#DIV/0!"}},null,{"$f":"AA27","v":0.03},{"$f":"RANK(AE26,AE$17:AE$28,0)","v":1},{"$f":"AB28","v":{"$error":"#DIV/0!"}},{"$f":"RANK(AG26,AG$17:AG$28,0)","v":{"$error":"#DIV/0!"}},{"$f":"MAX(O28,R28,U28)","v":{"$error":"#DIV/0!"}},{"$f":"RANK(AI26,AI$17:AI$28)","v":{"$error":"#DIV/0!"}},{"$f":"Z28","v":0},{"$f":"RANK(AK26,AK$17:AK$28)","v":1},{"$f":"(AF26*1000)+(AH26*100)+(AJ26*10)+(AL26*1)","v":{"$error":"#DIV/0!"}},{"$f":"AM26","v":{"$error":"#DIV/0!"}},{"$f":"RANK(AN26,AN$17:AN$28,1)","v":{"$error":"#DIV/0!"}},{"$f":"RANK(AO26,AO$17:AO$28,1)","v":{"$error":"#DIV/0!"}}]
[null,null,{"$f":"C9","v":0},null,null,null,null,null,null,null,null,null,null,{"$f":"IF(X17>0,2-W18,0.01)","v":0.01},null,null,{"$f":"IF(X20>0,2-W21,0.01)","v":0.01},null,null,{"$f":"IF(X23>0,2-W24,0.01)","v":0.01},null,null,null,null,null,null,{"$f":"N27+Q27+T27","v":0.03}]
[null,null,null,null,null,null,null,null,null,null,null,null,{"$f":"F21","v":0},null,{"$f":"M26/O26","v":{"$error":"#DIV/0!"}},{"$f":"F29","v":0},null,{"$f":"P26/R26","v":{"$error":"#DIV/0!"}},{"$f":"F36","v":0},null,{"$f":"S26/U26","v":{"$error":"#DIV/0!"}},null,null,null,null,{"$f":"MAXA(M28,P28,S28)","v":0},null,{"$f":"Z26/AB26","v":{"$error":"#DIV/0!"}}]
[null,"Tour 4",{"$f":"C10","v":0}]
[null,null,{"$f":"C8","v":0},null,null,null,null,null,null,null,null,null,"Pas de prolongation en cas de match nul."]
[]
[null,"Tour 5",{"$f":"C7","v":0}]
[null,null,{"$f":"C8","v":0}]
[]
[null,"Tour 6",{"$f":"C9","v":0}]
[null,null,{"$f":"C10","v":0}]
[null,null,null,null,null,null,null,"DIRECTEUR DE JEU :"]
[]
[null,"DATE : ",{"$f":"'Saisie des joueurs'!D5","v":"00:00:00"},null,null,null,null,{"$f":"'Saisie des joueurs'!G11","v":0}]
[]
[]
[null,"OBSERVATIONS"]
[]
[]
[]
[]
[]
[]
[]
[]
[]
[]
[null,"™A.FERHAT ™ C.PEREZ"]