{"text_format":"1","workbook":"xlsx","n_sheets":28,"sheets":["FicheJoueurs","CLUB","BOISSON_T","CADRE","LIBRE","BOISSON_F","3BANDES","BANDE","MACRO","F-MATCH","Distances-FFB-LMB","SaisieJoueurs Finale","Saisie des joueurs","FINALE A 5 JOUEURS","3JOUEURS","4JOUEURS","5JOUEURS","6JOUEURS","7JOUEURS","8JOUEURS","9JOUEURS","10JOUEURS","11JOUEURS","12JOUEURS","13JOUEURS","14JOUEURS","15JOUEURS","16JOUEURS"],"not_rendered":{"charts":0,"images":4,"macros":1,"external_links":0,"defined_names":181,"comments":0,"pivot_tables":0},"unopened":[],"bounds":{"document_bytes":16777216,"sheet_cells":100000,"rows_first":2000,"rows_last":500,"rows_between":2000,"halvings":0,"cell_chars":16384,"cell_head_chars":4096},"cells_cut":0,"cells_raw":0,"read":"whole","date_system":"1900"}

{"sheet":"FicheJoueurs","index":0,"n_rows":614,"n_cols":5,"rows_kept":614,"cut":false,"hidden":true,"merged":[[0,1,1,4]]}
[null,"LISTING JOUEURS LICENCIES LMB 2025"]
[]
[null,"NC","NOM PRENOM","CLUB ","N° LICENCE"]
[]
[]
[null,"Non Classé","Nom joueur","Club","Licence"]
[null,null,"ABAD-YANNICK","19002--SPORT AMAT.DE BILLARD MARSEILLAIS","106287Z"]
[null,null,"ABELA-JOSEPH","19021-BILLARD CLUB CAVAILLONNAIS","159403P"]
[null,null,"AGNES-ALEXANDRE","19127-O CIGALON BILLARD CLUB","147448V"]
[null,null,"AGOPIAN-VICTOR","19050-BILLARD CLUB SAUSSETOIS","146637X"]
[null,null,"AKNIN-GABRIEL","19027-ACADEMIE DE BILLARD DE BOLLENE","021810W"]
[null,null,"AKTAS-JEAN","19112-NISSA BILLARD CLUB","147980Y"]
[null,null,"ALESSI-JEAN PIERRE","19023-BILLARD CLUB GARDEEN","149448T"]
[null,null,"ALIBERT-BRUNO","19056-BILLARD CLUB DE NICE","151459E"]
[null,null,"ALLAL-SOUHIL","19130-BLACK BALL CAVAILLONNAIS","132516U"]
[null,null,"ALLIGIER-GERARD","19019-BILLARD CLUB DE LA BAIE","157036R"]
[null,null,"ALLORGE-STEPHANE","19009-CLUB BILLARD ISTREEN","186296W"]
[null,null,"ALVAREZ-PHILIPPE","19056-BILLARD CLUB DE NICE","159130S"]
[null,null,"ALVISET-GUY","19050-BILLARD CLUB SAUSSETOIS","152035F"]
[null,null,"AMANS-HERVE","19009-CLUB BILLARD ISTREEN","177854V"]
[null,null,"AMMARI-ANAS","19002-SPORT AMAT.DE BILLARD MARSEILLAIS","186456V"]
[null,null,"AMOUROUX-JACQUES ANTOINE","19023-BILLARD CLUB GARDEEN","162879S"]
[null,null,"AMOUROUX-LUC","19023-BILLARD CLUB GARDEEN","155531F"]
[null,null,"ANGUE-PATRICK","19056-BILLARD CLUB DE NICE","021819F"]
[null,null,"ANNESTAY-JACQUES","19025-BILLARD CLUB SISTERONNAIS","021820G"]
[null,null,"ANTONIN-ALAIN","19021-BILLARD CLUB CAVAILLONNAIS","021821H"]
[null,null,"ARBAUD-STEPHANE","19112-NISSA BILLARD CLUB","021824K"]
[null,null,"ARENAS-ROLDAN","19055-ACADEMIE DE BILLARD DE MENTON","181505N"]
[null,null,"ARGENTIN-JEAN NOEL","19127-O CIGALON BILLARD CLUB","126179B"]
[null,null,"ARMENGAU-PHILIPPE","19056-BILLARD CLUB DE NICE","161785D"]
[null,null,"ARNAUD-PIERRE","19006-BILLARD CLUB CARPENTRASSIEN","122035R"]
[null,null,"ARNOUX-LAURENT","19058-ACADEMIE DE BILLARD DE BARBOSSI MANDELIEU","180272Y"]
[null,null,"AUBERT ROUECHE-LYDIA","19106-BILLARD CLUB VINONNAIS","148204R"]
[null,null,"AUDIBERT-JEAN PIERRE","19012-SALON BILLARD CLUB","106513R"]
[null,null,"AUTRAND-MICHEL","19001-S. S. A. B. D AIX EN PROVENCE","172643F"]
[null,null,"AZOULAY-ALAIN","19017-BILLARD CLUB PHOCEEN","021839Z"]
[null,null,"BACHERGIAN-MAXENCE","19002-SPORT AMAT.DE BILLARD MARSEILLAIS","174115F"]
[null,null,"BAILLON-JEAN","19058-ACADEMIE DE BILLARD DE BARBOSSI MANDELIEU","115304U"]
[null,null,"BAJEUX-JEAN LOUIS","19090-BILLARD AMATEUR ROGNAC","183850M"]
[null,null,"BALESTRI-MAURICE","19058-ACADEMIE DE BILLARD DE BARBOSSI MANDELIEU","153554G"]
[null,null,"BALLAIS-REMI","19017-BILLARD CLUB PHOCEEN","186655L"]
[null,null,"BALLIGAND-SERGE","19059-BILLARD CLUB ROQUEBRUNOIS","023184S"]
[null,null,"BANO-SERGE","19001-S. S. A. B. D AIX EN PROVENCE","149693K"]
[null,null,"BARBANNEAU-FREDERIC","19106-BILLARD CLUB VINONNAIS","109917P"]
[null,null,"BARBESANT-DIDIER","19058-ACADEMIE DE BILLARD DE BARBOSSI MANDELIEU","168289Y"]
[null,null,"BARNES-JEAN PIERRE","19009-CLUB BILLARD ISTREEN","177120X"]
[null,null,"BAROTH-DARIO","19127-O CIGALON BILLARD CLUB","174346G"]
[null,null,"BAROTH-LOEVA","19127-O CIGALON BILLARD CLUB","174347H"]
[null,null,"BARRALLON-JEAN PAUL","19023-BILLARD CLUB GARDEEN","122300W"]
[null,null,"BARTHE-CHANTAL","19090-BILLARD AMATEUR ROGNAC","179073V"]
[null,null,"BASELGA-PASCAL","19093-AMERICAN CLUB LOUIS XI","135538A"]
[null,null,"BASSOUL-JEAN MARIE","19006-BILLARD CLUB CARPENTRASSIEN","103568K"]
[null,null,"BAUDOUX-JEAN CLAUDE","19058-ACADEMIE DE BILLARD DE BARBOSSI MANDELIEU","164877P"]
[null,null,"BAYARD-JEAN CLAUDE","19021-BILLARD CLUB CAVAILLONNAIS","021860U"]
[null,null,"BAYLE-PASCAL","19090-BILLARD AMATEUR ROGNAC","021861V"]
[null,null,"BEAUCHANT-FABRICE","19131-BILLARD CLUB DE L ESTAGNOL","182453T"]
[null,null,"BECK-MICHEL","19061-ACAD.BILLARD ST RAPHAEL","011797T"]
[null,null,"BEDARIDE-NICOLAS","19002-SPORT AMAT.DE BILLARD MARSEILLAIS","170823C"]
[null,null,"BEDOC-JACQUES","19007-BILLARD CLUB BERROIS","021863X"]
[null,null,"BELAICH-EDOUARD","19017-BILLARD CLUB PHOCEEN","175776L"]
[null,null,"BELHASSEN-BENJAMIN","19112-NISSA BILLARD CLUB","021865Z"]
[null,null,"BELINGUIER-MAXIME","19002-SPORT AMAT.DE BILLARD MARSEILLAIS","182588Q"]
[null,null,"BELTRITTI-JEAN YVES","19106-BILLARD CLUB VINONNAIS","132789H"]
[null,null,"BENAVIDES-CLAUDE","19012-SALON BILLARD CLUB","021872G"]
[null,null,"BENAVIDES-GERARD","19012-SALON BILLARD CLUB","138275H"]
[null,null,"BENDAVID-KARINE","19112-NISSA BILLARD CLUB","124802C"]
[null,null,"BENHAMOU-ALEXIS","19001-S. S. A. B. D AIX EN PROVENCE","160341J"]
[null,null,"BENIER-PATRICK","19023-BILLARD CLUB GARDEEN","159238K"]
[null,null,"BENOIT-MICHEL","19027-ACADEMIE DE BILLARD DE BOLLENE","159790K"]
[null,null,"BENSAID-NOEL","19138-BILLARD CLUB FREJUSSIEN","160011A"]
[null,null,"BERLIOZ-PASCAL","19006-BILLARD CLUB CARPENTRASSIEN","151532J"]
[null,null,"BERNABEI-ROBERT","19093-AMERICAN CLUB LOUIS XI","153662Z"]
[null,null,"BERNAT-JEAN PIERRE","19023-BILLARD CLUB GARDEEN","125945B"]
[null,null,"BERNICHON-PASCAL","19127-O CIGALON BILLARD CLUB","115001D"]
[null,null,"BIARD-ANDRE","19009-CLUB BILLARD ISTREEN","159202W"]
[null,null,"BIARD-ARTHUR","19009-CLUB BILLARD ISTREEN","173584D"]
[null,null,"BIARD-NOAH","19009-CLUB BILLARD ISTREEN","173583C"]
[null,null,"BIDDAU-FRANCOIS","19009-CLUB BILLARD ISTREEN","125917Z"]
[null,null,"BIOT-ELODIE","19058-ACADEMIE DE BILLARD DE BARBOSSI MANDELIEU","183516Z"]
[null,null,"BLANC SANTELLI-ERIC","19009-CLUB BILLARD ISTREEN","179744Z"]
[null,null,"BLANCA-JOAQUIM","19131-BILLARD CLUB DE L ESTAGNOL","010403D"]
[null,null,"BLANCA-LEO","19131-BILLARD CLUB DE L ESTAGNOL","181218B"]
[null,null,"BOCCHETTA-ERIC","19093-AMERICAN CLUB LOUIS XI","169485Y"]
[null,null,"BOGGIO POLA-PIERRE","19007-BILLARD CLUB BERROIS","181202J"]
[null,null,"BOLLOTTE-BENIGNE","19023-BILLARD CLUB GARDEEN","175504Q"]
[null,null,"BONACCORSI-LORENZO","19002-SPORT AMAT.DE BILLARD MARSEILLAIS","186460Z"]
[null,null,"BONELLO-LUCIEN","19090-BILLARD AMATEUR ROGNAC","021894C"]
[null,null,"BONETTO-JEAN LOUIS","19050-BILLARD CLUB SAUSSETOIS","186374F"]
[null,null,"BONNEMAISON-DENIS","19009-CLUB BILLARD ISTREEN","150422C"]
[null,null,"BONNICI-ROGER","19017-BILLARD CLUB PHOCEEN","168593D"]
[null,null,"BONTOUX-MAX","19007-BILLARD CLUB BERROIS","021900I"]
[null,null,"BOPEA-CHRISTIAN","19127-O CIGALON BILLARD CLUB","125957N"]
[null,null,"BORDES-BERNARD","19061-ACAD.BILLARD ST RAPHAEL","149287T"]
[null,null,"BORDES-CATHERINE","19061-ACAD.BILLARD ST RAPHAEL","149288V"]
[null,null,"BORGNA-GUY","19001-S. S. A. B. D AIX EN PROVENCE","184114Z"]
[null,null,"BOSSOT-JEAN","19027-ACADEMIE DE BILLARD DE BOLLENE","160000N"]
[null,null,"BOUFFLET-THIERRY","19025-BILLARD CLUB SISTERONNAIS","182430T"]
[null,null,"BOULANT-CLAUDE","19019-BILLARD CLUB DE LA BAIE","155529D"]
[null,null,"BOURDELLES-LAURENT","19055-ACADEMIE DE BILLARD DE MENTON","021911T"]
[null,null,"BOUTILLE-NICOLAS","19027-ACADEMIE DE BILLARD DE BOLLENE","122662U"]
[null,null,"BOUTTIER-CAROLINE","19127-O CIGALON BILLARD CLUB","125921D"]
[null,null,"BOUTTIER-CHARLES","19056-BILLARD CLUB DE NICE","118665B"]
[null,null,"BRAYER-DENIS","19008-BRITISH BILLARD CLUB AVIGNON","016411F"]
[null,null,"BREDAT-RENE","19025-BILLARD CLUB SISTERONNAIS","021918A"]
[null,null,"BREGRE-SEBASTIEN","19002-SPORT AMAT.DE BILLARD MARSEILLAIS","159347D"]
[null,null,"BREPSON-MARTIAL","19058-ACADEMIE DE BILLARD DE BARBOSSI MANDELIEU","152345S"]
[null,null,"BRETON-LUC","19006-BILLARD CLUB CARPENTRASSIEN","172527E"]
[null,null,"BRIAND-ALAIN","19002-SPORT AMAT.DE BILLARD MARSEILLAIS","113104E"]
[null,null,"BRIOIT-DOMINIQUE","19055-ACADEMIE DE BILLARD DE MENTON","021920C"]
[null,null,"BRIOSNE-PASCAL","19001-S. S. A. B. D AIX EN PROVENCE","021922E"]
[null,null,"BROYER-PHILIPPE","19127-O CIGALON BILLARD CLUB","186325C"]
[null,null,"BRUN-ROGER","19017-BILLARD CLUB PHOCEEN","021929L"]
[null,null,"BURGANT-JEAN MARIE","19019-BILLARD CLUB DE LA BAIE","123684C"]
[null,null,"CACHAU HERREICCHT-LAURENT","19023-BILLARD CLUB GARDEEN","184127N"]
[null,null,"CAILLAUD-DANIEL","19023-BILLARD CLUB GARDEEN","144785R"]
[null,null,"CANDA-JEROME","19130-BLACK BALL CAVAILLONNAIS","163016R"]
[null,null,"CANUEL-LUC","19127-O CIGALON BILLARD CLUB","181817C"]
[null,null,"CAO-GAUTIER","19098-BILLARD CLUB LA FARE","173582B"]
[null,null,"CAO-HUU TUOI","19098-BILLARD CLUB LA FARE","021944A"]
[null,null,"CAO-MEGANE","19098-BILLARD CLUB LA FARE","173581A"]
[null,null,"CARAIL-MICHEL","19021-BILLARD CLUB CAVAILLONNAIS","146885L"]
[null,null,"CARDINALI-DENIS","19056-BILLARD CLUB DE NICE","021946C"]
[null,null,"CARRILLON-MICHEL","19001-S. S. A. B. D AIX EN PROVENCE","141066Q"]
[null,null,"CARRION-JEAN PHILIPPE","19058-ACADEMIE DE BILLARD DE BARBOSSI MANDELIEU","130701Z"]
[null,null,"CASTELLINO-GEORGES","19061-ACAD.BILLARD ST RAPHAEL","181424A"]
[null,null,"CATELAS-JEAN LOUIS","19001-S. S. A. B. D AIX EN PROVENCE","167180S"]
[null,null,"CAUDRY-ALAIN","19023-BILLARD CLUB GARDEEN","170688F"]
[null,null,"CESARO-JEAN CLAUDE","19007-BILLARD CLUB BERROIS","118684U"]
[null,null,"CESMAT BELLIARD-NICOLAS","19127-O CIGALON BILLARD CLUB","119681D"]
[null,null,"CHAIX-JOEL","19025-BILLARD CLUB SISTERONNAIS","021960Q"]
[null,null,"CHANTEUX-ALAIN","19025-BILLARD CLUB SISTERONNAIS","143166K"]
[null,null,"CHANU-ALICE","19025-BILLARD CLUB SISTERONNAIS","186206Y"]
[null,null,"CHAPUIS-ERIC","19056-BILLARD CLUB DE NICE","104469B"]
[null,null,"CHARBIT-JEAN MARC","19056-BILLARD CLUB DE NICE","021967X"]
[null,null,"CHARLES-CHRISTOPHE","19131-BILLARD CLUB DE L ESTAGNOL","103539H"]
[null,null,"CHARPENTIER-MARC","19017-BILLARD CLUB PHOCEEN","185636D"]
[null,null,"CHASTAN-GEORGES","19021-BILLARD CLUB CAVAILLONNAIS","012782Q"]
[null,null,"CHELUS-ALIN","19127-O CIGALON BILLARD CLUB","146376W"]
[null,null,"CHEVENIER-PASCAL","19017-BILLARD CLUB PHOCEEN","185638F"]
[null,null,"CHEVRIER-CAMILLE","19131-BILLARD CLUB DE L ESTAGNOL","152831W"]
[null,null,"CHICARD-ALAIN","19006-BILLARD CLUB CARPENTRASSIEN","160332Z"]
[null,null,"CHUZEVILLE-GILLES","19025-BILLARD CLUB SISTERONNAIS","108854S"]
[null,null,"CLAUDON-PHILIPPE","19056-BILLARD CLUB DE NICE","148126G"]
[null,null,"CLEMENT-GERARD","19050-BILLARD CLUB SAUSSETOIS","129497R"]
[null,null,"CLERGET-JEAN LOUIS","19127-O CIGALON BILLARD CLUB","101474W"]
[null,null,"CLOUD-TOM","19127-O CIGALON BILLARD CLUB","152107J"]
[null,null,"CLUS-SANDY","19138-BILLARD CLUB FREJUSSIEN","106896K"]
[null,null,"COHEN-RICHARD MANDELIEU","19058-ACADEMIE DE BILLARD DE BARBOSSI MANDELIEU","012827J"]
[null,null,"COHEN-RICHARD NICE","19056-BILLARD CLUB DE NICE","148796K"]
[null,null,"COHEN-STEPHANE","19058-ACADEMIE DE BILLARD DE BARBOSSI MANDELIEU","170613Z"]
[null,null,"COLOMBINI-ALAIN","19002-SPORT AMAT.DE BILLARD MARSEILLAIS","186457W"]
[null,null,"CONFAVREUX-KELIAN","19130-BLACK BALL CAVAILLONNAIS","178799X"]
[null,null,"CONTRAIN-JEROME","19012-SALON BILLARD CLUB","166177C"]
[null,null,"COPPIN-JEAN MICHEL","19027-ACADEMIE DE BILLARD DE BOLLENE","021985P"]
[null,null,"CORBET-LAURENT","19021-BILLARD CLUB CAVAILLONNAIS","021987R"]
[null,null,"CORBIN-LUC","19023-BILLARD CLUB GARDEEN","164007T"]
[null,null,"CORNET-MARIELLE","19059-BILLARD CLUB ROQUEBRUNOIS","185390L"]
[null,null,"COSTE-PHILIPPE","19061-ACAD.BILLARD ST RAPHAEL","125938U"]
[null,null,"COTARD-SANDRINE","19131-BILLARD CLUB DE L ESTAGNOL","101268Y"]
[null,null,"COTTET-JACQUES","19025-BILLARD CLUB SISTERONNAIS","139655J"]
[null,null,"COUPET-PHILIPPE","19023-BILLARD CLUB GARDEEN","119932U"]
[null,null,"COURBOT-LUDWIG","19001-S. S. A. B. D AIX EN PROVENCE","016838Q"]
[null,null,"COZETTE-SYLVIE","19023-BILLARD CLUB GARDEEN","168685D"]
[null,null,"CREUZOT-PATRICE","19017-BILLARD CLUB PHOCEEN","021996A"]
[null,null,"CROUZET-JEAN ANDRE","19027-ACADEMIE DE BILLARD DE BOLLENE","152067Q"]
[null,null,"CUADRADO-HECTOR","19021-BILLARD CLUB CAVAILLONNAIS","142586C"]
[null,null,"CUER-KILLIAN","19127-O CIGALON BILLARD CLUB","181819E"]
[null,null,"DAIFHALLA PUICHAULT-YANNIS","19025-BILLARD CLUB SISTERONNAIS","182676L"]
[null,null,"DALMASSO-EMMANUELLE","19025-BILLARD CLUB SISTERONNAIS","177204N"]
[null,null,"DAMIENS-ALEXANDRE","19127-O CIGALON BILLARD CLUB","167825T"]
[null,null,"DAMON-GERARD","19056-BILLARD CLUB DE NICE","022002G"]
[null,null,"DAMON-OLIVIER","19012-SALON BILLARD CLUB","022003H"]
[null,null,"DANCARVILLE-GUY","19009-CLUB BILLARD ISTREEN","144640C"]
[null,null,"DAUPHIN-MICHEL","19014-BILLARD CLUB AVIGNONNAIS","014828I"]
[null,null,"DAUPHIN-THYFFEN","19002-SPORT AMAT.DE BILLARD MARSEILLAIS","172573E"]
[null,null,"DAVID-THIERRY","19025-BILLARD CLUB SISTERONNAIS","155526A"]
[null,null,"DE CAMBOURG-HELION","19014-BILLARD CLUB AVIGNONNAIS","171181R"]
[null,null,"DE CAMPO-TEDDY","19068-BILLARD CLUB ARLESIEN","138202M"]
[null,null,"DE GRYSE-GERARD","19023-BILLARD CLUB GARDEEN","139487X"]
[null,null,"DE LOOSE-FELIX","19106-BILLARD CLUB VINONNAIS","163348C"]
[null,null,"DE OLIVEIRA GONCALVES-PAULO","19130-BLACK BALL CAVAILLONNAIS","177338J"]
[null,null,"DE RIGAL-DANIEL","19027-ACADEMIE DE BILLARD DE BOLLENE","127655V"]
[null,null,"DEBASC-GAD","19017-BILLARD CLUB PHOCEEN","158419V"]
[null,null,"DEBOSZ-RICHARD","19021-BILLARD CLUB CAVAILLONNAIS","140093F"]
[null,null,"DEBRUYNE-ANNE","19106-BILLARD CLUB VINONNAIS","184548W"]
[null,null,"DEBRUYNE-TRISTAN","19106-BILLARD CLUB VINONNAIS","113220Q"]
[null,null,"DEBUYSER-ANNE","19058-ACADEMIE DE BILLARD DE BARBOSSI MANDELIEU","178356Q"]
[null,null,"DEDON-DENISE","19007-BILLARD CLUB BERROIS","181198E"]
[null,null,"DEDON-RICHARD","19007-BILLARD CLUB BERROIS","177233V"]
[null,null,"DEFRETIN JOEL","19023--BILLARD CLUB GARDEEN","020635 R"]
[null,null,"DELAIRE-JEAN PIERRE","19021-BILLARD CLUB CAVAILLONNAIS","166003N"]
[null,null,"DELAPORTE-YVES","19006-BILLARD CLUB CARPENTRASSIEN","160334B"]
[null,null,"DELBEY-JULIEN","19012-SALON BILLARD CLUB","112719J"]
[null,null,"DELZORS-JEAN PIERRE","19056-BILLARD CLUB DE NICE","143883Z"]
[null,null,"DEMARCQ-JEAN FRANCOIS","19025-BILLARD CLUB SISTERONNAIS","168662D"]
[null,null,"DEMAY-ROMUALD","19127-O CIGALON BILLARD CLUB","159102M"]
[null,null,"DEMERLIAC-BRUNO","19007-BILLARD CLUB BERROIS","159076J"]
[null,null,"DENIS-GILLES","19009-CLUB BILLARD ISTREEN","186297X"]
[null,null,"DEROSSI-LORA","19002-SPORT AMAT.DE BILLARD MARSEILLAIS","185116N"]
[null,null,"DESMERO-RAYMOND","19007-BILLARD CLUB BERROIS","142358I"]
[null,null,"DESWAZIERE-MICHEL","19027-ACADEMIE DE BILLARD DE BOLLENE","115051B"]
[null,null,"DHENNIN-MICHEL","19059-BILLARD CLUB ROQUEBRUNOIS","176237M"]
[null,null,"DHERMY-BERTRAND","19127-O CIGALON BILLARD CLUB","156564D"]
[null,null,"DI BIN-JEAN MARIE","19027-ACADEMIE DE BILLARD DE BOLLENE","135014W"]
[null,null,"DI CRESCENZO-PIERRE","19017-BILLARD CLUB PHOCEEN","109528Q"]
[null,null,"DIDIER-DOMINIQUE","19090-BILLARD AMATEUR ROGNAC","186066W"]
[null,null,"DION-JEAN LOUIS","19006-BILLARD CLUB CARPENTRASSIEN","160331Y"]
[null,null,"DONABEDIAN-DANIEL","19019-BILLARD CLUB DE LA BAIE","142363N"]
[null,null,"DORIDANT-VINCENT","19127-O CIGALON BILLARD CLUB","134701V"]
[null,null,"DORNBUSH-MARTINE","19023-BILLARD CLUB GARDEEN","181974Y"]
[null,null,"DOS SANTOS-ADRIEN","19130-BLACK BALL CAVAILLONNAIS","133512C"]
[null,null,"DOS SANTOS-FRANCIS","19050-BILLARD CLUB SAUSSETOIS","022039R"]
[null,null,"DOUSSET-RENE","19023-BILLARD CLUB GARDEEN","174348J"]
[null,null,"DREMEAUX-JEAN PIERRE","19023-BILLARD CLUB GARDEEN","140803N"]
[null,null,"DUBREUIL-FRANCK","19061-ACAD.BILLARD ST RAPHAEL","013022W"]
[null,null,"DUPUY-MICHEL","19058-ACADEMIE DE BILLARD DE BARBOSSI MANDELIEU","011522E"]
[null,null,"DUSSAULE-PIERRE","19027-ACADEMIE DE BILLARD DE BOLLENE","102285B"]
[null,null,"DUSSEAUX-PATRICK","19021-BILLARD CLUB CAVAILLONNAIS","183248H"]
[null,null,"DUVAL-THIERRY","19061-ACAD.BILLARD ST RAPHAEL","175172E"]
[null,null,"ECK-MICHEL","19017-BILLARD CLUB PHOCEEN","146662W"]
[null,null,"EGEA-JEAN PIERRE","19130-BLACK BALL CAVAILLONNAIS","146142W"]
[null,null,"EGRETEAUD-CHRISTOPHE","19017-BILLARD CLUB PHOCEEN","155680S"]
[null,null,"EL KARMOUNI-DAVID","19002-SPORT AMAT.DE BILLARD MARSEILLAIS","186461A"]
[null,null,"ELEOUET-DANIEL","19006-BILLARD CLUB CARPENTRASSIEN","163467G"]
[null,null,"ESCOFFIER-ALAIN","19006-BILLARD CLUB CARPENTRASSIEN","167497M"]
[null,null,"ESTABLIER-PIERRE","19023-BILLARD CLUB GARDEEN","147622J"]
[null,null,"FABER-ERWIN","19021-BILLARD CLUB CAVAILLONNAIS","186621Z"]
[null,null,"FABRE-ALEXANDRE","19002-SPORT AMAT.DE BILLARD MARSEILLAIS","186571V"]
[null,null,"FAIVRE D ARCIER-PATRICK","19056-BILLARD CLUB DE NICE","022061N"]
[null,null,"FAVARIO-CHRISTIAN","19027-ACADEMIE DE BILLARD DE BOLLENE","022066S"]
[null,null,"FEBVRET-MELANIE","19130-BLACK BALL CAVAILLONNAIS","179557W"]
[null,null,"FERAUD-GERARD","19027-ACADEMIE DE BILLARD DE BOLLENE","022067T"]
[null,null,"FERAUD-LOUIS","19025-BILLARD CLUB SISTERONNAIS","182675K"]
[null,null,"FERHAT-ACHOUR","19106-BILLARD CLUB VINONNAIS","129036Y"]
[null,null,"FERNANDES GOMES-MARIO","19093-AMERICAN CLUB LOUIS XI","153669G"]
[null,null,"FERNANDEZ-MARC","19007-BILLARD CLUB BERROIS","013111H"]
[null,null,"FERRON-FREDERIC","19012-SALON BILLARD CLUB","172308R"]
[null,null,"FERRO-PHILIPPE","19009-CLUB BILLARD ISTREEN","122658Q"]
[null,null,"FONTAINE-DANY","19106-BILLARD CLUB VINONNAIS","101139Z"]
[null,null,"FOREL-PHILIPPE","19130-BLACK BALL CAVAILLONNAIS","127035Z"]
[null,null,"FOURNET-SEBASTIEN","19002-SPORT AMAT.DE BILLARD MARSEILLAIS","184732W"]
[null,null,"FRANCO-ALBERT","19019-BILLARD CLUB DE LA BAIE","022084K"]
[null,null,"FRANCO-HENRY","19055-ACADEMIE DE BILLARD DE MENTON","118688Y"]
[null,null,"FRIGANO-SEBASTIEN","19130-BLACK BALL CAVAILLONNAIS","123168G"]
[null,null,"FROMENT-REMI","19068-BILLARD CLUB ARLESIEN","182539M"]
[null,null,"FROMEYER-CORINNE","19058-ACADEMIE DE BILLARD DE BARBOSSI MANDELIEU","167290M"]
[null,null,"GABETTO-STEPHANE","19023-BILLARD CLUB GARDEEN","103216W"]
[null,null,"GABRIEL-MARTIAL","19127-O CIGALON BILLARD CLUB","120076I"]
[null,null,"GAILLET-PATRICK","19098-BILLARD CLUB LA FARE","176024F"]
[null,null,"GALARDINI-RICHARD","19050-BILLARD CLUB SAUSSETOIS","142316S"]
[null,null,"GALLEZ-DANIEL","19019-BILLARD CLUB DE LA BAIE","178728V"]
[null,null,"GALLUCCI-STEPHANE","19056-BILLARD CLUB DE NICE","022091R"]
[null,null,"GAMEN-ANDRE","19023-BILLARD CLUB GARDEEN","147288W"]
[null,null,"GARCIA-SEBASTIEN","19112-NISSA BILLARD CLUB","116525T"]
[null,null,"GATTINO-MARCO","19055-ACADEMIE DE BILLARD DE MENTON","147262S"]
[null,null,"GATTO-ANTOINE","19050-BILLARD CLUB SAUSSETOIS","022097X"]
[null,null,"GAUTIER-PATRICK","19027-ACADEMIE DE BILLARD DE BOLLENE","186342W"]
[null,null,"GAVALDA-PIERRE","19006-BILLARD CLUB CARPENTRASSIEN","116278G"]
[null,null,"GEDOR-FRANCIS","19061-ACAD.BILLARD ST RAPHAEL","186701L"]
[null,null,"GEFFROY-MEGGAN","19008-BRITISH BILLARD CLUB AVIGNON","183704D"]
[null,null,"GELAS-BERNARD","19098-BILLARD CLUB LA FARE","163279C"]
[null,null,"GENDRAUD-PHILIPPE","19138-BILLARD CLUB FREJUSSIEN","150065P"]
[null,null,"GERARD-PASCAL","19056-BILLARD CLUB DE NICE","022103D"]
[null,null,"GERARD-SANDRINE","19090-BILLARD AMATEUR ROGNAC","179077Z"]
[null,null,"GERARD-THOMAS","19056-BILLARD CLUB DE NICE","167330F"]
[null,null,"GERVAIS-GUILLAUME","19021-BILLARD CLUB CAVAILLONNAIS","022104E"]
[null,null,"GIANNATTASIO-LUCIEN","19009-CLUB BILLARD ISTREEN","022108I"]
[null,null,"GIAVELLI-GAETAN","19068-BILLARD CLUB ARLESIEN","129044G"]
[null,null,"GIBARROUX-CHRISTOPHE","19001-S. S. A. B. D AIX EN PROVENCE","118661X"]
[null,null,"GILLET-PHILIPPE","19058-ACADEMIE DE BILLARD DE BARBOSSI MANDELIEU","180514L"]
[null,null,"GILLODTS-CHRISTIAN","19017-BILLARD CLUB PHOCEEN","149471T"]
[null,null,"GIMENEZ-SERGE","19056-BILLARD CLUB DE NICE","022113N"]
[null,null,"GIRARD-JACQUES","19058-ACADEMIE DE BILLARD DE BARBOSSI MANDELIEU","129718E"]
[null,null,"GOAILLARD-JEAN MARC","19017-BILLARD CLUB PHOCEEN","181920P"]
[null,null,"GODARD-PASCAL","19006-BILLARD CLUB CARPENTRASSIEN","157852D"]
[null,null,"GODOY-CYRILLE","19127-O CIGALON BILLARD CLUB","101478A"]
[null,null,"GOMES-VITOR","19001-S. S. A. B. D AIX EN PROVENCE","120100G"]
[null,null,"GORGET-MIKAEL","19002-SPORT AMAT.DE BILLARD MARSEILLAIS","174487K"]
[null,null,"GOTTRAU-MARION","19002-SPORT AMAT.DE BILLARD MARSEILLAIS","186570T"]
[null,null,"GOUILLON-MATTHIEU","19056-BILLARD CLUB DE NICE","174010R"]
[null,null,"GOUIRAN-GEORGES","19050-BILLARD CLUB SAUSSETOIS","022129D"]
[null,null,"GOUZIEN-MILENE","19131-BILLARD CLUB DE L ESTAGNOL","175026W"]
[null,null,"GOUZIEN-RENAUD","19131-BILLARD CLUB DE L ESTAGNOL","101259P"]
[null,null,"GOUZIEN-YANN","19131-BILLARD CLUB DE L ESTAGNOL","166216V"]
[null,null,"GOUZOUGUEN-CHRISTIAN","19006-BILLARD CLUB CARPENTRASSIEN","144636Y"]
[null,null,"GOYAUD-YVES","19002-SPORT AMAT.DE BILLARD MARSEILLAIS","135555R"]
[null,null,"GRANDBOUCHE-FRANCOIS","19002-SPORT AMAT.DE BILLARD MARSEILLAIS","180247W"]
[null,null,"GRANIER-JEAN MARC","19130-BLACK BALL CAVAILLONNAIS","156807S"]
[null,null,"GRAVELLE-JULIEN","19006-BILLARD CLUB CARPENTRASSIEN","157851C"]
[null,null,"GREBLO-EDI","19093-AMERICAN CLUB LOUIS XI","170379V"]
[null,null,"GREGEOIS-MAEL","19002-SPORT AMAT.DE BILLARD MARSEILLAIS","183595K"]
[null,null,"GROS-MARIE PAULE","19068-BILLARD CLUB ARLESIEN","107059R"]
[null,null,"GROS-ROLAND","19068-BILLARD CLUB ARLESIEN","101403D"]
[null,null,"GROUSSON-ROBERT","19009-CLUB BILLARD ISTREEN","172011T"]
[null,null,"GUERINEAU-BRUNO","19021-BILLARD CLUB CAVAILLONNAIS","144796C"]
[null,null,"GUERINEAU-THIERRY","19021-BILLARD CLUB CAVAILLONNAIS","022135J"]
[null,null,"GUERIN-RAYMOND","19017-BILLARD CLUB PHOCEEN","103615F"]
[null,null,"GUERI-ROBERT","19027-ACADEMIE DE BILLARD DE BOLLENE","135013V"]
[null,null,"GUEUG-PIERRE","19056-BILLARD CLUB DE NICE","104475H"]
[null,null,"GUIZELIN-PASCAL","19106-BILLARD CLUB VINONNAIS","154530S"]
[null,null,"HADDAD-JEAN PIERRE","19014-BILLARD CLUB AVIGNONNAIS","184013P"]
[null,null,"HADDOUCHE-JONATHAN","19002-SPORT AMAT.DE BILLARD MARSEILLAIS","147316B"]
[null,null,"HAHN-DANIEL","19017-BILLARD CLUB PHOCEEN","011966G"]
[null,null,"HAMALIAN-CYRIL","19002-SPORT AMAT.DE BILLARD MARSEILLAIS","166068J"]
[null,null,"HARTENSTEIN-BRUNO","19006-BILLARD CLUB CARPENTRASSIEN","166328R"]
[null,null,"HATEM-MARC","19131-BILLARD CLUB DE L ESTAGNOL","183291E"]
[null,null,"HAZE-PATRICK","19021-BILLARD CLUB CAVAILLONNAIS","137523J"]
[null,null,"HEBRAL-LUDOVIC","19112-NISSA BILLARD CLUB","101323B"]
[null,null,"HEINRICH-CHRISTIAN","19009-CLUB BILLARD ISTREEN","186298Y"]
[null,null,"HERREMAN-SERGE","19023-BILLARD CLUB GARDEEN","119933V"]
[null,null,"HEURTAULT-JACKY","19012-SALON BILLARD CLUB","137004K"]
[null,null,"HEYDON-CHRISTOPHER","19127-O CIGALON BILLARD CLUB","169219J"]
[null,null,"HEYDON-SABINE","19127-O CIGALON BILLARD CLUB","169259C"]
[null,null,"HOLUIGUE-ROGER","19023-BILLARD CLUB GARDEEN","177454K"]
[null,null,"HUGUET-PATRICK","19017-BILLARD CLUB PHOCEEN","172086A"]
[null,null,"IDJERI-GILBERT","19050-BILLARD CLUB SAUSSETOIS","172214P"]
[null,null,"INGA-FABRIZIO","19112-NISSA BILLARD CLUB","181447A"]
[null,null,"ISRAEL-ELIE","19017-BILLARD CLUB PHOCEEN","184059P"]
[null,null,"IVACHEFF-HELENE","19106-BILLARD CLUB VINONNAIS","184667A"]
[null,null,"IVACHEFF-MICHEL","19106-BILLARD CLUB VINONNAIS","181239Z"]
[null,null,"JABBOUR-HAMZA","19002-SPORT AMAT.DE BILLARD MARSEILLAIS","182210E"]
[null,null,"JALLIFFIER ARDENT-MARIE","19056-BILLARD CLUB DE NICE","179363K"]
[null,null,"JALOUAJ-AMINE","19127-O CIGALON BILLARD CLUB","167227T"]
[null,null,"JANNOT-FREDERIC","19019-BILLARD CLUB DE LA BAIE","183489V"]
[null,null,"JONNARD-FREDERIC","19023-BILLARD CLUB GARDEEN","120814S"]
[null,null,"JUIGNET-CHRISTIAN","19138-BILLARD CLUB FREJUSSIEN","109412E"]
[null,null,"JUMEL-RENE","19027-ACADEMIE DE BILLARD DE BOLLENE","162905W"]
[null,null,"KERNINON-PATRICE","19130-BLACK BALL CAVAILLONNAIS","101100M"]
[null,null,"KUNTZ-ADRIEN","19055-ACADEMIE DE BILLARD DE MENTON","022175X"]
[null,null,"LABATUT-FRANCOIS","19059-BILLARD CLUB ROQUEBRUNOIS","186947D"]
[null,null,"LACOSSE-JEAN PAUL","19019-BILLARD CLUB DE LA BAIE","109977X"]
[null,null,"LACOUR-DAVID","19127-O CIGALON BILLARD CLUB","116529X"]
[null,null,"LAFDJIAN-GILBERT","19007-BILLARD CLUB BERROIS","177232T"]
[null,null,"LAGIER-ALBAN","19131-BILLARD CLUB DE L ESTAGNOL","101267X"]
[null,null,"LAM-MINH TRUNG DENIS","19056-BILLARD CLUB DE NICE","181038F"]
[null,null,"LANAIA-MICKAEL","19130-BLACK BALL CAVAILLONNAIS","167062P"]
[null,null,"LANARI-PIERRE","19056-BILLARD CLUB DE NICE","175999D"]
[null,null,"LANDE-GERARD","19014-BILLARD CLUB AVIGNONNAIS","016084Q"]
[null,null,"LANDERECTHE-PASCAL","19007-BILLARD CLUB BERROIS","181199F"]
[null,null,"LANDERECTHE-RUDY","19007-BILLARD CLUB BERROIS","181200G"]
[null,null,"LANDOIS-DOMINIQUE","19055-ACADEMIE DE BILLARD DE MENTON","179135M"]
[null,null,"LANG-CHRISTIAN","19009-CLUB BILLARD ISTREEN","022186I"]
[null,null,"LANNURIEN-THIERRY","19023-BILLARD CLUB GARDEEN","168288X"]
[null,null,"LANNY-ALAIN","19050-BILLARD CLUB SAUSSETOIS","186266N"]
[null,null,"LAUNAY-MICHEL","19058-ACADEMIE DE BILLARD DE BARBOSSI MANDELIEU","178352L"]
[null,null,"LAVAUD-JOHN","19130-BLACK BALL CAVAILLONNAIS","122601L"]
[null,null,"LE FAUCHEUR-LAURENT","19098-BILLARD CLUB LA FARE","163278B"]
[null,null,"LE GOC-MICKAEL","19136-BLACK BALL CONCEPT","148064P"]
[null,null,"LE GUENNEC-CHRISTIAN","19061-ACAD.BILLARD ST RAPHAEL","125949F"]
[null,null,"LE TROCQUER-HUGO","19002-SPORT AMAT.DE BILLARD MARSEILLAIS","186459Y"]
[null,null,"LEBARBENCHON-JEAN","19055-ACADEMIE DE BILLARD DE MENTON","177122Z"]
[null,null,"LECLERC-SYLVAIN","19130-BLACK BALL CAVAILLONNAIS","160245E"]
[null,null,"LECOQ-ARNAUD","19012-SALON BILLARD CLUB","141504M"]
[null,null,"LECUILLIER-ARNAUD","19127-O CIGALON BILLARD CLUB","128719T"]
[null,null,"LEDUCQ-MORGAN","19014-BILLARD CLUB AVIGNONNAIS","105373V"]
[null,null,"LEFAUX-JEAN JACQUES","19025-BILLARD CLUB SISTERONNAIS","117411V"]
[null,null,"LEMARTINET-ROBERT","19019-BILLARD CLUB DE LA BAIE","110379J"]
[null,null,"LEMESLE-FABRICE","19017-BILLARD CLUB PHOCEEN","022205B"]
[null,null,"LEMIERE-JEAN NOEL","19023-BILLARD CLUB GARDEEN","104233Z"]
[null,null,"LEON-ALFRED","19021-BILLARD CLUB CAVAILLONNAIS","186622A"]
[null,null,"LESPRIT-CLAUDE","19019-BILLARD CLUB DE LA BAIE","179358E"]
[null,null,"LETELLIER-ALAIN","19090-BILLARD AMATEUR ROGNAC","176350K"]
[null,null,"LIEGEOIS-DOMINIQUE","19027-ACADEMIE DE BILLARD DE BOLLENE","022209F"]
[null,null,"LIENS-MICHEL","19021-BILLARD CLUB CAVAILLONNAIS","118678O"]
[null,null,"LIMA-STEPHANE","19130-BLACK BALL CAVAILLONNAIS","161477T"]
[null,null,"LIONNE-GEORGES","19027-ACADEMIE DE BILLARD DE BOLLENE","178650K"]
[null,null,"LISI-ROGER","19007-BILLARD CLUB BERROIS","146375V"]
[null,null,"LISSAJOUX-JEAN CLAUDE","19009-CLUB BILLARD ISTREEN","168722T"]
[null,null,"LLOBELL-ALAIN","19017-BILLARD CLUB PHOCEEN","170266X"]
[null,null,"LLOBELL-CLAIRE","19017-BILLARD CLUB PHOCEEN","170267Y"]
[null,null,"LOMBARDO-STEPHANE","19127-O CIGALON BILLARD CLUB","101339R"]
[null,null,"LORKOVIC-JOSEPH","19009-CLUB BILLARD ISTREEN","022217N"]
[null,null,"LOSTAO-DOMINIQUE","19058-ACADEMIE DE BILLARD DE BARBOSSI MANDELIEU","168030R"]
[null,null,"LUCENET-PAUL","19009-CLUB BILLARD ISTREEN","162076V"]
[null,null,"LUNEAU-JEAN CLAUDE","19023-BILLARD CLUB GARDEEN","186880F"]
[null,null,"LUVISON-JEAN","19012-SALON BILLARD CLUB","022221R"]
[null,null,"MACQUET-PATRICK","19056-BILLARD CLUB DE NICE","022223T"]
[null,null,"MALLEVAL-GERARD","19023-BILLARD CLUB GARDEEN","100910E"]
[null,null,"MANZO-PIERRE JEAN","19002-SPORT AMAT.DE BILLARD MARSEILLAIS","186458X"]
[null,null,"MARCEAUX-JOSE","19059-BILLARD CLUB ROQUEBRUNOIS","020447L"]
[null,null,"MARCHANDISE MORAND-JACQUELINE","19025-BILLARD CLUB SISTERONNAIS","177467Z"]
[null,null,"MARCHAND-PHILIPPE","19001-S. S. A. B. D AIX EN PROVENCE","164047M"]
[null,null,"MARIE-MICHEL","19021-BILLARD CLUB CAVAILLONNAIS","175846M"]
[null,null,"MARIOTTI-JEAN MICHEL","19131-BILLARD CLUB DE L ESTAGNOL","101260Q"]
[null,null,"MARME-HANS","19127-O CIGALON BILLARD CLUB","159950J"]
[null,null,"MARTIN-CLAUDE","19021-BILLARD CLUB CAVAILLONNAIS","175391S"]
[null,null,"MARTINEZ-BENOIT","19008-BRITISH BILLARD CLUB AVIGNON","180741H"]
[null,null,"MASSERAN-PHILIPPE","19058-ACADEMIE DE BILLARD DE BARBOSSI MANDELIEU","103581X"]
[null,null,"MASSIAS-GUY","19001-S. S. A. B. D AIX EN PROVENCE","172680W"]
[null,null,"MASSOT-SEBASTIEN","19025-BILLARD CLUB SISTERONNAIS","159674J"]
[null,null,"MATHIEU-MICHEL","19006-BILLARD CLUB CARPENTRASSIEN","183687K"]
[null,null,"MATILLON-CLAUDE","19001-S. S. A. B. D AIX EN PROVENCE","160344M"]
[null,null,"MAUDUIT-DIDIER","19009-CLUB BILLARD ISTREEN","017615N"]
[null,null,"MAURON-BERNARD","19023-BILLARD CLUB GARDEEN","149391G"]
[null,null,"MAURY-HENRI","19058-ACADEMIE DE BILLARD DE BARBOSSI MANDELIEU","163825W"]
[null,null,"MAYNARD-ALEXANDRE","19056-BILLARD CLUB DE NICE","112015H"]
[null,null,"MEGUIN-ERIC","19021-BILLARD CLUB CAVAILLONNAIS","128466A"]
[null,null,"MELLET-PIERRE","19027-ACADEMIE DE BILLARD DE BOLLENE","144802I"]
[null,null,"METAIS-ALBAN","19006-BILLARD CLUB CARPENTRASSIEN","152604Z"]
[null,null,"MEYER-LUC","19023-BILLARD CLUB GARDEEN","022260E"]
[null,null,"MICHEL-JACQUES","19006-BILLARD CLUB CARPENTRASSIEN","183513W"]
[null,null,"MILLOT-ANITA","19023-BILLARD CLUB GARDEEN","180677N"]
[null,null,"MILLOT-BENOIT","19023-BILLARD CLUB GARDEEN","180676M"]
[null,null,"MILLOT-ROBERT","19025-BILLARD CLUB SISTERONNAIS","172218T"]
[null,null,"MISRAKI-ROMAIN","19002-SPORT AMAT.DE BILLARD MARSEILLAIS","144792Y"]
[null,null,"MOGLIA-EMILE","19014-BILLARD CLUB AVIGNONNAIS","022266K"]
[null,null,"MOINON-FRANCOIS","19002-SPORT AMAT.DE BILLARD MARSEILLAIS","184069A"]
[null,null,"MOLAND-PHILIPPE","19059-BILLARD CLUB ROQUEBRUNOIS","022268M"]
[null,null,"MOLINAS-ROBERT","19021-BILLARD CLUB CAVAILLONNAIS","022270O"]
[null,null,"MONNET-JEAN CLAUDE","19021-BILLARD CLUB CAVAILLONNAIS","022271P"]
[null,null,"MONTALTI-PIERRE","19002-SPORT AMAT.DE BILLARD MARSEILLAIS","116557Z"]
[null,null,"MONTERO-JEAN MANUEL","19068-BILLARD CLUB ARLESIEN","147134D"]
[null,null,"MONTESINOS-GILLES","19012-SALON BILLARD CLUB","136279N"]
[null,null,"MOREELS-BERNARD","19023-BILLARD CLUB GARDEEN","147624L"]
[null,null,"MORERE-JEAN PIERRE","19059-BILLARD CLUB ROQUEBRUNOIS","176019A"]
[null,null,"MOUMENE-AMINE","19002-SPORT AMAT.DE BILLARD MARSEILLAIS","182204Y"]
[null,null,"MOUSSIER-PATRICK","19056-BILLARD CLUB DE NICE","151456B"]
[null,null,"MOUTON-VINCENT","19112-NISSA BILLARD CLUB","153604L"]
[null,null,"MUNOS-JEAN","19050-BILLARD CLUB SAUSSETOIS","109063T"]
[null,null,"MUNOS-VINCENT","19007-BILLARD CLUB BERROIS","109708O"]
[null,null,"MUNOZ-CHRISTIAN","19021-BILLARD CLUB CAVAILLONNAIS","022284C"]
[null,null,"MURAILLE-ALAIN","19017-BILLARD CLUB PHOCEEN","168135F"]
[null,null,"MUSATO-LAETITIA","19127-O CIGALON BILLARD CLUB","117647X"]
[null,null,"N GUYEN VAN DUC-MAX","19007-BILLARD CLUB BERROIS","141788K"]
[null,null,"NABHANE-EMILE","19006-BILLARD CLUB CARPENTRASSIEN","166329S"]
[null,null,"NAPOLI-SALVATORE","19006-BILLARD CLUB CARPENTRASSIEN","107150E"]
[null,null,"NARBONI-PATRICK","19056-BILLARD CLUB DE NICE","013816K"]
[null,null,"NASICA-PATRICK","19014-BILLARD CLUB AVIGNONNAIS","107263N"]
[null,null,"NATALI-MICHEL","19131-BILLARD CLUB DE L ESTAGNOL","101269Z"]
[null,null,"NATELLA-IDA","19056-BILLARD CLUB DE NICE","154573P"]
[null,null,"NATELLA-ROGER","19056-BILLARD CLUB DE NICE","154572N"]
[null,null,"NAUDIN-DIDIER","19027-ACADEMIE DE BILLARD DE BOLLENE","186341V"]
[null,null,"NEGOZIO-JACKY","19059-BILLARD CLUB ROQUEBRUNOIS","185108E"]
[null,null,"NGUYEN-AHN TUAN","19006-BILLARD CLUB CARPENTRASSIEN","164318G"]
[null,null,"NOE-HUGO","19068-BILLARD CLUB ARLESIEN","182538L"]
[null,null,"NOLASQUE-LYDIE","19127-O CIGALON BILLARD CLUB","125919B"]
[null,null,"NOSSIN-MARC","19058-ACADEMIE DE BILLARD DE BARBOSSI MANDELIEU","182190H"]
[null,null,"OLLIVIER-DANIEL","19009-CLUB BILLARD ISTREEN","020258E"]
[null,null,"OUDOUX-GERARD","19023-BILLARD CLUB GARDEEN","128468C"]
[null,null,"PACZESNY-FABRICE","19098-BILLARD CLUB LA FARE","150400D"]
[null,null,"PANAGET-KEVIN","19127-O CIGALON BILLARD CLUB","186539K"]
[null,null,"PAN-JEROME","19127-O CIGALON BILLARD CLUB","164512S"]
[null,null,"PANTALONE-CLAUDE","19017-BILLARD CLUB PHOCEEN","185639G"]
[null,null,"PAU-CHRISTINE","19025-BILLARD CLUB SISTERONNAIS","177193B"]
[null,null,"PAUL-ANTOINE","19002-SPORT AMAT.DE BILLARD MARSEILLAIS","183593H"]
[null,null,"PELLAT-FRANCIS","19025-BILLARD CLUB SISTERONNAIS","141673Z"]
[null,null,"PEREY-ELEONORE","19008-BRITISH BILLARD CLUB AVIGNON","182269T"]
[null,null,"PEREZ-CHRISTIAN","19009-CLUB BILLARD ISTREEN","130773T"]
[null,null,"PERIS-MICHEL","19056-BILLARD CLUB DE NICE","022321N"]
[null,null,"PERRIER-GILLES","19021-BILLARD CLUB CAVAILLONNAIS","021540M"]
[null,null,"PERRIN-GILLES","19068-BILLARD CLUB ARLESIEN","101398Y"]
[null,null,"PERRIN-LIONEL","19023-BILLARD CLUB GARDEEN","181624S"]
[null,null,"PERSONNE-MARTINE","19008-BRITISH BILLARD CLUB AVIGNON","170701V"]
[null,null,"PERTUZON-NOLAN","19009-CLUB BILLARD ISTREEN","179786V"]
[null,null,"PIALLA-VALERIE","19009-CLUB BILLARD ISTREEN","182685W"]
[null,null,"PICCHI-GERARD","19009-CLUB BILLARD ISTREEN","135135N"]
[null,null,"PIELIN-PASCAL","19012-SALON BILLARD CLUB","022330W"]
[null,null,"PIGNATEL-FLORENT","19021-BILLARD CLUB CAVAILLONNAIS","112316W"]
[null,null,"PILAVDJIAN-JACQUES","19017-BILLARD CLUB PHOCEEN","165118B"]
[null,null,"PINARD-PATRICE","19012-SALON BILLARD CLUB","105404A"]
[null,null,"PINNA-ALAIN","19017-BILLARD CLUB PHOCEEN","022332Y"]
[null,null,"PINNA-VINCENT","19017-BILLARD CLUB PHOCEEN","148229T"]
[null,null,"PIRO COUDERC-MARIE LAURE","19025-BILLARD CLUB SISTERONNAIS","177205P"]
[null,null,"PLE-CYRIL","19025-BILLARD CLUB SISTERONNAIS","177189X"]
[null,null,"POIRIER-DOMINIQUE","19061-ACAD.BILLARD ST RAPHAEL","108010G"]
[null,null,"PONT-CEDRIC","19002-SPORT AMAT.DE BILLARD MARSEILLAIS","183247G"]
[null,null,"PORA-JEAN PAUL","19009-CLUB BILLARD ISTREEN","170697Q"]
[null,null,"PORTET-PATRICK","19059-BILLARD CLUB ROQUEBRUNOIS","181316H"]
[null,null,"POUGIN-JEAN FRANCOIS","19059-BILLARD CLUB ROQUEBRUNOIS","022346M"]
[null,null,"POZNANSKI-JEAN MICHEL","19012-SALON BILLARD CLUB","022349P"]
[null,null,"PROFIT-GILBERT","19056-BILLARD CLUB DE NICE","143885B"]
[null,null,"PTSIAMITAS-PANAGIOTIS","19090-BILLARD AMATEUR ROGNAC","180317X"]
[null,null,"PUICHAULT-REMY","19025-BILLARD CLUB SISTERONNAIS","172219V"]
[null,null,"QUANTINET-ROBERT","19058-ACADEMIE DE BILLARD DE BARBOSSI MANDELIEU","143151V"]
[null,null,"QUARTO-LARA","19056-BILLARD CLUB DE NICE","174009Q"]
[null,null,"QUILLET-LORIS","19130-BLACK BALL CAVAILLONNAIS","174571B"]
[null,null,"QUILLET-YANN","19130-BLACK BALL CAVAILLONNAIS","186763D"]
[null,null,"RAMAROSON-HERIZO","19002-SPORT AMAT.DE BILLARD MARSEILLAIS","182722L"]
[null,null,"RAMIREZ-ALAIN","19001-S. S. A. B. D AIX EN PROVENCE","176234J"]
[null,null,"RAMOND-JEAN MARC","19058-ACADEMIE DE BILLARD DE BARBOSSI MANDELIEU","022357X"]
[null,null,"RANC-ALAIN","19027-ACADEMIE DE BILLARD DE BOLLENE","136205R"]
[null,null,"RANIERI-JEAN ANDRE","19136-BLACK BALL CONCEPT","101290U"]
[null,null,"RAVENET-FRANCIS","19059-BILLARD CLUB ROQUEBRUNOIS","157788J"]
[null,null,"REMIRO-CANDIDO","19130-BLACK BALL CAVAILLONNAIS","156535X"]
[null,null,"RENAUD-JEAN PAUL","19009-CLUB BILLARD ISTREEN","133622I"]
[null,null,"RENAUD-MARTINE","19127-O CIGALON BILLARD CLUB","153346F"]
[null,null,"RENAUD-THIERRY","19127-O CIGALON BILLARD CLUB","153347G"]
[null,null,"REVALOR-MICHEL","19050-BILLARD CLUB SAUSSETOIS","119696S"]
[null,null,"RIBOLLA-PATRICE","19056-BILLARD CLUB DE NICE","022366G"]
[null,null,"RICARD-AUDREY","19127-O CIGALON BILLARD CLUB","147449W"]
[null,null,"RICHAUD-PIERRE","19017-BILLARD CLUB PHOCEEN","107093Z"]
[null,null,"RIGNOLS-PHILIPPE","19021-BILLARD CLUB CAVAILLONNAIS","022372M"]
[null,null,"RIGOLLET-PIERRE","19025-BILLARD CLUB SISTERONNAIS","023064C"]
[null,null,"RIVARD-MICHEL","19093-AMERICAN CLUB LOUIS XI","156515A"]
[null,null,"RIVIER-PATRICE","19017-BILLARD CLUB PHOCEEN","170733E"]
[null,null,"ROBERT-DOMINIQUE","19056-BILLARD CLUB DE NICE","022376Q"]
[null,null,"ROBIN-JEAN FRANCOIS","19056-BILLARD CLUB DE NICE","143938C"]
[null,null,"ROCCA-JEAN","19017-BILLARD CLUB PHOCEEN","182388Y"]
[null,null,"RODRIGUES-STEVE","19090-BILLARD AMATEUR ROGNAC","171160T"]
[null,null,"ROGER-GERARD","19021-BILLARD CLUB CAVAILLONNAIS","134843H"]
[null,null,"RONSAIN-JEAN JACQUES","19012-SALON BILLARD CLUB","166175A"]
[null,null,"ROUANET-CLAUDE","19025-BILLARD CLUB SISTERONNAIS","163166E"]
[null,null,"ROUGON-ROBERT","19007-BILLARD CLUB BERROIS","101518O"]
[null,null,"ROUSSEL-PATRICE","19068-BILLARD CLUB ARLESIEN","172468Q"]
[null,null,"RYCKELYNCK-LAURENT","19006-BILLARD CLUB CARPENTRASSIEN","121397D"]
[null,null,"SABAH-YVES","19001-S. S. A. B. D AIX EN PROVENCE","153753Y"]
[null,null,"SAJ-PATRICK","19017-BILLARD CLUB PHOCEEN","185637E"]
[null,null,"SALAMA-ALAIN","19021-BILLARD CLUB CAVAILLONNAIS","136546U"]
[null,null,"SALES-THIERRY","19061-ACAD.BILLARD ST RAPHAEL","175174G"]
[null,null,"SANDEAUX-JEAN CLEMENT","19001-S. S. A. B. D AIX EN PROVENCE","182824X"]
[null,null,"SANTIAGO-EMMANUEL","19021-BILLARD CLUB CAVAILLONNAIS","118693D"]
[null,null,"SANTIAGO-JEAN JOSEPH","19050-BILLARD CLUB SAUSSETOIS","022391F"]
[null,null,"SANTORO-JENNIFER","19127-O CIGALON BILLARD CLUB","122933F"]
[null,null,"SARRALDE-LOUIS","19021-BILLARD CLUB CAVAILLONNAIS","014138U"]
[null,null,"SAUVAN-HENRY","19023-BILLARD CLUB GARDEEN","164008V"]
[null,null,"SAVARY-PHILIPPE","19059-BILLARD CLUB ROQUEBRUNOIS","174856L"]
[null,null,"SAVI-OLIVIER","19050-BILLARD CLUB SAUSSETOIS","186195L"]
[null,null,"SAVOIA-PATRICK","19050-BILLARD CLUB SAUSSETOIS","113222S"]
[null,null,"SAVOIE-ISABELLE","19130-BLACK BALL CAVAILLONNAIS","119929R"]
[null,null,"SCHAEFER-ERNEST ROBERT","19006-BILLARD CLUB CARPENTRASSIEN","149694L"]
[null,null,"SCHENK-ROBERT","19056-BILLARD CLUB DE NICE","136540O"]
[null,null,"SCHOU-MICHEL","19023-BILLARD CLUB GARDEEN","183292F"]
[null,null,"SEBAH-JEAN PAUL","19017-BILLARD CLUB PHOCEEN","175481Q"]
[null,null,"SEDANO-JEAN LUC","19130-BLACK BALL CAVAILLONNAIS","014712W"]
[null,null,"SEDRATI-ONIS","19002-SPORT AMAT.DE BILLARD MARSEILLAIS","182207B"]
[null,null,"SEEBORUTH-NIKHIL","19002-SPORT AMAT.DE BILLARD MARSEILLAIS","186463C"]
[null,null,"SEEMANN-MICHAEL","19025-BILLARD CLUB SISTERONNAIS","182883L"]
[null,null,"SELLIER-MICHEL","19056-BILLARD CLUB DE NICE","022406U"]
[null,null,"SERMON-FABIO","19130-BLACK BALL CAVAILLONNAIS","149899J"]
[null,null,"SICARD-GEORGES","19025-BILLARD CLUB SISTERONNAIS","163238H"]
[null,null,"SIDGUI-OUSSAMA","19002-SPORT AMAT.DE BILLARD MARSEILLAIS","182206A"]
[null,null,"SIEGLER-JEAN PIERRE","19006-BILLARD CLUB CARPENTRASSIEN","168834Q"]
[null,null,"SIMIAN-FABIENNE","19130-BLACK BALL CAVAILLONNAIS","156378B"]
[null,null,"SIMON-GERARD","19014-BILLARD CLUB AVIGNONNAIS","010203L"]
[null,null,"SIMON-PASCAL","19127-O CIGALON BILLARD CLUB","114485H"]
[null,null,"SINANIAN-JEAN PAUL","19017-BILLARD CLUB PHOCEEN","022412A"]
[null,null,"SKAF-JOSEPH","19002-SPORT AMAT.DE BILLARD MARSEILLAIS","134702W"]
[null,null,"SOLARI-ANNICK","19098-BILLARD CLUB LA FARE","151274D"]
[null,null,"SOLTANI-OMAR","19106-BILLARD CLUB VINONNAIS","103578U"]
[null,null,"SOULIER-JENNIFER","19068-BILLARD CLUB ARLESIEN","178610R"]
[null,null,"SPINNLER-JEAN LUC","19027-ACADEMIE DE BILLARD DE BOLLENE","165931K"]
[null,null,"STEINMANN-SEBASTIEN","19061-ACAD.BILLARD ST RAPHAEL","020790Q"]
[null,null,"STEPHAN-OLIVIER","19025-BILLARD CLUB SISTERONNAIS","125931N"]
[null,null,"STRAUDO-JEAN PIERRE","19090-BILLARD AMATEUR ROGNAC","179072T"]
[null,null,"STRAUDO-MICHEL","19090-BILLARD AMATEUR ROGNAC","156278S"]
[null,null,"SUMILE-JODERICK","19112-NISSA BILLARD CLUB","186725M"]
[null,null,"SURATEAU-BERNARD","19061-ACAD.BILLARD ST RAPHAEL","165925D"]
[null,null,"TAN-BUN HO","19068-BILLARD CLUB ARLESIEN","182372F"]
[null,null,"TARDIEUX-LUC","19098-BILLARD CLUB LA FARE","022429R"]
[null,null,"TARDY-JEAN CLAUDE","19014-BILLARD CLUB AVIGNONNAIS","133907H"]
[null,null,"TARDY-PIERRE YVES","19058-ACADEMIE DE BILLARD DE BARBOSSI MANDELIEU","143024Y"]
[null,null,"TARTING-BERNARD","19001-S. S. A. B. D AIX EN PROVENCE","160345N"]
[null,null,"TEYSSIER-SERGE","19007-BILLARD CLUB BERROIS","132938A"]
[null,null,"THEVENET-JEAN CLAUDE","19025-BILLARD CLUB SISTERONNAIS","014232K"]
[null,null,"THIBAULT-LUCETTE","19106-BILLARD CLUB VINONNAIS","184678M"]
[null,null,"THIBOUT-HERVE","19017-BILLARD CLUB PHOCEEN","186654K"]
[null,null,"THIERY-PATRICE","19068-BILLARD CLUB ARLESIEN","173938N"]
[null,null,"THOMAS-MICHEL","19061-ACAD.BILLARD ST RAPHAEL","125937T"]
[null,null,"THOMAS-PHILIPPE","19023-BILLARD CLUB GARDEEN","168687F"]
[null,null,"TIBERT-THIERRY","19055-ACADEMIE DE BILLARD DE MENTON","113231B"]
[null,null,"TICHADOU-SAMY","19002-SPORT AMAT.DE BILLARD MARSEILLAIS","186465E"]
[null,null,"TOMASINI-ALEXANDRE","19055-ACADEMIE DE BILLARD DE MENTON","105800G"]
[null,null,"TONINI BOSSI-LAURENT","19002-SPORT AMAT.DE BILLARD MARSEILLAIS","131820A"]
[null,null,"TONOLI-PASCAL","19059-BILLARD CLUB ROQUEBRUNOIS","022438A"]
[null,null,"TORES-JEAN LUC","19009-CLUB BILLARD ISTREEN","135554Q"]
[null,null,"TORRE-BENOIT","19068-BILLARD CLUB ARLESIEN","180537L"]
[null,null,"TOUATI-WILLIAM","19002-SPORT AMAT.DE BILLARD MARSEILLAIS","186455T"]
[null,null,"TOULLEC-DANIEL","19059-BILLARD CLUB ROQUEBRUNOIS","177643Q"]
[null,null,"TOUREILLE-ALAIN","19025-BILLARD CLUB SISTERONNAIS","139062O"]
[null,null,"TOURE-MADOU","19002-SPORT AMAT.DE BILLARD MARSEILLAIS","014256I"]
[null,null,"TRAN-KEVIN","19002-SPORT AMAT.DE BILLARD MARSEILLAIS","022443F"]
[null,null,"TURPIN-JEAN","19001-S. S. A. B. D AIX EN PROVENCE","172679V"]
[null,null,"VAHE-GUILLAUME","19112-NISSA BILLARD CLUB","107282G"]
[null,null,"VALENSI-GERARD","19017-BILLARD CLUB PHOCEEN","022453P"]
[null,null,"VALET-JEAN MICHEL","19023-BILLARD CLUB GARDEEN","177653B"]
[null,null,"VALETTE-SYLVAIN","19023-BILLARD CLUB GARDEEN","177654C"]
[null,null,"VALLETTE-PHILIPPE","19027-ACADEMIE DE BILLARD DE BOLLENE","171874V"]
[null,null,"VALMAGGIA-CHRISTIAN","19009-CLUB BILLARD ISTREEN","141274Q"]
[null,null,"VALVERDE-JEAN YVES","19023-BILLARD CLUB GARDEEN","153163G"]
[null,null,"VAN GOOL-FRANS","19058-ACADEMIE DE BILLARD DE BARBOSSI MANDELIEU","170621H"]
[null,null,"VAN OVERSTRAETEN-JULIEN","19002-SPORT AMAT.DE BILLARD MARSEILLAIS","186462B"]
[null,null,"VAN WIJNGAARDEN-HANS","19058-ACADEMIE DE BILLARD DE BARBOSSI MANDELIEU","143155Z"]
[null,null,"VAUTRIN-JEAN","19056-BILLARD CLUB DE NICE","022459V"]
[null,null,"VIAL-HUGO","19112-NISSA BILLARD CLUB","159948G"]
[null,null,"VICTOR-DANIEL","19019-BILLARD CLUB DE LA BAIE","147412F"]
[null,null,"VIDAL-RENE BERNARD","19106-BILLARD CLUB VINONNAIS","181240A"]
[null,null,"VIERA MAIA-ARLINDO","19061-ACAD.BILLARD ST RAPHAEL","148051A"]
[null,null,"VIGNE-PHILIPPE","19014-BILLARD CLUB AVIGNONNAIS","014327B"]
[null,null,"VILLAR-FRANCOIS","19112-NISSA BILLARD CLUB","149606Q"]
[null,null,"VILLAR-LOUP","19112-NISSA BILLARD CLUB","176924J"]
[null,null,"VILLASEVIL-ANTONIO","19007-BILLARD CLUB BERROIS","101485H"]
[null,null,"VILLEMAIN-SYLVAIN","19130-BLACK BALL CAVAILLONNAIS","153007M"]
[null,null,"VILLENAVE-REGIS","19068-BILLARD CLUB ARLESIEN","172469R"]
[null,null,"VILLENEUVE-THEO","19127-O CIGALON BILLARD CLUB","186540L"]
[null,null,"VISCONTI-JEAN","19090-BILLARD AMATEUR ROGNAC","138731V"]
[null,null,"VIVALDI-ANDRE","19106-BILLARD CLUB VINONNAIS","022476M"]
[null,null,"VUILLAUME-JEAN CLAUDE","19056-BILLARD CLUB DE NICE","154571M"]
[null,null,"VULTAGGIO-PIERRE","19058-ACADEMIE DE BILLARD DE BARBOSSI MANDELIEU","022480Q"]
[null,null,"WALLON-PATRICK","19027-ACADEMIE DE BILLARD DE BOLLENE","176943E"]
[null,null,"WARLET-JEAN CLAUDE","19061-ACAD.BILLARD ST RAPHAEL","117872O"]
[null,null,"WILLAME-PHILIPPE","19001-S. S. A. B. D AIX EN PROVENCE","152534Y"]
[null,null,"WIRTH-HUGO","19002-SPORT AMAT.DE BILLARD MARSEILLAIS","186649E"]
[null,null,"WOLFF-MAXIME","19002-SPORT AMAT.DE BILLARD MARSEILLAIS","182608M"]
[null,null,"WYNIGER-ERIC","19014-BILLARD CLUB AVIGNONNAIS","172921H"]
[null,null,"WYNIGER-MARC","19014-BILLARD CLUB AVIGNONNAIS","172922J"]
[null,null,"XUEREF-JEAN MARIE","19019-BILLARD CLUB DE LA BAIE","152049W"]
[null,null,"YORAC-ARNOLF","19138-BILLARD CLUB FREJUSSIEN","143308W"]
[null,null,"YUNG-NADEGE","19130-BLACK BALL CAVAILLONNAIS","166159H"]
[null,null,"YVOZ-ALAIN","19006-BILLARD CLUB CARPENTRASSIEN","184288N"]
[null,null,"ZANDRINO-ALAIN","19007-BILLARD CLUB BERROIS","134311V"]
[null,null,"ZATTERA-GIOVANNI","19002-SPORT AMAT.DE BILLARD MARSEILLAIS","186520P"]
[null,null,"ZOPPI-AIME","19106-BILLARD CLUB VINONNAIS","144788U"]
[null,null,"ZOPPI-CEDRIC","19106-BILLARD CLUB VINONNAIS","125457H"]
[null,null,"ZOUARI-SAMY","19002-SPORT AMAT.DE BILLARD MARSEILLAIS","184338S"]

{"sheet":"CLUB","index":1,"n_rows":31,"n_cols":15,"rows_kept":31,"cut":false,"hidden":true,"merged":[[0,0,0,4],[21,7,21,13]]}
["CLUB AFFILIE LMB\n",null,null,null,null,null,null,"Tournoi","Categ","News Joueurs","Compet","Forfait","Mode","Distance","Format"]
["CLUB","ADRESSE 1","ADRESSE 2","CODE POSTAL","VILLE",null,null,"TOURNOI N°1","M","CL","1/2 Finale Ligue","Excusé","CADRE",10,"3,10 GC"]
["19001 – S. S. A. B. D AIX EN PROVENCE","RUE PIERRE DE COUBERTIN",null,13100,"AIX EN PROVENCE",null,null,"TOURNOI N°2","N1","NC","Finale Ligue","Non Excusé","2,80m 42/2",11,"2,80 GC"]
["19002 – SPORT AMAT.DE BILLARD MARSEILLAIS","26 RUE PAVILLON",null,13001,"MARSEILLE",null,null,"TOURNOI N°3","N2",null,"1/2 Finale Dpt","Abandon","3,10m 47/2",15,"2,80 PC"]
["19006 – BILLARD CLUB CARPENTRASSIEN","264 BOULEVARD ALBIN DURAND",null,84200,"CARPENTRAS",null,null,"TOURNOI N°4","N3",null,"Finale Dpt",null,"LIBRE",20]
["19007 – BILLARD CLUB BERROIS","RUE MARCEL PAGNOL",null,13130,"BERRE L ETANG",null,null,"TOURNOI N°5","R1",null,"Finale Inter-Dpt",null,"2,80m PC",25]
["19009 – CLUB BILLARD ISTREEN","HALLE POLYVALENTE PLACE RAOUX","ALLEE DES ECHOPPES",13800,"ISTRES",null,null,"TOURNOI N°6","R2",null,null,null,"2,80m GC",30]
["19012 – SALON BILLARD CLUB","CERCLE DES ARTS","RUE DES FILEUSES DE SOIE",13300,"SALON DE PROVENCE",null,null,"TOURNOI N°7","R3",null,null,null,"3,10m GC",35]
["19014 – BILLARD CLUB AVIGNONNAIS","12 RUE BONAPARTE","MAISON DU COMBATTANT",84000,"AVIGNON",null,null,"TOURNOI N°8","R4",null,null,null,"1B - 3B",40]
["19016 – BILLARD CLUB ORANGEOIS","MAISON DES ASSOCIATIONS","ROUTE DE CADEROUSSE",84100,"ORANGE",null,null,"TOURNOI N°9","Dame",null,null,null,"2,80m ",50]
["19017 – BILLARD CLUB PHOCEEN","12 RUE DU DOCTEUR ACQUAVIVA",null,13004,"MARSEILLE",null,null,"TOURNOI N°10","Junior",null,null,null,"3,10m ",60]
["19019 – BILLARD CLUB DE LA BAIE","SALLE OTTAVI","AVENUE DES ALLIES",83240,"CAVALAIRE SUR MER",null,null,"TOURNOI N°11","Cadet",null,null,null,null,70]
["19021 – BILLARD CLUB CAVAILLONNAIS","CERCLE DE L INDEPENDANCE","97 COURS VICTOR HUGO",84300,"CAVAILLON",null,null,"TOURNOI N°12","4 billes",null,null,null,null,80]
["19023 – BILLARD CLUB GARDEEN","LE MAS QUARTIER SAINTE MARGUERITE","293 AVENUE PIERRE LOTI",83130,"LA GARDE",null,null,null,null,null,null,null,null,100]
["19025 – BILLARD CLUB SISTERONNAIS","73 AVENUE DE LA DURANCE","SALLE OMNISPORT DANIEL MAFFREN",4200,"SISTERON",null,null,null,null,null,null,null,null,120]
["19027 – ACADEMIE DE BILLARD DE BOLLENE","GROUPE SCOLAIRE PIERRE MARIE CURIE",null,84500,"BOLLENE",null,null,null,null,null,null,null,null,150]
["19050 – BILLARD CLUB SAUSSETOIS","PARC MUNICIPAL DES LOISIRS","31 AVENUE DE LA COTE BLEUE",13960,"SAUSSET LES PINS",null,null,null,null,null,null,null,null,200]
["19055 – ACADEMIE DE BILLARD DE MENTON","ALLEE DU LOUVRE ","SALON DU LOUVRE",6500,"MENTON",null,null,null,null,null,null,null,null,250]
["19056 – BILLARD CLUB DE NICE","SALLE MALATESTA","64 AVENUE CYRILLE BESSET",6100,"NICE",null,null,null,null,null,null,null,null,300]
["19058 – ACADEMIE DE BILLARD DE BARBOSSI MANDELIEU","COUNTRY CLUB DE BARBOSSI","23 CHEMIN DE MAURE-VIEL",6210,"MANDELIEU LA NAPOULE",")",null,null,null,null,null,null,null,400]
["19059 – BILLARD CLUB ROQUEBRUNOIS","44 AVENUE GABRIEL PERRI",null,83520,"ROQUEBRUNE SUR ARGENS"]
["19061 – ACAD.BILLARD ST RAPHAEL","90 RUE THOMAS EDISSON","ZI LA PALUD",83700,"ST RAPHAEL",null,null,"CATEGORIES SUIVANT LES MODES DE JEU"]
["19090 – BILLARD AMATEUR ROGNAC","60 BOULEVARD JEAN JAURES",null,13340,"ROGNAC",null,null,"LIBRE","CADRE 47/2","CADRE 42/2","CADRE 71/2","CADRE 47/1","BANDE","3BANDES"]
["19098 – BILLARD CLUB LA FARE","36 BIS AVENUE PASTEUR",null,13580,"LA FARE LES OLIVIERS",null,null,"M","M","N3","M","M","M","M"]
["19106 – BILLARD CLUB VINONNAIS","480 RUE DES ENTREPRENEURS","ZA DU PAS DE MENC",83560,"VINON SUR VERDON",null,null,"N1","N1","R1",null,null,"N1","N1"]
["19008 – BRITISH BILLARD CLUB AVIGNON",null,null,null,null,null,null,"N3","N2",null,null,null,"N3","N2"]
["19000 – BILLARD NON CONNU",null,null,null,null,null,null,"R1",null,null,null,null,"R1","N3"]
["19093 – AMERICAN CLUB LOUIS XI",null,null,null,null,null,null,"R2",null,null,null,null,"R2","R1"]
[null,null,null,null,null,null,null,"R3",null,null,null,null,null,"R2"]
[null,null,null,null,null,null,null,"R4",null,null,null,null,null,"DAMES"]
[null,null,null,null,null,null,null,"DAMES"]

{"sheet":"BOISSON_T","index":2,"n_rows":28,"n_cols":6,"rows_kept":28,"cut":false,"hidden":true,"merged":[[0,0,0,5]]}
["BILLARD CLUB"]
["Nom - Prénom","EAU","BOISSONS","REPAS","TOTAL","CLUB"]
[{"$f":"'Saisie des joueurs'!X18","v":0}]
[{"$f":"'Saisie des joueurs'!X19","v":0}]
[{"$f":"'Saisie des joueurs'!X20","v":0}]
[{"$f":"'Saisie des joueurs'!X21","v":0}]
[{"$f":"'Saisie des joueurs'!X22","v":0}]
[{"$f":"'Saisie des joueurs'!X23","v":0}]
[{"$f":"'Saisie des joueurs'!X24","v":0}]
[{"$f":"'Saisie des joueurs'!X25","v":0}]
[{"$f":"'Saisie des joueurs'!X26","v":0}]
[{"$f":"'Saisie des joueurs'!X27","v":0}]
[{"$f":"'Saisie des joueurs'!X28","v":0}]
[{"$f":"'Saisie des joueurs'!X29","v":0}]
[{"$f":"'Saisie des joueurs'!X30","v":0}]
[{"$f":"'Saisie des joueurs'!X31","v":0}]
[{"$f":"'Saisie des joueurs'!X32","v":0}]
[{"$f":"'Saisie des joueurs'!X33","v":0}]
[{"$f":"'Saisie des joueurs'!X34","v":0}]
[{"$f":"'Saisie des joueurs'!X35","v":0}]
[{"$f":"'Saisie des joueurs'!X36","v":0}]
[{"$f":"'Saisie des joueurs'!X37","v":0}]
[{"$f":"'Saisie des joueurs'!X38","v":0}]
[{"$f":"'Saisie des joueurs'!X39","v":0}]
[{"$f":"'Saisie des joueurs'!X40","v":0}]
[{"$f":"'Saisie des joueurs'!X41","v":0}]
[{"$f":"'Saisie des joueurs'!X42","v":0}]
[{"$f":"'Saisie des joueurs'!X43","v":0}]

{"sheet":"CADRE","index":3,"n_rows":153,"n_cols":8,"rows_kept":153,"cut":false,"hidden":true,"merged":[[0,0,1,5]]}
["CADRE",null,null,null,null,null,"Classification\n FFB-e2i",{"$f":"TODAY()","v":"2026-01-18"}]
[]
["NC-CL","NOM","N° LICENCE","CAT","MG","CLUB"]
["CL","ABAD YANNICK","106287Z","R1","1,95","19002 – SPORT AMAT.DE BILLARD MARSEILLAIS"]
["NC","AKNIN GABRIEL","021810W","N3","3,39","19027 – ACADEMIE DE BILLARD DE BOLLENE"]
["CL","ALIBERT BRUNO","151459E","R1","1,82","19056 – BILLARD CLUB DE NICE"]
["CL","ALLIGIER GERARD","157036R","R1","1,8","19019 – BILLARD CLUB DE LA BAIE"]
["CL","ALVAREZ PHILIPPE","159130S","R1","2,54","19056 – BILLARD CLUB DE NICE"]
["CL","AMOUROUX LUC","155531F","R1","0,83","19023 – BILLARD CLUB GARDEEN"]
["CL","ANDRY JEAN FRANCOIS","021818E","R1","1,39","19090 – BILLARD AMATEUR ROGNAC"]
["CL","ANNESTAY JACQUES","021820G","R1","1,50","19025 – BILLARD CLUB SISTERONNAIS"]
["CL","ANTONIN ALAIN","021821H","N3","3,74","19021 – BILLARD CLUB CAVAILLONNAIS"]
["CL","ARNOUX LAURENT","180272Y","R1","1,12","19058 – ACADEMIE DE BILLARD DE BARBOSSI MANDELIEU"]
["CL","AUBERT ROUECHE LYDIA","148204R","R1","2,52","19106 – BILLARD CLUB VINONNAIS"]
["CL","BAILLON JEAN","115304U","R1","0,7","19058 – ACADEMIE DE BILLARD DE BARBOSSI MANDELIEU"]
["NC","BALLIGAND SERGE","023184S","N3","3,42","19059 – BILLARD CLUB ROQUEBRUNOIS"]
["CL","BARDET JEAN PIERRE","018535X","R1","2,16","19023 – BILLARD CLUB GARDEEN"]
["CL","BARRALLON JEAN PAUL","122300W","R1","1,63","19023 – BILLARD CLUB GARDEEN"]
["CL","BASSOUL JEAN MARIE","103568K","R1","2,11","19006 – BILLARD CLUB CARPENTRASSIEN"]
["NC","BAUTZMANN DIDIER","021859T","N3","4,50","19017 – BILLARD CLUB PHOCEEN"]
["CL","BELTRITTI JEAN YVES","132789H","R1","1,28","19106 – BILLARD CLUB VINONNAIS"]
["CL","BENIER PATRICK","159238K","R1","1,08","19023 – BILLARD CLUB GARDEEN"]
["CL","BERNAT JEAN PIERRE","125945B","R1","1,4","19023 – BILLARD CLUB GARDEEN"]
["CL","BETTONI GILLES","180334Q","R1","0,68","19058 – ACADEMIE DE BILLARD DE BARBOSSI MANDELIEU"]
["CL","BIDDAU FRANCOIS","125917Z","R1","1,88","19009 – CLUB BILLARD ISTREEN"]
["CL","BILDIK MEHMET","141828Y","N3","3,78","19006 – BILLARD CLUB CARPENTRASSIEN"]
["CL","BONTEMPS PAUL","187537V","R1","0,74","19001 – S. S. A. B. D AIX EN PROVENCE"]
["NC","BORDES BERNARD","149287T","N3","2,6","19061 – ACAD.BILLARD ST RAPHAEL"]
["CL","BORDES CATHERINE","149288V","R1","0,53","19061 – ACAD.BILLARD ST RAPHAEL"]
["CL","BOULANT CLAUDE","155529D","R1","1,91","19019 – BILLARD CLUB DE LA BAIE"]
["NC","BRAYER DENIS","016411F","N3","3,34","19008 – BRITISH BILLARD CLUB AVIGNON"]
["NC","BREDAT RENE","021918A","R1","1,61","19025 – BILLARD CLUB SISTERONNAIS"]
["CL","BRIAND ALAIN","113104E","R1","1,96","19002 – SPORT AMAT.DE BILLARD MARSEILLAIS"]
["NC","BRIOSNE PASCAL","021922E","N3","2,84","19001 – S. S. A. B. D AIX EN PROVENCE"]
["CL","BRUANT SYLVAIN","114733V","R1","1,81","19016 – BILLARD CLUB ORANGEOIS"]
["NC","BURGANT JEAN MARIE","123684C","N3","2,78","19019 – BILLARD CLUB DE LA BAIE"]
["NC","CACHO DIDIER","112311R","N3","2,68","19098 – BILLARD CLUB LA FARE"]
["CL","CALDERON LUC","021938U","R1","1,93","19009 – CLUB BILLARD ISTREEN"]
["NC","CAO HUU TUOI","021944A","N3","3,04","19098 – BILLARD CLUB LA FARE"]
["NC","CESARINI JEAN PAUL","112516O","N3","2,58","19106 – BILLARD CLUB VINONNAIS"]
["CL","CESARO JEAN CLAUDE","118684U","R1","1,19","19007 – BILLARD CLUB BERROIS"]
["NC","CHABASSIERE DOMINIQUE","173622V","N3","2,11","19098 – BILLARD CLUB LA FARE"]
["CL","CHAPUIS ERIC","104469B","N2","7,29","19056 – BILLARD CLUB DE NICE"]
["CL","CHARBIT JEAN MARC","021967X","R1","2,65","19056 – BILLARD CLUB DE NICE"]
["CL","CHASTAN GEORGES","012782Q","R1","2,54","19021 – BILLARD CLUB CAVAILLONNAIS"]
["CL","CHUZEVILLE GILLES","108854S","R1","2,44","19025 – BILLARD CLUB SISTERONNAIS"]
["CL","COHEN RICHARD","148796K","R1","0,99","19056 – BILLARD CLUB DE NICE"]
["CL","CORTES JEAN LOUIS","187055W","R1","1,6","19009 – CLUB BILLARD ISTREEN"]
["NC","COURBOT LUDWIG","016838Q","N3","4,11","19001 – S. S. A. B. D AIX EN PROVENCE"]
["CL","DAUPHIN MICHEL","014828I","N3","4,13","19014 – BILLARD CLUB AVIGNONNAIS"]
["CL","DAVID THIERRY","155526A","R1","1,98","19025 – BILLARD CLUB SISTERONNAIS"]
["CL","DE LOOSE FELIX","163348C","R1","2,44","19106 – BILLARD CLUB VINONNAIS"]
["CL","DEBRUYNE TRISTAN","113220Q","R1","1,59","19106 – BILLARD CLUB VINONNAIS"]
["NC","DEFRETIN JOEL","020635R","N2","3,59","19023 – BILLARD CLUB GARDEEN"]
["NC","DELBEY JULIEN","112719J","R1","3,01","19012 – SALON BILLARD CLUB"]
["NC","DREMEAUX JEAN PIERRE","140803N","N2","3,80","19023 – BILLARD CLUB GARDEEN"]
["CL","DUBREUIL FRANCK","013022W","N3","3,16","19061 – ACAD.BILLARD ST RAPHAEL"]
["NC","DUMET BRUNO","013037L","N3","2,93","19023 – BILLARD CLUB GARDEEN"]
["CL","DUSSAULE PIERRE","102285B","R1","1,41","19027 – ACADEMIE DE BILLARD DE BOLLENE"]
["CL","ELEOUET DANIEL","163467G","R1","1,42","19006 – BILLARD CLUB CARPENTRASSIEN"]
["CL","ESTABLIER PIERRE","147622J","R1","0,84","19023 – BILLARD CLUB GARDEEN"]
["NC","FERAUD GERARD","022067T","N3","5,72","19027 – ACADEMIE DE BILLARD DE BOLLENE"]
["CL","FERHAT ACHOUR","129036Y","N3","3,50","19023 – BILLARD CLUB GARDEEN"]
["CL","FERNANDEZ MARC","013111H","N3","3,51","19021 – BILLARD CLUB CAVAILLONNAIS"]
["CL","FERRO PHILIPPE","122658Q","R1","1,42","19009 – CLUB BILLARD ISTREEN"]
["NC","FONTAINE DANY","101139Z","N2","6,00","19023 – BILLARD CLUB GARDEEN"]
["CL","GABETTO STEPHANE","103216W","R1","2,35","19023 – BILLARD CLUB GARDEEN"]
["NC","GANTOIS GILLES","022092S","N3","3,76","19016 – BILLARD CLUB ORANGEOIS"]
["CL","GELAS BERNARD","163279C","R1","0,94","19098 – BILLARD CLUB LA FARE"]
["CL","GERARD PASCAL","022103D","N1","8,85","19056 – BILLARD CLUB DE NICE"]
["NC","GERVAIS GUILLAUME","022104E","N2","3,96","19021 – BILLARD CLUB CAVAILLONNAIS"]
["CL","GHU GERARD","101282M","R1","1,75","19016 – BILLARD CLUB ORANGEOIS"]
["CL","GIANNATTASIO LUCIEN","022108I","R1","1,72","19009 – CLUB BILLARD ISTREEN"]
["NC","GIBARROUX CHRISTOPHE","118661X","N3","3,17","19001 – S. S. A. B. D AIX EN PROVENCE"]
["CL","GIFFARD PHILIPPE","149390F","N3","4,01","19023 – BILLARD CLUB GARDEEN"]
["CL","GODARD PASCAL","157852D","R1","2,18","19006 – BILLARD CLUB CARPENTRASSIEN"]
["CL","GOURSEAUD YVES","104054C","N3","3,7","19016 – BILLARD CLUB ORANGEOIS"]
["CL","GUEUG PIERRE","104475H","R1","1,71","19056 – BILLARD CLUB DE NICE"]
["CL","GUIBERT JEAN MARIE","022137L","R1","1,54","19009 – CLUB BILLARD ISTREEN"]
["CL","GUIZELIN PASCAL","154530S","R1","0,90","19106 – BILLARD CLUB VINONNAIS"]
["CL","HAHN DANIEL","011966G","R1","1,44","19017 – BILLARD CLUB PHOCEEN"]
["CL","HAZE PATRICK","137523J","R1","1,1","19021 – BILLARD CLUB CAVAILLONNAIS"]
["CL","HERREMAN SERGE","119933V","R1","1,05","19023 – BILLARD CLUB GARDEEN"]
["CL","IVACHEFF MICHEL","181239Z","R1","0,97","19106 – BILLARD CLUB VINONNAIS"]
["NC","JOULIN WILLIAM","169333F","R1","2,19","19021 – BILLARD CLUB CAVAILLONNAIS"]
["NC","LACOSSE JEAN PAUL","109977X","N3","2,7","19019 – BILLARD CLUB DE LA BAIE"]
["CL","LACOSTE BRUNO","147195V","R1","2,02","19061 – ACAD.BILLARD ST RAPHAEL"]
["CL","LANDERECTHE PASCAL","181199F","R1","1,12","19007 – BILLARD CLUB BERROIS"]
["CL","LANNURIEN THIERRY","168288X","R1","1,97","19023 – BILLARD CLUB GARDEEN"]
["CL","LE FAUCHEUR LAURENT","163278B","R1","1,17","19098 – BILLARD CLUB LA FARE"]
["CL","LEMARTINET ROBERT","110379J","R1","1,43","19019 – BILLARD CLUB DE LA BAIE"]
["CL","LETELLIER ALAIN","176350K","R1","0,89","19090 – BILLARD AMATEUR ROGNAC"]
["NC","LIEGEOIS DOMINIQUE","022209F","N3","2,56","19027 – ACADEMIE DE BILLARD DE BOLLENE"]
["CL","LISI ROGER","146375V","R1","0,79","19007 – BILLARD CLUB BERROIS"]
["CL","LUCENET PAUL","162076V","R1","1,99","19009 – CLUB BILLARD ISTREEN"]
["CL","LUNEAU JEAN CLAUDE","186880F","R1","3,03","19023 – BILLARD CLUB GARDEEN"]
["CL","MATHIEU CLAUDE","129498S","R1","1,18","19098 – BILLARD CLUB LA FARE"]
["CL","MAUDUIT DIDIER","017615N","R1","0,91","19009 – CLUB BILLARD ISTREEN"]
["CL","MAYNARD ALEXANDRE","112015H","R1","1,23","19056 – BILLARD CLUB DE NICE"]
["CL","MELLET PIERRE","144802I","R1","0,96","19027 – ACADEMIE DE BILLARD DE BOLLENE"]
["CL","MEYER LUC","022260E","N3","4,28","19023 – BILLARD CLUB GARDEEN"]
["CL","MILLOT ROBERT","172218T","R1","1,02","19025 – BILLARD CLUB SISTERONNAIS"]
["NC","MOLAND PHILIPPE","022268M","N3","1,50","19061 – ACAD.BILLARD ST RAPHAEL"]
["CL","MONNET JEAN CLAUDE","022271P","R1","2,21","19021 – BILLARD CLUB CAVAILLONNAIS"]
["CL","MOREELS BERNARD","147624L","R1","0,99","19023 – BILLARD CLUB GARDEEN"]
["CL","MOUSSIER PATRICK","151456B","R1","0,7","19056 – BILLARD CLUB DE NICE"]
["NC","MUNOS JEAN","109063T","N3","3,25","19050 – BILLARD CLUB SAUSSETOIS"]
["NC","MUNOS VINCENT","109708O","N3","2,38","19007 – BILLARD CLUB BERROIS"]
["CL","N GUYEN VAN DUC MAX","141788K","R1","0,87","19007 – BILLARD CLUB BERROIS"]
["CL","NATELLA ROGER","154572N","R1","1,13","19056 – BILLARD CLUB DE NICE"]
["CL","OLLIVIER DANIEL","020258E","R1","1,45","19009 – CLUB BILLARD ISTREEN"]
["CL","OUDOUX GERARD","128468C","R1","1,22","19023 – BILLARD CLUB GARDEEN"]
["CL","PACZESNY FABRICE","150400D","R1","1,42","19098 – BILLARD CLUB LA FARE"]
["CL","PELLAT FRANCIS","141673Z","R1","1,69","19025 – BILLARD CLUB SISTERONNAIS"]
["CL","PEREZ CHRISTIAN","130773T","R1","1,13","19009 – CLUB BILLARD ISTREEN"]
["CL","PERRIN LIONEL","181624S","R1","1,27","19023 – BILLARD CLUB GARDEEN"]
["CL","PIGNATEL FLORENT","112316W","N2","3,65","19021 – BILLARD CLUB CAVAILLONNAIS"]
["CL","PINARD PATRICE","105404A","R1","2,95","19012 – SALON BILLARD CLUB"]
["CL","PORTET PATRICK","181316H","R1","0,65","19059 – BILLARD CLUB ROQUEBRUNOIS"]
["CL","POUGIN JEAN FRANCOIS","022346M","R1","1,9","19059 – BILLARD CLUB ROQUEBRUNOIS"]
["CL","POULAIN FREDERIC","144719D","R1","1,45","19016 – BILLARD CLUB ORANGEOIS"]
["NC","REVALOR MICHEL","119696S","N3","1,7","19050 – BILLARD CLUB SAUSSETOIS"]
["NC","RIBOLLA PATRICE","022366G","N3","3,31","19056 – BILLARD CLUB DE NICE"]
["CL","RICHARD GUY","022367H","R1","2,4","19023 – BILLARD CLUB GARDEEN"]
["CL","RIGOLLET PIERRE","023064C","N3","4,48","19025 – BILLARD CLUB SISTERONNAIS"]
["CL","ROBBE RAYMOND","134183X","R1","1,28","19009 – CLUB BILLARD ISTREEN"]
["NC","ROBERT DIDIER","022450M","N3","3,08","19014 – BILLARD CLUB AVIGNONNAIS"]
["CL","ROUANET CLAUDE","163166E","R1","1,35","19025 – BILLARD CLUB SISTERONNAIS"]
["NC","ROUGON ROBERT","101518O","N3","2,82","19007 – BILLARD CLUB BERROIS"]
["CL","RYCKELYNCK LAURENT","121397D","R1","2,38","19006 – BILLARD CLUB CARPENTRASSIEN"]
["NC","SANTIAGO JEAN JOSEPH","022391F","N2","5,71","19050 – BILLARD CLUB SAUSSETOIS"]
["CL","SCHENK ROBERT","136540O","R1","0,7","19056 – BILLARD CLUB DE NICE"]
["NC","SIEGLER JEAN PIERRE","168834Q","N3","3,14","19006 – BILLARD CLUB CARPENTRASSIEN"]
["CL","SIMON GERARD","010203L","R1","1,55","19014 – BILLARD CLUB AVIGNONNAIS"]
["CL","SINANIAN JEAN PAUL","022412A","R1","2,69","19017 – BILLARD CLUB PHOCEEN"]
["CL","SOLTANI OMAR","103578U","R1","2,12","19106 – BILLARD CLUB VINONNAIS"]
["CL","STEINMANN SEBASTIEN","020790Q","R1","1,56","19061 – ACAD.BILLARD ST RAPHAEL"]
["CL","STEPHAN OLIVIER","125931N","R1","2,82","19025 – BILLARD CLUB SISTERONNAIS"]
["CL","TARDIEUX LUC","022429R","R1","2,64","19098 – BILLARD CLUB LA FARE"]
["CL","TELOT DOMINIQUE","123701T","R1","2,09","19059 – BILLARD CLUB ROQUEBRUNOIS"]
["CL","TEYSSIER SERGE","132938A","R1","1,82","19007 – BILLARD CLUB BERROIS"]
["NC","TONOLI PASCAL","022438A","N3","3,06","19059 – BILLARD CLUB ROQUEBRUNOIS"]
["CL","TORES JEAN LUC","135554Q","R1","1,64","19009 – CLUB BILLARD ISTREEN"]
["CL","VIOU GERARD","147607S","R1","2,11","19098 – BILLARD CLUB LA FARE"]
["CL","VISCONTI JEAN","138731V","R1","0,98","19090 – BILLARD AMATEUR ROGNAC"]
["CL","VITALIEN PIERRE","119674W","R1","1,75","19016 – BILLARD CLUB ORANGEOIS"]
["NC","VIVALDI ANDRE","022476M","N3","4,85","19106 – BILLARD CLUB VINONNAIS"]
["CL","VUILLAUME JEAN CLAUDE","154571M","R1","0,98","19056 – BILLARD CLUB DE NICE"]
["CL","WILLAME PHILIPPE","152534Y","R1","0,71","19001 – S. S. A. B. D AIX EN PROVENCE"]
["CL","XUEREF JEAN MARIE","152049W","R1","1,58","19019 – BILLARD CLUB DE LA BAIE"]
["CL","ZANDRINO ALAIN","134311V","R1","1,31","19007 – BILLARD CLUB BERROIS"]
["NC","ZOPPI AIME","144788U","N3","2,32","19023 – BILLARD CLUB GARDEEN"]
["CL","ZOPPI CEDRIC","125457H","M","26,76","19023 – BILLARD CLUB GARDEEN"]

{"sheet":"LIBRE","index":4,"n_rows":284,"n_cols":8,"rows_kept":284,"cut":false,"hidden":true,"merged":[[0,0,1,5]]}
["LIBRE",null,null,null,null,null,"Classification\n FFB-e2i",{"$f":"TODAY()","v":"2026-01-18"}]
[]
["NC-CL","NOM","N° LICENCE","CAT","MG","CLUB"]
["CL","ALESSI JEAN PIERRE","149448T","R3","1,1","19023 – BILLARD CLUB GARDEEN"]
["CL","ALIBERT BRUNO","151459E","R2","1,99","19056 – BILLARD CLUB DE NICE"]
["CL","ALLIGIER GERARD","157036R","R3","1,17","19019 – BILLARD CLUB DE LA BAIE"]
["CL","ALVAREZ PHILIPPE","159130S","R1","4,1","19056 – BILLARD CLUB DE NICE"]
["CL","ALVISET GUY","152035F","R3","1,36","19050 – BILLARD CLUB SAUSSETOIS"]
["CL","AMOUROUX LUC","155531F","R4","0,84","19023 – BILLARD CLUB GARDEEN"]
["NC","ANDRY JEAN FRANCOIS","021818E","R2","1,66","19090 – BILLARD AMATEUR ROGNAC"]
["NC","ANNESTAY JACQUES","021820G","R2","1,66","19025 – BILLARD CLUB SISTERONNAIS"]
["CL","ANTONIN ALAIN","021821H","N3","5,64","19021 – BILLARD CLUB CAVAILLONNAIS"]
["CL","ARMENGAU PHILIPPE","161785D","R4","0,53","19056 – BILLARD CLUB DE NICE"]
["CL","ARNOUX LAURENT","180272Y","R3","1,07","19058 – ACADEMIE DE BILLARD DE BARBOSSI MANDELIEU"]
["CL","AUBERT ROUECHE LYDIA","148204R","R2","2,18","19106 – BILLARD CLUB VINONNAIS"]
["NC","BADINIER MARC","189187N","R4","0,55","19058 – ACADEMIE DE BILLARD DE BARBOSSI MANDELIEU"]
["NC","BAILLON JEAN","115304U","R3","0,71","19058 – ACADEMIE DE BILLARD DE BARBOSSI MANDELIEU"]
["CL","BALESTRI MAURICE","153554G","R4","0,74","19058 – ACADEMIE DE BILLARD DE BARBOSSI MANDELIEU"]
["CL","BALLIGAND SERGE","023184S","R1","3,38","19059 – BILLARD CLUB ROQUEBRUNOIS"]
["NC","BARBANNEAU FREDERIC","109917P","R2",2,"19012 – SALON BILLARD CLUB"]
["CL","BARDET JEAN PIERRE","018535X","R2","2,63","19023 – BILLARD CLUB GARDEEN"]
["CL","BARRALLON JEAN PAUL","122300W","R3","1,49","19023 – BILLARD CLUB GARDEEN"]
["CL","BASSOUL JEAN MARIE","103568K","R2","2,09","19006 – BILLARD CLUB CARPENTRASSIEN"]
["NC","BAUTZMANN DIDIER","021859T","N3","6,00","19017 – BILLARD CLUB PHOCEEN"]
["CL","BELTRITTI JEAN YVES","132789H","R3","1,17","19106 – BILLARD CLUB VINONNAIS"]
["CL","BENHAMOU ALEXIS","160341J","R2","2,46","19001 – S. S. A. B. D AIX EN PROVENCE"]
["CL","BENIER PATRICK","159238K","R3","1,1","19023 – BILLARD CLUB GARDEEN"]
["CL","BENOIT MICHEL","159790K","R4","0,81","19027 – ACADEMIE DE BILLARD DE BOLLENE"]
["CL","BERNAT JEAN PIERRE","125945B","R3","1,46","19023 – BILLARD CLUB GARDEEN"]
["CL","BETTONI GILLES","180334Q","R4","0,74","19058 – ACADEMIE DE BILLARD DE BARBOSSI MANDELIEU"]
["CL","BIARD ANDRE","159202W","R4","0,74","19009 – CLUB BILLARD ISTREEN"]
["CL","BIDDAU FRANCOIS","125917Z","R2","2,61","19009 – CLUB BILLARD ISTREEN"]
["NC","BILDIK MEHMET","141828Y","N3","3,69","19006 – BILLARD CLUB CARPENTRASSIEN"]
["CL","BIOT ELODIE","183516Z","R4","0,28","19058 – ACADEMIE DE BILLARD DE BARBOSSI MANDELIEU"]
["CL","BLANC SANTELLI ERIC","179744Z","R4","0,48","19009 – CLUB BILLARD ISTREEN"]
["CL","BONELLO LUCIEN","021894C","R3","0,97","19090 – BILLARD AMATEUR ROGNAC"]
["CL","BONNEMAISON DENIS","150422C","R4","0,87","19009 – CLUB BILLARD ISTREEN"]
["CL","BONTEMPS PAUL","187537V","R4","0,79","19001 – S. S. A. B. D AIX EN PROVENCE"]
["NC","BORDES BERNARD","149287T","R1","2,45","19061 – ACAD.BILLARD ST RAPHAEL"]
["CL","BORDES CATHERINE","149288V","R4","0,6","19061 – ACAD.BILLARD ST RAPHAEL"]
["CL","BOSSOT JEAN","160000N","R3","1,27","19027 – ACADEMIE DE BILLARD DE BOLLENE"]
["CL","BOULANDET ALAIN","012645J","R3","0,89","19055 – ACADEMIE DE BILLARD DE MENTON"]
["NC","BOULANT CLAUDE","155529D","R2","1,53","19019 – BILLARD CLUB DE LA BAIE"]
["CL","BOVET MICHEL","149613Y","R3","1,12","19059 – BILLARD CLUB ROQUEBRUNOIS"]
["NC","BRAYER DENIS","016411F","N3","3,69","19008 – BRITISH BILLARD CLUB AVIGNON"]
["NC","BREDAT RENE","021918A","R1","2,62","19025 – BILLARD CLUB SISTERONNAIS"]
["CL","BREPSON MARTIAL","152345S","R4","0,93","19058 – ACADEMIE DE BILLARD DE BARBOSSI MANDELIEU"]
["CL","BRESSE JEAN LOUIS","021919B","R3","1,07","19016 – BILLARD CLUB ORANGEOIS"]
["CL","BRIAND ALAIN","113104E","R2","2,25","19002 – SPORT AMAT.DE BILLARD MARSEILLAIS"]
["CL","BRIOIT DOMINIQUE","021920C","R3","1,27","19055 – ACADEMIE DE BILLARD DE MENTON"]
["CL","BRUANT SYLVAIN","114733V","R3","1,57","19016 – BILLARD CLUB ORANGEOIS"]
["CL","BRUN ROGER","021929L","R3","1,47","19017 – BILLARD CLUB PHOCEEN"]
["CL","BURGANT JEAN MARIE","123684C","R2","2,86","19019 – BILLARD CLUB DE LA BAIE"]
["CL","CALDERON LUC","021938U","R2","2,76","19009 – CLUB BILLARD ISTREEN"]
["CL","CALDERON MATHYS","173674B","R4","0,45","19009 – CLUB BILLARD ISTREEN"]
["CL","CAO HUU TUOI","021944A","R1","3,70","19098 – BILLARD CLUB LA FARE"]
["CL","CARRION JEAN PHILIPPE","130701Z","N3","4,87","19058 – ACADEMIE DE BILLARD DE BARBOSSI MANDELIEU"]
["CL","CESARINI JEAN PAUL","112516O","R1","3,22","19106 – BILLARD CLUB VINONNAIS"]
["NC","CESARO JEAN CLAUDE","118684U","R2","1,5","19007 – BILLARD CLUB BERROIS"]
["CL","CHABASSIERE DOMINIQUE","173622V","R2","2,65","19098 – BILLARD CLUB LA FARE"]
["CL","CHARBAUT CLAUDE","122456W","R3","1,34","19059 – BILLARD CLUB ROQUEBRUNOIS"]
["CL","CHARBIT JEAN MARC","021967X","R2","2,39","19056 – BILLARD CLUB DE NICE"]
["CL","CHASTAN GEORGES","012782Q","R2","2,54","19021 – BILLARD CLUB CAVAILLONNAIS"]
["NC","CHEMLA ELIE","137581P","R1","2,85","19014 – BILLARD CLUB AVIGNONNAIS"]
["CL","CHEURF SELIMANE","187031V","R4","0,48","19090 – BILLARD AMATEUR ROGNAC"]
["CL","CHICARD ALAIN","160332Z","R4","0,73","19006 – BILLARD CLUB CARPENTRASSIEN"]
["CL","CHUZEVILLE GILLES","108854S","R2","2,37","19025 – BILLARD CLUB SISTERONNAIS"]
["CL","CLAUDON PHILIPPE","148126G","R4","0,49","19056 – BILLARD CLUB DE NICE"]
["CL","COHEN (NICE) RICHARD","148796K","R3","1,48","19056 – BILLARD CLUB DE NICE"]
["CL","COLIN PHILIPPE","177991T","R4","0,58","19017 – BILLARD CLUB PHOCEEN"]
["NC","COLLEMINE BERNARD","113219P","R2","1,64","19050 – BILLARD CLUB SAUSSETOIS"]
["CL","COPPIN JEAN MICHEL","021985P","R3",1,"19027 – ACADEMIE DE BILLARD DE BOLLENE"]
["CL","CORBIN LUC","164007T","R4","0,53","19023 – BILLARD CLUB GARDEEN"]
["CL","CORTES JEAN LOUIS","187055W","R3","1,67","19009 – CLUB BILLARD ISTREEN"]
["CL","COSTAZ ALAIN","148136S","R4","0,56","19019 – BILLARD CLUB DE LA BAIE"]
["CL","COSTE PHILIPPE","125938U","R3","1,03","19061 – ACAD.BILLARD ST RAPHAEL"]
["NC","COURBOT LUDWIG","016838Q","N3","5,13","19001 – S. S. A. B. D AIX EN PROVENCE"]
["CL","COZETTE SYLVIE","168685D","R4","0,42","19023 – BILLARD CLUB GARDEEN"]
["CL","DALMASSO EMMANUELLE","177204N","R4","0,5","19025 – BILLARD CLUB SISTERONNAIS"]
["CL","DAREAU GERALD","170095L","R3","1,32","19055 – ACADEMIE DE BILLARD DE MENTON"]
["CL","DAVID THIERRY","155526A","R2","1,97","19025 – BILLARD CLUB SISTERONNAIS"]
["CL","DE CAMBOURG HELION","171181R","R4","0,62","19014 – BILLARD CLUB AVIGNONNAIS"]
["CL","DE LOOSE FELIX","163348C","R2","2,36","19106 – BILLARD CLUB VINONNAIS"]
["CL","DEBRUYNE ANNE","184548W","R4","0,35","19106 – BILLARD CLUB VINONNAIS"]
["CL","DEBRUYNE TRISTAN","113220Q","R3","1,68","19106 – BILLARD CLUB VINONNAIS"]
["CL","DEBUYSER ANNE","178356Q","R4","0,62","19058 – ACADEMIE DE BILLARD DE BARBOSSI MANDELIEU"]
["CL","DELAPORTE YVES","160334B","R3","1,56","19006 – BILLARD CLUB CARPENTRASSIEN"]
["CL","DELBEY JULIEN","112719J","R1","3,92","19012 – SALON BILLARD CLUB"]
["CL","DEMARCQ JEAN FRANCOIS","168662D","R3","1,26","19025 – BILLARD CLUB SISTERONNAIS"]
["CL","DEMERLIAC BRUNO","159076J","R4","0,77","19007 – BILLARD CLUB BERROIS"]
["NC","DESMERO RAYMOND","142358I","R3","0,83","19007 – BILLARD CLUB BERROIS"]
["CL","DONABEDIAN DANIEL","142363N","R3","1,38","19019 – BILLARD CLUB DE LA BAIE"]
["NC","DOS SANTOS FRANCIS","022039R","R1","3,04","19050 – BILLARD CLUB SAUSSETOIS"]
["CL","DOUSSET RENE","174348J","R4","0,67","19023 – BILLARD CLUB GARDEEN"]
["CL","DREMEAUX JEAN PIERRE","140803N","N3","5,5","19023 – BILLARD CLUB GARDEEN"]
["NC","DUBREUIL FRANCK","013022W","R1","6,05","19061 – ACAD.BILLARD ST RAPHAEL"]
["CL","DUCA ALFONSO","154651Z","R4","0,42","19090 – BILLARD AMATEUR ROGNAC"]
["NC","DUSSAULE PIERRE","102285B","R2","1,69","19027 – ACADEMIE DE BILLARD DE BOLLENE"]
["CL","ELEOUET DANIEL","163467G","R3","1,45","19006 – BILLARD CLUB CARPENTRASSIEN"]
["CL","ESTABLIER PIERRE","147622J","R4","0,93","19023 – BILLARD CLUB GARDEEN"]
["CL","FERAUD GERARD","022067T","N3","5,17","19027 – ACADEMIE DE BILLARD DE BOLLENE"]
["CL","FERHAT ACHOUR","129036Y","N3","5,38","19023 – BILLARD CLUB GARDEEN"]
["CL","FERNANDEZ MARC","013111H","N3","4,20","19021 – BILLARD CLUB CAVAILLONNAIS"]
["CL","FERRE DIDIER","120704M","R3","1,5","19058 – ACADEMIE DE BILLARD DE BARBOSSI MANDELIEU"]
["CL","FERRO PHILIPPE","122658Q","R3","1,2","19009 – CLUB BILLARD ISTREEN"]
["CL","FLEURIOT PATRICK","173138T","R4","0,7","19014 – BILLARD CLUB AVIGNONNAIS"]
["CL","FONTAINE DANY","101139Z","N2","8,78","19023 – BILLARD CLUB GARDEEN"]
["NC","FORGET LIONEL","152014H","R3","0,85","19007 – BILLARD CLUB BERROIS"]
["CL","FRANCO ALBERT","022084K","R2","2,27","19019 – BILLARD CLUB DE LA BAIE"]
["CL","FROMEYER CORINNE","167290M","R4","0,77","19058 – ACADEMIE DE BILLARD DE BARBOSSI MANDELIEU"]
["CL","FURNON ROGER","159060R","R4","0,78","19014 – BILLARD CLUB AVIGNONNAIS"]
["CL","GABETTO STEPHANE","103216W","R2","2,7","19023 – BILLARD CLUB GARDEEN"]
["CL","GALARDINI RICHARD","142316S","R3","1,1","19050 – BILLARD CLUB SAUSSETOIS"]
["CL","GAMEN ANDRE","147288W","R4","0,5","19023 – BILLARD CLUB GARDEEN"]
["CL","GANTOIS GILLES","022092S","R1",6,"19016 – BILLARD CLUB ORANGEOIS"]
["CL","GAYRAUD FRANCOISE","143227T","R4","0,62","19056 – BILLARD CLUB DE NICE"]
["NC","GELAS BERNARD","163279C","R3","0,93","19098 – BILLARD CLUB LA FARE"]
["CL","GERARD PASCAL","022103D","N1","23,41","19056 – BILLARD CLUB DE NICE"]
["CL","GERARD THOMAS","167330F","R4","0,46","19056 – BILLARD CLUB DE NICE"]
["NC","GERVAIS GUILLAUME","022104E","N1","8,36","19021 – BILLARD CLUB CAVAILLONNAIS"]
["CL","GHU GERARD","101282M","R2","2,18","19016 – BILLARD CLUB ORANGEOIS"]
["CL","GIANNATTASIO LUCIEN","022108I","R2","1,94","19009 – CLUB BILLARD ISTREEN"]
["CL","GIBARROUX CHRISTOPHE","118661X","N3","4,41","19001 – S. S. A. B. D AIX EN PROVENCE"]
["CL","GILLET PHILIPPE","180514L","R4","0,68","19058 – ACADEMIE DE BILLARD DE BARBOSSI MANDELIEU"]
["CL","GIRARD DENIS","172734E","R4","0,4","19023 – BILLARD CLUB GARDEEN"]
["CL","GIRARD JACQUES","129718E","R3","1,18","19058 – ACADEMIE DE BILLARD DE BARBOSSI MANDELIEU"]
["CL","GODARD PASCAL","157852D","R2","2,83","19006 – BILLARD CLUB CARPENTRASSIEN"]
["CL","GOUALOU LAURENT","022126A","R3","0,96","19056 – BILLARD CLUB DE NICE"]
["NC","GOUBAUX ALAIN","022127B","R2","2,30","19056 – BILLARD CLUB DE NICE"]
["CL","GOUILLON MATTHIEU","174010R","R4","0,45","19056 – BILLARD CLUB DE NICE"]
["CL","GOUIRAN GEORGES","022129D","R3","1,19","19050 – BILLARD CLUB SAUSSETOIS"]
["NC","GOURSEAUD YVES","104054C","N3","2,9","19016 – BILLARD CLUB ORANGEOIS"]
["CL","GRAVELLE JULIEN","157851C","R3","1,05","19006 – BILLARD CLUB CARPENTRASSIEN"]
["NC","GUERI ROBERT","135013V","R3","0,88","19027 – ACADEMIE DE BILLARD DE BOLLENE"]
["NC","GUEUG PIERRE","104475H","R2","1,71","19056 – BILLARD CLUB DE NICE"]
["NC","GUIBERT JEAN MARIE","022137L","R3","0,92","19009 – CLUB BILLARD ISTREEN"]
["CL","GUIZELIN PASCAL","154530S","R3","1,08","19106 – BILLARD CLUB VINONNAIS"]
["CL","GUYENOT JEAN LOUIS","161784C","R4","0,63","19056 – BILLARD CLUB DE NICE"]
["CL","HAHN DANIEL","011966G","R3","1,31","19017 – BILLARD CLUB PHOCEEN"]
["CL","HAZE PATRICK","137523J","R3","1,18","19021 – BILLARD CLUB CAVAILLONNAIS"]
["CL","HERREMAN SERGE","119933V","R3","1,28","19023 – BILLARD CLUB GARDEEN"]
["CL","HUGUET PATRICK","172086A","N3","5,01","19017 – BILLARD CLUB PHOCEEN"]
["CL","IDJERI GILBERT","172214P","R2","2,19","19050 – BILLARD CLUB SAUSSETOIS"]
["CL","ISRAEL ELIE","184059P","R4","0,74","19017 – BILLARD CLUB PHOCEEN"]
["CL","IVACHEFF HELENE","184667A","R4","0,65","19106 – BILLARD CLUB VINONNAIS"]
["CL","IVACHEFF MICHEL","181239Z","R3","0,98","19106 – BILLARD CLUB VINONNAIS"]
["NC","JUDALET FRANCOIS","190344W","N3","4,50","19019 – BILLARD CLUB DE LA BAIE"]
["CL","JUNK ROGER","175349X","R4","0,44","19058 – ACADEMIE DE BILLARD DE BARBOSSI MANDELIEU"]
["NC","LACOSSE JEAN PAUL","109977X","N3","4,53","19019 – BILLARD CLUB DE LA BAIE"]
["CL","LACOSTE BRUNO","147195V","R2","2,49","19061 – ACAD.BILLARD ST RAPHAEL"]
["CL","LANARI PIERRE","175999D","R4","0,81","19056 – BILLARD CLUB DE NICE"]
["CL","LANDERECTHE PASCAL","181199F","R3","1,39","19007 – BILLARD CLUB BERROIS"]
["CL","LANDOIS DOMINIQUE","179135M","R4","0,44","19055 – ACADEMIE DE BILLARD DE MENTON"]
["CL","LANNURIEN THIERRY","168288X","R2","2,66","19023 – BILLARD CLUB GARDEEN"]
["CL","LAUNAY MICHEL","178352L","R4","0,53","19058 – ACADEMIE DE BILLARD DE BARBOSSI MANDELIEU"]
["CL","LE FAUCHEUR LAURENT","163278B","R3","1,13","19098 – BILLARD CLUB LA FARE"]
["CL","LECOQ ARNAUD","141504M","R3","1,83","19012 – SALON BILLARD CLUB"]
["CL","LEDUCQ MORGAN","105373V","R2","2,73","19014 – BILLARD CLUB AVIGNONNAIS"]
["CL","LEMARTINET ROBERT","110379J","R3","1,22","19019 – BILLARD CLUB DE LA BAIE"]
["CL","LEMESLE FABRICE","022205B","R4","0,81","19017 – BILLARD CLUB PHOCEEN"]
["CL","LESPRIT CLAUDE","179358E","R4","0,7","19019 – BILLARD CLUB DE LA BAIE"]
["CL","LETELLIER ALAIN","176350K","R3","1,12","19090 – BILLARD AMATEUR ROGNAC"]
["CL","LEVISTRE ALAIN","184858H","R3","1,1","19014 – BILLARD CLUB AVIGNONNAIS"]
["NC","LIEGEOIS DOMINIQUE","022209F","R1","2,69","19027 – ACADEMIE DE BILLARD DE BOLLENE"]
["CL","LISI ROGER","146375V","R4","0,88","19007 – BILLARD CLUB BERROIS"]
["CL","LLOBELL CLAIRE","170267Y","R4","0,24","19017 – BILLARD CLUB PHOCEEN"]
["CL","LOSTAO DOMINIQUE","168030R","R4","0,7","19058 – ACADEMIE DE BILLARD DE BARBOSSI MANDELIEU"]
["CL","LUCENET PAUL","162076V","R2","2,13","19009 – CLUB BILLARD ISTREEN"]
["CL","LUNEAU JEAN CLAUDE","186880F","R2","2,14","19023 – BILLARD CLUB GARDEEN"]
["CL","MAGNIER PIERRE","165843P","R4","0,62","19023 – BILLARD CLUB GARDEEN"]
["CL","MALLEVAL GERARD","100910E","R3","1,53","19023 – BILLARD CLUB GARDEEN"]
["CL","MARCEAUX JOSE","020447L","R2","2,47","19059 – BILLARD CLUB ROQUEBRUNOIS"]
["CL","MARCHAND PHILIPPE","164047M","R4","0,94","19001 – S. S. A. B. D AIX EN PROVENCE"]
["CL","MARCHANDISE MORAND JACQUELINE","177467Z","R4","0,21","19025 – BILLARD CLUB SISTERONNAIS"]
["CL","MASSIAS GUY","172680W","R4","0,83","19001 – S. S. A. B. D AIX EN PROVENCE"]
["NC","MATHIEU CLAUDE","129498S","R3","0,81","19098 – BILLARD CLUB LA FARE"]
["CL","MAUDUIT DIDIER","017615N","R3","1,08","19009 – CLUB BILLARD ISTREEN"]
["CL","MAURON BERNARD","149391G","R2","2,12","19023 – BILLARD CLUB GARDEEN"]
["CL","MAYNARD ALEXANDRE","112015H","R3","1,47","19056 – BILLARD CLUB DE NICE"]
["NC","MELLET PIERRE","144802I","R2","1,26","19027 – ACADEMIE DE BILLARD DE BOLLENE"]
["CL","METAIS ALBAN","152604Z","R3","1,65","19006 – BILLARD CLUB CARPENTRASSIEN"]
["CL","MEYER LUC","022260E","R1","4,21","19023 – BILLARD CLUB GARDEEN"]
["CL","MICHEL JACQUES","183513W","R4","0,84","19006 – BILLARD CLUB CARPENTRASSIEN"]
["CL","MILLOT ROBERT","172218T","R3","1,11","19025 – BILLARD CLUB SISTERONNAIS"]
["NC","MOLAND PHILIPPE","022268M","R2","1,67","19061 – ACAD.BILLARD ST RAPHAEL"]
["CL","MONNET JEAN CLAUDE","022271P","R2","2,47","19021 – BILLARD CLUB CAVAILLONNAIS"]
["CL","MONTESINOS GILLES","136279N","R4","0,84","19012 – SALON BILLARD CLUB"]
["CL","MOREELS BERNARD","147624L","R3","1,04","19023 – BILLARD CLUB GARDEEN"]
["CL","MOUSSIER PATRICK","151456B","R3","1,16","19056 – BILLARD CLUB DE NICE"]
["CL","MUNOS JEAN","109063T","R1","3,01","19050 – BILLARD CLUB SAUSSETOIS"]
["CL","MUNOS VINCENT","109708O","R2","2,01","19007 – BILLARD CLUB BERROIS"]
["CL","NABHANE EMILE","166329S","R4","0,84","19006 – BILLARD CLUB CARPENTRASSIEN"]
["NC","NAPOLI SALVATORE","107150E","R3","0,88","19006 – BILLARD CLUB CARPENTRASSIEN"]
["CL","NARDELLI PASCAL","174977S","R3","1,13","19061 – ACAD.BILLARD ST RAPHAEL"]
["CL","NATELLA IDA","154573P","R4","0,46","19056 – BILLARD CLUB DE NICE"]
["CL","NATELLA ROGER","154572N","R3","1,29","19056 – BILLARD CLUB DE NICE"]
["CL","NGUYEN PAUL","183754H","R3","1,05","19055 – ACADEMIE DE BILLARD DE MENTON"]
["CL","NOSSIN MARC","182190H","R4","0,80","19058 – ACADEMIE DE BILLARD DE BARBOSSI MANDELIEU"]
["NC","OLLIVIER DANIEL","020258E","R2","1,81","19009 – CLUB BILLARD ISTREEN"]
["CL","OUDOUX GERARD","128468C","R3","1,04","19023 – BILLARD CLUB GARDEEN"]
["CL","PACZESNY FABRICE","150400D","R2","1,98","19098 – BILLARD CLUB LA FARE"]
["CL","PAU CHRISTINE","177193B","R4","0,39","19025 – BILLARD CLUB SISTERONNAIS"]
["CL","PELLAT FRANCIS","141673Z","R2","2,05","19025 – BILLARD CLUB SISTERONNAIS"]
["CL","PEREZ CHRISTIAN","130773T","R3","1,25","19009 – CLUB BILLARD ISTREEN"]
["CL","PERIS MICHEL","022321N","R4","0,44","19056 – BILLARD CLUB DE NICE"]
["CL","PERRIN LIONEL","181624S","R3","1,08","19023 – BILLARD CLUB GARDEEN"]
["CL","PERTUZON NOLAN","179786V","R4","0,28","19009 – CLUB BILLARD ISTREEN"]
["NC","PETIT (NICE) PHILIPPE","189605S","R3","1,59","19056 – BILLARD CLUB DE NICE"]
["CL","PETIT PHILIPPE","179183P","R4","0,53","19014 – BILLARD CLUB AVIGNONNAIS"]
["CL","PIELIN PASCAL","022330W","N3","5,18","19012 – SALON BILLARD CLUB"]
["CL","PIGNATEL FLORENT","112316W","N3","6,89","19021 – BILLARD CLUB CAVAILLONNAIS"]
["CL","PILAVDJIAN JACQUES","165118B","R4","0,57","19017 – BILLARD CLUB PHOCEEN"]
["CL","PIRO COUDERC MARIE LAURE","177205P","R4","0,23","19025 – BILLARD CLUB SISTERONNAIS"]
["CL","POIRIER DOMINIQUE","108010G","R3","1,07","19061 – ACAD.BILLARD ST RAPHAEL"]
["CL","PORA JEAN PAUL","170697Q","R4","0,88","19009 – CLUB BILLARD ISTREEN"]
["CL","PORTET PATRICK","181316H","R4","0,56","19059 – BILLARD CLUB ROQUEBRUNOIS"]
["CL","POUGIN JEAN FRANCOIS","022346M","R3","1,69","19059 – BILLARD CLUB ROQUEBRUNOIS"]
["CL","POUJOL JEAN PAUL","022347N","R3","1,06","19014 – BILLARD CLUB AVIGNONNAIS"]
["CL","POULAIN FREDERIC","144719D","R2","1,95","19016 – BILLARD CLUB ORANGEOIS"]
["CL","PREVOT GABRIEL","178400N","R4","0,42","19056 – BILLARD CLUB DE NICE"]
["CL","PUICHAULT REMY","172219V","R3","1,47","19025 – BILLARD CLUB SISTERONNAIS"]
["CL","QUEZEL ANDRE","136544S","R3","1,12","19014 – BILLARD CLUB AVIGNONNAIS"]
["CL","RAMOND JEAN MARC","022357X","R2","2,26","19058 – ACADEMIE DE BILLARD DE BARBOSSI MANDELIEU"]
["CL","RAUD DANIEL","161645B","R3","1,44","19098 – BILLARD CLUB LA FARE"]
["CL","RAVENET FRANCIS","157788J","R3","1,34","19059 – BILLARD CLUB ROQUEBRUNOIS"]
["CL","REVALOR MICHEL","119696S","R2",2,"19050 – BILLARD CLUB SAUSSETOIS"]
["CL","RIBOLLA PATRICE","022366G","R1","4,62","19056 – BILLARD CLUB DE NICE"]
["CL","RICHARD GUY","022367H","R1","3,25","19023 – BILLARD CLUB GARDEEN"]
["NC","RIGOLLET PIERRE","023064C","N1","11,66","19025 – BILLARD CLUB SISTERONNAIS"]
["CL","RIVIER PATRICE","170733E","R4","0,79","19017 – BILLARD CLUB PHOCEEN"]
["CL","ROBBE RAYMOND","134183X","R3","1,39","19009 – CLUB BILLARD ISTREEN"]
["CL","ROBERT DIDIER","022450M","N3","6,51","19014 – BILLARD CLUB AVIGNONNAIS"]
["CL","RODRIGUES STEVE","171160T","R4","0,85","19090 – BILLARD AMATEUR ROGNAC"]
["CL","RONSAIN JEAN JACQUES","166175A","R3",1,"19012 – SALON BILLARD CLUB"]
["CL","ROQUES ALAIN","132526E","R4","0,81","19056 – BILLARD CLUB DE NICE"]
["CL","ROUANET CLAUDE","163166E","R2","1,87","19025 – BILLARD CLUB SISTERONNAIS"]
["NC","ROUGON ROBERT","101518O","R1","2,78","19007 – BILLARD CLUB BERROIS"]
["CL","RYCKELYNCK LAURENT","121397D","R2","2,58","19006 – BILLARD CLUB CARPENTRASSIEN"]
["NC","SALES THIERRY","175174G","R3","0,79","19061 – ACAD.BILLARD ST RAPHAEL"]
["CL","SARRALDE LOUIS","014138U","R4","0,73","19021 – BILLARD CLUB CAVAILLONNAIS"]
["CL","SAVI OLIVIER","186195L","R3","1,07","19050 – BILLARD CLUB SAUSSETOIS"]
["CL","SAVOIA PATRICK","113222S","R3","1,07","19050 – BILLARD CLUB SAUSSETOIS"]
["CL","SCHAEFER ERNEST ROBERT","149694L","R3","1,11","19006 – BILLARD CLUB CARPENTRASSIEN"]
["CL","SCHEKLER JEAN FLORIAN","022399N","R3","1,14","19061 – ACAD.BILLARD ST RAPHAEL"]
["CL","SCHEMBRI BERNARD","187494Y","R4","0,55","19017 – BILLARD CLUB PHOCEEN"]
["CL","SCHENK ROBERT","136540O","R4","0,62","19056 – BILLARD CLUB DE NICE"]
["CL","SEEMANN MICHAEL","182883L","R4","0,76","19025 – BILLARD CLUB SISTERONNAIS"]
["CL","SICARD GEORGES","163238H","R3","1,32","19025 – BILLARD CLUB SISTERONNAIS"]
["NC","SIEGLER JEAN PIERRE","168834Q","N3","3,88","19006 – BILLARD CLUB CARPENTRASSIEN"]
["NC","SIMON GERARD","010203L","R2","1,65","19014 – BILLARD CLUB AVIGNONNAIS"]
["NC","SINANIAN JEAN PAUL","022412A","R1","1,3","19017 – BILLARD CLUB PHOCEEN"]
["NC","SOLTANI OMAR","103578U","R2","1,73","19106 – BILLARD CLUB VINONNAIS"]
["CL","SPINNLER JEAN LUC","165931K","R3","1,14","19027 – ACADEMIE DE BILLARD DE BOLLENE"]
["CL","STEINMANN SEBASTIEN","020790Q","R2","1,92","19061 – ACAD.BILLARD ST RAPHAEL"]
["CL","SUEUR PASCAL","165039Q","R3","0,91","19058 – ACADEMIE DE BILLARD DE BARBOSSI MANDELIEU"]
["CL","TARDIEUX LUC","022429R","R2","2,29","19098 – BILLARD CLUB LA FARE"]
["CL","TARDY JEAN CLAUDE","133907H","R4","0,64","19014 – BILLARD CLUB AVIGNONNAIS"]
["CL","TEYSSIER SERGE","132938A","R2","2,07","19007 – BILLARD CLUB BERROIS"]
["CL","THEVENET JEAN CLAUDE","014232K","R3","1,11","19025 – BILLARD CLUB SISTERONNAIS"]
["CL","THIBOUT HERVE","186654K","R4","0,58","19017 – BILLARD CLUB PHOCEEN"]
["CL","THOMAS PHILIPPE","168687F","R4","0,76","19023 – BILLARD CLUB GARDEEN"]
["CL","TIMSIT SERGE","148252T","R4","0,44","19023 – BILLARD CLUB GARDEEN"]
["CL","TONNELIER JEAN PIERRE","132786E","R3","1,22","19106 – BILLARD CLUB VINONNAIS"]
["CL","TORCHIO GILBERT","184495N","R4","0,92","19017 – BILLARD CLUB PHOCEEN"]
["CL","TORES JEAN LUC","135554Q","R1","2,80","19009 – CLUB BILLARD ISTREEN"]
["CL","TURPIN JEAN","172679V","R3","1,08","19001 – S. S. A. B. D AIX EN PROVENCE"]
["CL","VALVERDE JEAN YVES","153163G","R3","1,04","19023 – BILLARD CLUB GARDEEN"]
["CL","VASSE JEAN PIERRE","129880K","R4","0,69","19019 – BILLARD CLUB DE LA BAIE"]
["CL","VAUTRIN JEAN","022459V","R2","2,04","19056 – BILLARD CLUB DE NICE"]
["CL","VICTOR DANIEL","147412F","R4","0,78","19019 – BILLARD CLUB DE LA BAIE"]
["CL","VIDAL RENE BERNARD","181240A","R2","1,86","19106 – BILLARD CLUB VINONNAIS"]
["CL","VIERA MAIA ARLINDO","148051A","R3","1,46","19061 – ACAD.BILLARD ST RAPHAEL"]
["CL","VIOU GERARD","147607S","R2","2,52","19098 – BILLARD CLUB LA FARE"]
["CL","VISCONTI JEAN","138731V","R3","0,98","19090 – BILLARD AMATEUR ROGNAC"]
["CL","VITALIEN PIERRE","119674W","R2","2,26","19016 – BILLARD CLUB ORANGEOIS"]
["CL","VIVALDI ANDRE","022476M","N2","9,25","19106 – BILLARD CLUB VINONNAIS"]
["CL","VUILLAUME JEAN CLAUDE","154571M","R3","1,02","19056 – BILLARD CLUB DE NICE"]
["CL","WALLON PATRICK","176943E","R4","0,51","19027 – ACADEMIE DE BILLARD DE BOLLENE"]
["CL","WILLAME PHILIPPE","152534Y","R4","0,7","19001 – S. S. A. B. D AIX EN PROVENCE"]
["CL","XUEREF JEAN MARIE","152049W","R2","2,26","19019 – BILLARD CLUB DE LA BAIE"]
["CL","YVOZ ALAIN","184288N","R3","1,63","19006 – BILLARD CLUB CARPENTRASSIEN"]
["CL","ZANDRINO ALAIN","134311V","R3","1,32","19007 – BILLARD CLUB BERROIS"]
["NC","ZOPPI AIME","144788U","R1","2,7","19023 – BILLARD CLUB GARDEEN"]
["CL","ZOPPI CEDRIC","125457H","M","71,42","19023 – BILLARD CLUB GARDEEN"]

{"sheet":"BOISSON_F","index":5,"n_rows":28,"n_cols":6,"rows_kept":28,"cut":false,"hidden":true,"merged":[[0,0,0,5]]}
["BILLARD CLUB"]
["Nom - Prénom","EAU","BOISSONS","REPAS","TOTAL","CLUB"]
[{"$f":"'SaisieJoueurs Finale'!D18","v":0}]
[{"$f":"'SaisieJoueurs Finale'!D19","v":0}]
[{"$f":"'SaisieJoueurs Finale'!D20","v":0}]
[{"$f":"'SaisieJoueurs Finale'!D21","v":0}]
[{"$f":"'SaisieJoueurs Finale'!D22","v":0}]
[{"$f":"'SaisieJoueurs Finale'!D23","v":0}]
[{"$f":"'SaisieJoueurs Finale'!D24","v":0}]
[{"$f":"'SaisieJoueurs Finale'!D25","v":0}]
[{"$f":"'SaisieJoueurs Finale'!D26","v":0}]
[{"$f":"'SaisieJoueurs Finale'!D27","v":0}]
[{"$f":"'SaisieJoueurs Finale'!D28","v":0}]
[{"$f":"'SaisieJoueurs Finale'!D29","v":0}]
[{"$f":"'SaisieJoueurs Finale'!D30","v":0}]
[{"$f":"'SaisieJoueurs Finale'!D31","v":0}]
[{"$f":"'SaisieJoueurs Finale'!D32","v":0}]
[{"$f":"'SaisieJoueurs Finale'!D33","v":0}]
[{"$f":"'SaisieJoueurs Finale'!D34","v":0}]
[{"$f":"'SaisieJoueurs Finale'!D35","v":0}]
[{"$f":"'SaisieJoueurs Finale'!D36","v":0}]
[{"$f":"'SaisieJoueurs Finale'!D37","v":0}]
[{"$f":"'SaisieJoueurs Finale'!D38","v":0}]
[{"$f":"'SaisieJoueurs Finale'!D39","v":0}]
[{"$f":"'SaisieJoueurs Finale'!D40","v":0}]
[{"$f":"'SaisieJoueurs Finale'!D41","v":0}]
[{"$f":"'SaisieJoueurs Finale'!D42","v":0}]
[{"$f":"'SaisieJoueurs Finale'!D43","v":0}]

{"sheet":"3BANDES","index":6,"n_rows":247,"n_cols":8,"rows_kept":247,"cut":false,"hidden":true,"merged":[[0,0,1,5]]}
["3BANDES",null,null,null,null,null,"Classification\n FFB-e2i",{"$f":"TODAY()","v":"2026-01-18"}]
[]
["NC-CL","NOM","N° LICENCE","CAT","MG","CLUB"]
["NC","ABAD YANNICK","106287Z","N2","0,451","19002 – SPORT AMAT.DE BILLARD MARSEILLAIS"]
["CL","ABEAUZIT JACQUES","106902Q","N3","0,375","19014 – BILLARD CLUB AVIGNONNAIS"]
["NC","AKNIN GABRIEL","021810W","N2","0,479","19027 – ACADEMIE DE BILLARD DE BOLLENE"]
["CL","ALIBERT BRUNO","151459E","R2","0,155","19056 – BILLARD CLUB DE NICE"]
["CL","ALVAREZ PHILIPPE","159130S","N3","0,362","19056 – BILLARD CLUB DE NICE"]
["CL","AMOUROUX LUC","155531F","R2","0,189","19023 – BILLARD CLUB GARDEEN"]
["NC","ANGUE PATRICK","021819F","N1","0,654","19056 – BILLARD CLUB DE NICE"]
["CL","ANNESTAY JACQUES","021820G","R1","0,263","19025 – BILLARD CLUB SISTERONNAIS"]
["CL","ANTONIN ALAIN","021821H","N3","0,404","19021 – BILLARD CLUB CAVAILLONNAIS"]
["CL","ARNAUD JEAN","021827N","N2","0,336","19014 – BILLARD CLUB AVIGNONNAIS"]
["CL","ARNOUX LAURENT","180272Y","R2","0,191","19058 – ACADEMIE DE BILLARD DE BARBOSSI MANDELIEU"]
["CL","AUBERT ROUECHE LYDIA","148204R","R2","0,237","19106 – BILLARD CLUB VINONNAIS"]
["NC","AZERAD HUGO","012464K","N1","0,615","19058 – ACADEMIE DE BILLARD DE BARBOSSI MANDELIEU"]
["CL","AZOULAY ALAIN","021839Z","N2","0,546","19017 – BILLARD CLUB PHOCEEN"]
["NC","BADINIER MARC","189187N","R2","0,165","19058 – ACADEMIE DE BILLARD DE BARBOSSI MANDELIEU"]
["CL","BAILLON JEAN","115304U","R1","0,23","19058 – ACADEMIE DE BILLARD DE BARBOSSI MANDELIEU"]
["NC","BALESTRI MAURICE","153554G","R1","0,199","19058 – ACADEMIE DE BILLARD DE BARBOSSI MANDELIEU"]
["CL","BALLIGAND SERGE","023184S","N3","0,287","19059 – BILLARD CLUB ROQUEBRUNOIS"]
["CL","BANO SERGE","149693K","R2","0,186","19001 – S. S. A. B. D AIX EN PROVENCE"]
["NC","BARBANNEAU FREDERIC","109917P","N1","0,569","19012 – SALON BILLARD CLUB"]
["CL","BASELGA PASCAL","135538A","R1","0,296","19093 – AMERICAN CLUB LOUIS XI"]
["CL","BASSOUL JEAN MARIE","103568K","R2","0,173","19006 – BILLARD CLUB CARPENTRASSIEN"]
["NC","BAUDOUX JEAN-CLAUDE","164877P","R2","0,160","19058 – ACADEMIE DE BILLARD DE BARBOSSI MANDELIEU"]
["NC","BAUTZMANN DIDIER","021859T","N3","0,425","19017 – BILLARD CLUB PHOCEEN"]
["CL","BENIER PATRICK","159238K","R1","0,223","19023 – BILLARD CLUB GARDEEN"]
["CL","BERNAT JEAN PIERRE","125945B","R1","0,249","19023 – BILLARD CLUB GARDEEN"]
["CL","BETTONI GILLES","180334Q","R2","0,194","19058 – ACADEMIE DE BILLARD DE BARBOSSI MANDELIEU"]
["CL","BIARD ANDRE","159202W","R2","0,147","19009 – CLUB BILLARD ISTREEN"]
["CL","BILDIK MEHMET","141828Y","N3","0,367","19006 – BILLARD CLUB CARPENTRASSIEN"]
["CL","BLANC SANTELLI ERIC","179744Z","R2","0,123","19009 – CLUB BILLARD ISTREEN"]
["CL","BOFFA BERNARD","016248Y","R2","0,192","19023 – BILLARD CLUB GARDEEN"]
["CL","BONNEMAISON DENIS","150422C","R1","0,235","19009 – CLUB BILLARD ISTREEN"]
["NC","BOULANT CLAUDE","155529D","R1","0,209","19019 – BILLARD CLUB DE LA BAIE"]
["CL","BOURDELLES LAURENT","021911T","N3","0,367","19055 – ACADEMIE DE BILLARD DE MENTON"]
["NC","BOUTILLE NICOLAS","122662U","N3","0,337","19027 – ACADEMIE DE BILLARD DE BOLLENE"]
["CL","BOVET MICHEL","149613Y","R2","0,13","19059 – BILLARD CLUB ROQUEBRUNOIS"]
["CL","BRAYER DENIS","016411F","N3","0,398","19008 – BRITISH BILLARD CLUB AVIGNON"]
["NC","BREDAT RENE","021918A","N3","0,314","19025 – BILLARD CLUB SISTERONNAIS"]
["CL","BREPSON MARTIAL","152345S","R1","0,325","19058 – ACADEMIE DE BILLARD DE BARBOSSI MANDELIEU"]
["NC","BRIOIT DOMINIQUE","021920C","N3","0,215","19055 – ACADEMIE DE BILLARD DE MENTON"]
["CL","BROUILLET PATRICE","188527W","N2","0,527","19017 – BILLARD CLUB PHOCEEN"]
["CL","BURELLI GEORGES","155679R","R2","0,136","19050 – BILLARD CLUB SAUSSETOIS"]
["CL","CAILLAUD DANIEL","144785R","R1","0,251","19023 – BILLARD CLUB GARDEEN"]
["CL","CALDERON LUC","021938U","N3","0,354","19009 – CLUB BILLARD ISTREEN"]
["CL","CAO HUU TUOI","021944A","R1","0,388","19098 – BILLARD CLUB LA FARE"]
["CL","CARRILLON MICHEL","141066Q","R1","0,248","19001 – S. S. A. B. D AIX EN PROVENCE"]
["CL","CARRION JEAN PHILIPPE","130701Z","N3","0,453","19058 – ACADEMIE DE BILLARD DE BARBOSSI MANDELIEU"]
["CL","CATONI LAURENT","021955L","N2","0,421","19014 – BILLARD CLUB AVIGNONNAIS"]
["NC","CHABASSIERE DOMINIQUE","173622V","N3","0,450","19098 – BILLARD CLUB LA FARE"]
["CL","CHABOUD JACQUES","161620Z","R2","0,143","19023 – BILLARD CLUB GARDEEN"]
["CL","CHAIX JOEL","021960Q","R1","0,332","19025 – BILLARD CLUB SISTERONNAIS"]
["CL","CHARBAUT CLAUDE","122456W","R1","0,219","19059 – BILLARD CLUB ROQUEBRUNOIS"]
["NC","CHARBIT JEAN MARC","021967X","N2","0,754","19056 – BILLARD CLUB DE NICE"]
["CL","CHASTAN GEORGES","012782Q","N3","0,308","19021 – BILLARD CLUB CAVAILLONNAIS"]
["CL","CHEURF SELIMANE","187031V","R2","0,156","19090 – BILLARD AMATEUR ROGNAC"]
["NC","CHUZEVILLE GILLES","108854S","N2","0,41","19025 – BILLARD CLUB SISTERONNAIS"]
["CL","CLEMENT GERARD","129497R","R1","0,264","19050 – BILLARD CLUB SAUSSETOIS"]
["CL","COHEN RICHARD","012827J","R1","0,268","19058 – ACADEMIE DE BILLARD DE BARBOSSI MANDELIEU"]
["CL","CORTES JEAN LOUIS","187055W","R1","0,249","19009 – CLUB BILLARD ISTREEN"]
["CL","COSTE PHILIPPE","125938U","N3","0,306","19061 – ACAD.BILLARD ST RAPHAEL"]
["NC","COUPET PHILIPPE","119932U","N1","0,679","19023 – BILLARD CLUB GARDEEN"]
["CL","COURBOT LUDWIG","016838Q","N3","0,381","19001 – S. S. A. B. D AIX EN PROVENCE"]
["CL","CREUZOT PATRICE","021996A","N3","0,428","19017 – BILLARD CLUB PHOCEEN"]
["CL","CUADRADO HECTOR","142586C","N2","0,477","19021 – BILLARD CLUB CAVAILLONNAIS"]
["NC","DAMON GERARD","022002G","N3","0,261","19056 – BILLARD CLUB DE NICE"]
["NC","DAMON OLIVIER","022003H","N2","0,528","19012 – SALON BILLARD CLUB"]
["NC","DAUPHIN MICHEL","014828I","N1","0,705","19014 – BILLARD CLUB AVIGNONNAIS"]
["NC","DE HAAN PATRICK","140113Z","N1","0,55","19023 – BILLARD CLUB GARDEEN"]
["NC","DE LOOSE FELIX","163348C","N3","0,366","19106 – BILLARD CLUB VINONNAIS"]
["CL","DEDON RICHARD","177233V","R1","0,163","19007 – BILLARD CLUB BERROIS"]
["CL","DEFFE MICHEL","119889D","R1","0,26","19068 – BILLARD CLUB ARLESIEN"]
["CL","DEFRETIN JOEL","020635R","N3","0,475","19023 – BILLARD CLUB GARDEEN"]
["NC","DELBEY JULIEN","112719J","N3","0,426","19012 – SALON BILLARD CLUB"]
["NC","DHAINAUT JEAN FRANCOIS","022033L","N2","0,498","19056 – BILLARD CLUB DE NICE"]
["CL","DI CINTIO BENJAMIN","159059Q","R1","0,226","19014 – BILLARD CLUB AVIGNONNAIS"]
["NC","DI CRESCENZO PIERRE","109528Q","N3","0,273","19017 – BILLARD CLUB PHOCEEN"]
["NC","DONABEDIAN DANIEL","142363N","R1","0,268","19019 – BILLARD CLUB DE LA BAIE"]
["CL","DOS SANTOS FRANCIS","022039R","N3","0,546","19050 – BILLARD CLUB SAUSSETOIS"]
["CL","DOUSSET RENE","174348J","R2","0,087","19023 – BILLARD CLUB GARDEEN"]
["NC","DUBREUIL FRANCK","013022W","N3","0,518","19061 – ACAD.BILLARD ST RAPHAEL"]
["CL","DUCA ALFONSO","154651Z","R2","0,107","19090 – BILLARD AMATEUR ROGNAC"]
["CL","DUPUY MICHEL","011522E","R1","0,22","19058 – ACADEMIE DE BILLARD DE BARBOSSI MANDELIEU"]
["NC","DUSSAULE PIERRE","102285B","N3","0,342","19027 – ACADEMIE DE BILLARD DE BOLLENE"]
["CL","DUVAL THIERRY","175172E","R1","0,244","19061 – ACAD.BILLARD ST RAPHAEL"]
["CL","EL MEGHARY MAROUANE","140809T","N2","0,511","19002 – SPORT AMAT.DE BILLARD MARSEILLAIS"]
["NC","ELEOUET DANIEL","163467G","N3","0,340","19006 – BILLARD CLUB CARPENTRASSIEN"]
["CL","ESTABLIER PIERRE","147622J","R2","0,163","19023 – BILLARD CLUB GARDEEN"]
["NC","FAIVRE D ARCIER PATRICK","022061N","N2","0,467","19056 – BILLARD CLUB DE NICE"]
["CL","FARINA GENNARO","176105T","R2","0,197","19061 – ACAD.BILLARD ST RAPHAEL"]
["NC","FERHAT ACHOUR","129036Y","R1","0,326","19023 – BILLARD CLUB GARDEEN"]
["CL","FERNANDEZ MARC","013111H","N3","0,477","19021 – BILLARD CLUB CAVAILLONNAIS"]
["CL","FERRO PHILIPPE","122658Q","R1","0,196","19009 – CLUB BILLARD ISTREEN"]
["CL","FLEURIOT PATRICK","173138T","R2","0,131","19014 – BILLARD CLUB AVIGNONNAIS"]
["NC","FONTAINE DANY","101139Z","N3","0,501","19023 – BILLARD CLUB GARDEEN"]
["NC","FRANCO ALBERT","022084K","N3","0,445","19019 – BILLARD CLUB DE LA BAIE"]
["CL","FRANCO HENRY","118688Y","N3","0,387","19055 – ACADEMIE DE BILLARD DE MENTON"]
["CL","FROMEYER CORINNE","167290M","R2","0,121","19058 – ACADEMIE DE BILLARD DE BARBOSSI MANDELIEU"]
["NC","GALLUCCI STEPHANE","022091R","N2","0,671","19056 – BILLARD CLUB DE NICE"]
["CL","GAMEN ANDRE","147288W","R2","0,023","19023 – BILLARD CLUB GARDEEN"]
["NC","GANTOIS GILLES","022092S","N2","0,385","19016 – BILLARD CLUB ORANGEOIS"]
["CL","GATTINO MARCO","147262S","R2","0,202","19055 – ACADEMIE DE BILLARD DE MENTON"]
["CL","GATTO ANTOINE","022097X","R2","0,173","19050 – BILLARD CLUB SAUSSETOIS"]
["CL","GAVALDA PIERRE","116278G","N3","0,483","19006 – BILLARD CLUB CARPENTRASSIEN"]
["CL","GAYRAUD FRANCOISE","143227T","R2","0,088","19056 – BILLARD CLUB DE NICE"]
["CL","GELAS BERNARD","163279C","R2","0,193","19098 – BILLARD CLUB LA FARE"]
["CL","GHU GERARD","101282M","R1","0,215","19016 – BILLARD CLUB ORANGEOIS"]
["CL","GIBARROUX CHRISTOPHE","118661X","R1","0,291","19001 – S. S. A. B. D AIX EN PROVENCE"]
["NC","GIFFARD PHILIPPE","149390F","N2","0,421","19023 – BILLARD CLUB GARDEEN"]
["NC","GIOVANNETTI  DAMIEN","022115P","R1","0,156","19050 – BILLARD CLUB SAUSSETOIS"]
["CL","GIRARD JACQUES","129718E","R1","0,281","19058 – ACADEMIE DE BILLARD DE BARBOSSI MANDELIEU"]
["NC","GOAILLARD JEAN MARC","181920P","N3","0,371","19017 – BILLARD CLUB PHOCEEN"]
["CL","GODARD PASCAL","157852D","R1","0,368","19006 – BILLARD CLUB CARPENTRASSIEN"]
["NC","GOUBAUX ALAIN","022127B","R1","0,320","19056 – BILLARD CLUB DE NICE"]
["NC","GOURSEAUD YVES","104054C","N3","0,326","19016 – BILLARD CLUB ORANGEOIS"]
["CL","GREGOIRE JEAN CLAUDE","149576H","R2","0,186","19016 – BILLARD CLUB ORANGEOIS"]
["NC","GUERINEAU BRUNO","144796C","N3","0,339","19021 – BILLARD CLUB CAVAILLONNAIS"]
["CL","GUEUG PIERRE","104475H","R1","0,23","19056 – BILLARD CLUB DE NICE"]
["CL","GUIBERT JEAN MARIE","022137L","R1","0,263","19009 – CLUB BILLARD ISTREEN"]
["CL","HAHN DANIEL","011966G","R1","0,23","19017 – BILLARD CLUB PHOCEEN"]
["CL","HAROUTUNIAN PIERRE","022141P","R2","0,171","19050 – BILLARD CLUB SAUSSETOIS"]
["CL","HAZE PATRICK","137523J","R1","0,245","19021 – BILLARD CLUB CAVAILLONNAIS"]
["CL","HERBER DOMINIQUE","159610P","R1","0,284","19027 – ACADEMIE DE BILLARD DE BOLLENE"]
["CL","HERREMAN SERGE","119933V","R1","0,262","19023 – BILLARD CLUB GARDEEN"]
["NC","HEURTAULT JACKY","137004K","R1","0,251","19012 – SALON BILLARD CLUB"]
["CL","HUGUET PATRICK","172086A","N2","0,496","19017 – BILLARD CLUB PHOCEEN"]
["CL","IDJERI GILBERT","172214P","R1","0,324","19050 – BILLARD CLUB SAUSSETOIS"]
["CL","JAMET PIERRE","179136N","R2","0,136","19055 – ACADEMIE DE BILLARD DE MENTON"]
["CL","JIMENEZ RICARDO","109065V","N3","0,345","19055 – ACADEMIE DE BILLARD DE MENTON"]
["CL","JONNARD FREDERIC","120814S","N2","0,51","19023 – BILLARD CLUB GARDEEN"]
["CL","JUDALET FRANCOIS","190344W","N2","0,541","19019 – BILLARD CLUB DE LA BAIE"]
["NC","JUMEL RENE","162905W","R1","0,212","19027 – ACADEMIE DE BILLARD DE BOLLENE"]
["CL","KOSKACH JEAN PAUL","022173V","N3","0,384","19017 – BILLARD CLUB PHOCEEN"]
["NC","LACOSTE BRUNO","147195V","N2","0,419","19061 – ACAD.BILLARD ST RAPHAEL"]
["NC","LANDE GERARD","016084Q","N3","0,338","19014 – BILLARD CLUB AVIGNONNAIS"]
["CL","LANDERECTHE PASCAL","181199F","R1","0,279","19007 – BILLARD CLUB BERROIS"]
["CL","LANNURIEN THIERRY","168288X","N3","0,361","19023 – BILLARD CLUB GARDEEN"]
["CL","LECOQ ARNAUD","141504M","N3","0,341","19012 – SALON BILLARD CLUB"]
["NC","LEDUCQ MORGAN","105373V","N2","0,743","19014 – BILLARD CLUB AVIGNONNAIS"]
["NC","LEFAUX JEAN JACQUES","117411V","N3","0,240","19025 – BILLARD CLUB SISTERONNAIS"]
["CL","LEMARTINET ROBERT","110379J","R1","0,252","19019 – BILLARD CLUB DE LA BAIE"]
["NC","LEMIERE JEAN NOEL","104233Z","N2","0,478","19023 – BILLARD CLUB GARDEEN"]
["CL","LETELLIER ALAIN","176350K","R2","0,16","19090 – BILLARD AMATEUR ROGNAC"]
["CL","LIOU THAI HUNG","122673F","N2","0,673","19061 – ACAD.BILLARD ST RAPHAEL"]
["CL","LISI ROGER","146375V","R2","0,154","19007 – BILLARD CLUB BERROIS"]
["CL","LOCKS TIMOTHY","174810L","R2","0,157","19025 – BILLARD CLUB SISTERONNAIS"]
["NC","LUCENET PAUL","162076V","R1","0,179","19009 – CLUB BILLARD ISTREEN"]
["CL","LUNEAU JEAN CLAUDE","186880F","N3","0,335","19023 – BILLARD CLUB GARDEEN"]
["CL","MACQUET PATRICK","022223T","N1","0,761","19056 – BILLARD CLUB DE NICE"]
["CL","MAGNIER PIERRE","165843P","R2","0,120","19023 – BILLARD CLUB GARDEEN"]
["NC","MARCIANO GEORGES","108280Q","N3","0,279","19058 – ACADEMIE DE BILLARD DE BARBOSSI MANDELIEU"]
["NC","MASSERAN PHILIPPE","103581X","N2","0,679","19058 – ACADEMIE DE BILLARD DE BARBOSSI MANDELIEU"]
["CL","MASSIAS GUY","172680W","R2","0,186","19001 – S. S. A. B. D AIX EN PROVENCE"]
["NC","MASSOT SEBASTIEN","159674J","R1","0,399","19025 – BILLARD CLUB SISTERONNAIS"]
["CL","MATHIEU CLAUDE","129498S","R1","0,234","19098 – BILLARD CLUB LA FARE"]
["CL","MAUDUIT DIDIER","017615N","R1","0,215","19009 – CLUB BILLARD ISTREEN"]
["NC","MAURON BERNARD","149391G","N3","0,222","19023 – BILLARD CLUB GARDEEN"]
["CL","METAIS ALBAN","152604Z","R1","0,273","19006 – BILLARD CLUB CARPENTRASSIEN"]
["CL","MILLOT ROBERT","172218T","R2","0,182","19025 – BILLARD CLUB SISTERONNAIS"]
["CL","MOGLIA EMILE","022266K","N3","0,349","19014 – BILLARD CLUB AVIGNONNAIS"]
["CL","MOLAND PHILIPPE","022268M","R1","0,27","19061 – ACAD.BILLARD ST RAPHAEL"]
["CL","MONNET JEAN CLAUDE","022271P","N3","0,471","19021 – BILLARD CLUB CAVAILLONNAIS"]
["CL","MOREELS BERNARD","147624L","R2","0,147","19023 – BILLARD CLUB GARDEEN"]
["CL","MOUSSIER PATRICK","151456B","R2","0,121","19056 – BILLARD CLUB DE NICE"]
["CL","MUNOS JEAN","109063T","N3","0,451","19050 – BILLARD CLUB SAUSSETOIS"]
["CL","MUNOS VINCENT","109708O","N3","0,363","19007 – BILLARD CLUB BERROIS"]
["CL","MUNOZ CHRISTIAN","022284C","N3","0,423","19098 – BILLARD CLUB LA FARE"]
["CL","N GUYEN NGA","132351L","N3","0,477","19056 – BILLARD CLUB DE NICE"]
["CL","N GUYEN VAN DUC MAX","141788K","R1","0,279","19007 – BILLARD CLUB BERROIS"]
["CL","NABHANE EMILE","166329S","R2","0,136","19006 – BILLARD CLUB CARPENTRASSIEN"]
["CL","NASICA PATRICK","107263N","N3","0,535","19014 – BILLARD CLUB AVIGNONNAIS"]
["CL","NGUYEN PAUL","183754H","R1","0,255","19055 – ACADEMIE DE BILLARD DE MENTON"]
["CL","OLLIVIER DANIEL","020258E","R1","0,254","19009 – CLUB BILLARD ISTREEN"]
["CL","OUDOUX GERARD","128468C","R2","0,206","19023 – BILLARD CLUB GARDEEN"]
["CL","PACZESNY FABRICE","150400D","R1","0,263","19098 – BILLARD CLUB LA FARE"]
["CL","PELLAT FRANCIS","141673Z","R1","0,193","19025 – BILLARD CLUB SISTERONNAIS"]
["NC","PEREIRA CHARLES","013896M","N1","0,595","19023 – BILLARD CLUB GARDEEN"]
["CL","PEREZ CHRISTIAN","130773T","R2","0,183","19009 – CLUB BILLARD ISTREEN"]
["CL","PERIS MICHEL","022321N","R2","0,096","19056 – BILLARD CLUB DE NICE"]
["CL","PETIT PHILIPPE","179183P","R2","0,191","19014 – BILLARD CLUB AVIGNONNAIS"]
["NC","PIELIN PASCAL","022330W","N3","0,505","19012 – SALON BILLARD CLUB"]
["NC","PIGNATEL FLORENT","112316W","N2","0,57","19021 – BILLARD CLUB CAVAILLONNAIS"]
["CL","PILAVDJIAN JACQUES","165118B","R1","0,247","19017 – BILLARD CLUB PHOCEEN"]
["CL","PINARD PATRICE","105404A","N1","0,711","19012 – SALON BILLARD CLUB"]
["NC","PINNA ALAIN","022332Y","N1","0,527","19017 – BILLARD CLUB PHOCEEN"]
["NC","POIRIER DOMINIQUE","108010G","R1","0,227","19061 – ACAD.BILLARD ST RAPHAEL"]
["CL","PORA JEAN PAUL","170697Q","R1","0,249","19009 – CLUB BILLARD ISTREEN"]
["CL","PORTET PATRICK","181316H","R2","0,131","19059 – BILLARD CLUB ROQUEBRUNOIS"]
["NC","POUGIN JEAN FRANCOIS","022346M","R1","0,200","19059 – BILLARD CLUB ROQUEBRUNOIS"]
["NC","POUJOL JEAN PAUL","022347N","R1","0,192","19014 – BILLARD CLUB AVIGNONNAIS"]
["NC","POULAIN FREDERIC","144719D","R1","0,201","19016 – BILLARD CLUB ORANGEOIS"]
["CL","POZNANSKI JEAN MICHEL","022349P","N3","0,475","19012 – SALON BILLARD CLUB"]
["CL","RAMOND JEAN MARC","022357X","R1","0,237","19058 – ACADEMIE DE BILLARD DE BARBOSSI MANDELIEU"]
["CL","RANC ALAIN","136205R","R1","0,255","19027 – ACADEMIE DE BILLARD DE BOLLENE"]
["NC","RAVENET FRANCIS","147788J","R1","0,200","19059 – BILLARD CLUB ROQUEBRUNOIS"]
["CL","REVALOR MICHEL","119696S","R2","0,15","19050 – BILLARD CLUB SAUSSETOIS"]
["CL","RICHARD GUY","022367H","N3","0,345","19023 – BILLARD CLUB GARDEEN"]
["CL","RIGNOLS PHILIPPE","022372M","N3","0,442","19021 – BILLARD CLUB CAVAILLONNAIS"]
["CL","RIHANI ANDRE","169613M","R2","0,086","19058 – ACADEMIE DE BILLARD DE BARBOSSI MANDELIEU"]
["NC","ROBBE RAYMOND","134183X","N3","0,305","19009 – CLUB BILLARD ISTREEN"]
["NC","ROBERT DIDIER","022450M","N2","0,458","19014 – BILLARD CLUB AVIGNONNAIS"]
["CL","RONSAIN JEAN JACQUES","166175A","R1","0,200","19012 – SALON BILLARD CLUB"]
["NC","ROUANET CLAUDE","163166E","N3","0,314","19025 – BILLARD CLUB SISTERONNAIS"]
["NC","ROUGON ROBERT","101518O","N3","0,343","19007 – BILLARD CLUB BERROIS"]
["CL","RYCKELYNCK LAURENT","121397D","R2","0,179","19006 – BILLARD CLUB CARPENTRASSIEN"]
["NC","SALAMA ALAIN","136546U","N3","0,277","19021 – BILLARD CLUB CAVAILLONNAIS"]
["NC","SALES THIERRY","175174G","R1","0,306","19061 – ACAD.BILLARD ST RAPHAEL"]
["CL","SANTIAGO JEAN JOSEPH","022391F","N2","0,513","19050 – BILLARD CLUB SAUSSETOIS"]
["CL","SARRALDE LOUIS","014138U","R1","0,215","19021 – BILLARD CLUB CAVAILLONNAIS"]
["CL","SAVI OLIVIER","186195L","R1","0,216","19050 – BILLARD CLUB SAUSSETOIS"]
["CL","SAVOIA PATRICK","113222S","R1","0,32","19050 – BILLARD CLUB SAUSSETOIS"]
["CL","SCHAEFER ERNEST ROBERT","149694L","R2","0,15","19006 – BILLARD CLUB CARPENTRASSIEN"]
["CL","SICARD GEORGES","163238H","R2","0,172","19025 – BILLARD CLUB SISTERONNAIS"]
["NC","SIMON GERARD","010203L","N3","0,390","19014 – BILLARD CLUB AVIGNONNAIS"]
["CL","SINANIAN JEAN PAUL","022412A","N3","0,425","19017 – BILLARD CLUB PHOCEEN"]
["NC","SOLTANI OMAR","103578U","N3","0,247","19106 – BILLARD CLUB VINONNAIS"]
["NC","STEINMANN SEBASTIEN","020790Q","R1","0,381","19061 – ACAD.BILLARD ST RAPHAEL"]
["CL","SUEUR PASCAL","165039Q","R1","0,272","19058 – ACADEMIE DE BILLARD DE BARBOSSI MANDELIEU"]
["NC","TARDIEUX LUC","022429R","R1","0,204","19098 – BILLARD CLUB LA FARE"]
["CL","TARDY JEAN CLAUDE","133907H","R2","0,173","19014 – BILLARD CLUB AVIGNONNAIS"]
["CL","TARDY PIERRE YVES","143024Y","R1","0,301","19058 – ACADEMIE DE BILLARD DE BARBOSSI MANDELIEU"]
["CL","TEYSSIER SERGE","132938A","R2","0,179","19007 – BILLARD CLUB BERROIS"]
["CL","TIMSIT SERGE","148252T","R2","0,071","19023 – BILLARD CLUB GARDEEN"]
["NC","TONOLI PASCAL","022438A","N3","0,328","19059 – BILLARD CLUB ROQUEBRUNOIS"]
["CL","TORES JEAN LUC","135554Q","R1","0,256","19009 – CLUB BILLARD ISTREEN"]
["NC","TOURE MADOU","014256I","N2","0,497","19002 – SPORT AMAT.DE BILLARD MARSEILLAIS"]
["CL","TRAN DINH VUONG","131929F","N2","0,504","19002 – SPORT AMAT.DE BILLARD MARSEILLAIS"]
["CL","TRAN KEVIN","022443F","N3","0,375","19002 – SPORT AMAT.DE BILLARD MARSEILLAIS"]
["NC","UNVER BURHAN","187563Y","N1","0,709","19002 – SPORT AMAT.DE BILLARD MARSEILLAIS"]
["CL","VALVERDE JEAN YVES","153163G","R2","0,200","19023 – BILLARD CLUB GARDEEN"]
["CL","VASSE JEAN PIERRE","129880K","R2","0,13","19019 – BILLARD CLUB DE LA BAIE"]
["CL","VAUTRIN JEAN","022459V","N3","0,456","19056 – BILLARD CLUB DE NICE"]
["CL","VIERA MAIA ARLINDO","148051A","N2","0,642","19061 – ACAD.BILLARD ST RAPHAEL"]
["NC","VIGNE PHILIPPE","014327B","N1","0,967","19014 – BILLARD CLUB AVIGNONNAIS"]
["NC","VILLASEVIL ANTONIO","101485H","N2","0,469","19007 – BILLARD CLUB BERROIS"]
["NC","VIOU GERARD","147607S","N3","0,336","19098 – BILLARD CLUB LA FARE"]
["NC","VITALIEN PIERRE","119674W","N3","0,283","19016 – BILLARD CLUB ORANGEOIS"]
["CL","VIVALDI ANDRE","022476M","N3","0,475","19106 – BILLARD CLUB VINONNAIS"]
["CL","VO DANG HUY","132515T","N1","0,931","19056 – BILLARD CLUB DE NICE"]
["CL","VUILLAUME JEAN CLAUDE","154571M","R2","0,165","19056 – BILLARD CLUB DE NICE"]
["NC","WARLET JEAN CLAUDE","117872O","N2","0,45","19061 – ACAD.BILLARD ST RAPHAEL"]
["CL","WILLAME PHILIPPE","152534Y","R2","0,188","19001 – S. S. A. B. D AIX EN PROVENCE"]
["CL","YVOZ ALAIN","184288N","R1","0,321","19006 – BILLARD CLUB CARPENTRASSIEN"]
["CL","ZOPPI AIME","144788U","N3","0,387","19023 – BILLARD CLUB GARDEEN"]
["CL","ZOPPI CEDRIC","125457H","M","0,817","19023 – BILLARD CLUB GARDEEN"]

{"sheet":"BANDE","index":7,"n_rows":254,"n_cols":8,"rows_kept":254,"cut":false,"hidden":true,"merged":[[0,0,1,5]]}
["BANDE",null,null,null,null,null,"Classification\n FFB-e2i",{"$f":"TODAY()","v":"2026-01-18"}]
[]
["NC-CL","NOM","N° LICENCE","CAT","MG","CLUB"]
["CL","ABAD YANNICK","106287Z","N3","1,9","19002 – SPORT AMAT.DE BILLARD MARSEILLAIS"]
["CL","ABEAUZIT JACQUES","106902Q","R2","0,69","19014 – BILLARD CLUB AVIGNONNAIS"]
["NC","AKNIN GABRIEL","021810W","N3","1,23","19027 – ACADEMIE DE BILLARD DE BOLLENE"]
["CL","ALIBERT BRUNO","151459E","R1","1,04","19056 – BILLARD CLUB DE NICE"]
["NC","ALLIGIER GERARD","157036R","R1","0,92","19019 – BILLARD CLUB DE LA BAIE"]
["NC","ALVAREZ PHILIPPE","159130S","R1","0,96","19056 – BILLARD CLUB DE NICE"]
["CL","ALVISET GUY","152035F","R2","0,61","19050 – BILLARD CLUB SAUSSETOIS"]
["CL","AMOUROUX LUC","155531F","R2","0,74","19023 – BILLARD CLUB GARDEEN"]
["NC","ANDRY JEAN FRANCOIS","021818E","R1","0,93","19090 – BILLARD AMATEUR ROGNAC"]
["CL","ANNESTAY JACQUES","021820G","R1","1,1","19025 – BILLARD CLUB SISTERONNAIS"]
["CL","ANTONIN ALAIN","021821H","N3","1,93","19021 – BILLARD CLUB CAVAILLONNAIS"]
["CL","ARNOUX LAURENT","180272Y","R2","0,55","19058 – ACADEMIE DE BILLARD DE BARBOSSI MANDELIEU"]
["CL","AUBERT ROUECHE LYDIA","148204R","R1","1,27","19106 – BILLARD CLUB VINONNAIS"]
["CL","AUDIBERT JEAN PIERRE","106513R","R2","0,81","19012 – SALON BILLARD CLUB"]
["CL","AZOULAY ALAIN","021839Z","R1","1,54","19017 – BILLARD CLUB PHOCEEN"]
["NC","BADINIER MARC","189187N","R2","0,49","19058 – ACADEMIE DE BILLARD DE BARBOSSI MANDELIEU"]
["CL","BAILLON JEAN","115304U","R2","0,49","19058 – ACADEMIE DE BILLARD DE BARBOSSI MANDELIEU"]
["CL","BALESTRI MAURICE","153554G","R2","0,52","19058 – ACADEMIE DE BILLARD DE BARBOSSI MANDELIEU"]
["CL","BALLIGAND SERGE","023184S","R1","1,83","19059 – BILLARD CLUB ROQUEBRUNOIS"]
["CL","BARBANNEAU FREDERIC","109917P","N3","1,15","19106 – BILLARD CLUB VINONNAIS"]
["NC","BARDET JEAN PIERRE","018535X","R1","0,91","19023 – BILLARD CLUB GARDEEN"]
["NC","BARRALLON JEAN PAUL","122300W","R1","0,97","19023 – BILLARD CLUB GARDEEN"]
["NC","BASSOUL JEAN MARIE","103568K","R1","0,95","19006 – BILLARD CLUB CARPENTRASSIEN"]
["NC","BAUTZMANN DIDIER","021859T","N3","1,80","19017 – BILLARD CLUB PHOCEEN"]
["CL","BELTRITTI JEAN YVES","132789H","R2","0,59","19106 – BILLARD CLUB VINONNAIS"]
["CL","BENIER PATRICK","159238K","R2","0,78","19023 – BILLARD CLUB GARDEEN"]
["CL","BENOIT MICHEL","159790K","R2","0,62","19027 – ACADEMIE DE BILLARD DE BOLLENE"]
["NC","BERNAT JEAN PIERRE","125945B","R1","0,94","19023 – BILLARD CLUB GARDEEN"]
["CL","BETTONI GILLES","180334Q","R2","0,56","19058 – ACADEMIE DE BILLARD DE BARBOSSI MANDELIEU"]
["CL","BIARD ANDRE","159202W","R2","0,42","19009 – CLUB BILLARD ISTREEN"]
["CL","BILDIK MEHMET","141828Y","R1","1,46","19006 – BILLARD CLUB CARPENTRASSIEN"]
["CL","BIZEUL GUY","177185S","R1","1,39","19025 – BILLARD CLUB SISTERONNAIS"]
["CL","BONELLO LUCIEN","021894C","R2","0,5","19090 – BILLARD AMATEUR ROGNAC"]
["CL","BONNEMAISON DENIS","150422C","R2","0,55","19009 – CLUB BILLARD ISTREEN"]
["NC","BORDES BERNARD","149287T","N3","1,43","19061 – ACAD.BILLARD ST RAPHAEL"]
["NC","BOSSOT JEAN","160000N","R1","0,85","19027 – ACADEMIE DE BILLARD DE BOLLENE"]
["CL","BOULANT CLAUDE","155529D","R1","1,09","19019 – BILLARD CLUB DE LA BAIE"]
["CL","BOVET MICHEL","149613Y","R2","0,6","19059 – BILLARD CLUB ROQUEBRUNOIS"]
["NC","BRAYER DENIS","016411F","N3","1,34","19008 – BRITISH BILLARD CLUB AVIGNON"]
["CL","BREDAT RENE","021918A","R1","1,15","19025 – BILLARD CLUB SISTERONNAIS"]
["CL","BREPSON MARTIAL","152345S","R2","0,86","19058 – ACADEMIE DE BILLARD DE BARBOSSI MANDELIEU"]
["CL","BRESSE JEAN LOUIS","021919B","R2","0,67","19016 – BILLARD CLUB ORANGEOIS"]
["CL","BRIAND ALAIN","113104E","R1","1,05","19002 – SPORT AMAT.DE BILLARD MARSEILLAIS"]
["CL","BRUN ROGER","021929L","R2","0,75","19017 – BILLARD CLUB PHOCEEN"]
["CL","BURGANT JEAN MARIE","123684C","R1","1,43","19019 – BILLARD CLUB DE LA BAIE"]
["CL","CALDERON LUC","021938U","R1","1,04","19009 – CLUB BILLARD ISTREEN"]
["CL","CAO HUU TUOI","021944A","R1","1,18","19098 – BILLARD CLUB LA FARE"]
["CL","CARRION JEAN PHILIPPE","130701Z","N3","1,77","19058 – ACADEMIE DE BILLARD DE BARBOSSI MANDELIEU"]
["CL","CESARINI JEAN PAUL","112516O","R1","1,42","19106 – BILLARD CLUB VINONNAIS"]
["NC","CHAPUIS ERIC","104469B","N2","2,16","19056 – BILLARD CLUB DE NICE"]
["CL","CHARBAUT CLAUDE","122456W","R2","0,8","19059 – BILLARD CLUB ROQUEBRUNOIS"]
["CL","CHARBIT JEAN MARC","021967X","N3","1,82","19056 – BILLARD CLUB DE NICE"]
["CL","CHASTAN GEORGES","012782Q","R1","1,29","19021 – BILLARD CLUB CAVAILLONNAIS"]
["CL","CHEMLA ELIE","137581P","R1","1,12","19014 – BILLARD CLUB AVIGNONNAIS"]
["CL","CHEURF SELIMANE","187031V","R2","0,57","19090 – BILLARD AMATEUR ROGNAC"]
["CL","CHICARD ALAIN","160332Z","R2","0,47","19006 – BILLARD CLUB CARPENTRASSIEN"]
["CL","CHUZEVILLE GILLES","108854S","N3","1,72","19025 – BILLARD CLUB SISTERONNAIS"]
["CL","CLAUDON PHILIPPE","148126G","R2","0,41","19056 – BILLARD CLUB DE NICE"]
["NC","CLEMENT GERARD","129497R","R1","0,76","19050 – BILLARD CLUB SAUSSETOIS"]
["CL","COHEN RICHARD","012827J","R2","0,64","19058 – ACADEMIE DE BILLARD DE BARBOSSI MANDELIEU"]
["CL","COHEN RICHARD (NICE)","148796K","R2","0,77","19056 – BILLARD CLUB DE NICE"]
["NC","COLLEMINE BERNARD","113219P","R1","0,89","19050 – BILLARD CLUB SAUSSETOIS"]
["CL","CONTRAIN JEROME","166177C","R2","0,66","19012 – SALON BILLARD CLUB"]
["NC","COPPIN JEAN MICHEL","021985P","R1","0,65","19027 – ACADEMIE DE BILLARD DE BOLLENE"]
["CL","CORTES JEAN LOUIS","187055W","R1",1,"19009 – CLUB BILLARD ISTREEN"]
["CL","COSTAZ ALAIN","148136S","R2","0,39","19019 – BILLARD CLUB DE LA BAIE"]
["CL","COUPET PHILIPPE","119932U","N3","1,73","19023 – BILLARD CLUB GARDEEN"]
["CL","COURBOT LUDWIG","016838Q","N3","1,57","19001 – S. S. A. B. D AIX EN PROVENCE"]
["CL","DAMON OLIVIER","022003H","N3","1,86","19012 – SALON BILLARD CLUB"]
["CL","DAUPHIN MICHEL","014828I","N3","2,17","19014 – BILLARD CLUB AVIGNONNAIS"]
["CL","DAVID THIERRY","155526A","R2","0,73","19025 – BILLARD CLUB SISTERONNAIS"]
["CL","DE LOOSE FELIX","163348C","R1","1,21","19106 – BILLARD CLUB VINONNAIS"]
["CL","DEBRUYNE ANNE","184548W","R2","0,17","19106 – BILLARD CLUB VINONNAIS"]
["CL","DEBRUYNE TRISTAN","113220Q","R2","0,62","19106 – BILLARD CLUB VINONNAIS"]
["CL","DEBUYSER ANNE","178356Q","R2","0,42","19058 – ACADEMIE DE BILLARD DE BARBOSSI MANDELIEU"]
["CL","DEDON RICHARD","177233V","R2","0,74","19007 – BILLARD CLUB BERROIS"]
["CL","DEFRETIN JOEL","020635R","N3","1,36","19023 – BILLARD CLUB GARDEEN"]
["CL","DELAPORTE YVES","160334B","R2","0,54","19006 – BILLARD CLUB CARPENTRASSIEN"]
["CL","DEMERLIAC BRUNO","159076J","R2","0,51","19007 – BILLARD CLUB BERROIS"]
["CL","DESMERO RAYMOND","142358I","R2","0,53","19007 – BILLARD CLUB BERROIS"]
["CL","DESWAZIERE MICHEL","115051B","R1","1,14","19027 – ACADEMIE DE BILLARD DE BOLLENE"]
["CL","DONABEDIAN DANIEL","142363N","R2","0,68","19019 – BILLARD CLUB DE LA BAIE"]
["CL","DOUSSET RENE","174348J","R2","0,44","19023 – BILLARD CLUB GARDEEN"]
["CL","DREMEAUX JEAN PIERRE","140803N","N3","1,91","19023 – BILLARD CLUB GARDEEN"]
["CL","DUBREUIL FRANCK","013022W","N3","1,76","19061 – ACAD.BILLARD ST RAPHAEL"]
["CL","DUCA ALFONSO","154651Z","R2","0,35","19090 – BILLARD AMATEUR ROGNAC"]
["CL","DUSSAULE PIERRE","102285B","R1","1,32","19027 – ACADEMIE DE BILLARD DE BOLLENE"]
["CL","ELEOUET DANIEL","163467G","R1","1,16","19006 – BILLARD CLUB CARPENTRASSIEN"]
["CL","ESTABLIER PIERRE","147622J","R2","0,47","19023 – BILLARD CLUB GARDEEN"]
["CL","FERAUD GERARD","022067T","N3","2,18","19027 – ACADEMIE DE BILLARD DE BOLLENE"]
["CL","FERHAT ACHOUR","129036Y","N3","1,92","19023 – BILLARD CLUB GARDEEN"]
["CL","FERNANDEZ MARC","013111H","N3","1,27","19021 – BILLARD CLUB CAVAILLONNAIS"]
["CL","FERRE DIDIER","120704M","R1","1,06","19058 – ACADEMIE DE BILLARD DE BARBOSSI MANDELIEU"]
["CL","FERRO PHILIPPE","122658Q","R1","0,90","19009 – CLUB BILLARD ISTREEN"]
["CL","FLEURIOT PATRICK","173138T","R2","0,63","19014 – BILLARD CLUB AVIGNONNAIS"]
["NC","FONTAINE DANY","101139Z","N2","1,52","19023 – BILLARD CLUB GARDEEN"]
["CL","FRANCO ALBERT","022084K","R1","1,43","19019 – BILLARD CLUB DE LA BAIE"]
["CL","FROMEYER CORINNE","167290M","R2","0,49","19058 – ACADEMIE DE BILLARD DE BARBOSSI MANDELIEU"]
["CL","FURNON ROGER","159060R","R2","0,63","19014 – BILLARD CLUB AVIGNONNAIS"]
["NC","GABETTO STEPHANE","103216W","R1","0,94","19023 – BILLARD CLUB GARDEEN"]
["CL","GALLUCCI STEPHANE","022091R","N3","2,17","19056 – BILLARD CLUB DE NICE"]
["CL","GAMEN ANDRE","147288W","R2","0,33","19023 – BILLARD CLUB GARDEEN"]
["NC","GANTOIS GILLES","022092S","N3","1,47","19016 – BILLARD CLUB ORANGEOIS"]
["CL","GAVALDA PIERRE","116278G","N3","1,72","19006 – BILLARD CLUB CARPENTRASSIEN"]
["CL","GAYRAUD FRANCOISE","143227T","R2","0,26","19056 – BILLARD CLUB DE NICE"]
["CL","GELAS BERNARD","163279C","R2","0,56","19098 – BILLARD CLUB LA FARE"]
["NC","GHU GERARD","101282M","R1","0,87","19016 – BILLARD CLUB ORANGEOIS"]
["NC","GIBARROUX CHRISTOPHE","118661X","N3","1,56","19001 – S. S. A. B. D AIX EN PROVENCE"]
["NC","GIFFARD PHILIPPE","149390F","N3","1,43","19023 – BILLARD CLUB GARDEEN"]
["CL","GILLET PHILIPPE","180514L","R2","0,49","19058 – ACADEMIE DE BILLARD DE BARBOSSI MANDELIEU"]
["CL","GIOVANNETTI DAMIEN","022115P","R2","0,87","19050 – BILLARD CLUB SAUSSETOIS"]
["CL","GIRARD JACQUES","129718E","R2","0,85","19058 – ACADEMIE DE BILLARD DE BARBOSSI MANDELIEU"]
["CL","GODARD PASCAL","157852D","R1","1,45","19006 – BILLARD CLUB CARPENTRASSIEN"]
["NC","GOUBAUX ALAIN","022127B","R2","0,80","19056 – BILLARD CLUB DE NICE"]
["NC","GOUIRAN GEORGES","022129D","R1","0,61","19050 – BILLARD CLUB SAUSSETOIS"]
["CL","GOURSEAUD YVES","104054C","N2","2,42","19016 – BILLARD CLUB ORANGEOIS"]
["CL","GUERINEAU BRUNO","144796C","R2","0,83","19021 – BILLARD CLUB CAVAILLONNAIS"]
["CL","GUEUG PIERRE","104475H","R1","1,21","19056 – BILLARD CLUB DE NICE"]
["CL","GUIZELIN PASCAL","154530S","R2","0,73","19106 – BILLARD CLUB VINONNAIS"]
["CL","HAHN DANIEL","011966G","R2","0,81","19017 – BILLARD CLUB PHOCEEN"]
["CL","HAROUTUNIAN PIERRE","022141P","R2","0,48","19050 – BILLARD CLUB SAUSSETOIS"]
["NC","HAZE PATRICK","137523J","R1","0,89","19021 – BILLARD CLUB CAVAILLONNAIS"]
["CL","HERBER DOMINIQUE","159610P","R2","0,81","19027 – ACADEMIE DE BILLARD DE BOLLENE"]
["CL","HERREMAN SERGE","119933V","R2","0,7","19023 – BILLARD CLUB GARDEEN"]
["NC","HEURTAULT JACKY","137004K","R2","0,7","19012 – SALON BILLARD CLUB"]
["CL","HUGUET PATRICK","172086A","N2","3,30","19017 – BILLARD CLUB PHOCEEN"]
["CL","IDJERI GILBERT","172214P","R2","0,86","19050 – BILLARD CLUB SAUSSETOIS"]
["CL","IVACHEFF MICHEL","181239Z","R2","0,69","19106 – BILLARD CLUB VINONNAIS"]
["CL","JUDALET FRANCOIS","190344W","N2","2,35","19019 – BILLARD CLUB DE LA BAIE"]
["CL","JUMEL RENE","162905W","R2","0,53","19027 – ACADEMIE DE BILLARD DE BOLLENE"]
["CL","KOSKACH JEAN PAUL","022173V","R1","1,19","19017 – BILLARD CLUB PHOCEEN"]
["CL","LACOSSE JEAN PAUL","109977X","R1","1,22","19019 – BILLARD CLUB DE LA BAIE"]
["CL","LACOSTE BRUNO","147195V","R1","1,11","19061 – ACAD.BILLARD ST RAPHAEL"]
["CL","LANARI PIERRE","175999D","R2","0,55","19056 – BILLARD CLUB DE NICE"]
["CL","LANDE GERARD","016084Q","R1","1,08","19014 – BILLARD CLUB AVIGNONNAIS"]
["CL","LANDERECTHE PASCAL","181199F","R2","0,75","19007 – BILLARD CLUB BERROIS"]
["CL","LANDOIS DOMINIQUE","179135M","R2","0,38","19055 – ACADEMIE DE BILLARD DE MENTON"]
["CL","LANNURIEN THIERRY","168288X","R1","1,21","19023 – BILLARD CLUB GARDEEN"]
["CL","LAUDY JEAN","187426Z","R2","0,43","19058 – ACADEMIE DE BILLARD DE BARBOSSI MANDELIEU"]
["CL","LAUNAY MICHEL","178352L","R2","0,38","19058 – ACADEMIE DE BILLARD DE BARBOSSI MANDELIEU"]
["CL","LE FAUCHEUR LAURENT","163278B","R2","0,62","19098 – BILLARD CLUB LA FARE"]
["CL","LECOQ ARNAUD","141504M","R1","1,15","19012 – SALON BILLARD CLUB"]
["CL","LEDUCQ MORGAN","105373V","N3","1,85","19014 – BILLARD CLUB AVIGNONNAIS"]
["NC","LEMARTINET ROBERT","110379J","R1","0,96","19019 – BILLARD CLUB DE LA BAIE"]
["CL","LEMIERE JEAN NOEL","104233Z","R1","1,34","19023 – BILLARD CLUB GARDEEN"]
["CL","LETELLIER ALAIN","176350K","R2","0,72","19090 – BILLARD AMATEUR ROGNAC"]
["CL","LEVISTRE ALAIN","184858H","R2","0,85","19014 – BILLARD CLUB AVIGNONNAIS"]
["CL","LIEGEOIS DOMINIQUE","022209F","N3","1,6","19027 – ACADEMIE DE BILLARD DE BOLLENE"]
["CL","LISI ROGER","146375V","R2","0,55","19007 – BILLARD CLUB BERROIS"]
["CL","LOCKS TIMOTHY","174810L","R2","0,61","19025 – BILLARD CLUB SISTERONNAIS"]
["CL","LUCENET PAUL","162076V","R1","1,11","19009 – CLUB BILLARD ISTREEN"]
["CL","LUNEAU JEAN CLAUDE","186880F","R1","1,00","19023 – BILLARD CLUB GARDEEN"]
["CL","MAGNIER PIERRE","165843P","R2","0,34","19023 – BILLARD CLUB GARDEEN"]
["CL","MALLEVAL GERARD","100910E","R2","0,8","19023 – BILLARD CLUB GARDEEN"]
["CL","MARCHAND PHILIPPE","164047M","R2","0,59","19001 – S. S. A. B. D AIX EN PROVENCE"]
["CL","MASSIAS GUY","172680W","R2","0,53","19001 – S. S. A. B. D AIX EN PROVENCE"]
["CL","MASSOT SEBASTIEN","159674J","R1","1,15","19025 – BILLARD CLUB SISTERONNAIS"]
["CL","MATHIEU CLAUDE","129498S","R2","0,66","19098 – BILLARD CLUB LA FARE"]
["CL","MAUDUIT DIDIER","017615N","R2","0,62","19009 – CLUB BILLARD ISTREEN"]
["CL","MAURON BERNARD","149391G","R1","1,02","19023 – BILLARD CLUB GARDEEN"]
["CL","MAYNARD ALEXANDRE","112015H","R2","0,76","19056 – BILLARD CLUB DE NICE"]
["NC","MELLET PIERRE","144802I","R1","0,95","19027 – ACADEMIE DE BILLARD DE BOLLENE"]
["CL","METAIS ALBAN","152604Z","R1","1,06","19006 – BILLARD CLUB CARPENTRASSIEN"]
["CL","MICHEL JACQUES","183513W","R2","0,53","19006 – BILLARD CLUB CARPENTRASSIEN"]
["CL","MILANA NICOLAS","176968G","R2","0,46","19007 – BILLARD CLUB BERROIS"]
["CL","MOLAND PHILIPPE","022268M","R1","0,91","19061 – ACAD.BILLARD ST RAPHAEL"]
["CL","MONNET JEAN CLAUDE","022271P","N3","1,47","19021 – BILLARD CLUB CAVAILLONNAIS"]
["CL","MONTESINOS GILLES","136279N","R2","0,52","19012 – SALON BILLARD CLUB"]
["NC","MOREELS BERNARD","147624L","R1","0,72","19023 – BILLARD CLUB GARDEEN"]
["CL","MOUSSIER PATRICK","151456B","R2","0,64","19056 – BILLARD CLUB DE NICE"]
["NC","MUNOS JEAN","109063T","N3","1,55","19050 – BILLARD CLUB SAUSSETOIS"]
["CL","MUNOS VINCENT","109708O","N3","1,65","19007 – BILLARD CLUB BERROIS"]
["CL","N GUYEN VAN DUC MAX","141788K","R2","0,63","19007 – BILLARD CLUB BERROIS"]
["CL","NABHANE EMILE","166329S","R2","0,6","19006 – BILLARD CLUB CARPENTRASSIEN"]
["CL","NATELLA ROGER","154572N","R2","0,73","19056 – BILLARD CLUB DE NICE"]
["CL","NOSSIN MARC","182190H","R2","0,46","19058 – ACADEMIE DE BILLARD DE BARBOSSI MANDELIEU"]
["NC","OLLIVIER DANIEL","020258E","R1","0,81","19009 – CLUB BILLARD ISTREEN"]
["CL","OUDOUX GERARD","128468C","R2","0,61","19023 – BILLARD CLUB GARDEEN"]
["NC","PACZESNY FABRICE","150400D","R1","0,95","19098 – BILLARD CLUB LA FARE"]
["CL","PELLAT FRANCIS","141673Z","R1","0,99","19025 – BILLARD CLUB SISTERONNAIS"]
["CL","PEREZ CHRISTIAN","130773T","R2","0,73","19009 – CLUB BILLARD ISTREEN"]
["CL","PERIS MICHEL","022321N","R2","0,34","19056 – BILLARD CLUB DE NICE"]
["CL","PERRIN LIONEL","181624S","R2","0,55","19023 – BILLARD CLUB GARDEEN"]
["CL","PETIT PHILIPPE","179183P","R2","0,48","19014 – BILLARD CLUB AVIGNONNAIS"]
["CL","PIELIN PASCAL","022330W","N3","1,99","19012 – SALON BILLARD CLUB"]
["NC","PIGNATEL FLORENT","112316W","N1","2,01","19021 – BILLARD CLUB CAVAILLONNAIS"]
["NC","PINARD PATRICE","105404A","R1","1,39","19012 – SALON BILLARD CLUB"]
["NC","PINNA ALAIN","022332Y","N1","2,05","19017 – BILLARD CLUB PHOCEEN"]
["CL","PORA JEAN PAUL","170697Q","R2","0,57","19009 – CLUB BILLARD ISTREEN"]
["CL","PORTET PATRICK","181316H","R2","0,46","19059 – BILLARD CLUB ROQUEBRUNOIS"]
["CL","POUGIN JEAN FRANCOIS","022346M","R2","0,83","19059 – BILLARD CLUB ROQUEBRUNOIS"]
["CL","POUJOL JEAN PAUL","022347N","R2","0,7","19014 – BILLARD CLUB AVIGNONNAIS"]
["NC","POULAIN FREDERIC","144719D","R1","0,87","19016 – BILLARD CLUB ORANGEOIS"]
["CL","POZNANSKI JEAN MICHEL","022349P","R1","1,39","19012 – SALON BILLARD CLUB"]
["NC","PUICHAULT REMY","172219V","R1","0,9","19025 – BILLARD CLUB SISTERONNAIS"]
["CL","QUEZEL ANDRE","136544S","R2","0,55","19014 – BILLARD CLUB AVIGNONNAIS"]
["CL","RAMOND JEAN MARC","022357X","R1","1,05","19058 – ACADEMIE DE BILLARD DE BARBOSSI MANDELIEU"]
["CL","RANC ALAIN","136205R","R2","0,56","19027 – ACADEMIE DE BILLARD DE BOLLENE"]
["NC","RAUD DANIEL","161645B","R1","0,91","19098 – BILLARD CLUB LA FARE"]
["CL","RAVENET FRANCIS","157788J","R1","1,05","19059 – BILLARD CLUB ROQUEBRUNOIS"]
["CL","REVALOR MICHEL","119696S","R1","0,98","19050 – BILLARD CLUB SAUSSETOIS"]
["CL","RIBOLLA PATRICE","022366G","R1","1,24","19056 – BILLARD CLUB DE NICE"]
["CL","RIGOLLET PIERRE","023064C","N2","2,36","19025 – BILLARD CLUB SISTERONNAIS"]
["NC","ROBBE RAYMOND","134183X","R1","0,83","19009 – CLUB BILLARD ISTREEN"]
["CL","RODRIGUES STEVE","171160T","R2","0,47","19090 – BILLARD AMATEUR ROGNAC"]
["CL","RONSAIN JEAN JACQUES","166175A","R2","0,71","19012 – SALON BILLARD CLUB"]
["CL","ROUANET CLAUDE","163166E","R1","1,16","19025 – BILLARD CLUB SISTERONNAIS"]
["CL","ROUGON ROBERT","101518O","R1","1,41","19007 – BILLARD CLUB BERROIS"]
["CL","RYCKELYNCK LAURENT","121397D","R1","1,09","19006 – BILLARD CLUB CARPENTRASSIEN"]
["NC","SALAMA ALAIN","136546U","R1","0,8","19021 – BILLARD CLUB CAVAILLONNAIS"]
["CL","SALES THIERRY","175174G","R2","0,69","19061 – ACAD.BILLARD ST RAPHAEL"]
["CL","SAMUEL CHRISTIAN","120008S","R1","1,53","19023 – BILLARD CLUB GARDEEN"]
["CL","SANTIAGO EMMANUEL","118693D","R2","0,92","19021 – BILLARD CLUB CAVAILLONNAIS"]
["CL","SANTIAGO JEAN JOSEPH","022391F","N3","2,09","19050 – BILLARD CLUB SAUSSETOIS"]
["CL","SARRALDE LOUIS","014138U","R2","0,52","19021 – BILLARD CLUB CAVAILLONNAIS"]
["NC","SAVOIA PATRICK","113222S","R1","0,91","19050 – BILLARD CLUB SAUSSETOIS"]
["CL","SCHAEFER ERNEST ROBERT","149694L","R2","0,61","19006 – BILLARD CLUB CARPENTRASSIEN"]
["CL","SCHENK ROBERT","136540O","R2","0,44","19056 – BILLARD CLUB DE NICE"]
["CL","SICARD GEORGES","163238H","R2","0,75","19025 – BILLARD CLUB SISTERONNAIS"]
["NC","SIEGLER JEAN PIERRE","168834Q","N3","1,55","19006 – BILLARD CLUB CARPENTRASSIEN"]
["CL","SIMON GERARD","010203L","R1","1,13","19014 – BILLARD CLUB AVIGNONNAIS"]
["CL","SINANIAN JEAN PAUL","022412A","R1","1,43","19017 – BILLARD CLUB PHOCEEN"]
["CL","SOLTANI OMAR","103578U","R1","1,31","19106 – BILLARD CLUB VINONNAIS"]
["CL","SPINNLER JEAN LUC","165931K","R2","0,74","19027 – ACADEMIE DE BILLARD DE BOLLENE"]
["CL","STEINMANN SEBASTIEN","020790Q","R1","1,18","19061 – ACAD.BILLARD ST RAPHAEL"]
["CL","SUEUR PASCAL","165039Q","R2","0,83","19058 – ACADEMIE DE BILLARD DE BARBOSSI MANDELIEU"]
["CL","TARDIEUX LUC","022429R","R1","1,28","19098 – BILLARD CLUB LA FARE"]
["CL","TARDY JEAN CLAUDE","133907H","R2","0,43","19014 – BILLARD CLUB AVIGNONNAIS"]
["CL","TELOT DOMINIQUE","123701T","R1","1,32","19059 – BILLARD CLUB ROQUEBRUNOIS"]
["CL","TEYSSIER SERGE","132938A","R1","1,09","19007 – BILLARD CLUB BERROIS"]
["CL","THOMAS PHILIPPE","168687F","R2","0,55","19023 – BILLARD CLUB GARDEEN"]
["CL","TIMSIT SERGE","148252T","R2","0,33","19023 – BILLARD CLUB GARDEEN"]
["NC","TONNELIER JEAN PIERRE","132786E","R1","0,72","19106 – BILLARD CLUB VINONNAIS"]
["CL","TORCHIO GILBERT","184495N","R2","0,57","19017 – BILLARD CLUB PHOCEEN"]
["CL","TORES JEAN LUC","135554Q","R1","1,03","19009 – CLUB BILLARD ISTREEN"]
["CL","TURPIN JEAN","172679V","R2","0,65","19001 – S. S. A. B. D AIX EN PROVENCE"]
["CL","VALVERDE JEAN YVES","153163G","R2","0,54","19023 – BILLARD CLUB GARDEEN"]
["CL","VASSE JEAN PIERRE","129880K","R2","0,43","19019 – BILLARD CLUB DE LA BAIE"]
["CL","VAUTRIN JEAN","022459V","R1","1,25","19056 – BILLARD CLUB DE NICE"]
["CL","VICTOR DANIEL","147412F","R2","0,46","19019 – BILLARD CLUB DE LA BAIE"]
["NC","VIERA MAIA ARLINDO","148051A","R1","0,96","19061 – ACAD.BILLARD ST RAPHAEL"]
["CL","VIOU GERARD","147607S","R1","1,17","19098 – BILLARD CLUB LA FARE"]
["CL","VISCONTI JEAN","138731V","R2","0,71","19090 – BILLARD AMATEUR ROGNAC"]
["CL","VITALIEN PIERRE","119674W","R1","1,30","19016 – BILLARD CLUB ORANGEOIS"]
["CL","VIVALDI ANDRE","022476M","N3","2,18","19106 – BILLARD CLUB VINONNAIS"]
["CL","VUILLAUME JEAN CLAUDE","154571M","R2","0,67","19056 – BILLARD CLUB DE NICE"]
["CL","WILLAME PHILIPPE","152534Y","R2","0,56","19001 – S. S. A. B. D AIX EN PROVENCE"]
["CL","YVOZ ALAIN","184288N","R2","0,8","19006 – BILLARD CLUB CARPENTRASSIEN"]
["CL","ZANDRINO ALAIN","134311V","R1","1,01","19007 – BILLARD CLUB BERROIS"]
["NC","ZOPPI AIME","144788U","N3","1,56","19023 – BILLARD CLUB GARDEEN"]
["CL","ZOPPI CEDRIC","125457H","M",5,"19023 – BILLARD CLUB GARDEEN"]

{"sheet":"MACRO","index":8,"n_rows":18,"n_cols":3,"rows_kept":18,"cut":false,"hidden":false,"merged":[[7,1,7,2],[8,1,8,2],[17,1,17,2],[6,1,6,2],[32,2,32,4]]}
[]
[]
[]
[]
[]
[]
[]
[null,"Version : 1.71"]
[null,"Date de mise à jour"]
[null,"LIBRE",{"$f":"TODAY()","v":"2026-01-18"}]
[]
[null,"CADRE",{"$f":"TODAY()","v":"2026-01-18"}]
[]
[null,"1BANDE",{"$f":"TODAY()","v":"2026-01-18"}]
[]
[null,"3BANDES",{"$f":"TODAY()","v":"2026-01-18"}]
[]
[null,"copyright - Ferhat-Letellier-Perez"]

{"sheet":"F-MATCH","index":9,"n_rows":44,"n_cols":19,"rows_kept":44,"cut":false,"hidden":false,"merged":[[3,1,3,6],[3,13,3,18],[0,1,0,18],[2,1,2,6],[2,8,2,11],[2,13,2,18],[3,8,3,11],[6,1,6,2],[6,13,6,14],[7,1,7,6],[7,13,7,18],[4,8,4,9],[4,10,4,11],[6,8,7,9],[6,10,7,10],[34,8,34,11],[35,5,35,6],[36,1,36,4],[36,5,36,6],[35,8,35,11],[36,9,36,10],[43,1,43,4],[43,6,43,13],[43,15,43,18],[36,17,36,18],[37,2,38,3],[37,5,38,6],[37,9,38,10],[37,14,38,15],[40,1,42,4],[40,6,42,13],[40,15,42,18],[36,13,36,16]]}
[null,"NOM DE VOTRE CLUB"]
[]
[null,"NOM PRENOM",null,null,null,null,null,null,"MODE DE JEU",null,null,null,null,"NOM PRENOM"]
[]
[null,null,null,null,null,null,null,null,"DIST"]
[]
[null,"JOUEUR-1",null,null,null,null,null,null,"TOUR N°",null,null,null,null,"JOUEUR - 2"]
[]
[]
[null,"Rep.","Pts","totaux","Rep.","Pts","totaux",null,null,null,null,null,null,"Rep.","Pts","totaux","Rep.","Pts","totaux"]
[null,1,null,null,26,null,null,null,null,null,null,null,null,1,null,null,26]
[null,2,null,null,27,null,null,null,null,null,null,null,null,2,null,null,27]
[null,3,null,null,28,null,null,null,null,null,null,null,null,3,null,null,28]
[null,4,null,null,29,null,null,null,null,null,null,null,null,4,null,null,29]
[null,5,null,null,30,null,null,null,null,null,null,null,null,5,null,null,30]
[null,6,null,null,31,null,null,null,null,null,null,null,null,6,null,null,31]
[null,7,null,null,32,null,null,null,null,null,null,null,null,7,null,null,32]
[null,8,null,null,33,null,null,null,null,null,null,null,null,8,null,null,33]
[null,9,null,null,34,null,null,null,null,null,null,null,null,9,null,null,34]
[null,10,null,null,35,null,null,null,null,null,null,null,null,10,null,null,35]
[null,11,null,null,36,null,null,null,null,null,null,null,null,11,null,null,36]
[null,12,null,null,37,null,null,null,null,null,null,null,null,12,null,null,37]
[null,13,null,null,38,null,null,null,null,null,null,null,null,13,null,null,38]
[null,14,null,null,39,null,null,null,null,null,null,null,null,14,null,null,39]
[null,15,null,null,40,null,null,null,null,null,null,null,null,15,null,null,40]
[null,16,null,null,41,null,null,null,null,null,null,null,null,16,null,null,41]
[null,17,null,null,42,null,null,null,null,null,null,null,null,17,null,null,42]
[null,18,null,null,43,null,null,null,null,null,null,null,null,18,null,null,43]
[null,19,null,null,44,null,null,null,null,null,null,null,null,19,null,null,44]
[null,20,null,null,45,null,null,null,null,null,null,null,null,20,null,null,45]
[null,21,null,null,46,null,null,null,null,null,null,null,null,21,null,null,46]
[null,22,null,null,47,null,null,null,null,null,null,null,null,22,null,null,47]
[null,23,null,null,48,null,null,null,null,null,null,null,null,23,null,null,48]
[null,24,null,null,49,null,null,null,null,null,null,null,null,24,null,null,49]
[null,25,null,null,50,null,null,null,null,null,null,null,null,25,null,null,50]
[]
[null,"MEILLEURE SERIE",null,null,null,"TOTAL",null,null,null,"REPRISE",null,null,null,"MEILLEURE SERIE",null,null,null,"TOTAL"]
[]
[]
[]
[]
[]
[]
[null,"Signature joueur 1",null,null,null,null,"Signatures arbitres",null,null,null,null,null,null,null,null,"Signature joueur 2"]

{"sheet":"Distances-FFB-LMB","index":10,"n_rows":33,"n_cols":8,"rows_kept":33,"cut":false,"hidden":false,"merged":[[4,0,12,0],[13,0,15,0],[16,0,17,0],[20,0,25,0],[26,0,32,0],[3,0,3,1],[0,0,0,7],[1,0,1,7],[2,0,2,1],[2,2,2,4],[2,5,2,6]]}
["TABLEAU DES CATEGORIES"]
["Les règles peuvent être modifiées par les ligues, les Comités Départementaux et les Districts.\nIls ont notamment la possibilité de : définir des distances plus courtes et de restreindre le nombre de reprises pour chaque type de jeu,"]
["MODE CATEGORIE",null,"DISTANCE",null,null,"MOYENNE",null,"FORMULE SPORTIVE"]
[null,null,null,"Normale FFB","Réduite LMB","3,10 m","2,80 m"]
["LIBRE","MASTERS","GC","400 pts","300 pts (25 reprises)","≥ 30,00",null,"suspension provisoire"]
[null,"N1","GC","250 pts","200 pts (25 reprises)","≥15,00 et <30,00",null,"Poules - 16 joueurs - article 6.2.23\n(ligue : 13)"]
[null,"N2","GC","180 pts","150 pts (25 reprises)","≥7,20 et <15,00",null,"Poules - 16 joueurs - article 6.2.23\n(ligue : 13)"]
[null,"N3","GC","150 pts","120  pts (25 reprises)",null,"≥ 6,00 et < 9,00","Poules - 16 joueurs - article 6.2.23\n(ligue : 13)"]
[null,"R1","PC","120 pts","100 pts (30 reprises)",null,"≥ 4,00 et < 6,00","CRITERIUM REGIONAL"]
[null,"R2","PC","80 pts","70 pts (30 reprises)",null,"≥ 2,30 et < 4,00","CRITERIUM REGIONAL"]
[null,"R3","PC","60 pts","50 pts (30 reprises)",null,"≥ 1,20 et < 2,30"]
[null,"R4","PC","40 pts","30 pts (30 reprises)",null,"0 et < 1,20"]
[null,"DAMES","PC","120 pts \n(30 reprises)","70 pts (25 reprises)",null,"≥ 1,20","8 joueuses - poules ou DKO (multi)\narticles 6.2.20 ou 6.2.22 (circuit : 6)"]
["CADRE\n47/2","MASTERS",null,"250 pts","200 pts (25 reprises)","≥ 20,00",null,"16 joueurs - poules ou DKOD (multi)\narticles 6.2.21 ou 6.2.23 (circuit : 14)"]
[null,"N1",null,"200 pts","150 pts (25 reprises)","≥ 10,00 et < 20,00",null,"Poules - 16 joueurs - article 6.2.23\n(ligue : 13)"]
[null,"N2",null,"120 pts","100 pts (25 reprises)","≥ 6,00 et < 10,00",null,"Poules - 16 joueurs - article 6.2.23\n(ligue : 13)"]
["CADRE\n42/2","N3",null,"120 pts","100 pts (25 reprises)",null,"≥4,50 et <7,50","Poules - 16 joueurs - article 6.2.23\n(ligue : 13)"]
[null,"R1",null,"80 pts","60 pts (25 reprises)",null,"0 et < 4,50 Minima\nClassé R2 Libre","être classé minimum en LR2 -arrêt en\nligue"]
["CADRE\n71/2","MASTERS",null,"200 pts","150pts (25 reprises)","≥ 18,00",null,"12 joueurs - poules ou DKO (multi)\narticles 6.2.20 ou 6.2.22 (circuit : 10)"]
["CADRE\n47/1","MASTERS",null,"200 pts","150 pts (25 reprises)","≥ 12,00",null,"suspension provisoire"]
["1 BANDE","MASTERS",null,"120 pts","100 pts (25 reprises)","≥ 5,00",null,"16 joueurs - poules ou DKOD (multi)\narticles 6.2.21 ou 6.2.23 (circuit : 14)"]
[null,"N1",null,"100 pts","80 pts (25 reprises)","≥ 3,50 et < 5,00",null,"Poules - 16 joueurs - article 6.2.23\n(ligue : 13)"]
[null,"N2",null,"80 pts","60 pts (25 reprises)","≥ 2,30 et < 3,50",null,"Poules - 16 joueurs - article 6.2.23\n(ligue : 13)"]
[null,"N3",null,"60 pts","50 pts (25 reprises)",null,"≥ 1,80 et < 2,58","Poules - 16 joueurs - article 6.2.23\n(ligue : 13)"]
[null,"R1",null,"50 pts","40 pts (30 reprises)",null,"≥ 1,10 et < 1,80","CRITERIUM REGIONAL"]
[null,"R2",null,"30 pts","25 pts (30 reprises)",null,"0 et < 1,10"]
["3 BANDES","MASTERS",null,"40 pts","35 pts (50 reprises)","≥ 0,900",null,"16 joueurs - poules ou DKOD (multi)\narticles 6.2.21 ou 6.2.23 (circuit : 14)"]
[null,"N1",null,"35 pts","30 pts (50 reprises)","≥ 0,700 et < 0,900",null,"Poules - 16 joueurs - article 6.2.23\n(ligue : 13)"]
[null,"N2",null,"30 pts","25 pts (50 reprises)","≥ 0,500 et < 0,700",null,"Poules - 16 joueurs - article 6.2.23\n(ligue : 13)"]
[null,"N3",null,"25 pts (60 reprises)","20 pts (50 reprises)",null,"≥ 0,400 et < 0,581","Poules - 16 joueurs - article 6.2.23\n(ligue : 13)"]
[null,"R1",null,"20 pts (60 reprises)","15 pts (40 reprises)",null,"≥ 0,250 et < 0,400","CRITERIUM REGIONAL"]
[null,"R2",null,"15 pts (60 reprises)","10 pts (40 reprises)",null,"< 0,250"]
[null,"DAMES",null,"25pts (50 reprises)","10 pts (40 reprises)",null,"≥ 0,250","8 joueuses - poules ou DKO (multi)\narticles 6.2.20 ou 6.2.22 (circuit : 6)"]

{"sheet":"SaisieJoueurs Finale","index":11,"n_rows":43,"n_cols":22,"rows_kept":43,"cut":false,"hidden":true,"merged":[[0,2,1,6],[1,10,12,14],[2,2,2,6],[4,4,8,6],[10,3,10,4],[12,2,12,6],[14,2,14,6],[14,10,14,14],[15,2,15,6],[15,10,15,14],[42,2,42,3]]}
[null,null,"LIGUE MÉDITERRANÉENNE DE BILLARD"]
[]
[]
[]
[null,null,"Date  (jj/mm/aa)",{"$f":"TODAY()","v":"2026-01-18"},"FINALE DE\n LIGUE & DÉPARTEMENTALE"]
[]
[null,null,"Nom de la compétition"]
[null,null,"Catégorie"]
[null,null,"Mode de jeu"]
[]
[null,null,"Club organisateur",null,null,"Directeur de jeu"]
[]
[]
[]
[null,null,"Dans cet onglet \"Saisir dans la liste déroulante les NOMS  des joueurs \",\nDans l'ordre des convocations sur le Site LMB",null,null,null,null,null,null,null,"RESULTAT DU TRI DES POULES"]
[]
["N°","Liste déroulante NOM ","N° Licence","NOM PRENOM","Catégorie","Moyenne  3,10m","Club",null,null,null,"Licences","NOM PRENOM","Catégorie","Moyenne 2,80","Club",null,null,"Licences","NOMS","Catégorie","Moyenne sur 3,10","Club"]
[{"$f":"ROW(A1)","v":1},null,null,null,null,null,null,null,1]
[{"$f":"ROW(A2)","v":2},null,null,null,null,null,null,null,2,""]
[3,null,null,null,null,null,null,null,3]
[4,null,null,null,null,null,null,null,4,""]
[5,null,null,null,null,null,null,null,5]
[6,null,null,null,null,null,null,null,6,""]
[7,null,null,null,null,null,null,null,7]
[8,null,null,null,null,null,null,null,8]
[9,null,null,null,null,null,null,null,9]
[10,null,null,null,null,null,null,null,10,""]
[11,null,null,null,null,null,null,null,11]
[12,null,null,null,null,null,null,null,12]
[13,null,null,null,null,null,null,null,13]
[14,null,null,null,null,null,null,null,14]
[15,null,null,null,null,null,null,null,15]
[16,null,null,null,null,null,null,null,16]
[17,null,null,null,null,null,null,null,17]
[18,null,null,null,null,null,null,null,18]
[19,null,null,null,null,null,null,null,19]
[20,null,null,null,null,null,null,null,20]
[21,null,null,null,null,null,null,null,21]
[22,null,null,null,null,null,null,null,22]
[23,null,null,null,null,null,null,null,23]
[24,null,null,null,null,null,null,null,24]
[]
[null,null,"™A.FERHAT ™ C.PEREZ"]

{"sheet":"Saisie des joueurs","index":12,"n_rows":41,"n_cols":22,"rows_kept":41,"cut":false,"hidden":true,"merged":[[0,2,1,6],[2,2,2,6],[14,10,14,14],[15,10,15,14],[1,10,12,14],[4,4,7,6],[4,0,4,1],[10,3,10,4],[12,2,12,6],[14,2,14,6],[15,2,15,6],[6,0,6,1]]}
[null,null,"LIGUE MÉDITERRANÉENNE DE BILLARD"]
[]
[null,null,null,null,null,null,null,null,null,null,null,null,null,null,null,null,null,null,"3BANDES"]
[]
[{"$f":"\"@A.FERHAT A.LETELLIER @C.PEREZ\"","v":"@A.FERHAT A.LETELLIER @C.PEREZ"},null,"Date  (jj/mm/aa)",{"$f":"TODAY()","v":"2026-01-18"},"TOURNOI  \nPoule de 3 à 12 JOUEURS ",null,null,null,null,null,null,null,null,null,null,null,null,null,"tournoi"]
[]
[{"$f":"\"\"","v":""},null,"N° de la compétition",null,null,null,null,null,null,null,null,null,null,null,null,null,null,null,"serpentin"]
[]
[null,null,"Mode de jeu",null,null,"Tri par","serpentin"]
[]
[null,null,"Club organisateur",null,null,"Directeur de jeu"]
[]
[]
[]
[null,null,"Dans cet onglet \"Saisir dans la liste déroulante les noms des joueurs de cette colonne\", \nl'ordre à saisir n'est pas important : ensuite cliquer sur le \" BOUTON TRI DES JOUEURS\"",null,null,null,null,null,null,null,"RESULTAT DU TRI DES POULES"]
[]
["N°","Liste déroulante NOM ","N° Licence","NOM PRENOM","Catégorie","Moyenne  3,10m","Club",null,null,null,"Licences","NOM PRENOM","Catégorie","Moyenne 3,10m","Club",null,null,"Licences","NOMS","Catégorie","Moyenne sur 3,10","Club"]
[{"$f":"ROW(A1)","v":1},null,null,null,null,null,null,null,1]
[{"$f":"ROW(A2)","v":2},null,null,null,null,null,null,null,2,""]
[3,null,null,null,null,null,null,null,3]
[4,null,null,null,null,null,null,null,4,""]
[5,null,null,null,null,null,null,null,5]
[6,null,null,null,null,null,null,null,6,""]
[7,null,null,null,null,null,null,null,7]
[8,null,null,null,null,null,null,null,8]
[9,null,null,null,null,null,null,null,9]
[10,null,null,null,null,null,null,null,10,""]
[11,null,null,null,null,null,null,null,11]
[12,null,null,null,null,null,null,null,12]
[13,null,null,null,null,null,null,null,13]
[14,null,null,null,null,null,null,null,14]
[15,null,null,null,null,null,null,null,15]
[16,null,null,null,null,null,null,null,16]
[17,null,null,null,null,null,null,null,17]
[18,null,null,null,null,null,null,null,18]
[19,null,null,null,null,null,null,null,19]
[20,null,null,null,null,null,null,null,20]
[21,null,null,null,null,null,null,null,21]
[22,null,null,null,null,null,null,null,22]
[23,null,null,null,null,null,null,null,23]
[24,null,null,null,null,null,null,null,24]

{"sheet":"FINALE A 5 JOUEURS","index":13,"n_rows":32,"n_cols":66,"rows_kept":32,"cut":false,"hidden":true,"merged":[[6,12,6,15],[6,17,6,18],[6,20,6,21],[6,23,6,25],[6,27,6,28],[9,5,9,7],[9,12,9,28],[1,12,3,28],[2,1,3,2],[2,3,3,9],[5,1,6,2],[5,3,6,9],[5,12,5,15],[5,17,5,18],[5,20,5,21],[5,23,5,25],[5,27,5,28],[13,56,13,57],[13,58,13,59],[13,60,13,61],[13,62,13,63],[13,65,14,65],[14,2,15,5],[14,7,15,10],[15,12,16,12],[15,31,17,32],[15,33,17,35],[12,39,14,41],[12,42,14,44],[12,45,14,47],[12,49,14,51],[12,52,14,52],[13,54,13,55],[11,1,12,10],[11,12,12,12],[11,15,12,28],[12,31,14,32],[12,33,14,35],[12,36,14,38],[15,65,17,65],[17,12,19,12],[17,15,18,21],[18,1,19,1],[18,4,19,4],[18,9,19,9],[18,31,20,32],[18,36,20,38],[18,52,20,52],[18,54,20,54],[15,59,17,59],[15,60,17,60],[15,61,17,61],[15,62,17,62],[15,63,17,63],[15,64,17,64],[15,52,17,52],[15,54,17,54],[15,55,17,55],[15,56,17,56],[15,57,17,57],[15,58,17,58],[18,61,20,61],[18,62,20,62],[18,63,20,63],[18,64,20,64],[18,65,20,65],[20,12,22,12],[20,16,20,18],[21,52,23,52],[21,54,23,54],[21,55,23,55],[18,55,20,55],[18,56,20,56],[18,57,20,57],[18,58,20,58],[18,59,20,59],[18,60,20,60],[21,65,23,65],[22,16,22,18],[23,12,25,12],[23,16,23,18],[24,52,26,52],[24,54,26,54],[24,55,26,55],[21,56,23,56],[21,62,23,62],[21,63,23,63],[21,64,23,64],[21,1,22,1],[21,4,22,4],[21,9,22,9],[24,62,26,62],[24,63,26,63],[24,64,26,64],[21,57,23,57],[21,58,23,58],[21,59,23,59],[21,60,23,60],[21,61,23,61],[21,16,21,18],[21,31,23,32],[21,39,23,41],[24,1,25,1],[24,4,25,4],[24,9,25,9],[24,16,24,18],[24,31,26,32],[24,42,26,44],[24,65,26,65],[25,16,25,18],[26,12,28,12],[27,54,29,54],[27,55,29,55],[27,56,29,56],[27,57,29,57],[24,56,26,56],[24,57,26,57],[24,58,26,58],[24,59,26,59],[24,60,26,60],[24,61,26,61],[27,64,29,64],[27,65,29,65],[29,12,31,12],[30,1,31,1],[30,4,31,4],[30,9,31,9],[27,58,29,58],[27,59,29,59],[27,60,29,60],[27,61,29,61],[27,62,29,62],[27,63,29,63],[27,1,28,1],[27,4,28,4],[27,9,28,9],[27,31,29,32],[27,45,29,47],[27,52,29,52]]}
[]
[null,null,null,null,null,null,null,null,null,null,null,null,"LIGUE MÉDITERRANÉENNE DE BILLARD"]
[null,"CLUB ORGANISATEUR",null,{"$f":"'SaisieJoueurs Finale'!D11","v":0}]
[]
[]
[null,"DIRECTEUR DE JEU :",null,{"$f":"'SaisieJoueurs Finale'!G11","v":0},null,null,null,null,null,null,null,null,"Compétition",null,null,null,null,"Mode de jeu",null,null,"Categorie",null,null,"Format billard",null,null,null,"Distance"]
[null,null,null,null,null,null,null,null,null,null,null,null,{"$f":"'SaisieJoueurs Finale'!D7","v":0},null,null,null,null,{"$f":"'SaisieJoueurs Finale'!D9","v":0},null,null,{"$f":"'SaisieJoueurs Finale'!D8","v":0}]
[]
[]
[null,null,null,null,null,null,null,null,null,null,null,null,"Pas de prolongation en cas de match nul."]
[]
[null,"SAISIE DES RESULTATS",null,null,null,null,null,null,null,null,null,null,null,null,null,"POULE UNIQUE LMB - 5 JOUEURS - SUR 2 BILLARDS - 1 EXEMPT"]
[null,null,null,null,null,null,null,null,null,null,null,null,null,null,null,null,null,null,null,null,null,null,null,null,null,null,null,null,null,null,null,null,null,{"$f":"'Saisie des joueurs'!L18","v":0},null,null,{"$f":"'Saisie des joueurs'!L19","v":0},null,null,{"$f":"'Saisie des joueurs'!L20","v":0},null,null,{"$f":"'Saisie des joueurs'!L21","v":0},null,null,{"$f":"'Saisie des joueurs'!L22","v":0},null,null,null,"TOTAUX",null,null,"CLASSEMENT"]
[null,null,null,null,null,null,null,null,null,null,null,null,null,null,null,null,null,null,null,null,null,null,null,null,null,null,null,null,null,null,null,null,null,null,null,null,null,null,null,null,null,null,null,null,null,null,null,null,null,null,null,null,null,null,"Classement",null,"Classement",null,"Classement",null,"Classement",null,"Classement",null,"GENERAL","RANG"]
[null,null,"Billard 1",null,null,null,null,"Billard 2",null,null,null,null,null,null,null,null,null,null,null,null,null,null,null,null,null,null,null,null,null,null,null,null,null,null,null,null,null,null,null,null,null,null,null,null,null,null,null,null,null,null,null,null,null,null,"Point-Match","CLS-M","Moy-Gen","CLS-G","Moy-Part","CLS-P","M-Series","CLS-S","MGPS","CLS","CLS"]
[null,null,null,null,null,null,null,null,null,null,null,null,"EXEMPT",null,null,null,null,null,null,null,null,null,null,null,null,null,null,null,null,null,null,{"$f":"'SaisieJoueurs Finale'!D18","v":0},null,null,null,null,{"$f":"D31","v":0},null,{"$f":"E31","v":0},{"$f":"I28","v":0},null,{"$f":"J28","v":0},{"$f":"I25","v":0},null,{"$f":"J25","v":0},{"$f":"D22","v":0},null,{"$f":"E22","v":0},null,{"$f":"AK16+AN16+AQ16+AT16","v":0},null,{"$f":"AM16+AP16+AS16+AV16","v":0},{"$f":"BN16","v":{"$error":"#DIV/0!"}},null,{"$f":"AY17","v":0.04},{"$f":"RANK(BC16,BC$16:BC$30,0)","v":1},{"$f":"AZ18","v":{"$error":"#DIV/0!"}},{"$f":"RANK(BE16,BE$16:BE$30,0)","v":{"$error":"#DIV/0!"}},{"$f":"MAX(AM18,AP18,AS18,AV18)","v":{"$error":"#DIV/0!"}},{"$f":"RANK(BG16,BG$16:BG$30)","v":{"$error":"#DIV/0!"}},{"$f":"AX18","v":0},{"$f":"RANK(BI16,BI$16:BI$30)","v":1},{"$f":"(BD16*1000)+(BF16*100)+(BH16*10)+(BJ16*1)","v":{"$error":"#DIV/0!"}},{"$f":"BK16","v":{"$error":"#DIV/0!"}},{"$f":"RANK(BL16,BL$16:BL$30,1)","v":{"$error":"#DIV/0!"}},{"$f":"RANK(BM16,BM$16:BM$30,1)","v":{"$error":"#DIV/0!"}}]
[null,null,null,null,null,null,null,null,null,null,null,null,null,null,null,null,null,null,null,null,null,null,null,null,null,null,null,null,null,null,null,null,null,null,null,null,null,{"$f":"IF(AM16<1,0.01,IF(AK16>AH19,2,IF(AK16=AH19,1,0)))","v":0.01},null,null,{"$f":"IF(AP16<1,0.01,IF(AN16>AH22,2,IF(AN16=AH22,1,0)))","v":0.01},null,null,{"$f":"IF(AS16<1,0.01,IF(AQ16>AH25,2,IF(AQ16=AH25,1,0)))","v":0.01},null,null,{"$f":"IF(AV16<1,0.01,IF(AT16>AH28,2,IF(AT16=AH28,1,0)))","v":0.01},null,null,null,{"$f":"AL17+AO17+AR17+AU17","v":0.04}]
[null,null,null,"Pts","Rep","Série",null,null,"Pts","Rep","Série",null,{"$f":"AF16","v":0},null,null,"CLASSEMENT DU TOURNOI",null,null,null,null,null,null,null,null,null,null,null,null,null,null,null,null,null,null,null,null,{"$f":"F31","v":0},null,{"$f":"AK16/AM16","v":{"$error":"#DIV/0!"}},{"$f":"K28","v":0},null,{"$f":"AN16/AP16","v":{"$error":"#DIV/0!"}},{"$f":"K25","v":0},null,{"$f":"AQ16/AS16","v":{"$error":"#DIV/0!"}},{"$f":"F22","v":0},null,{"$f":"AT16/AV16","v":{"$error":"#DIV/0!"}},null,{"$f":"MAX(AK18,AN18,AQ18,AT18)","v":0},null,{"$f":"AX16/AZ16","v":{"$error":"#DIV/0!"}}]
[null,"Tour 1",{"$f":"AF22","v":0},null,null,null,null,{"$f":"AF19","v":0},null,null,null,null,null,null,null,null,null,null,null,null,null,null,null,null,null,null,null,null,null,null,null,{"$f":"'SaisieJoueurs Finale'!D19","v":0},null,{"$f":"D32","v":0},null,{"$f":"E31","v":0},"L",null,null,{"$f":"I22","v":0},null,{"$f":"J22","v":0},{"$f":"D28","v":0},null,{"$f":"E28","v":0},{"$f":"I19","v":0},null,{"$f":"J19","v":0},null,{"$f":"AH19+AN19+AQ19+AT19","v":0},null,{"$f":"AJ19+AP19+AS19+AV19","v":0},{"$f":"BN19","v":{"$error":"#DIV/0!"}},null,{"$f":"AY20","v":0.04},{"$f":"RANK(BC19,BC$16:BC$30,0)","v":1},{"$f":"AZ21","v":{"$error":"#DIV/0!"}},{"$f":"RANK(BE19,BE$16:BE$30,0)","v":{"$error":"#DIV/0!"}},{"$f":"MAX(AJ21,AP21,AS21,AV21)","v":{"$error":"#DIV/0!"}},{"$f":"RANK(BG19,BG$16:BG$30)","v":{"$error":"#DIV/0!"}},{"$f":"AX21","v":0},{"$f":"RANK(BI19,BI$16:BI$30)","v":1},{"$f":"(BD19*1000)+(BF19*100)+(BH19*10)+(BJ19*1)","v":{"$error":"#DIV/0!"}},{"$f":"BK19","v":{"$error":"#DIV/0!"}},{"$f":"RANK(BL19,BL$16:BL$30,1)","v":{"$error":"#DIV/0!"}},{"$f":"RANK(BM19,BM$16:BM$30,1)","v":{"$error":"#DIV/0!"}}]
[null,null,{"$f":"AF25","v":0},null,null,null,null,{"$f":"AF28","v":0},null,null,null,null,null,null,null,null,null,null,null,null,null,null,null,null,null,null,null,null,null,null,null,null,null,null,{"$f":"IF(AM16>0,2-AL17,0.01)","v":0.01},null,null,null,null,null,{"$f":"IF(AP19<1,0.01,IF(AN19>AK22,2,IF(AN19=AK22,1,0)))","v":0.01},null,null,{"$f":"IF(AS19<1,0.01,IF(AQ19>AK25,2,IF(AQ19=AK25,1,0)))","v":0.01},null,null,{"$f":"IF(AV19<1,0.01,IF(AT19>AK28,2,IF(AT19=AK28,1,0)))","v":0.01},null,null,null,{"$f":"AI20+AO20+AR20+AU20","v":0.04}]
[null,null,null,null,null,null,null,null,null,null,null,null,{"$f":"AF25","v":0},null,null,null,"NOM",null,null,"Pts","Rep","Série",null,null,null,null,null,null,null,null,null,null,null,{"$f":"F32","v":0},null,{"$f":"AH19/AJ19","v":{"$error":"#DIV/0!"}},null,null,null,{"$f":"K22","v":0},null,{"$f":"AN19/AP19","v":{"$error":"#DIV/0!"}},{"$f":"F28","v":0},null,{"$f":"AQ19/AS19","v":{"$error":"#DIV/0!"}},{"$f":"K19","v":0},null,{"$f":"AT19/AV19","v":{"$error":"#DIV/0!"}},null,{"$f":"MAXA(AH21,AN21,AQ21,AT21)","v":0},null,{"$f":"AX19/AZ19","v":{"$error":"#DIV/0!"}}]
[null,"Tour 2",{"$f":"AF16","v":0},null,null,null,null,{"$f":"AF19","v":0},null,null,null,null,null,null,null,1,{"$f":"IF(BA16=1,AF16,IF(BA19=1,AF19,IF(BA22=1,AF22,IF(BA25=1,AF25,IF(BA28=1,AF28,)))))","v":{"$error":"#DIV/0!"}},null,null,{"$f":"IF(BA16=1,AX16,IF(BA19=1,AX19,IF(BA22=1,AX22,IF(BA25=1,AX25,IF(BA28=1,AX28,)))))","v":{"$error":"#DIV/0!"}},{"$f":"IF(BA16=1,AZ16,IF(BA19=1,AZ19,IF(BA22=1,AZ22,IF(BA25=1,AZ25,IF(BA28=1,AZ28,)))))","v":{"$error":"#DIV/0!"}},{"$f":"IF(BA16=1,AX18,IF(BA19=1,AX21,IF(BA22=1,AX24,IF(BA25=1,AX27,IF(BA28=1,AX30,)))))","v":{"$error":"#DIV/0!"}},null,null,null,null,null,null,null,null,null,{"$f":"'SaisieJoueurs Finale'!D20","v":0},null,{"$f":"I29","v":0},null,{"$f":"J28","v":0},{"$f":"I23","v":0},null,{"$f":"J22","v":0},"M",null,null,{"$f":"D19","v":0},null,{"$f":"E19","v":0},{"$f":"D25","v":0},null,{"$f":"E25","v":0},null,{"$f":"AH22+AK22+AQ22+AT22","v":0},null,{"$f":"AJ22+AM22+AS22+AV22","v":0},{"$f":"BN22","v":{"$error":"#DIV/0!"}},null,{"$f":"AY23","v":0.04},{"$f":"RANK(BC22,BC$16:BC$30,0)","v":1},{"$f":"AZ24","v":{"$error":"#DIV/0!"}},{"$f":"RANK(BE22,BE$16:BE$30,0)","v":{"$error":"#DIV/0!"}},{"$f":"MAX(AJ24,AM24,AS24,AV24)","v":{"$error":"#DIV/0!"}},{"$f":"RANK(BG22,BG$16:BG$30)","v":{"$error":"#DIV/0!"}},{"$f":"AX24","v":0},{"$f":"RANK(BI22,BI$16:BI$30)","v":1},{"$f":"(BD22*1000)+(BF22*100)+(BH22*10)+(BJ22*1)","v":{"$error":"#DIV/0!"}},{"$f":"BK22","v":{"$error":"#DIV/0!"}},{"$f":"RANK(BL22,BL$16:BL$30,1)","v":{"$error":"#DIV/0!"}},{"$f":"RANK(BM22,BM$16:BM$30,1)","v":{"$error":"#DIV/0!"}}]
[null,null,{"$f":"AF28","v":0},null,null,null,null,{"$f":"AF22","v":0},null,null,null,null,null,null,null,2,{"$f":"IF(BA16=2,AF16,IF(BA19=2,AF19,IF(BA22=2,AF22,IF(BA25=2,AF25,IF(BA28=2,AF28,)))))","v":{"$error":"#DIV/0!"}},null,null,{"$f":"IF(BA16=2,AX16,IF(BA19=2,AX19,IF(BA22=2,AX22,IF(BA25=2,AX25,IF(BA28=2,AX28,)))))","v":{"$error":"#DIV/0!"}},{"$f":"IF(BA16=2,AZ16,IF(BA19=2,AZ19,IF(BA22=2,AZ22,IF(BA25=2,AZ25,IF(BA28=2,AZ28,)))))","v":{"$error":"#DIV/0!"}},{"$f":"IF(BA16=2,AX18,IF(BA19=2,AX21,IF(BA22=2,AX24,IF(BA25=2,AX27,IF(BA28=2,AX30,)))))","v":{"$error":"#DIV/0!"}},null,null,null,null,null,null,null,null,null,null,null,null,{"$f":"IF(AP16>0,2-AO17,0.01)","v":0.01},null,null,{"$f":"IF(AP19>0,2-AO20,0.01)","v":0.01},null,null,null,null,null,{"$f":"IF(AS22<1,0.01,IF(AQ22>AN25,2,IF(AQ22=AN25,1,0)))","v":0.01},null,null,{"$f":"IF(AV22<1,0.01,IF(AT22>AN28,2,IF(AT22=AN28,1,0)))","v":0.01},null,null,null,{"$f":"AI23+AL23+AR23+AU23","v":0.04}]
[null,null,null,null,null,null,null,null,null,null,null,null,{"$f":"AF19","v":0},null,null,3,{"$f":"IF(BA16=3,AF16,IF(BA19=3,AF19,IF(BA22=3,AF22,IF(BA25=3,AF25,IF(BA28=3,AF28,)))))","v":{"$error":"#DIV/0!"}},null,null,{"$f":"IF(BA16=3,AX16,IF(BA19=3,AX19,IF(BA22=3,AX22,IF(BA25=3,AX25,IF(BA28=3,AX28,)))))","v":{"$error":"#DIV/0!"}},{"$f":"IF(BA16=3,AZ16,IF(BA19=3,AZ19,IF(BA22=3,AZ22,IF(BA25=3,AZ25,IF(BA28=3,AZ28,)))))","v":{"$error":"#DIV/0!"}},{"$f":"IF(BA16=3,AX18,IF(BA19=3,AX21,IF(BA22=3,AX24,IF(BA25=3,AX27,IF(BA28=3,AX30,)))))","v":{"$error":"#DIV/0!"}},null,null,null,null,null,null,null,null,null,null,null,{"$f":"K29","v":0},null,{"$f":"AH22/AJ22","v":{"$error":"#DIV/0!"}},{"$f":"K23","v":0},null,{"$f":"AK22/AM22","v":{"$error":"#DIV/0!"}},null,null,null,{"$f":"F19","v":0},null,{"$f":"AQ22/AS22","v":{"$error":"#DIV/0!"}},{"$f":"F25","v":0},null,{"$f":"AT22/AV22","v":{"$error":"#DIV/0!"}},null,{"$f":"MAXA(AH24,AK24,AQ24,AT24)","v":0},null,{"$f":"AX22/AZ22","v":{"$error":"#DIV/0!"}}]
[null,"Tour 3",{"$f":"AF22","v":0},null,null,null,null,{"$f":"AF16","v":0},null,null,null,null,null,null,null,4,{"$f":"IF(BA16=4,AF16,IF(BA19=4,AF19,IF(BA22=4,AF22,IF(BA25=4,AF25,IF(BA28=4,AF28,)))))","v":{"$error":"#DIV/0!"}},null,null,{"$f":"IF(BA16=4,AX16,IF(BA19=4,AX19,IF(BA22=4,AX22,IF(BA25=4,AX25,IF(BA28=4,AX28,)))))","v":{"$error":"#DIV/0!"}},{"$f":"IF(BA16=4,AZ16,IF(BA19=4,AZ19,IF(BA22=4,AZ22,IF(BA25=4,AZ25,IF(BA28=4,AZ28,)))))","v":{"$error":"#DIV/0!"}},{"$f":"IF(BA16=4,AX18,IF(BA19=4,AX21,IF(BA22=4,AX24,IF(BA25=4,AX27,IF(BA28=4,AX30,)))))","v":{"$error":"#DIV/0!"}},null,null,null,null,null,null,null,null,null,{"$f":"'SaisieJoueurs Finale'!D21","v":0},null,{"$f":"I26","v":0},null,{"$f":"J25","v":0},{"$f":"D29","v":0},null,{"$f":"E28","v":0},{"$f":"D20","v":0},null,{"$f":"E19","v":0},"B",null,null,{"$f":"I31","v":0},null,{"$f":"J31","v":0},null,{"$f":"AH25+AK25+AN25+AT25","v":0},null,{"$f":"AJ25+AM25+AP25+AV25","v":0},{"$f":"BN25","v":{"$error":"#DIV/0!"}},null,{"$f":"AY26","v":0.04},{"$f":"RANK(BC25,BC$16:BC$30,0)","v":1},{"$f":"AZ27","v":{"$error":"#DIV/0!"}},{"$f":"RANK(BE25,BE$16:BE$30,0)","v":{"$error":"#DIV/0!"}},{"$f":"MAX(AJ27,AM27,AP27)","v":{"$error":"#DIV/0!"}},{"$f":"RANK(BG25,BG$16:BG$30)","v":{"$error":"#DIV/0!"}},{"$f":"AX27","v":0},{"$f":"RANK(BI25,BI$16:BI$30)","v":1},{"$f":"(BD25*1000)+(BF25*100)+(BH25*10)+(BJ25*1)","v":{"$error":"#DIV/0!"}},{"$f":"BK25","v":{"$error":"#DIV/0!"}},{"$f":"RANK(BL25,BL$16:BL$30,1)","v":{"$error":"#DIV/0!"}},{"$f":"RANK(BM25,BM$16:BM$30,1)","v":{"$error":"#DIV/0!"}}]
[null,null,{"$f":"AF28","v":0},null,null,null,null,{"$f":"AF25","v":0},null,null,null,null,null,null,null,5,{"$f":"IF(BA16=5,AF16,IF(BA19=5,AF19,IF(BA22=5,AF22,IF(BA25=5,AF25,IF(BA28=5,AF28,)))))","v":{"$error":"#DIV/0!"}},null,null,{"$f":"IF(BA16=5,AX16,IF(BA19=5,AX19,IF(BA22=5,AX22,IF(BA25=5,AX25,IF(BA28=5,AX28,)))))","v":{"$error":"#DIV/0!"}},{"$f":"IF(BA16=5,AZ16,IF(BA19=5,AZ19,IF(BA22=5,AZ22,IF(BA25=5,AZ25,IF(BA28=5,AZ28,)))))","v":{"$error":"#DIV/0!"}},{"$f":"IF(BA16=5,AX18,IF(BA19=5,AX21,IF(BA22=5,AX24,IF(BA25=5,AX27,IF(BA28=5,AX30,)))))","v":{"$error":"#DIV/0!"}},null,null,null,null,null,null,null,null,null,null,null,null,{"$f":"IF(AS16>0,2-AR17,0.01)","v":0.01},null,null,{"$f":"IF(AS19>0,2-AR20,0.01)","v":0.01},null,null,{"$f":"IF(AS22>0,2-AR23,0.01)","v":0.01},null,null,null,null,null,{"$f":"IF(AV25<1,0.01,IF(AT25>AQ28,2,IF(AT25=AQ28,1,0)))","v":0.01},null,null,null,{"$f":"AI26+AL26+AO26+AU26","v":0.04}]
[null,null,null,null,null,null,null,null,null,null,null,null,{"$f":"AF28","v":0},null,null,null,null,null,null,null,null,null,null,null,null,null,null,null,null,null,null,null,null,{"$f":"K26","v":0},null,{"$f":"AH25/AJ25","v":{"$error":"#DIV/0!"}},{"$f":"F29","v":0},null,{"$f":"AK25/AM25","v":{"$error":"#DIV/0!"}},{"$f":"F20","v":0},null,{"$f":"AN25/AP25","v":{"$error":"#DIV/0!"}},null,null,null,{"$f":"K31","v":0},null,{"$f":"AT25/AV25","v":{"$error":"#DIV/0!"}},null,{"$f":"MAXA(AH27,AK27,AN27,AT27)","v":0},null,{"$f":"AX25/AZ25","v":{"$error":"#DIV/0!"}}]
[null,"Tour 4",{"$f":"AF19","v":0},null,null,null,null,{"$f":"AF16","v":0},null,null,null,null,null,null,null,null,null,null,null,null,null,null,null,null,null,null,null,null,null,null,null,{"$f":"'SaisieJoueurs Finale'!D22","v":0},null,{"$f":"D23","v":0},null,{"$f":"E22","v":0},{"$f":"I20","v":0},null,{"$f":"J19","v":0},{"$f":"D26","v":0},null,{"$f":"E25","v":0},{"$f":"I32","v":0},null,{"$f":"J31","v":0},null,null,null,null,{"$f":"AH28+AK28+AN28+AQ28","v":0},null,{"$f":"AJ28+AM28+AP28+AS28","v":0},{"$f":"BN28","v":{"$error":"#DIV/0!"}},null,{"$f":"AY29","v":0.04},{"$f":"RANK(BC28,BC$16:BC$30,0)","v":1},{"$f":"AZ30","v":{"$error":"#DIV/0!"}},{"$f":"RANK(BE28,BE$16:BE$30,0)","v":{"$error":"#DIV/0!"}},{"$f":"MAX(AJ30,AM30,AP30)","v":{"$error":"#DIV/0!"}},{"$f":"RANK(BG28,BG$16:BG$30)","v":{"$error":"#DIV/0!"}},{"$f":"AX30","v":0},{"$f":"RANK(BI28,BI$16:BI$30)","v":1},{"$f":"(BD28*1000)+(BF28*100)+(BH28*10)+(BJ28*1)","v":{"$error":"#DIV/0!"}},{"$f":"BK28","v":{"$error":"#DIV/0!"}},{"$f":"RANK(BL28,BL$16:BL$30,1)","v":{"$error":"#DIV/0!"}},{"$f":"RANK(BM28,BM$16:BM$30,1)","v":{"$error":"#DIV/0!"}}]
[null,null,{"$f":"AF25","v":0},null,null,null,null,{"$f":"AF22","v":0},null,null,null,null,null,null,null,null,null,null,null,null,null,null,null,null,null,null,null,null,null,null,null,null,null,null,{"$f":"IF(AV16>0,2-AU17,0.01)","v":0.01},null,null,{"$f":"IF(AV19>0,2-AU20,0.01)","v":0.01},null,null,{"$f":"IF(AV22>0,2-AU23,0.01)","v":0.01},null,null,{"$f":"IF(AV25>0,2-AU26,0.01)","v":0.01},null,null,null,null,null,null,{"$f":"AI29+AL29+AO29+AR29","v":0.04}]
[null,null,null,null,null,null,null,null,null,null,null,null,{"$f":"AF22","v":0},null,null,null,null,null,null,null,null,null,null,null,null,null,null,null,null,null,null,null,null,{"$f":"F23","v":0},null,{"$f":"AH28/AJ28","v":{"$error":"#DIV/0!"}},{"$f":"K20","v":0},null,{"$f":"AK28/AM28","v":{"$error":"#DIV/0!"}},{"$f":"F26","v":0},null,{"$f":"AN28/AP28","v":{"$error":"#DIV/0!"}},{"$f":"K32","v":0},null,{"$f":"AQ28/AS28","v":{"$error":"#DIV/0!"}},null,null,null,null,{"$f":"MAXA(AH30,AK30,AN30,AQ30)","v":0},null,{"$f":"AX28/AZ28","v":{"$error":"#DIV/0!"}}]
[null,"Tour 5",{"$f":"AF16","v":0},null,null,null,null,{"$f":"AF25","v":0}]
[null,null,{"$f":"AF19","v":0},null,null,null,null,{"$f":"AF28","v":0}]

{"sheet":"3JOUEURS","index":14,"n_rows":37,"n_cols":64,"rows_kept":37,"cut":false,"hidden":true,"merged":[[2,1,3,2],[2,3,3,9],[5,1,6,2],[5,3,6,9],[1,12,3,24],[5,12,5,15],[5,17,5,18],[6,12,6,15],[6,17,6,18],[21,54,21,55],[26,57,28,57],[23,54,25,54],[23,55,25,55],[23,56,25,56],[26,54,28,54],[21,62,22,62],[23,62,25,62],[23,61,25,61],[21,57,21,58],[23,57,25,57],[21,59,21,60],[23,60,25,60],[23,58,25,58],[23,59,25,59],[26,50,28,50],[17,28,17,36],[29,50,31,50],[23,28,25,30],[26,31,28,33],[29,34,31,36],[29,43,31,45],[23,37,25,39],[26,40,28,42],[17,37,17,45],[19,37,22,39],[19,40,22,42],[19,43,22,45],[23,50,25,50],[19,28,22,30],[19,31,22,33],[8,2,8,5],[9,2,9,5],[10,2,10,5],[11,2,11,5],[23,26,25,27],[18,13,18,15],[19,13,19,15],[8,12,8,22],[16,10,16,11],[35,1,36,1],[35,4,36,4],[32,1,33,1],[32,4,33,4],[29,1,30,1],[29,4,30,4],[19,34,22,36],[13,1,14,5],[20,26,22,27],[16,1,17,2],[16,13,16,15],[17,13,17,15],[20,4,21,4],[13,12,14,19],[23,1,24,1],[23,4,24,4],[20,1,21,1],[26,26,28,27],[29,26,31,27],[26,1,27,1],[26,4,27,4],[26,52,28,52],[29,62,31,62],[29,61,31,61],[26,60,28,60],[29,60,31,60],[29,58,31,58],[29,59,31,59],[26,53,28,53],[26,58,28,58],[26,62,28,62],[26,61,28,61],[26,59,28,59],[23,63,25,63],[26,63,28,63],[29,63,31,63],[29,57,31,57],[19,47,22,49],[19,50,22,50],[21,52,21,53],[23,52,25,52],[23,53,25,53],[29,55,31,55],[29,56,31,56],[29,52,31,52],[29,53,31,53],[29,54,31,54],[26,56,28,56],[26,55,28,55]]}
[]
[null,null,null,null,null,null,null,null,null,null,null,null,"LIGUE MÉDITERRANÉENNE DE BILLARD"]
[null,"CLUB ORGANISATEUR"]
[]
[]
[null,"DIRECTEUR DE JEU :",null,null,null,null,null,null,null,null,null,null,"Compétition",null,null,null,null,"Mode de jeu",null,null,"Categorie"]
[]
[]
[null,"Joueur 1",{"$f":"'Saisie des joueurs'!L18","v":0},null,null,null,null,null,null,null,null,null,"Pas de prolongation en cas de match nul."]
[null,"Joueur 2",{"$f":"'Saisie des joueurs'!L19","v":0}]
[null,"Joueur 3",{"$f":"'Saisie des joueurs'!L20","v":0}]
[]
[]
[null,"SAISIE DES RESULTATS",null,null,null,null,null,null,null,null,null,null,"CLASSEMENT DU TOURNOI"]
[]
[]
[null,"POULE A",null,null,null,null,null,null,null,null,"Pts Tournoi",null,null,"NOM",null,null,"Pts","Rep","Serie","Moy"]
[null,null,null,null,null,null,null,null,null,null,120,null,1,{"$f":"IF(AY24=1,AA24,IF(AY27=1,AA27,IF(AY30=1,AA30,)))","v":{"$error":"#DIV/0!"}},null,null,{"$f":"IF(AY24=1,AV24,IF(AY27=1,AV27,IF(AY30=1,AV30,)))","v":{"$error":"#DIV/0!"}},{"$f":"IF(AY24=1,AX24,IF(AY27=1,AX27,IF(AY30=1,AX30,)))","v":{"$error":"#DIV/0!"}},{"$f":"IF(AY24=1,AR26,IF(AY27=1,AV29,IF(AY30=1,AV32,)))","v":{"$error":"#DIV/0!"}},{"$f":"Q18/R18","v":{"$error":"#DIV/0!"}},null,null,null,null,null,null,null,null,"MATCH ALLER",null,null,null,null,null,null,null,null,"MATCH RETOUR"]
[null,null,null,null,null,null,null,null,null,null,90,null,2,{"$f":"IF(AY24=2,AA24,IF(AY27=2,AA27,IF(AY30=2,AA30,)))","v":{"$error":"#DIV/0!"}},null,null,{"$f":"IF(AY24=2,AV24,IF(AY27=2,AV27,IF(AY30=2,AV30,)))","v":{"$error":"#DIV/0!"}},{"$f":"IF(AY24=2,AX24,IF(AY27=2,AX27,IF(AY30=2,AX30,)))","v":{"$error":"#DIV/0!"}},{"$f":"IF(AY24=2,AR26,IF(AY27=2,AV29,IF(AY30=2,AV32,)))","v":{"$error":"#DIV/0!"}},{"$f":"Q19/R19","v":{"$error":"#DIV/0!"}}]
[null,null,null,"Pts","Rep","Série",null,null,null,null,70,null,3,{"$f":"IF(AY24=3,AA24,IF(AY27=3,AA27,IF(AY30=3,AA30,)))","v":{"$error":"#DIV/0!"}},null,null,{"$f":"IF(AY24=3,AV24,IF(AY27=3,AV27,IF(AY30=3,AV30,)))","v":{"$error":"#DIV/0!"}},{"$f":"IF(AY24=3,AX24,IF(AY27=3,AX27,IF(AY30=3,AX30,)))","v":{"$error":"#DIV/0!"}},{"$f":"IF(AY24=3,AR26,IF(AY27=3,AV29,IF(AY30=3,AV32,)))","v":{"$error":"#DIV/0!"}},{"$error":"#DIV/0!"},null,null,null,null,null,null,null,null,{"$f":"C9","v":0},null,null,{"$f":"C10","v":0},null,null,{"$f":"C11","v":0},null,null,{"$f":"C9","v":0},null,null,{"$f":"C10","v":0},null,null,{"$f":"C11","v":0},null,null,null,"TOTAUX",null,null,"CLASSEMENT"]
[null,"Tour 1\nMatch aller",{"$f":"C9","v":0}]
[null,null,{"$f":"C11","v":0},null,null,null,null,null,null,null,null,null,null,null,null,null,null,null,null,null,null,null,null,null,null,null,null,null,null,null,null,null,null,null,null,null,null,null,null,null,null,null,null,null,null,null,null,null,null,null,null,null,"Classement",null,"Classement",null,"Classement","Classement",null,"Classement",null,"GENERAL","RANG"]
[null,null,null,null,null,null,null,null,null,null,null,null,null,null,null,null,null,null,null,null,null,null,null,null,null,null,null,null,null,null,null,null,null,null,null,null,null,null,null,null,null,null,null,null,null,null,null,null,null,null,null,null,"Point-Match","CLS-M","Moy-Gen","CLS-G","Moy-Part","M-Series","CLS-S","MGPS","CLS","CLS"]
[null,"Tour 2\nMatch aller",{"$f":"C10","v":0},null,null,null,null,null,null,null,null,null,null,null,null,null,null,null,null,null,null,null,null,null,null,null,{"$f":"C9","v":0},null,"L",null,null,{"$f":"D27","v":0},null,{"$f":"E27","v":0},{"$f":"D21","v":0},null,{"$f":"E21","v":0},"L",null,null,{"$f":"D36","v":0},null,{"$f":"E36","v":0},{"$f":"D30","v":0},null,{"$f":"E30","v":0},null,{"$f":"AF24+AI24+AO24+AR24","v":0},null,{"$f":"AH24+AK24+AQ24+AT24","v":0},{"$f":"BK24","v":{"$error":"#DIV/0!"}},null,{"$f":"AW25","v":0.04},{"$f":"RANK(BA24,BA$24:BA$32,0)","v":1},{"$f":"AX26","v":{"$error":"#DIV/0!"}},{"$f":"RANK(BC24,BC$24:BC$32,0)","v":{"$error":"#DIV/0!"}},{"$f":"MAX(AH26,AK26,AQ26,AT26)","v":{"$error":"#DIV/0!"}},{"$f":"RANK(BE24,BE$24:BE$32)","v":{"$error":"#DIV/0!"}},{"$f":"AV26","v":0},{"$f":"RANK(BG24,BG$24:BG$32)","v":1},{"$f":"(BB24*1000)+(BD24*100)+(BF24*10)+(BH24*1)","v":{"$error":"#DIV/0!"}},{"$f":"BI24","v":{"$error":"#DIV/0!"}},{"$f":"RANK(BJ24,BJ$24:BJ$32,1)","v":{"$error":"#DIV/0!"}},{"$f":"RANK(BK24,BK$24:BK$32,1)","v":{"$error":"#DIV/0!"}}]
[null,null,{"$f":"C11","v":0},null,null,null,null,null,null,null,null,null,null,null,null,null,null,null,null,null,null,null,null,null,null,null,null,null,null,null,null,null,{"$f":"IF(AH24<1,0.01,IF(AF24>AC27,2,IF(AF24=AC27,1,0)))","v":0.01},null,null,{"$f":"IF(AK24<1,0.01,IF(AI24>AC30,2,IF(AI24=AC30,1,0)))","v":0.01},null,null,null,null,null,{"$f":"IF(AQ24<1,0.01,IF(AO24>AL27,2,IF(AO24=AL27,1,0)))","v":0.01},null,null,{"$f":"IF(AT24<1,0.01,IF(AR24>AL30,2,IF(AR24=AL30,1,0)))","v":0.01},null,null,null,{"$f":"AG25+AJ25+AP25+AS25","v":0.04}]
[null,null,null,null,null,null,null,null,null,null,null,null,null,null,null,null,null,null,null,null,null,null,null,null,null,null,null,null,null,null,null,{"$f":"F27","v":0},null,{"$f":"AF24/AH24","v":{"$error":"#DIV/0!"}},{"$f":"F21","v":0},null,{"$f":"AI24/AK24","v":{"$error":"#DIV/0!"}},null,null,null,{"$f":"F36","v":0},null,{"$f":"AO24/AQ24","v":{"$error":"#DIV/0!"}},{"$f":"F30","v":0},null,{"$f":"AR24/AT24","v":{"$error":"#DIV/0!"}},null,{"$f":"MAX(AF26,AI26,AO26,AR26)","v":0},null,{"$f":"AV24/AX24","v":{"$error":"#DIV/0!"}}]
[null,"Tour 3\nMatch aller",{"$f":"C9","v":0},null,null,null,null,null,null,null,null,null,null,null,null,null,null,null,null,null,null,null,null,null,null,null,{"$f":"C10","v":0},null,{"$f":"D28","v":0},null,{"$f":"E27","v":0},"M",null,null,{"$f":"D24","v":0},null,{"$f":"E24","v":0},{"$f":"D37","v":0},null,{"$f":"E36","v":0},"M",null,null,{"$f":"D33","v":0},null,{"$f":"E33","v":0},null,{"$f":"AC27+AI27+AL27+AR27","v":0},null,{"$f":"AE27+AK27+AN27+AT27","v":0},{"$f":"BK27","v":{"$error":"#DIV/0!"}},null,{"$f":"AW28","v":0.04},{"$f":"RANK(BA27,BA$24:BA$32,0)","v":1},{"$f":"AX29","v":{"$error":"#DIV/0!"}},{"$f":"RANK(BC27,BC$24:BC$32,0)","v":{"$error":"#DIV/0!"}},{"$f":"MAX(AH29,AK29,AQ29,AT29)","v":{"$error":"#DIV/0!"}},{"$f":"RANK(BE27,BE$24:BE$32)","v":{"$error":"#DIV/0!"}},{"$f":"AV29","v":0},{"$f":"RANK(BG27,BG$24:BG$32)","v":1},{"$f":"(BB27*1000)+(BD27*100)+(BF27*10)+(BH27*1)","v":{"$error":"#DIV/0!"}},{"$f":"BI27","v":{"$error":"#DIV/0!"}},{"$f":"RANK(BJ27,BJ$24:BJ$32,1)","v":{"$error":"#DIV/0!"}},{"$f":"RANK(BK27,BK$24:BK$32,1)","v":{"$error":"#DIV/0!"}}]
[null,null,{"$f":"C10","v":0},null,null,null,null,null,null,null,null,null,null,null,null,null,null,null,null,null,null,null,null,null,null,null,null,null,null,{"$f":"IF(AH24>0,2-AG25,0.01)","v":0.01},null,null,null,null,null,{"$f":"IF(AK27<1,0.01,IF(AI27>AF30,2,IF(AI27=AF30,1,0)))","v":0.01},null,null,{"$f":"IF(AQ24>0,2-AP25,0.01)","v":0.01},null,null,null,null,null,{"$f":"IF(AT27<1,0.01,IF(AR27>AO30,2,IF(AR27=AO30,1,0)))","v":0.01},null,null,null,{"$f":"AD28+AJ28+AM28+AS28","v":0.04}]
[null,null,null,null,null,null,null,null,null,null,null,null,null,null,null,null,null,null,null,null,null,null,null,null,null,null,null,null,{"$f":"F28","v":0},null,{"$f":"AC27/AE27","v":{"$error":"#DIV/0!"}},null,null,null,{"$f":"F24","v":0},null,{"$f":"AI27/AK27","v":{"$error":"#DIV/0!"}},{"$f":"F37","v":0},null,{"$f":"AL27/AN27","v":{"$error":"#DIV/0!"}},null,null,null,{"$f":"F33","v":0},null,{"$f":"AR27/AT27","v":{"$error":"#DIV/0!"}},null,{"$f":"MAXA(AC29,AI29,AL29,AR29)","v":0},null,{"$f":"AV27/AX27","v":{"$error":"#DIV/0!"}}]
[null,"Tour 1\nMatch retour",{"$f":"C9","v":0},null,null,null,null,null,null,null,null,null,null,null,null,null,null,null,null,null,null,null,null,null,null,null,{"$f":"C11","v":0},null,{"$f":"D22","v":0},null,{"$f":"E21","v":0},{"$f":"D25","v":0},null,{"$f":"E24","v":0},"B",null,null,{"$f":"D31","v":0},null,{"$f":"E30","v":0},{"$f":"D34","v":0},null,{"$f":"E33","v":0},"B",null,null,null,{"$f":"AC30+AF30+AL30+AO30","v":0},null,{"$f":"AE30+AH30+AN30+AQ30","v":0},{"$f":"BK30","v":{"$error":"#DIV/0!"}},null,{"$f":"AW31","v":0.04},{"$f":"RANK(BA30,BA$24:BA$32,0)","v":1},{"$f":"AX32","v":{"$error":"#DIV/0!"}},{"$f":"RANK(BC30,BC$24:BC$32,0)","v":{"$error":"#DIV/0!"}},{"$f":"MAX(AH32,AK32,AQ32,AT32)","v":{"$error":"#DIV/0!"}},{"$f":"RANK(BE30,BE$24:BE$32)","v":{"$error":"#DIV/0!"}},{"$f":"AV32","v":0},{"$f":"RANK(BG30,BG$24:BG$32)","v":1},{"$f":"(BB30*1000)+(BD30*100)+(BF30*10)+(BH30*1)","v":{"$error":"#DIV/0!"}},{"$f":"BI30","v":{"$error":"#DIV/0!"}},{"$f":"RANK(BJ30,BJ$24:BJ$32,1)","v":{"$error":"#DIV/0!"}},{"$f":"RANK(BK30,BK$24:BK$32,1)","v":{"$error":"#DIV/0!"}}]
[null,null,{"$f":"C11","v":0},null,null,null,null,null,null,null,null,null,null,null,null,null,null,null,null,null,null,null,null,null,null,null,null,null,null,{"$f":"IF(AK24>0,2-AJ25,0.01)","v":0.01},null,null,{"$f":"IF(AK27>0,2-AJ28,0.01)","v":0.01},null,null,null,null,null,{"$f":"IF(AT24>0,2-AS25,0.01)","v":0.01},null,null,{"$f":"IF(AT27>0,2-AS28,0.01)","v":0.01},null,null,null,null,null,null,{"$f":"AD31+AG31+AM31+AP31","v":0.04}]
[null,null,null,null,null,null,null,null,null,null,null,null,null,null,null,null,null,null,null,null,null,null,null,null,null,null,null,null,{"$f":"F22","v":0},null,{"$f":"AC30/AE30","v":{"$error":"#DIV/0!"}},{"$f":"F25","v":0},null,{"$f":"AF30/AH30","v":{"$error":"#DIV/0!"}},null,null,null,{"$f":"F31","v":0},null,{"$f":"AL30/AN30","v":{"$error":"#DIV/0!"}},{"$f":"F34","v":0},null,{"$f":"AO30/AQ30","v":{"$error":"#DIV/0!"}},null,null,null,null,{"$f":"MAXA(AC32,AF32,AL32,AO32)","v":0},null,{"$f":"AV30/AX30","v":{"$error":"#DIV/0!"}}]
[null,"Tour 2\nMatch retour",{"$f":"C10","v":0}]
[null,null,{"$f":"C11","v":0}]
[]
[null,"Tour 3\nMatch retour",{"$f":"C9","v":0}]
[null,null,{"$f":"C10","v":0}]

{"sheet":"4JOUEURS","index":15,"n_rows":37,"n_cols":58,"rows_kept":37,"cut":false,"hidden":true,"merged":[[20,31,22,33],[20,44,22,44],[13,34,16,36],[17,51,19,51],[20,50,22,50],[20,51,22,51],[20,52,22,52],[17,56,19,56],[17,57,19,57],[20,53,22,53],[20,54,22,54],[20,56,22,56],[20,57,22,57],[20,55,22,55],[20,49,22,49],[20,46,22,46],[20,47,22,47],[20,48,22,48],[13,41,16,43],[13,44,16,44],[13,37,16,39],[15,57,16,57],[17,48,19,48],[17,49,19,49],[15,46,15,47],[17,44,19,44],[17,46,19,46],[17,47,19,47],[17,54,19,54],[17,55,19,55],[15,48,15,49],[15,54,15,55],[15,50,15,51],[15,52,15,53],[17,52,19,52],[17,53,19,53],[17,50,19,50],[13,28,16,30],[13,31,16,33],[17,26,19,27],[17,28,19,30],[16,1,17,2],[13,12,14,18],[16,13,16,15],[17,13,17,15],[18,13,18,15],[19,13,19,15],[15,9,16,11],[26,54,28,54],[23,55,25,55],[23,56,25,56],[23,57,25,57],[26,1,27,1],[26,4,27,4],[26,26,28,27],[26,37,28,39],[26,44,28,44],[26,46,28,46],[23,48,25,48],[26,56,28,56],[26,57,28,57],[26,49,28,49],[26,50,28,50],[26,51,28,51],[23,54,25,54],[23,50,25,50],[23,51,25,51],[26,55,28,55],[26,52,28,52],[23,1,24,1],[23,4,24,4],[23,26,25,27],[32,1,33,1],[32,4,33,4],[35,1,36,1],[35,4,36,4],[26,53,28,53],[29,1,30,1],[29,4,30,4],[23,52,25,52],[23,53,25,53],[30,28,30,39],[26,47,28,47],[26,48,28,48],[23,34,25,36],[23,44,25,44],[23,46,25,46],[23,47,25,47],[23,49,25,49],[20,1,21,1],[20,4,21,4],[20,26,22,27],[2,1,3,2],[2,3,3,9],[5,1,6,2],[5,3,6,9],[1,12,3,24],[5,12,5,15],[5,17,5,18],[6,12,6,15],[6,17,6,18],[8,2,8,5],[9,2,9,5],[13,26,16,27],[10,2,10,5],[11,2,11,5],[13,1,14,5],[8,12,8,22],[20,13,20,15]]}
[]
[null,null,null,null,null,null,null,null,null,null,null,null,"LIGUE MÉDITERRANÉENNE DE BILLARD"]
[null,"CLUB ORGANISATEUR"]
[]
[]
[null,"DIRECTEUR DE JEU :",null,null,null,null,null,null,null,null,null,null,"Compétition",null,null,null,null,"Mode de jeu",null,null,"Categorie"]
[]
[]
[null,"Joueur 1",{"$f":"'Saisie des joueurs'!L18","v":0},null,null,null,null,null,null,null,null,null,"Pas de prolongation en cas de match nul."]
[null,"Joueur 2",{"$f":"'Saisie des joueurs'!L19","v":0}]
[null,"Joueur 3",{"$f":"'Saisie des joueurs'!L20","v":0}]
[null,"Joueur 4",{"$f":"'Saisie des joueurs'!L21","v":0}]
[]
[null,"SAISIE DES RESULTATS",null,null,null,null,null,null,null,null,null,null,"CLASSEMENT DU TOURNOI",null,null,null,null,null,null,null,null,null,null,null,null,null,null,null,{"$f":"C9","v":0},null,null,{"$f":"C10","v":0},null,null,{"$f":"C11","v":0},null,null,{"$f":"C12","v":0},null,null,null,"TOTAUX",null,null,"CLASSEMENT"]
[]
[null,null,null,null,null,null,null,null,null,"Pts Tournoi",null,null,null,null,null,null,null,null,null,null,null,null,null,null,null,null,null,null,null,null,null,null,null,null,null,null,null,null,null,null,null,null,null,null,null,null,"Classement",null,"Classement",null,"Classement",null,"Classement",null,"Classement",null,"GENERAL","RANG"]
[null,"POULE A",null,null,null,null,null,null,null,null,null,null,null,"NOM",null,null,"Pts","Rep","Serie","Moy",null,null,null,null,null,null,null,null,null,null,null,null,null,null,null,null,null,null,null,null,null,null,null,null,null,null,"Point-Match","CLS-M","Moy-Gen","CLS-G","Moy-Part","CLS-P","M-Series","CLS-S","MGPS","CLS","CLS"]
[null,null,null,null,null,null,null,null,null,null,120,null,1,{"$f":"IF(AS18=1,AA18,IF(AS21=1,AA21,IF(AS24=1,AA24,IF(AS27=1,AA27,))))","v":{"$error":"#DIV/0!"}},null,null,{"$f":"IF(AS18=1,AP18,IF(AS21=1,AP21,IF(AS24=1,AP24,IF(AS27=1,AP27))))","v":{"$error":"#DIV/0!"}},{"$f":"IF(AS18=1,AR18,IF(AS21=1,AR21,IF(AS24=1,AR24,IF(AS27=1,AR27,))))","v":{"$error":"#DIV/0!"}},{"$f":"IF(AS18=1,AP20,IF(AS21=1,AP23,IF(AS24=1,AP26,IF(AS27=1,AP29,))))","v":{"$error":"#DIV/0!"}},{"$f":"Q18/R18","v":{"$error":"#DIV/0!"}},null,null,null,null,null,null,{"$f":"C9","v":0},null,"L",null,null,{"$f":"D33","v":0},null,{"$f":"E33","v":0},{"$f":"D27","v":0},null,{"$f":"E27","v":0},{"$f":"D21","v":0},null,{"$f":"E21","v":0},null,{"$f":"AF18+AI18+AL18","v":0},null,{"$f":"AH18+AK18+AN18","v":0},{"$f":"BF18","v":{"$error":"#DIV/0!"}},null,{"$f":"AQ19","v":0.03},{"$f":"RANK(AU18,AU$18:AU$29,0)","v":1},{"$f":"AR20","v":{"$error":"#DIV/0!"}},{"$f":"RANK(AW18,AW$18:AW$29,0)","v":{"$error":"#DIV/0!"}},{"$f":"MAX(AH20,AK20,AN20)","v":{"$error":"#DIV/0!"}},{"$f":"RANK(AY18,AY$18:AY$29)","v":{"$error":"#DIV/0!"}},{"$f":"AP20","v":0},{"$f":"RANK(BA18,BA$18:BA$29)","v":1},{"$f":"(AV18*1000)+(AX18*100)+(AZ18*10)+(BB18*1)","v":{"$error":"#DIV/0!"}},{"$f":"BC18","v":{"$error":"#DIV/0!"}},{"$f":"RANK(BD18,BD$18:BD$29,1)","v":{"$error":"#DIV/0!"}},{"$f":"RANK(BE18,BE$18:BE$29,1)","v":{"$error":"#DIV/0!"}}]
[null,null,null,null,null,null,null,null,null,null,90,null,2,{"$f":"IF(AS18=2,AA18,IF(AS21=2,AA21,IF(AS24=2,AA24,IF(AS27=2,AA27,))))","v":{"$error":"#DIV/0!"}},null,null,{"$f":"IF(AS18=2,AP18,IF(AS21=2,AP21,IF(AS24=2,AP24,IF(AS27=2,AP27))))","v":{"$error":"#DIV/0!"}},{"$f":"IF(AS18=2,AR18,IF(AS21=2,AR21,IF(AS24=2,AR24,IF(AS27=2,AR27,))))","v":{"$error":"#DIV/0!"}},{"$f":"IF(AS18=2,AP20,IF(AS21=2,AP23,IF(AS24=2,AP26,IF(AS27=2,AP29,))))","v":{"$error":"#DIV/0!"}},{"$f":"Q19/R19","v":{"$error":"#DIV/0!"}},null,null,null,null,null,null,null,null,null,null,null,null,{"$f":"IF(AH18<1,0.01,IF(AF18>AC21,2,IF(AF18=AC21,1,0)))","v":0.01},null,null,{"$f":"IF(AK18<1,0.01,IF(AI18>AC24,2,IF(AI18=AC24,1,0)))","v":0.01},null,null,{"$f":"IF(AN18<1,0.01,IF(AL18>AC27,2,IF(AL18=AC27,1,0)))","v":0.01},null,null,null,{"$f":"AG19+AJ19+AM19","v":0.03}]
[null,null,null,"Pts","Rep","Série",null,null,null,null,70,null,3,{"$f":"IF(AS18=3,AA18,IF(AS21=3,AA21,IF(AS24=3,AA24,IF(AS27=3,AA27,))))","v":{"$error":"#DIV/0!"}},null,null,{"$f":"IF(AS18=3,AP18,IF(AS21=3,AP21,IF(AS24=3,AP24,IF(AS27=3,AP27))))","v":{"$error":"#DIV/0!"}},{"$f":"IF(AS18=3,AR18,IF(AS21=3,AR21,IF(AS24=3,AR24,IF(AS27=3,AR27,))))","v":{"$error":"#DIV/0!"}},{"$f":"IF(AS18=3,AP20,IF(AS21=3,AP23,IF(AS24=3,AP26,IF(AS27=3,AP29,))))","v":{"$error":"#DIV/0!"}},{"$error":"#DIV/0!"},null,null,null,null,null,null,null,null,null,null,null,{"$f":"F33","v":0},null,{"$f":"AF18/AH18","v":{"$error":"#DIV/0!"}},{"$f":"F27","v":0},null,{"$f":"AI18/AK18","v":{"$error":"#DIV/0!"}},{"$f":"F21","v":0},null,{"$f":"AL18/AN18","v":{"$error":"#DIV/0!"}},null,{"$f":"MAX(AF20,AI20,AL20)","v":0},null,{"$f":"AP18/AR18","v":{"$error":"#DIV/0!"}}]
[null,"Tour 1",{"$f":"C9","v":0},null,null,null,null,null,null,null,70,null,4,{"$f":"IF(AS18=4,AA18,IF(AS21=4,AA21,IF(AS24=4,AA24,IF(AS27=4,AA27,))))","v":{"$error":"#DIV/0!"}},null,null,{"$f":"IF(AS18=4,AP18,IF(AS21=4,AP21,IF(AS24=4,AP24,IF(AS27=4,AP27))))","v":{"$error":"#DIV/0!"}},{"$f":"IF(AS18=4,AR18,IF(AS21=4,AR21,IF(AS24=4,AR24,IF(AS27=4,AR27,))))","v":{"$error":"#DIV/0!"}},{"$f":"IF(AS18=4,AP20,IF(AS21=4,AP23,IF(AS24=4,AP26,IF(AS27=4,AP29,))))","v":{"$error":"#DIV/0!"}},{"$error":"#DIV/0!"},null,null,null,null,null,null,{"$f":"C10","v":0},null,{"$f":"D34","v":0},null,{"$f":"E33","v":0},"M",null,null,{"$f":"D24","v":0},null,{"$f":"E24","v":0},{"$f":"D31","v":0},null,{"$f":"E30","v":0},null,{"$f":"AC21+AI21+AL21","v":0},null,{"$f":"AE21+AK21+AN21","v":0},{"$f":"BF21","v":{"$error":"#DIV/0!"}},null,{"$f":"AQ22","v":0.03},{"$f":"RANK(AU21,AU$18:AU$29,0)","v":1},{"$f":"AR23","v":{"$error":"#DIV/0!"}},{"$f":"RANK(AW21,AW$18:AW$29,0)","v":{"$error":"#DIV/0!"}},{"$f":"MAX(AE23,AK23,AN23)","v":{"$error":"#DIV/0!"}},{"$f":"RANK(AY21,AY$18:AY$29)","v":{"$error":"#DIV/0!"}},{"$f":"AP23","v":0},{"$f":"RANK(BA21,BA$18:BA$29)","v":1},{"$f":"(AV21*1000)+(AX21*100)+(AZ21*10)+(BB21*1)","v":{"$error":"#DIV/0!"}},{"$f":"BC21","v":{"$error":"#DIV/0!"}},{"$f":"RANK(BD21,BD$18:BD$29,1)","v":{"$error":"#DIV/0!"}},{"$f":"RANK(BE21,BE$18:BE$29,1)","v":{"$error":"#DIV/0!"}}]
[null,null,{"$f":"C12","v":0},null,null,null,null,null,null,null,null,null,null,null,null,null,null,null,null,null,null,null,null,null,null,null,null,null,null,{"$f":"IF(AH18>0,2-AG19,0.01)","v":0.01},null,null,null,null,null,{"$f":"IF(AK21<1,0.01,IF(AI21>AF24,2,IF(AI21=AF24,1,0)))","v":0.01},null,null,{"$f":"IF(AN21<1,0.01,IF(AL21>AF27,2,IF(AL21=AF27,1,0)))","v":0.01},null,null,null,{"$f":"AD22+AJ22+AM22","v":0.03}]
[null,null,null,null,null,null,null,null,null,null,null,null,null,null,null,null,null,null,null,null,null,null,null,null,null,null,null,null,{"$f":"F34","v":0},null,{"$f":"AC21/AE21","v":{"$error":"#DIV/0!"}},null,null,null,{"$f":"F24","v":0},null,{"$f":"AI21/AK21","v":{"$error":"#DIV/0!"}},{"$f":"F31","v":0},null,{"$f":"AL21/AN21","v":{"$error":"#DIV/0!"}},null,{"$f":"MAXA(AC23,AI23,AL23)","v":0},null,{"$f":"AP21/AR21","v":{"$error":"#DIV/0!"}}]
[null,"Tour 2",{"$f":"C10","v":0},null,null,null,null,null,null,null,null,null,null,null,null,null,null,null,null,null,null,null,null,null,null,null,{"$f":"C11","v":0},null,{"$f":"D28","v":0},null,{"$f":"E27","v":0},{"$f":"D25","v":0},null,{"$f":"E24","v":0},"B",null,null,{"$f":"D36","v":0},null,{"$f":"E36","v":0},null,{"$f":"AC24+AF24+AL24","v":0},null,{"$f":"AE24+AH24+AN24","v":0},{"$f":"BF24","v":{"$error":"#DIV/0!"}},null,{"$f":"AQ25","v":0.03},{"$f":"RANK(AU24,AU$18:AU$29,0)","v":1},{"$f":"AR26","v":{"$error":"#DIV/0!"}},{"$f":"RANK(AW24,AW$18:AW$29,0)","v":{"$error":"#DIV/0!"}},{"$f":"MAX(AE26,AH26,AN26)","v":{"$error":"#DIV/0!"}},{"$f":"RANK(AY24,AY$18:AY$29)","v":{"$error":"#DIV/0!"}},{"$f":"AP26","v":0},{"$f":"RANK(BA24,BA$18:BA$29)","v":1},{"$f":"(AV24*1000)+(AX24*100)+(AZ24*10)+(BB24*1)","v":{"$error":"#DIV/0!"}},{"$f":"BC24","v":{"$error":"#DIV/0!"}},{"$f":"RANK(BD24,BD$18:BD$29,1)","v":{"$error":"#DIV/0!"}},{"$f":"RANK(BE24,BE$18:BE$29,1)","v":{"$error":"#DIV/0!"}}]
[null,null,{"$f":"C11","v":0},null,null,null,null,null,null,null,null,null,null,null,null,null,null,null,null,null,null,null,null,null,null,null,null,null,null,{"$f":"IF(AK18>0,2-AJ19,0.01)","v":0.01},null,null,{"$f":"IF(AK21>0,2-AJ22,0.01)","v":0.01},null,null,null,null,null,{"$f":"IF(AN24<1,0.01,IF(AL24>AI27,2,IF(AL24=AI27,1,0)))","v":0.01},null,null,null,{"$f":"AD25+AG25+AM25","v":0.03}]
[null,null,null,null,null,null,null,null,null,null,null,null,null,null,null,null,null,null,null,null,null,null,null,null,null,null,null,null,{"$f":"F28","v":0},null,{"$f":"AC24/AE24","v":{"$error":"#DIV/0!"}},{"$f":"F25","v":0},null,{"$f":"AF24/AH24","v":{"$error":"#DIV/0!"}},null,null,null,{"$f":"F36","v":0},null,{"$f":"AL24/AN24","v":{"$error":"#DIV/0!"}},null,{"$f":"MAXA(AC26,AF26,AL26)","v":0},null,{"$f":"AP24/AR24","v":{"$error":"#DIV/0!"}}]
[null,"Tour 3",{"$f":"C9","v":0},null,null,null,null,null,null,null,null,null,null,null,null,null,null,null,null,null,null,null,null,null,null,null,{"$f":"C12","v":0},null,{"$f":"D22","v":0},null,{"$f":"E21","v":0},{"$f":"D30","v":0},null,{"$f":"E30","v":0},{"$f":"D37","v":0},null,{"$f":"E36","v":0},null,null,null,null,{"$f":"AC27+AF27+AI27","v":0},null,{"$f":"AE27+AH27+AK27","v":0},{"$f":"BF27","v":{"$error":"#DIV/0!"}},null,{"$f":"AQ28","v":0.03},{"$f":"RANK(AU27,AU$18:AU$29,0)","v":1},{"$f":"AR29","v":{"$error":"#DIV/0!"}},{"$f":"RANK(AW27,AW$18:AW$29,0)","v":{"$error":"#DIV/0!"}},{"$f":"MAX(AE29,AH29,AK29)","v":{"$error":"#DIV/0!"}},{"$f":"RANK(AY27,AY$18:AY$29)","v":{"$error":"#DIV/0!"}},{"$f":"AP29","v":0},{"$f":"RANK(BA27,BA$18:BA$29)","v":1},{"$f":"(AV27*1000)+(AX27*100)+(AZ27*10)+(BB27*1)","v":{"$error":"#DIV/0!"}},{"$f":"BC27","v":{"$error":"#DIV/0!"}},{"$f":"RANK(BD27,BD$18:BD$29,1)","v":{"$error":"#DIV/0!"}},{"$f":"RANK(BE27,BE$18:BE$29,1)","v":{"$error":"#DIV/0!"}}]
[null,null,{"$f":"C11","v":0},null,null,null,null,null,null,null,null,null,null,null,null,null,null,null,null,null,null,null,null,null,null,null,null,null,null,{"$f":"IF(AN18>0,2-AM19,0.01)","v":0.01},null,null,{"$f":"IF(AN21>0,2-AM22,0.01)","v":0.01},null,null,{"$f":"IF(AN24>0,2-AM25,0.01)","v":0.01},null,null,null,null,null,null,{"$f":"AD28+AG28+AJ28","v":0.03}]
[null,null,null,null,null,null,null,null,null,null,null,null,null,null,null,null,null,null,null,null,null,null,null,null,null,null,null,null,{"$f":"F22","v":0},null,{"$f":"AC27/AE27","v":{"$error":"#DIV/0!"}},{"$f":"F30","v":0},null,{"$f":"AF27/AH27","v":{"$error":"#DIV/0!"}},{"$f":"F37","v":0},null,{"$f":"AI27/AK27","v":{"$error":"#DIV/0!"}},null,null,null,null,{"$f":"MAXA(AC29,AF29,AI29)","v":0},null,{"$f":"AP27/AR27","v":{"$error":"#DIV/0!"}}]
[null,"Tour 4",{"$f":"C12","v":0}]
[null,null,{"$f":"C10","v":0},null,null,null,null,null,null,null,null,null,null,null,null,null,null,null,null,null,null,null,null,null,null,null,null,null,"Pas de prolongation en cas de match nul."]
[]
[null,"Tour 5",{"$f":"C9","v":0}]
[null,null,{"$f":"C10","v":0}]
[]
[null,"Tour 6",{"$f":"C11","v":0}]
[null,null,{"$f":"C12","v":0}]

{"sheet":"5JOUEURS","index":16,"n_rows":32,"n_cols":66,"rows_kept":32,"cut":false,"hidden":true,"merged":[[27,64,29,64],[27,65,29,65],[30,1,31,1],[30,4,31,4],[30,9,31,9],[27,56,29,56],[27,57,29,57],[27,58,29,58],[27,59,29,59],[27,60,29,60],[27,61,29,61],[29,12,31,12],[27,31,29,32],[27,45,29,47],[27,52,29,52],[27,54,29,54],[27,55,29,55],[27,1,28,1],[27,4,28,4],[27,9,28,9],[26,12,28,12],[24,31,26,32],[24,42,26,44],[24,52,26,52],[24,54,26,54],[24,55,26,55],[9,12,9,28],[27,62,29,62],[27,63,29,63],[24,56,26,56],[24,62,26,62],[24,63,26,63],[24,64,26,64],[12,31,14,32],[12,33,14,35],[12,36,14,38],[12,39,14,41],[12,42,14,44],[12,45,14,47],[12,49,14,51],[12,52,14,52],[13,54,13,55],[13,56,13,57],[13,60,13,61],[13,62,13,63],[21,16,21,18],[23,16,23,18],[24,16,24,18],[24,65,26,65],[24,57,26,57],[24,58,26,58],[24,59,26,59],[24,60,26,60],[24,61,26,61],[21,62,23,62],[15,58,17,58],[15,59,17,59],[15,60,17,60],[15,61,17,61],[21,63,23,63],[21,64,23,64],[21,65,23,65],[18,60,20,60],[18,61,20,61],[18,64,20,64],[18,65,20,65],[15,64,17,64],[24,1,25,1],[24,4,25,4],[24,9,25,9],[21,56,23,56],[21,57,23,57],[21,58,23,58],[21,59,23,59],[21,60,23,60],[21,61,23,61],[23,12,25,12],[21,31,23,32],[21,39,23,41],[21,52,23,52],[21,54,23,54],[21,55,23,55],[25,16,25,18],[20,12,22,12],[18,31,20,32],[18,36,20,38],[18,52,20,52],[18,54,20,54],[18,55,20,55],[18,1,19,1],[18,4,19,4],[15,31,17,32],[15,33,17,35],[15,52,17,52],[15,54,17,54],[15,55,17,55],[18,62,20,62],[18,63,20,63],[15,62,17,62],[15,63,17,63],[15,56,17,56],[15,57,17,57],[18,58,20,58],[18,59,20,59],[13,65,14,65],[15,65,17,65],[18,56,20,56],[2,1,3,2],[2,3,3,9],[5,1,6,2],[5,3,6,9],[11,15,12,28],[20,16,20,18],[1,12,3,28],[5,20,5,21],[5,17,5,18],[5,12,5,15],[5,23,5,25],[5,27,5,28],[6,27,6,28],[9,5,9,7],[6,12,6,15],[6,17,6,18],[6,20,6,21],[6,23,6,25],[15,12,16,12],[13,58,13,59],[18,57,20,57],[21,1,22,1],[21,4,22,4],[21,9,22,9],[11,1,12,10],[11,12,12,12],[14,2,15,5],[14,7,15,10],[22,16,22,18],[18,9,19,9],[17,12,19,12],[17,15,18,21]]}
[]
[null,null,null,null,null,null,null,null,null,null,null,null,"LIGUE MÉDITERRANÉENNE DE BILLARD"]
[null,"CLUB ORGANISATEUR"]
[]
[]
[null,"DIRECTEUR DE JEU :",null,null,null,null,null,null,null,null,null,null,"Compétition",null,null,null,null,"Mode de jeu",null,null,"Categorie",null,null,"Format billard",null,null,null,"Distance"]
[]
[]
[]
[null,null,null,null,null,null,null,null,null,null,null,null,"Pas de prolongation en cas de match nul."]
[]
[null,"SAISIE DES RESULTATS",null,null,null,null,null,null,null,null,null,null,null,null,null,"POULE UNIQUE LMB - 5 JOUEURS - SUR 2 BILLARDS - 1 EXEMPT"]
[null,null,null,null,null,null,null,null,null,null,null,null,null,null,null,null,null,null,null,null,null,null,null,null,null,null,null,null,null,null,null,null,null,{"$f":"'Saisie des joueurs'!L18","v":0},null,null,{"$f":"'Saisie des joueurs'!L19","v":0},null,null,{"$f":"'Saisie des joueurs'!L20","v":0},null,null,{"$f":"'Saisie des joueurs'!L21","v":0},null,null,{"$f":"'Saisie des joueurs'!L22","v":0},null,null,null,"TOTAUX",null,null,"CLASSEMENT"]
[null,null,null,null,null,null,null,null,null,null,null,null,null,null,null,null,null,null,null,null,null,null,null,null,null,null,null,null,null,null,null,null,null,null,null,null,null,null,null,null,null,null,null,null,null,null,null,null,null,null,null,null,null,null,"Classement",null,"Classement",null,"Classement",null,"Classement",null,"Classement",null,"GENERAL","RANG"]
[null,null,"Billard 1",null,null,null,null,"Billard 2",null,null,null,null,null,null,null,null,null,null,null,null,null,null,null,null,null,null,null,null,null,null,null,null,null,null,null,null,null,null,null,null,null,null,null,null,null,null,null,null,null,null,null,null,null,null,"Point-Match","CLS-M","Moy-Gen","CLS-G","Moy-Part","CLS-P","M-Series","CLS-S","MGPS","CLS","CLS"]
[null,null,null,null,null,null,null,null,null,null,null,null,"EXEMPT",null,null,null,null,null,null,null,null,null,null,null,null,null,null,null,null,null,null,{"$f":"'Saisie des joueurs'!L18","v":0},null,null,null,null,{"$f":"D31","v":0},null,{"$f":"E31","v":0},{"$f":"I28","v":0},null,{"$f":"J28","v":0},{"$f":"I25","v":0},null,{"$f":"J25","v":0},{"$f":"D22","v":0},null,{"$f":"E22","v":0},null,{"$f":"AK16+AN16+AQ16+AT16","v":0},null,{"$f":"AM16+AP16+AS16+AV16","v":0},{"$f":"BN16","v":{"$error":"#DIV/0!"}},null,{"$f":"AY17","v":0.04},{"$f":"RANK(BC16,BC$16:BC$30,0)","v":1},{"$f":"AZ18","v":{"$error":"#DIV/0!"}},{"$f":"RANK(BE16,BE$16:BE$30,0)","v":{"$error":"#DIV/0!"}},{"$f":"MAX(AM18,AP18,AS18,AV18)","v":{"$error":"#DIV/0!"}},{"$f":"RANK(BG16,BG$16:BG$30)","v":{"$error":"#DIV/0!"}},{"$f":"AX18","v":0},{"$f":"RANK(BI16,BI$16:BI$30)","v":1},{"$f":"(BD16*1000)+(BF16*100)+(BH16*10)+(BJ16*1)","v":{"$error":"#DIV/0!"}},{"$f":"BK16","v":{"$error":"#DIV/0!"}},{"$f":"RANK(BL16,BL$16:BL$30,1)","v":{"$error":"#DIV/0!"}},{"$f":"RANK(BM16,BM$16:BM$30,1)","v":{"$error":"#DIV/0!"}}]
[null,null,null,null,null,null,null,null,null,null,null,null,null,null,null,null,null,null,null,null,null,null,null,null,null,null,null,null,null,null,null,null,null,null,null,null,null,{"$f":"IF(AM16<1,0.01,IF(AK16>AH19,2,IF(AK16=AH19,1,0)))","v":0.01},null,null,{"$f":"IF(AP16<1,0.01,IF(AN16>AH22,2,IF(AN16=AH22,1,0)))","v":0.01},null,null,{"$f":"IF(AS16<1,0.01,IF(AQ16>AH25,2,IF(AQ16=AH25,1,0)))","v":0.01},null,null,{"$f":"IF(AV16<1,0.01,IF(AT16>AH28,2,IF(AT16=AH28,1,0)))","v":0.01},null,null,null,{"$f":"AL17+AO17+AR17+AU17","v":0.04}]
[null,null,null,"Pts","Rep","Série",null,null,"Pts","Rep","Série",null,{"$f":"AF16","v":0},null,null,"CLASSEMENT DU TOURNOI",null,null,null,null,null,null,null,null,null,null,null,null,null,null,null,null,null,null,null,null,{"$f":"F31","v":0},null,{"$f":"AK16/AM16","v":{"$error":"#DIV/0!"}},{"$f":"K28","v":0},null,{"$f":"AN16/AP16","v":{"$error":"#DIV/0!"}},{"$f":"K25","v":0},null,{"$f":"AQ16/AS16","v":{"$error":"#DIV/0!"}},{"$f":"F22","v":0},null,{"$f":"AT16/AV16","v":{"$error":"#DIV/0!"}},null,{"$f":"MAX(AK18,AN18,AQ18,AT18)","v":0},null,{"$f":"AX16/AZ16","v":{"$error":"#DIV/0!"}}]
[null,"Tour 1",{"$f":"AF22","v":0},null,null,null,null,{"$f":"AF19","v":0},null,null,null,null,null,null,null,null,null,null,null,null,null,null,null,null,null,null,null,null,null,null,null,{"$f":"'Saisie des joueurs'!L19","v":0},null,{"$f":"D32","v":0},null,{"$f":"E31","v":0},"L",null,null,{"$f":"I22","v":0},null,{"$f":"J22","v":0},{"$f":"D28","v":0},null,{"$f":"E28","v":0},{"$f":"I19","v":0},null,{"$f":"J19","v":0},null,{"$f":"AH19+AN19+AQ19+AT19","v":0},null,{"$f":"AJ19+AP19+AS19+AV19","v":0},{"$f":"BN19","v":{"$error":"#DIV/0!"}},null,{"$f":"AY20","v":0.04},{"$f":"RANK(BC19,BC$16:BC$30,0)","v":1},{"$f":"AZ21","v":{"$error":"#DIV/0!"}},{"$f":"RANK(BE19,BE$16:BE$30,0)","v":{"$error":"#DIV/0!"}},{"$f":"MAX(AJ21,AP21,AS21,AV21)","v":{"$error":"#DIV/0!"}},{"$f":"RANK(BG19,BG$16:BG$30)","v":{"$error":"#DIV/0!"}},{"$f":"AX21","v":0},{"$f":"RANK(BI19,BI$16:BI$30)","v":1},{"$f":"(BD19*1000)+(BF19*100)+(BH19*10)+(BJ19*1)","v":{"$error":"#DIV/0!"}},{"$f":"BK19","v":{"$error":"#DIV/0!"}},{"$f":"RANK(BL19,BL$16:BL$30,1)","v":{"$error":"#DIV/0!"}},{"$f":"RANK(BM19,BM$16:BM$30,1)","v":{"$error":"#DIV/0!"}}]
[null,null,{"$f":"AF25","v":0},null,null,null,null,{"$f":"AF28","v":0},null,null,null,null,null,null,null,null,null,null,null,null,null,null,null,null,null,null,null,null,null,null,null,null,null,null,{"$f":"IF(AM16>0,2-AL17,0.01)","v":0.01},null,null,null,null,null,{"$f":"IF(AP19<1,0.01,IF(AN19>AK22,2,IF(AN19=AK22,1,0)))","v":0.01},null,null,{"$f":"IF(AS19<1,0.01,IF(AQ19>AK25,2,IF(AQ19=AK25,1,0)))","v":0.01},null,null,{"$f":"IF(AV19<1,0.01,IF(AT19>AK28,2,IF(AT19=AK28,1,0)))","v":0.01},null,null,null,{"$f":"AI20+AO20+AR20+AU20","v":0.04}]
[null,null,null,null,null,null,null,null,null,null,null,null,{"$f":"AF25","v":0},null,"Pts Tournoi",null,"NOM",null,null,"Pts","Rep","Série","Moy",null,null,null,null,null,null,null,null,null,null,{"$f":"F32","v":0},null,{"$f":"AH19/AJ19","v":{"$error":"#DIV/0!"}},null,null,null,{"$f":"K22","v":0},null,{"$f":"AN19/AP19","v":{"$error":"#DIV/0!"}},{"$f":"F28","v":0},null,{"$f":"AQ19/AS19","v":{"$error":"#DIV/0!"}},{"$f":"K19","v":0},null,{"$f":"AT19/AV19","v":{"$error":"#DIV/0!"}},null,{"$f":"MAXA(AH21,AN21,AQ21,AT21)","v":0},null,{"$f":"AX19/AZ19","v":{"$error":"#DIV/0!"}}]
[null,"Tour 2",{"$f":"AF16","v":0},null,null,null,null,{"$f":"AF19","v":0},null,null,null,null,null,null,120,1,{"$f":"IF(BA16=1,AF16,IF(BA19=1,AF19,IF(BA22=1,AF22,IF(BA25=1,AF25,IF(BA28=1,AF28,)))))","v":{"$error":"#DIV/0!"}},null,null,{"$f":"IF(BA16=1,AX16,IF(BA19=1,AX19,IF(BA22=1,AX22,IF(BA25=1,AX25,IF(BA28=1,AX28,)))))","v":{"$error":"#DIV/0!"}},{"$f":"IF(BA16=1,AZ16,IF(BA19=1,AZ19,IF(BA22=1,AZ22,IF(BA25=1,AZ25,IF(BA28=1,AZ28,)))))","v":{"$error":"#DIV/0!"}},{"$f":"IF(BA16=1,AX18,IF(BA19=1,AX21,IF(BA22=1,AX24,IF(BA25=1,AX27,IF(BA28=1,AX30,)))))","v":{"$error":"#DIV/0!"}},{"$f":"T22/U22","v":{"$error":"#DIV/0!"}},null,null,null,null,null,null,null,null,{"$f":"'Saisie des joueurs'!L20","v":0},null,{"$f":"I29","v":0},null,{"$f":"J28","v":0},{"$f":"I23","v":0},null,{"$f":"J22","v":0},"M",null,null,{"$f":"D19","v":0},null,{"$f":"E19","v":0},{"$f":"D25","v":0},null,{"$f":"E25","v":0},null,{"$f":"AH22+AK22+AQ22+AT22","v":0},null,{"$f":"AJ22+AM22+AS22+AV22","v":0},{"$f":"BN22","v":{"$error":"#DIV/0!"}},null,{"$f":"AY23","v":0.04},{"$f":"RANK(BC22,BC$16:BC$30,0)","v":1},{"$f":"AZ24","v":{"$error":"#DIV/0!"}},{"$f":"RANK(BE22,BE$16:BE$30,0)","v":{"$error":"#DIV/0!"}},{"$f":"MAX(AJ24,AM24,AS24,AV24)","v":{"$error":"#DIV/0!"}},{"$f":"RANK(BG22,BG$16:BG$30)","v":{"$error":"#DIV/0!"}},{"$f":"AX24","v":0},{"$f":"RANK(BI22,BI$16:BI$30)","v":1},{"$f":"(BD22*1000)+(BF22*100)+(BH22*10)+(BJ22*1)","v":{"$error":"#DIV/0!"}},{"$f":"BK22","v":{"$error":"#DIV/0!"}},{"$f":"RANK(BL22,BL$16:BL$30,1)","v":{"$error":"#DIV/0!"}},{"$f":"RANK(BM22,BM$16:BM$30,1)","v":{"$error":"#DIV/0!"}}]
[null,null,{"$f":"AF28","v":0},null,null,null,null,{"$f":"AF22","v":0},null,null,null,null,null,null,90,2,{"$f":"IF(BA16=2,AF16,IF(BA19=2,AF19,IF(BA22=2,AF22,IF(BA25=2,AF25,IF(BA28=2,AF28,)))))","v":{"$error":"#DIV/0!"}},null,null,{"$f":"IF(BA16=2,AX16,IF(BA19=2,AX19,IF(BA22=2,AX22,IF(BA25=2,AX25,IF(BA28=2,AX28,)))))","v":{"$error":"#DIV/0!"}},{"$f":"IF(BA16=2,AZ16,IF(BA19=2,AZ19,IF(BA22=2,AZ22,IF(BA25=2,AZ25,IF(BA28=2,AZ28,)))))","v":{"$error":"#DIV/0!"}},{"$f":"IF(BA16=2,AX18,IF(BA19=2,AX21,IF(BA22=2,AX24,IF(BA25=2,AX27,IF(BA28=2,AX30,)))))","v":{"$error":"#DIV/0!"}},{"$f":"T23/U23","v":{"$error":"#DIV/0!"}},null,null,null,null,null,null,null,null,null,null,null,{"$f":"IF(AP16>0,2-AO17,0.01)","v":0.01},null,null,{"$f":"IF(AP19>0,2-AO20,0.01)","v":0.01},null,null,null,null,null,{"$f":"IF(AS22<1,0.01,IF(AQ22>AN25,2,IF(AQ22=AN25,1,0)))","v":0.01},null,null,{"$f":"IF(AV22<1,0.01,IF(AT22>AN28,2,IF(AT22=AN28,1,0)))","v":0.01},null,null,null,{"$f":"AI23+AL23+AR23+AU23","v":0.04}]
[null,null,null,null,null,null,null,null,null,null,null,null,{"$f":"AF19","v":0},null,70,3,{"$f":"IF(BA16=3,AF16,IF(BA19=3,AF19,IF(BA22=3,AF22,IF(BA25=3,AF25,IF(BA28=3,AF28,)))))","v":{"$error":"#DIV/0!"}},null,null,{"$f":"IF(BA16=3,AX16,IF(BA19=3,AX19,IF(BA22=3,AX22,IF(BA25=3,AX25,IF(BA28=3,AX28,)))))","v":{"$error":"#DIV/0!"}},{"$f":"IF(BA16=3,AZ16,IF(BA19=3,AZ19,IF(BA22=3,AZ22,IF(BA25=3,AZ25,IF(BA28=3,AZ28,)))))","v":{"$error":"#DIV/0!"}},{"$f":"IF(BA16=3,AX18,IF(BA19=3,AX21,IF(BA22=3,AX24,IF(BA25=3,AX27,IF(BA28=3,AX30,)))))","v":{"$error":"#DIV/0!"}},{"$error":"#DIV/0!"},null,null,null,null,null,null,null,null,null,null,{"$f":"K29","v":0},null,{"$f":"AH22/AJ22","v":{"$error":"#DIV/0!"}},{"$f":"K23","v":0},null,{"$f":"AK22/AM22","v":{"$error":"#DIV/0!"}},null,null,null,{"$f":"F19","v":0},null,{"$f":"AQ22/AS22","v":{"$error":"#DIV/0!"}},{"$f":"F25","v":0},null,{"$f":"AT22/AV22","v":{"$error":"#DIV/0!"}},null,{"$f":"MAXA(AH24,AK24,AQ24,AT24)","v":0},null,{"$f":"AX22/AZ22","v":{"$error":"#DIV/0!"}}]
[null,"Tour 3",{"$f":"AF22","v":0},null,null,null,null,{"$f":"AF16","v":0},null,null,null,null,null,null,50,4,{"$f":"IF(BA16=4,AF16,IF(BA19=4,AF19,IF(BA22=4,AF22,IF(BA25=4,AF25,IF(BA28=4,AF28,)))))","v":{"$error":"#DIV/0!"}},null,null,{"$f":"IF(BA16=4,AX16,IF(BA19=4,AX19,IF(BA22=4,AX22,IF(BA25=4,AX25,IF(BA28=4,AX28,)))))","v":{"$error":"#DIV/0!"}},{"$f":"IF(BA16=4,AZ16,IF(BA19=4,AZ19,IF(BA22=4,AZ22,IF(BA25=4,AZ25,IF(BA28=4,AZ28,)))))","v":{"$error":"#DIV/0!"}},{"$f":"IF(BA16=4,AX18,IF(BA19=4,AX21,IF(BA22=4,AX24,IF(BA25=4,AX27,IF(BA28=4,AX30,)))))","v":{"$error":"#DIV/0!"}},{"$error":"#DIV/0!"},null,null,null,null,null,null,null,null,{"$f":"'Saisie des joueurs'!L21","v":0},null,{"$f":"I26","v":0},null,{"$f":"J25","v":0},{"$f":"D29","v":0},null,{"$f":"E28","v":0},{"$f":"D20","v":0},null,{"$f":"E19","v":0},"B",null,null,{"$f":"I31","v":0},null,{"$f":"J31","v":0},null,{"$f":"AH25+AK25+AN25+AT25","v":0},null,{"$f":"AJ25+AM25+AP25+AV25","v":0},{"$f":"BN25","v":{"$error":"#DIV/0!"}},null,{"$f":"AY26","v":0.04},{"$f":"RANK(BC25,BC$16:BC$30,0)","v":1},{"$f":"AZ27","v":{"$error":"#DIV/0!"}},{"$f":"RANK(BE25,BE$16:BE$30,0)","v":{"$error":"#DIV/0!"}},{"$f":"MAX(AJ27,AM27,AP27)","v":{"$error":"#DIV/0!"}},{"$f":"RANK(BG25,BG$16:BG$30)","v":{"$error":"#DIV/0!"}},{"$f":"AX27","v":0},{"$f":"RANK(BI25,BI$16:BI$30)","v":1},{"$f":"(BD25*1000)+(BF25*100)+(BH25*10)+(BJ25*1)","v":{"$error":"#DIV/0!"}},{"$f":"BK25","v":{"$error":"#DIV/0!"}},{"$f":"RANK(BL25,BL$16:BL$30,1)","v":{"$error":"#DIV/0!"}},{"$f":"RANK(BM25,BM$16:BM$30,1)","v":{"$error":"#DIV/0!"}}]
[null,null,{"$f":"AF28","v":0},null,null,null,null,{"$f":"AF25","v":0},null,null,null,null,null,null,30,5,{"$f":"IF(BA16=5,AF16,IF(BA19=5,AF19,IF(BA22=5,AF22,IF(BA25=5,AF25,IF(BA28=5,AF28,)))))","v":{"$error":"#DIV/0!"}},null,null,{"$f":"IF(BA16=5,AX16,IF(BA19=5,AX19,IF(BA22=5,AX22,IF(BA25=5,AX25,IF(BA28=5,AX28,)))))","v":{"$error":"#DIV/0!"}},{"$f":"IF(BA16=5,AZ16,IF(BA19=5,AZ19,IF(BA22=5,AZ22,IF(BA25=5,AZ25,IF(BA28=5,AZ28,)))))","v":{"$error":"#DIV/0!"}},{"$f":"IF(BA16=5,AX18,IF(BA19=5,AX21,IF(BA22=5,AX24,IF(BA25=5,AX27,IF(BA28=5,AX30,)))))","v":{"$error":"#DIV/0!"}},{"$error":"#DIV/0!"},null,null,null,null,null,null,null,null,null,null,null,{"$f":"IF(AS16>0,2-AR17,0.01)","v":0.01},null,null,{"$f":"IF(AS19>0,2-AR20,0.01)","v":0.01},null,null,{"$f":"IF(AS22>0,2-AR23,0.01)","v":0.01},null,null,null,null,null,{"$f":"IF(AV25<1,0.01,IF(AT25>AQ28,2,IF(AT25=AQ28,1,0)))","v":0.01},null,null,null,{"$f":"AI26+AL26+AO26+AU26","v":0.04}]
[null,null,null,null,null,null,null,null,null,null,null,null,{"$f":"AF28","v":0},null,null,null,null,null,null,null,null,null,null,null,null,null,null,null,null,null,null,null,null,{"$f":"K26","v":0},null,{"$f":"AH25/AJ25","v":{"$error":"#DIV/0!"}},{"$f":"F29","v":0},null,{"$f":"AK25/AM25","v":{"$error":"#DIV/0!"}},{"$f":"F20","v":0},null,{"$f":"AN25/AP25","v":{"$error":"#DIV/0!"}},null,null,null,{"$f":"K31","v":0},null,{"$f":"AT25/AV25","v":{"$error":"#DIV/0!"}},null,{"$f":"MAXA(AH27,AK27,AN27,AT27)","v":0},null,{"$f":"AX25/AZ25","v":{"$error":"#DIV/0!"}}]
[null,"Tour 4",{"$f":"AF19","v":0},null,null,null,null,{"$f":"AF16","v":0},null,null,null,null,null,null,null,null,null,null,null,null,null,null,null,null,null,null,null,null,null,null,null,{"$f":"'Saisie des joueurs'!L22","v":0},null,{"$f":"D23","v":0},null,{"$f":"E22","v":0},{"$f":"I20","v":0},null,{"$f":"J19","v":0},{"$f":"D26","v":0},null,{"$f":"E25","v":0},{"$f":"I32","v":0},null,{"$f":"J31","v":0},null,null,null,null,{"$f":"AH28+AK28+AN28+AQ28","v":0},null,{"$f":"AJ28+AM28+AP28+AS28","v":0},{"$f":"BN28","v":{"$error":"#DIV/0!"}},null,{"$f":"AY29","v":0.04},{"$f":"RANK(BC28,BC$16:BC$30,0)","v":1},{"$f":"AZ30","v":{"$error":"#DIV/0!"}},{"$f":"RANK(BE28,BE$16:BE$30,0)","v":{"$error":"#DIV/0!"}},{"$f":"MAX(AJ30,AM30,AP30)","v":{"$error":"#DIV/0!"}},{"$f":"RANK(BG28,BG$16:BG$30)","v":{"$error":"#DIV/0!"}},{"$f":"AX30","v":0},{"$f":"RANK(BI28,BI$16:BI$30)","v":1},{"$f":"(BD28*1000)+(BF28*100)+(BH28*10)+(BJ28*1)","v":{"$error":"#DIV/0!"}},{"$f":"BK28","v":{"$error":"#DIV/0!"}},{"$f":"RANK(BL28,BL$16:BL$30,1)","v":{"$error":"#DIV/0!"}},{"$f":"RANK(BM28,BM$16:BM$30,1)","v":{"$error":"#DIV/0!"}}]
[null,null,{"$f":"AF25","v":0},null,null,null,null,{"$f":"AF22","v":0},null,null,null,null,null,null,null,null,null,null,null,null,null,null,null,null,null,null,null,null,null,null,null,null,null,null,{"$f":"IF(AV16>0,2-AU17,0.01)","v":0.01},null,null,{"$f":"IF(AV19>0,2-AU20,0.01)","v":0.01},null,null,{"$f":"IF(AV22>0,2-AU23,0.01)","v":0.01},null,null,{"$f":"IF(AV25>0,2-AU26,0.01)","v":0.01},null,null,null,null,null,null,{"$f":"AI29+AL29+AO29+AR29","v":0.04}]
[null,null,null,null,null,null,null,null,null,null,null,null,{"$f":"AF22","v":0},null,null,null,null,null,null,null,null,null,null,null,null,null,null,null,null,null,null,null,null,{"$f":"F23","v":0},null,{"$f":"AH28/AJ28","v":{"$error":"#DIV/0!"}},{"$f":"K20","v":0},null,{"$f":"AK28/AM28","v":{"$error":"#DIV/0!"}},{"$f":"F26","v":0},null,{"$f":"AN28/AP28","v":{"$error":"#DIV/0!"}},{"$f":"K32","v":0},null,{"$f":"AQ28/AS28","v":{"$error":"#DIV/0!"}},null,null,null,null,{"$f":"MAXA(AH30,AK30,AN30,AQ30)","v":0},null,{"$f":"AX28/AZ28","v":{"$error":"#DIV/0!"}}]
[null,"Tour 5",{"$f":"AF16","v":0},null,null,null,null,{"$f":"AF25","v":0}]
[null,null,{"$f":"AF19","v":0},null,null,null,null,{"$f":"AF28","v":0}]

{"sheet":"6JOUEURS","index":17,"n_rows":88,"n_cols":58,"rows_kept":88,"cut":false,"hidden":true,"merged":[[33,29,35,30],[36,29,38,30],[42,29,44,30],[17,51,19,51],[20,51,22,51],[23,51,25,51],[36,51,38,51],[39,51,41,51],[42,51,44,51],[34,50,34,51],[27,46,27,47],[20,34,22,36],[20,44,22,44],[20,46,22,46],[20,47,22,47],[20,48,22,48],[20,49,22,49],[20,50,22,50],[36,44,38,44],[36,46,38,46],[36,47,38,47],[36,49,38,49],[36,50,38,50],[46,1,47,1],[46,4,47,4],[46,11,47,11],[46,14,47,14],[42,37,44,39],[42,44,44,44],[36,1,37,2],[36,11,37,12],[38,11,39,12],[40,1,41,1],[40,4,41,4],[40,11,41,11],[40,14,41,14],[43,1,44,1],[43,4,44,4],[43,11,44,11],[43,14,44,14],[39,44,41,44],[36,31,38,33],[14,29,16,30],[17,29,19,30],[20,1,21,1],[20,4,21,4],[19,7,19,10],[20,11,21,11],[13,11,14,15],[16,1,17,2],[16,11,17,12],[16,19,16,21],[17,19,17,21],[20,14,21,14],[20,19,20,21],[21,7,21,10],[21,19,21,21],[20,29,22,30],[22,19,22,21],[18,19,18,21],[19,19,19,21],[16,16,16,17],[13,18,14,24],[9,2,9,5],[2,1,3,2],[2,3,3,9],[5,1,6,2],[5,3,6,9],[5,12,5,15],[5,17,5,18],[6,12,6,15],[6,17,6,18],[9,12,9,15],[1,12,3,27],[8,17,8,27],[26,14,27,14],[29,2,29,5],[29,12,29,15],[30,2,30,5],[30,12,30,15],[31,2,31,5],[31,12,31,15],[33,1,34,5],[33,11,34,15],[26,1,27,1],[26,4,27,4],[26,11,27,11],[23,1,24,1],[23,4,24,4],[23,11,24,11],[23,14,24,14],[10,2,10,5],[10,12,10,15],[11,2,11,5],[11,12,11,15],[13,1,14,5],[18,11,19,12],[18,7,18,10],[20,53,22,53],[20,54,22,54],[20,55,22,55],[20,56,22,56],[20,57,22,57],[5,22,5,24],[5,26,5,27],[6,22,6,24],[6,26,6,27],[15,50,15,51],[15,57,16,57],[17,31,19,33],[17,44,19,44],[17,46,19,46],[17,47,19,47],[17,48,19,48],[17,49,19,49],[17,50,19,50],[17,52,19,52],[17,53,19,53],[17,54,19,54],[17,55,19,55],[17,56,19,56],[17,57,19,57],[13,31,16,33],[13,34,16,36],[13,37,16,39],[13,41,16,43],[13,44,16,44],[15,46,15,47],[15,48,15,49],[15,52,15,53],[15,54,15,55],[20,52,22,52],[23,29,25,30],[23,37,25,39],[23,44,25,44],[23,46,25,46],[23,47,25,47],[23,48,25,48],[23,49,25,49],[23,50,25,50],[23,52,25,52],[23,54,25,54],[23,55,25,55],[23,56,25,56],[23,57,25,57],[32,31,35,33],[32,34,35,36],[32,37,35,39],[32,41,35,43],[32,44,35,44],[34,46,34,47],[34,48,34,49],[34,52,34,53],[34,54,34,55],[34,57,35,57],[28,46,28,47],[29,46,29,47],[36,53,38,53],[39,49,41,49],[39,50,41,50],[39,52,41,52],[39,53,41,53],[39,47,41,47],[39,48,41,48],[42,46,44,46],[23,53,25,53],[39,54,41,54],[39,55,41,55],[39,56,41,56],[39,57,41,57],[42,57,44,57],[20,7,20,10],[42,47,44,47],[42,48,44,48],[42,49,44,49],[42,50,44,50],[42,52,44,52],[42,53,44,53],[42,54,44,54],[42,55,44,55],[42,56,44,56],[36,54,38,54],[36,55,38,55],[36,56,38,56],[36,57,38,57],[39,29,41,30],[39,34,41,36],[39,46,41,46],[36,48,38,48],[36,52,38,52],[51,57,52,57],[53,29,55,30],[53,31,55,33],[53,44,55,44],[53,46,55,46],[53,47,55,47],[53,48,55,48],[53,49,55,49],[53,50,55,50],[53,51,55,51],[53,52,55,52],[53,53,55,53],[53,54,55,54],[53,55,55,55],[53,56,55,56],[53,57,55,57],[51,48,51,49],[51,46,51,47],[50,29,52,30],[49,44,52,44],[49,41,52,43],[49,37,52,39],[49,34,52,36],[49,31,52,33],[56,50,58,50],[56,51,58,51],[51,50,51,51],[51,52,51,53],[56,52,58,52],[56,53,58,53],[51,54,51,55],[56,54,58,54],[56,55,58,55],[56,56,58,56],[56,57,58,57],[59,29,61,30],[59,37,61,39],[59,44,61,44],[59,46,61,46],[59,47,61,47],[59,48,61,48],[59,49,61,49],[59,50,61,50],[59,51,61,51],[59,52,61,52],[59,53,61,53],[59,54,61,54],[59,55,61,55],[59,56,61,56],[59,57,61,57],[56,29,58,30],[56,34,58,36],[56,44,58,44],[56,46,58,46],[56,47,58,47],[56,48,58,48],[56,49,58,49],[68,57,69,57],[70,29,72,30],[70,31,72,33],[70,44,72,44],[70,46,72,46],[70,47,72,47],[70,48,72,48],[70,49,72,49],[70,50,72,50],[70,51,72,51],[70,52,72,52],[70,53,72,53],[70,54,72,54],[70,55,72,55],[70,56,72,56],[70,57,72,57],[66,31,69,33],[66,34,69,36],[66,37,69,39],[66,41,69,43],[66,44,69,44],[67,29,69,30],[68,46,68,47],[68,48,68,49],[73,50,75,50],[73,51,75,51],[68,50,68,51],[68,52,68,53],[68,54,68,55],[73,52,75,52],[73,53,75,53],[73,54,75,54],[73,55,75,55],[73,56,75,56],[73,57,75,57],[76,29,78,30],[76,37,78,39],[76,44,78,44],[76,46,78,46],[76,47,78,47],[76,48,78,48],[76,49,78,49],[76,50,78,50],[76,51,78,51],[76,52,78,52],[76,53,78,53],[76,54,78,54],[76,55,78,55],[76,56,78,56],[76,57,78,57],[73,29,75,30],[73,34,75,36],[73,44,75,44],[73,46,75,46],[73,47,75,47],[73,48,75,48],[73,49,75,49]]}
[]
[null,null,null,null,null,null,null,null,null,null,null,null,"LIGUE MÉDITERRANÉENNE DE BILLARD"]
[null,"CLUB ORGANISATEUR"]
[]
[]
[null,"DIRECTEUR DE JEU :",null,null,null,null,null,null,null,null,null,null,"Compétition",null,null,null,null,"Mode de jeu",null,null,"Categorie",null,"Format billard",null,null,null,"Distances"]
[]
[]
[null,null,null,null,null,null,null,null,null,null,null,null,null,null,null,null,null,"Pas de prolongation en cas de match nul."]
[null,"Joueur 1",{"$f":"'Saisie des joueurs'!L18","v":0},null,null,null,null,null,null,null,null,"Joueur 1",{"$f":"IF(AS18=1,AD18,IF(AS21=1,AD21,IF(AS24=1,AD24,)))","v":{"$error":"#DIV/0!"}}]
[null,"Joueur 2",{"$f":"'Saisie des joueurs'!L21","v":0},null,null,null,null,null,null,null,null,"Joueur 2",{"$f":"IF(AS37=1,AD37,IF(AS40=1,AD40,IF(AS43=1,AD43,)))","v":{"$error":"#DIV/0!"}}]
[null,"Joueur 3",{"$f":"'Saisie des joueurs'!L22","v":0},null,null,null,null,null,null,null,null,"Joueur 3",{"$f":"IF(BF29=1,AU29,IF(BF30=1,AU30,))","v":{"$error":"#DIV/0!"}}]
[]
[null,"SAISIE DES RESULTATS",null,null,null,null,null,null,null,null,null,"SAISIE DES RESULTATS",null,null,null,null,null,null,"CLASSEMENT DU TOURNOI",null,null,null,null,null,null,null,null,null,null,null,null,{"$f":"C10","v":0},null,null,{"$f":"C11","v":0},null,null,{"$f":"C12","v":0},null,null,null,"TOTAUX",null,null,"CLASSEMENT"]
[]
[null,null,null,null,null,null,null,null,null,null,null,null,null,null,null,null,null,null,null,null,null,null,null,null,null,null,null,null,null,null,null,null,null,null,null,null,null,null,null,null,null,null,null,null,null,null,"Classement",null,"Classement",null,"Classement",null,"Classement",null,"Classement",null,"GENERAL","RANG"]
[null,"PHASE 1 - POULE A",null,null,null,null,null,null,null,null,null,"PHASE 3 - POULE A",null,null,null,null,"Pts Tournoi",null,null,"NOM",null,null,"Pts","Rep","Moy",null,null,null,null,null,null,null,null,null,null,null,null,null,null,null,null,null,null,null,null,null,"Point-Match","CLS-M","Moy-Gen","CLS-G","Moy-Part","CLS-P","M-Series","CLS-S","MGPS","CLS","CLS"]
[null,null,null,null,null,null,null,null,null,null,null,null,null,null,null,null,null,120,1,{"$f":"IF(AS54=1,AD54,IF(AS57=1,AD57,IF(AS60=1,AD60,)))","v":{"$error":"#DIV/0!"}},null,null,{"$f":"AH83","v":{"$error":"#DIV/0!"}},{"$f":"AK83","v":{"$error":"#DIV/0!"}},{"$f":"AL83","v":{"$error":"#DIV/0!"}},null,null,null,null,{"$f":"C10","v":0},null,"L",null,null,{"$f":"D27","v":0},null,{"$f":"E27","v":0},{"$f":"D21","v":0},null,{"$f":"E21","v":0},null,{"$f":"AI18+AL18","v":0},null,{"$f":"AK18+AN18","v":0},{"$f":"BF18","v":{"$error":"#DIV/0!"}},null,{"$f":"AQ19","v":0.02},{"$f":"RANK(AU18,AU$18:AU$26,0)","v":1},{"$f":"AR20","v":{"$error":"#DIV/0!"}},{"$f":"RANK(AW18,AW$18:AW$26,0)","v":{"$error":"#DIV/0!"}},{"$f":"MAX(AK20,AN20)","v":{"$error":"#DIV/0!"}},{"$f":"RANK(AY18,AY$18:AY$26)","v":{"$error":"#DIV/0!"}},{"$f":"AP20","v":0},{"$f":"RANK(BA18,BA$18:BA$26)","v":1},{"$f":"(AV18*1000)+(AX18*100)+(AZ18*10)+(BB18*1)","v":{"$error":"#DIV/0!"}},{"$f":"BC18","v":{"$error":"#DIV/0!"}},{"$f":"RANK(BD18,BD$18:BD$26,1)","v":{"$error":"#DIV/0!"}},{"$f":"RANK(BE18,BE$18:BE$26,1)","v":{"$error":"#DIV/0!"}}]
[null,null,null,null,null,null,null,"1er de poule",null,null,null,null,null,null,null,null,null,90,2,{"$f":"IF(AS54=2,AD54,IF(AS57=2,AD57,IF(AS60=2,AD60,)))","v":{"$error":"#DIV/0!"}},null,null,{"$f":"AH84","v":{"$error":"#DIV/0!"}},{"$f":"AK84","v":{"$error":"#DIV/0!"}},{"$f":"AL84","v":{"$error":"#DIV/0!"}},null,null,null,null,null,null,null,null,null,null,{"$f":"IF(AK18<1,0.01,IF(AI18>AF21,2,IF(AI18=AF21,1,0)))","v":0.01},null,null,{"$f":"IF(AN18<1,0.01,IF(AL18>AF24,2,IF(AL18=AF24,1,0)))","v":0.01},null,null,null,{"$f":"AJ19+AM19","v":0.02}]
[null,null,null,"Pts","Rep","Série",null,"Meilleur 2ème",null,null,null,null,null,"Pts","Rep","Série",null,70,3,{"$f":"IF(AS54=3,AD54,IF(AS57=3,AD57,IF(AS60=3,AD60,)))","v":{"$error":"#DIV/0!"}},null,null,{"$error":"#DIV/0!"},{"$error":"#DIV/0!"},{"$error":"#DIV/0!"},null,null,null,null,null,null,null,null,null,{"$f":"F27","v":0},null,{"$f":"AI18/AK18","v":{"$error":"#DIV/0!"}},{"$f":"F21","v":0},null,{"$f":"AL18/AN18","v":{"$error":"#DIV/0!"}},null,{"$f":"MAX(AI20,AL20)","v":0},null,{"$f":"AP18/AR18","v":{"$error":"#DIV/0!"}}]
[null,"Tour 1",{"$f":"C10","v":0},null,null,null,null,"2ème de poule",null,null,null,"Tour 1",{"$f":"M10","v":{"$error":"#DIV/0!"}},null,null,null,null,50,4,{"$f":"IF(AS71=1,AD71,IF(AS74=1,AD74,IF(AS77=1,AD77,)))","v":{"$error":"#DIV/0!"}},null,null,{"$error":"#DIV/0!"},{"$error":"#DIV/0!"},{"$error":"#DIV/0!"},null,null,null,null,{"$f":"C11","v":0},null,{"$f":"D28","v":0},null,{"$f":"E27","v":0},"M",null,null,{"$f":"D24","v":0},null,{"$f":"E24","v":0},null,{"$f":"AF21+AL21","v":0},null,{"$f":"AH21+AN21","v":0},{"$f":"BF21","v":{"$error":"#DIV/0!"}},null,{"$f":"AQ22","v":0.02},{"$f":"RANK(AU21,AU$18:AU$26,0)","v":1},{"$f":"AR23","v":{"$error":"#DIV/0!"}},{"$f":"RANK(AW21,AW$18:AW$26,0)","v":{"$error":"#DIV/0!"}},{"$f":"MAX(AK23,AN23)","v":{"$error":"#DIV/0!"}},{"$f":"RANK(AY21,AY$18:AY$26)","v":{"$error":"#DIV/0!"}},{"$f":"AP23","v":0},{"$f":"RANK(BA21,BA$18:BA$26)","v":1},{"$f":"(AV21*1000)+(AX21*100)+(AZ21*10)+(BB21*1)","v":{"$error":"#DIV/0!"}},{"$f":"BC21","v":{"$error":"#DIV/0!"}},{"$f":"RANK(BD21,BD$18:BD$26,1)","v":{"$error":"#DIV/0!"}},{"$f":"RANK(BE21,BE$18:BE$26,1)","v":{"$error":"#DIV/0!"}}]
[null,null,{"$f":"C12","v":0},null,null,null,null,"3ème de poule",null,null,null,null,{"$f":"M12","v":{"$error":"#DIV/0!"}},null,null,null,null,30,5,{"$f":"IF(AS71=2,AD71,IF(AS74=2,AD74,IF(AS77=2,AD77,)))","v":{"$error":"#DIV/0!"}},null,null,{"$error":"#DIV/0!"},{"$error":"#DIV/0!"},{"$error":"#DIV/0!"},null,null,null,null,null,null,null,{"$f":"IF(AK18>0,2-AJ19,0.01)","v":0.01},null,null,null,null,null,{"$f":"IF(AN21<1,0.01,IF(AL21>AI24,2,IF(AL21=AI24,1,0)))","v":0.01},null,null,null,{"$f":"AG22+AM22","v":0.02}]
[null,null,null,null,null,null,null,null,null,null,null,null,null,null,null,null,null,10,6,{"$f":"IF(AS71=3,AD71,IF(AS74=3,AD74,IF(AS77=3,AD77,)))","v":{"$error":"#DIV/0!"}},null,null,{"$error":"#DIV/0!"},{"$error":"#DIV/0!"},{"$error":"#DIV/0!"},null,null,null,null,null,null,{"$f":"F28","v":0},null,{"$f":"AF21/AH21","v":{"$error":"#DIV/0!"}},null,null,null,{"$f":"F24","v":0},null,{"$f":"AL21/AN21","v":{"$error":"#DIV/0!"}},null,{"$f":"MAX(AF23,AL23)","v":0},null,{"$f":"AP21/AR21","v":{"$error":"#DIV/0!"}}]
[null,"Tour 2",{"$f":"C11","v":0},null,null,null,null,null,null,null,null,"Tour 2",{"$f":"M11","v":{"$error":"#DIV/0!"}},null,null,null,null,null,null,null,null,null,null,null,null,null,null,null,null,{"$f":"C12","v":0},null,{"$f":"D22","v":0},null,{"$f":"E21","v":0},{"$f":"D25","v":0},null,{"$f":"E24","v":0},"B",null,null,null,{"$f":"AF24+AI24","v":0},null,{"$f":"AH24+AK24","v":0},{"$f":"BF24","v":{"$error":"#DIV/0!"}},null,{"$f":"AQ25","v":0.02},{"$f":"RANK(AU24,AU$18:AU$26,0)","v":1},{"$f":"AR26","v":{"$error":"#DIV/0!"}},{"$f":"RANK(AW24,AW$18:AW$26,0)","v":{"$error":"#DIV/0!"}},{"$f":"MAX(AK26,AN26)","v":{"$error":"#DIV/0!"}},{"$f":"RANK(AY24,AY$18:AY$26)","v":{"$error":"#DIV/0!"}},{"$f":"AP26","v":0},{"$f":"RANK(BA24,BA$18:BA$26)","v":1},{"$f":"(AV24*1000)+(AX24*100)+(AZ24*10)+(BB24*1)","v":{"$error":"#DIV/0!"}},{"$f":"BC24","v":{"$error":"#DIV/0!"}},{"$f":"RANK(BD24,BD$18:BD$26,1)","v":{"$error":"#DIV/0!"}},{"$f":"RANK(BE24,BE$18:BE$26,1)","v":{"$error":"#DIV/0!"}}]
[null,null,{"$f":"C12","v":0},null,null,null,null,null,null,null,null,null,{"$f":"M12","v":{"$error":"#DIV/0!"}},null,null,null,null,null,null,null,null,null,null,null,null,null,null,null,null,null,null,null,{"$f":"IF(AN18>0,2-AM19,0.01)","v":0.01},null,null,{"$f":"IF(AN21>0,2-AM22,0.01)","v":0.01},null,null,null,null,null,null,{"$f":"AG25+AJ25","v":0.02}]
[null,null,null,null,null,null,null,null,null,null,null,null,null,null,null,null,null,null,null,null,null,null,null,null,null,null,null,null,null,null,null,{"$f":"F22","v":0},null,{"$f":"AF24/AH24","v":{"$error":"#DIV/0!"}},{"$f":"F25","v":0},null,{"$f":"AI24/AK24","v":{"$error":"#DIV/0!"}},null,null,null,null,{"$f":"MAX(AF26,AI26)","v":0},null,{"$f":"AP24/AR24","v":{"$error":"#DIV/0!"}}]
[null,"Tour 3",{"$f":"C10","v":0},null,null,null,null,null,null,null,null,"Tour 3",{"$f":"M10","v":{"$error":"#DIV/0!"}}]
[null,null,{"$f":"C11","v":0},null,null,null,null,null,null,null,null,null,{"$f":"M11","v":{"$error":"#DIV/0!"}},null,null,null,null,null,null,null,null,null,null,null,null,null,null,null,null,null,null,null,null,null,null,null,null,null,null,null,null,null,null,null,null,null,"Meilleur 2ème",null,"Point-Match","CLS-M","Moy-Gen","CLS-G","Moy-Part","CLS-P","M-Series","CLS-S","MGPS","CLS"]
[null,null,null,null,null,null,null,null,null,null,null,null,null,null,null,null,null,null,null,null,null,null,null,null,null,null,null,null,null,null,null,null,null,null,null,null,null,null,null,null,null,null,null,null,null,null,{"$f":"IF(AS18=2,AD18,IF(AS21=2,AD21,IF(AS24=2,AD24,)))","v":{"$error":"#DIV/0!"}},null,{"$f":"IF(AS18=2,AU18,IF(AS21=2,AU21,IF(AS24=2,AU24,)))","v":{"$error":"#DIV/0!"}},{"$f":"RANK(AW29,AW$29:AW$30,0)","v":{"$error":"#DIV/0!"}},{"$f":"IF(AS18=2,AW18,IF(AS21=2,AW21,IF(AS24=2,AW24,)))","v":{"$error":"#DIV/0!"}},{"$f":"RANK(AY29,AY$29:AY$30,0)","v":{"$error":"#DIV/0!"}},{"$f":"IF(AS18=2,AY18,IF(AS21=2,AY21,IF(AS24=2,AY24,)))","v":{"$error":"#DIV/0!"}},{"$f":"RANK(BA29,BA$29:BA$30,0)","v":{"$error":"#DIV/0!"}},{"$f":"IF(AS18=2,BA18,IF(AS21=2,BA21,IF(AS24=2,BA24,)))","v":{"$error":"#DIV/0!"}},{"$f":"RANK(BC29,BC$29:BC$30,0)","v":{"$error":"#DIV/0!"}},{"$f":"(AX29*1000)+(AZ29*100)+(BB29*10)+(BD29*1)","v":{"$error":"#DIV/0!"}},{"$f":"RANK(BE29,BE$29:BE$30,1)","v":{"$error":"#DIV/0!"}}]
[null,"Joueur 1",{"$f":"'Saisie des joueurs'!L19","v":0},null,null,null,null,null,null,null,null,"Joueur 1",{"$f":"IF(BF29=2,AU29,IF(BF30=2,AU30,))","v":{"$error":"#DIV/0!"}},null,null,null,null,null,null,null,null,null,null,null,null,null,null,null,null,null,null,null,null,null,null,null,null,null,null,null,null,null,null,null,null,null,{"$f":"IF(AS37=2,AD37,IF(AS40=2,AD40,IF(AS43=2,AD43,)))","v":{"$error":"#DIV/0!"}},null,{"$f":"IF(AS37=2,AU37,IF(AS40=2,AU40,IF(AS43=2,AU43,)))","v":{"$error":"#DIV/0!"}},{"$f":"RANK(AW30,AW$29:AW$30,0)","v":{"$error":"#DIV/0!"}},{"$f":"IF(AS37=2,AW37,IF(AS40=2,AW40,IF(AS43=2,AW43,)))","v":{"$error":"#DIV/0!"}},{"$f":"RANK(AY30,AY$29:AY$30,0)","v":{"$error":"#DIV/0!"}},{"$f":"IF(AS37=2,AY37,IF(AS40=2,AY40,IF(AS43=2,AY43,)))","v":{"$error":"#DIV/0!"}},{"$f":"RANK(BA30,BA$29:BA$30,0)","v":{"$error":"#DIV/0!"}},{"$f":"IF(AS37=2,BA37,IF(AS40=2,BA40,IF(AS43=2,BA43,)))","v":{"$error":"#DIV/0!"}},{"$f":"RANK(BC30,BC$29:BC$30,0)","v":{"$error":"#DIV/0!"}},{"$f":"(AX30*1000)+(AZ30*100)+(BB30*10)+(BD30*1)","v":{"$error":"#DIV/0!"}},{"$f":"RANK(BE30,BE$29:BE$30,1)","v":{"$error":"#DIV/0!"}}]
[null,"Joueur 2",{"$f":"'Saisie des joueurs'!L20","v":0},null,null,null,null,null,null,null,null,"Joueur 2",{"$f":"IF(AS18=3,AD18,IF(AS21=3,AD21,IF(AS24=3,AD24,)))","v":{"$error":"#DIV/0!"}}]
[null,"Joueur 3",{"$f":"'Saisie des joueurs'!L23","v":0},null,null,null,null,null,null,null,null,"Joueur 3",{"$f":"IF(AS37=3,AD37,IF(AS40=3,AD40,IF(AS43=3,AD43)))","v":{"$error":"#DIV/0!"}}]
[null,null,null,null,null,null,null,null,null,null,null,null,null,null,null,null,null,null,null,null,null,null,null,null,null,null,null,null,null,null,null,{"$f":"C30","v":0},null,null,{"$f":"C31","v":0},null,null,{"$f":"C32","v":0},null,null,null,"TOTAUX",null,null,"CLASSEMENT"]
[null,"SAISIE DES RESULTATS",null,null,null,null,null,null,null,null,null,"SAISIE DES RESULTATS"]
[null,null,null,null,null,null,null,null,null,null,null,null,null,null,null,null,null,null,null,null,null,null,null,null,null,null,null,null,null,null,null,null,null,null,null,null,null,null,null,null,null,null,null,null,null,null,"Classement",null,"Classement",null,"Classement",null,"Classement",null,"Classement",null,"GENERAL","RANG"]
[null,null,null,null,null,null,null,null,null,null,null,null,null,null,null,null,null,null,null,null,null,null,null,null,null,null,null,null,null,null,null,null,null,null,null,null,null,null,null,null,null,null,null,null,null,null,"Point-Match","CLS-M","Moy-Gen","CLS-G","Moy-Part","CLS-P","M-Series","CLS-S","MGPS","CLS","CLS"]
[null,"PHASE 1 - POULE B",null,null,null,null,null,null,null,null,null,"PHASE 2 - POULE B",null,null,null,null,null,null,null,null,null,null,null,null,null,null,null,null,null,{"$f":"C30","v":0},null,"L",null,null,{"$f":"D47","v":0},null,{"$f":"E47","v":0},{"$f":"D41","v":0},null,{"$f":"E41","v":0},null,{"$f":"AI37+AL37","v":0},null,{"$f":"AK37+AN37","v":0},{"$f":"BF37","v":{"$error":"#DIV/0!"}},null,{"$f":"AQ38","v":0.02},{"$f":"RANK(AU37,AU$37:AU$45,0)","v":1},{"$f":"AR39","v":{"$error":"#DIV/0!"}},{"$f":"RANK(AW37,AW$37:AW$45,0)","v":{"$error":"#DIV/0!"}},{"$f":"MAX(AK39,AN39)","v":{"$error":"#DIV/0!"}},{"$f":"RANK(AY37,AY$37:AY$45)","v":{"$error":"#DIV/0!"}},{"$f":"AP39","v":0},{"$f":"RANK(BA37,BA$37:BA$45)","v":1},{"$f":"(AV37*1000)+(AX37*100)+(AZ37*10)+(BB37*1)","v":{"$error":"#DIV/0!"}},{"$f":"BC37","v":{"$error":"#DIV/0!"}},{"$f":"RANK(BD37,BD$37:BD$45,1)","v":{"$error":"#DIV/0!"}},{"$f":"RANK(BE37,BE$37:BE$45,1)","v":{"$error":"#DIV/0!"}}]
[null,null,null,null,null,null,null,null,null,null,null,null,null,null,null,null,null,null,null,null,null,null,null,null,null,null,null,null,null,null,null,null,null,null,null,{"$f":"IF(AK37<1,0.01,IF(AI37>AF40,2,IF(AI37=AF40,1,0)))","v":0.01},null,null,{"$f":"IF(AN37<1,0.01,IF(AL37>AF43,2,IF(AL37=AF43,1,0)))","v":0.01},null,null,null,{"$f":"AJ38+AM38","v":0.02}]
[null,null,null,null,null,null,null,null,null,null,null,null,null,null,null,null,null,null,null,null,null,null,null,null,null,null,null,null,null,null,null,null,null,null,{"$f":"F47","v":0},null,{"$f":"AI37/AK37","v":{"$error":"#DIV/0!"}},{"$f":"F41","v":0},null,{"$f":"AL37/AN37","v":{"$error":"#DIV/0!"}},null,{"$f":"MAX(AI39,AL39)","v":0},null,{"$f":"AP37/AR37","v":{"$error":"#DIV/0!"}}]
[null,null,null,"Pts","Rep","Série",null,null,null,null,null,null,null,"Pts","Rep","Série",null,null,null,null,null,null,null,null,null,null,null,null,null,{"$f":"C31","v":0},null,{"$f":"D48","v":0},null,{"$f":"E47","v":0},"M",null,null,{"$f":"D44","v":0},null,{"$f":"E44","v":0},null,{"$f":"AF40+AL40","v":0},null,{"$f":"AH40+AN40","v":0},{"$f":"BF40","v":{"$error":"#DIV/0!"}},null,{"$f":"AQ41","v":0.02},{"$f":"RANK(AU40,AU$37:AU$45,0)","v":1},{"$f":"AR42","v":{"$error":"#DIV/0!"}},{"$f":"RANK(AW40,AW$37:AW$45,0)","v":{"$error":"#DIV/0!"}},{"$f":"MAX(AH42,AN42)","v":{"$error":"#DIV/0!"}},{"$f":"RANK(AY40,AY$37:AY$45)","v":{"$error":"#DIV/0!"}},{"$f":"AP42","v":0},{"$f":"RANK(BA40,BA$37:BA$45)","v":1},{"$f":"(AV40*1000)+(AX40*100)+(AZ40*10)+(BB40*1)","v":{"$error":"#DIV/0!"}},{"$f":"BC40","v":{"$error":"#DIV/0!"}},{"$f":"RANK(BD40,BD$37:BD$45,1)","v":{"$error":"#DIV/0!"}},{"$f":"RANK(BE40,BE$37:BE$45,1)","v":{"$error":"#DIV/0!"}}]
[null,"Tour",{"$f":"C30","v":0},null,null,null,null,null,null,null,null,"Tour 1",{"$f":"M30","v":{"$error":"#DIV/0!"}},null,null,null,null,null,null,null,null,null,null,null,null,null,null,null,null,null,null,null,{"$f":"IF(AK37>0,2-AJ38,0.01)","v":0.01},null,null,null,null,null,{"$f":"IF(AN40<1,0.01,IF(AL40>AI43,2,IF(AL40=AI43,1,0)))","v":0.01},null,null,null,{"$f":"AG41+AM41","v":0.02}]
[null,null,{"$f":"C32","v":0},null,null,null,null,null,null,null,null,null,{"$f":"M32","v":{"$error":"#DIV/0!"}},null,null,null,null,null,null,null,null,null,null,null,null,null,null,null,null,null,null,{"$f":"F48","v":0},null,{"$f":"AF40/AH40","v":{"$error":"#DIV/0!"}},null,null,null,{"$f":"F44","v":0},null,{"$f":"AL40/AN40","v":{"$error":"#DIV/0!"}},null,{"$f":"MAX(AF42,AL42)","v":0},null,{"$f":"AP40/AR40","v":{"$error":"#DIV/0!"}}]
[null,null,null,null,null,null,null,null,null,null,null,null,null,null,null,null,null,null,null,null,null,null,null,null,null,null,null,null,null,{"$f":"C32","v":0},null,{"$f":"D42","v":0},null,{"$f":"E41","v":0},{"$f":"D45","v":0},null,{"$f":"E44","v":0},"B",null,null,null,{"$f":"AF43+AI43","v":0},null,{"$f":"AH43+AK43","v":0},{"$f":"BF43","v":{"$error":"#DIV/0!"}},null,{"$f":"AQ44","v":0.02},{"$f":"RANK(AU43,AU$37:AU$45,0)","v":1},{"$f":"AR45","v":{"$error":"#DIV/0!"}},{"$f":"RANK(AW43,AW$37:AW$45,0)","v":{"$error":"#DIV/0!"}},{"$f":"MAX(AH45,AK45)","v":{"$error":"#DIV/0!"}},{"$f":"RANK(AY43,AY$37:AY$45)","v":{"$error":"#DIV/0!"}},{"$f":"AP45","v":0},{"$f":"RANK(BA43,BA$37:BA$45)","v":1},{"$f":"(AV43*1000)+(AX43*100)+(AZ43*10)+(BB43*1)","v":{"$error":"#DIV/0!"}},{"$f":"BC43","v":{"$error":"#DIV/0!"}},{"$f":"RANK(BD43,BD$37:BD$45,1)","v":{"$error":"#DIV/0!"}},{"$f":"RANK(BE43,BE$37:BE$45,1)","v":{"$error":"#DIV/0!"}}]
[null,"Tour 2",{"$f":"C31","v":0},null,null,null,null,null,null,null,null,"Tour 2",{"$f":"M31","v":{"$error":"#DIV/0!"}},null,null,null,null,null,null,null,null,null,null,null,null,null,null,null,null,null,null,null,{"$f":"IF(AN37>0,2-AM38,0.01)","v":0.01},null,null,{"$f":"IF(AN40>0,2-AM41,0.01)","v":0.01},null,null,null,null,null,null,{"$f":"AG44+AJ44","v":0.02}]
[null,null,{"$f":"C32","v":0},null,null,null,null,null,null,null,null,null,{"$f":"M32","v":{"$error":"#DIV/0!"}},null,null,null,null,null,null,null,null,null,null,null,null,null,null,null,null,null,null,{"$f":"F42","v":0},null,{"$f":"AF43/AH43","v":{"$error":"#DIV/0!"}},{"$f":"F45","v":0},null,{"$f":"AI43/AK43","v":{"$error":"#DIV/0!"}},null,null,null,null,{"$f":"MAX(AF45,AI45)","v":0},null,{"$f":"AP43/AR43","v":{"$error":"#DIV/0!"}}]
[]
[null,"Tour 3",{"$f":"C30","v":0},null,null,null,null,null,null,null,null,"Tour 3",{"$f":"M30","v":{"$error":"#DIV/0!"}}]
[null,null,{"$f":"C31","v":0},null,null,null,null,null,null,null,null,null,{"$f":"M31","v":{"$error":"#DIV/0!"}}]
[]
[null,null,null,null,null,null,null,null,null,null,null,null,null,null,null,null,null,null,null,null,null,null,null,null,null,null,null,null,null,null,null,{"$f":"M10","v":{"$error":"#DIV/0!"}},null,null,{"$f":"M11","v":{"$error":"#DIV/0!"}},null,null,{"$f":"M12","v":{"$error":"#DIV/0!"}},null,null,null,"TOTAUX",null,null,"CLASSEMENT"]
[]
[null,null,null,null,null,null,null,null,null,null,null,null,null,null,null,null,null,null,null,null,null,null,null,null,null,null,null,null,null,null,null,null,null,null,null,null,null,null,null,null,null,null,null,null,null,null,"Classement",null,"Classement",null,"Classement",null,"Classement",null,"Classement",null,"GENERAL","RANG"]
[null,null,null,null,null,null,null,null,null,null,null,null,null,null,null,null,null,null,null,null,null,null,null,null,null,null,null,null,null,null,null,null,null,null,null,null,null,null,null,null,null,null,null,null,null,null,"Point-Match","CLS-M","Moy-Gen","CLS-G","Moy-Part","CLS-P","M-Series","CLS-S","MGPS","CLS","CLS"]
[null,null,null,null,null,null,null,null,null,null,null,null,null,null,null,null,null,null,null,null,null,null,null,null,null,null,null,null,null,{"$f":"M10","v":{"$error":"#DIV/0!"}},null,"L",null,null,{"$f":"N27","v":0},null,{"$f":"O27","v":0},{"$f":"N21","v":0},null,{"$f":"O21","v":0},null,{"$f":"AI54+AL54","v":0},null,{"$f":"AK54+AN54","v":0},{"$f":"BF54","v":{"$error":"#DIV/0!"}},null,{"$f":"AQ55","v":0.02},{"$f":"RANK(AU54,AU$54:AU$62,0)","v":1},{"$f":"AR56","v":{"$error":"#DIV/0!"}},{"$f":"RANK(AW54,AW$54:AW$62,0)","v":{"$error":"#DIV/0!"}},{"$f":"MAX(AK56,AN56)","v":{"$error":"#DIV/0!"}},{"$f":"RANK(AY54,AY$54:AY$62)","v":{"$error":"#DIV/0!"}},{"$f":"AP56","v":0},{"$f":"RANK(BA54,BA$54:BA$62)","v":1},{"$f":"(AV54*1000)+(AX54*100)+(AZ54*10)+(BB54*1)","v":{"$error":"#DIV/0!"}},{"$f":"BC54","v":{"$error":"#DIV/0!"}},{"$f":"RANK(BD54,BD$54:BD$62,1)","v":{"$error":"#DIV/0!"}},{"$f":"RANK(BE54,BE$37:BE$45,1)","v":{"$error":"#DIV/0!"}}]
[null,null,null,null,null,null,null,null,null,null,null,null,null,null,null,null,null,null,null,null,null,null,null,null,null,null,null,null,null,null,null,null,null,null,null,{"$f":"IF(AK54<1,0.01,IF(AI54>AF57,2,IF(AI54=AF57,1,0)))","v":0.01},null,null,{"$f":"IF(AN54<1,0.01,IF(AL54>AF60,2,IF(AL54=AF60,1,0)))","v":0.01},null,null,null,{"$f":"AJ55+AM55","v":0.02}]
[null,null,null,null,null,null,null,null,null,null,null,null,null,null,null,null,null,null,null,null,null,null,null,null,null,null,null,null,null,null,null,null,null,null,{"$f":"P27","v":0},null,{"$f":"AI54/AK54","v":{"$error":"#DIV/0!"}},{"$f":"P21","v":0},null,{"$f":"AL54/AN54","v":{"$error":"#DIV/0!"}},null,{"$f":"MAX(AI56,AL56)","v":0},null,{"$f":"AP54/AR54","v":{"$error":"#DIV/0!"}}]
[null,null,null,null,null,null,null,null,null,null,null,null,null,null,null,null,null,null,null,null,null,null,null,null,null,null,null,null,null,{"$f":"M11","v":{"$error":"#DIV/0!"}},null,{"$f":"N28","v":0},null,{"$f":"O27","v":0},"M",null,null,{"$f":"N24","v":0},null,{"$f":"O24","v":0},null,{"$f":"AF57+AL57","v":0},null,{"$f":"AH57+AN57","v":0},{"$f":"BF57","v":{"$error":"#DIV/0!"}},null,{"$f":"AQ58","v":0.02},{"$f":"RANK(AU57,AU$54:AU$62,0)","v":1},{"$f":"AR59","v":{"$error":"#DIV/0!"}},{"$f":"RANK(AW57,AW$54:AW$62,0)","v":{"$error":"#DIV/0!"}},{"$f":"MAX(AH59,AN59)","v":{"$error":"#DIV/0!"}},{"$f":"RANK(AY57,AY$54:AY$62)","v":{"$error":"#DIV/0!"}},{"$f":"AP59","v":0},{"$f":"RANK(BA57,BA$54:BA$62)","v":1},{"$f":"(AV57*1000)+(AX57*100)+(AZ57*10)+(BB57*1)","v":{"$error":"#DIV/0!"}},{"$f":"BC57","v":{"$error":"#DIV/0!"}},{"$f":"RANK(BD57,BD$54:BD$62,1)","v":{"$error":"#DIV/0!"}},{"$f":"RANK(BE57,BE$37:BE$45,1)","v":{"$error":"#DIV/0!"}}]
[null,null,null,null,null,null,null,null,null,null,null,null,null,null,null,null,null,null,null,null,null,null,null,null,null,null,null,null,null,null,null,null,{"$f":"IF(AK54>0,2-AJ55,0.01)","v":0.01},null,null,null,null,null,{"$f":"IF(AN57<1,0.01,IF(AL57>AI60,2,IF(AL57=AI60,1,0)))","v":0.01},null,null,null,{"$f":"AG58+AM58","v":0.02}]
[null,null,null,null,null,null,null,null,null,null,null,null,null,null,null,null,null,null,null,null,null,null,null,null,null,null,null,null,null,null,null,{"$f":"P28","v":0},null,{"$f":"AF57/AH57","v":{"$error":"#DIV/0!"}},null,null,null,{"$f":"P24","v":0},null,{"$f":"AL57/AN57","v":{"$error":"#DIV/0!"}},null,{"$f":"MAX(AF59,AL59)","v":0},null,{"$f":"AP57/AR57","v":{"$error":"#DIV/0!"}}]
[null,null,null,null,null,null,null,null,null,null,null,null,null,null,null,null,null,null,null,null,null,null,null,null,null,null,null,null,null,{"$f":"M12","v":{"$error":"#DIV/0!"}},null,{"$f":"N22","v":0},null,{"$f":"O21","v":0},{"$f":"N25","v":0},null,{"$f":"O24","v":0},"B",null,null,null,{"$f":"AF60+AI60","v":0},null,{"$f":"AH60+AK60","v":0},{"$f":"BF60","v":{"$error":"#DIV/0!"}},null,{"$f":"AQ61","v":0.02},{"$f":"RANK(AU60,AU$54:AU$62,0)","v":1},{"$f":"AR62","v":{"$error":"#DIV/0!"}},{"$f":"RANK(AW60,AW$54:AW$62,0)","v":{"$error":"#DIV/0!"}},{"$f":"MAX(AH62,AK62)","v":{"$error":"#DIV/0!"}},{"$f":"RANK(AY60,AY$54:AY$62)","v":{"$error":"#DIV/0!"}},{"$f":"AP62","v":0},{"$f":"RANK(BA60,BA$54:BA$62)","v":1},{"$f":"(AV60*1000)+(AX60*100)+(AZ60*10)+(BB60*1)","v":{"$error":"#DIV/0!"}},{"$f":"BC60","v":{"$error":"#DIV/0!"}},{"$f":"RANK(BD60,BD$54:BD$62,1)","v":{"$error":"#DIV/0!"}},{"$f":"RANK(BE60,BE$37:BE$45,1)","v":{"$error":"#DIV/0!"}}]
[null,null,null,null,null,null,null,null,null,null,null,null,null,null,null,null,null,null,null,null,null,null,null,null,null,null,null,null,null,null,null,null,{"$f":"IF(AN54>0,2-AM55,0.01)","v":0.01},null,null,{"$f":"IF(AN57>0,2-AM58,0.01)","v":0.01},null,null,null,null,null,null,{"$f":"AG61+AJ61","v":0.02}]
[null,null,null,null,null,null,null,null,null,null,null,null,null,null,null,null,null,null,null,null,null,null,null,null,null,null,null,null,null,null,null,{"$f":"P22","v":0},null,{"$f":"AF60/AH60","v":{"$error":"#DIV/0!"}},{"$f":"P25","v":0},null,{"$f":"AI60/AK60","v":{"$error":"#DIV/0!"}},null,null,null,null,{"$f":"MAX(AF62,AI62)","v":0},null,{"$f":"AP60/AR60","v":{"$error":"#DIV/0!"}}]
[]
[]
[]
[]
[null,null,null,null,null,null,null,null,null,null,null,null,null,null,null,null,null,null,null,null,null,null,null,null,null,null,null,null,null,null,null,{"$f":"M30","v":{"$error":"#DIV/0!"}},null,null,{"$f":"M31","v":{"$error":"#DIV/0!"}},null,null,{"$f":"M32","v":{"$error":"#DIV/0!"}},null,null,null,"TOTAUX",null,null,"CLASSEMENT"]
[]
[null,null,null,null,null,null,null,null,null,null,null,null,null,null,null,null,null,null,null,null,null,null,null,null,null,null,null,null,null,null,null,null,null,null,null,null,null,null,null,null,null,null,null,null,null,null,"Classement",null,"Classement",null,"Classement",null,"Classement",null,"Classement",null,"GENERAL","RANG"]
[null,null,null,null,null,null,null,null,null,null,null,null,null,null,null,null,null,null,null,null,null,null,null,null,null,null,null,null,null,null,null,null,null,null,null,null,null,null,null,null,null,null,null,null,null,null,"Point-Match","CLS-M","Moy-Gen","CLS-G","Moy-Part","CLS-P","M-Series","CLS-S","MGPS","CLS","CLS"]
[null,null,null,null,null,null,null,null,null,null,null,null,null,null,null,null,null,null,null,null,null,null,null,null,null,null,null,null,null,{"$f":"M30","v":{"$error":"#DIV/0!"}},null,"L",null,null,{"$f":"N47","v":0},null,{"$f":"O47","v":0},{"$f":"N41","v":0},null,{"$f":"O41","v":0},null,{"$f":"AI71+AL71","v":0},null,{"$f":"AK71+AN71","v":0},{"$f":"BF71","v":{"$error":"#DIV/0!"}},null,{"$f":"AQ72","v":0.02},{"$f":"RANK(AU71,AU$71:AU$79,0)","v":1},{"$f":"AR73","v":{"$error":"#DIV/0!"}},{"$f":"RANK(AW71,AW$71:AW$79,0)","v":{"$error":"#DIV/0!"}},{"$f":"MAX(AK73,AN73)","v":{"$error":"#DIV/0!"}},{"$f":"RANK(AY71,AY$71:AY$79)","v":{"$error":"#DIV/0!"}},{"$f":"AP73","v":0},{"$f":"RANK(BA71,BA$71:BA$79)","v":1},{"$f":"(AV71*1000)+(AX71*100)+(AZ71*10)+(BB71*1)","v":{"$error":"#DIV/0!"}},{"$f":"BC71","v":{"$error":"#DIV/0!"}},{"$f":"RANK(BD71,BD$71:BD$79,1)","v":{"$error":"#DIV/0!"}},{"$f":"RANK(BE71,BE$37:BE$45,1)","v":{"$error":"#DIV/0!"}}]
[null,null,null,null,null,null,null,null,null,null,null,null,null,null,null,null,null,null,null,null,null,null,null,null,null,null,null,null,null,null,null,null,null,null,null,{"$f":"IF(AK71<1,0.01,IF(AI71>AF74,2,IF(AI71=AF74,1,0)))","v":0.01},null,null,{"$f":"IF(AN71<1,0.01,IF(AL71>AF77,2,IF(AL71=AF77,1,0)))","v":0.01},null,null,null,{"$f":"AJ72+AM72","v":0.02}]
[null,null,null,null,null,null,null,null,null,null,null,null,null,null,null,null,null,null,null,null,null,null,null,null,null,null,null,null,null,null,null,null,null,null,{"$f":"P47","v":0},null,{"$f":"AI71/AK71","v":{"$error":"#DIV/0!"}},{"$f":"P41","v":0},null,{"$f":"AL71/AN71","v":{"$error":"#DIV/0!"}},null,{"$f":"MAX(AI73,AL73)","v":0},null,{"$f":"AP71/AR71","v":{"$error":"#DIV/0!"}}]
[null,null,null,null,null,null,null,null,null,null,null,null,null,null,null,null,null,null,null,null,null,null,null,null,null,null,null,null,null,{"$f":"M31","v":{"$error":"#DIV/0!"}},null,{"$f":"N48","v":0},null,{"$f":"O47","v":0},"M",null,null,{"$f":"N44","v":0},null,{"$f":"O44","v":0},null,{"$f":"AF74+AL74","v":0},null,{"$f":"AH74+AN74","v":0},{"$f":"BF74","v":{"$error":"#DIV/0!"}},null,{"$f":"AQ75","v":0.02},{"$f":"RANK(AU74,AU$71:AU$79,0)","v":1},{"$f":"AR76","v":{"$error":"#DIV/0!"}},{"$f":"RANK(AW74,AW$71:AW$79,0)","v":{"$error":"#DIV/0!"}},{"$f":"MAX(AH76,AN76)","v":{"$error":"#DIV/0!"}},{"$f":"RANK(AY74,AY$71:AY$79)","v":{"$error":"#DIV/0!"}},{"$f":"AP76","v":0},{"$f":"RANK(BA74,BA$71:BA$79)","v":1},{"$f":"(AV74*1000)+(AX74*100)+(AZ74*10)+(BB74*1)","v":{"$error":"#DIV/0!"}},{"$f":"BC74","v":{"$error":"#DIV/0!"}},{"$f":"RANK(BD74,BD$71:BD$79,1)","v":{"$error":"#DIV/0!"}},{"$f":"RANK(BE74,BE$37:BE$45,1)","v":{"$error":"#DIV/0!"}}]
[null,null,null,null,null,null,null,null,null,null,null,null,null,null,null,null,null,null,null,null,null,null,null,null,null,null,null,null,null,null,null,null,{"$f":"IF(AK71>0,2-AJ72,0.01)","v":0.01},null,null,null,null,null,{"$f":"IF(AN74<1,0.01,IF(AL74>AI77,2,IF(AL74=AI77,1,0)))","v":0.01},null,null,null,{"$f":"AG75+AM75","v":0.02}]
[null,null,null,null,null,null,null,null,null,null,null,null,null,null,null,null,null,null,null,null,null,null,null,null,null,null,null,null,null,null,null,{"$f":"P48","v":0},null,{"$f":"AF74/AH74","v":{"$error":"#DIV/0!"}},null,null,null,{"$f":"P44","v":0},null,{"$f":"AL74/AN74","v":{"$error":"#DIV/0!"}},null,{"$f":"MAX(AF76,AL76)","v":0},null,{"$f":"AP74/AR74","v":{"$error":"#DIV/0!"}}]
[null,null,null,null,null,null,null,null,null,null,null,null,null,null,null,null,null,null,null,null,null,null,null,null,null,null,null,null,null,{"$f":"M32","v":{"$error":"#DIV/0!"}},null,{"$f":"N42","v":0},null,{"$f":"O41","v":0},{"$f":"N45","v":0},null,{"$f":"O44","v":0},"B",null,null,null,{"$f":"AF77+AI77","v":0},null,{"$f":"AH77+AK77","v":0},{"$f":"BF77","v":{"$error":"#DIV/0!"}},null,{"$f":"AQ78","v":0.02},{"$f":"RANK(AU77,AU$71:AU$79,0)","v":1},{"$f":"AR79","v":{"$error":"#DIV/0!"}},{"$f":"RANK(AW77,AW$71:AW$79,0)","v":{"$error":"#DIV/0!"}},{"$f":"MAX(AH79,AK79)","v":{"$error":"#DIV/0!"}},{"$f":"RANK(AY77,AY$71:AY$79)","v":{"$error":"#DIV/0!"}},{"$f":"AP79","v":0},{"$f":"RANK(BA77,BA$71:BA$79)","v":1},{"$f":"(AV77*1000)+(AX77*100)+(AZ77*10)+(BB77*1)","v":{"$error":"#DIV/0!"}},{"$f":"BC77","v":{"$error":"#DIV/0!"}},{"$f":"RANK(BD77,BD$71:BD$79,1)","v":{"$error":"#DIV/0!"}},{"$f":"RANK(BE77,BE$37:BE$45,1)","v":{"$error":"#DIV/0!"}}]
[null,null,null,null,null,null,null,null,null,null,null,null,null,null,null,null,null,null,null,null,null,null,null,null,null,null,null,null,null,null,null,null,{"$f":"IF(AN71>0,2-AM72,0.01)","v":0.01},null,null,{"$f":"IF(AN74>0,2-AM75,0.01)","v":0.01},null,null,null,null,null,null,{"$f":"AG78+AJ78","v":0.02}]
[null,null,null,null,null,null,null,null,null,null,null,null,null,null,null,null,null,null,null,null,null,null,null,null,null,null,null,null,null,null,null,{"$f":"P42","v":0},null,{"$f":"AF77/AH77","v":{"$error":"#DIV/0!"}},{"$f":"P45","v":0},null,{"$f":"AI77/AK77","v":{"$error":"#DIV/0!"}},null,null,null,null,{"$f":"MAX(AF79,AI79)","v":0},null,{"$f":"AP77/AR77","v":{"$error":"#DIV/0!"}}]
[]
[]
[null,null,null,null,null,null,null,null,null,null,null,null,null,null,null,null,null,null,null,null,null,null,null,null,null,null,null,null,null,null,null,"Pts P1","Pts P2","Total","Rep P1","Rep P2","Total","Moy"]
[null,null,null,null,null,null,null,null,null,null,null,null,null,null,null,null,null,null,null,null,null,null,null,null,null,null,null,null,null,{"$f":"T18","v":{"$error":"#DIV/0!"}},null,{"$f":"IF(AD18=AD83,AP18,IF(AD21=AD83,AP21,IF(AD24=AD83,AP24,IF(AD37=AD83,AP37,IF(AD40=AD83,AP40,IF(AD43=AD83,AP43,))))))","v":{"$error":"#DIV/0!"}},{"$f":"IF(AD54=AD83,AP54,IF(AD57=AD83,AP57,IF(AD60=AD83,AP60,IF(AD71=AD83,AP71,IF(AD74=AD83,AP74,IF(AD77=AD83,AP77,))))))","v":{"$error":"#DIV/0!"}},{"$f":"AF83+AG83","v":{"$error":"#DIV/0!"}},{"$f":"IF(AD18=AD83,AR18,IF(AD21=AD83,AR21,IF(AD24=AD83,AR24,IF(AD37=AD83,AR37,IF(AD40=AD83,AR40,IF(AD43=AD83,AR43,))))))","v":{"$error":"#DIV/0!"}},{"$f":"IF(AD54=AD83,AR54,IF(AD57=AD83,AR57,IF(AD60=AD83,AR60,IF(AD71=AD83,AR71,IF(AD74=AD83,AR74,IF(AD77=AD83,AR77,))))))","v":{"$error":"#DIV/0!"}},{"$f":"AI83+AJ83","v":{"$error":"#DIV/0!"}},{"$f":"AH83/AK83","v":{"$error":"#DIV/0!"}}]
[null,null,null,null,null,null,null,null,null,null,null,null,null,null,null,null,null,null,null,null,null,null,null,null,null,null,null,null,null,{"$error":"#DIV/0!"},null,{"$f":"IF(AD18=AD84,AP18,IF(AD21=AD84,P21,IF(AD24=AD84,AP24,IF(AD37=AD84,AP37,IF(AD40=AD84,AP40,IF(AD43=AD84,AP43,))))))","v":{"$error":"#DIV/0!"}},{"$f":"IF(AD54=AD84,AP54,IF(AD57=AD84,AP57,IF(AD60=AD84,AP60,IF(AD71=AD84,AP71,IF(AD74=AD84,AP74,IF(AD77=AD84,AP77,))))))","v":{"$error":"#DIV/0!"}},{"$f":"AF84+AG84","v":{"$error":"#DIV/0!"}},{"$f":"IF(AD18=AD84,AR18,IF(AD21=AD84,AR21,IF(AD24=AD84,AR24,IF(AD37=AD84,AR37,IF(AD40=AD84,AR40,IF(AD43=AD84,AR43,))))))","v":{"$error":"#DIV/0!"}},{"$f":"IF(AD54=AD84,AR54,IF(AD57=AD84,AR57,IF(AD60=AD84,AR60,IF(AD71=AD84,AR71,IF(AD74=AD84,AR74,IF(AD77=AD84,AR77,))))))","v":{"$error":"#DIV/0!"}},{"$f":"AI84+AJ84","v":{"$error":"#DIV/0!"}},{"$f":"AH84/AK84","v":{"$error":"#DIV/0!"}}]
[null,null,null,null,null,null,null,null,null,null,null,null,null,null,null,null,null,null,null,null,null,null,null,null,null,null,null,null,null,{"$error":"#DIV/0!"},null,{"$f":"IF(AD18=AD85,AP18,IF(AD21=AD85,P21,IF(AD24=AD85,AP24,IF(AD37=AD85,AP37,IF(AD40=AD85,AP40,IF(AD43=AD85,AP43,))))))","v":{"$error":"#DIV/0!"}},{"$f":"IF(AD54=AD85,AP54,IF(AD57=AD85,AP57,IF(AD60=AD85,AP60,IF(AD71=AD85,AP71,IF(AD74=AD85,AP74,IF(AD77=AD85,AP77,))))))","v":{"$error":"#DIV/0!"}},{"$f":"AF85+AG85","v":{"$error":"#DIV/0!"}},{"$f":"IF(AD18=AD85,AR18,IF(AD21=AD85,AR21,IF(AD24=AD85,AR24,IF(AD37=AD85,AR37,IF(AD40=AD85,AR40,IF(AD43=AD85,AR43,))))))","v":{"$error":"#DIV/0!"}},{"$f":"IF(AD54=AD85,AR54,IF(AD57=AD85,AR57,IF(AD60=AD85,AR60,IF(AD71=AD85,AR71,IF(AD74=AD85,AR74,IF(AD77=AD85,AR77,))))))","v":{"$error":"#DIV/0!"}},{"$error":"#DIV/0!"},{"$error":"#DIV/0!"}]
[null,null,null,null,null,null,null,null,null,null,null,null,null,null,null,null,null,null,null,null,null,null,null,null,null,null,null,null,null,{"$error":"#DIV/0!"},null,{"$f":"IF(AD18=AD86,AP18,IF(AD21=AD86,P21,IF(AD24=AD86,AP24,IF(AD37=AD86,AP37,IF(AD40=AD86,AP40,IF(AD43=AD86,AP43,))))))","v":{"$error":"#DIV/0!"}},{"$f":"IF(AD54=AD86,AP54,IF(AD57=AD86,AP57,IF(AD60=AD86,AP60,IF(AD71=AD86,AP71,IF(AD74=AD86,AP74,IF(AD77=AD86,AP77,))))))","v":{"$error":"#DIV/0!"}},{"$f":"AF86+AG86","v":{"$error":"#DIV/0!"}},{"$f":"IF(AD18=AD86,AR18,IF(AD21=AD86,AR21,IF(AD24=AD86,AR24,IF(AD37=AD86,AR37,IF(AD40=AD86,AR40,IF(AD43=AD86,AR43,))))))","v":{"$error":"#DIV/0!"}},{"$f":"IF(AD54=AD86,AR54,IF(AD57=AD86,AR57,IF(AD60=AD86,AR60,IF(AD71=AD86,AR71,IF(AD74=AD86,AR74,IF(AD77=AD86,AR77,))))))","v":{"$error":"#DIV/0!"}},{"$error":"#DIV/0!"},{"$error":"#DIV/0!"}]
[null,null,null,null,null,null,null,null,null,null,null,null,null,null,null,null,null,null,null,null,null,null,null,null,null,null,null,null,null,{"$error":"#DIV/0!"},null,{"$f":"IF(AD18=AD87,AP18,IF(AD21=AD87,P21,IF(AD24=AD87,AP24,IF(AD37=AD87,AP37,IF(AD40=AD87,AP40,IF(AD43=AD87,AP43,))))))","v":{"$error":"#DIV/0!"}},{"$f":"IF(AD54=AD87,AP54,IF(AD57=AD87,AP57,IF(AD60=AD87,AP60,IF(AD71=AD87,AP71,IF(AD74=AD87,AP74,IF(AD77=AD87,AP77,))))))","v":{"$error":"#DIV/0!"}},{"$error":"#DIV/0!"},{"$f":"IF(AD18=AD87,AR18,IF(AD21=AD87,AR21,IF(AD24=AD87,AR24,IF(AD37=AD87,AR37,IF(AD40=AD87,AR40,IF(AD43=AD87,AR43,))))))","v":{"$error":"#DIV/0!"}},{"$f":"IF(AD54=AD87,AR54,IF(AD57=AD87,AR57,IF(AD60=AD87,AR60,IF(AD71=AD87,AR71,IF(AD74=AD87,AR74,IF(AD77=AD87,AR77,))))))","v":{"$error":"#DIV/0!"}},{"$error":"#DIV/0!"},{"$error":"#DIV/0!"}]
[null,null,null,null,null,null,null,null,null,null,null,null,null,null,null,null,null,null,null,null,null,null,null,null,null,null,null,null,null,{"$error":"#DIV/0!"},null,{"$f":"IF(AD18=AD88,AP18,IF(AD21=AD88,AP21,IF(AD24=AD88,AP24,IF(AD37=AD88,AP37,IF(AD40=AD88,AP40,IF(AD43=AD88,AP43,))))))","v":{"$error":"#DIV/0!"}},{"$f":"IF(AD54=AD88,AP54,IF(AD57=AD88,AP57,IF(AD60=AD88,AP60,IF(AD71=AD88,AP71,IF(AD74=AD88,AP74,IF(AD77=AD88,AP77,))))))","v":{"$error":"#DIV/0!"}},{"$error":"#DIV/0!"},{"$f":"IF(AD18=AD88,AR18,IF(AD21=AD88,AR21,IF(AD24=AD88,AR24,IF(AD37=AD88,AR37,IF(AD40=AD88,AR40,IF(AD43=AD88,AR43,))))))","v":{"$error":"#DIV/0!"}},{"$f":"IF(AD54=AD88,AR54,IF(AD57=AD88,AR57,IF(AD60=AD88,AR60,IF(AD71=AD88,AR71,IF(AD74=AD88,AR74,IF(AD77=AD88,AR77,))))))","v":{"$error":"#DIV/0!"}},{"$error":"#DIV/0!"},{"$error":"#DIV/0!"}]

{"sheet":"7JOUEURS","index":18,"n_rows":65,"n_cols":95,"rows_kept":65,"cut":false,"hidden":true,"merged":[[1,12,3,27],[2,1,3,2],[2,3,3,9],[5,1,6,2],[5,3,6,9],[5,12,5,15],[5,17,5,18],[5,22,5,24],[5,26,5,27],[6,12,6,15],[13,13,14,17],[13,94,14,94],[13,20,14,26],[16,18,16,19],[6,17,6,18],[6,22,6,24],[6,26,6,27],[9,2,9,5],[9,14,9,17],[10,2,10,5],[10,14,10,17],[11,2,11,5],[11,14,11,17],[15,1,15,2],[15,3,18,5],[15,13,15,14],[15,15,18,17],[15,50,17,50],[15,51,17,51],[15,52,17,52],[15,53,17,53],[15,54,17,54],[11,35,14,37],[11,38,14,40],[11,41,14,43],[11,45,14,47],[13,56,13,57],[13,58,13,59],[13,61,14,61],[13,83,13,84],[13,85,13,86],[13,87,13,88],[11,48,14,48],[11,68,14,70],[11,71,14,73],[11,74,14,76],[11,78,14,80],[11,81,14,81],[12,66,14,67],[13,50,13,51],[13,52,13,53],[13,54,13,55],[15,55,17,55],[13,89,13,90],[13,91,13,92],[15,92,17,92],[15,93,17,93],[15,94,17,94],[16,1,17,2],[16,13,17,14],[16,21,16,23],[17,21,17,23],[15,86,17,86],[15,87,17,87],[15,88,17,88],[15,89,17,89],[15,90,17,90],[15,91,17,91],[15,65,17,67],[15,68,17,70],[15,81,17,81],[15,83,17,83],[15,84,17,84],[15,85,17,85],[15,56,17,56],[15,57,17,57],[15,58,17,58],[15,59,17,59],[15,60,17,60],[15,61,17,61],[18,1,19,2],[18,6,18,12],[18,13,19,14],[18,21,18,23],[18,32,20,34],[18,38,20,40],[20,1,21,1],[20,4,21,4],[21,21,21,23],[21,32,23,34],[23,13,24,13],[23,16,24,16],[23,21,23,23],[18,57,20,57],[18,58,20,58],[18,59,20,59],[18,60,20,60],[18,48,20,48],[18,50,20,50],[18,51,20,51],[18,91,20,91],[18,92,20,92],[18,93,20,93],[18,94,20,94],[19,6,19,12],[19,21,19,23],[20,6,20,12],[20,13,21,13],[20,16,21,16],[20,21,20,23],[18,85,20,85],[18,86,20,86],[18,87,20,87],[18,88,20,88],[18,89,20,89],[18,90,20,90],[18,61,20,61],[18,65,20,67],[18,71,20,73],[18,81,20,81],[18,83,20,83],[18,84,20,84],[18,55,20,55],[18,56,20,56],[18,52,20,52],[18,53,20,53],[18,54,20,54],[21,90,23,90],[21,91,23,91],[21,92,23,92],[21,93,23,93],[21,94,23,94],[22,1,22,5],[22,13,22,17],[22,21,22,23],[23,1,24,1],[23,4,24,4],[21,84,23,84],[21,85,23,85],[21,86,23,86],[21,87,23,87],[21,88,23,88],[21,89,23,89],[21,60,23,60],[21,61,23,61],[21,65,23,67],[21,74,23,76],[21,81,23,81],[21,83,23,83],[21,54,23,54],[21,55,23,55],[25,1,25,5],[25,13,25,17],[26,1,27,1],[26,4,27,4],[26,13,27,13],[26,16,27,16],[27,32,27,37],[27,38,27,43],[27,65,27,70],[27,71,27,76],[21,56,23,56],[21,57,23,57],[21,58,23,58],[21,59,23,59],[21,41,23,43],[21,48,23,48],[21,50,23,50],[21,51,23,51],[21,52,23,52],[21,53,23,53],[30,89,30,90],[30,91,30,92],[30,94,31,94],[28,78,31,80],[28,81,31,81],[28,63,31,64],[28,65,31,67],[28,68,31,70],[28,71,31,73],[28,74,31,76],[30,83,30,84],[30,85,30,86],[30,87,30,88],[30,58,30,59],[30,61,31,61],[29,2,29,5],[29,14,29,17],[30,2,30,5],[30,14,30,17],[30,50,30,51],[30,52,30,53],[30,54,30,55],[30,56,30,57],[28,48,31,48],[28,30,31,31],[28,32,31,34],[28,35,31,37],[28,38,31,40],[28,41,31,43],[28,45,31,47],[32,94,34,94],[34,1,34,2],[34,3,37,5],[34,13,34,14],[34,15,37,17],[35,1,36,2],[35,13,36,14],[32,85,34,85],[32,86,34,86],[32,87,34,87],[32,88,34,88],[32,89,34,89],[32,90,34,90],[32,63,34,64],[32,65,34,67],[32,71,34,73],[32,81,34,81],[32,83,34,83],[32,84,34,84],[32,1,33,5],[32,13,33,17],[32,30,34,31],[32,32,34,34],[32,38,34,40],[32,91,34,91],[32,92,34,92],[32,93,34,93],[32,61,34,61],[32,50,34,50],[32,51,34,51],[32,52,34,52],[32,53,34,53],[32,54,34,54],[32,55,34,55],[32,56,34,56],[32,57,34,57],[32,58,34,58],[32,59,34,59],[32,60,34,60],[35,93,37,93],[35,94,37,94],[37,1,38,2],[37,13,38,14],[39,1,40,1],[39,4,40,4],[39,13,40,13],[39,16,40,16],[39,30,39,31],[39,63,39,64],[35,87,37,87],[35,88,37,88],[35,89,37,89],[35,90,37,90],[35,91,37,91],[35,92,37,92],[35,74,37,76],[35,81,37,81],[35,83,37,83],[35,84,37,84],[35,85,37,85],[35,86,37,86],[35,30,37,31],[35,35,37,37],[42,63,42,64],[35,56,37,56],[35,57,37,57],[35,41,37,43],[35,48,37,48],[35,50,37,50],[35,51,37,51],[35,60,37,60],[35,61,37,61],[35,63,37,64],[35,52,37,52],[35,53,37,53],[35,54,37,54],[35,55,37,55],[48,94,49,94],[46,78,49,80],[46,81,49,81],[46,63,49,64],[46,65,49,67],[46,68,49,70],[46,71,49,73],[46,74,49,76],[47,2,47,5],[47,14,47,17],[48,2,48,5],[48,14,48,17],[48,50,48,51],[48,52,48,53],[48,54,48,55],[48,56,48,57],[46,48,49,48],[46,30,49,31],[46,32,49,34],[46,35,49,37],[46,38,49,40],[46,41,49,43],[46,45,49,47],[48,83,48,84],[48,85,48,86],[48,87,48,88],[48,58,48,59],[48,61,49,61],[50,50,52,50],[50,51,52,51],[48,89,48,90],[48,91,48,92],[53,93,55,93],[50,88,52,88],[50,89,52,89],[50,90,52,90],[50,91,52,91],[50,92,52,92],[50,93,52,93],[50,61,52,61],[50,52,52,52],[50,53,52,53],[50,54,52,54],[50,55,52,55],[53,92,55,92],[53,74,55,76],[53,81,55,81],[53,83,55,83],[53,94,55,94],[53,89,55,89],[53,90,55,90],[52,1,52,2],[52,3,55,5],[52,13,52,14],[52,15,55,17],[53,1,54,2],[53,13,54,14],[50,85,52,85],[50,86,52,86],[50,87,52,87],[50,63,52,64],[50,65,52,67],[50,71,52,73],[50,81,52,81],[50,83,52,83],[50,84,52,84],[50,56,52,56],[50,57,52,57],[50,58,52,58],[50,59,52,59],[50,60,52,60],[50,94,52,94],[53,84,55,84],[53,85,55,85],[53,86,55,86],[53,58,55,58],[53,59,55,59],[53,60,55,60],[53,87,55,87],[53,88,55,88],[53,61,55,61],[53,63,55,64],[53,68,55,70],[65,30,65,31],[59,30,59,31],[60,1,61,1],[60,4,61,4],[60,13,61,13],[60,16,61,16],[60,30,60,31],[61,30,61,31],[53,91,55,91],[55,1,56,2],[55,13,56,14],[57,1,58,1],[57,4,58,4],[57,13,58,13],[57,16,58,16],[58,30,58,31],[53,30,55,31],[53,57,55,57],[53,35,55,37],[53,41,55,43],[53,48,55,48],[53,50,55,50],[53,51,55,51],[53,52,55,52],[9,65,9,81],[26,65,26,81],[44,65,44,81],[62,30,62,31],[63,30,63,31],[64,30,64,31],[53,53,55,53],[53,54,55,54],[53,55,55,55],[53,56,55,56],[45,32,45,37],[45,38,45,43],[45,65,45,70],[45,71,45,76],[35,58,37,58],[35,59,37,59],[40,30,40,31],[40,63,40,64],[41,30,41,31],[41,63,41,64],[35,68,37,70],[50,30,52,31],[50,32,52,34],[50,38,52,40],[59,1,59,5],[41,13,41,17],[41,1,41,5],[44,13,46,17],[59,13,59,17],[28,1,28,5],[28,13,28,17],[9,32,9,48],[26,32,26,48],[44,32,44,48],[50,1,51,5],[50,13,51,17],[50,48,52,48],[42,1,43,1],[42,4,43,4],[42,13,43,13],[42,16,43,16],[42,30,42,31],[32,48,34,48],[15,32,17,34],[15,35,17,37],[15,48,17,48],[12,33,14,34],[13,1,14,5]]}
[]
[null,null,null,null,null,null,null,null,null,null,null,null,"LIGUE MÉDITERRANÉENNE DE BILLARD"]
[null,"CLUB ORGANISATEUR"]
[]
[]
[null,"DIRECTEUR DE JEU :",null,null,null,null,null,null,null,null,null,null,"Compétition",null,null,null,null,"Mode de jeu",null,null,"Categorie",null,"Format billard",null,null,null,"Distance"]
[]
[]
[]
[null,"Joueur 1",{"$f":"'Saisie des joueurs'!L18","v":0},null,null,null,null,null,null,null,null,null,null,"Joueur 1",{"$f":"IF(AW16=1,AG16,IF(AW19=1,AG19,IF(AW22=1,AG22,)))","v":{"$error":"#DIV/0!"}},null,null,null,null,null,null,null,null,null,null,null,null,null,null,null,null,null,"Classement de la phase 1 - Poule A",null,null,null,null,null,null,null,null,null,null,null,null,null,null,null,null,null,null,null,null,null,null,null,null,null,null,null,null,null,null,null,null,"Classement de la phase 4"]
[null,"Joueur 2",{"$f":"'Saisie des joueurs'!L23","v":0},null,null,null,null,null,null,null,null,null,null,"Joueur 2",{"$f":"IF(AW33=1,AE33,IF(AW36=1,AE36,))","v":{"$error":"#DIV/0!"}}]
[null,"Joueur 3",{"$f":"'Saisie des joueurs'!L24","v":0},null,null,null,null,null,null,null,null,null,null,"Joueur 3",{"$f":"IF(AW51=1,AE51,IF(AW54=1,AE54,))","v":{"$error":"#DIV/0!"}},null,null,null,null,null,null,null,null,null,null,null,null,null,null,null,null,null,null,null,null,{"$f":"C10","v":0},null,null,{"$f":"C11","v":0},null,null,{"$f":"C12","v":0},null,null,null,"TOTAUX",null,null,"CLASSEMENT",null,null,null,null,null,null,null,null,null,null,null,null,null,null,null,null,null,null,null,{"$f":"O10","v":{"$error":"#DIV/0!"}},null,null,{"$f":"O11","v":{"$error":"#DIV/0!"}},null,null,{"$f":"O12","v":{"$error":"#DIV/0!"}},null,null,null,"TOTAUX",null,null,"CLASSEMENT"]
[]
[null,"SAISIE DES RESULTATS",null,null,null,null,null,null,null,null,null,null,null,"SAISIE DES RESULTATS",null,null,null,null,null,null,"CLASSEMENT DU TOURNOI",null,null,null,null,null,null,null,null,null,null,null,null,null,null,null,null,null,null,null,null,null,null,null,null,null,null,null,null,null,"Classement",null,"Classement",null,"Classement",null,"Classement",null,"Classement",null,"GENERAL","RANG",null,null,null,null,null,null,null,null,null,null,null,null,null,null,null,null,null,null,null,null,null,"Classement",null,"Classement",null,"Classement",null,"Classement",null,"Classement",null,"GENERAL","RANG"]
[null,null,null,null,null,null,null,null,null,null,null,null,null,null,null,null,null,null,null,null,null,null,null,null,null,null,null,null,null,null,null,null,null,null,null,null,null,null,null,null,null,null,null,null,null,null,null,null,null,null,"PM","CLS-M","Moy-Gen","CLS-G","Moy-Part","CLS-P","M-Series","CLS-S","MGPS","CLS","CLS",null,null,null,null,null,null,null,null,null,null,null,null,null,null,null,null,null,null,null,null,null,null,"PM","CLS-M","Moy-Gen","CLS-G","Moy-Part","CLS-P","M-Series","CLS-S","MGPS","CLS","CLS"]
[null,"Phase 1",null,null,null,null,null,null,null,null,null,null,null,"Phase 4",null,null,null,null,null,null,null,null,null,null,null,null,null,null,null,null,null,null,{"$f":"C10","v":0},null,null,"L",null,null,{"$f":"D27","v":0},null,{"$f":"E27","v":0},{"$f":"D21","v":0},null,{"$f":"E21","v":0},null,{"$f":"AM16+AP16","v":0},null,{"$f":"AO16+AR16","v":0},{"$f":"BJ16","v":{"$error":"#DIV/0!"}},null,{"$f":"AU17","v":0.02},{"$f":"RANK(AY16,AY$16:AY$24,0)","v":1},{"$f":"AV18","v":{"$error":"#DIV/0!"}},{"$f":"RANK(BA16,BA$16:BA$24,0)","v":{"$error":"#DIV/0!"}},{"$f":"MAX(AO18,AR18)","v":{"$error":"#DIV/0!"}},{"$f":"RANK(BC16,BC$16:BC$24,0)","v":{"$error":"#DIV/0!"}},{"$f":"AT18","v":0},{"$f":"RANK(BE16,BE$16:BE$24)","v":1},{"$f":"RANK(BF16,BF$16:BF$24)","v":1},{"$f":"(AZ16*1000)+(BB16*100)+(BE16*10)+(BG16*1)","v":{"$error":"#DIV/0!"}},{"$f":"BH16","v":{"$error":"#DIV/0!"}},{"$f":"RANK(BI16,BI$16:BI$24,1)","v":{"$error":"#DIV/0!"}},null,null,null,{"$f":"O10","v":{"$error":"#DIV/0!"}},null,null,"L",null,null,{"$f":"P27","v":0},null,{"$f":"Q27","v":0},{"$f":"P21","v":0},null,{"$f":"Q21","v":0},null,{"$f":"BT16+BW16","v":0},null,{"$f":"BV16+BY16","v":0},{"$f":"CQ16","v":{"$error":"#DIV/0!"}},null,{"$f":"CB17","v":0.02},{"$f":"RANK(CF16,CF$16:CF$24,0)","v":1},{"$f":"CC18","v":{"$error":"#DIV/0!"}},{"$f":"RANK(CH16,CH$16:CH$24,0)","v":{"$error":"#DIV/0!"}},{"$f":"MAX(BV18,BY18)","v":{"$error":"#DIV/0!"}},{"$f":"RANK(CJ16,CJ$16:CJ$24,0)","v":{"$error":"#DIV/0!"}},{"$f":"CA18","v":0},{"$f":"RANK(CL16,CL$16:CL$24)","v":1},{"$f":"RANK(CM16,CM$16:CM$24)","v":1},{"$f":"(CG16*1000)+(CI16*100)+(CL16*10)+(CN16*1)","v":{"$error":"#DIV/0!"}},{"$f":"CO16","v":{"$error":"#DIV/0!"}},{"$f":"RANK(CP16,CP$16:CP$24,1)","v":{"$error":"#DIV/0!"}}]
[null,"POULE A",null,null,null,null,null,null,null,null,null,null,null,"POULE A",null,null,null,null,"Pts Tournoi",null,null,"NOM",null,null,"Pts","Rep","Moy",null,null,null,null,null,null,null,null,null,null,null,null,{"$f":"IF(AO16<1,0.01,IF(AM16>AJ19,2,IF(AM16=AJ19,1,0)))","v":0.01},null,null,{"$f":"IF(AR16<1,0.01,IF(AP16>AJ22,2,IF(AP16=AJ22,1,0)))","v":0.01},null,null,null,{"$f":"AN17+AQ17","v":0.02},null,null,null,null,null,null,null,null,null,null,null,null,null,null,null,null,null,null,null,null,null,null,null,null,null,{"$f":"IF(BV16<1,0.01,IF(BT16>BQ19,2,IF(BT16=BQ19,1,0)))","v":0.01},null,null,{"$f":"IF(BY16<1,0.01,IF(BW16>BQ22,2,IF(BW16=BQ22,1,0)))","v":0.01},null,null,null,{"$f":"BU17+BX17","v":0.02}]
[null,null,null,null,null,null,null,null,null,null,null,null,null,null,null,null,null,null,null,120,1,{"$f":"IF(CD16=1,BN16,IF(CD19=1,BN19,IF(CD22=1,BN22,)))","v":{"$error":"#DIV/0!"}},null,null,{"$f":"AI59","v":{"$error":"#DIV/0!"}},{"$f":"AL59","v":{"$error":"#DIV/0!"}},{"$f":"AM59","v":{"$error":"#DIV/0!"}},null,null,null,null,null,null,null,null,null,null,null,{"$f":"F27","v":0},null,{"$f":"AM16/AO16","v":{"$error":"#DIV/0!"}},{"$f":"F21","v":0},null,{"$f":"AP16/AR16","v":{"$error":"#DIV/0!"}},null,{"$f":"MAX(AM18,AP18)","v":0},null,{"$f":"AT16/AV16","v":{"$error":"#DIV/0!"}},null,null,null,null,null,null,null,null,null,null,null,null,null,null,null,null,null,null,null,null,null,null,null,{"$f":"R27","v":0},null,{"$f":"BT16/BV16","v":{"$error":"#DIV/0!"}},{"$f":"R21","v":0},null,{"$f":"BW16/BY16","v":{"$error":"#DIV/0!"}},null,{"$f":"MAX(BT18,BW18)","v":0},null,{"$f":"CA16/CC16","v":{"$error":"#DIV/0!"}}]
[null,null,null,null,null,null,"1er de poule",null,null,null,null,null,null,null,null,null,null,null,null,90,2,{"$f":"IF(CD16=2,BN16,IF(CD19=2,BN19,IF(CD22=2,BN22,)))","v":{"$error":"#DIV/0!"}},null,null,{"$f":"AI60","v":{"$error":"#DIV/0!"}},{"$f":"AL60","v":{"$error":"#DIV/0!"}},{"$error":"#DIV/0!"},null,null,null,null,null,{"$f":"C11","v":0},null,null,{"$f":"D28","v":0},null,{"$f":"E27","v":0},"M",null,null,{"$f":"D24","v":0},null,{"$f":"E24","v":0},null,{"$f":"AJ19+AP19","v":0},null,{"$f":"AL19+AR19","v":0},{"$f":"BJ19","v":{"$error":"#DIV/0!"}},null,{"$f":"AU20","v":0.02},{"$f":"RANK(AY19,AY$16:AY$24,0)","v":1},{"$f":"AV21","v":{"$error":"#DIV/0!"}},{"$f":"RANK(BA19,BA$16:BA$24,0)","v":{"$error":"#DIV/0!"}},{"$f":"MAX(AO21,AR21)","v":{"$error":"#DIV/0!"}},{"$f":"RANK(BC19,BC$16:BC$24,0)","v":{"$error":"#DIV/0!"}},{"$f":"AT21","v":0},{"$f":"RANK(BE19,BE$16:BE$24)","v":1},{"$f":"RANK(BF19,BF$16:BF$24)","v":1},{"$f":"(AZ19*1000)+(BB19*100)+(BE19*10)+(BG19*1)","v":{"$error":"#DIV/0!"}},{"$f":"BH19","v":{"$error":"#DIV/0!"}},{"$f":"RANK(BI19,BI$16:BI$24,1)","v":{"$error":"#DIV/0!"}},null,null,null,{"$f":"O11","v":{"$error":"#DIV/0!"}},null,null,{"$f":"P28","v":0},null,{"$f":"Q27","v":0},"M",null,null,{"$f":"P24","v":0},null,{"$f":"Q24","v":0},null,{"$f":"BQ19+BW19","v":0},null,{"$f":"BS19+BY19","v":0},{"$f":"CQ19","v":{"$error":"#DIV/0!"}},null,{"$f":"CB20","v":0.02},{"$f":"RANK(CF19,CF$16:CF$24,0)","v":1},{"$f":"CC21","v":{"$error":"#DIV/0!"}},{"$f":"RANK(CH19,CH$16:CH$24,0)","v":{"$error":"#DIV/0!"}},{"$f":"MAX(BV21,BY21)","v":{"$error":"#DIV/0!"}},{"$f":"RANK(CJ19,CJ$16:CJ$24,0)","v":{"$error":"#DIV/0!"}},{"$f":"CA21","v":0},{"$f":"RANK(CL19,CL$16:CL$24)","v":1},{"$f":"RANK(CM19,CM$16:CM$24)","v":1},{"$f":"(CG19*1000)+(CI19*100)+(CL19*10)+(CN19*1)","v":{"$error":"#DIV/0!"}},{"$f":"CO19","v":{"$error":"#DIV/0!"}},{"$f":"RANK(CP19,CP$16:CP$24,1)","v":{"$error":"#DIV/0!"}}]
[null,null,null,"Pts","Rep","Série","2 meilleurs 2ème de poule",null,null,null,null,null,null,null,null,"Pts","Rep","Série",null,70,3,{"$f":"IF(CD16=3,BN16,IF(CD19=3,BN19,IF(CD22=3,BN22,)))","v":{"$error":"#DIV/0!"}},null,null,{"$error":"#DIV/0!"},{"$error":"#DIV/0!"},{"$error":"#DIV/0!"},null,null,null,null,null,null,null,null,null,{"$f":"IF(AO16>0,2-AN17,0.01)","v":0.01},null,null,null,null,null,{"$f":"IF(AR19<1,0.01,IF(AP19>AM22,2,IF(AP19=AM22,1,0)))","v":0.01},null,null,null,{"$f":"AK20+AQ20","v":0.02},null,null,null,null,null,null,null,null,null,null,null,null,null,null,null,null,null,null,null,null,null,null,{"$f":"IF(BV16>0,2-BU17,0.01)","v":0.01},null,null,null,null,null,{"$f":"IF(BY19<1,0.01,IF(BW19>BT22,2,IF(BW19=BT22,1,0)))","v":0.01},null,null,null,{"$f":"BR20+BX20","v":0.02}]
[null,"Tour 1",{"$f":"C10","v":0},null,null,null,"Dernier 2ème et 3ème de poule",null,null,null,null,null,null,"Tour 1",{"$f":"O10","v":{"$error":"#DIV/0!"}},null,null,null,null,50,4,{"$f":"IF(CD33=1,BL33,IF(CD36=1,BL36))","v":{"$error":"#DIV/0!"}},null,null,{"$error":"#DIV/0!"},{"$error":"#DIV/0!"},{"$error":"#DIV/0!"},null,null,null,null,null,null,null,null,{"$f":"F28","v":0},null,{"$f":"AJ19/AL19","v":{"$error":"#DIV/0!"}},null,null,null,{"$f":"F24","v":0},null,{"$f":"AP19/AR19","v":{"$error":"#DIV/0!"}},null,{"$f":"MAX(AJ21,AP21)","v":0},null,{"$f":"AT19/AV19","v":{"$error":"#DIV/0!"}},null,null,null,null,null,null,null,null,null,null,null,null,null,null,null,null,null,null,null,null,{"$f":"R28","v":0},null,{"$f":"BQ19/BS19","v":{"$error":"#DIV/0!"}},null,null,null,{"$f":"R24","v":0},null,{"$f":"BW19/BY19","v":{"$error":"#DIV/0!"}},null,{"$f":"MAX(BQ21,BW21)","v":0},null,{"$f":"CA19/CC19","v":{"$error":"#DIV/0!"}}]
[null,null,{"$f":"C12","v":0},null,null,null,null,null,null,null,null,null,null,null,{"$f":"O12","v":{"$error":"#DIV/0!"}},null,null,null,null,30,5,{"$f":"IF(CD33=2,BL33,IF(CD36=2,BL36))","v":{"$error":"#DIV/0!"}},null,null,{"$error":"#DIV/0!"},{"$error":"#DIV/0!"},{"$error":"#DIV/0!"},null,null,null,null,null,{"$f":"C12","v":0},null,null,{"$f":"D22","v":0},null,{"$f":"E21","v":0},{"$f":"D25","v":0},null,{"$f":"E24","v":0},"B",null,null,null,{"$f":"AJ22+AM22","v":0},null,{"$f":"AL22+AO22","v":0},{"$f":"BJ22","v":{"$error":"#DIV/0!"}},null,{"$f":"AU23","v":0.02},{"$f":"RANK(AY22,AY$16:AY$24,0)","v":1},{"$f":"AV24","v":{"$error":"#DIV/0!"}},{"$f":"RANK(BA22,BA$16:BA$24,0)","v":{"$error":"#DIV/0!"}},{"$f":"MAX(AO24,AR24)","v":{"$error":"#DIV/0!"}},{"$f":"RANK(BC22,BC$16:BC$24,0)","v":{"$error":"#DIV/0!"}},{"$f":"AT24","v":0},{"$f":"RANK(BE22,BE$16:BE$24)","v":1},{"$f":"RANK(BF22,BF$16:BF$24)","v":1},{"$f":"(AZ22*1000)+(BB22*100)+(BE22*10)+(BG22*1)","v":{"$error":"#DIV/0!"}},{"$f":"BH22","v":{"$error":"#DIV/0!"}},{"$f":"RANK(BI22,BI$16:BI$24,1)","v":{"$error":"#DIV/0!"}},null,null,null,{"$f":"O12","v":{"$error":"#DIV/0!"}},null,null,{"$f":"P22","v":0},null,{"$f":"Q21","v":0},{"$f":"P25","v":0},null,{"$f":"Q24","v":0},"B",null,null,null,{"$f":"BQ22+BT22","v":0},null,{"$f":"BS22+BV22","v":0},{"$f":"CQ22","v":{"$error":"#DIV/0!"}},null,{"$f":"CB23","v":0.02},{"$f":"RANK(CF22,CF$16:CF$24,0)","v":1},{"$f":"CC24","v":{"$error":"#DIV/0!"}},{"$f":"RANK(CH22,CH$16:CH$24,0)","v":{"$error":"#DIV/0!"}},{"$f":"MAX(BV24,BY24)","v":{"$error":"#DIV/0!"}},{"$f":"RANK(CJ22,CJ$16:CJ$24,0)","v":{"$error":"#DIV/0!"}},{"$f":"CA24","v":0},{"$f":"RANK(CL22,CL$16:CL$24)","v":1},{"$f":"RANK(CM22,CM$16:CM$24)","v":1},{"$f":"(CG22*1000)+(CI22*100)+(CL22*10)+(CN22*1)","v":{"$error":"#DIV/0!"}},{"$f":"CO22","v":{"$error":"#DIV/0!"}},{"$f":"RANK(CP22,CP$16:CP$24,1)","v":{"$error":"#DIV/0!"}}]
[null,null,null,null,null,null,null,null,null,null,null,null,null,null,null,null,null,null,null,10,6,{"$f":"IF(CD51=1,BL51,IF(CD54=1,BL54,))","v":{"$error":"#DIV/0!"}},null,null,{"$error":"#DIV/0!"},{"$error":"#DIV/0!"},{"$error":"#DIV/0!"},null,null,null,null,null,null,null,null,null,{"$f":"IF(AR16>0,2-AQ17,0.01)","v":0.01},null,null,{"$f":"IF(AR19>0,2-AQ20,0.01)","v":0.01},null,null,null,null,null,null,{"$f":"AK23+AN23","v":0.02},null,null,null,null,null,null,null,null,null,null,null,null,null,null,null,null,null,null,null,null,null,null,{"$f":"IF(BY16>0,2-BX17,0.01)","v":0.01},null,null,{"$f":"IF(BY19>0,2-BX20,0.01)","v":0.01},null,null,null,null,null,null,{"$f":"BR23+BU23","v":0.02}]
[null,"Tour 2",{"$f":"C11","v":0},null,null,null,null,null,null,null,null,null,null,"Tour 2",{"$f":"O11","v":{"$error":"#DIV/0!"}},null,null,null,null,5,7,{"$f":"IF(CD51=2,BL51,IF(CD54=2,BL54,))","v":{"$error":"#DIV/0!"}},null,null,{"$error":"#DIV/0!"},{"$error":"#DIV/0!"},{"$error":"#DIV/0!"},null,null,null,null,null,null,null,null,{"$f":"F22","v":0},null,{"$f":"AJ22/AL22","v":{"$error":"#DIV/0!"}},{"$f":"F25","v":0},null,{"$f":"AM22/AO22","v":{"$error":"#DIV/0!"}},null,null,null,null,{"$f":"MAX(AJ24,AM24)","v":0},null,{"$f":"AT22/AV22","v":{"$error":"#DIV/0!"}},null,null,null,null,null,null,null,null,null,null,null,null,null,null,null,null,null,null,null,null,{"$f":"R22","v":0},null,{"$f":"BQ22/BS22","v":{"$error":"#DIV/0!"}},{"$f":"R25","v":0},null,{"$f":"BT22/BV22","v":{"$error":"#DIV/0!"}},null,null,null,null,{"$f":"MAX(BQ24,BT24)","v":0},null,{"$f":"CA22/CC22","v":{"$error":"#DIV/0!"}}]
[null,null,{"$f":"C12","v":0},null,null,null,null,null,null,null,null,null,null,null,{"$f":"O12","v":{"$error":"#DIV/0!"}}]
[]
[null,"Tour 3",{"$f":"C10","v":0},null,null,null,null,null,null,null,null,null,null,"Tour 3",{"$f":"O10","v":{"$error":"#DIV/0!"}},null,null,null,null,null,null,null,null,null,null,null,null,null,null,null,null,null,"Classement de la phase 1 - Poule B",null,null,null,null,null,null,null,null,null,null,null,null,null,null,null,null,null,null,null,null,null,null,null,null,null,null,null,null,null,null,null,null,"Classement de la phase 3"]
[null,null,{"$f":"C11","v":0},null,null,null,null,null,null,null,null,null,null,null,{"$f":"O11","v":{"$error":"#DIV/0!"}},null,null,null,null,null,null,null,null,null,null,null,null,null,null,null,null,null,"MATCH ALLER",null,null,null,null,null,"MATCH RETOUR",null,null,null,null,null,null,null,null,null,null,null,null,null,null,null,null,null,null,null,null,null,null,null,null,null,null,"MATCH ALLER",null,null,null,null,null,"MATCH RETOUR"]
[null,null,null,null,null,null,null,null,null,null,null,null,null,null,null,null,null,null,null,null,null,null,null,null,null,null,null,null,null,null,null,null,{"$f":"C30","v":0},null,null,{"$f":"C31","v":0},null,null,{"$f":"C30","v":0},null,null,{"$f":"C31","v":0},null,null,null,"TOTAUX",null,null,"CLASSEMENT",null,null,null,null,null,null,null,null,null,null,null,null,null,null,null,null,{"$f":"O30","v":{"$error":"#DIV/0!"}},null,null,{"$f":"O31","v":{"$error":"#DIV/0!"}},null,null,{"$f":"O30","v":{"$error":"#DIV/0!"}},null,null,{"$f":"O31","v":{"$error":"#DIV/0!"}},null,null,null,"TOTAUX",null,null,"CLASSEMENT"]
[null,"Joueur 1",{"$f":"'Saisie des joueurs'!L19","v":0},null,null,null,null,null,null,null,null,null,null,"Joueur 1",{"$f":"IF(AP41=1,AE41,IF(AP42=1,AE42,IF(AP43=1,AE43,)))","v":{"$error":"#DIV/0!"}}]
[null,"Joueur 2",{"$f":"'Saisie des joueurs'!L22","v":0},null,null,null,null,null,null,null,null,null,null,"Joueur 2",{"$f":"IF(AP41=2,AE41,IF(AP42=2,AE42,IF(AP43=2,AE43,)))","v":{"$error":"#DIV/0!"}},null,null,null,null,null,null,null,null,null,null,null,null,null,null,null,null,null,null,null,null,null,null,null,null,null,null,null,null,null,null,null,null,null,null,null,"Classement",null,"Classement",null,"Classement",null,"Classement",null,"Classement",null,"GENERAL","RANG",null,null,null,null,null,null,null,null,null,null,null,null,null,null,null,null,null,null,null,null,null,"Classement",null,"Classement",null,"Classement",null,"Classement",null,"Classement",null,"GENERAL","RANG"]
[null,null,null,null,null,null,null,null,null,null,null,null,null,null,null,null,null,null,null,null,null,null,null,null,null,null,null,null,null,null,null,null,null,null,null,null,null,null,null,null,null,null,null,null,null,null,null,null,null,null,"PM","CLS-M","Moy-Gen","CLS-G","Moy-Part","CLS-P","M-Series","CLS-S","MGPS","CLS","CLS",null,null,null,null,null,null,null,null,null,null,null,null,null,null,null,null,null,null,null,null,null,null,"PM","CLS-M","Moy-Gen","CLS-G","Moy-Part","CLS-P","M-Series","CLS-S","MGPS","CLS","CLS"]
[null,"SAISIE DES RESULTATS",null,null,null,null,null,null,null,null,null,null,null,"SAISIE DES RESULTATS",null,null,null,null,null,null,null,null,null,null,null,null,null,null,null,null,{"$f":"C30","v":0},null,"L",null,null,{"$f":"D40","v":0},null,{"$f":"E40","v":0},"B",null,null,{"$f":"D43","v":0},null,{"$f":"E43","v":0},null,{"$f":"AJ33+AP33","v":0},null,{"$f":"AL33+AR33","v":0},{"$f":"BJ33","v":{"$error":"#DIV/0!"}},null,{"$f":"AU34","v":0.02},{"$f":"RANK(AY33,AY$33:AY$38,0)","v":1},{"$f":"AV35","v":{"$error":"#DIV/0!"}},{"$f":"RANK(BA33,BA$33:BA$38,0)","v":{"$error":"#DIV/0!"}},{"$f":"MAX(AL35,AR35)","v":{"$error":"#DIV/0!"}},{"$f":"RANK(BC33,BC$33:BC$38,0)","v":{"$error":"#DIV/0!"}},{"$f":"AT35","v":0},{"$f":"RANK(BE33,BE$33:BE$38,0)","v":1},{"$f":"(AZ33*1000)+(BB33*100)+(BD33*10)+(BF33*1)","v":{"$error":"#DIV/0!"}},{"$f":"BG33","v":{"$error":"#DIV/0!"}},{"$f":"RANK(BH33,BH$33:BH$38,1)","v":{"$error":"#DIV/0!"}},{"$f":"RANK(BI33,BI$33:BI$38,1)","v":{"$error":"#DIV/0!"}},null,{"$f":"O30","v":{"$error":"#DIV/0!"}},null,"L",null,null,{"$f":"P40","v":0},null,{"$f":"Q40","v":0},"B",null,null,{"$f":"P43","v":0},null,{"$f":"Q43","v":0},null,{"$f":"BQ33+BW33","v":0},null,{"$f":"BS33+BY33","v":0},{"$f":"CQ33","v":{"$error":"#DIV/0!"}},null,{"$f":"CB34","v":0.02},{"$f":"RANK(CF33,CF$33:CF$38,0)","v":1},{"$f":"CC35","v":{"$error":"#DIV/0!"}},{"$f":"RANK(CH33,CH$33:CH$38,0)","v":{"$error":"#DIV/0!"}},{"$f":"MAX(BS35,BY35)","v":{"$error":"#DIV/0!"}},{"$f":"RANK(CJ33,CJ$33:CJ$38,0)","v":{"$error":"#DIV/0!"}},{"$f":"CA35","v":0},{"$f":"RANK(CL33,CL$33:CL$38,0)","v":1},{"$f":"(CG33*1000)+(CI33*100)+(CK33*10)+(CM33*1)","v":{"$error":"#DIV/0!"}},{"$f":"CN33","v":{"$error":"#DIV/0!"}},{"$f":"RANK(CO33,CO$33:CO$38,1)","v":{"$error":"#DIV/0!"}},{"$f":"RANK(CP33,CP$33:CP$38,1)","v":{"$error":"#DIV/0!"}}]
[null,null,null,null,null,null,null,null,null,null,null,null,null,null,null,null,null,null,null,null,null,null,null,null,null,null,null,null,null,null,null,null,null,null,null,null,{"$f":"IF(AL33<1,0.01,IF(AJ33>AG36,2,IF(AJ33=AG36,1,0)))","v":0.01},null,null,null,null,null,{"$f":"IF(AR33<1,0.01,IF(AP33>AM36,2,IF(AP33=AM36,1,0)))","v":0.01},null,null,null,{"$f":"AK34+AQ34","v":0.02},null,null,null,null,null,null,null,null,null,null,null,null,null,null,null,null,null,null,null,null,null,null,{"$f":"IF(BS33<1,0.01,IF(BQ33>BN36,2,IF(BQ33=BN36,1,0)))","v":0.01},null,null,null,null,null,{"$f":"IF(BY33<1,0.01,IF(BW33>BT36,2,IF(BW33=BT36,1,0)))","v":0.01},null,null,null,{"$f":"BR34+BX34","v":0.02}]
[null,"Phase 1",null,null,null,null,null,null,null,null,null,null,null,"Phase 3",null,null,null,null,null,null,null,null,null,null,null,null,null,null,null,null,null,null,null,null,null,{"$f":"F40","v":0},null,{"$f":"AJ33/AL33","v":{"$error":"#DIV/0!"}},null,null,null,{"$f":"F43","v":0},null,{"$f":"AP33/AR33","v":{"$error":"#DIV/0!"}},null,{"$f":"MAX(AJ35,AP35)","v":0},null,{"$f":"AT33/AV33","v":{"$error":"#DIV/0!"}},null,null,null,null,null,null,null,null,null,null,null,null,null,null,null,null,null,null,null,null,{"$f":"R40","v":0},null,{"$f":"BQ33/BS33","v":{"$error":"#DIV/0!"}},null,null,null,{"$f":"R43","v":0},null,{"$f":"BW33/BY33","v":{"$error":"#DIV/0!"}},null,{"$f":"MAX(BQ35,BW35)","v":0},null,{"$f":"CA33/CC33","v":{"$error":"#DIV/0!"}}]
[null,"POULE B",null,null,null,null,null,null,null,null,null,null,null,"POULE B",null,null,null,null,null,null,null,null,null,null,null,null,null,null,null,null,{"$f":"C31","v":0},null,{"$f":"D41","v":0},null,{"$f":"E40","v":0},"M",null,null,{"$f":"D44","v":0},null,{"$f":"E43","v":0},null,null,null,null,{"$f":"AG36+AM36","v":0},null,{"$f":"AI36+AO36","v":0},{"$f":"BJ36","v":{"$error":"#DIV/0!"}},null,{"$f":"AU37","v":0.02},{"$f":"RANK(AY36,AY$33:AY$38,0)","v":1},{"$f":"AV38","v":{"$error":"#DIV/0!"}},{"$f":"RANK(BA36,BA$33:BA$38,0)","v":{"$error":"#DIV/0!"}},{"$f":"MAX(AI38,AO38)","v":{"$error":"#DIV/0!"}},{"$f":"RANK(BC36,BC$33:BC$38,0)","v":{"$error":"#DIV/0!"}},{"$f":"AT38","v":0},{"$f":"RANK(BE36,BE$33:BE$38,0)","v":1},{"$f":"(AZ36*1000)+(BB36*100)+(BD36*10)+(BF36*1)","v":{"$error":"#DIV/0!"}},{"$f":"BG36","v":{"$error":"#DIV/0!"}},{"$f":"RANK(BH36,BH$33:BH$38,1)","v":{"$error":"#DIV/0!"}},{"$f":"RANK(BI36,BI$33:BI$38,1)","v":{"$error":"#DIV/0!"}},null,{"$f":"O31","v":{"$error":"#DIV/0!"}},null,{"$f":"P41","v":0},null,{"$f":"Q40","v":0},"M",null,null,{"$f":"P44","v":0},null,{"$f":"Q43","v":0},null,null,null,null,{"$f":"BN36+BT36","v":0},null,{"$f":"BP36+BV36","v":0},{"$f":"CQ36","v":{"$error":"#DIV/0!"}},null,{"$f":"CB37","v":0.02},{"$f":"RANK(CF36,CF$33:CF$38,0)","v":1},{"$f":"CC38","v":{"$error":"#DIV/0!"}},{"$f":"RANK(CH36,CH$33:CH$38,0)","v":{"$error":"#DIV/0!"}},{"$f":"MAX(BP38,BV38)","v":{"$error":"#DIV/0!"}},{"$f":"RANK(CJ36,CJ$33:CJ$38,0)","v":{"$error":"#DIV/0!"}},{"$f":"CA38","v":0},{"$f":"RANK(CL36,CL$33:CL$38,0)","v":1},{"$f":"(CG36*1000)+(CI36*100)+(CK36*10)+(CM36*1)","v":{"$error":"#DIV/0!"}},{"$f":"CN36","v":{"$error":"#DIV/0!"}},{"$f":"RANK(CO36,CO$33:CO$38,1)","v":{"$error":"#DIV/0!"}},{"$f":"RANK(CP36,CP$33:CP$38,1)","v":{"$error":"#DIV/0!"}}]
[null,null,null,null,null,null,null,null,null,null,null,null,null,null,null,null,null,null,null,null,null,null,null,null,null,null,null,null,null,null,null,null,null,{"$f":"IF(AL33>0,2-AK34,0.01)","v":0.01},null,null,null,null,null,{"$f":"IF(AR33>0,2-AQ34,0.01)","v":0.01},null,null,null,null,null,null,{"$f":"AH37+AN37+AQ37","v":0.02},null,null,null,null,null,null,null,null,null,null,null,null,null,null,null,null,null,null,null,{"$f":"IF(BS33>0,2-BR34,0.01)","v":0.01},null,null,null,null,null,{"$f":"IF(BY33>0,2-BX34,0.01)","v":0.01},null,null,null,null,null,null,{"$f":"BO37+BU37+BX37","v":0.02}]
[null,null,null,null,null,null,null,null,null,null,null,null,null,null,null,null,null,null,null,null,null,null,null,null,null,null,null,null,null,null,null,null,{"$f":"F41","v":0},null,{"$f":"AG36/AI36","v":{"$error":"#DIV/0!"}},null,null,null,{"$f":"F44","v":0},null,{"$f":"AM36/AO36","v":{"$error":"#DIV/0!"}},null,null,null,null,{"$f":"MAX(AG38,AM38)","v":0},null,{"$f":"AT36/AV36","v":{"$error":"#DIV/0!"}},null,null,null,null,null,null,null,null,null,null,null,null,null,null,null,null,null,{"$f":"R41","v":0},null,{"$f":"BN36/BP36","v":{"$error":"#DIV/0!"}},null,null,null,{"$f":"R44","v":0},null,{"$f":"BT36/BV36","v":{"$error":"#DIV/0!"}},null,null,null,null,{"$f":"MAX(BN38,BT38)","v":0},null,{"$f":"CA36/CC36","v":{"$error":"#DIV/0!"}}]
[null,null,null,"Pts","Rep","Série",null,null,null,null,null,null,null,null,null,"Pts","Rep","Série"]
[null,null,{"$f":"C30","v":0},null,null,null,null,null,null,null,null,null,null,"Tour 1",{"$f":"O30","v":{"$error":"#DIV/0!"}},null,null,null,null,null,null,null,null,null,null,null,null,null,null,null,"Meilleur 2ème",null,"PM","CLS","MG","CLS","MP","CLS","MS","CLS","MGPS","CLS",null,null,null,null,null,null,null,null,null,null,null,null,null,null,null,null,null,null,null,null,null,"Meilleur 2ème",null,"PM","CLS","MG","CLS","MP","CLS","MS","CLS","MGPS","CLS"]
[null,null,{"$f":"C31","v":0},null,null,null,null,null,null,null,null,null,null,null,{"$f":"O31","v":{"$error":"#DIV/0!"}},null,null,null,null,null,null,null,null,null,null,null,null,null,null,null,{"$f":"IF(AW16=2,AG16,IF(AW19=2,AG19,IF(AW22=2,AG22,)))","v":{"$error":"#DIV/0!"}},null,{"$f":"IF(AW16=2,AY16,IF(AW19=2,AY19,IF(AW22=2,AY22,)))","v":{"$error":"#DIV/0!"}},{"$f":"RANK(AG41,AG$41:AG$43,0)","v":{"$error":"#DIV/0!"}},{"$f":"IF(AW16=2,BA16,IF(AW19=2,BA19,IF(AW22=2,BA22,)))","v":{"$error":"#DIV/0!"}},{"$f":"RANK(AI41,AI$41:AI$43,0)","v":{"$error":"#DIV/0!"}},{"$f":"IF(AW16=2,BC16,IF(AW19=2,BC19,IF(AW22=2,BC22,)))","v":{"$error":"#DIV/0!"}},{"$f":"RANK(AK41,AK$41:AK$43,0)","v":{"$error":"#DIV/0!"}},{"$f":"IF(AW16=2,BE16,IF(AW19=2,BE19,IF(AW22=2,BE22,)))","v":{"$error":"#DIV/0!"}},{"$f":"RANK(AM41,AM$41:AM$43,0)","v":{"$error":"#DIV/0!"}},{"$f":"(AH41*1000)+(AJ41*100)+(AL41*10)+(AN41*1)","v":{"$error":"#DIV/0!"}},{"$f":"RANK(AO41,AO$41:AO$44,1)","v":{"$error":"#DIV/0!"}},null,null,null,null,null,null,null,null,null,null,null,null,null,null,null,null,null,null,null,null,null,{"$f":"IF(CD16=2,BN16,IF(CD19=2,BN19,IF(CD22=2,BN22,)))","v":{"$error":"#DIV/0!"}},null,{"$f":"IF(CD16=2,CF16,IF(CD19=2,CF19,IF(CD22=2,CF22,)))","v":{"$error":"#DIV/0!"}},{"$f":"RANK(BN41,BN$41:BN$43,0)","v":{"$error":"#DIV/0!"}},{"$f":"IF(CD16=2,CH16,IF(CD19=2,CH19,IF(CD22=2,CH22,)))","v":{"$error":"#DIV/0!"}},{"$f":"RANK(BP41,BP$41:BP$43,0)","v":{"$error":"#DIV/0!"}},{"$f":"IF(CD16=2,CJ16,IF(CD19=2,CJ19,IF(CD22=2,CJ22,)))","v":{"$error":"#DIV/0!"}},{"$f":"RANK(BR41,BR$41:BR$43,0)","v":{"$error":"#DIV/0!"}},{"$f":"IF(CD16=2,CL16,IF(CD19=2,CL19,IF(CD22=2,CL22,)))","v":{"$error":"#DIV/0!"}},{"$f":"RANK(BT41,BT$41:BT$43,0)","v":{"$error":"#DIV/0!"}},{"$f":"(BO41*1000)+(BQ41*100)+(BS41*10)+(BU41*1)","v":{"$error":"#DIV/0!"}},{"$f":"RANK(BV41,BV$41:BV$44,1)","v":{"$error":"#DIV/0!"}}]
[null,null,null,null,null,null,null,null,null,null,null,null,null,null,null,null,null,null,null,null,null,null,null,null,null,null,null,null,null,null,{"$f":"IF(AW33=2,AE33,IF(AW36=2,AE36,))","v":{"$error":"#DIV/0!"}},null,{"$f":"IF(AW33=2,AY33,IF(AW36=2,AY36,))","v":{"$error":"#DIV/0!"}},{"$f":"RANK(AG42,AG$41:AG$43,0)","v":{"$error":"#DIV/0!"}},{"$f":"IF(AW33=2,BA33,IF(AW36=2,BA36,))","v":{"$error":"#DIV/0!"}},{"$f":"RANK(AI42,AI$41:AI$43,0)","v":{"$error":"#DIV/0!"}},{"$f":"IF(AW33=2,BC33,IF(AW36=2,BC36,))","v":{"$error":"#DIV/0!"}},{"$f":"RANK(AK42,AK$41:AK$43,0)","v":{"$error":"#DIV/0!"}},{"$f":"IF(AW33=2,BE33,IF(AW36=2,BE36))","v":{"$error":"#DIV/0!"}},{"$f":"RANK(AM42,AM$41:AM$43,0)","v":{"$error":"#DIV/0!"}},{"$f":"(AH42*1000)+(AJ42*100)+(AL42*10)+(AN42*1)","v":{"$error":"#DIV/0!"}},{"$f":"RANK(AO42,AO$41:AO$43,1)","v":{"$error":"#DIV/0!"}},null,null,null,null,null,null,null,null,null,null,null,null,null,null,null,null,null,null,null,null,null,{"$f":"IF(CD33=2,BL33,IF(CD36=2,BL36,))","v":{"$error":"#DIV/0!"}},null,{"$f":"IF(CD33=2,CF33,IF(CD36=2,CF36,))","v":{"$error":"#DIV/0!"}},{"$f":"RANK(BN42,BN$41:BN$43,0)","v":{"$error":"#DIV/0!"}},{"$f":"IF(CD33=2,CH33,IF(CD36=2,CH36,))","v":{"$error":"#DIV/0!"}},{"$f":"RANK(BP42,BP$41:BP$43,0)","v":{"$error":"#DIV/0!"}},{"$f":"IF(CD33=2,CJ33,IF(CD36=2,CJ36,))","v":{"$error":"#DIV/0!"}},{"$f":"RANK(BR42,BR$41:BR$43,0)","v":{"$error":"#DIV/0!"}},{"$f":"IF(CD33=2,CL33,IF(CD36=2,CL36))","v":{"$error":"#DIV/0!"}},{"$f":"RANK(BT42,BT$41:BT$43,0)","v":{"$error":"#DIV/0!"}},{"$f":"(BO42*1000)+(BQ42*100)+(BS42*10)+(BU42*1)","v":{"$error":"#DIV/0!"}},{"$f":"RANK(BV42,BV$41:BV$43,1)","v":{"$error":"#DIV/0!"}}]
[null,null,{"$f":"C30","v":0},null,null,null,null,null,null,null,null,null,null,"Tour 2",{"$f":"O30","v":{"$error":"#DIV/0!"}},null,null,null,null,null,null,null,null,null,null,null,null,null,null,null,{"$f":"IF(AW51=2,AE51,IF(AW54=2,AE54,))","v":{"$error":"#DIV/0!"}},null,{"$f":"IF(AW51=2,AY51,IF(AW54=2,AY54,))","v":{"$error":"#DIV/0!"}},{"$f":"RANK(AG43,AG$41:AG$43,0)","v":{"$error":"#DIV/0!"}},{"$f":"IF(AW51=2,BA51,IF(AW54=2,BA54,))","v":{"$error":"#DIV/0!"}},{"$f":"RANK(AI43,AI$41:AI$43,0)","v":{"$error":"#DIV/0!"}},{"$f":"IF(AW51=2,BC51,IF(AW54=2,BC54,))","v":{"$error":"#DIV/0!"}},{"$f":"RANK(AK43,AK$41:AK$43,0)","v":{"$error":"#DIV/0!"}},{"$f":"IF(AW51=2,BE51,IF(AW54=2,BE54,))","v":{"$error":"#DIV/0!"}},{"$f":"RANK(AM43,AM$41:AM$43,0)","v":{"$error":"#DIV/0!"}},{"$f":"(AH43*1000)+(AJ43*100)+(AL43*10)+(AN43*1)","v":{"$error":"#DIV/0!"}},{"$f":"RANK(AO43,AO$41:AO$43,1)","v":{"$error":"#DIV/0!"}},null,null,null,null,null,null,null,null,null,null,null,null,null,null,null,null,null,null,null,null,null,{"$f":"IF(CD51=2,BL51,IF(CD54=2,BL54,))","v":{"$error":"#DIV/0!"}},null,{"$f":"IF(CD51=2,CF51,IF(CD54=2,CF54,))","v":{"$error":"#DIV/0!"}},{"$f":"RANK(BN43,BN$41:BN$43,0)","v":{"$error":"#DIV/0!"}},{"$f":"IF(CD51=2,CH51,IF(CD54=2,CH54,))","v":{"$error":"#DIV/0!"}},{"$f":"RANK(BP43,BP$41:BP$43,0)","v":{"$error":"#DIV/0!"}},{"$f":"IF(CD51=2,CJ51,IF(CD54=2,CJ54,))","v":{"$error":"#DIV/0!"}},{"$f":"RANK(BR43,BR$41:BR$43,0)","v":{"$error":"#DIV/0!"}},{"$f":"IF(CD51=2,CL51,IF(CD54=2,CL54,))","v":{"$error":"#DIV/0!"}},{"$f":"RANK(BT43,BT$41:BT$43,0)","v":{"$error":"#DIV/0!"}},{"$f":"(BO43*1000)+(BQ43*100)+(BS43*10)+(BU43*1)","v":{"$error":"#DIV/0!"}},{"$f":"RANK(BV43,BV$41:BV$43,1)","v":{"$error":"#DIV/0!"}}]
[null,null,{"$f":"C31","v":0},null,null,null,null,null,null,null,null,null,null,null,{"$f":"O31","v":{"$error":"#DIV/0!"}}]
[null,null,null,null,null,null,null,null,null,null,null,null,null,null,null,null,null,null,null,null,null,null,null,null,null,null,null,null,null,null,null,null,"Classement de la phase 1 - Poule C",null,null,null,null,null,null,null,null,null,null,null,null,null,null,null,null,null,null,null,null,null,null,null,null,null,null,null,null,null,null,null,null,"Classement de la phase 2"]
[null,null,null,null,null,null,null,null,null,null,null,null,null,null,null,null,null,null,null,null,null,null,null,null,null,null,null,null,null,null,null,null,"MATCH ALLER",null,null,null,null,null,"MATCH RETOUR",null,null,null,null,null,null,null,null,null,null,null,null,null,null,null,null,null,null,null,null,null,null,null,null,null,null,"MATCH ALLER",null,null,null,null,null,"MATCH RETOUR"]
[null,null,null,null,null,null,null,null,null,null,null,null,null,null,null,null,null,null,null,null,null,null,null,null,null,null,null,null,null,null,null,null,{"$f":"C48","v":0},null,null,{"$f":"C49","v":0},null,null,{"$f":"C48","v":0},null,null,{"$f":"C49","v":0},null,null,null,"TOTAUX",null,null,"CLASSEMENT",null,null,null,null,null,null,null,null,null,null,null,null,null,null,null,null,{"$f":"O48","v":{"$error":"#DIV/0!"}},null,null,{"$f":"O49","v":{"$error":"#DIV/0!"}},null,null,{"$f":"O48","v":{"$error":"#DIV/0!"}},null,null,{"$f":"O49","v":{"$error":"#DIV/0!"}},null,null,null,"TOTAUX",null,null,"CLASSEMENT"]
[null,"Joueur 1",{"$f":"'Saisie des joueurs'!L20","v":0},null,null,null,null,null,null,null,null,null,null,"Joueur 1",{"$f":"IF(AP41=3,AE41,IF(AP43=2,AE42,IF(AP43=3,AE43,)))","v":{"$error":"#DIV/0!"}}]
[null,"Joueur 2",{"$f":"'Saisie des joueurs'!L21","v":0},null,null,null,null,null,null,null,null,null,null,"Joueur 2",{"$f":"IF(AW16=3,AG16,IF(AW19=3,AG19,IF(AW22=3,AG22,)))","v":{"$error":"#DIV/0!"}},null,null,null,null,null,null,null,null,null,null,null,null,null,null,null,null,null,null,null,null,null,null,null,null,null,null,null,null,null,null,null,null,null,null,null,"Classement",null,"Classement",null,"Classement",null,"Classement",null,"Classement",null,"GENERAL","RANG",null,null,null,null,null,null,null,null,null,null,null,null,null,null,null,null,null,null,null,null,null,"Classement",null,"Classement",null,"Classement",null,"Classement",null,"Classement",null,"GENERAL","RANG"]
[null,null,null,null,null,null,null,null,null,null,null,null,null,null,null,null,null,null,null,null,null,null,null,null,null,null,null,null,null,null,null,null,null,null,null,null,null,null,null,null,null,null,null,null,null,null,null,null,null,null,"Point-Match","CLS-M","Moy-Gen","CLS-G","Moy-Part","CLS-P","M-Series","CLS-S","MGPS","CLS","CLS",null,null,null,null,null,null,null,null,null,null,null,null,null,null,null,null,null,null,null,null,null,null,"Point-Match","CLS-M","Moy-Gen","CLS-G","Moy-Part","CLS-P","M-Series","CLS-S","MGPS","CLS","CLS"]
[null,"SAISIE DES RESULTATS",null,null,null,null,null,null,null,null,null,null,null,"SAISIE DES RESULTATS",null,null,null,null,null,null,null,null,null,null,null,null,null,null,null,null,{"$f":"C48","v":0},null,"L",null,null,{"$f":"D58","v":0},null,{"$f":"E58","v":0},"B",null,null,{"$f":"D61","v":0},null,{"$f":"E61","v":0},null,{"$f":"AJ51+AP51","v":0},null,{"$f":"AL51+AR51","v":0},{"$f":"BJ51","v":{"$error":"#DIV/0!"}},null,{"$f":"AU52","v":0.02},{"$f":"RANK(AY51,AY$51:AY$56,0)","v":1},{"$f":"AV53","v":{"$error":"#DIV/0!"}},{"$f":"RANK(BA51,BA$51:BA$56,0)","v":{"$error":"#DIV/0!"}},{"$f":"MAX(AL53,AR53)","v":{"$error":"#DIV/0!"}},{"$f":"RANK(BC51,BC$51:BC$56,0)","v":{"$error":"#DIV/0!"}},{"$f":"AT53","v":0},{"$f":"RANK(BE51,BE$51:BE$56,0)","v":1},{"$f":"(AZ51*1000)+(BB51*100)+(BD51*10)+(BF51*1)","v":{"$error":"#DIV/0!"}},{"$f":"BG51","v":{"$error":"#DIV/0!"}},{"$f":"RANK(BH51,BH$51:BH$56,1)","v":{"$error":"#DIV/0!"}},{"$f":"RANK(BI51,BI$51:BI$56,1)","v":{"$error":"#DIV/0!"}},null,{"$f":"O48","v":{"$error":"#DIV/0!"}},null,"L",null,null,{"$f":"P58","v":0},null,{"$f":"Q58","v":0},"B",null,null,{"$f":"P61","v":0},null,{"$f":"Q61","v":0},null,{"$f":"BQ51+BW51","v":0},null,{"$f":"BS51+BY51","v":0},{"$f":"CQ51","v":{"$error":"#DIV/0!"}},null,{"$f":"CB52","v":0.02},{"$f":"RANK(CF51,CF$51:CF$56,0)","v":1},{"$f":"CC53","v":{"$error":"#DIV/0!"}},{"$f":"RANK(CH51,CH$51:CH$56,0)","v":{"$error":"#DIV/0!"}},{"$f":"MAX(BS53,BY53)","v":{"$error":"#DIV/0!"}},{"$f":"RANK(CJ51,CJ$51:CJ$56,0)","v":{"$error":"#DIV/0!"}},{"$f":"CA53","v":0},{"$f":"RANK(CL51,CL$51:CL$56,0)","v":1},{"$f":"(CG51*1000)+(CI51*100)+(CK51*10)+(CM51*1)","v":{"$error":"#DIV/0!"}},{"$f":"CN51","v":{"$error":"#DIV/0!"}},{"$f":"RANK(CO51,CO$51:CO$56,1)","v":{"$error":"#DIV/0!"}},{"$f":"RANK(CP51,CP$33:CP$38,1)","v":{"$error":"#DIV/0!"}}]
[null,null,null,null,null,null,null,null,null,null,null,null,null,null,null,null,null,null,null,null,null,null,null,null,null,null,null,null,null,null,null,null,null,null,null,null,{"$f":"IF(AL51<1,0.01,IF(AJ51>AG54,2,IF(AJ51=AG54,1,0)))","v":0.01},null,null,null,null,null,{"$f":"IF(AR51<1,0.01,IF(AP51>AM54,2,IF(AP51=AM54,1,0)))","v":0.01},null,null,null,{"$f":"AK52+AQ52","v":0.02},null,null,null,null,null,null,null,null,null,null,null,null,null,null,null,null,null,null,null,null,null,null,{"$f":"IF(BS51<1,0.01,IF(BQ51>BN54,2,IF(BQ51=BN54,1,0)))","v":0.01},null,null,null,null,null,{"$f":"IF(BY51<1,0.01,IF(BW51>BT54,2,IF(BW51=BT54,1,0)))","v":0.01},null,null,null,{"$f":"BR52+BX52","v":0.02}]
[null,"Phase 1",null,null,null,null,null,null,null,null,null,null,null,"Phase 2",null,null,null,null,null,null,null,null,null,null,null,null,null,null,null,null,null,null,null,null,null,{"$f":"F58","v":0},null,{"$f":"AJ51/AL51","v":{"$error":"#DIV/0!"}},null,null,null,{"$f":"F61","v":0},null,{"$f":"AP51/AR51","v":{"$error":"#DIV/0!"}},null,{"$f":"MAX(AJ53,AP53)","v":0},null,{"$f":"AT51/AV51","v":{"$error":"#DIV/0!"}},null,null,null,null,null,null,null,null,null,null,null,null,null,null,null,null,null,null,null,null,{"$f":"R58","v":0},null,{"$f":"BQ51/BS51","v":{"$error":"#DIV/0!"}},null,null,null,{"$f":"R61","v":0},null,{"$f":"BW51/BY51","v":{"$error":"#DIV/0!"}},null,{"$f":"MAX(BQ53,BW53)","v":0},null,{"$f":"CA51/CC51","v":{"$error":"#DIV/0!"}}]
[null,"POULE C",null,null,null,null,null,null,null,null,null,null,null,"POULE C",null,null,null,null,null,null,null,null,null,null,null,null,null,null,null,null,{"$f":"C49","v":0},null,{"$f":"D59","v":0},null,{"$f":"E58","v":0},"M",null,null,{"$f":"D62","v":0},null,{"$f":"E61","v":0},null,null,null,null,{"$f":"AG54+AM54","v":0},null,{"$f":"AI54+AO54","v":0},{"$f":"BJ54","v":{"$error":"#DIV/0!"}},null,{"$f":"AU55","v":0.02},{"$f":"RANK(AY54,AY$51:AY$56,0)","v":1},{"$f":"AV56","v":{"$error":"#DIV/0!"}},{"$f":"RANK(BA54,BA$51:BA$56,0)","v":{"$error":"#DIV/0!"}},{"$f":"MAX(AI56,AO56)","v":{"$error":"#DIV/0!"}},{"$f":"RANK(BC54,BC$51:BC$56,0)","v":{"$error":"#DIV/0!"}},{"$f":"AT56","v":0},{"$f":"RANK(BE54,BE$51:BE$56,0)","v":1},{"$f":"(AZ54*1000)+(BB54*100)+(BD54*10)+(BF54*1)","v":{"$error":"#DIV/0!"}},{"$f":"BG54","v":{"$error":"#DIV/0!"}},{"$f":"RANK(BH54,BH$51:BH$56,1)","v":{"$error":"#DIV/0!"}},{"$f":"RANK(BI54,BI$51:BI$56,1)","v":{"$error":"#DIV/0!"}},null,{"$f":"O49","v":{"$error":"#DIV/0!"}},null,{"$f":"P59","v":0},null,{"$f":"Q58","v":0},"M",null,null,{"$f":"P62","v":0},null,{"$f":"Q61","v":0},null,null,null,null,{"$f":"BN54+BT54","v":0},null,{"$f":"BP54+BV54","v":0},{"$f":"CQ54","v":{"$error":"#DIV/0!"}},null,{"$f":"CB55","v":0.02},{"$f":"RANK(CF54,CF$51:CF$56,0)","v":1},{"$f":"CC56","v":{"$error":"#DIV/0!"}},{"$f":"RANK(CH54,CH$51:CH$56,0)","v":{"$error":"#DIV/0!"}},{"$f":"MAX(BP56,BV56)","v":{"$error":"#DIV/0!"}},{"$f":"RANK(CJ54,CJ$51:CJ$56,0)","v":{"$error":"#DIV/0!"}},{"$f":"CA56","v":0},{"$f":"RANK(CL54,CL$51:CL$56,0)","v":1},{"$f":"(CG54*1000)+(CI54*100)+(CK54*10)+(CM54*1)","v":{"$error":"#DIV/0!"}},{"$f":"CN54","v":{"$error":"#DIV/0!"}},{"$f":"RANK(CO54,CO$51:CO$56,1)","v":{"$error":"#DIV/0!"}},{"$f":"RANK(CP54,CP$33:CP$38,1)","v":{"$error":"#DIV/0!"}}]
[null,null,null,null,null,null,null,null,null,null,null,null,null,null,null,null,null,null,null,null,null,null,null,null,null,null,null,null,null,null,null,null,null,{"$f":"IF(AL51>0,2-AK52,0.01)","v":0.01},null,null,null,null,null,{"$f":"IF(AR51>0,2-AQ52,0.01)","v":0.01},null,null,null,null,null,null,{"$f":"AH55+AN55+AQ55","v":0.02},null,null,null,null,null,null,null,null,null,null,null,null,null,null,null,null,null,null,null,{"$f":"IF(BS51>0,2-BR52,0.01)","v":0.01},null,null,null,null,null,{"$f":"IF(BY51>0,2-BX52,0.01)","v":0.01},null,null,null,null,null,null,{"$f":"BO55+BU55+BX55","v":0.02}]
[null,null,null,null,null,null,null,null,null,null,null,null,null,null,null,null,null,null,null,null,null,null,null,null,null,null,null,null,null,null,null,null,{"$f":"F59","v":0},null,{"$f":"AG54/AI54","v":{"$error":"#DIV/0!"}},null,null,null,{"$f":"F62","v":0},null,{"$f":"AM54/AO54","v":{"$error":"#DIV/0!"}},null,null,null,null,{"$f":"MAX(AG56,AM56)","v":0},null,{"$f":"AT54/AV54","v":{"$error":"#DIV/0!"}},null,null,null,null,null,null,null,null,null,null,null,null,null,null,null,null,null,{"$f":"R59","v":0},null,{"$f":"BN54/BP54","v":{"$error":"#DIV/0!"}},null,null,null,{"$f":"R62","v":0},null,{"$f":"BT54/BV54","v":{"$error":"#DIV/0!"}},null,null,null,null,{"$f":"MAX(BN56,BT56)","v":0},null,{"$f":"CA54/CC54","v":{"$error":"#DIV/0!"}}]
[null,null,null,"Pts","Rep","Série",null,null,null,null,null,null,null,null,null,"Pts","Rep","Série"]
[null,"Tour 1",{"$f":"C48","v":0},null,null,null,null,null,null,null,null,null,null,"Tour 1",{"$f":"O48","v":{"$error":"#DIV/0!"}},null,null,null,null,null,null,null,null,null,null,null,null,null,null,null,null,null,"PtsP1","PtsP2","Total","RepP1","RepP2","Total","Moy"]
[null,null,{"$f":"C49","v":0},null,null,null,null,null,null,null,null,null,null,null,{"$f":"O49","v":{"$error":"#DIV/0!"}},null,null,null,null,null,null,null,null,null,null,null,null,null,null,null,{"$f":"V18","v":{"$error":"#DIV/0!"}},null,{"$f":"IF(AG16=AE59,AT16,IF(AG19=AE59,AT19,IF(AG22=AE59,AT22,IF(AE33=AE59,AT33,IF(AE36=AE59,AT36,IF(AE51=AE59,AT51,IF(AE54=AE59,AT54,)))))))","v":{"$error":"#DIV/0!"}},{"$f":"IF(BN16=AE59,CA16,IF(BN19=AE59,CA19,IF(BN22=AE59,CA22,IF(BL33=AE59,CA33,IF(BL36=AE59,CA36,IF(BL51=AE59,CA51,IF(BL54=AE59,CA54,)))))))","v":{"$error":"#DIV/0!"}},{"$f":"AG59+AH59","v":{"$error":"#DIV/0!"}},{"$f":"IF(AG16=AE59,AV16,IF(AG19=AE59,AV19,IF(AG22=AE59,AV22,IF(AE33=AE59,AV33,IF(AE36=AE59,AV36,IF(AE51=AE59,AV51,IF(AE54=AE59,AV54,)))))))","v":{"$error":"#DIV/0!"}},{"$f":"IF(BN16=AE59,CC16,IF(BN19=AE59,CC19,IF(BN22=AE59,CC22,IF(BL33=AE59,CC33,IF(BL36=AE59,CC36,IF(BL51=AE59,CC51,IF(BL54=AE59,CC54,)))))))","v":{"$error":"#DIV/0!"}},{"$f":"AJ59+AK59","v":{"$error":"#DIV/0!"}},{"$f":"AI59/AL59","v":{"$error":"#DIV/0!"}}]
[null,null,null,null,null,null,null,null,null,null,null,null,null,null,null,null,null,null,null,null,null,null,null,null,null,null,null,null,null,null,{"$f":"V19","v":{"$error":"#DIV/0!"}},null,{"$f":"IF(AG16=AE60,AT16,IF(AG19=AE60,AT19,IF(AG22=AE60,AT22,IF(AE33=AE60,AT33,IF(AE36=AE60,AT36,IF(AE51=AE60,AT51,IF(AE54=AE60,AT54,)))))))","v":{"$error":"#DIV/0!"}},{"$f":"IF(BN16=AE60,CA16,IF(BN19=AE60,CA19,IF(BN22=AE60,CA22,IF(BL33=AE60,CA33,IF(BL36=AE60,CA36,IF(BL51=AE60,CA51,IF(BL54=AE60,CA54,)))))))","v":{"$error":"#DIV/0!"}},{"$f":"AG60+AH60","v":{"$error":"#DIV/0!"}},{"$f":"IF(AG16=AE60,AV16,IF(AG19=AE60,AV19,IF(AG22=AE60,AV22,IF(AE33=AE60,AV33,IF(AE36=AE60,AV36,IF(AE51=AE60,AV51,IF(AE54=AE60,AV54,)))))))","v":{"$error":"#DIV/0!"}},{"$f":"IF(BN16=AE60,CC16,IF(BN19=AE60,CC19,IF(BN22=AE60,CC22,IF(BL33=AE60,CC33,IF(BL36=AE60,CC36,IF(BL51=AE60,CC51,IF(BL54=AE60,CC54,)))))))","v":{"$error":"#DIV/0!"}},{"$f":"AJ60+AK60","v":{"$error":"#DIV/0!"}},{"$f":"AI60/AL60","v":{"$error":"#DIV/0!"}}]
[null,"Tour 2",{"$f":"C48","v":0},null,null,null,null,null,null,null,null,null,null,"Tour 2",{"$f":"O48","v":{"$error":"#DIV/0!"}},null,null,null,null,null,null,null,null,null,null,null,null,null,null,null,{"$error":"#DIV/0!"},null,{"$f":"IF(AG16=AE61,AT16,IF(AG19=AE61,AT19,IF(AG22=AE61,AT22,IF(AE33=AE61,AT33,IF(AE36=AE61,AT36,IF(AE51=AE61,AT51,IF(AE54=AE63,AT54,)))))))","v":{"$error":"#DIV/0!"}},{"$f":"IF(BN16=AE61,CA16,IF(BN19=AE61,CA19,IF(BN22=AE61,CA22,IF(BL33=AE61,CA33,IF(BL36=AE61,CA36,IF(BL51=AE61,CA51,IF(BL54=AE61,CA54,)))))))","v":{"$error":"#DIV/0!"}},{"$error":"#DIV/0!"},{"$f":"IF(AG16=AE61,AV16,IF(AG19=AE61,AV19,IF(AG22=AE61,AV22,IF(AE33=AE61,AV33,IF(AE36=AE61,AV36,IF(AE51=AE61,AV51,IF(AE54=AE61,AV54,)))))))","v":{"$error":"#DIV/0!"}},{"$f":"IF(BN16=AE61,CC16,IF(BN19=AE61,CC19,IF(BN22=AE61,CC22,IF(BL33=AE61,CC33,IF(BL36=AE61,CC36,IF(BL51=AE61,CC51,IF(BL54=AE61,CC54,)))))))","v":{"$error":"#DIV/0!"}},{"$error":"#DIV/0!"},{"$error":"#DIV/0!"}]
[null,null,{"$f":"C49","v":0},null,null,null,null,null,null,null,null,null,null,null,{"$f":"O49","v":{"$error":"#DIV/0!"}},null,null,null,null,null,null,null,null,null,null,null,null,null,null,null,{"$error":"#DIV/0!"},null,{"$f":"IF(AG16=AE62,AT16,IF(AG19=AE62,AT19,IF(AG22=AE62,AT22,IF(AE33=AE62,AT33,IF(AE36=AE62,AT36,IF(AE51=AE62,AT51,IF(AE54=AE62,AT54,)))))))","v":{"$error":"#DIV/0!"}},{"$f":"IF(BN16=AE62,CA16,IF(BN19=AE62,CA19,IF(BN22=AE62,CA22,IF(BL33=AE62,CA33,IF(BL36=AE62,CA36,IF(BL51=AE62,CA51,IF(BL54=AE62,CA54,)))))))","v":{"$error":"#DIV/0!"}},{"$error":"#DIV/0!"},{"$f":"IF(AG16=AE62,AV16,IF(AG19=AE62,AV19,IF(AG22=AE62,AV22,IF(AE33=AE62,AV33,IF(AE36=AE62,AV36,IF(AE51=AE62,AV51,IF(AE54=AE62,AV54,)))))))","v":{"$error":"#DIV/0!"}},{"$f":"IF(BN16=AE62,CC16,IF(BN19=AE62,CC19,IF(BN22=AE62,CC22,IF(BL33=AE62,CC33,IF(BL36=AE62,CC36,IF(BL51=AE62,CC51,IF(BL54=AE62,CC54,)))))))","v":{"$error":"#DIV/0!"}},{"$error":"#DIV/0!"},{"$error":"#DIV/0!"}]
[null,null,null,null,null,null,null,null,null,null,null,null,null,null,null,null,null,null,null,null,null,null,null,null,null,null,null,null,null,null,{"$error":"#DIV/0!"},null,{"$f":"IF(AG16=AE63,AT16,IF(AG19=AE63,AT19,IF(AG22=AE63,AT22,IF(AE33=AE63,AT33,IF(AE36=AE63,AT36,IF(AE51=AE63,AT51,IF(AE54=AE63,AT54,)))))))","v":{"$error":"#DIV/0!"}},{"$f":"IF(BN16=AE63,CA16,IF(BN19=AE63,CA19,IF(BN22=AE63,CA22,IF(BL33=AE63,CA33,IF(BL36=AE63,CA36,IF(BL51=AE63,CA51,IF(BL54=AE63,CA54,)))))))","v":{"$error":"#DIV/0!"}},{"$error":"#DIV/0!"},{"$f":"IF(AG16=AE63,AV16,IF(AG19=AE63,AV19,IF(AG22=AE63,AV22,IF(AE33=AE63,AV33,IF(AE36=AE63,AV36,IF(AE51=AE63,AV51,IF(AE54=AE63,AV54,)))))))","v":{"$error":"#DIV/0!"}},{"$f":"IF(BN16=AE63,CC16,IF(BN19=AE63,CC19,IF(BN22=AE63,CC22,IF(BL33=AE63,CC33,IF(BL36=AE63,CC36,IF(BL51=AE63,CC51,IF(BL54=AE63,CC54,)))))))","v":{"$error":"#DIV/0!"}},{"$error":"#DIV/0!"},{"$error":"#DIV/0!"}]
[null,null,null,null,null,null,null,null,null,null,null,null,null,null,null,null,null,null,null,null,null,null,null,null,null,null,null,null,null,null,{"$error":"#DIV/0!"},null,{"$f":"IF(AG16=AE64,AT16,IF(AG19=AE64,AT19,IF(AG22=AE64,AT22,IF(AE33=AE64,AT33,IF(AE36=AE64,AT36,IF(AE51=AE64,AT51,IF(AE54=AE64,AT54,)))))))","v":{"$error":"#DIV/0!"}},{"$f":"IF(BN16=AE64,CA16,IF(BN19=AE64,CA19,IF(BN22=AE64,CA22,IF(BL33=AE64,CA33,IF(BL36=AE64,CA36,IF(BL51=AE64,CA51,IF(BL54=AE64,CA54,)))))))","v":{"$error":"#DIV/0!"}},{"$error":"#DIV/0!"},{"$f":"IF(AG16=AE64,AV16,IF(AG19=AE64,AV19,IF(AG22=AE64,AV22,IF(AE33=AE64,AV33,IF(AE36=AE64,AV36,IF(AE51=AE64,AV51,IF(AE54=AE64,AV54,)))))))","v":{"$error":"#DIV/0!"}},{"$f":"IF(BN16=AE64,CC16,IF(BN19=AE64,CC19,IF(BN22=AE64,CC22,IF(BL33=AE64,CC33,IF(BL36=AE64,CC36,IF(BL51=AE64,CC51,IF(BL54=AE64,CC54,)))))))","v":{"$error":"#DIV/0!"}},{"$error":"#DIV/0!"},{"$error":"#DIV/0!"}]
[null,null,null,null,null,null,null,null,null,null,null,null,null,null,null,null,null,null,null,null,null,null,null,null,null,null,null,null,null,null,{"$error":"#DIV/0!"},null,{"$f":"IF(AG16=AE65,AT16,IF(AG19=AE65,AT19,IF(AG22=AE65,AT22,IF(AE33=AE65,AT33,IF(AE36=AE65,AT36,IF(AE51=AE65,AT51,IF(AE54=AE65,AT54,)))))))","v":{"$error":"#DIV/0!"}},{"$f":"IF(BN16=AE65,CA16,IF(BN19=AE65,CA19,IF(BN22=AE65,CA22,IF(BL33=AE65,CA33,IF(BL36=AE65,CA36,IF(BL51=AE65,CA51,IF(BL54=AE65,CA54,)))))))","v":{"$error":"#DIV/0!"}},{"$error":"#DIV/0!"},{"$f":"IF(AG16=AE65,AV16,IF(AG19=AE65,AV19,IF(AG22=AE65,AV22,IF(AE33=AE65,AV33,IF(AE36=AE65,AV36,IF(AE51=AE65,AV51,IF(AE54=AE65,AV54,)))))))","v":{"$error":"#DIV/0!"}},{"$f":"IF(BN16=AE65,CC16,IF(BN19=AE65,CC19,IF(BN22=AE65,CC22,IF(BL33=AE65,CC33,IF(BL36=AE65,CC36,IF(BL51=AE65,CC51,IF(BL54=AE65,CC54,)))))))","v":{"$error":"#DIV/0!"}},{"$error":"#DIV/0!"},{"$error":"#DIV/0!"}]

{"sheet":"8JOUEURS","index":19,"n_rows":66,"n_cols":98,"rows_kept":66,"cut":false,"hidden":true,"merged":[[54,68,54,84],[27,65,27,81],[9,65,9,81],[26,32,26,48],[18,1,19,2],[18,6,18,12],[18,13,19,14],[9,2,9,5],[10,2,10,5],[9,14,9,17],[10,14,10,17],[11,2,11,5],[11,14,11,17],[11,81,14,81],[12,33,14,34],[12,66,14,67],[13,1,14,5],[13,13,14,17],[13,50,13,51],[13,52,13,53],[13,54,13,55],[13,56,13,57],[13,58,13,59],[13,61,14,61],[64,1,65,1],[64,4,65,4],[61,1,62,1],[61,4,62,4],[64,13,65,13],[64,16,65,16],[25,1,25,5],[25,13,25,17],[26,1,27,1],[26,4,27,4],[29,2,29,5],[30,2,30,5],[54,1,55,5],[54,13,55,17],[56,1,56,2],[56,3,59,5],[56,13,56,14],[56,15,59,17],[57,1,58,2],[57,13,58,14],[33,1,34,5],[33,13,34,17],[38,1,39,2],[38,13,39,14],[1,12,3,27],[2,1,3,2],[2,3,3,9],[5,1,6,2],[5,3,6,9],[5,12,5,15],[5,17,5,18],[5,22,5,24],[5,26,5,27],[6,12,6,15],[6,17,6,18],[6,22,6,24],[6,26,6,27],[11,35,14,37],[11,38,14,40],[11,41,14,43],[11,45,14,47],[11,48,14,48],[11,68,14,70],[11,71,14,73],[11,74,14,76],[11,78,14,80],[13,20,14,26],[13,83,13,84],[13,85,13,86],[13,87,13,88],[13,89,13,90],[13,91,13,92],[13,94,14,94],[15,1,15,2],[15,3,18,5],[15,13,15,14],[15,15,18,17],[15,32,17,34],[15,35,17,37],[15,48,17,48],[15,50,17,50],[15,51,17,51],[15,52,17,52],[15,53,17,53],[15,54,17,54],[15,55,17,55],[15,56,17,56],[15,57,17,57],[15,58,17,58],[15,59,17,59],[15,60,17,60],[15,88,17,88],[15,89,17,89],[15,90,17,90],[15,91,17,91],[15,92,17,92],[15,93,17,93],[15,94,17,94],[16,1,17,2],[16,13,17,14],[16,21,16,23],[17,21,17,23],[15,61,17,61],[15,65,17,67],[15,68,17,70],[15,81,17,81],[15,83,17,83],[15,84,17,84],[15,85,17,85],[15,86,17,86],[15,87,17,87],[16,18,16,19],[18,21,18,23],[18,32,20,34],[18,38,20,40],[18,48,20,48],[18,50,20,50],[18,51,20,51],[18,52,20,52],[18,53,20,53],[18,54,20,54],[18,87,20,87],[18,88,20,88],[18,89,20,89],[18,90,20,90],[18,55,20,55],[18,56,20,56],[18,57,20,57],[18,58,20,58],[18,59,20,59],[18,60,20,60],[18,61,20,61],[18,65,20,67],[18,71,20,73],[20,1,21,1],[20,4,21,4],[20,6,20,12],[20,13,21,13],[20,16,21,16],[20,21,20,23],[21,21,21,23],[21,32,23,34],[21,41,23,43],[21,74,23,76],[21,81,23,81],[21,83,23,83],[21,84,23,84],[18,91,20,91],[18,92,20,92],[18,93,20,93],[18,94,20,94],[19,6,19,12],[19,21,19,23],[21,48,23,48],[21,50,23,50],[21,51,23,51],[21,52,23,52],[21,53,23,53],[21,54,23,54],[21,55,23,55],[21,56,23,56],[21,57,23,57],[18,81,20,81],[18,83,20,83],[18,84,20,84],[18,85,20,85],[18,86,20,86],[21,94,23,94],[22,1,22,5],[22,13,22,17],[22,21,22,23],[23,1,24,1],[23,4,24,4],[23,13,24,13],[23,16,24,16],[23,21,23,23],[24,21,24,23],[21,85,23,85],[21,86,23,86],[21,87,23,87],[21,88,23,88],[21,89,23,89],[21,90,23,90],[21,91,23,91],[21,92,23,92],[21,93,23,93],[21,58,23,58],[21,59,23,59],[21,60,23,60],[21,61,23,61],[21,65,23,67],[30,61,32,61],[29,68,32,70],[29,71,32,73],[29,74,32,76],[29,78,32,80],[29,81,32,81],[30,66,32,67],[26,13,27,13],[26,16,27,16],[28,35,32,37],[28,38,32,40],[28,41,32,43],[28,45,32,47],[28,48,32,48],[29,14,29,17],[30,14,30,17],[30,50,30,51],[30,52,30,53],[30,54,30,55],[30,56,30,57],[30,58,30,59],[39,41,41,43],[33,48,35,48],[33,50,35,50],[33,51,35,51],[33,52,35,52],[33,53,35,53],[39,84,41,84],[33,92,35,92],[33,93,35,93],[36,58,38,58],[36,59,38,59],[36,60,38,60],[36,61,38,61],[36,81,38,81],[33,88,35,88],[33,89,35,89],[33,90,35,90],[33,91,35,91],[33,87,35,87],[33,58,35,58],[33,59,35,59],[33,60,35,60],[33,61,35,61],[36,87,38,87],[39,85,41,85],[39,86,41,86],[39,87,41,87],[39,88,41,88],[33,54,35,54],[33,55,35,55],[33,56,35,56],[33,57,35,57],[36,83,38,83],[36,84,38,84],[36,85,38,85],[36,86,38,86],[36,88,38,88],[39,83,41,83],[39,60,41,60],[39,61,41,61],[36,57,38,57],[33,81,35,81],[33,83,35,83],[33,84,35,84],[33,85,35,85],[33,86,35,86],[36,90,38,90],[33,94,35,94],[35,1,35,2],[35,3,38,5],[35,13,35,14],[35,15,38,17],[36,1,37,2],[36,13,37,14],[36,38,38,40],[36,48,38,48],[36,50,38,50],[36,51,38,51],[36,52,38,52],[36,53,38,53],[36,54,38,54],[36,55,38,55],[36,56,38,56],[33,65,35,67],[36,92,38,92],[36,93,38,93],[36,94,38,94],[33,32,35,34],[36,91,38,91],[36,89,38,89],[40,1,41,1],[40,4,41,4],[40,13,41,13],[40,16,41,16],[39,65,41,67],[39,74,41,76],[39,81,41,81],[56,35,59,37],[56,38,59,40],[56,41,59,43],[56,44,59,46],[56,48,59,50],[56,51,59,51],[56,77,59,79],[43,1,44,1],[43,4,44,4],[43,13,44,13],[43,16,44,16],[45,32,45,34],[46,32,46,34],[47,32,47,34],[48,32,48,34],[49,32,49,34],[50,32,50,34],[51,32,51,34],[52,32,52,34],[52,14,52,17],[58,53,58,54],[58,55,58,56],[58,57,58,58],[60,35,62,37],[60,41,62,43],[60,51,62,51],[60,53,62,53],[60,54,62,54],[60,55,62,55],[60,56,62,56],[60,57,62,57],[60,58,62,58],[60,59,62,59],[60,60,62,60],[60,61,62,61],[60,62,62,62],[60,63,62,63],[60,64,62,64],[56,81,59,83],[56,84,59,84],[56,66,59,67],[56,68,59,70],[56,71,59,73],[56,74,59,76],[58,59,58,60],[58,61,58,62],[58,64,59,64],[63,59,65,59],[60,66,62,67],[60,68,62,70],[60,74,62,76],[60,84,62,84],[60,86,62,86],[60,87,62,87],[60,88,62,88],[59,1,60,2],[59,13,60,14],[61,13,62,13],[61,16,62,16],[63,86,65,86],[63,87,65,87],[63,88,65,88],[63,38,65,40],[63,44,65,46],[63,51,65,51],[63,53,65,53],[63,54,65,54],[63,55,65,55],[63,56,65,56],[63,57,65,57],[63,58,65,58],[63,60,65,60],[63,61,65,61],[63,62,65,62],[63,63,65,63],[63,64,65,64],[63,66,65,67],[63,71,65,73],[63,77,65,79],[63,84,65,84],[31,2,31,5],[45,1,45,5],[46,1,47,1],[46,4,47,4],[46,13,47,13],[46,16,47,16],[63,95,65,95],[51,2,51,5],[51,14,51,17],[52,2,52,5],[39,91,41,91],[39,92,41,92],[39,93,41,93],[39,94,41,94],[31,14,31,17],[60,32,62,34],[63,32,65,34],[31,83,31,84],[31,85,31,86],[31,87,31,88],[31,89,31,90],[31,91,31,92],[63,89,65,89],[63,90,65,90],[63,96,65,96],[60,92,62,92],[60,93,62,93],[60,94,62,94],[60,95,62,95],[60,96,62,96],[60,89,62,89],[60,90,62,90],[58,86,58,87],[58,88,58,89],[58,90,58,91],[58,92,58,93],[58,94,58,95],[60,91,62,91],[63,91,65,91],[63,92,65,92],[63,93,65,93],[63,94,65,94],[39,89,41,89],[39,90,41,90],[9,32,9,48],[54,35,54,51],[55,35,55,40],[55,41,55,46],[31,94,32,94],[33,68,35,70],[36,65,38,67],[36,71,38,73],[33,35,35,37],[36,32,38,34],[39,32,41,34],[39,48,41,48],[39,50,41,50],[39,51,41,51],[39,52,41,52],[39,53,41,53],[39,54,41,54],[39,55,41,55],[39,56,41,56],[39,57,41,57],[39,58,41,58],[39,59,41,59]]}
[]
[null,null,null,null,null,null,null,null,null,null,null,null,"LIGUE MÉDITERRANÉENNE DE BILLARD"]
[null,"CLUB ORGANISATEUR"]
[]
[]
[null,"DIRECTEUR DE JEU :",null,null,null,null,null,null,null,null,null,null,"Compétition",null,null,null,null,"Mode de jeu",null,null,"Categorie",null,"Format billard",null,null,null,"Distance"]
[]
[]
[]
[null,"Joueur 1",{"$f":"'Saisie des joueurs'!L18","v":0},null,null,null,null,null,null,null,null,null,null,"Joueur 1",{"$f":"IF(AW16=1,AG16,IF(AW19=1,AG19,IF(AW22=1,AG22,)))","v":{"$error":"#DIV/0!"}},null,null,null,null,null,null,null,null,null,null,null,null,null,null,null,null,null,"Classement de la phase 1 - Poule A",null,null,null,null,null,null,null,null,null,null,null,null,null,null,null,null,null,null,null,null,null,null,null,null,null,null,null,null,null,null,null,null,"Classement de la phase 4"]
[null,"Joueur 2",{"$f":"'Saisie des joueurs'!L23","v":0},null,null,null,null,null,null,null,null,null,null,"Joueur 2",{"$f":"IF(AW34=1,AG34,IF(AW37=1,AG37,IF(AW40=1,AG40,)))","v":{"$error":"#DIV/0!"}}]
[null,"Joueur 3",{"$f":"'Saisie des joueurs'!L24","v":0},null,null,null,null,null,null,null,null,null,null,"Joueur 3",{"$f":"IF(AZ61=1,AG61,IF(AZ64=1,AG64,))","v":{"$error":"#DIV/0!"}},null,null,null,null,null,null,null,null,null,null,null,null,null,null,null,null,null,null,null,null,{"$f":"C10","v":0},null,null,{"$f":"C11","v":0},null,null,{"$f":"C12","v":0},null,null,null,"TOTAUX",null,null,"CLASSEMENT",null,null,null,null,null,null,null,null,null,null,null,null,null,null,null,null,null,null,null,{"$f":"O10","v":{"$error":"#DIV/0!"}},null,null,{"$f":"O11","v":{"$error":"#DIV/0!"}},null,null,{"$f":"O12","v":{"$error":"#DIV/0!"}},null,null,null,"TOTAUX",null,null,"CLASSEMENT"]
[]
[null,"SAISIE DES RESULTATS",null,null,null,null,null,null,null,null,null,null,null,"SAISIE DES RESULTATS",null,null,null,null,null,null,"CLASSEMENT DU TOURNOI",null,null,null,null,null,null,null,null,null,null,null,null,null,null,null,null,null,null,null,null,null,null,null,null,null,null,null,null,null,"Classement",null,"Classement",null,"Classement",null,"Classement",null,"Classement",null,"GENERAL","RANG",null,null,null,null,null,null,null,null,null,null,null,null,null,null,null,null,null,null,null,null,null,"Classement",null,"Classement",null,"Classement",null,"Classement",null,"Classement",null,"GENERAL","RANG"]
[null,null,null,null,null,null,null,null,null,null,null,null,null,null,null,null,null,null,null,null,null,null,null,null,null,null,null,null,null,null,null,null,null,null,null,null,null,null,null,null,null,null,null,null,null,null,null,null,null,null,"PM","CLS-M","Moy-Gen","CLS-G","Moy-Part","CLS-P","M-Series","CLS-S","MGPS","CLS","CLS",null,null,null,null,null,null,null,null,null,null,null,null,null,null,null,null,null,null,null,null,null,null,"PM","CLS-M","Moy-Gen","CLS-G","Moy-Part","CLS-P","M-Series","CLS-S","MGPS","CLS","CLS"]
[null,"Phase 1",null,null,null,null,null,null,null,null,null,null,null,"Phase 4",null,null,null,null,null,null,null,null,null,null,null,null,null,null,null,null,null,null,{"$f":"C10","v":0},null,null,"L",null,null,{"$f":"D27","v":0},null,{"$f":"E27","v":0},{"$f":"D21","v":0},null,{"$f":"E21","v":0},null,{"$f":"AM16+AP16","v":0},null,{"$f":"AO16+AR16","v":0},{"$f":"BJ16","v":{"$error":"#DIV/0!"}},null,{"$f":"AU17","v":0.02},{"$f":"RANK(AY16,AY$16:AY$24,0)","v":1},{"$f":"AV18","v":{"$error":"#DIV/0!"}},{"$f":"RANK(BA16,BA$16:BA$24,0)","v":{"$error":"#DIV/0!"}},{"$f":"MAX(AO18,AR18)","v":{"$error":"#DIV/0!"}},{"$f":"RANK(BC16,BC$16:BC$24,0)","v":{"$error":"#DIV/0!"}},{"$f":"AT18","v":0},{"$f":"RANK(BE16,BE$16:BE$24)","v":1},{"$f":"RANK(BF16,BF$16:BF$24)","v":1},{"$f":"(AZ16*1000)+(BB16*100)+(BE16*10)+(BG16*1)","v":{"$error":"#DIV/0!"}},{"$f":"BH16","v":{"$error":"#DIV/0!"}},{"$f":"RANK(BI16,BI$16:BI$24,1)","v":{"$error":"#DIV/0!"}},null,null,null,{"$f":"O10","v":{"$error":"#DIV/0!"}},null,null,"L",null,null,{"$f":"P27","v":0},null,{"$f":"Q27","v":0},{"$f":"P21","v":0},null,{"$f":"Q21","v":0},null,{"$f":"BT16+BW16","v":0},null,{"$f":"BV16+BY16","v":0},{"$f":"CQ16","v":{"$error":"#DIV/0!"}},null,{"$f":"CB17","v":0.02},{"$f":"RANK(CF16,CF$16:CF$24,0)","v":1},{"$f":"CC18","v":{"$error":"#DIV/0!"}},{"$f":"RANK(CH16,CH$16:CH$24,0)","v":{"$error":"#DIV/0!"}},{"$f":"MAX(BV18,BY18)","v":{"$error":"#DIV/0!"}},{"$f":"RANK(CJ16,CJ$16:CJ$24,0)","v":{"$error":"#DIV/0!"}},{"$f":"CA18","v":0},{"$f":"RANK(CL16,CL$16:CL$24)","v":1},{"$f":"RANK(CM16,CM$16:CM$24)","v":1},{"$f":"(CG16*1000)+(CI16*100)+(CK16*10)+(CM16*1)","v":{"$error":"#DIV/0!"}},{"$f":"CO16","v":{"$error":"#DIV/0!"}},{"$f":"RANK(CP16,CP$16:CP$24,1)","v":{"$error":"#DIV/0!"}}]
[null,"POULE A",null,null,null,null,null,null,null,null,null,null,null,"POULE A",null,null,null,null,"Pts Tournoi",null,null,"NOM",null,null,"Pts","Rep","Moy",null,null,null,null,null,null,null,null,null,null,null,null,{"$f":"IF(AO16<1,0.01,IF(AM16>AJ19,2,IF(AM16=AJ19,1,0)))","v":0.01},null,null,{"$f":"IF(AR16<1,0.01,IF(AP16>AJ22,2,IF(AP16=AJ22,1,0)))","v":0.01},null,null,null,{"$f":"AN17+AQ17","v":0.02},null,null,null,null,null,null,null,null,null,null,null,null,null,null,null,null,null,null,null,null,null,null,null,null,null,{"$f":"IF(BV16<1,0.01,IF(BT16>BQ19,2,IF(BT16=BQ19,1,0)))","v":0.01},null,null,{"$f":"IF(BY16<1,0.01,IF(BW16>BQ22,2,IF(BW16=BQ22,1,0)))","v":0.01},null,null,null,{"$f":"BU17+BX17","v":0.02}]
[null,null,null,null,null,null,null,null,null,null,null,null,null,null,null,null,null,null,null,120,1,{"$f":"IF(CD16=1,BN16,IF(CD19=1,BN19,IF(CD22=1,BN22,)))","v":{"$error":"#DIV/0!"}},null,null,{"$f":"AL46","v":{"$error":"#DIV/0!"}},{"$f":"AO46","v":{"$error":"#DIV/0!"}},{"$error":"#DIV/0!"},null,null,null,null,null,null,null,null,null,null,null,{"$f":"F27","v":0},null,{"$f":"AM16/AO16","v":{"$error":"#DIV/0!"}},{"$f":"F21","v":0},null,{"$f":"AP16/AR16","v":{"$error":"#DIV/0!"}},null,{"$f":"MAX(AM18,AP18)","v":0},null,{"$f":"AT16/AV16","v":{"$error":"#DIV/0!"}},null,null,null,null,null,null,null,null,null,null,null,null,null,null,null,null,null,null,null,null,null,null,null,{"$f":"R27","v":0},null,{"$f":"BT16/BV16","v":{"$error":"#DIV/0!"}},{"$f":"R21","v":0},null,{"$f":"BW16/BY16","v":{"$error":"#DIV/0!"}},null,{"$f":"MAX(BT18,BW18)","v":0},null,{"$f":"CA16/CC16","v":{"$error":"#DIV/0!"}}]
[null,null,null,null,null,null,"1er de poule",null,null,null,null,null,null,"1er des poules A-B-C de la phase 1",null,null,null,null,null,90,2,{"$f":"IF(CD16=2,BN16,IF(CD19=2,BN19,IF(CD22=2,BN22,)))","v":{"$error":"#DIV/0!"}},null,null,{"$error":"#DIV/0!"},{"$error":"#DIV/0!"},{"$error":"#DIV/0!"},null,null,null,null,null,{"$f":"C11","v":0},null,null,{"$f":"D28","v":0},null,{"$f":"E27","v":0},"M",null,null,{"$f":"D24","v":0},null,{"$f":"E24","v":0},null,{"$f":"AJ19+AP19","v":0},null,{"$f":"AL19+AR19","v":0},{"$f":"BJ19","v":{"$error":"#DIV/0!"}},null,{"$f":"AU20","v":0.02},{"$f":"RANK(AY19,AY$16:AY$24,0)","v":1},{"$f":"AV21","v":{"$error":"#DIV/0!"}},{"$f":"RANK(BA19,BA$16:BA$24,0)","v":{"$error":"#DIV/0!"}},{"$f":"MAX(AO21,AR21)","v":{"$error":"#DIV/0!"}},{"$f":"RANK(BC19,BC$16:BC$24,0)","v":{"$error":"#DIV/0!"}},{"$f":"AT21","v":0},{"$f":"RANK(BE19,BE$16:BE$24)","v":1},{"$f":"RANK(BF19,BF$16:BF$24)","v":1},{"$f":"(AZ19*1000)+(BB19*100)+(BE19*10)+(BG19*1)","v":{"$error":"#DIV/0!"}},{"$f":"BH19","v":{"$error":"#DIV/0!"}},{"$f":"RANK(BI19,BI$16:BI$24,1)","v":{"$error":"#DIV/0!"}},null,null,null,{"$f":"O11","v":{"$error":"#DIV/0!"}},null,null,{"$f":"P28","v":0},null,{"$f":"Q27","v":0},"M",null,null,{"$f":"P24","v":0},null,{"$f":"Q24","v":0},null,{"$f":"BQ19+BW19","v":0},null,{"$f":"BS19+BY19","v":0},{"$f":"CQ19","v":{"$error":"#DIV/0!"}},null,{"$f":"CB20","v":0.02},{"$f":"RANK(CF19,CF$16:CF$24,0)","v":1},{"$f":"CC21","v":{"$error":"#DIV/0!"}},{"$f":"RANK(CH19,CH$16:CH$24,0)","v":{"$error":"#DIV/0!"}},{"$f":"MAX(BV21,BY21)","v":{"$error":"#DIV/0!"}},{"$f":"RANK(CJ19,CJ$16:CJ$24,0)","v":{"$error":"#DIV/0!"}},{"$f":"CA21","v":0},{"$f":"RANK(CL19,CL$16:CL$24)","v":1},{"$f":"RANK(CM19,CM$16:CM$24)","v":1},{"$f":"(CG19*1000)+(CI19*100)+(CK19*10)+(CM19*1)","v":{"$error":"#DIV/0!"}},{"$f":"CO19","v":{"$error":"#DIV/0!"}},{"$f":"RANK(CP19,CP$16:CP$24,1)","v":{"$error":"#DIV/0!"}}]
[null,null,null,"Pts","Rep","Série","2ème de poule",null,null,null,null,null,null,null,null,"Pts","Rep","Série",null,70,3,{"$f":"IF(CD16=3,BN16,IF(CD19=3,BN19,IF(CD22=3,BN22,)))","v":{"$error":"#DIV/0!"}},null,null,{"$error":"#DIV/0!"},{"$error":"#DIV/0!"},{"$error":"#DIV/0!"},null,null,null,null,null,null,null,null,null,{"$f":"IF(AO16>0,2-AN17,0.01)","v":0.01},null,null,null,null,null,{"$f":"IF(AR19<1,0.01,IF(AP19>AM22,2,IF(AP19=AM22,1,0)))","v":0.01},null,null,null,{"$f":"AK20+AQ20","v":0.02},null,null,null,null,null,null,null,null,null,null,null,null,null,null,null,null,null,null,null,null,null,null,{"$f":"IF(BV16>0,2-BU17,0.01)","v":0.01},null,null,null,null,null,{"$f":"IF(BY19<1,0.01,IF(BW19>BT22,2,IF(BW19=BT22,1,0)))","v":0.01},null,null,null,{"$f":"BR20+BX20","v":0.02}]
[null,"Tour 1",{"$f":"C10","v":0},null,null,null,"3ème de poule",null,null,null,null,null,null,"Tour 1",{"$f":"O10","v":{"$error":"#DIV/0!"}},null,null,null,null,50,4,{"$f":"IF(CD34=1,BN34,IF(CD37=1,BN37,IF(CD40=1,BN40)))","v":{"$error":"#DIV/0!"}},null,null,{"$error":"#DIV/0!"},{"$error":"#DIV/0!"},{"$error":"#DIV/0!"},null,null,null,null,null,null,null,null,{"$f":"F28","v":0},null,{"$f":"AJ19/AL19","v":{"$error":"#DIV/0!"}},null,null,null,{"$f":"F24","v":0},null,{"$f":"AP19/AR19","v":{"$error":"#DIV/0!"}},null,{"$f":"MAX(AJ21,AP21)","v":0},null,{"$f":"AT19/AV19","v":{"$error":"#DIV/0!"}},null,null,null,null,null,null,null,null,null,null,null,null,null,null,null,null,null,null,null,null,{"$f":"R28","v":0},null,{"$f":"BQ19/BS19","v":{"$error":"#DIV/0!"}},null,null,null,{"$f":"R24","v":0},null,{"$f":"BW19/BY19","v":{"$error":"#DIV/0!"}},null,{"$f":"MAX(BQ21,BW21)","v":0},null,{"$f":"CA19/CC19","v":{"$error":"#DIV/0!"}}]
[null,null,{"$f":"C12","v":0},null,null,null,null,null,null,null,null,null,null,null,{"$f":"O12","v":{"$error":"#DIV/0!"}},null,null,null,null,30,5,{"$f":"IF(CD34=2,BN34,IF(CD37=2,BN37,IF(CD40=2,BN40)))","v":{"$error":"#DIV/0!"}},null,null,{"$error":"#DIV/0!"},{"$error":"#DIV/0!"},{"$error":"#DIV/0!"},null,null,null,null,null,{"$f":"C12","v":0},null,null,{"$f":"D22","v":0},null,{"$f":"E21","v":0},{"$f":"D25","v":0},null,{"$f":"E24","v":0},"B",null,null,null,{"$f":"AJ22+AM22","v":0},null,{"$f":"AL22+AO22","v":0},{"$f":"BJ22","v":{"$error":"#DIV/0!"}},null,{"$f":"AU23","v":0.02},{"$f":"RANK(AY22,AY$16:AY$24,0)","v":1},{"$f":"AV24","v":{"$error":"#DIV/0!"}},{"$f":"RANK(BA22,BA$16:BA$24,0)","v":{"$error":"#DIV/0!"}},{"$f":"MAX(AO24,AR24)","v":{"$error":"#DIV/0!"}},{"$f":"RANK(BC22,BC$16:BC$24,0)","v":{"$error":"#DIV/0!"}},{"$f":"AT24","v":0},{"$f":"RANK(BE22,BE$16:BE$24)","v":1},{"$f":"RANK(BF22,BF$16:BF$24)","v":1},{"$f":"(AZ22*1000)+(BB22*100)+(BE22*10)+(BG22*1)","v":{"$error":"#DIV/0!"}},{"$f":"BH22","v":{"$error":"#DIV/0!"}},{"$f":"RANK(BI22,BI$16:BI$24,1)","v":{"$error":"#DIV/0!"}},null,null,null,{"$f":"O12","v":{"$error":"#DIV/0!"}},null,null,{"$f":"P22","v":0},null,{"$f":"Q21","v":0},{"$f":"P25","v":0},null,{"$f":"Q24","v":0},"B",null,null,null,{"$f":"BQ22+BT22","v":0},null,{"$f":"BS22+BV22","v":0},{"$f":"CQ22","v":{"$error":"#DIV/0!"}},null,{"$f":"CB23","v":0.02},{"$f":"RANK(CF22,CF$16:CF$24,0)","v":1},{"$f":"CC24","v":{"$error":"#DIV/0!"}},{"$f":"RANK(CH22,CH$16:CH$24,0)","v":{"$error":"#DIV/0!"}},{"$f":"MAX(BV24,BY24)","v":{"$error":"#DIV/0!"}},{"$f":"RANK(CJ22,CJ$16:CJ$24,0)","v":{"$error":"#DIV/0!"}},{"$f":"CA24","v":0},{"$f":"RANK(CL22,CL$16:CL$24)","v":1},{"$f":"RANK(CM22,CM$16:CM$24)","v":1},{"$f":"(CG22*1000)+(CI22*100)+(CK22*10)+(CM22*1)","v":{"$error":"#DIV/0!"}},{"$f":"CO22","v":{"$error":"#DIV/0!"}},{"$f":"RANK(CP22,CP$16:CP$24,1)","v":{"$error":"#DIV/0!"}}]
[null,null,null,null,null,null,null,null,null,null,null,null,null,null,null,null,null,null,null,10,6,{"$f":"IF(CD34=3,BN34,IF(CD37=3,BN37,IF(CD40=3,BN40)))","v":{"$error":"#DIV/0!"}},null,null,{"$error":"#DIV/0!"},{"$error":"#DIV/0!"},{"$error":"#DIV/0!"},null,null,null,null,null,null,null,null,null,{"$f":"IF(AR16>0,2-AQ17,0.01)","v":0.01},null,null,{"$f":"IF(AR19>0,2-AQ20,0.01)","v":0.01},null,null,null,null,null,null,{"$f":"AK23+AN23","v":0.02},null,null,null,null,null,null,null,null,null,null,null,null,null,null,null,null,null,null,null,null,null,null,{"$f":"IF(BY16>0,2-BX17,0.01)","v":0.01},null,null,{"$f":"IF(BY19>0,2-BX20,0.01)","v":0.01},null,null,null,null,null,null,{"$f":"BR23+BU23","v":0.02}]
[null,"Tour 2",{"$f":"C11","v":0},null,null,null,null,null,null,null,null,null,null,"Tour 2",{"$f":"O11","v":{"$error":"#DIV/0!"}},null,null,null,null,5,7,{"$f":"IF(CG61=1,BO61,IF(CG64=1,BO64,))","v":{"$error":"#DIV/0!"}},null,null,{"$error":"#DIV/0!"},{"$error":"#DIV/0!"},{"$error":"#DIV/0!"},null,null,null,null,null,null,null,null,{"$f":"F22","v":0},null,{"$f":"AJ22/AL22","v":{"$error":"#DIV/0!"}},{"$f":"F25","v":0},null,{"$f":"AM22/AO22","v":{"$error":"#DIV/0!"}},null,null,null,null,{"$f":"MAX(AJ24,AM24)","v":0},null,{"$f":"AT22/AV22","v":{"$error":"#DIV/0!"}},null,null,null,null,null,null,null,null,null,null,null,null,null,null,null,null,null,null,null,null,{"$f":"R22","v":0},null,{"$f":"BQ22/BS22","v":{"$error":"#DIV/0!"}},{"$f":"R25","v":0},null,{"$f":"BT22/BV22","v":{"$error":"#DIV/0!"}},null,null,null,null,{"$f":"MAX(BQ24,BT24)","v":0},null,{"$f":"CA22/CC22","v":{"$error":"#DIV/0!"}}]
[null,null,{"$f":"C12","v":0},null,null,null,null,null,null,null,null,null,null,null,{"$f":"O12","v":{"$error":"#DIV/0!"}},null,null,null,null,5,8,{"$f":"IF(CG61=2,BO61,IF(CG64=2,BO64,))","v":{"$error":"#DIV/0!"}},null,null,{"$error":"#DIV/0!"},{"$error":"#DIV/0!"},{"$error":"#DIV/0!"}]
[]
[null,"Tour 3",{"$f":"C10","v":0},null,null,null,null,null,null,null,null,null,null,"Tour 3",{"$f":"O10","v":{"$error":"#DIV/0!"}},null,null,null,null,null,null,null,null,null,null,null,null,null,null,null,null,null,"Classement de la phase 1 - Poule B"]
[null,null,{"$f":"C11","v":0},null,null,null,null,null,null,null,null,null,null,null,{"$f":"O11","v":{"$error":"#DIV/0!"}},null,null,null,null,null,null,null,null,null,null,null,null,null,null,null,null,null,null,null,null,null,null,null,null,null,null,null,null,null,null,null,null,null,null,null,null,null,null,null,null,null,null,null,null,null,null,null,null,null,null,"Classement de la phase 3"]
[null,null,null,null,null,null,null,null,null,null,null,null,null,null,null,null,null,null,null,null,null,null,null,null,null,null,null,null,null,null,null,null,null,null,null,{"$f":"C30","v":0},null,null,{"$f":"C31","v":0},null,null,{"$f":"C32","v":0},null,null,null,"TOTAUX",null,null,"CLASSEMENT"]
[null,"Joueur 1",{"$f":"'Saisie des joueurs'!L19","v":0},null,null,null,null,null,null,null,null,null,null,"Joueur 1",{"$f":"IF(AW16=2,AG16,IF(AW19=2,AG19,IF(AW22=2,AG22,)))","v":{"$error":"#DIV/0!"}},null,null,null,null,null,null,null,null,null,null,null,null,null,null,null,null,null,null,null,null,null,null,null,null,null,null,null,null,null,null,null,null,null,null,null,null,null,null,null,null,null,null,null,null,null,null,null,null,null,null,null,null,null,{"$f":"O30","v":{"$error":"#DIV/0!"}},null,null,{"$f":"O31","v":{"$error":"#DIV/0!"}},null,null,{"$f":"O32","v":{"$error":"#DIV/0!"}},null,null,null,"TOTAUX",null,null,"CLASSEMENT"]
[null,"Joueur 2",{"$f":"'Saisie des joueurs'!L22","v":0},null,null,null,null,null,null,null,null,null,null,"Joueur 2",{"$f":"IF(AW34=2,AG34,IF(AW37=2,AG37,IF(AW40=2,AG40,)))","v":{"$error":"#DIV/0!"}},null,null,null,null,null,null,null,null,null,null,null,null,null,null,null,null,null,null,null,null,null,null,null,null,null,null,null,null,null,null,null,null,null,null,null,"Classement",null,"Classement",null,"Classement",null,"Classement",null,"Classement",null,"GENERAL","RANG"]
[null,"Joueur 2",{"$f":"'Saisie des joueurs'!L25","v":0},null,null,null,null,null,null,null,null,null,null,"Joueur 3",{"$f":"IF(AZ61=2,AG61,IF(AZ64=2,AG64,))","v":{"$error":"#DIV/0!"}},null,null,null,null,null,null,null,null,null,null,null,null,null,null,null,null,null,null,null,null,null,null,null,null,null,null,null,null,null,null,null,null,null,null,null,null,null,null,null,null,null,null,null,null,null,null,null,null,null,null,null,null,null,null,null,null,null,null,null,null,null,null,null,null,null,null,null,null,"Classement",null,"Classement",null,"Classement",null,"Classement",null,"Classement",null,"GENERAL","RANG"]
[null,null,null,null,null,null,null,null,null,null,null,null,null,null,null,null,null,null,null,null,null,null,null,null,null,null,null,null,null,null,null,null,null,null,null,null,null,null,null,null,null,null,null,null,null,null,null,null,null,null,"PM","CLS-M","Moy-Gen","CLS-G","Moy-Part","CLS-P","M-Series","CLS-S","MGPS","CLS","CLS",null,null,null,null,null,null,null,null,null,null,null,null,null,null,null,null,null,null,null,null,null,null,"PM","CLS-M","Moy-Gen","CLS-G","Moy-Part","CLS-P","M-Series","CLS-S","MGPS","CLS","CLS"]
[null,"SAISIE DES RESULTATS",null,null,null,null,null,null,null,null,null,null,null,"SAISIE DES RESULTATS",null,null,null,null,null,null,null,null,null,null,null,null,null,null,null,null,null,null,{"$f":"C30","v":0},null,null,"L",null,null,{"$f":"D47","v":0},null,{"$f":"E47","v":0},{"$f":"D41","v":0},null,{"$f":"E41","v":0},null,{"$f":"AM34+AP34","v":0},null,{"$f":"AO34+AR34","v":0},{"$f":"BJ34","v":{"$error":"#DIV/0!"}},null,{"$f":"AU35","v":0.02},{"$f":"RANK(AY34,AY$34:AY$42,0)","v":1},{"$f":"AV36","v":{"$error":"#DIV/0!"}},{"$f":"RANK(BA34,BA$34:BA$42,0)","v":{"$error":"#DIV/0!"}},{"$f":"MAX(AO36,AR36)","v":{"$error":"#DIV/0!"}},{"$f":"RANK(BC34,BC$34:BC$42,0)","v":{"$error":"#DIV/0!"}},{"$f":"AT36","v":0},{"$f":"RANK(BE34,BE$34:BE$42,0)","v":1},{"$f":"(AZ34*1000)+(BB34*100)+(BD34*10)+(BF34*1)","v":{"$error":"#DIV/0!"}},{"$f":"BG34","v":{"$error":"#DIV/0!"}},{"$f":"RANK(BH34,BH$34:BH$42,1)","v":{"$error":"#DIV/0!"}},{"$f":"RANK(BI34,BI$34:BI$42,1)","v":{"$error":"#DIV/0!"}},null,null,null,{"$f":"O30","v":{"$error":"#DIV/0!"}},null,null,"L",null,null,{"$f":"P47","v":0},null,{"$f":"Q47","v":0},{"$f":"P41","v":0},null,{"$f":"Q41","v":0},null,{"$f":"BT34+BW34","v":0},null,{"$f":"BV34+BY34","v":0},{"$f":"CQ34","v":{"$error":"#DIV/0!"}},null,{"$f":"CB35","v":0.02},{"$f":"RANK(CF34,CF$34:CF$42,0)","v":1},{"$f":"CC36","v":{"$error":"#DIV/0!"}},{"$f":"RANK(CH34,CH$34:CH$42,0)","v":{"$error":"#DIV/0!"}},{"$f":"MAX(BV36,BY36)","v":{"$error":"#DIV/0!"}},{"$f":"RANK(CJ34,CJ$34:CJ$42,0)","v":{"$error":"#DIV/0!"}},{"$f":"CA36","v":0},{"$f":"RANK(CL34,CL$34:CL$42)","v":1},{"$f":"RANK(CM34,CM$34:CM$42)","v":1},{"$f":"(CG34*1000)+(CI34*100)+(CK34*10)+(CM34*1)","v":{"$error":"#DIV/0!"}},{"$f":"CO34","v":{"$error":"#DIV/0!"}},{"$f":"RANK(CP34,CP$34:CP$42,1)","v":{"$error":"#DIV/0!"}}]
[null,null,null,null,null,null,null,null,null,null,null,null,null,null,null,null,null,null,null,null,null,null,null,null,null,null,null,null,null,null,null,null,null,null,null,null,null,null,null,{"$f":"IF(AO34<1,0.01,IF(AM34>AJ37,2,IF(AM34=AJ37,1,0)))","v":0.01},null,null,{"$f":"IF(AR34<1,0.01,IF(AP34>AJ40,2,IF(AP34=AJ40,1,0)))","v":0.01},null,null,null,{"$f":"AN35+AQ35","v":0.02},null,null,null,null,null,null,null,null,null,null,null,null,null,null,null,null,null,null,null,null,null,null,null,null,null,{"$f":"IF(BV34<1,0.01,IF(BT34>BQ37,2,IF(BT34=BQ37,1,0)))","v":0.01},null,null,{"$f":"IF(BY34<1,0.01,IF(BW34>BQ40,2,IF(BW34=BQ40,1,0)))","v":0.01},null,null,null,{"$f":"BU35+BX35","v":0.02}]
[null,"Phase 1",null,null,null,null,null,null,null,null,null,null,null,"Phase 3",null,null,null,null,null,null,null,null,null,null,null,null,null,null,null,null,null,null,null,null,null,null,null,null,{"$f":"F47","v":0},null,{"$f":"AM34/AO34","v":{"$error":"#DIV/0!"}},{"$f":"F41","v":0},null,{"$f":"AP34/AR34","v":{"$error":"#DIV/0!"}},null,{"$f":"MAX(AM36,AP36)","v":0},null,{"$f":"AT34/AV34","v":{"$error":"#DIV/0!"}},null,null,null,null,null,null,null,null,null,null,null,null,null,null,null,null,null,null,null,null,null,null,null,{"$f":"R47","v":0},null,{"$f":"BT34/BV34","v":{"$error":"#DIV/0!"}},{"$f":"R41","v":0},null,{"$f":"BW34/BY34","v":{"$error":"#DIV/0!"}},null,{"$f":"MAX(BT36,BW36)","v":0},null,{"$f":"CA34/CC34","v":{"$error":"#DIV/0!"}}]
[null,"POULE B",null,null,null,null,null,null,null,null,null,null,null,"POULE B",null,null,null,null,null,null,null,null,null,null,null,null,null,null,null,null,null,null,{"$f":"C31","v":0},null,null,{"$f":"D48","v":0},null,{"$f":"E47","v":0},"M",null,null,{"$f":"D44","v":0},null,{"$f":"E44","v":0},null,{"$f":"AJ37+AP37","v":0},null,{"$f":"AL37+AR37","v":0},{"$f":"BJ37","v":{"$error":"#DIV/0!"}},null,{"$f":"AU38","v":0.02},{"$f":"RANK(AY37,AY$34:AY$42,0)","v":1},{"$f":"AV39","v":{"$error":"#DIV/0!"}},{"$f":"RANK(BA37,BA$34:BA$42,0)","v":{"$error":"#DIV/0!"}},{"$f":"MAX(AL39,AR39)","v":{"$error":"#DIV/0!"}},{"$f":"RANK(BC37,BC$34:BC$42,0)","v":{"$error":"#DIV/0!"}},{"$f":"AT39","v":0},{"$f":"RANK(BE37,BE$34:BE$42,0)","v":1},{"$f":"(AZ37*1000)+(BB37*100)+(BD37*10)+(BF37*1)","v":{"$error":"#DIV/0!"}},{"$f":"BG37","v":{"$error":"#DIV/0!"}},{"$f":"RANK(BH37,BH$34:BH$42,1)","v":{"$error":"#DIV/0!"}},{"$f":"RANK(BI37,BI$34:BI$42,1)","v":{"$error":"#DIV/0!"}},null,null,null,{"$f":"O31","v":{"$error":"#DIV/0!"}},null,null,{"$f":"P48","v":0},null,{"$f":"Q47","v":0},"M",null,null,{"$f":"P44","v":0},null,{"$f":"Q44","v":0},null,{"$f":"BQ37+BW37","v":0},null,{"$f":"BS37+BY37","v":0},{"$f":"CQ37","v":{"$error":"#DIV/0!"}},null,{"$f":"CB38","v":0.02},{"$f":"RANK(CF37,CF$34:CF$42,0)","v":1},{"$f":"CC39","v":{"$error":"#DIV/0!"}},{"$f":"RANK(CH37,CH$34:CH$42,0)","v":{"$error":"#DIV/0!"}},{"$f":"MAX(BS39,BY39)","v":{"$error":"#DIV/0!"}},{"$f":"RANK(CJ37,CJ$34:CJ$42,0)","v":{"$error":"#DIV/0!"}},{"$f":"CA39","v":0},{"$f":"RANK(CL37,CL$34:CL$42)","v":1},{"$f":"RANK(CM37,CM$34:CM$42)","v":1},{"$f":"(CG37*1000)+(CI37*100)+(CK37*10)+(CM37*1)","v":{"$error":"#DIV/0!"}},{"$f":"CO37","v":{"$error":"#DIV/0!"}},{"$f":"RANK(CP37,CP$34:CP$42,1)","v":{"$error":"#DIV/0!"}}]
[null,null,null,null,null,null,null,null,null,null,null,null,null,null,null,null,null,null,null,null,null,null,null,null,null,null,null,null,null,null,null,null,null,null,null,null,{"$f":"IF(AO34>0,2-AN35,0.01)","v":0.01},null,null,null,null,null,{"$f":"IF(AR37<1,0.01,IF(AP37>AM40,2,IF(AP37=AM40,1,0)))","v":0.01},null,null,null,{"$f":"AK38+AQ38","v":0.02},null,null,null,null,null,null,null,null,null,null,null,null,null,null,null,null,null,null,null,null,null,null,{"$f":"IF(BV34>0,2-BU35,0.01)","v":0.01},null,null,null,null,null,{"$f":"IF(BY37<1,0.01,IF(BW37>BT40,2,IF(BW37=BT40,1,0)))","v":0.01},null,null,null,{"$f":"BR38+BX38","v":0.02}]
[null,null,null,null,null,null,null,null,null,null,null,null,null,"2ème des poules A-B-C de la phase 1",null,null,null,null,null,null,null,null,null,null,null,null,null,null,null,null,null,null,null,null,null,{"$f":"F48","v":0},null,{"$f":"AJ37/AL37","v":{"$error":"#DIV/0!"}},null,null,null,{"$f":"F44","v":0},null,{"$f":"AP37/AR37","v":{"$error":"#DIV/0!"}},null,{"$f":"MAX(AJ39,AP39)","v":0},null,{"$f":"AT37/AV37","v":{"$error":"#DIV/0!"}},null,null,null,null,null,null,null,null,null,null,null,null,null,null,null,null,null,null,null,null,{"$f":"R48","v":0},null,{"$f":"BQ37/BS37","v":{"$error":"#DIV/0!"}},null,null,null,{"$f":"R44","v":0},null,{"$f":"BW37/BY37","v":{"$error":"#DIV/0!"}},null,{"$f":"MAX(BQ39,BW39)","v":0},null,{"$f":"CA37/CC37","v":{"$error":"#DIV/0!"}}]
[null,null,null,"Pts","Rep","Série",null,null,null,null,null,null,null,null,null,"Pts","Rep","Série",null,null,null,null,null,null,null,null,null,null,null,null,null,null,{"$f":"C32","v":0},null,null,{"$f":"D42","v":0},null,{"$f":"E41","v":0},{"$f":"D45","v":0},null,{"$f":"E44","v":0},"B",null,null,null,{"$f":"AJ40+AM40","v":0},null,{"$f":"AL40+AO40","v":0},{"$f":"BJ40","v":{"$error":"#DIV/0!"}},null,{"$f":"AU41","v":0.02},{"$f":"RANK(AY40,AY$34:AY$42,0)","v":1},{"$f":"AV42","v":{"$error":"#DIV/0!"}},{"$f":"RANK(BA40,BA$34:BA$42,0)","v":{"$error":"#DIV/0!"}},{"$f":"MAX(AL42,AO42)","v":{"$error":"#DIV/0!"}},{"$f":"RANK(BC40,BC$34:BC$42,0)","v":{"$error":"#DIV/0!"}},{"$f":"AT42","v":0},{"$f":"RANK(BE40,BE$34:BE$42,0)","v":1},{"$f":"(AZ40*1000)+(BB40*100)+(BD40*10)+(BF40*1)","v":{"$error":"#DIV/0!"}},{"$f":"BG40","v":{"$error":"#DIV/0!"}},{"$f":"RANK(BH40,BH$34:BH$42,1)","v":{"$error":"#DIV/0!"}},{"$f":"RANK(BI40,BI$34:BI$42,1)","v":{"$error":"#DIV/0!"}},null,null,null,{"$f":"O32","v":{"$error":"#DIV/0!"}},null,null,{"$f":"P42","v":0},null,{"$f":"Q41","v":0},{"$f":"P45","v":0},null,{"$f":"Q44","v":0},"B",null,null,null,{"$f":"BQ40+BT40","v":0},null,{"$f":"BS40+BV40","v":0},{"$f":"CQ40","v":{"$error":"#DIV/0!"}},null,{"$f":"CB41","v":0.02},{"$f":"RANK(CF40,CF$34:CF$42,0)","v":1},{"$f":"CC42","v":{"$error":"#DIV/0!"}},{"$f":"RANK(CH40,CH$34:CH$42,0)","v":{"$error":"#DIV/0!"}},{"$f":"MAX(BS42,BV42)","v":{"$error":"#DIV/0!"}},{"$f":"RANK(CJ40,CJ$34:CJ$42,0)","v":{"$error":"#DIV/0!"}},{"$f":"CA42","v":0},{"$f":"RANK(CL40,CL$34:CL$42)","v":1},{"$f":"RANK(CM40,CM$34:CM$42)","v":1},{"$f":"(CG40*1000)+(CI40*100)+(CK40*10)+(CM40*1)","v":{"$error":"#DIV/0!"}},{"$f":"CO40","v":{"$error":"#DIV/0!"}},{"$f":"RANK(CP40,CP$34:CP$42,1)","v":{"$error":"#DIV/0!"}}]
[null,"Tour 1",{"$f":"C30","v":0},null,null,null,null,null,null,null,null,null,null,"Tour 1",{"$f":"O30","v":{"$error":"#DIV/0!"}},null,null,null,null,null,null,null,null,null,null,null,null,null,null,null,null,null,null,null,null,null,{"$f":"IF(AR34>0,2-AQ35,0.01)","v":0.01},null,null,{"$f":"IF(AR37>0,2-AQ38,0.01)","v":0.01},null,null,null,null,null,null,{"$f":"AK41+AN41","v":0.02},null,null,null,null,null,null,null,null,null,null,null,null,null,null,null,null,null,null,null,null,null,null,{"$f":"IF(BY34>0,2-BX35,0.01)","v":0.01},null,null,{"$f":"IF(BY37>0,2-BX38,0.01)","v":0.01},null,null,null,null,null,null,{"$f":"BR41+BU41","v":0.02}]
[null,null,{"$f":"C32","v":0},null,null,null,null,null,null,null,null,null,null,null,{"$f":"O32","v":{"$error":"#DIV/0!"}},null,null,null,null,null,null,null,null,null,null,null,null,null,null,null,null,null,null,null,null,{"$f":"F42","v":0},null,{"$f":"AJ40/AL40","v":{"$error":"#DIV/0!"}},{"$f":"F45","v":0},null,{"$f":"AM40/AO40","v":{"$error":"#DIV/0!"}},null,null,null,null,{"$f":"MAX(AJ42,AN42)","v":0},null,{"$f":"AT40/AV40","v":{"$error":"#DIV/0!"}},null,null,null,null,null,null,null,null,null,null,null,null,null,null,null,null,null,null,null,null,{"$f":"R42","v":0},null,{"$f":"BQ40/BS40","v":{"$error":"#DIV/0!"}},{"$f":"R45","v":0},null,{"$f":"BT40/BV40","v":{"$error":"#DIV/0!"}},null,null,null,null,{"$f":"MAX(BQ42,BT42)","v":0},null,{"$f":"CA40/CC40","v":{"$error":"#DIV/0!"}}]
[]
[null,"Tour 2",{"$f":"C31","v":0},null,null,null,null,null,null,null,null,null,null,"Tour 2",{"$f":"O31","v":{"$error":"#DIV/0!"}}]
[null,null,{"$f":"C32","v":0},null,null,null,null,null,null,null,null,null,null,null,{"$f":"O32","v":{"$error":"#DIV/0!"}},null,null,null,null,null,null,null,null,null,null,null,null,null,null,null,null,null,null,null,null,"PtsP1","PtsP2","Total","RepP1","RepP2","Total","Moy"]
[null,null,null,null,null,null,null,null,null,null,null,null,null,null,null,null,null,null,null,null,null,null,null,null,null,null,null,null,null,null,null,null,{"$f":"V18","v":{"$error":"#DIV/0!"}},null,null,{"$f":"IF(AG16=AG46,AT16,IF(AG19=AG46,AT19,IF(AG22=AG46,AT22,IF(AG34=AG46,AT34,IF(AG37=AG46,AT37,IF(AG40=AG46,AT40,IF(AG61=AG46,AW61,IF(AG64=AG46,AW64,))))))))","v":{"$error":"#DIV/0!"}},{"$f":"IF(BN16=AG46,CA16,IF(BN19=AG46,CA19,IF(BN22=AG46,CA22,IF(BN34=AG46,CA34,IF(BN37=AG46,CA37,IF(BN40=AG46,CA40,IF(BO61=AG46,CD61,IF(BO64=AG46,CD64,))))))))","v":{"$error":"#DIV/0!"}},{"$f":"AJ46+AK46","v":{"$error":"#DIV/0!"}},{"$f":"IF(AG16=AG46,AV16,IF(AG19=AG46,AV19,IF(AG22=AG46,AV22,IF(AG34=AG46,AV34,IF(AG37=AG46,AV37,IF(AG40=AG46,AV40,IF(AG61=AG46,AY61,IF(AG64=AG46,AY64,))))))))","v":{"$error":"#DIV/0!"}},{"$f":"IF(BN16=AG46,CC16,IF(BN19=AG46,CC19,IF(BN22=AG46,CC22,IF(BN34=AG46,CC34,IF(BN37=AG46,CC37,IF(BN40=AG46,CC40,IF(BO61=AG46,CF61,IF(BO64=AG46,CF64,))))))))","v":{"$error":"#DIV/0!"}},{"$f":"AM46+AN46","v":{"$error":"#DIV/0!"}},{"$f":"AL46/AO46","v":{"$error":"#DIV/0!"}}]
[null,"Tour 3",{"$f":"C30","v":0},null,null,null,null,null,null,null,null,null,null,"Tour 2",{"$f":"O30","v":{"$error":"#DIV/0!"}},null,null,null,null,null,null,null,null,null,null,null,null,null,null,null,null,null,{"$f":"V19","v":{"$error":"#DIV/0!"}},null,null,{"$f":"IF(AG16=AG47,AT16,IF(AG19=AG47,AT19,IF(AG22=AG47,AT22,IF(AG34=AG47,AT34,IF(AG37=AG47,AT37,IF(AG40=AG47,AT40,IF(AG61=AG47,AW61,IF(AG64=AG47,AW64,))))))))","v":{"$error":"#DIV/0!"}},{"$f":"IF(BN16=AG47,CA16,IF(BN19=AG47,CA19,IF(BN22=AG47,CA22,IF(BN34=AG47,CA34,IF(BN37=AG47,CA37,IF(BN40=AG47,CA40,IF(BO61=AG47,CD61,IF(BO64=AG47,CD64,))))))))","v":{"$error":"#DIV/0!"}},{"$f":"AJ47+AK47","v":{"$error":"#DIV/0!"}},{"$f":"IF(AG16=AG47,AV16,IF(AG19=AG47,AV19,IF(AG22=AG47,AV22,IF(AG34=AG47,AV34,IF(AG37=AG47,AV37,IF(AG40=AG47,AV40,IF(AG61=AG47,AY61,IF(AG64=AG47,AY64,))))))))","v":{"$error":"#DIV/0!"}},{"$f":"IF(BN16=AG47,CC16,IF(BN19=AG47,CC19,IF(BN22=AG47,CC22,IF(BN34=AG47,CC34,IF(BN37=AG47,CC37,IF(BN40=AG47,CC40,IF(BO61=AG47,CF61,IF(BO64=AG47,CF64,))))))))","v":{"$error":"#DIV/0!"}},{"$f":"AM47+AN47","v":{"$error":"#DIV/0!"}},{"$f":"AL47/AO47","v":{"$error":"#DIV/0!"}}]
[null,null,{"$f":"C31","v":0},null,null,null,null,null,null,null,null,null,null,null,{"$f":"O31","v":{"$error":"#DIV/0!"}},null,null,null,null,null,null,null,null,null,null,null,null,null,null,null,null,null,{"$error":"#DIV/0!"},null,null,{"$f":"IF(AG16=AG48,AT16,IF(AG19=AG48,AT19,IF(AG22=AG48,AT22,IF(AG34=AG48,AT34,IF(AG37=AG48,AT37,IF(AG40=AG48,AT40,IF(AG61=AG48,AW61,IF(AG64=AG48,AW64,))))))))","v":{"$error":"#DIV/0!"}},{"$f":"IF(BN16=AG48,CA16,IF(BN19=AG48,CA19,IF(BN22=AG48,CA22,IF(BN34=AG48,CA34,IF(BN37=AG48,CA37,IF(BN40=AG48,CA40,IF(BO61=AG48,CD61,IF(BO64=AG48,CD64,))))))))","v":{"$error":"#DIV/0!"}},{"$error":"#DIV/0!"},{"$f":"IF(AG16=AG48,AV16,IF(AG19=AG48,AV19,IF(AG22=AG48,AV22,IF(AG34=AG48,AV34,IF(AG37=AG48,AV37,IF(AG40=AG48,AV40,IF(AG61=AG48,AY61,IF(AG64=AG48,AY64,))))))))","v":{"$error":"#DIV/0!"}},{"$f":"IF(BN16=AG48,CC16,IF(BN19=AG48,CC19,IF(BN22=AG48,CC22,IF(BN34=AG48,CC34,IF(BN37=AG48,CC37,IF(BN40=AG48,CC40,IF(BO61=AG48,CF61,IF(BO64=AG48,CF64,))))))))","v":{"$error":"#DIV/0!"}},{"$error":"#DIV/0!"},{"$error":"#DIV/0!"}]
[null,null,null,null,null,null,null,null,null,null,null,null,null,null,null,null,null,null,null,null,null,null,null,null,null,null,null,null,null,null,null,null,{"$error":"#DIV/0!"},null,null,{"$f":"IF(AG16=AG49,AT16,IF(AG19=AG49,AT19,IF(AG22=AG49,AT22,IF(AG34=AG49,AT34,IF(AG37=AG49,AT37,IF(AG40=AG49,AT40,IF(AG61=AG49,AW61,IF(AG64=AG49,AW64,))))))))","v":{"$error":"#DIV/0!"}},{"$f":"IF(BN16=AG49,CA16,IF(BN19=AG49,CA19,IF(BN22=AG49,CA22,IF(BN34=AG49,CA34,IF(BN37=AG49,CA37,IF(BN40=AG49,CA40,IF(BO61=AG49,CD61,IF(BO64=AG49,CD64,))))))))","v":{"$error":"#DIV/0!"}},{"$error":"#DIV/0!"},{"$f":"IF(AG16=AG49,AV16,IF(AG19=AG49,AV19,IF(AG22=AG49,AV22,IF(AG34=AG49,AV34,IF(AG37=AG49,AV37,IF(AG40=AG49,AV40,IF(AG61=AG49,AY61,IF(AG64=AG49,AY64,))))))))","v":{"$error":"#DIV/0!"}},{"$f":"IF(BN16=AG49,CC16,IF(BN19=AG49,CC19,IF(BN22=AG49,CC22,IF(BN34=AG49,CC34,IF(BN37=AG49,CC37,IF(BN40=AG49,CC40,IF(BO61=AG49,CF61,IF(BO64=AG49,CF64,))))))))","v":{"$error":"#DIV/0!"}},{"$error":"#DIV/0!"},{"$error":"#DIV/0!"}]
[null,null,null,null,null,null,null,null,null,null,null,null,null,null,null,null,null,null,null,null,null,null,null,null,null,null,null,null,null,null,null,null,{"$error":"#DIV/0!"},null,null,{"$f":"IF(AG16=AG50,AT16,IF(AG19=AG50,AT19,IF(AG22=AG50,AT22,IF(AG34=AG50,AT34,IF(AG37=AG50,AT37,IF(AG40=AG50,AT40,IF(AG61=AG50,AW61,IF(AG64=AG50,AW64,))))))))","v":{"$error":"#DIV/0!"}},{"$f":"IF(BN16=AG50,CA16,IF(BN19=AG50,CA19,IF(BN22=AG50,CA22,IF(BN34=AG50,CA34,IF(BN37=AG50,CA37,IF(BN40=AG50,CA40,IF(BO61=AG50,CD61,IF(BO64=AG50,CD64,))))))))","v":{"$error":"#DIV/0!"}},{"$error":"#DIV/0!"},{"$f":"IF(AG16=AG50,AV16,IF(AG19=AG50,AV19,IF(AG22=AG50,AV22,IF(AG34=AG50,AV34,IF(AG37=AG50,AV37,IF(AG40=AG50,AV40,IF(AG61=AG50,AY61,IF(AG64=AG50,AY64,))))))))","v":{"$error":"#DIV/0!"}},{"$f":"IF(BN16=AG50,CC16,IF(BN19=AG50,CC19,IF(BN22=AG50,CC22,IF(BN34=AG50,CC34,IF(BN37=AG50,CC37,IF(BN40=AG50,CC40,IF(BO61=AG50,CF61,IF(BO64=AG50,CF64,))))))))","v":{"$error":"#DIV/0!"}},{"$error":"#DIV/0!"},{"$error":"#DIV/0!"}]
[null,null,null,null,null,null,null,null,null,null,null,null,null,null,null,null,null,null,null,null,null,null,null,null,null,null,null,null,null,null,null,null,{"$error":"#DIV/0!"},null,null,{"$f":"IF(AG16=AG51,AT16,IF(AG19=AG51,AT19,IF(AG22=AG51,AT22,IF(AG34=AG51,AT34,IF(AG37=AG51,AT37,IF(AG40=AG51,AT40,IF(AG61=AG51,AW61,IF(AG64=AG51,AW64,))))))))","v":{"$error":"#DIV/0!"}},{"$f":"IF(BN16=AG51,CA16,IF(BN19=AG51,CA19,IF(BN22=AG51,CA22,IF(BN34=AG51,CA34,IF(BN37=AG51,CA37,IF(BN40=AG51,CA40,IF(BO61=AG51,CD61,IF(BO64=AG51,CD64,))))))))","v":{"$error":"#DIV/0!"}},{"$error":"#DIV/0!"},{"$f":"IF(AG16=AG51,AV16,IF(AG19=AG51,AV19,IF(AG22=AG51,AV22,IF(AG34=AG51,AV34,IF(AG37=AG51,AV37,IF(AG40=AG51,AV40,IF(AG61=AG51,AY61,IF(AG64=AG51,AY64,))))))))","v":{"$error":"#DIV/0!"}},{"$f":"IF(BN16=AG51,CC16,IF(BN19=AG51,CC19,IF(BN22=AG51,CC22,IF(BN34=AG51,CC34,IF(BN37=AG51,CC37,IF(BN40=AG51,CC40,IF(BO61=AG51,CF61,IF(BO64=AG51,CF64,))))))))","v":{"$error":"#DIV/0!"}},{"$error":"#DIV/0!"},{"$error":"#DIV/0!"}]
[null,"Joueur 1",{"$f":"'Saisie des joueurs'!L20","v":0},null,null,null,null,null,null,null,null,null,null,"Joueur 1",{"$f":"IF(AW16=3,AG16,IF(AW19=3,AG19,IF(AW22=3,AG22,)))","v":{"$error":"#DIV/0!"}},null,null,null,null,null,null,null,null,null,null,null,null,null,null,null,null,null,{"$error":"#DIV/0!"},null,null,{"$f":"IF(AG16=AG52,AT16,IF(AG19=AG52,AT19,IF(AG22=AG52,AT22,IF(AG34=AG52,AT34,IF(AG37=AG52,AT37,IF(AG40=AG52,AT40,IF(AG61=AG52,AW61,IF(AG64=AG52,AW64,))))))))","v":{"$error":"#DIV/0!"}},{"$f":"IF(BN16=AG52,CA16,IF(BN19=AG52,CA19,IF(BN22=AG52,CA22,IF(BN34=AG52,CA34,IF(BN37=AG52,CA37,IF(BN40=AG52,CA40,IF(BO61=AG52,CD61,IF(BO64=AG52,CD64,))))))))","v":{"$error":"#DIV/0!"}},{"$error":"#DIV/0!"},{"$f":"IF(AG16=AG52,AV16,IF(AG19=AG52,AV19,IF(AG22=AG52,AV22,IF(AG34=AG52,AV34,IF(AG37=AG52,AV37,IF(AG40=AG52,AV40,IF(AG61=AG52,AY61,IF(AG64=AG52,AY64,))))))))","v":{"$error":"#DIV/0!"}},{"$f":"IF(BN16=AG52,CC16,IF(BN19=AG52,CC19,IF(BN22=AG52,CC22,IF(BN34=AG52,CC34,IF(BN37=AG52,CC37,IF(BN40=AG52,CC40,IF(BO61=AG52,CF61,IF(BO64=AG52,CF64,))))))))","v":{"$error":"#DIV/0!"}},{"$error":"#DIV/0!"},{"$error":"#DIV/0!"}]
[null,"Joueur 2",{"$f":"'Saisie des joueurs'!L21","v":0},null,null,null,null,null,null,null,null,null,null,"Joueur 2",{"$f":"IF(AW34=3,AG34,IF(AW37=3,AG37,IF(AW40=3,AG40,)))","v":{"$error":"#DIV/0!"}},null,null,null,null,null,null,null,null,null,null,null,null,null,null,null,null,null,{"$error":"#DIV/0!"},null,null,{"$f":"IF(AG16=AG53,AT16,IF(AG19=AG53,AT19,IF(AG22=AG53,AT22,IF(AG34=AG53,AT34,IF(AG37=AG53,AT37,IF(AG40=AG53,AT40,IF(AG61=AG53,AW61,IF(AG64=AG53,AW64,))))))))","v":{"$error":"#DIV/0!"}},{"$f":"IF(BN16=AG53,CA16,IF(BN19=AG53,CA19,IF(BN22=AG53,CA22,IF(BN34=AG53,CA34,IF(BN37=AG53,CA37,IF(BN40=AG53,CA40,IF(BO61=AG53,CD61,IF(BO64=AG53,CD64,))))))))","v":{"$error":"#DIV/0!"}},{"$f":"AJ53+AK53","v":{"$error":"#DIV/0!"}},{"$f":"IF(AG16=AG53,AV16,IF(AG19=AG53,AV19,IF(AG22=AG53,AV22,IF(AG34=AG53,AV34,IF(AG37=AG53,AV37,IF(AG40=AG53,AV40,IF(AG61=AG53,AY61,IF(AG64=AG53,AY64,))))))))","v":{"$error":"#DIV/0!"}},{"$f":"IF(BN16=AG53,CC16,IF(BN19=AG53,CC19,IF(BN22=AG53,CC22,IF(BN34=AG53,CC34,IF(BN37=AG53,CC37,IF(BN40=AG53,CC40,IF(BO61=AG53,CF61,IF(BO64=AG53,CF64,))))))))","v":{"$error":"#DIV/0!"}},{"$error":"#DIV/0!"},{"$f":"AL53/AO53","v":{"$error":"#DIV/0!"}}]
[]
[null,"SAISIE DES RESULTATS",null,null,null,null,null,null,null,null,null,null,null,"SAISIE DES RESULTATS",null,null,null,null,null,null,null,null,null,null,null,null,null,null,null,null,null,null,null,null,null,"Classement de la phase 1 - Poule C",null,null,null,null,null,null,null,null,null,null,null,null,null,null,null,null,null,null,null,null,null,null,null,null,null,null,null,null,null,null,null,null,"Classement de la phase 2"]
[null,null,null,null,null,null,null,null,null,null,null,null,null,null,null,null,null,null,null,null,null,null,null,null,null,null,null,null,null,null,null,null,null,null,null,"Matchs Aller",null,null,null,null,null,"Matchs Retour"]
[null,"Phase 1",null,null,null,null,null,null,null,null,null,null,null,"Phase 2",null,null,null,null,null,null,null,null,null,null,null,null,null,null,null,null,null,null,null,null,null,{"$f":"C52","v":0},null,null,{"$f":"C53","v":0},null,null,{"$f":"C52","v":0},null,null,{"$f":"C53","v":0},null,null,null,"TOTAUX",null,null,"CLASSEMENT",null,null,null,null,null,null,null,null,null,null,null,null,null,null,null,null,{"$f":"O52","v":{"$error":"#DIV/0!"}},null,null,{"$f":"O53","v":{"$error":"#DIV/0!"}},null,null,{"$f":"O52","v":{"$error":"#DIV/0!"}},null,null,{"$f":"O53","v":{"$error":"#DIV/0!"}},null,null,null,"TOTAUX",null,null,"CLASSEMENT"]
[null,"POULE C",null,null,null,null,null,null,null,null,null,null,null,"POULE C"]
[null,null,null,null,null,null,null,null,null,null,null,null,null,null,null,null,null,null,null,null,null,null,null,null,null,null,null,null,null,null,null,null,null,null,null,null,null,null,null,null,null,null,null,null,null,null,null,null,null,null,null,null,null,"Classement",null,"Classement",null,"Classement",null,"Classement",null,"Classement",null,"GENERAL","RANG",null,null,null,null,null,null,null,null,null,null,null,null,null,null,null,null,null,null,null,null,null,"Classement",null,"Classement",null,"Classement",null,"Classement",null,"Classement",null,"GENERAL","RANG"]
[null,null,null,null,null,null,null,null,null,null,null,null,null,"3ème des poules A-B de la phase 1",null,null,null,null,null,null,null,null,null,null,null,null,null,null,null,null,null,null,null,null,null,null,null,null,null,null,null,null,null,null,null,null,null,null,null,null,null,null,null,"Point-Match","CLS-M","Moy-Gen","CLS-G","Moy-Part","CLS-P","M-Series","CLS-S","MGPS","CLS","CLS",null,null,null,null,null,null,null,null,null,null,null,null,null,null,null,null,null,null,null,null,null,null,"Point-Match","CLS-M","Moy-Gen","CLS-G","Moy-Part","CLS-P","M-Series","CLS-S","MGPS","CLS","CLS"]
[null,null,null,"Pts","Rep","Série",null,null,null,null,null,null,null,null,null,"Pts","Rep","Série",null,null,null,null,null,null,null,null,null,null,null,null,null,null,{"$f":"C52","v":0},null,null,"L",null,null,{"$f":"D62","v":0},null,{"$f":"E62","v":0},"B",null,null,{"$f":"D65","v":0},null,{"$f":"E65","v":0},null,{"$f":"AM61+AS61","v":0},null,{"$f":"AO61+AU61","v":0},{"$f":"BM61","v":{"$error":"#DIV/0!"}},null,{"$f":"AX62","v":0.02},{"$f":"RANK(BB61,BB$61:BB$66,0)","v":1},{"$f":"AY63","v":{"$error":"#DIV/0!"}},{"$f":"RANK(BD61,BD$61:BD$66,0)","v":{"$error":"#DIV/0!"}},{"$f":"MAX(AO63,AU63)","v":{"$error":"#DIV/0!"}},{"$f":"RANK(BF61,BF$61:BF$66,0)","v":{"$error":"#DIV/0!"}},{"$f":"AW63","v":0},{"$f":"RANK(BH61,BH$61:BH$66,0)","v":1},{"$f":"(BC61*1000)+(BE61*100)+(BG61*10)+(BI61*1)","v":{"$error":"#DIV/0!"}},{"$f":"BJ61","v":{"$error":"#DIV/0!"}},{"$f":"RANK(BK61,BK$61:BK$66,1)","v":{"$error":"#DIV/0!"}},{"$f":"RANK(BL61,BL$61:BL$66,1)","v":{"$error":"#DIV/0!"}},null,{"$f":"O52","v":{"$error":"#DIV/0!"}},null,"L",null,null,{"$f":"P62","v":0},null,{"$f":"Q62","v":0},"B",null,null,{"$f":"P65","v":0},null,{"$f":"Q65","v":0},null,{"$f":"BT61+BZ61","v":0},null,{"$f":"BV61+CB61","v":0},{"$f":"CT61","v":{"$error":"#DIV/0!"}},null,{"$f":"CE62","v":0.02},{"$f":"RANK(CI61,CI$61:CI$66,0)","v":1},{"$f":"CF63","v":{"$error":"#DIV/0!"}},{"$f":"RANK(CK61,CK$61:CK$66,0)","v":{"$error":"#DIV/0!"}},{"$f":"MAX(BV63,CB63)","v":{"$error":"#DIV/0!"}},{"$f":"RANK(CM61,CM$61:CM$66,0)","v":{"$error":"#DIV/0!"}},{"$f":"CD63","v":0},{"$f":"RANK(CO61,CO$61:CO$66,0)","v":1},{"$f":"(CJ61*1000)+(CL61*100)+(CN61*10)+(CP61*1)","v":{"$error":"#DIV/0!"}},{"$f":"CQ61","v":{"$error":"#DIV/0!"}},{"$f":"RANK(CR61,CR$61:CR$66,1)","v":{"$error":"#DIV/0!"}},{"$f":"RANK(CS61,CP$61:CP$66,1)","v":{"$error":"#DIV/0!"}}]
[null,"Tour 1",{"$f":"C52","v":0},null,null,null,null,null,null,null,null,null,null,"Tour 1",{"$f":"O52","v":{"$error":"#DIV/0!"}},null,null,null,null,null,null,null,null,null,null,null,null,null,null,null,null,null,null,null,null,null,null,null,null,{"$f":"IF(AO61<1,0.01,IF(AM61>AJ64,2,IF(AM61=AJ64,1,0)))","v":0.01},null,null,null,null,null,{"$f":"IF(AU61<1,0.01,IF(AS61>AP64,2,IF(AS61=AP64,1,0)))","v":0.01},null,null,null,{"$f":"AN62+AT62","v":0.02},null,null,null,null,null,null,null,null,null,null,null,null,null,null,null,null,null,null,null,null,null,null,{"$f":"IF(BV61<1,0.01,IF(BT61>BQ64,2,IF(BT61=BQ64,1,0)))","v":0.01},null,null,null,null,null,{"$f":"IF(CB61<1,0.01,IF(BZ61>BW64,2,IF(BZ61=BW64,1,0)))","v":0.01},null,null,null,{"$f":"BU62+CA62","v":0.02}]
[null,null,{"$f":"C53","v":0},null,null,null,null,null,null,null,null,null,null,null,{"$f":"O53","v":{"$error":"#DIV/0!"}},null,null,null,null,null,null,null,null,null,null,null,null,null,null,null,null,null,null,null,null,null,null,null,{"$f":"F62","v":0},null,{"$f":"AM61/AO61","v":{"$error":"#DIV/0!"}},null,null,null,{"$f":"F65","v":0},null,{"$f":"AS61/AU61","v":{"$error":"#DIV/0!"}},null,{"$f":"MAX(AM63,AS63)","v":0},null,{"$f":"AW61/AY61","v":{"$error":"#DIV/0!"}},null,null,null,null,null,null,null,null,null,null,null,null,null,null,null,null,null,null,null,null,{"$f":"R62","v":0},null,{"$f":"BT61/BV61","v":{"$error":"#DIV/0!"}},null,null,null,{"$f":"R65","v":0},null,{"$f":"BZ61/CB61","v":{"$error":"#DIV/0!"}},null,{"$f":"MAX(BT63,BZ63)","v":0},null,{"$f":"CD61/CF61","v":{"$error":"#DIV/0!"}}]
[null,null,null,null,null,null,null,null,null,null,null,null,null,null,null,null,null,null,null,null,null,null,null,null,null,null,null,null,null,null,null,null,{"$f":"C53","v":0},null,null,{"$f":"D63","v":0},null,{"$f":"E62","v":0},"M",null,null,{"$f":"D66","v":0},null,{"$f":"E65","v":0},null,null,null,null,{"$f":"AJ64+AP64","v":0},null,{"$f":"AL64+AR64","v":0},{"$f":"BM64","v":{"$error":"#DIV/0!"}},null,{"$f":"AX65","v":0.02},{"$f":"RANK(BB64,BB$61:BB$66,0)","v":1},{"$f":"AY66","v":{"$error":"#DIV/0!"}},{"$f":"RANK(BD64,BD$61:BD$66,0)","v":{"$error":"#DIV/0!"}},{"$f":"MAX(AL66,AR66)","v":{"$error":"#DIV/0!"}},{"$f":"RANK(BF64,BF$61:BF$66,0)","v":{"$error":"#DIV/0!"}},{"$f":"AW66","v":0},{"$f":"RANK(BH64,BH$61:BH$66,0)","v":1},{"$f":"(BC64*1000)+(BE64*100)+(BG64*10)+(BI64*1)","v":{"$error":"#DIV/0!"}},{"$f":"BJ64","v":{"$error":"#DIV/0!"}},{"$f":"RANK(BK64,BK$61:BK$66,1)","v":{"$error":"#DIV/0!"}},{"$f":"RANK(BL64,BL$61:BL$66,1)","v":{"$error":"#DIV/0!"}},null,{"$f":"O53","v":{"$error":"#DIV/0!"}},null,{"$f":"P63","v":0},null,{"$f":"Q62","v":0},"M",null,null,{"$f":"P66","v":0},null,{"$f":"Q65","v":0},null,null,null,null,{"$f":"BQ64+BW64","v":0},null,{"$f":"BS64+BY64","v":0},{"$f":"CT64","v":{"$error":"#DIV/0!"}},null,{"$f":"CE65","v":0.02},{"$f":"RANK(CI64,CI$61:CI$66,0)","v":1},{"$f":"CF66","v":{"$error":"#DIV/0!"}},{"$f":"RANK(CK64,CK$61:CK$66,0)","v":{"$error":"#DIV/0!"}},{"$f":"MAX(BS66,BY66)","v":{"$error":"#DIV/0!"}},{"$f":"RANK(CM64,CM$61:CM$66,0)","v":{"$error":"#DIV/0!"}},{"$f":"CD66","v":0},{"$f":"RANK(CO64,CO$61:CO$66,0)","v":1},{"$f":"(CJ64*1000)+(CL64*100)+(CN64*10)+(CP64*1)","v":{"$error":"#DIV/0!"}},{"$f":"CQ64","v":{"$error":"#DIV/0!"}},{"$f":"RANK(CR64,CR$61:CR$66,1)","v":{"$error":"#DIV/0!"}},{"$f":"RANK(CS64,CP$61:CP$66,1)","v":{"$error":"#DIV/0!"}}]
[null,"Tour 2",{"$f":"C52","v":0},null,null,null,null,null,null,null,null,null,null,"Tour 2",{"$f":"O52","v":{"$error":"#DIV/0!"}},null,null,null,null,null,null,null,null,null,null,null,null,null,null,null,null,null,null,null,null,null,{"$f":"IF(AO61>0,2-AN62,0.01)","v":0.01},null,null,null,null,null,{"$f":"IF(AU61>0,2-AT62,0.01)","v":0.01},null,null,null,null,null,null,{"$f":"AK65+AQ65","v":0.02},null,null,null,null,null,null,null,null,null,null,null,null,null,null,null,null,null,null,null,{"$f":"IF(BV61>0,2-BU62,0.01)","v":0.01},null,null,null,null,null,{"$f":"IF(CB61>0,2-CA62,0.01)","v":0.01},null,null,null,null,null,null,{"$f":"BR65+BX65+CA65","v":0.02}]
[null,null,{"$f":"C53","v":0},null,null,null,null,null,null,null,null,null,null,null,{"$f":"O53","v":{"$error":"#DIV/0!"}},null,null,null,null,null,null,null,null,null,null,null,null,null,null,null,null,null,null,null,null,{"$f":"F63","v":0},null,{"$f":"AJ64/AL64","v":{"$error":"#DIV/0!"}},null,null,null,{"$f":"F66","v":0},null,{"$f":"AP64/AR64","v":{"$error":"#DIV/0!"}},null,null,null,null,{"$f":"MAX(AJ66,AP66)","v":0},null,{"$f":"AW64/AY64","v":{"$error":"#DIV/0!"}},null,null,null,null,null,null,null,null,null,null,null,null,null,null,null,null,null,{"$f":"R63","v":0},null,{"$f":"BQ64/BS64","v":{"$error":"#DIV/0!"}},null,null,null,{"$f":"R66","v":0},null,{"$f":"BW64/BY64","v":{"$error":"#DIV/0!"}},null,null,null,null,{"$f":"MAX(BQ66,BW66)","v":0},null,{"$f":"CD64/CF64","v":{"$error":"#DIV/0!"}}]

{"sheet":"9JOUEURS","index":20,"n_rows":82,"n_cols":87,"rows_kept":82,"cut":false,"hidden":true,"merged":[[60,11,61,12],[55,11,56,15],[46,14,47,14],[9,12,9,15],[10,12,10,15],[11,12,11,15],[29,12,29,15],[30,12,30,15],[31,12,31,15],[49,12,49,15],[50,12,50,15],[51,12,51,15],[18,11,19,12],[38,11,39,12],[68,1,69,1],[68,4,69,4],[26,1,27,1],[26,4,27,4],[58,1,59,2],[13,11,14,15],[16,11,17,12],[20,11,21,11],[20,14,21,14],[23,11,24,11],[23,14,24,14],[26,11,27,11],[26,14,27,14],[33,11,34,15],[36,11,37,12],[40,11,41,11],[40,14,41,14],[19,7,19,10],[62,11,63,11],[62,14,63,14],[65,11,66,11],[65,14,66,14],[68,11,69,11],[68,14,69,14],[49,2,49,5],[50,2,50,5],[51,2,51,5],[52,2,52,5],[55,1,56,5],[58,11,59,12],[2,1,3,2],[2,3,3,9],[5,1,6,2],[5,3,6,9],[5,12,5,15],[1,12,3,24],[6,12,6,15],[6,17,6,18],[16,16,16,17],[31,2,31,5],[32,2,32,5],[33,1,34,5],[29,2,29,5],[30,2,30,5],[36,1,37,2],[43,11,44,11],[43,14,44,14],[46,11,47,11],[9,2,9,5],[10,2,10,5],[13,1,14,5],[13,29,16,31],[65,42,67,42],[65,44,67,44],[65,45,67,45],[65,46,67,46],[62,1,63,1],[62,4,63,4],[62,27,64,28],[13,32,16,34],[13,35,16,37],[16,1,17,2],[17,27,19,28],[17,29,19,31],[17,42,19,42],[17,44,19,44],[17,45,19,45],[17,46,19,46],[17,19,17,21],[18,19,18,21],[19,19,19,21],[20,7,20,10],[65,1,66,1],[65,4,66,4],[62,32,64,34],[62,42,64,42],[62,44,64,44],[62,54,64,54],[59,54,61,54],[62,55,64,55],[62,51,64,51],[62,50,64,50],[62,45,64,45],[62,46,64,46],[62,47,64,47],[62,49,64,49],[65,27,67,28],[65,35,67,37],[62,52,64,52],[65,49,67,49],[65,51,67,51],[65,50,67,50],[65,53,67,53],[65,52,67,52],[65,54,67,54],[65,55,67,55],[57,55,58,55],[59,27,61,28],[59,29,61,31],[59,42,61,42],[59,44,61,44],[59,45,61,45],[59,46,61,46],[59,55,61,55],[55,29,58,31],[55,32,58,34],[55,35,58,37],[59,47,61,47],[59,48,61,48],[55,39,58,41],[55,42,58,42],[56,27,58,28],[57,44,57,45],[57,46,57,47],[57,50,57,51],[57,52,57,53],[57,48,57,49],[59,49,61,49],[59,51,61,51],[59,50,61,50],[40,54,42,54],[46,1,47,1],[46,4,47,4],[47,29,47,42],[43,51,45,51],[43,50,45,50],[43,53,45,53],[43,52,45,52],[43,54,45,54],[43,1,44,1],[43,4,44,4],[43,27,45,28],[43,35,45,37],[43,42,45,42],[40,1,41,1],[40,4,41,4],[40,27,42,28],[40,32,42,34],[40,42,42,42],[40,49,42,49],[43,49,45,49],[43,55,45,55],[43,44,45,44],[43,45,45,45],[43,46,45,46],[43,47,45,47],[43,48,45,48],[37,47,39,47],[37,48,39,48],[37,51,39,51],[37,50,39,50],[37,53,39,53],[37,52,39,52],[37,54,39,54],[37,55,39,55],[40,55,42,55],[40,44,42,44],[40,45,42,45],[40,46,42,46],[40,47,42,47],[40,48,42,48],[40,51,42,51],[40,50,42,50],[40,53,42,53],[40,52,42,52],[23,55,25,55],[23,42,25,42],[23,44,25,44],[23,45,25,45],[23,46,25,46],[23,47,25,47],[23,48,25,48],[35,50,35,51],[35,52,35,53],[35,55,36,55],[35,46,35,47],[33,42,36,42],[35,44,35,45],[27,29,27,42],[23,49,25,49],[35,48,35,49],[20,54,22,54],[20,46,22,46],[20,47,22,47],[20,48,22,48],[23,1,24,1],[23,4,24,4],[23,27,25,28],[23,35,25,37],[20,45,22,45],[20,1,21,1],[20,4,21,4],[20,27,22,28],[20,32,22,34],[20,42,22,42],[20,44,22,44],[21,7,21,10],[25,19,25,21],[20,53,22,53],[20,52,22,52],[23,51,25,51],[23,50,25,50],[23,53,25,53],[23,52,25,52],[23,54,25,54],[13,66,16,68],[13,70,16,72],[13,73,16,73],[13,60,16,62],[13,39,16,41],[13,42,16,42],[14,27,16,28],[15,44,15,45],[15,46,15,47],[15,50,15,51],[15,52,15,53],[15,55,16,55],[14,58,16,59],[15,48,15,49],[33,66,36,68],[33,70,36,72],[33,73,36,73],[17,47,19,47],[17,48,19,48],[17,51,19,51],[11,2,11,5],[16,19,16,21],[15,86,16,86],[17,58,19,59],[17,60,19,62],[17,73,19,73],[17,75,19,75],[17,76,19,76],[17,77,19,77],[17,78,19,78],[17,79,19,79],[17,82,19,82],[17,81,19,81],[17,84,19,84],[17,83,19,83],[17,85,19,85],[17,86,19,86],[13,63,16,65],[20,63,22,65],[20,73,22,73],[20,75,22,75],[20,76,22,76],[20,77,22,77],[20,78,22,78],[20,79,22,79],[20,82,22,82],[20,81,22,81],[20,80,22,80],[23,75,25,75],[23,76,25,76],[23,77,25,77],[23,78,25,78],[23,81,25,81],[23,79,25,79],[23,82,25,82],[15,81,15,82],[15,75,15,76],[15,77,15,78],[17,80,19,80],[23,80,25,80],[15,79,15,80],[23,86,25,86],[15,83,15,84],[40,78,42,78],[40,79,42,79],[40,80,42,80],[40,81,42,81],[40,82,42,82],[40,83,42,83],[40,85,42,85],[40,84,42,84],[40,86,42,86],[35,83,35,84],[35,86,36,86],[23,84,25,84],[23,83,25,83],[23,85,25,85],[20,84,22,84],[20,83,22,83],[20,85,22,85],[20,86,22,86],[35,79,35,80],[43,86,45,86],[57,83,57,84],[57,86,58,86],[62,84,64,84],[62,83,64,83],[62,85,64,85],[62,86,64,86],[37,75,39,75],[37,76,39,76],[37,77,39,77],[37,78,39,78],[43,82,45,82],[43,83,45,83],[43,85,45,85],[37,81,39,81],[37,82,39,82],[37,83,39,83],[37,85,39,85],[59,86,61,86],[37,84,39,84],[37,86,39,86],[40,75,42,75],[40,76,42,76],[40,77,42,77],[59,81,61,81],[59,84,61,84],[59,83,61,83],[59,85,61,85],[43,84,45,84],[59,80,61,80],[59,58,61,59],[59,60,61,62],[59,73,61,73],[59,75,61,75],[59,76,61,76],[59,77,61,77],[59,78,61,78],[59,79,61,79],[59,82,61,82],[57,75,57,76],[57,77,57,78],[57,81,57,82],[43,81,45,81],[43,58,45,59],[57,79,57,80],[62,76,64,76],[62,77,64,77],[62,78,64,78],[62,79,64,79],[62,82,64,82],[62,81,64,81],[62,80,64,80],[62,58,64,59],[62,63,64,65],[62,73,64,73],[62,75,64,75],[65,75,67,75],[65,76,67,76],[65,77,67,77],[65,78,67,78],[65,79,67,79],[65,84,67,84],[65,83,67,83],[65,85,67,85],[65,86,67,86],[65,80,67,80],[65,82,67,82],[65,81,67,81],[35,75,35,76],[35,77,35,78],[35,81,35,82],[55,70,58,72],[55,73,58,73],[43,66,45,68],[43,73,45,73],[43,75,45,75],[43,76,45,76],[43,77,45,77],[43,78,45,78],[43,79,45,79],[43,80,45,80],[37,79,39,79],[37,80,39,80],[47,60,47,73],[55,60,58,62],[55,63,58,65],[55,66,58,68],[33,60,36,62],[33,63,36,65],[37,60,39,62],[37,73,39,73],[40,63,42,65],[59,53,61,53],[59,52,61,52],[62,53,64,53],[17,54,19,54],[17,55,19,55],[56,58,58,59],[23,66,25,68],[73,27,73,29],[74,27,74,29],[23,58,25,59],[20,55,22,55],[20,51,22,51],[20,50,22,50],[34,58,36,59],[69,60,69,73],[65,58,67,59],[65,66,67,68],[65,73,67,73],[27,60,27,73],[40,58,42,59],[40,73,42,73],[37,58,39,59],[23,73,25,73],[20,58,22,59],[17,53,19,53],[17,52,19,52],[37,27,39,28],[37,29,39,31],[37,42,39,42],[37,44,39,44],[37,45,39,45],[37,46,39,46],[33,29,36,31],[33,32,36,34],[33,35,36,37],[33,39,36,41],[34,27,36,28],[17,49,19,49],[20,49,22,49],[37,49,39,49],[81,27,81,29],[17,50,19,50],[20,19,20,21],[21,19,21,21],[22,19,22,21],[23,19,23,21],[24,19,24,21],[65,47,67,47],[69,29,69,42],[62,48,64,48],[65,48,67,48],[5,22,5,23],[6,22,6,23],[13,18,14,24],[75,27,75,29],[76,27,76,29],[77,27,77,29],[78,27,78,29],[79,27,79,29],[80,27,80,29],[5,17,5,18]]}
[]
[null,null,null,null,null,null,null,null,null,null,null,null,"LIGUE MÉDITERRANÉENNE DE BILLARD"]
[null,"CLUB ORGANISATEUR"]
[]
[]
[null,"DIRECTEUR DE JEU :",null,null,null,null,null,null,null,null,null,null,"Compétition",null,null,null,null,"Mode de jeu",null,null,"Categorie",null,"Distance"]
[]
[]
[]
[null,"Joueur 1",{"$f":"'Saisie des joueurs'!L18","v":0},null,null,null,null,null,null,null,null,"Joueur 1",{"$f":"IF(AQ18=1,AB18,IF(AQ21=1,AB21,IF(AQ24=1,AB24)))","v":{"$error":"#DIV/0!"}}]
[null,"Joueur 2",{"$f":"'Saisie des joueurs'!L23","v":0},null,null,null,null,null,null,null,null,"Joueur 2",{"$f":"IF(AQ38=1,AB38,IF(AQ41=1,AB41,IF(AQ44=1,AB44,)))","v":{"$error":"#DIV/0!"}}]
[null,"Joueur 3",{"$f":"'Saisie des joueurs'!L24","v":0},null,null,null,null,null,null,null,null,"Joueur 3",{"$f":"IF(AQ60=1,AB60,IF(AQ63=1,AB63,IF(AQ66=1,AB66,)))","v":{"$error":"#DIV/0!"}}]
[]
[null,"SAISIE DES RESULTATS",null,null,null,null,null,null,null,null,null,"SAISIE DES RESULTATS",null,null,null,null,null,null,"CLASSEMENT DU TOURNOI",null,null,null,null,null,null,null,null,null,null,{"$f":"C10","v":0},null,null,{"$f":"C11","v":0},null,null,{"$f":"C12","v":0},null,null,null,"TOTAUX",null,null,"CLASSEMENT",null,null,null,null,null,null,null,null,null,null,null,null,null,null,null,null,null,{"$f":"M10","v":{"$error":"#DIV/0!"}},null,null,{"$f":"M11","v":{"$error":"#DIV/0!"}},null,null,{"$f":"M12","v":{"$error":"#DIV/0!"}},null,null,null,"TOTAUX",null,null,"CLASSEMENT"]
[]
[null,null,null,null,null,null,null,null,null,null,null,null,null,null,null,null,null,null,null,null,null,null,null,null,null,null,null,null,null,null,null,null,null,null,null,null,null,null,null,null,null,null,null,null,"Classement",null,"Classement",null,"Classement",null,"Classement",null,"Classement",null,"GENERAL","RANG",null,null,null,null,null,null,null,null,null,null,null,null,null,null,null,null,null,null,null,"Classement",null,"Classement",null,"Classement",null,"Classement",null,"Classement",null,"GENERAL","RANG"]
[null,"PHASE 1 - POULE A",null,null,null,null,null,null,null,null,null,"PHASE 4 - POULE A",null,null,null,null,"Pts Tournoi",null,null,"NOM",null,null,"Pts","Rep","Moy",null,null,null,null,null,null,null,null,null,null,null,null,null,null,null,null,null,null,null,"Point-Match","CLS-M","Moy-Gen","CLS-G","Moy-Part","CLS-P","M-Series","CLS-S","MGPS","CLS","CLS",null,null,null,null,null,null,null,null,null,null,null,null,null,null,null,null,null,null,null,null,"Point-Match","CLS-M","Moy-Gen","CLS-G","Moy-Part","CLS-P","M-Series","CLS-S","MGPS","CLS","CLS"]
[null,null,null,null,null,null,null,null,null,null,null,null,null,null,null,null,null,120,1,{"$f":"IF(BV18=1,BG18,IF(BV21=1,BG21,IF(BV24=1,BG24,)))","v":{"$error":"#DIV/0!"}},null,null,{"$f":"AG74","v":{"$error":"#DIV/0!"}},{"$f":"AJ74","v":{"$error":"#DIV/0!"}},{"$f":"AK74","v":{"$error":"#DIV/0!"}},null,null,{"$f":"C10","v":0},null,"L",null,null,{"$f":"D27","v":0},null,{"$f":"E27","v":0},{"$f":"D21","v":0},null,{"$f":"E21","v":0},null,{"$f":"AG18+AJ18","v":0},null,{"$f":"AI18+AL18","v":0},{"$f":"BD18","v":{"$error":"#DIV/0!"}},null,{"$f":"AO19","v":0.02},{"$f":"RANK(AS18,AS$18:AS$26,0)","v":1},{"$f":"AP20","v":{"$error":"#DIV/0!"}},{"$f":"RANK(AU18,AU$18:AU$26,0)","v":{"$error":"#DIV/0!"}},{"$f":"MAX(AI20,AL20)","v":{"$error":"#DIV/0!"}},{"$f":"RANK(AW18,AW$18:AW$26,0)","v":{"$error":"#DIV/0!"}},{"$f":"AN20","v":0},{"$f":"RANK(AY18,AY$18:AY$26)","v":1},{"$f":"(AT18*1000)+(AV18*100)+(AX18*10)+(AZ18*1)","v":{"$error":"#DIV/0!"}},{"$f":"RANK(BA18,BA$18:BA$26)","v":{"$error":"#DIV/0!"}},{"$f":"BA18","v":{"$error":"#DIV/0!"}},{"$f":"RANK(BC18,BC$18:BC$26,1)","v":{"$error":"#DIV/0!"}},null,null,{"$f":"M10","v":{"$error":"#DIV/0!"}},null,"L",null,null,{"$f":"N27","v":0},null,{"$f":"O27","v":0},{"$f":"N21","v":0},null,{"$f":"O21","v":0},null,{"$f":"BL18+BO18","v":0},null,{"$f":"BN18+BQ18","v":0},{"$f":"CI18","v":{"$error":"#DIV/0!"}},null,{"$f":"BT19","v":0.02},{"$f":"RANK(BX18,BX$18:BX$26,0)","v":1},{"$f":"BU20","v":{"$error":"#DIV/0!"}},{"$f":"RANK(BZ18,BZ$18:BZ$26,0)","v":{"$error":"#DIV/0!"}},{"$f":"MAX(BN20,BQ20)","v":{"$error":"#DIV/0!"}},{"$f":"RANK(CB18,CB$18:CB$26)","v":{"$error":"#DIV/0!"}},{"$f":"BS20","v":0},{"$f":"RANK(CD18,CD$18:CD$26)","v":1},{"$f":"(BY18*1000)+(CA18*100)+(CC18*10)+(CE18*1)","v":{"$error":"#DIV/0!"}},{"$f":"RANK(CF18,CF$18:CF$26)","v":{"$error":"#DIV/0!"}},{"$f":"CF18","v":{"$error":"#DIV/0!"}},{"$f":"RANK(CH18,CH$18:CH$26,1)","v":{"$error":"#DIV/0!"}}]
[null,null,null,null,null,null,null,null,null,null,null,"1er des poules A-B-C de la phase 1",null,null,null,null,null,90,2,{"$f":"IF(BV18=2,BG18,IF(BV21=2,BG21,IF(BV24=2,BG24,)))","v":{"$error":"#DIV/0!"}},null,null,{"$f":"AG75","v":{"$error":"#DIV/0!"}},{"$f":"AJ75","v":{"$error":"#DIV/0!"}},{"$f":"AK75","v":{"$error":"#DIV/0!"}},null,null,null,null,null,null,null,null,{"$f":"IF(AI18<1,0.01,IF(AG18>AD21,2,IF(AG18=AD21,1,0)))","v":0.01},null,null,{"$f":"IF(AL18<1,0.01,IF(AJ18>AD24,2,IF(AJ18=AD24,1,0)))","v":0.01},null,null,null,{"$f":"AH19+AK19","v":0.02},null,null,null,null,null,null,null,null,null,null,null,null,null,null,null,null,null,null,null,null,null,null,null,{"$f":"IF(BN18<1,0.01,IF(BL18>BI21,2,IF(BL18=BI21,1,0)))","v":0.01},null,null,{"$f":"IF(BQ18<1,0.01,IF(BO18>BI24,2,IF(BO18=BI24,1,0)))","v":0.01},null,null,null,{"$f":"BM19+BP19","v":0.02}]
[null,null,null,"Pts","Rep","Série",null,"1er de poule",null,null,null,null,null,"Pts","Rep","Série",null,70,3,{"$f":"IF(BV18=3,BG18,IF(BV21=3,BG21,IF(BV24=3,BG24,)))","v":{"$error":"#DIV/0!"}},null,null,{"$error":"#DIV/0!"},{"$error":"#DIV/0!"},{"$error":"#DIV/0!"},null,null,null,null,null,null,null,{"$f":"F27","v":0},null,{"$f":"AG18/AI18","v":{"$error":"#DIV/0!"}},{"$f":"F21","v":0},null,{"$f":"AJ18/AL18","v":{"$error":"#DIV/0!"}},null,{"$f":"MAX(AG20,AJ20)","v":0},null,{"$f":"AN18/AP18","v":{"$error":"#DIV/0!"}},null,null,null,null,null,null,null,null,null,null,null,null,null,null,null,null,null,null,null,null,null,{"$f":"P27","v":0},null,{"$f":"BL18/BN18","v":{"$error":"#DIV/0!"}},{"$f":"P21","v":0},null,{"$f":"BO18/BQ18","v":{"$error":"#DIV/0!"}},null,{"$f":"MAX(BL20,BO20)","v":0},null,{"$f":"BS18/BU18","v":{"$error":"#DIV/0!"}}]
[null,"Tour 1",{"$f":"C10","v":0},null,null,null,null,"2ème de poule",null,null,null,"Tour 1",{"$f":"M10","v":{"$error":"#DIV/0!"}},null,null,null,null,50,4,{"$f":"IF(BV38=1,BG38,IF(BV41=1,BG41,IF(BV44=1,BG44,)))","v":{"$error":"#DIV/0!"}},null,null,{"$error":"#DIV/0!"},{"$error":"#DIV/0!"},{"$error":"#DIV/0!"},null,null,{"$f":"C11","v":0},null,{"$f":"D28","v":0},null,{"$f":"E27","v":0},"M",null,null,{"$f":"D24","v":0},null,{"$f":"E24","v":0},null,{"$f":"AD21+AJ21","v":0},null,{"$f":"AF21+AL21","v":0},{"$f":"BD21","v":{"$error":"#DIV/0!"}},null,{"$f":"AO22","v":0.02},{"$f":"RANK(AS21,AS$18:AS$26,0)","v":1},{"$f":"AP23","v":{"$error":"#DIV/0!"}},{"$f":"RANK(AU21,AU$18:AU$26,0)","v":{"$error":"#DIV/0!"}},{"$f":"MAX(AI23,AL23)","v":{"$error":"#DIV/0!"}},{"$f":"RANK(AW21,AW$18:AW$26,0)","v":{"$error":"#DIV/0!"}},{"$f":"AN23","v":0},{"$f":"RANK(AY21,AY$18:AY$26)","v":1},{"$f":"(AT21*1000)+(AV21*100)+(AX21*10)+(AZ21*1)","v":{"$error":"#DIV/0!"}},{"$f":"RANK(BA21,BA$18:BA$26)","v":{"$error":"#DIV/0!"}},{"$f":"BA21","v":{"$error":"#DIV/0!"}},{"$f":"RANK(BC21,BC$18:BC$26,1)","v":{"$error":"#DIV/0!"}},null,null,{"$f":"M11","v":{"$error":"#DIV/0!"}},null,{"$f":"N28","v":0},null,{"$f":"O27","v":0},"M",null,null,{"$f":"N24","v":0},null,{"$f":"O24","v":0},null,{"$f":"BI21+BO21","v":0},null,{"$f":"BK21+BQ21","v":0},{"$f":"CI21","v":{"$error":"#DIV/0!"}},null,{"$f":"BT22","v":0.02},{"$f":"RANK(BX21,BX$18:BX$26,0)","v":1},{"$f":"BU23","v":{"$error":"#DIV/0!"}},{"$f":"RANK(BZ21,BZ$18:BZ$26,0)","v":{"$error":"#DIV/0!"}},{"$f":"MAX(BK23,BQ23)","v":{"$error":"#DIV/0!"}},{"$f":"RANK(CB21,CB$18:CB$26)","v":{"$error":"#DIV/0!"}},{"$f":"BS23","v":0},{"$f":"RANK(CD21,CD$18:CD$26)","v":1},{"$f":"(BY21*1000)+(CA21*100)+(CC21*10)+(CE21*1)","v":{"$error":"#DIV/0!"}},{"$f":"RANK(CF21,CF$18:CF$26)","v":{"$error":"#DIV/0!"}},{"$f":"CF21","v":{"$error":"#DIV/0!"}},{"$f":"RANK(CH21,CH$18:CH$26,1)","v":{"$error":"#DIV/0!"}}]
[null,null,{"$f":"C12","v":0},null,null,null,null,"3ème de poule",null,null,null,null,{"$f":"M12","v":{"$error":"#DIV/0!"}},null,null,null,null,30,5,{"$f":"IF(BV38=2,BG38,IF(BV41=2,BG41,IF(BV44=2,BG44,)))","v":{"$error":"#DIV/0!"}},null,null,{"$error":"#DIV/0!"},{"$error":"#DIV/0!"},{"$error":"#DIV/0!"},null,null,null,null,null,{"$f":"IF(AI18>0,2-AH19,0.01)","v":0.01},null,null,null,null,null,{"$f":"IF(AL21<1,0.01,IF(AJ21>AG24,2,IF(AJ21=AG24,1,0)))","v":0.01},null,null,null,{"$f":"AE22+AK22","v":0.02},null,null,null,null,null,null,null,null,null,null,null,null,null,null,null,null,null,null,null,null,{"$f":"IF(BK21<1,0.01,IF(BI21>BL18,2,IF(BI21=BL18,1,0)))","v":0.01},null,null,null,null,null,{"$f":"IF(BQ21<1,0.01,IF(BO21>BL24,2,IF(BO21=BL24,1,0)))","v":0.01},null,null,null,{"$f":"BJ22+BP22","v":0.02}]
[null,null,null,null,null,null,null,null,null,null,null,null,null,null,null,null,null,10,6,{"$f":"IF(BV38=3,BG38,IF(BV41=3,BG41,IF(BV44=3,BG44,)))","v":{"$error":"#DIV/0!"}},null,null,{"$error":"#DIV/0!"},{"$error":"#DIV/0!"},{"$error":"#DIV/0!"},null,null,null,null,{"$f":"F28","v":0},null,{"$f":"AD21/AF21","v":{"$error":"#DIV/0!"}},null,null,null,{"$f":"F24","v":0},null,{"$f":"AJ21/AL21","v":{"$error":"#DIV/0!"}},null,{"$f":"MAX(AD23,AJ23)","v":0},null,{"$f":"AN21/AP21","v":{"$error":"#DIV/0!"}},null,null,null,null,null,null,null,null,null,null,null,null,null,null,null,null,null,null,{"$f":"P28","v":0},null,{"$f":"BI21/BK21","v":{"$error":"#DIV/0!"}},null,null,null,{"$f":"P24","v":0},null,{"$f":"BO21/BQ21","v":{"$error":"#DIV/0!"}},null,{"$f":"MAX(BI23,BO23)","v":0},null,{"$f":"BS21/BU21","v":{"$error":"#DIV/0!"}}]
[null,"Tour 2",{"$f":"C11","v":0},null,null,null,null,null,null,null,null,"Tour 2",{"$f":"M11","v":{"$error":"#DIV/0!"}},null,null,null,null,5,7,{"$f":"IF(BV60=1,BG60,IF(BV63=1,BG63,IF(BV66=1,BG66,)))","v":{"$error":"#DIV/0!"}},null,null,{"$error":"#DIV/0!"},{"$error":"#DIV/0!"},{"$error":"#DIV/0!"},null,null,{"$f":"C12","v":0},null,{"$f":"D22","v":0},null,{"$f":"E21","v":0},{"$f":"D25","v":0},null,{"$f":"E24","v":0},"B",null,null,null,{"$f":"AD24+AG24","v":0},null,{"$f":"AF24+AI24","v":0},{"$f":"BD24","v":{"$error":"#DIV/0!"}},null,{"$f":"AO25","v":0.02},{"$f":"RANK(AS24,AS$18:AS$26,0)","v":1},{"$f":"AP26","v":{"$error":"#DIV/0!"}},{"$f":"RANK(AU24,AU$18:AU$26,0)","v":{"$error":"#DIV/0!"}},{"$f":"MAX(AI26,AL26)","v":{"$error":"#DIV/0!"}},{"$f":"RANK(AW24,AW$18:AW$26,0)","v":{"$error":"#DIV/0!"}},{"$f":"AN26","v":0},{"$f":"RANK(AY24,AY$18:AY$26)","v":1},{"$f":"(AT24*1000)+(AV24*100)+(AX24*10)+(AZ24*1)","v":{"$error":"#DIV/0!"}},{"$f":"RANK(BA24,BA$18:BA$26)","v":{"$error":"#DIV/0!"}},{"$f":"BA24","v":{"$error":"#DIV/0!"}},{"$f":"RANK(BC24,BC$18:BC$26,1)","v":{"$error":"#DIV/0!"}},null,null,{"$f":"M12","v":{"$error":"#DIV/0!"}},null,{"$f":"N22","v":0},null,{"$f":"O21","v":0},{"$f":"N25","v":0},null,{"$f":"O24","v":0},"B",null,null,null,{"$f":"BI24+BL24","v":0},null,{"$f":"BK24+BN24","v":0},{"$f":"CI24","v":{"$error":"#DIV/0!"}},null,{"$f":"BT25","v":0.02},{"$f":"RANK(BX24,BX$18:BX$26,0)","v":1},{"$f":"BU26","v":{"$error":"#DIV/0!"}},{"$f":"RANK(BZ24,BZ$18:BZ$26,0)","v":{"$error":"#DIV/0!"}},{"$f":"MAX(BK26,BN26)","v":{"$error":"#DIV/0!"}},{"$f":"RANK(CB24,CB$18:CB$26)","v":{"$error":"#DIV/0!"}},{"$f":"BS26","v":0},{"$f":"RANK(CD24,CD$18:CD$26)","v":1},{"$f":"(BY24*1000)+(CA24*100)+(CC24*10)+(CE24*1)","v":{"$error":"#DIV/0!"}},{"$f":"RANK(CF24,CF$18:CF$26)","v":{"$error":"#DIV/0!"}},{"$f":"CF24","v":{"$error":"#DIV/0!"}},{"$f":"RANK(CH24,CH$18:CH$26,1)","v":{"$error":"#DIV/0!"}}]
[null,null,{"$f":"C12","v":0},null,null,null,null,null,null,null,null,null,{"$f":"M12","v":{"$error":"#DIV/0!"}},null,null,null,null,5,8,{"$f":"IF(BV60=2,BG60,IF(BV63=2,BG63,IF(BV66=2,BG66,)))","v":{"$error":"#DIV/0!"}},null,null,{"$error":"#DIV/0!"},{"$error":"#DIV/0!"},{"$error":"#DIV/0!"},null,null,null,null,null,{"$f":"IF(AL18>0,2-AK19,0.01)","v":0.01},null,null,{"$f":"IF(AL21>0,2-AK22,0.01)","v":0.01},null,null,null,null,null,null,{"$f":"AE25+AH25","v":0.02},null,null,null,null,null,null,null,null,null,null,null,null,null,null,null,null,null,null,null,null,{"$f":"IF(BK24<1,0.01,IF(BI24>BO18,2,IF(BI24=BO18,1,0)))","v":0.01},null,null,{"$f":"IF(BN24<1,0.01,IF(BL24>BO21,2,IF(BL24=BO21,1,0)))","v":0.01},null,null,null,null,null,null,{"$f":"BJ25+BM25","v":0.02}]
[null,null,null,null,null,null,null,null,null,null,null,null,null,null,null,null,null,5,9,{"$f":"IF(BV60=3,BG60,IF(BV63=3,BG63,IF(BV66=3,BG66,)))","v":{"$error":"#DIV/0!"}},null,null,{"$error":"#DIV/0!"},{"$error":"#DIV/0!"},{"$error":"#DIV/0!"},null,null,null,null,{"$f":"F22","v":0},null,{"$f":"AD24/AF24","v":{"$error":"#DIV/0!"}},{"$f":"F25","v":0},null,{"$f":"AG24/AI24","v":{"$error":"#DIV/0!"}},null,null,null,null,{"$f":"MAX(AD26,AG26)","v":0},null,{"$f":"AN24/AP24","v":{"$error":"#DIV/0!"}},null,null,null,null,null,null,null,null,null,null,null,null,null,null,null,null,null,null,{"$f":"P22","v":0},null,{"$f":"BI24/BK24","v":{"$error":"#DIV/0!"}},{"$f":"P25","v":0},null,{"$f":"BL24/BN24","v":{"$error":"#DIV/0!"}},null,null,null,null,{"$f":"MAX(BI26,BL26)","v":0},null,{"$f":"BS24/BU24","v":{"$error":"#DIV/0!"}}]
[null,"Tour 3",{"$f":"C10","v":0},null,null,null,null,null,null,null,null,"Tour 3",{"$f":"M10","v":{"$error":"#DIV/0!"}}]
[null,null,{"$f":"C11","v":0},null,null,null,null,null,null,null,null,null,{"$f":"M11","v":{"$error":"#DIV/0!"}},null,null,null,null,null,null,null,null,null,null,null,null,null,null,null,null,"Pas de prolongation en cas de match nul.",null,null,null,null,null,null,null,null,null,null,null,null,null,null,null,null,null,null,null,null,null,null,null,null,null,null,null,null,null,null,"Pas de prolongation en cas de match nul."]
[]
[null,"Joueur 1",{"$f":"'Saisie des joueurs'!L19","v":0},null,null,null,null,null,null,null,null,"Joueur 1",{"$f":"IF(AQ18=2,AB18,IF(AQ21=2,AB21,IF(AQ24=2,AB24)))","v":{"$error":"#DIV/0!"}}]
[null,"Joueur 2",{"$f":"'Saisie des joueurs'!L22","v":0},null,null,null,null,null,null,null,null,"Joueur 2",{"$f":"IF(AQ38=2,AB38,IF(AQ41=2,AB41,IF(AQ44=2,AB44,)))","v":{"$error":"#DIV/0!"}}]
[null,"Joueur 3",{"$f":"'Saisie des joueurs'!L25","v":0},null,null,null,null,null,null,null,null,"Joueur 3",{"$f":"IF(AQ60=2,AB60,IF(AQ63=2,AB63,IF(AQ66=2,AB66,)))","v":{"$error":"#DIV/0!"}}]
[]
[null,"SAISIE DES RESULTATS",null,null,null,null,null,null,null,null,null,"SAISIE DES RESULTATS",null,null,null,null,null,null,null,null,null,null,null,null,null,null,null,null,null,{"$f":"C30","v":0},null,null,{"$f":"C31","v":0},null,null,{"$f":"C32","v":0},null,null,null,"TOTAUX",null,null,"CLASSEMENT",null,null,null,null,null,null,null,null,null,null,null,null,null,null,null,null,null,{"$f":"M30","v":{"$error":"#DIV/0!"}},null,null,{"$f":"M31","v":{"$error":"#DIV/0!"}},null,null,{"$f":"M32","v":{"$error":"#DIV/0!"}},null,null,null,"TOTAUX",null,null,"CLASSEMENT"]
[]
[null,null,null,null,null,null,null,null,null,null,null,null,null,null,null,null,null,null,null,null,null,null,null,null,null,null,null,null,null,null,null,null,null,null,null,null,null,null,null,null,null,null,null,null,"Classement",null,"Classement",null,"Classement",null,"Classement",null,"Classement",null,"GENERAL","RANG",null,null,null,null,null,null,null,null,null,null,null,null,null,null,null,null,null,null,null,"Classement",null,"Classement",null,"Classement",null,"Classement",null,"Classement",null,"GENERAL","RANG"]
[null,"PHASE 1 - POULE B",null,null,null,null,null,null,null,null,null,"PHASE 3 - POULE B",null,null,null,null,null,null,null,null,null,null,null,null,null,null,null,null,null,null,null,null,null,null,null,null,null,null,null,null,null,null,null,null,"Point-Match","CLS-M","Moy-Gen","CLS-G","Moy-Part","CLS-P","M-Series","CLS-S","MGPS","CLS","CLS",null,null,null,null,null,null,null,null,null,null,null,null,null,null,null,null,null,null,null,null,"Point-Match","CLS-M","Moy-Gen","CLS-G","Moy-Part","CLS-P","M-Series","CLS-S","MGPS","CLS","CLS"]
[null,null,null,null,null,null,null,null,null,null,null,null,null,null,null,null,null,null,null,null,null,null,null,null,null,null,null,{"$f":"C30","v":0},null,"L",null,null,{"$f":"D47","v":0},null,{"$f":"E47","v":0},{"$f":"D41","v":0},null,{"$f":"E41","v":0},null,{"$f":"AG38+AJ38","v":0},null,{"$f":"AI38+AL38","v":0},{"$f":"BD38","v":{"$error":"#DIV/0!"}},null,{"$f":"AO39","v":0.02},{"$f":"RANK(AS38,AS$38:AS$46,0)","v":1},{"$f":"AP40","v":{"$error":"#DIV/0!"}},{"$f":"RANK(AU38,AU$38:AU$46,0)","v":{"$error":"#DIV/0!"}},{"$f":"MAX(AI40,AL40)","v":{"$error":"#DIV/0!"}},{"$f":"RANK(AW38,AW$38:AW$46,0)","v":{"$error":"#DIV/0!"}},{"$f":"AN40","v":0},{"$f":"RANK(AY38,AY$38:AY$46)","v":1},{"$f":"(AT38*1000)+(AV38*100)+(AX38*10)+(AZ38*1)","v":{"$error":"#DIV/0!"}},{"$f":"RANK(BA38,BA$38:BA$46)","v":{"$error":"#DIV/0!"}},{"$f":"BA38","v":{"$error":"#DIV/0!"}},{"$f":"RANK(BC38,BC$38:BC$46,1)","v":{"$error":"#DIV/0!"}},null,null,{"$f":"M30","v":{"$error":"#DIV/0!"}},null,"L",null,null,{"$f":"N47","v":0},null,{"$f":"O47","v":0},{"$f":"N41","v":0},null,{"$f":"O41","v":0},null,{"$f":"BL38+BO38","v":0},null,{"$f":"BN38+BQ38","v":0},{"$f":"CI38","v":{"$error":"#DIV/0!"}},null,{"$f":"BT39","v":0.02},{"$f":"RANK(BX38,BX$38:BX$46,0)","v":1},{"$f":"BU40","v":{"$error":"#DIV/0!"}},{"$f":"RANK(BZ38,BZ$38:BZ$46,0)","v":{"$error":"#DIV/0!"}},{"$f":"MAX(BN40,BQ40)","v":{"$error":"#DIV/0!"}},{"$f":"RANK(CB38,CB$38:CB$46)","v":{"$error":"#DIV/0!"}},{"$f":"BS40","v":0},{"$f":"RANK(CD38,CD$38:CD$46)","v":1},{"$f":"(BY38*1000)+(CA38*100)+(CC38*10)+(CE38*1)","v":{"$error":"#DIV/0!"}},{"$f":"RANK(CF38,CF$38:CF$46,1)","v":{"$error":"#DIV/0!"}},{"$f":"CF38","v":{"$error":"#DIV/0!"}},{"$f":"RANK(CH38,CH$38:CH$46,1)","v":{"$error":"#DIV/0!"}}]
[null,null,null,null,null,null,null,null,null,null,null,"2ème des poules A-B-C de la phase 1",null,null,null,null,null,null,null,null,null,null,null,null,null,null,null,null,null,null,null,null,null,{"$f":"IF(AI38<1,0.01,IF(AG38>AD41,2,IF(AG38=AD41,1,0)))","v":0.01},null,null,{"$f":"IF(AL38<1,0.01,IF(AJ38>AD44,2,IF(AJ38=AD44,1,0)))","v":0.01},null,null,null,{"$f":"AH39+AK39","v":0.02},null,null,null,null,null,null,null,null,null,null,null,null,null,null,null,null,null,null,null,null,null,null,null,{"$f":"IF(BN38<1,0.01,IF(BL38>BI41,2,IF(BL38=BI41,1,0)))","v":0.01},null,null,{"$f":"IF(BQ38<1,0.01,IF(BO38>BI44,2,IF(BO38=BI44,1,0)))","v":0.01},null,null,null,{"$f":"BM39+BP39","v":0.02}]
[null,null,null,"Pts","Rep","Série",null,null,null,null,null,null,null,"Pts","Rep","Série",null,null,null,null,null,null,null,null,null,null,null,null,null,null,null,null,{"$f":"F47","v":0},null,{"$f":"AG38/AI38","v":{"$error":"#DIV/0!"}},{"$f":"F41","v":0},null,{"$f":"AJ38/AL38","v":{"$error":"#DIV/0!"}},null,{"$f":"MAX(AG40,AJ40)","v":0},null,{"$f":"AN38/AP38","v":{"$error":"#DIV/0!"}},null,null,null,null,null,null,null,null,null,null,null,null,null,null,null,null,null,null,null,null,null,{"$f":"P47","v":0},null,{"$f":"BL38/BN38","v":{"$error":"#DIV/0!"}},{"$f":"P41","v":0},null,{"$f":"BO38/BQ38","v":{"$error":"#DIV/0!"}},null,{"$f":"MAX(BL40,BO40)","v":0},null,{"$f":"BS38/BU38","v":{"$error":"#DIV/0!"}}]
[null,"Tour",{"$f":"C30","v":0},null,null,null,null,null,null,null,null,"Tour 1",{"$f":"M30","v":{"$error":"#DIV/0!"}},null,null,null,null,null,null,null,null,null,null,null,null,null,null,{"$f":"C31","v":0},null,{"$f":"D48","v":0},null,{"$f":"E47","v":0},"M",null,null,{"$f":"D44","v":0},null,{"$f":"E44","v":0},null,{"$f":"AD41+AJ41","v":0},null,{"$f":"AF41+AL41","v":0},{"$f":"BD41","v":{"$error":"#DIV/0!"}},null,{"$f":"AO42","v":0.02},{"$f":"RANK(AS41,AS$38:AS$46,0)","v":1},{"$f":"AP43","v":{"$error":"#DIV/0!"}},{"$f":"RANK(AU41,AU$38:AU$46,0)","v":{"$error":"#DIV/0!"}},{"$f":"MAX(AF43,AL43)","v":{"$error":"#DIV/0!"}},{"$f":"RANK(AW41,AW$38:AW$46,0)","v":{"$error":"#DIV/0!"}},{"$f":"AN43","v":0},{"$f":"RANK(AY41,AY$38:AY$46)","v":1},{"$f":"(AT41*1000)+(AV41*100)+(AX41*10)+(AZ41*1)","v":{"$error":"#DIV/0!"}},{"$f":"RANK(BA41,BA$38:BA$46)","v":{"$error":"#DIV/0!"}},{"$f":"BA41","v":{"$error":"#DIV/0!"}},{"$f":"RANK(BC41,BC$38:BC$46,1)","v":{"$error":"#DIV/0!"}},null,null,{"$f":"M31","v":{"$error":"#DIV/0!"}},null,{"$f":"N48","v":0},null,{"$f":"O47","v":0},"M",null,null,{"$f":"N44","v":0},null,{"$f":"O44","v":0},null,{"$f":"BI41+BO41","v":0},null,{"$f":"BK41+BQ41","v":0},{"$f":"CI41","v":{"$error":"#DIV/0!"}},null,{"$f":"BT42","v":0.02},{"$f":"RANK(BX41,BX$38:BX$46,0)","v":1},{"$f":"BU43","v":{"$error":"#DIV/0!"}},{"$f":"RANK(BZ41,BZ$38:BZ$46,0)","v":{"$error":"#DIV/0!"}},{"$f":"MAX(BK43,BQ43)","v":{"$error":"#DIV/0!"}},{"$f":"RANK(CB41,CB$38:CB$46)","v":{"$error":"#DIV/0!"}},{"$f":"BS43","v":0},{"$f":"RANK(CD41,CD$38:CD$46)","v":1},{"$f":"(BY41*1000)+(CA41*100)+(CC41*10)+(CE41*1)","v":{"$error":"#DIV/0!"}},{"$f":"RANK(CF41,CF$38:CF$46,1)","v":{"$error":"#DIV/0!"}},{"$f":"CF41","v":{"$error":"#DIV/0!"}},{"$f":"RANK(CH41,CH$38:CH$46,1)","v":{"$error":"#DIV/0!"}}]
[null,null,{"$f":"C32","v":0},null,null,null,null,null,null,null,null,null,{"$f":"M32","v":{"$error":"#DIV/0!"}},null,null,null,null,null,null,null,null,null,null,null,null,null,null,null,null,null,{"$f":"IF(AI38>0,2-AH39,0.01)","v":0.01},null,null,null,null,null,{"$f":"IF(AL41<1,0.01,IF(AJ41>AG44,2,IF(AJ41=AG44,1,0)))","v":0.01},null,null,null,{"$f":"AE42+AK42","v":0.02},null,null,null,null,null,null,null,null,null,null,null,null,null,null,null,null,null,null,null,null,{"$f":"IF(BK41<1,0.01,IF(BI41>BL38,2,IF(BI41=BL38,1,0)))","v":0.01},null,null,null,null,null,{"$f":"IF(BQ41<1,0.01,IF(BO41>BL44,2,IF(BO41=BL44,1,0)))","v":0.01},null,null,null,{"$f":"BJ42+BP42","v":0.02}]
[null,null,null,null,null,null,null,null,null,null,null,null,null,null,null,null,null,null,null,null,null,null,null,null,null,null,null,null,null,{"$f":"F48","v":0},null,{"$f":"AD41/AF41","v":{"$error":"#DIV/0!"}},null,null,null,{"$f":"F44","v":0},null,{"$f":"AJ41/AL41","v":{"$error":"#DIV/0!"}},null,{"$f":"MAX(AD43,AJ43)","v":0},null,{"$f":"AN41/AP41","v":{"$error":"#DIV/0!"}},null,null,null,null,null,null,null,null,null,null,null,null,null,null,null,null,null,null,{"$f":"P48","v":0},null,{"$f":"BI41/BK41","v":{"$error":"#DIV/0!"}},null,null,null,{"$f":"P44","v":0},null,{"$f":"BO41/BQ41","v":{"$error":"#DIV/0!"}},null,{"$f":"MAX(BI43,BO43)","v":0},null,{"$f":"BS41/BU41","v":{"$error":"#DIV/0!"}}]
[null,"Tour 2",{"$f":"C31","v":0},null,null,null,null,null,null,null,null,"Tour 2",{"$f":"M31","v":{"$error":"#DIV/0!"}},null,null,null,null,null,null,null,null,null,null,null,null,null,null,{"$f":"C32","v":0},null,{"$f":"D42","v":0},null,{"$f":"E41","v":0},{"$f":"D45","v":0},null,{"$f":"E44","v":0},"B",null,null,null,{"$f":"AD44+AG44","v":0},null,{"$f":"AF44+AI44","v":0},{"$f":"BD44","v":{"$error":"#DIV/0!"}},null,{"$f":"AO45","v":0.02},{"$f":"RANK(AS44,AS$38:AS$46,0)","v":1},{"$f":"AP46","v":{"$error":"#DIV/0!"}},{"$f":"RANK(AU44,AU$38:AU$46,0)","v":{"$error":"#DIV/0!"}},{"$f":"MAX(AF46,AI46)","v":{"$error":"#DIV/0!"}},{"$f":"RANK(AW44,AW$38:AW$46,0)","v":{"$error":"#DIV/0!"}},{"$f":"AN46","v":0},{"$f":"RANK(AY44,AY$38:AY$46)","v":1},{"$f":"(AT44*1000)+(AV44*100)+(AX44*10)+(AZ44*1)","v":{"$error":"#DIV/0!"}},{"$f":"RANK(BA44,BA$38:BA$46)","v":{"$error":"#DIV/0!"}},{"$f":"BA44","v":{"$error":"#DIV/0!"}},{"$f":"RANK(BC44,BC$38:BC$46,1)","v":{"$error":"#DIV/0!"}},null,null,{"$f":"M32","v":{"$error":"#DIV/0!"}},null,{"$f":"N42","v":0},null,{"$f":"O41","v":0},{"$f":"N45","v":0},null,{"$f":"O44","v":0},"B",null,null,null,{"$f":"BI44+BL44","v":0},null,{"$f":"BK44+BN44","v":0},{"$f":"CI44","v":{"$error":"#DIV/0!"}},null,{"$f":"BT45","v":0.02},{"$f":"RANK(BX44,BX$38:BX$46,0)","v":1},{"$f":"BU46","v":{"$error":"#DIV/0!"}},{"$f":"RANK(BZ44,BZ$38:BZ$46,0)","v":{"$error":"#DIV/0!"}},{"$f":"MAX(BK46,BN46)","v":{"$error":"#DIV/0!"}},{"$f":"RANK(CB44,CB$38:CB$46)","v":{"$error":"#DIV/0!"}},{"$f":"BS46","v":0},{"$f":"RANK(CD44,CD$38:CD$46)","v":1},{"$f":"(BY44*1000)+(CA44*100)+(CC44*10)+(CE44*1)","v":{"$error":"#DIV/0!"}},{"$f":"RANK(CF44,CF$38:CF$46,1)","v":{"$error":"#DIV/0!"}},{"$f":"CF44","v":{"$error":"#DIV/0!"}},{"$f":"RANK(CH44,CH$38:CH$46,1)","v":{"$error":"#DIV/0!"}}]
[null,null,{"$f":"C32","v":0},null,null,null,null,null,null,null,null,null,{"$f":"M32","v":{"$error":"#DIV/0!"}},null,null,null,null,null,null,null,null,null,null,null,null,null,null,null,null,null,{"$f":"IF(AL38>0,2-AK39,0.01)","v":0.01},null,null,{"$f":"IF(AL41>0,2-AK42,0.01)","v":0.01},null,null,null,null,null,null,{"$f":"AE45+AH45","v":0.02},null,null,null,null,null,null,null,null,null,null,null,null,null,null,null,null,null,null,null,null,{"$f":"IF(BK44<1,0.01,IF(BI44>BO38,2,IF(BI44=BO38,1,0)))","v":0.01},null,null,{"$f":"IF(BN44<1,0.01,IF(BL44>BO41,2,IF(BL44=BO41,1,0)))","v":0.01},null,null,null,null,null,null,{"$f":"BJ45+BM45","v":0.02}]
[null,null,null,null,null,null,null,null,null,null,null,null,null,null,null,null,null,null,null,null,null,null,null,null,null,null,null,null,null,{"$f":"F42","v":0},null,{"$f":"AD44/AF44","v":{"$error":"#DIV/0!"}},{"$f":"F45","v":0},null,{"$f":"AG44/AI44","v":{"$error":"#DIV/0!"}},null,null,null,null,{"$f":"MAX(AD46,AG46)","v":0},null,{"$f":"AN44/AP44","v":{"$error":"#DIV/0!"}},null,null,null,null,null,null,null,null,null,null,null,null,null,null,null,null,null,null,{"$f":"P42","v":0},null,{"$f":"BI44/BK44","v":{"$error":"#DIV/0!"}},{"$f":"P45","v":0},null,{"$f":"BL44/BN44","v":{"$error":"#DIV/0!"}},null,null,null,null,{"$f":"MAX(BI46,BL46)","v":0},null,{"$f":"BS44/BU44","v":{"$error":"#DIV/0!"}}]
[null,"Tour 3",{"$f":"C30","v":0},null,null,null,null,null,null,null,null,"Tour 3",{"$f":"M30","v":{"$error":"#DIV/0!"}}]
[null,null,{"$f":"C31","v":0},null,null,null,null,null,null,null,null,null,{"$f":"M31","v":{"$error":"#DIV/0!"}},null,null,null,null,null,null,null,null,null,null,null,null,null,null,null,null,"Pas de prolongation en cas de match nul.",null,null,null,null,null,null,null,null,null,null,null,null,null,null,null,null,null,null,null,null,null,null,null,null,null,null,null,null,null,null,"Pas de prolongation en cas de match nul."]
[]
[null,"Joueur 1",{"$f":"'Saisie des joueurs'!L20","v":0},null,null,null,null,null,null,null,null,"Joueur 1",{"$f":"IF(AQ18=3,AB18,IF(AQ21=3,AB21,IF(AQ24=3,AB24)))","v":{"$error":"#DIV/0!"}}]
[null,"Joueur 2",{"$f":"'Saisie des joueurs'!L21","v":0},null,null,null,null,null,null,null,null,"Joueur 2",{"$f":"IF(AQ38=3,AB38,IF(AQ41=3,AB41,IF(AQ44=3,AB44,)))","v":{"$error":"#DIV/0!"}}]
[null,"Joueur 3",{"$f":"'Saisie des joueurs'!L26","v":0},null,null,null,null,null,null,null,null,"Joueur 3",{"$f":"IF(AQ60=3,AB60,IF(AQ63=3,AB63,IF(AQ66=3,AB66,)))","v":{"$error":"#DIV/0!"}}]
[]
[]
[]
[null,"SAISIE DES RESULTATS",null,null,null,null,null,null,null,null,null,"SAISIE DES RESULTATS",null,null,null,null,null,null,null,null,null,null,null,null,null,null,null,null,null,{"$f":"C50","v":0},null,null,{"$f":"C51","v":0},null,null,{"$f":"C52","v":0},null,null,null,"TOTAUX",null,null,"CLASSEMENT",null,null,null,null,null,null,null,null,null,null,null,null,null,null,null,null,null,{"$f":"M50","v":{"$error":"#DIV/0!"}},null,null,{"$f":"M51","v":{"$error":"#DIV/0!"}},null,null,{"$f":"M52","v":{"$error":"#DIV/0!"}},null,null,null,"TOTAUX",null,null,"CLASSEMENT"]
[]
[null,null,null,null,null,null,null,null,null,null,null,null,null,null,null,null,null,null,null,null,null,null,null,null,null,null,null,null,null,null,null,null,null,null,null,null,null,null,null,null,null,null,null,null,"Classement",null,"Classement",null,"Classement",null,"Classement",null,"Classement",null,"GENERAL","RANG",null,null,null,null,null,null,null,null,null,null,null,null,null,null,null,null,null,null,null,"Classement",null,"Classement",null,"Classement",null,"Classement",null,"Classement",null,"GENERAL","RANG"]
[null,"PHASE 1 - POULE C",null,null,null,null,null,null,null,null,null,"PHASE 2 - POULE C",null,null,null,null,null,null,null,null,null,null,null,null,null,null,null,null,null,null,null,null,null,null,null,null,null,null,null,null,null,null,null,null,"Point-Match","CLS-M","Moy-Gen","CLS-G","Moy-Part","CLS-P","M-Series","CLS-S","MGPS","CLS","CLS",null,null,null,null,null,null,null,null,null,null,null,null,null,null,null,null,null,null,null,null,"Point-Match","CLS-M","Moy-Gen","CLS-G","Moy-Part","CLS-P","M-Series","CLS-S","MGPS","CLS","CLS"]
[null,null,null,null,null,null,null,null,null,null,null,null,null,null,null,null,null,null,null,null,null,null,null,null,null,null,null,{"$f":"C50","v":0},null,"L",null,null,{"$f":"D69","v":0},null,{"$f":"E69","v":0},{"$f":"D63","v":0},null,{"$f":"E63","v":0},null,{"$f":"AG60+AJ60","v":0},null,{"$f":"AI60+AL60","v":0},{"$f":"BD60","v":{"$error":"#DIV/0!"}},null,{"$f":"AO61","v":0.02},{"$f":"RANK(AS60,AS$60:AS$68,0)","v":1},{"$f":"AP62","v":{"$error":"#DIV/0!"}},{"$f":"RANK(AU60,AU$60:AU$68,0)","v":{"$error":"#DIV/0!"}},{"$f":"MAX(AI62,AL62)","v":{"$error":"#DIV/0!"}},{"$f":"RANK(AW60,AW$60:AW$68,0)","v":{"$error":"#DIV/0!"}},{"$f":"AN62","v":0},{"$f":"RANK(AY60,AY$60:AY$68)","v":1},{"$f":"(AT60*1000)+(AV60*100)+(AX60*10)+(AZ60*1)","v":{"$error":"#DIV/0!"}},{"$f":"RANK(BA60,BA$60:BA$68)","v":{"$error":"#DIV/0!"}},{"$f":"BA60","v":{"$error":"#DIV/0!"}},{"$f":"RANK(BC60,BC60:BC$68,1)","v":{"$error":"#DIV/0!"}},null,null,{"$f":"M50","v":{"$error":"#DIV/0!"}},null,"L",null,null,{"$f":"N69","v":0},null,{"$f":"O69","v":0},{"$f":"N63","v":0},null,{"$f":"O63","v":0},null,{"$f":"BL60+BO60","v":0},null,{"$f":"BN60+BQ60","v":0},{"$f":"CI60","v":{"$error":"#DIV/0!"}},null,{"$f":"BT61","v":0.02},{"$f":"RANK(BX60,BX$60:BX$68,0)","v":1},{"$f":"BU62","v":{"$error":"#DIV/0!"}},{"$f":"RANK(BZ60,BZ$60:BZ$68,0)","v":{"$error":"#DIV/0!"}},{"$f":"MAX(BN62,BQ62)","v":{"$error":"#DIV/0!"}},{"$f":"RANK(CB60,CB$60:CB$68,0)","v":{"$error":"#DIV/0!"}},{"$f":"BS62","v":0},{"$f":"RANK(CD60,CD$60:CD$68)","v":1},{"$f":"(BY60*1000)+(CA60*100)+(CC60*10)+(CE60*1)","v":{"$error":"#DIV/0!"}},{"$f":"RANK(CF60,CF$60:CF$68)","v":{"$error":"#DIV/0!"}},{"$f":"CF60","v":{"$error":"#DIV/0!"}},{"$f":"RANK(CH60,CH60:CH$68,1)","v":{"$error":"#DIV/0!"}}]
[null,null,null,null,null,null,null,null,null,null,null,"3ème des poules A-B-C de la phase 1",null,null,null,null,null,null,null,null,null,null,null,null,null,null,null,null,null,null,null,null,null,{"$f":"IF(AI60<1,0.01,IF(AG60>AD63,2,IF(AG60=AD63,1,0)))","v":0.01},null,null,{"$f":"IF(AL60<1,0.01,IF(AJ60>AD66,2,IF(AJ60=AD66,1,0)))","v":0.01},null,null,null,{"$f":"AH61+AK61","v":0.02},null,null,null,null,null,null,null,null,null,null,null,null,null,null,null,null,null,null,null,null,null,null,null,{"$f":"IF(BN60<1,0.01,IF(BL60>BI63,2,IF(BL60=BI63,1,0)))","v":0.01},null,null,{"$f":"IF(BQ60<1,0.01,IF(BO60>BI66,2,IF(BO60=BI66,1,0)))","v":0.01},null,null,null,{"$f":"BM61+BP61","v":0.02}]
[null,null,null,"Pts","Rep","Série",null,null,null,null,null,null,null,"Pts","Rep","Série",null,null,null,null,null,null,null,null,null,null,null,null,null,null,null,null,{"$f":"F69","v":0},null,{"$f":"AG60/AI60","v":{"$error":"#DIV/0!"}},{"$f":"F63","v":0},null,{"$f":"AJ60/AL60","v":{"$error":"#DIV/0!"}},null,{"$f":"MAX(AG62,AJ62)","v":0},null,{"$f":"AN60/AP60","v":{"$error":"#DIV/0!"}},null,null,null,null,null,null,null,null,null,null,null,null,null,null,null,null,null,null,null,null,null,{"$f":"P69","v":0},null,{"$f":"BL60/BN60","v":{"$error":"#DIV/0!"}},{"$f":"P63","v":0},null,{"$f":"BO60/BQ60","v":{"$error":"#DIV/0!"}},null,{"$f":"MAX(BL62,BO62)","v":0},null,{"$f":"BS60/BU60","v":{"$error":"#DIV/0!"}}]
[null,"Tour 1",{"$f":"C50","v":0},null,null,null,null,null,null,null,null,"Tour 1",{"$f":"M50","v":{"$error":"#DIV/0!"}},null,null,null,null,null,null,null,null,null,null,null,null,null,null,{"$f":"C51","v":0},null,{"$f":"D70","v":0},null,{"$f":"E69","v":0},"M",null,null,{"$f":"D66","v":0},null,{"$f":"E66","v":0},null,{"$f":"AD63+AJ63","v":0},null,{"$f":"AF63+AL63","v":0},{"$f":"BD63","v":{"$error":"#DIV/0!"}},null,{"$f":"AO64","v":0.02},{"$f":"RANK(AS63,AS$60:AS$68,0)","v":1},{"$f":"AP65","v":{"$error":"#DIV/0!"}},{"$f":"RANK(AU63,AU$60:AU$68,0)","v":{"$error":"#DIV/0!"}},{"$f":"MAX(AF65,AL65)","v":{"$error":"#DIV/0!"}},{"$f":"RANK(AW63,AW$60:AW$68,0)","v":{"$error":"#DIV/0!"}},{"$f":"AN65","v":0},{"$f":"RANK(AY63,AY$60:AY$68)","v":1},{"$f":"(AT63*1000)+(AV63*100)+(AX63*10)+(AZ63*1)","v":{"$error":"#DIV/0!"}},{"$f":"RANK(BA63,BA$60:BA$68)","v":{"$error":"#DIV/0!"}},{"$f":"BA63","v":{"$error":"#DIV/0!"}},{"$f":"RANK(BC63,BC60:BC$68,1)","v":{"$error":"#DIV/0!"}},null,null,{"$f":"M51","v":{"$error":"#DIV/0!"}},null,{"$f":"N70","v":0},null,{"$f":"O69","v":0},"M",null,null,{"$f":"N66","v":0},null,{"$f":"O66","v":0},null,{"$f":"BI63+BO63","v":0},null,{"$f":"BK63+BQ63","v":0},{"$f":"CI63","v":{"$error":"#DIV/0!"}},null,{"$f":"BT64","v":0.02},{"$f":"RANK(BX63,BX$60:BX$68,0)","v":1},{"$f":"BU65","v":{"$error":"#DIV/0!"}},{"$f":"RANK(BZ63,BZ$60:BZ$68,0)","v":{"$error":"#DIV/0!"}},{"$f":"MAX(BK65,BQ65)","v":{"$error":"#DIV/0!"}},{"$f":"RANK(CB63,CB$60:CB$68,0)","v":{"$error":"#DIV/0!"}},{"$f":"BS65","v":0},{"$f":"RANK(CD63,CD$60:CD$68)","v":1},{"$f":"(BY63*1000)+(CA63*100)+(CC63*10)+(CE63*1)","v":{"$error":"#DIV/0!"}},{"$f":"RANK(CF63,CF$60:CF$68)","v":{"$error":"#DIV/0!"}},{"$f":"CF63","v":{"$error":"#DIV/0!"}},{"$f":"RANK(CH63,CH60:CH$68,1)","v":{"$error":"#DIV/0!"}}]
[null,null,{"$f":"C52","v":0},null,null,null,null,null,null,null,null,null,{"$f":"M52","v":{"$error":"#DIV/0!"}},null,null,null,null,null,null,null,null,null,null,null,null,null,null,null,null,null,{"$f":"IF(AI60>0,2-AH61,0.01)","v":0.01},null,null,null,null,null,{"$f":"IF(AL63<1,0.01,IF(AJ63>AG66,2,IF(AJ63=AG66,1,0)))","v":0.01},null,null,null,{"$f":"AE64+AK64","v":0.02},null,null,null,null,null,null,null,null,null,null,null,null,null,null,null,null,null,null,null,null,{"$f":"IF(BK63<1,0.01,IF(BI63>BL60,2,IF(BI63=BL60,1,0)))","v":0.01},null,null,null,null,null,{"$f":"IF(BQ63<1,0.01,IF(BO63>BL66,2,IF(BO63=BL66,1,0)))","v":0.01},null,null,null,{"$f":"BJ64+BP64","v":0.02}]
[null,null,null,null,null,null,null,null,null,null,null,null,null,null,null,null,null,null,null,null,null,null,null,null,null,null,null,null,null,{"$f":"F70","v":0},null,{"$f":"AD63/AF63","v":{"$error":"#DIV/0!"}},null,null,null,{"$f":"F66","v":0},null,{"$f":"AJ63/AL63","v":{"$error":"#DIV/0!"}},null,{"$f":"MAX(AD65,AJ65)","v":0},null,{"$f":"AN63/AP63","v":{"$error":"#DIV/0!"}},null,null,null,null,null,null,null,null,null,null,null,null,null,null,null,null,null,null,{"$f":"P70","v":0},null,{"$f":"BI63/BK63","v":{"$error":"#DIV/0!"}},null,null,null,{"$f":"P66","v":0},null,{"$f":"BO63/BQ63","v":{"$error":"#DIV/0!"}},null,{"$f":"MAX(BI65,BO65)","v":0},null,{"$f":"BS63/BU63","v":{"$error":"#DIV/0!"}}]
[null,"Tour 2",{"$f":"C51","v":0},null,null,null,null,null,null,null,null,"Tour 2",{"$f":"M51","v":{"$error":"#DIV/0!"}},null,null,null,null,null,null,null,null,null,null,null,null,null,null,{"$f":"C52","v":0},null,{"$f":"D64","v":0},null,{"$f":"E63","v":0},{"$f":"D67","v":0},null,{"$f":"E66","v":0},"B",null,null,null,{"$f":"AD66+AG66","v":0},null,{"$f":"AF66+AI66","v":0},{"$f":"BD66","v":{"$error":"#DIV/0!"}},null,{"$f":"AO67","v":0.02},{"$f":"RANK(AS66,AS$60:AS$68,0)","v":1},{"$f":"AP68","v":{"$error":"#DIV/0!"}},{"$f":"RANK(AU66,AU$60:AU$68,0)","v":{"$error":"#DIV/0!"}},{"$f":"MAX(AF68,AI68)","v":{"$error":"#DIV/0!"}},{"$f":"RANK(AW66,AW$60:AW$68,0)","v":{"$error":"#DIV/0!"}},{"$f":"AN68","v":0},{"$f":"RANK(AY66,AY$60:AY$68)","v":1},{"$f":"(AT66*1000)+(AV66*100)+(AX66*10)+(AZ66*1)","v":{"$error":"#DIV/0!"}},{"$f":"RANK(BA66,BA$60:BA$68)","v":{"$error":"#DIV/0!"}},{"$f":"BA66","v":{"$error":"#DIV/0!"}},{"$f":"RANK(BC66,BC60:BC$68,1)","v":{"$error":"#DIV/0!"}},null,null,{"$f":"M52","v":{"$error":"#DIV/0!"}},null,{"$f":"N64","v":0},null,{"$f":"O63","v":0},{"$f":"N67","v":0},null,{"$f":"O66","v":0},"B",null,null,null,{"$f":"BI66+BL66","v":0},null,{"$f":"BK66+BN66","v":0},{"$f":"CI66","v":{"$error":"#DIV/0!"}},null,{"$f":"BT67","v":0.02},{"$f":"RANK(BX66,BX$60:BX$68,0)","v":1},{"$f":"BU68","v":{"$error":"#DIV/0!"}},{"$f":"RANK(BZ66,BZ$60:BZ$68,0)","v":{"$error":"#DIV/0!"}},{"$f":"MAX(BK68,BN68)","v":{"$error":"#DIV/0!"}},{"$f":"RANK(CB66,CB$60:CB$68,0)","v":{"$error":"#DIV/0!"}},{"$f":"BS68","v":0},{"$f":"RANK(CD66,CD$60:CD$68)","v":1},{"$f":"(BY66*1000)+(CA66*100)+(CC66*10)+(CE66*1)","v":{"$error":"#DIV/0!"}},{"$f":"RANK(CF66,CF$60:CF$68)","v":{"$error":"#DIV/0!"}},{"$f":"CF66","v":{"$error":"#DIV/0!"}},{"$f":"RANK(CH66,CH60:CH$68,1)","v":{"$error":"#DIV/0!"}}]
[null,null,{"$f":"C52","v":0},null,null,null,null,null,null,null,null,null,{"$f":"M52","v":{"$error":"#DIV/0!"}},null,null,null,null,null,null,null,null,null,null,null,null,null,null,null,null,null,{"$f":"IF(AL60>0,2-AK61,0.01)","v":0.01},null,null,{"$f":"IF(AL63>0,2-AK64,0.01)","v":0.01},null,null,null,null,null,null,{"$f":"AE67+AH67","v":0.02},null,null,null,null,null,null,null,null,null,null,null,null,null,null,null,null,null,null,null,null,{"$f":"IF(BK66<1,0.01,IF(BI66>BO60,2,IF(BI66=BO60,1,0)))","v":0.01},null,null,{"$f":"IF(BN66<1,0.01,IF(BL66>BO63,2,IF(BL66=BO63,1,0)))","v":0.01},null,null,null,null,null,null,{"$f":"BJ67+BM67","v":0.02}]
[null,null,null,null,null,null,null,null,null,null,null,null,null,null,null,null,null,null,null,null,null,null,null,null,null,null,null,null,null,{"$f":"F64","v":0},null,{"$f":"AD66/AF66","v":{"$error":"#DIV/0!"}},{"$f":"F67","v":0},null,{"$f":"AG66/AI66","v":{"$error":"#DIV/0!"}},null,null,null,null,{"$f":"MAX(AD68,AG68)","v":0},null,{"$f":"AN66/AP66","v":{"$error":"#DIV/0!"}},null,null,null,null,null,null,null,null,null,null,null,null,null,null,null,null,null,null,{"$f":"P64","v":0},null,{"$f":"BI66/BK66","v":{"$error":"#DIV/0!"}},{"$f":"P67","v":0},null,{"$f":"BL66/BN66","v":{"$error":"#DIV/0!"}},null,null,null,null,{"$f":"MAX(BI68,BL68)","v":0},null,{"$f":"BS66/BU66","v":{"$error":"#DIV/0!"}}]
[null,"Tour 3",{"$f":"C50","v":0},null,null,null,null,null,null,null,null,"Tour 3",{"$f":"M50","v":{"$error":"#DIV/0!"}}]
[null,null,{"$f":"C51","v":0},null,null,null,null,null,null,null,null,null,{"$f":"M51","v":{"$error":"#DIV/0!"}},null,null,null,null,null,null,null,null,null,null,null,null,null,null,null,null,"Pas de prolongation en cas de match nul.",null,null,null,null,null,null,null,null,null,null,null,null,null,null,null,null,null,null,null,null,null,null,null,null,null,null,null,null,null,null,"Pas de prolongation en cas de match nul."]
[]
[]
[null,null,null,null,null,null,null,null,null,null,null,null,null,null,null,null,null,null,null,null,null,null,null,null,null,null,null,null,null,null,"PtsP1","PtsP2","Total","RepP1","RepP2","Total","Moy"]
[null,null,null,null,null,null,null,null,null,null,null,null,null,null,null,null,null,null,null,null,null,null,null,null,null,null,null,{"$f":"T18","v":{"$error":"#DIV/0!"}},null,null,{"$f":"IF(AB18=AB74,AN18,IF(AB21=AB74,AN21,IF(AB24=AB74,AN24,IF(AB38=AB74,AN38,IF(AB41=AB74,AN41,IF(AB44=AB74,AN44,IF(AB60=AB74,AN60,IF(AB63=AB74,AN63,IF(AB66=AB74,AN66)))))))))","v":{"$error":"#DIV/0!"}},{"$f":"IF(BG18=AB74,BS18,IF(BG21=AB74,BS21,IF(BG24=AB74,BS24,IF(BG38=AB74,BS38,IF(BG41=AB74,BS41,IF(BG44=AB74,BS44,IF(BG60=AB74,BS60,IF(BG63=AB74,BS63,IF(BG66=AB74,BS66)))))))))","v":{"$error":"#DIV/0!"}},{"$f":"AE74+AF74","v":{"$error":"#DIV/0!"}},{"$f":"IF(AB18=AB74,AP18,IF(AB21=AB74,AP21,IF(AB24=AB74,AP24,IF(AB38=AB74,AP38,IF(AB41=AB74,AP41,IF(AB44=AB74,AP44,IF(AB60=AB74,AP60,IF(AB63=AB74,AP63,IF(AB66=AB74,AP66)))))))))","v":{"$error":"#DIV/0!"}},{"$f":"IF(BG18=AB74,BU18,IF(BG21=AB74,BU21,IF(BG24=AB74,BU24,IF(BG38=AB74,BU38,IF(BG41=AB74,BU41,IF(BG44=AB74,BU44,IF(BG60=AB74,BU60,IF(BG63=AB74,BU63,IF(BG66=AB74,BU66)))))))))","v":{"$error":"#DIV/0!"}},{"$f":"AH74+AI74","v":{"$error":"#DIV/0!"}},{"$f":"AG74/AJ74","v":{"$error":"#DIV/0!"}}]
[null,null,null,null,null,null,null,null,null,null,null,null,null,null,null,null,null,null,null,null,null,null,null,null,null,null,null,{"$f":"T19","v":{"$error":"#DIV/0!"}},null,null,{"$f":"IF(AB18=AB75,AN18,IF(AB21=AB75,AN21,IF(AB24=AB75,AN24,IF(AB38=AB75,AN38,IF(AB41=AB75,AN41,IF(AB44=AB75,AN44,IF(AB60=AB75,AN60,IF(AB63=AB75,AN63,IF(AB66=AB75,AN66)))))))))","v":{"$error":"#DIV/0!"}},{"$f":"IF(BG18=AB75,BS18,IF(BG21=AB75,BS21,IF(BG24=AB75,BS24,IF(BG38=AB75,BS38,IF(BG41=AB75,BS41,IF(BG44=AB75,BS44,IF(BG60=AB75,BS60,IF(BG63=AB75,BS63,IF(BG66=AB75,BS66)))))))))","v":{"$error":"#DIV/0!"}},{"$f":"AE75+AF75","v":{"$error":"#DIV/0!"}},{"$f":"IF(AB18=AB75,AP18,IF(AB21=AB75,AP21,IF(AB24=AB75,AP24,IF(AB38=AB75,AP38,IF(AB41=AB75,AP41,IF(AB44=AB75,AP44,IF(AB60=AB75,AP60,IF(AB63=AB75,AP63,IF(AB66=AB75,AP66)))))))))","v":{"$error":"#DIV/0!"}},{"$f":"IF(BG18=AB75,BU18,IF(BG21=AB75,BU21,IF(BG24=AB75,BU24,IF(BG38=AB75,BU38,IF(BG41=AB75,BU41,IF(BG44=AB75,BU44,IF(BG60=AB75,BU60,IF(BG63=AB75,BU63,IF(BG66=AB75,BU66)))))))))","v":{"$error":"#DIV/0!"}},{"$f":"AH75+AI75","v":{"$error":"#DIV/0!"}},{"$f":"AG75/AJ75","v":{"$error":"#DIV/0!"}}]
[null,null,null,null,null,null,null,null,null,null,null,null,null,null,null,null,null,null,null,null,null,null,null,null,null,null,null,{"$error":"#DIV/0!"},null,null,{"$f":"IF(AB18=AB76,AN18,IF(AB21=AB76,AN21,IF(AB24=AB76,AN24,IF(AB38=AB76,AN38,IF(AB41=AB76,AN41,IF(AB44=AB76,AN44,IF(AB60=AB76,AN60,IF(AB63=AB76,AN63,IF(AB66=AB76,AN66)))))))))","v":{"$error":"#DIV/0!"}},{"$f":"IF(BG18=AB76,BS18,IF(BG21=AB76,BS21,IF(BG24=AB76,BS24,IF(BG38=AB76,BS38,IF(BG41=AB76,BS41,IF(BG44=AB76,BS44,IF(BG60=AB76,BS60,IF(BG63=AB76,BS63,IF(BG66=AB76,BS66)))))))))","v":{"$error":"#DIV/0!"}},{"$error":"#DIV/0!"},{"$f":"IF(AB18=AB76,AP18,IF(AB21=AB76,AP21,IF(AB24=AB76,AP24,IF(AB38=AB76,AP38,IF(AB41=AB76,AP41,IF(AB44=AB76,AP44,IF(AB60=AB76,AP60,IF(AB63=AB76,AP63,IF(AB66=AB76,AP66)))))))))","v":{"$error":"#DIV/0!"}},{"$f":"IF(BG18=AB76,BU18,IF(BG21=AB76,BU21,IF(BG24=AB76,BU24,IF(BG38=AB76,BU38,IF(BG41=AB76,BU41,IF(BG44=AB76,BU44,IF(BG60=AB76,BU60,IF(BG63=AB76,BU63,IF(BG66=AB76,BU66)))))))))","v":{"$error":"#DIV/0!"}},{"$error":"#DIV/0!"},{"$error":"#DIV/0!"}]
[null,null,null,null,null,null,null,null,null,null,null,null,null,null,null,null,null,null,null,null,null,null,null,null,null,null,null,{"$error":"#DIV/0!"},null,null,{"$f":"IF(AB18=AB77,AN18,IF(AB21=AB77,AN21,IF(AB24=AB77,AN24,IF(AB38=AB77,AN38,IF(AB41=AB77,AN41,IF(AB44=AB77,AN44,IF(AB60=AB77,AN60,IF(AB63=AB77,AN63,IF(AB66=AB77,AN66)))))))))","v":{"$error":"#DIV/0!"}},{"$f":"IF(BG18=AB77,BS18,IF(BG21=AB77,BS21,IF(BG24=AB77,BS24,IF(BG38=AB77,BS38,IF(BG41=AB77,BS41,IF(BG44=AB77,BS44,IF(BG60=AB77,BS60,IF(BG63=AB77,BS63,IF(BG66=AB77,BS66)))))))))","v":{"$error":"#DIV/0!"}},{"$error":"#DIV/0!"},{"$f":"IF(AB18=AB77,AP18,IF(AB21=AB77,AP21,IF(AB24=AB77,AP24,IF(AB38=AB77,AP38,IF(AB41=AB77,AP41,IF(AB44=AB77,AP44,IF(AB60=AB77,AP60,IF(AB63=AB77,AP63,IF(AB66=AB77,AP66)))))))))","v":{"$error":"#DIV/0!"}},{"$f":"IF(BG18=AB77,BU18,IF(BG21=AB77,BU21,IF(BG24=AB77,BU24,IF(BG38=AB77,BU38,IF(BG41=AB77,BU41,IF(BG44=AB77,BU44,IF(BG60=AB77,BU60,IF(BG63=AB77,BU63,IF(BG66=AB77,BU66)))))))))","v":{"$error":"#DIV/0!"}},{"$error":"#DIV/0!"},{"$error":"#DIV/0!"}]
[null,null,null,null,null,null,null,null,null,null,null,null,null,null,null,null,null,null,null,null,null,null,null,null,null,null,null,{"$error":"#DIV/0!"},null,null,{"$f":"IF(AB18=AB78,AN18,IF(AB21=AB78,AN21,IF(AB24=AB78,AN24,IF(AB38=AB78,AN38,IF(AB41=AB78,AN41,IF(AB44=AB78,AN44,IF(AB60=AB78,AN60,IF(AB63=AB78,AN63,IF(AB66=AB78,AN66)))))))))","v":{"$error":"#DIV/0!"}},{"$f":"IF(BG18=AB78,BS18,IF(BG21=AB78,BS21,IF(BG24=AB78,BS24,IF(BG38=AB78,BS38,IF(BG41=AB78,BS41,IF(BG44=AB78,BS44,IF(BG60=AB78,BS60,IF(BG63=AB78,BS63,IF(BG66=AB78,BS66)))))))))","v":{"$error":"#DIV/0!"}},{"$error":"#DIV/0!"},{"$f":"IF(AB18=AB78,AP18,IF(AB21=AB78,AP21,IF(AB24=AB78,AP24,IF(AB38=AB78,AP38,IF(AB41=AB78,AP41,IF(AB44=AB78,AP44,IF(AB60=AB78,AP60,IF(AB63=AB78,AP63,IF(AB66=AB78,AP66)))))))))","v":{"$error":"#DIV/0!"}},{"$f":"IF(BG18=AB78,BU18,IF(BG21=AB78,BU21,IF(BG24=AB78,BU24,IF(BG38=AB78,BU38,IF(BG41=AB78,BU41,IF(BG44=AB78,BU44,IF(BG60=AB78,BU60,IF(BG63=AB78,BU63,IF(BG66=AB78,BU66)))))))))","v":{"$error":"#DIV/0!"}},{"$error":"#DIV/0!"},{"$error":"#DIV/0!"}]
[null,null,null,null,null,null,null,null,null,null,null,null,null,null,null,null,null,null,null,null,null,null,null,null,null,null,null,{"$error":"#DIV/0!"},null,null,{"$f":"IF(AB18=AB79,AN18,IF(AB21=AB79,AN21,IF(AB24=AB79,AN24,IF(AB38=AB79,AN38,IF(AB41=AB79,AN41,IF(AB44=AB79,AN44,IF(AB60=AB79,AN60,IF(AB63=AB79,AN63,IF(AB66=AB79,AN66,)))))))))","v":{"$error":"#DIV/0!"}},{"$f":"IF(BG18=AB79,BS18,IF(BG21=AB79,BS21,IF(BG24=AB79,BS24,IF(BG38=AB79,BS38,IF(BG41=AB79,BS41,IF(BG44=AB79,BS44,IF(BG60=AB79,BS60,IF(BG63=AB79,BS63,IF(BG66=AB79,BS66)))))))))","v":{"$error":"#DIV/0!"}},{"$error":"#DIV/0!"},{"$f":"IF(AB18=AB79,AP18,IF(AB21=AB79,AP21,IF(AB24=AB79,AP24,IF(AB38=AB79,AP38,IF(AB41=AB79,AP41,IF(AB44=AB79,AP44,IF(AB60=AB79,AP60,IF(AB63=AB79,AP63,IF(AB66=AB79,AP66)))))))))","v":{"$error":"#DIV/0!"}},{"$f":"IF(BG18=AB79,BU18,IF(BG21=AB79,BU21,IF(BG24=AB79,BU24,IF(BG38=AB79,BU38,IF(BG41=AB79,BU41,IF(BG44=AB79,BU44,IF(BG60=AB79,BU60,IF(BG63=AB79,BU63,IF(BG66=AB79,BU66)))))))))","v":{"$error":"#DIV/0!"}},{"$error":"#DIV/0!"},{"$error":"#DIV/0!"}]
[null,null,null,null,null,null,null,null,null,null,null,null,null,null,null,null,null,null,null,null,null,null,null,null,null,null,null,{"$error":"#DIV/0!"},null,null,{"$f":"IF(AB18=AB80,AN18,IF(AB21=AB80,AN21,IF(AB24=AB80,AN24,IF(AB38=AB80,AN38,IF(AB41=AB80,AN41,IF(AB44=AB80,AN44,IF(AB60=AB80,AN60,IF(AB63=AB80,AN63,IF(AB66=AB80,AN66,)))))))))","v":{"$error":"#DIV/0!"}},{"$f":"IF(BG18=AB80,BS18,IF(BG21=AB80,BS21,IF(BG24=AB80,BS24,IF(BG38=AB80,BS38,IF(BG41=AB80,BS41,IF(BG44=AB80,BS44,IF(BG60=AB80,BS60,IF(BG63=AB80,BS63,IF(BG66=AB80,BS66)))))))))","v":{"$error":"#DIV/0!"}},{"$error":"#DIV/0!"},{"$f":"IF(AB18=AB80,AP18,IF(AB21=AB80,AP21,IF(AB24=AB80,AP24,IF(AB38=AB80,AP38,IF(AB41=AB80,AP41,IF(AB44=AB80,AP44,IF(AB60=AB80,AP60,IF(AB63=AB80,AP63,IF(AB66=AB80,AP66)))))))))","v":{"$error":"#DIV/0!"}},{"$f":"IF(BG18=AB80,BU18,IF(BG21=AB80,BU21,IF(BG24=AB80,BU24,IF(BG38=AB80,BU38,IF(BG41=AB80,BU41,IF(BG44=AB80,BU44,IF(BG60=AB80,BU60,IF(BG63=AB80,BU63,IF(BG66=AB80,BU66)))))))))","v":{"$error":"#DIV/0!"}},{"$error":"#DIV/0!"},{"$error":"#DIV/0!"}]
[null,null,null,null,null,null,null,null,null,null,null,null,null,null,null,null,null,null,null,null,null,null,null,null,null,null,null,{"$error":"#DIV/0!"},null,null,{"$f":"IF(AB18=AB81,AN18,IF(AB21=AB81,AN21,IF(AB24=AB81,AN24,IF(AB38=AB81,AN38,IF(AB41=AB81,AN41,IF(AB44=AB81,AN44,IF(AB60=AB81,AN60,IF(AB63=AB81,AN63,IF(AB66=AB81,AN66,)))))))))","v":{"$error":"#DIV/0!"}},{"$f":"IF(BG18=AB81,BS18,IF(BG21=AB81,BS21,IF(BG24=AB81,BS24,IF(BG38=AB81,BS38,IF(BG41=AB81,BS41,IF(BG44=AB81,BS44,IF(BG60=AB81,BS60,IF(BG63=AB81,BS63,IF(BG66=AB81,BS66)))))))))","v":{"$error":"#DIV/0!"}},{"$error":"#DIV/0!"},{"$f":"IF(AB18=AB81,AP18,IF(AB21=AB81,AP21,IF(AB24=AB81,AP24,IF(AB38=AB81,AP38,IF(AB41=AB81,AP41,IF(AB44=AB81,AP44,IF(AB60=AB81,AP60,IF(AB63=AB81,AP63,IF(AB66=AB81,AP66)))))))))","v":{"$error":"#DIV/0!"}},{"$f":"IF(BG18=AB81,BU18,IF(BG21=AB81,BU21,IF(BG24=AB81,BU24,IF(BG38=AB81,BU38,IF(BG41=AB81,BU41,IF(BG44=AB81,BU44,IF(BG60=AB81,BU60,IF(BG63=AB81,BU63,IF(BG66=AB81,BU66)))))))))","v":{"$error":"#DIV/0!"}},{"$error":"#DIV/0!"},{"$error":"#DIV/0!"}]
[null,null,null,null,null,null,null,null,null,null,null,null,null,null,null,null,null,null,null,null,null,null,null,null,null,null,null,{"$f":"T26","v":{"$error":"#DIV/0!"}},null,null,{"$f":"IF(AB18=AB82,AN18,IF(AB21=AB82,AN21,IF(AB24=AB82,AN24,IF(AB38=AB82,AN38,IF(AB41=AB82,AN41,IF(AB44=AB82,AN44,IF(AB60=AB82,AN60,IF(AB63=AB82,AN63,IF(AB66=AB82,AN66,)))))))))","v":{"$error":"#DIV/0!"}},{"$f":"IF(BG18=AB82,BS18,IF(BG21=AB82,BS21,IF(BG24=AB82,BS24,IF(BG38=AB82,BS38,IF(BG41=AB82,BS41,IF(BG44=AB82,BS44,IF(BG60=AB82,BS60,IF(BG63=AB82,BS63,IF(BG66=AB82,BS66)))))))))","v":{"$error":"#DIV/0!"}},{"$error":"#DIV/0!"},{"$f":"IF(AB18=AB82,AP18,IF(AB21=AB82,AP21,IF(AB24=AB82,AP24,IF(AB38=AB82,AP38,IF(AB41=AB82,AP41,IF(AB44=AB82,AP44,IF(AB60=AB82,AP60,IF(AB63=AB82,AP63,IF(AB66=AB82,AP66)))))))))","v":{"$error":"#DIV/0!"}},{"$f":"IF(BG18=AB82,BU18,IF(BG21=AB82,BU21,IF(BG24=AB82,BU24,IF(BG38=AB82,BU38,IF(BG41=AB82,BU41,IF(BG44=AB82,BU44,IF(BG60=AB82,BU60,IF(BG63=AB82,BU63,IF(BG66=AB82,BU66)))))))))","v":{"$error":"#DIV/0!"}},{"$error":"#DIV/0!"},{"$f":"AG82/AJ82","v":{"$error":"#DIV/0!"}}]

{"sheet":"10JOUEURS","index":21,"n_rows":105,"n_cols":93,"rows_kept":105,"cut":false,"hidden":true,"merged":[[28,37,28,38],[29,37,29,38],[30,37,30,38],[31,37,31,38],[47,37,47,38],[48,27,48,28],[48,37,48,38],[49,27,49,28],[49,37,49,38],[47,26,47,28],[33,32,36,34],[33,35,36,37],[77,79,79,79],[77,81,79,81],[77,82,79,82],[77,83,79,83],[77,84,79,84],[77,87,79,87],[77,88,79,88],[77,89,79,89],[80,27,82,28],[80,32,82,34],[80,38,82,40],[80,45,82,45],[80,47,82,47],[80,48,82,48],[80,49,82,49],[80,50,82,50],[80,51,82,51],[80,52,82,52],[80,53,82,53],[80,54,82,54],[80,55,82,55],[80,56,82,56],[80,57,82,57],[80,58,82,58],[77,29,79,31],[77,35,79,37],[77,45,79,45],[77,47,79,47],[77,48,79,48],[77,49,79,49],[77,50,79,50],[77,51,79,51],[77,52,79,52],[74,61,76,62],[75,47,75,48],[75,49,75,50],[75,51,75,52],[75,53,75,54],[75,55,75,56],[75,58,76,58],[71,61,73,62],[77,66,79,68],[77,53,79,53],[77,54,79,54],[77,55,79,55],[77,56,79,56],[77,57,79,57],[77,58,79,58],[77,61,79,62],[37,49,39,49],[40,49,42,49],[43,49,45,49],[58,52,60,52],[61,52,63,52],[56,51,56,52],[73,29,76,31],[73,32,76,34],[73,35,76,37],[73,38,76,40],[73,42,76,44],[73,45,76,45],[58,35,60,37],[50,37,50,38],[51,37,51,38],[61,91,63,91],[61,92,63,92],[61,86,63,86],[64,11,65,11],[64,14,65,14],[61,79,63,79],[61,81,63,81],[61,82,63,82],[61,83,63,83],[61,84,63,84],[61,85,63,85],[61,88,63,88],[61,87,63,87],[61,90,63,90],[61,38,63,40],[58,91,60,91],[58,92,60,92],[58,86,60,86],[59,11,60,12],[61,11,62,11],[61,14,62,14],[61,27,63,28],[61,32,63,34],[61,45,63,45],[61,47,63,47],[61,48,63,48],[61,49,63,49],[61,50,63,50],[61,51,63,51],[61,54,63,54],[61,53,63,53],[61,56,63,56],[61,55,63,55],[61,57,63,57],[61,58,63,58],[61,61,63,62],[61,66,63,68],[58,79,60,79],[61,89,63,89],[58,81,60,81],[58,82,60,82],[58,83,60,83],[58,84,60,84],[58,85,60,85],[58,88,60,88],[58,87,60,87],[58,90,60,90],[56,81,56,82],[56,83,56,84],[56,87,56,88],[56,89,56,90],[58,89,60,89],[56,92,57,92],[57,1,58,2],[57,11,58,12],[58,27,60,28],[58,29,60,31],[58,45,60,45],[58,47,60,47],[58,48,60,48],[58,49,60,49],[58,50,60,50],[58,51,60,51],[58,54,60,54],[58,53,60,53],[58,56,60,56],[58,55,60,55],[58,57,60,57],[58,58,60,58],[58,61,60,62],[58,63,60,65],[54,42,57,44],[54,45,57,45],[54,63,57,65],[54,66,57,68],[54,69,57,71],[49,2,49,5],[49,12,49,15],[50,2,50,5],[50,12,50,15],[51,2,51,5],[54,1,55,5],[54,11,55,15],[43,85,45,85],[43,84,45,84],[54,35,57,37],[54,76,57,78],[54,79,57,79],[55,27,57,28],[55,61,57,62],[56,47,56,48],[56,49,56,50],[56,53,56,54],[56,55,56,56],[56,58,57,58],[54,38,57,40],[50,27,50,28],[51,27,51,28],[40,61,42,62],[43,87,45,87],[43,86,45,86],[43,88,45,88],[43,89,45,89],[43,83,45,83],[46,1,47,1],[46,4,47,4],[46,11,47,11],[46,14,47,14],[43,55,45,55],[43,61,45,62],[43,69,45,71],[43,76,45,76],[43,78,45,78],[43,79,45,79],[43,80,45,80],[43,81,45,81],[43,82,45,82],[40,66,42,68],[40,76,42,76],[40,78,42,78],[40,79,42,79],[40,80,42,80],[37,87,39,87],[40,84,42,84],[40,87,42,87],[40,86,42,86],[40,88,42,88],[40,89,42,89],[40,83,42,83],[43,1,44,1],[43,4,44,4],[43,11,44,11],[43,14,44,14],[43,27,45,28],[43,35,45,37],[43,42,45,42],[43,44,45,44],[43,45,45,45],[43,46,45,46],[43,47,45,47],[43,48,45,48],[43,51,45,51],[43,50,45,50],[43,53,45,53],[43,52,45,52],[43,54,45,54],[40,81,42,81],[40,82,42,82],[40,85,42,85],[37,86,39,86],[37,79,39,79],[37,80,39,80],[37,81,39,81],[37,82,39,82],[37,85,39,85],[37,84,39,84],[37,88,39,88],[37,89,39,89],[37,83,39,83],[38,11,39,12],[40,1,41,1],[40,4,41,4],[40,11,41,11],[40,14,41,14],[40,27,42,28],[40,32,42,34],[40,42,42,42],[40,44,42,44],[40,45,42,45],[40,46,42,46],[40,47,42,47],[40,48,42,48],[40,51,42,51],[40,50,42,50],[40,53,42,53],[40,52,42,52],[40,54,42,54],[40,55,42,55],[37,76,39,76],[37,78,39,78],[35,78,35,79],[35,80,35,81],[35,84,35,85],[35,86,35,87],[35,89,36,89],[36,1,37,2],[36,11,37,12],[37,27,39,28],[37,29,39,31],[37,42,39,42],[37,44,39,44],[37,45,39,45],[37,46,39,46],[37,47,39,47],[37,48,39,48],[37,51,39,51],[37,50,39,50],[37,53,39,53],[37,52,39,52],[37,54,39,54],[37,55,39,55],[37,61,39,62],[37,63,39,65],[33,42,36,42],[33,39,36,41],[31,27,31,28],[33,63,36,65],[33,66,36,68],[33,69,36,71],[33,73,36,75],[33,76,36,76],[34,27,36,28],[34,61,36,62],[35,44,35,45],[35,46,35,47],[35,50,35,51],[35,52,35,53],[35,55,36,55],[35,48,35,49],[30,2,30,5],[30,12,30,15],[26,19,26,21],[31,2,31,5],[31,12,31,15],[32,2,32,5],[33,1,34,5],[33,11,34,15],[33,29,36,31],[27,26,27,28],[23,85,25,85],[23,84,25,84],[23,87,25,87],[23,86,25,86],[23,88,25,88],[23,89,25,89],[26,1,27,1],[26,4,27,4],[26,11,27,11],[26,14,27,14],[27,37,27,38],[23,53,25,53],[23,52,25,52],[23,54,25,54],[23,83,25,83],[24,19,24,21],[25,19,25,21],[23,55,25,55],[23,61,25,62],[23,69,25,71],[23,76,25,76],[23,78,25,78],[23,79,25,79],[23,80,25,80],[23,81,25,81],[23,82,25,82],[23,35,25,37],[23,42,25,42],[23,44,25,44],[23,45,25,45],[23,46,25,46],[23,47,25,47],[23,48,25,48],[23,49,25,49],[23,51,25,51],[23,50,25,50],[20,80,22,80],[20,81,22,81],[20,82,22,82],[20,85,22,85],[20,84,22,84],[20,87,22,87],[20,86,22,86],[20,88,22,88],[20,89,22,89],[20,83,22,83],[20,53,22,53],[20,52,22,52],[20,54,22,54],[20,55,22,55],[20,61,22,62],[20,66,22,68],[20,76,22,76],[20,78,22,78],[20,79,22,79],[20,42,22,42],[20,44,22,44],[20,45,22,45],[20,46,22,46],[20,47,22,47],[20,48,22,48],[20,49,22,49],[20,51,22,51],[20,50,22,50],[17,89,19,89],[17,83,19,83],[18,11,19,12],[18,19,18,21],[19,7,19,10],[19,19,19,21],[17,61,19,62],[17,63,19,65],[17,76,19,76],[17,78,19,78],[17,79,19,79],[17,80,19,80],[17,81,19,81],[17,82,19,82],[17,85,19,85],[15,89,16,89],[16,1,17,2],[16,11,17,12],[16,19,16,21],[17,19,17,21],[17,27,19,28],[17,29,19,31],[17,42,19,42],[17,44,19,44],[17,45,19,45],[17,46,19,46],[17,47,19,47],[17,48,19,48],[17,49,19,49],[17,51,19,51],[17,50,19,50],[17,53,19,53],[17,52,19,52],[17,54,19,54],[17,55,19,55],[17,84,19,84],[17,87,19,87],[17,86,19,86],[17,88,19,88],[14,61,16,62],[15,44,15,45],[15,46,15,47],[15,48,15,49],[15,50,15,51],[15,52,15,53],[15,55,16,55],[13,35,16,37],[13,39,16,41],[13,42,16,42],[1,12,3,24],[2,1,3,2],[2,3,3,9],[5,1,6,2],[5,3,6,9],[5,12,5,15],[5,17,5,18],[13,29,16,31],[13,32,16,34],[6,12,6,15],[6,17,6,18],[9,12,9,15],[10,2,10,5],[10,12,10,15],[11,2,11,5],[11,12,11,15],[13,1,14,5],[13,11,14,15],[13,18,14,24],[9,2,9,5],[14,27,16,28],[16,16,16,17],[5,22,5,23],[6,22,6,23],[20,1,21,1],[20,4,21,4],[20,7,20,10],[20,11,21,11],[20,14,21,14],[20,19,20,21],[20,27,22,28],[54,29,57,31],[54,32,57,34],[20,32,22,34],[21,7,21,10],[21,19,21,21],[22,19,22,21],[23,1,24,1],[23,4,24,4],[23,11,24,11],[23,14,24,14],[23,19,23,21],[23,27,25,28],[28,27,28,28],[29,27,29,28],[30,27,30,28],[29,2,29,5],[29,12,29,15],[61,1,62,1],[61,4,62,4],[64,1,65,1],[64,4,65,4],[95,27,95,29],[96,27,96,29],[97,27,97,29],[98,27,98,29],[99,27,99,29],[68,2,68,5],[68,12,68,15],[69,2,69,5],[69,12,69,15],[71,1,72,5],[71,11,72,15],[74,1,75,2],[74,11,75,12],[76,11,77,12],[78,1,79,1],[78,4,79,4],[78,11,79,11],[78,14,79,14],[74,27,76,28],[77,27,79,28],[100,27,100,29],[101,27,101,29],[102,27,102,29],[103,27,103,29],[104,27,104,29],[81,1,82,1],[81,4,82,4],[81,11,82,11],[81,14,82,14],[15,82,15,83],[35,82,35,83],[54,72,57,74],[58,69,60,71],[61,72,63,74],[56,85,56,86],[70,63,73,65],[70,66,73,68],[70,69,73,71],[70,72,73,74],[70,76,73,78],[70,79,73,79],[72,81,72,82],[72,83,72,84],[72,85,72,86],[13,63,16,65],[13,66,16,68],[13,69,16,71],[13,73,16,75],[13,76,16,76],[15,78,15,79],[15,80,15,81],[15,84,15,85],[15,86,15,87],[77,90,79,90],[77,91,79,91],[77,92,79,92],[72,87,72,88],[72,89,72,90],[72,92,73,92],[74,63,76,65],[74,69,76,71],[74,79,76,79],[74,81,76,81],[74,82,76,82],[74,83,76,83],[74,84,76,84],[74,85,76,85],[74,86,76,86],[74,87,76,87],[74,88,76,88],[74,89,76,89],[74,90,76,90],[74,91,76,91],[74,92,76,92],[77,72,79,74],[77,85,79,85],[77,86,79,86]]}
[]
[null,null,null,null,null,null,null,null,null,null,null,null,"LIGUE MÉDITERRANÉENNE DE BILLARD"]
[null,"CLUB ORGANISATEUR"]
[]
[]
[null,"DIRECTEUR DE JEU :",null,null,null,null,null,null,null,null,null,null,"Compétition",null,null,null,null,"Mode de jeu",null,null,"Categorie",null,"Distance"]
[]
[]
[]
[null,"Joueur 1",{"$f":"'Saisie des joueurs'!L18","v":0},null,null,null,null,null,null,null,null,"Joueur 1",{"$f":"IF(AN29=1,AB29,IF(AN30=1,AB30,IF(AN31=1,AB31,IF(AN32=1,AB32,))))","v":{"$error":"#DIV/0!"}}]
[null,"Joueur 2",{"$f":"'Saisie des joueurs'!L25","v":0},null,null,null,null,null,null,null,null,"Joueur 2",{"$f":"IF(AN29=2,AB29,IF(AN30=2,AB30,IF(AN31=2,AB31,IF(AN32=2,AB32,))))","v":{"$error":"#DIV/0!"}}]
[null,"Joueur 3",{"$f":"'Saisie des joueurs'!L26","v":0},null,null,null,null,null,null,null,null,"Joueur 3",{"$f":"IF(AN29=3,AB29,IF(AN30=3,AB30,IF(AN31=3,AB31,IF(AN32=3,AB32,))))","v":{"$error":"#DIV/0!"}}]
[]
[null,"SAISIE DES RESULTATS",null,null,null,null,null,null,null,null,null,"SAISIE DES RESULTATS",null,null,null,null,null,null,"CLASSEMENT DU TOURNOI",null,null,null,null,null,null,null,null,null,null,{"$f":"C10","v":0},null,null,{"$f":"C11","v":0},null,null,{"$f":"C12","v":0},null,null,null,"TOTAUX",null,null,"CLASSEMENT",null,null,null,null,null,null,null,null,null,null,null,null,null,null,null,null,null,null,null,null,{"$f":"M10","v":{"$error":"#DIV/0!"}},null,null,{"$f":"M11","v":{"$error":"#DIV/0!"}},null,null,{"$f":"M12","v":{"$error":"#DIV/0!"}},null,null,null,"TOTAUX",null,null,"CLASSEMENT"]
[]
[null,null,null,null,null,null,null,null,null,null,null,null,null,null,null,null,null,null,null,null,null,null,null,null,null,null,null,null,null,null,null,null,null,null,null,null,null,null,null,null,null,null,null,null,"Classement",null,"Classement",null,"Classement",null,"Classement",null,"Classement",null,"GENERAL","RANG",null,null,null,null,null,null,null,null,null,null,null,null,null,null,null,null,null,null,null,null,null,null,"Classement",null,"Classement",null,"Classement",null,"Classement",null,"Classement",null,"GENERAL","RANG"]
[null,"PHASE 1 - POULE A",null,null,null,null,null,null,null,null,null,"PHASE 5 - POULE A",null,null,null,null,"Pts Tournoi",null,null,"NOM",null,null,"Pts","Rep","Moy.",null,null,null,null,null,null,null,null,null,null,null,null,null,null,null,null,null,null,null,"Point-Match","CLS-M","Moy-Gen","CLS-G","Moy-Part","CLS-P","M-Series","CLS-S","MGPS","CLS","CLS",null,null,null,null,null,null,null,null,null,null,null,null,null,null,null,null,null,null,null,null,null,null,null,"Point-Match","CLS-M","Moy-Gen","CLS-G","Moy-Part","CLS-P","M-Series","CLS-S","MGPS","CLS","CLS"]
[null,null,null,null,null,null,null,null,null,null,null,null,null,null,null,null,null,120,1,{"$f":"IF(BY18=1,BJ18,IF(BY21=1,BJ21,IF(BY24=1,BJ24,)))","v":{"$error":"#DIV/0!"}},null,null,{"$f":"AG96","v":{"$error":"#DIV/0!"}},{"$f":"AJ96","v":{"$error":"#DIV/0!"}},{"$f":"W18/X18","v":{"$error":"#DIV/0!"}},null,null,{"$f":"C10","v":0},null,"L",null,null,{"$f":"D27","v":0},null,{"$f":"E27","v":0},{"$f":"D21","v":0},null,{"$f":"E21","v":0},null,{"$f":"AG18+AJ18","v":0},null,{"$f":"AI18+AL18","v":0},{"$f":"BD18","v":{"$error":"#DIV/0!"}},null,{"$f":"AO19","v":0.02},{"$f":"RANK(AS18,AS$18:AS$26,0)","v":1},{"$f":"AP20","v":{"$error":"#DIV/0!"}},{"$f":"RANK(AU18,AU$18:AU$26,0)","v":{"$error":"#DIV/0!"}},{"$f":"MAX(AI20,AL20)","v":{"$error":"#DIV/0!"}},{"$f":"RANK(AW18,AW$18:AW$26,0)","v":{"$error":"#DIV/0!"}},{"$f":"AN20","v":0},{"$f":"RANK(AY18,AY$18:AY$26)","v":1},{"$f":"(AT18*1000)+(AV18*100)+(AX18*10)+(AZ18*1)","v":{"$error":"#DIV/0!"}},{"$f":"RANK(BA18,BA$18:BA$26)","v":{"$error":"#DIV/0!"}},{"$f":"BA18","v":{"$error":"#DIV/0!"}},{"$f":"RANK(BC18,BC$18:BC$26,1)","v":{"$error":"#DIV/0!"}},null,null,null,null,null,{"$f":"M10","v":{"$error":"#DIV/0!"}},null,"L",null,null,{"$f":"N27","v":0},null,{"$f":"O27","v":0},{"$f":"N21","v":0},null,{"$f":"O21","v":0},null,{"$f":"BO18+BR18","v":0},null,{"$f":"BQ18+BT18","v":0},{"$f":"CL18","v":{"$error":"#DIV/0!"}},null,{"$f":"BW19","v":0.02},{"$f":"RANK(CA18,CA$18:CA$26,0)","v":1},{"$f":"BX20","v":{"$error":"#DIV/0!"}},{"$f":"RANK(CC18,CC$18:CC$26,0)","v":{"$error":"#DIV/0!"}},{"$f":"MAX(BQ20,BT20)","v":{"$error":"#DIV/0!"}},{"$f":"RANK(CE18,CE$18:CE$26,1)","v":{"$error":"#DIV/0!"}},{"$f":"BV20","v":0},{"$f":"RANK(CG18,CG$18:CG$26)","v":1},{"$f":"(CB18*1000)+(CD18*100)+(CF18*10)+(CH18*1)","v":{"$error":"#DIV/0!"}},{"$f":"RANK(CI18,CI$18:CI$26)","v":{"$error":"#DIV/0!"}},{"$f":"CI18","v":{"$error":"#DIV/0!"}},{"$f":"RANK(CK18,CK$18:CK$26,1)","v":{"$error":"#DIV/0!"}}]
[null,null,null,null,null,null,null,null,null,null,null,"3 meilleurs 1er des poules A-B-C-D de la phase 1",null,null,null,null,null,90,2,{"$f":"IF(BY18=2,BJ18,IF(BY21=2,BJ21,IF(BY24=2,BJ24,)))","v":{"$error":"#DIV/0!"}},null,null,{"$f":"AG97","v":{"$error":"#DIV/0!"}},{"$f":"AJ97","v":{"$error":"#DIV/0!"}},{"$f":"W19/X19","v":{"$error":"#DIV/0!"}},null,null,null,null,null,null,null,null,{"$f":"IF(AI18<1,0.01,IF(AG18>AD21,2,IF(AG18=AD21,1,0)))","v":0.01},null,null,{"$f":"IF(AL18<1,0.01,IF(AJ18>AD24,2,IF(AJ18=AD24,1,0)))","v":0.01},null,null,null,{"$f":"AH19+AK19","v":0.02},null,null,null,null,null,null,null,null,null,null,null,null,null,null,null,null,null,null,null,null,null,null,null,null,null,null,{"$f":"IF(BQ18<1,0.01,IF(BO18>BL21,2,IF(BO18=BL21,1,0)))","v":0.01},null,null,{"$f":"IF(BT18<1,0.01,IF(BR18>BL24,2,IF(BR18=BL24,1,0)))","v":0.01},null,null,null,{"$f":"BP19+BS19","v":0.02}]
[null,null,null,"Pts","Rep","Série",null,"1er de poule",null,null,null,null,null,"Pts","Rep","Série",null,70,3,{"$f":"IF(BY18=3,BJ18,IF(BY21=3,BJ21,IF(BY24=3,BJ24,)))","v":{"$error":"#DIV/0!"}},null,null,{"$error":"#DIV/0!"},{"$error":"#DIV/0!"},{"$error":"#DIV/0!"},null,null,null,null,null,null,null,{"$f":"F27","v":0},null,{"$f":"AG18/AI18","v":{"$error":"#DIV/0!"}},{"$f":"F21","v":0},null,{"$f":"AJ18/AL18","v":{"$error":"#DIV/0!"}},null,{"$f":"MAX(AG20,AJ20)","v":0},null,{"$f":"AN18/AP18","v":{"$error":"#DIV/0!"}},null,null,null,null,null,null,null,null,null,null,null,null,null,null,null,null,null,null,null,null,null,null,null,null,{"$f":"P27","v":0},null,{"$f":"BO18/BQ18","v":{"$error":"#DIV/0!"}},{"$f":"P21","v":0},null,{"$f":"BR18/BT18","v":{"$error":"#DIV/0!"}},null,{"$f":"MAX(BO20,BR20)","v":0},null,{"$f":"BV18/BX18","v":{"$error":"#DIV/0!"}}]
[null,"Tour 1",{"$f":"C10","v":0},null,null,null,null,"2ème de poule",null,null,null,"Tour 1",{"$f":"M10","v":{"$error":"#DIV/0!"}},null,null,null,null,50,4,{"$f":"IF(BY38=1,BJ38,IF(BY41=1,BJ41,IF(BY44=1,BJ44,)))","v":{"$error":"#DIV/0!"}},null,null,{"$error":"#DIV/0!"},{"$error":"#DIV/0!"},{"$error":"#DIV/0!"},null,null,{"$f":"C11","v":0},null,{"$f":"D28","v":0},null,{"$f":"E27","v":0},"M",null,null,{"$f":"D24","v":0},null,{"$f":"E24","v":0},null,{"$f":"AD21+AJ21","v":0},null,{"$f":"AF21+AL21","v":0},{"$f":"BD21","v":{"$error":"#DIV/0!"}},null,{"$f":"AO22","v":0.02},{"$f":"RANK(AS21,AS$18:AS$26,0)","v":1},{"$f":"AP23","v":{"$error":"#DIV/0!"}},{"$f":"RANK(AU21,AU$18:AU$26,0)","v":{"$error":"#DIV/0!"}},{"$f":"MAX(AF23,AL23)","v":{"$error":"#DIV/0!"}},{"$f":"RANK(AW21,AW$18:AW$26,0)","v":{"$error":"#DIV/0!"}},{"$f":"AN23","v":0},{"$f":"RANK(AY21,AY$18:AY$26)","v":1},{"$f":"(AT21*1000)+(AV21*100)+(AX21*10)+(AZ21*1)","v":{"$error":"#DIV/0!"}},{"$f":"RANK(BA21,BA$18:BA$26)","v":{"$error":"#DIV/0!"}},{"$f":"BA21","v":{"$error":"#DIV/0!"}},{"$f":"RANK(BC21,BC$18:BC$26,1)","v":{"$error":"#DIV/0!"}},null,null,null,null,null,{"$f":"M11","v":{"$error":"#DIV/0!"}},null,{"$f":"N28","v":0},null,{"$f":"O27","v":0},"M",null,null,{"$f":"N24","v":0},null,{"$f":"O24","v":0},null,{"$f":"BL21+BR21","v":0},null,{"$f":"BN21+BT21","v":0},{"$f":"CL21","v":{"$error":"#DIV/0!"}},null,{"$f":"BW22","v":0.02},{"$f":"RANK(CA21,CA$18:CA$26,0)","v":1},{"$f":"BX23","v":{"$error":"#DIV/0!"}},{"$f":"RANK(CC21,CC$18:CC$26,0)","v":{"$error":"#DIV/0!"}},{"$f":"MAX(BN23,BT23)","v":{"$error":"#DIV/0!"}},{"$f":"RANK(CE21,CE$18:CE$26,1)","v":{"$error":"#DIV/0!"}},{"$f":"BV23","v":0},{"$f":"RANK(CE21,CE$18:CE$26)","v":{"$error":"#DIV/0!"}},{"$f":"(CB21*1000)+(CD21*100)+(CF21*10)+(CH21*1)","v":{"$error":"#DIV/0!"}},{"$f":"RANK(CI21,CI$18:CI$26)","v":{"$error":"#DIV/0!"}},{"$f":"CI21","v":{"$error":"#DIV/0!"}},{"$f":"RANK(CK21,CK$18:CK$26,1)","v":{"$error":"#DIV/0!"}}]
[null,null,{"$f":"C12","v":0},null,null,null,null,"3ème de poule",null,null,null,null,{"$f":"M12","v":{"$error":"#DIV/0!"}},null,null,null,null,30,5,{"$f":"IF(BY38=2,BJ38,IF(BY41=2,BJ41,IF(BY44=2,BJ44,)))","v":{"$error":"#DIV/0!"}},null,null,{"$error":"#DIV/0!"},{"$error":"#DIV/0!"},{"$error":"#DIV/0!"},null,null,null,null,null,{"$f":"IF(AI18>0,2-AH19,0.01)","v":0.01},null,null,null,null,null,{"$f":"IF(AL21<1,0.01,IF(AJ21>AG24,2,IF(AJ21=AG24,1,0)))","v":0.01},null,null,null,{"$f":"AE22+AK22","v":0.02},null,null,null,null,null,null,null,null,null,null,null,null,null,null,null,null,null,null,null,null,null,null,null,{"$f":"IF(BN21<1,0.01,IF(BL21>BO18,2,IF(BL21=BO18,1,0)))","v":0.01},null,null,null,null,null,{"$f":"IF(BT21<1,0.01,IF(BR21>BO24,2,IF(BR21=BO24,1,0)))","v":0.01},null,null,null,{"$f":"BM22+BS22","v":0.02}]
[null,null,null,null,null,null,null,null,null,null,null,null,null,null,null,null,null,10,6,{"$f":"IF(BY38=3,BJ38,IF(BY41=3,BJ41,IF(BY44=3,BJ44,)))","v":{"$error":"#DIV/0!"}},null,null,{"$error":"#DIV/0!"},{"$error":"#DIV/0!"},{"$error":"#DIV/0!"},null,null,null,null,{"$f":"F28","v":0},null,{"$f":"AD21/AF21","v":{"$error":"#DIV/0!"}},null,null,null,{"$f":"F24","v":0},null,{"$f":"AJ21/AL21","v":{"$error":"#DIV/0!"}},null,{"$f":"MAX(AD23,AJ23)","v":0},null,{"$f":"AN21/AP21","v":{"$error":"#DIV/0!"}},null,null,null,null,null,null,null,null,null,null,null,null,null,null,null,null,null,null,null,null,null,{"$f":"P28","v":0},null,{"$f":"BL21/BN21","v":{"$error":"#DIV/0!"}},null,null,null,{"$f":"P24","v":0},null,{"$f":"BR21/BT21","v":{"$error":"#DIV/0!"}},null,{"$f":"MAX(BL23,BR23)","v":0},null,{"$f":"BV21/BX21","v":{"$error":"#DIV/0!"}}]
[null,"Tour 2",{"$f":"C11","v":0},null,null,null,null,null,null,null,null,"Tour 2",{"$f":"M11","v":{"$error":"#DIV/0!"}},null,null,null,null,5,7,{"$f":"IF(CB59=1,BJ59,IF(CB62=1,BJ62,))","v":{"$error":"#DIV/0!"}},null,null,{"$error":"#DIV/0!"},{"$error":"#DIV/0!"},{"$error":"#DIV/0!"},null,null,{"$f":"C12","v":0},null,{"$f":"D22","v":0},null,{"$f":"E21","v":0},{"$f":"D25","v":0},null,{"$f":"E24","v":0},"B",null,null,null,{"$f":"AD24+AG24","v":0},null,{"$f":"AF24+AI24","v":0},{"$f":"BD24","v":{"$error":"#DIV/0!"}},null,{"$f":"AO25","v":0.02},{"$f":"RANK(AS24,AS$18:AS$26,0)","v":1},{"$f":"AP26","v":{"$error":"#DIV/0!"}},{"$f":"RANK(AU24,AU$18:AU$26,0)","v":{"$error":"#DIV/0!"}},{"$f":"MAX(AF26,AI26)","v":{"$error":"#DIV/0!"}},{"$f":"RANK(AW24,AW$18:AW$26,0)","v":{"$error":"#DIV/0!"}},{"$f":"AN26","v":0},{"$f":"RANK(AY24,AY$18:AY$26)","v":1},{"$f":"(AT24*1000)+(AV24*100)+(AX24*10)+(AZ24*1)","v":{"$error":"#DIV/0!"}},{"$f":"RANK(BA24,BA$18:BA$26)","v":{"$error":"#DIV/0!"}},{"$f":"BA24","v":{"$error":"#DIV/0!"}},{"$f":"RANK(BC24,BC$18:BC$26,1)","v":{"$error":"#DIV/0!"}},null,null,null,null,null,{"$f":"M12","v":{"$error":"#DIV/0!"}},null,{"$f":"N22","v":0},null,{"$f":"O21","v":0},{"$f":"N25","v":0},null,{"$f":"O24","v":0},"B",null,null,null,{"$f":"BL24+BO24","v":0},null,{"$f":"BN24+BQ24","v":0},{"$f":"CL24","v":{"$error":"#DIV/0!"}},null,{"$f":"BW25","v":0.02},{"$f":"RANK(CA24,CA$18:CA$26,0)","v":1},{"$f":"BX26","v":{"$error":"#DIV/0!"}},{"$f":"RANK(CC24,CC$18:CC$26,0)","v":{"$error":"#DIV/0!"}},{"$f":"MAX(BN26,BQ26)","v":{"$error":"#DIV/0!"}},{"$f":"RANK(CE24,CE$18:CE$26,1)","v":{"$error":"#DIV/0!"}},{"$f":"BV26","v":0},{"$f":"RANK(CE24,CE$18:CE$26)","v":{"$error":"#DIV/0!"}},{"$f":"(CB24*1000)+(CD24*100)+(CF24*10)+(CH24*1)","v":{"$error":"#DIV/0!"}},{"$f":"RANK(CI24,CI$18:CI$26)","v":{"$error":"#DIV/0!"}},{"$f":"CI24","v":{"$error":"#DIV/0!"}},{"$f":"RANK(CK24,CK$18:CK$26,1)","v":{"$error":"#DIV/0!"}}]
[null,null,{"$f":"C12","v":0},null,null,null,null,null,null,null,null,null,{"$f":"M12","v":{"$error":"#DIV/0!"}},null,null,null,null,5,8,{"$f":"IF(CB59=2,BJ59,IF(CB62=2,BJ62,))","v":{"$error":"#DIV/0!"}},null,null,{"$error":"#DIV/0!"},{"$error":"#DIV/0!"},{"$error":"#DIV/0!"},null,null,null,null,null,{"$f":"IF(AL18>0,2-AK19,0.01)","v":0.01},null,null,{"$f":"IF(AL21>0,2-AK22,0.01)","v":0.01},null,null,null,null,null,null,{"$f":"AE25+AH25","v":0.02},null,null,null,null,null,null,null,null,null,null,null,null,null,null,null,null,null,null,null,null,null,null,null,{"$f":"IF(BN24<1,0.01,IF(BL24>BR18,2,IF(BL24=BR18,1,0)))","v":0.01},null,null,{"$f":"IF(BQ24<1,0.01,IF(BO24>BR21,2,IF(BO24=BR21,1,0)))","v":0.01},null,null,null,null,null,null,{"$f":"BM25+BP25","v":0.02}]
[null,null,null,null,null,null,null,null,null,null,null,null,null,null,null,null,null,5,9,{"$f":"IF(CB75=1,BJ75,IF(CB78=1,BJ78,))","v":{"$error":"#DIV/0!"}},null,null,{"$error":"#DIV/0!"},{"$error":"#DIV/0!"},{"$error":"#DIV/0!"},null,null,null,null,{"$f":"F22","v":0},null,{"$f":"AD24/AF24","v":{"$error":"#DIV/0!"}},{"$f":"F25","v":0},null,{"$f":"AG24/AI24","v":{"$error":"#DIV/0!"}},null,null,null,null,{"$f":"MAX(AD26,AG26)","v":0},null,{"$f":"AN24/AP24","v":{"$error":"#DIV/0!"}},null,null,null,null,null,null,null,null,null,null,null,null,null,null,null,null,null,null,null,null,null,{"$f":"P22","v":0},null,{"$f":"BL24/BN24","v":{"$error":"#DIV/0!"}},{"$f":"P25","v":0},null,{"$f":"BO24/BQ24","v":{"$error":"#DIV/0!"}},null,null,null,null,{"$f":"MAX(BL26,BO26)","v":0},null,{"$f":"BV24/BX24","v":{"$error":"#DIV/0!"}}]
[null,"Tour 3",{"$f":"C10","v":0},null,null,null,null,null,null,null,null,"Tour 3",{"$f":"M10","v":{"$error":"#DIV/0!"}},null,null,null,null,5,10,{"$f":"IF(CB75=2,BJ75,IF(CB78=2,BJ78,))","v":{"$error":"#DIV/0!"}},null,null,{"$error":"#DIV/0!"},{"$error":"#DIV/0!"},{"$error":"#DIV/0!"}]
[null,null,{"$f":"C11","v":0},null,null,null,null,null,null,null,null,null,{"$f":"M11","v":{"$error":"#DIV/0!"}},null,null,null,null,null,null,null,null,null,null,null,null,null,"Classement des 1er",null,null,"PM","CLS","MG","CLS","MP","CLS","MS","CLS","TOTAL",null,"CLS"]
[null,null,null,null,null,null,null,null,null,null,null,null,null,null,null,null,null,null,null,null,null,null,null,null,null,null,"A",{"$f":"IF(AQ18=1,AB18,IF(AQ21=1,AB21,IF(AQ24=1,AB24)))","v":{"$error":"#DIV/0!"}},null,{"$f":"IF(AB29=AB18,AS18,IF(AB29=AB21,AS21,IF(AB29=AB24,AS24,)))","v":{"$error":"#DIV/0!"}},{"$f":"RANK(AD29,AD$29:AD$32)","v":{"$error":"#DIV/0!"}},{"$f":"IF(AB29=AB18,AU18,IF(AB29=AB21,AU21,IF(AB29=AB24,AU24,)))","v":{"$error":"#DIV/0!"}},{"$f":"RANK(AF29,AF$29:AF$32)","v":{"$error":"#DIV/0!"}},{"$f":"IF(AB29=AB18,AW18,IF(AB29=AB21,AW21,IF(AB29=AB24,AW24,)))","v":{"$error":"#DIV/0!"}},{"$f":"RANK(AH29,AH$29:AH$32)","v":{"$error":"#DIV/0!"}},{"$f":"IF(AB29=AB18,AY18,IF(AB29=AB21,AY21,IF(AB29=AB24,AY24,)))","v":{"$error":"#DIV/0!"}},{"$f":"RANK(AJ29,AJ$29:AJ$32)","v":{"$error":"#DIV/0!"}},{"$f":"(AE29*1000)+(AG29*100)+(AI29*10)+(AK29*1)","v":{"$error":"#DIV/0!"}},null,{"$f":"RANK(AL29,AL$29:AL$32,1)","v":{"$error":"#DIV/0!"}}]
[null,"Joueur 1",{"$f":"'Saisie des joueurs'!L19","v":0},null,null,null,null,null,null,null,null,"Joueur 1",{"$f":"IF(AN29=4,AB29,IF(AN30=4,AB30,IF(AN31=4,AB31,IF(AN32=4,AB32,))))","v":{"$error":"#DIV/0!"}},null,null,null,null,null,null,null,null,null,null,null,null,null,"B",{"$f":"IF(AQ38=1,AB38,IF(AQ41=1,AB41,IF(AQ44=1,AB44,)))","v":{"$error":"#DIV/0!"}},null,{"$f":"IF(AB30=AB38,AS38,IF(AB30=AB41,AS41,IF(AB30=AB44,AS44,)))","v":{"$error":"#DIV/0!"}},{"$f":"RANK(AD30,AD$29:AD$32)","v":{"$error":"#DIV/0!"}},{"$f":"IF(AB30=AB38,AU38,IF(AB30=AB41,AU41,IF(AB30=AB44,AU44,)))","v":{"$error":"#DIV/0!"}},{"$f":"RANK(AF30,AF$29:AF$32)","v":{"$error":"#DIV/0!"}},{"$f":"IF(AB30=AB38,AW38,IF(AB30=AB41,AW41,IF(AB30=AB44,AW44,)))","v":{"$error":"#DIV/0!"}},{"$f":"RANK(AH30,AH$29:AH$32)","v":{"$error":"#DIV/0!"}},{"$f":"IF(AB30=AB38,AY38,IF(AB30=AB41,AY41,IF(AB30=AB44,AY44,)))","v":{"$error":"#DIV/0!"}},{"$f":"RANK(AJ30,AJ$29:AJ$32)","v":{"$error":"#DIV/0!"}},{"$f":"(AE30*1000)+(AG30*100)+(AI30*10)+(AK30*1)","v":{"$error":"#DIV/0!"}},null,{"$f":"RANK(AL30,AL$29:AL$32,1)","v":{"$error":"#DIV/0!"}}]
[null,"Joueur 2",{"$f":"'Saisie des joueurs'!L24","v":0},null,null,null,null,null,null,null,null,"Joueur 2",{"$f":"IF(AN49=1,AB49,IF(AN50=1,AB50,IF(AN51=1,AB51,IF(AN52=1,AB52,))))","v":{"$error":"#DIV/0!"}},null,null,null,null,null,null,null,null,null,null,null,null,null,"C",{"$f":"IF(AT59=1,AB59,IF(AT62=1,AB62,))","v":{"$error":"#DIV/0!"}},null,{"$f":"IF(AB31=AB59,AV59,IF(AB31=AB62,AV62,))","v":{"$error":"#DIV/0!"}},{"$error":"#DIV/0!"},{"$f":"IF(AB31=AB59,AX59,IF(AB31=AB62,AX62,))","v":{"$error":"#DIV/0!"}},{"$error":"#DIV/0!"},{"$f":"IF(AB31=AB59,AZ59,IF(AB31=AB62,AZ62,))","v":{"$error":"#DIV/0!"}},{"$error":"#DIV/0!"},{"$f":"IF(AB31=AB59,BB59,IF(AB31=AB62,BB62,))","v":{"$error":"#DIV/0!"}},{"$error":"#DIV/0!"},{"$error":"#DIV/0!"},null,{"$error":"#DIV/0!"}]
[null,"Joueur 3",{"$f":"'Saisie des joueurs'!L27","v":0},null,null,null,null,null,null,null,null,"Joueur 3",{"$f":"IF(AN49=2,AB49,IF(AN50=2,AB50,IF(AN51=2,AB51,IF(AN52=2,AB52,))))","v":{"$error":"#DIV/0!"}},null,null,null,null,null,null,null,null,null,null,null,null,null,"D",{"$f":"IF(AT78=1,AB78,IF(AT81=1,AB81,))","v":{"$error":"#DIV/0!"}},null,{"$f":"IF(AB32=AB78,AV78,IF(AB32=AB81,AV81,))","v":{"$error":"#DIV/0!"}},{"$error":"#DIV/0!"},{"$f":"IF(AB32=AB78,AX78,IF(AB32=AB81,AX81,))","v":{"$error":"#DIV/0!"}},{"$error":"#DIV/0!"},{"$f":"IF(AB32=AB78,AZ78,IF(AB32=AB81,AZ81,))","v":{"$error":"#DIV/0!"}},{"$error":"#DIV/0!"},{"$f":"IF(AB32=AB78,BB78,IF(AB32=AB81,BB81,))","v":{"$error":"#DIV/0!"}},{"$error":"#DIV/0!"},{"$error":"#DIV/0!"},null,{"$error":"#DIV/0!"}]
[]
[null,"SAISIE DES RESULTATS",null,null,null,null,null,null,null,null,null,"SAISIE DES RESULTATS",null,null,null,null,null,null,null,null,null,null,null,null,null,null,null,null,null,{"$f":"C30","v":0},null,null,{"$f":"C31","v":0},null,null,{"$f":"C32","v":0},null,null,null,"TOTAUX",null,null,"CLASSEMENT",null,null,null,null,null,null,null,null,null,null,null,null,null,null,null,null,null,null,null,null,{"$f":"M30","v":{"$error":"#DIV/0!"}},null,null,{"$f":"M31","v":{"$error":"#DIV/0!"}},null,null,{"$f":"M32","v":{"$error":"#DIV/0!"}},null,null,null,"TOTAUX",null,null,"CLASSEMENT"]
[]
[null,null,null,null,null,null,null,null,null,null,null,null,null,null,null,null,null,null,null,null,null,null,null,null,null,null,null,null,null,null,null,null,null,null,null,null,null,null,null,null,null,null,null,null,"Classement",null,"Classement",null,"Classement",null,"Classement",null,"Classement",null,"GENERAL","RANG",null,null,null,null,null,null,null,null,null,null,null,null,null,null,null,null,null,null,null,null,null,null,"Classement",null,"Classement",null,"Classement",null,"Classement",null,"Classement",null,"GENERAL","RANG"]
[null,"PHASE 1 - POULE B",null,null,null,null,null,null,null,null,null,"PHASE 4 - POULE B",null,null,null,null,null,null,null,null,null,null,null,null,null,null,null,null,null,null,null,null,null,null,null,null,null,null,null,null,null,null,null,null,"Point-Match","CLS-M","Moy-Gen","CLS-G","Moy-Part","CLS-P","M-Series","CLS-S","MGPS","CLS","CLS",null,null,null,null,null,null,null,null,null,null,null,null,null,null,null,null,null,null,null,null,null,null,null,"Point-Match","CLS-M","Moy-Gen","CLS-G","Moy-Part","CLS-P","M-Series","CLS-S","MGPS","CLS","CLS"]
[null,null,null,null,null,null,null,null,null,null,null,null,null,null,null,null,null,null,null,null,null,null,null,null,null,null,null,{"$f":"C30","v":0},null,"L",null,null,{"$f":"D47","v":0},null,{"$f":"E47","v":0},{"$f":"D41","v":0},null,{"$f":"E41","v":0},null,{"$f":"AG38+AJ38","v":0},null,{"$f":"AI38+AL38","v":0},{"$f":"BD38","v":{"$error":"#DIV/0!"}},null,{"$f":"AO39","v":0.02},{"$f":"RANK(AS38,AS$38:AS$46,0)","v":1},{"$f":"AP40","v":{"$error":"#DIV/0!"}},{"$f":"RANK(AU38,AU$38:AU$46,0)","v":{"$error":"#DIV/0!"}},{"$f":"MAX(AI40,AL40)","v":{"$error":"#DIV/0!"}},{"$f":"RANK(AW38,AW$38:AW$46,0)","v":{"$error":"#DIV/0!"}},{"$f":"AN40","v":0},{"$f":"RANK(AY38,AY$38:AY$46)","v":1},{"$f":"(AT38*1000)+(AV38*100)+(AX38*10)+(AZ38*1)","v":{"$error":"#DIV/0!"}},{"$f":"RANK(BA38,BA$38:BA$46)","v":{"$error":"#DIV/0!"}},{"$f":"BA38","v":{"$error":"#DIV/0!"}},{"$f":"RANK(BC38,BC$38:BC$46,1)","v":{"$error":"#DIV/0!"}},null,null,null,null,null,{"$f":"M30","v":{"$error":"#DIV/0!"}},null,"L",null,null,{"$f":"N47","v":0},null,{"$f":"O47","v":0},{"$f":"N41","v":0},null,{"$f":"O41","v":0},null,{"$f":"BO38+BR38","v":0},null,{"$f":"BQ38+BT38","v":0},{"$f":"CL38","v":{"$error":"#DIV/0!"}},null,{"$f":"BW39","v":0.02},{"$f":"RANK(CA38,CA$38:CA$46,0)","v":1},{"$f":"BX40","v":{"$error":"#DIV/0!"}},{"$f":"RANK(CC38,CC$38:CC$46,0)","v":{"$error":"#DIV/0!"}},{"$f":"MAX(BQ40,BT40)","v":{"$error":"#DIV/0!"}},{"$f":"RANK(CE38,CE$38:CE$46)","v":{"$error":"#DIV/0!"}},{"$f":"BV40","v":0},{"$f":"RANK(CG38,CG$38:CG$46)","v":1},{"$f":"(CB38*1000)+(CD38*100)+(CF38*10)+(CH38*1)","v":{"$error":"#DIV/0!"}},{"$f":"RANK(CI38,CI$38:CI$46)","v":{"$error":"#DIV/0!"}},{"$f":"CI38","v":{"$error":"#DIV/0!"}},{"$f":"RANK(CK38,CK$38:CK$46,1)","v":{"$error":"#DIV/0!"}}]
[null,null,null,null,null,null,null,null,null,null,null,"Dernier 1er et 2 meilleurs 2ème des poules A-B-C-D de la phase 1",null,null,null,null,null,null,null,null,null,null,null,null,null,null,null,null,null,null,null,null,null,{"$f":"IF(AI38<1,0.01,IF(AG38>AD41,2,IF(AG38=AD41,1,0)))","v":0.01},null,null,{"$f":"IF(AL38<1,0.01,IF(AJ38>AD44,2,IF(AJ38=AD44,1,0)))","v":0.01},null,null,null,{"$f":"AH39+AK39","v":0.02},null,null,null,null,null,null,null,null,null,null,null,null,null,null,null,null,null,null,null,null,null,null,null,null,null,null,{"$f":"IF(BQ38<1,0.01,IF(BO38>BL41,2,IF(BO38=BL41,1,0)))","v":0.01},null,null,{"$f":"IF(BT38<1,0.01,IF(BR38>BL44,2,IF(BR38=BL44,1,0)))","v":0.01},null,null,null,{"$f":"BP39+BS39","v":0.02}]
[null,null,null,"Pts","Rep","Série",null,null,null,null,null,null,null,"Pts","Rep","Série",null,null,null,null,null,null,null,null,null,null,null,null,null,null,null,null,{"$f":"F47","v":0},null,{"$f":"AG38/AI38","v":{"$error":"#DIV/0!"}},{"$f":"F41","v":0},null,{"$f":"AJ38/AL38","v":{"$error":"#DIV/0!"}},null,{"$f":"MAX(AG40,AJ40)","v":0},null,{"$f":"AN38/AP38","v":{"$error":"#DIV/0!"}},null,null,null,null,null,null,null,null,null,null,null,null,null,null,null,null,null,null,null,null,null,null,null,null,{"$f":"P47","v":0},null,{"$f":"BO38/BQ38","v":{"$error":"#DIV/0!"}},{"$f":"P41","v":0},null,{"$f":"BR38/BT38","v":{"$error":"#DIV/0!"}},null,{"$f":"MAX(BO40,BR40)","v":0},null,{"$f":"BV38/BX38","v":{"$error":"#DIV/0!"}}]
[null,"Tour",{"$f":"C30","v":0},null,null,null,null,null,null,null,null,"Tour 1",{"$f":"M30","v":{"$error":"#DIV/0!"}},null,null,null,null,null,null,null,null,null,null,null,null,null,null,{"$f":"C31","v":0},null,{"$f":"D48","v":0},null,{"$f":"E47","v":0},"M",null,null,{"$f":"D44","v":0},null,{"$f":"E44","v":0},null,{"$f":"AD41+AJ41","v":0},null,{"$f":"AF41+AL41","v":0},{"$f":"BD41","v":{"$error":"#DIV/0!"}},null,{"$f":"AO42","v":0.02},{"$f":"RANK(AS41,AS$38:AS$46,0)","v":1},{"$f":"AP43","v":{"$error":"#DIV/0!"}},{"$f":"RANK(AU41,AU$38:AU$46,0)","v":{"$error":"#DIV/0!"}},{"$f":"MAX(AF43,AL43)","v":{"$error":"#DIV/0!"}},{"$f":"RANK(AW41,AW$38:AW$46,0)","v":{"$error":"#DIV/0!"}},{"$f":"AN43","v":0},{"$f":"RANK(AY41,AY$38:AY$46)","v":1},{"$f":"(AT41*1000)+(AV41*100)+(AX41*10)+(AZ41*1)","v":{"$error":"#DIV/0!"}},{"$f":"RANK(BA41,BA$38:BA$46)","v":{"$error":"#DIV/0!"}},{"$f":"BA41","v":{"$error":"#DIV/0!"}},{"$f":"RANK(BC41,BC$38:BC$46,1)","v":{"$error":"#DIV/0!"}},null,null,null,null,null,{"$f":"M31","v":{"$error":"#DIV/0!"}},null,{"$f":"N48","v":0},null,{"$f":"O47","v":0},"M",null,null,{"$f":"N44","v":0},null,{"$f":"O44","v":0},null,{"$f":"BL41+BR41","v":0},null,{"$f":"BN41+BT41","v":0},{"$f":"CL41","v":{"$error":"#DIV/0!"}},null,{"$f":"BW42","v":0.02},{"$f":"RANK(CA41,CA$38:CA$46,0)","v":1},{"$f":"BX43","v":{"$error":"#DIV/0!"}},{"$f":"RANK(CC41,CC$38:CC$46,0)","v":{"$error":"#DIV/0!"}},{"$f":"MAX(BN43,BT43)","v":{"$error":"#DIV/0!"}},{"$f":"RANK(CE41,CE$38:CE$46)","v":{"$error":"#DIV/0!"}},{"$f":"BV43","v":0},{"$f":"RANK(CG41,CG$38:CG$46)","v":1},{"$f":"(CB41*1000)+(CD41*100)+(CF41*10)+(CH41*1)","v":{"$error":"#DIV/0!"}},{"$f":"RANK(CI41,CI$38:CI$46)","v":{"$error":"#DIV/0!"}},{"$f":"CI41","v":{"$error":"#DIV/0!"}},{"$f":"RANK(CK41,CK$38:CK$46,1)","v":{"$error":"#DIV/0!"}}]
[null,null,{"$f":"C32","v":0},null,null,null,null,null,null,null,null,null,{"$f":"M32","v":{"$error":"#DIV/0!"}},null,null,null,null,null,null,null,null,null,null,null,null,null,null,null,null,null,{"$f":"IF(AI38>0,2-AH39,0.01)","v":0.01},null,null,null,null,null,{"$f":"IF(AL41<1,0.01,IF(AJ41>AG44,2,IF(AJ41=AG44,1,0)))","v":0.01},null,null,null,{"$f":"AE42+AK42","v":0.02},null,null,null,null,null,null,null,null,null,null,null,null,null,null,null,null,null,null,null,null,null,null,null,{"$f":"IF(BN41<1,0.01,IF(BL41>BO38,2,IF(BL41=BO38,1,0)))","v":0.01},null,null,null,null,null,{"$f":"IF(BT41<1,0.01,IF(BR41>BO44,2,IF(BR41=BO44,1,0)))","v":0.01},null,null,null,{"$f":"BM42+BS42","v":0.02}]
[null,null,null,null,null,null,null,null,null,null,null,null,null,null,null,null,null,null,null,null,null,null,null,null,null,null,null,null,null,{"$f":"F48","v":0},null,{"$f":"AD41/AF41","v":{"$error":"#DIV/0!"}},null,null,null,{"$f":"F44","v":0},null,{"$f":"AJ41/AL41","v":{"$error":"#DIV/0!"}},null,{"$f":"MAX(AD43,AJ43)","v":0},null,{"$f":"AN41/AP41","v":{"$error":"#DIV/0!"}},null,null,null,null,null,null,null,null,null,null,null,null,null,null,null,null,null,null,null,null,null,{"$f":"P48","v":0},null,{"$f":"BL41/BN41","v":{"$error":"#DIV/0!"}},null,null,null,{"$f":"P44","v":0},null,{"$f":"BR41/BT41","v":{"$error":"#DIV/0!"}},null,{"$f":"MAX(BL43,BR43)","v":0},null,{"$f":"BV41/BX41","v":{"$error":"#DIV/0!"}}]
[null,"Tour 2",{"$f":"C31","v":0},null,null,null,null,null,null,null,null,"Tour 2",{"$f":"M31","v":{"$error":"#DIV/0!"}},null,null,null,null,null,null,null,null,null,null,null,null,null,null,{"$f":"C32","v":0},null,{"$f":"D42","v":0},null,{"$f":"E41","v":0},{"$f":"D45","v":0},null,{"$f":"E44","v":0},"B",null,null,null,{"$f":"AD44+AG44","v":0},null,{"$f":"AF44+AI44","v":0},{"$f":"BD44","v":{"$error":"#DIV/0!"}},null,{"$f":"AO45","v":0.02},{"$f":"RANK(AS44,AS$38:AS$46,0)","v":1},{"$f":"AP46","v":{"$error":"#DIV/0!"}},{"$f":"RANK(AU44,AU$38:AU$46,0)","v":{"$error":"#DIV/0!"}},{"$f":"MAX(AF46,AI46)","v":{"$error":"#DIV/0!"}},{"$f":"RANK(AW44,AW$38:AW$46,0)","v":{"$error":"#DIV/0!"}},{"$f":"AN46","v":0},{"$f":"RANK(AY44,AY$38:AY$46)","v":1},{"$f":"(AT44*1000)+(AV44*100)+(AX44*10)+(AZ44*1)","v":{"$error":"#DIV/0!"}},{"$f":"RANK(BA44,BA$38:BA$46)","v":{"$error":"#DIV/0!"}},{"$f":"BA44","v":{"$error":"#DIV/0!"}},{"$f":"RANK(BC44,BC$38:BC$46,1)","v":{"$error":"#DIV/0!"}},null,null,null,null,null,{"$f":"M32","v":{"$error":"#DIV/0!"}},null,{"$f":"N42","v":0},null,{"$f":"O41","v":0},{"$f":"N45","v":0},null,{"$f":"O44","v":0},"B",null,null,null,{"$f":"BL44+BO44","v":0},null,{"$f":"BN44+BQ44","v":0},{"$f":"CL44","v":{"$error":"#DIV/0!"}},null,{"$f":"BW45","v":0.02},{"$f":"RANK(CA44,CA$38:CA$46,0)","v":1},{"$f":"BX46","v":{"$error":"#DIV/0!"}},{"$f":"RANK(CC44,CC$38:CC$46,0)","v":{"$error":"#DIV/0!"}},{"$f":"MAX(BN46,BQ46)","v":{"$error":"#DIV/0!"}},{"$f":"RANK(CE44,CE$38:CE$46)","v":{"$error":"#DIV/0!"}},{"$f":"BV46","v":0},{"$f":"RANK(CG44,CG$38:CG$46)","v":1},{"$f":"(CB44*1000)+(CD44*100)+(CF44*10)+(CH44*1)","v":{"$error":"#DIV/0!"}},{"$f":"RANK(CI44,CI$38:CI$46)","v":{"$error":"#DIV/0!"}},{"$f":"CI44","v":{"$error":"#DIV/0!"}},{"$f":"RANK(CK44,CK$38:CK$46,1)","v":{"$error":"#DIV/0!"}}]
[null,null,{"$f":"C32","v":0},null,null,null,null,null,null,null,null,null,{"$f":"M32","v":{"$error":"#DIV/0!"}},null,null,null,null,null,null,null,null,null,null,null,null,null,null,null,null,null,{"$f":"IF(AL38>0,2-AK39,0.01)","v":0.01},null,null,{"$f":"IF(AL41>0,2-AK42,0.01)","v":0.01},null,null,null,null,null,null,{"$f":"AE45+AH45","v":0.02},null,null,null,null,null,null,null,null,null,null,null,null,null,null,null,null,null,null,null,null,null,null,null,{"$f":"IF(BN44<1,0.01,IF(BL44>BR38,2,IF(BL44=BR38,1,0)))","v":0.01},null,null,{"$f":"IF(BQ44<1,0.01,IF(BO44>BR41,2,IF(BO44=BR41,1,0)))","v":0.01},null,null,null,null,null,null,{"$f":"BM45+BP45","v":0.02}]
[null,null,null,null,null,null,null,null,null,null,null,null,null,null,null,null,null,null,null,null,null,null,null,null,null,null,null,null,null,{"$f":"F42","v":0},null,{"$f":"AD44/AF44","v":{"$error":"#DIV/0!"}},{"$f":"F45","v":0},null,{"$f":"AG44/AI44","v":{"$error":"#DIV/0!"}},null,null,null,null,{"$f":"MAX(AD46,AG46)","v":0},null,{"$f":"AN44/AP44","v":{"$error":"#DIV/0!"}},null,null,null,null,null,null,null,null,null,null,null,null,null,null,null,null,null,null,null,null,null,{"$f":"P42","v":0},null,{"$f":"BL44/BN44","v":{"$error":"#DIV/0!"}},{"$f":"P45","v":0},null,{"$f":"BO44/BQ44","v":{"$error":"#DIV/0!"}},null,null,null,null,{"$f":"MAX(BL46,BO46)","v":0},null,{"$f":"BV44/BX44","v":{"$error":"#DIV/0!"}}]
[null,"Tour 3",{"$f":"C30","v":0},null,null,null,null,null,null,null,null,"Tour 3",{"$f":"M30","v":{"$error":"#DIV/0!"}}]
[null,null,{"$f":"C31","v":0},null,null,null,null,null,null,null,null,null,{"$f":"M31","v":{"$error":"#DIV/0!"}},null,null,null,null,null,null,null,null,null,null,null,null,null,"Classement des 2ème",null,null,"PM","CLS","MG","CLS","MP","CLS","MS","CLS","TOTAL",null,"CLS"]
[null,null,null,null,null,null,null,null,null,null,null,null,null,null,null,null,null,null,null,null,null,null,null,null,null,null,"A",{"$f":"IF(AQ18=2,AB18,IF(AQ21=2,AB21,IF(AQ24=2,AB24)))","v":{"$error":"#DIV/0!"}},null,{"$f":"IF(AB49=AB18,AS18,IF(AB49=AB21,AS21,IF(AB49=AB24,AS24,)))","v":{"$error":"#DIV/0!"}},{"$f":"RANK(AD49,AD$49:AD$52)","v":{"$error":"#DIV/0!"}},{"$f":"IF(AB49=AB18,AU18,IF(AB49=AB21,AU21,IF(AB49=AB24,AU24,)))","v":{"$error":"#DIV/0!"}},{"$f":"RANK(AF49,AF$49:AF$52)","v":{"$error":"#DIV/0!"}},{"$f":"IF(AB49=AB18,AW18,IF(AB49=AB21,AW21,IF(AB49=AB24,AW24,)))","v":{"$error":"#DIV/0!"}},{"$f":"RANK(AH49,AH$49:AH$52)","v":{"$error":"#DIV/0!"}},{"$f":"IF(AB49=AB18,AY18,IF(AB49=AB21,AY21,IF(AB49=AB24,AY24,)))","v":{"$error":"#DIV/0!"}},{"$f":"RANK(AJ49,AJ$49:AJ$52)","v":{"$error":"#DIV/0!"}},{"$f":"(AE49*1000)+(AG49*100)+(AI49*10)+(AK49*1)","v":{"$error":"#DIV/0!"}},null,{"$f":"RANK(AL49,AL$49:AL$52,1)","v":{"$error":"#DIV/0!"}}]
[null,"Joueur 1",{"$f":"'Saisie des joueurs'!L20","v":0},null,null,null,null,null,null,null,null,"Joueur 1",{"$f":"IF(AN49=3,AB49,IF(AN50=3,AB50,IF(AN51=3,AB51,IF(AN52=3,AB52,))))","v":{"$error":"#DIV/0!"}},null,null,null,null,null,null,null,null,null,null,null,null,null,"B",{"$f":"IF(AQ38=2,AB38,IF(AQ41=2,AB41,IF(AQ44=2,AB44,)))","v":{"$error":"#DIV/0!"}},null,{"$f":"IF(AB50=AB38,AS38,IF(AB50=AB41,AS41,IF(AB50=AB44,AS44,)))","v":{"$error":"#DIV/0!"}},{"$f":"RANK(AD50,AD$49:AD$52)","v":{"$error":"#DIV/0!"}},{"$f":"IF(AB50=AB38,AU38,IF(AB50=AB41,AU41,IF(AB50=AB44,AU44,)))","v":{"$error":"#DIV/0!"}},{"$f":"RANK(AF50,AF$49:AF$52)","v":{"$error":"#DIV/0!"}},{"$f":"IF(AB50=AB38,AW38,IF(AB50=AB41,AW41,IF(AB50=AB44,AW44,)))","v":{"$error":"#DIV/0!"}},{"$f":"RANK(AH50,AH$49:AH$52)","v":{"$error":"#DIV/0!"}},{"$f":"IF(AB50=AB38,AY38,IF(AB50=AB41,AY41,IF(AB50=AB44,AY44,)))","v":{"$error":"#DIV/0!"}},{"$f":"RANK(AJ50,AJ$49:AJ$52)","v":{"$error":"#DIV/0!"}},{"$f":"(AE50*1000)+(AG50*100)+(AI50*10)+(AK50*1)","v":{"$error":"#DIV/0!"}},null,{"$f":"RANK(AL50,AL$49:AL$52,1)","v":{"$error":"#DIV/0!"}}]
[null,"Joueur 2",{"$f":"'Saisie des joueurs'!L23","v":0},null,null,null,null,null,null,null,null,"Joueur 2",{"$f":"IF(AN49=4,AB49,IF(AN50=4,AB50,IF(AN51=4,AB51,IF(AN52=4,AB52,))))","v":{"$error":"#DIV/0!"}},null,null,null,null,null,null,null,null,null,null,null,null,null,"C",{"$f":"IF(AT59=2,AB59,IF(AT62=2,AB62,))","v":{"$error":"#DIV/0!"}},null,{"$f":"IF(AB51=AB59,AV59,IF(AB51=AB62,AV62,))","v":{"$error":"#DIV/0!"}},{"$error":"#DIV/0!"},{"$f":"IF(AB51=AB59,AX59,IF(AB51=AB62,AX62,))","v":{"$error":"#DIV/0!"}},{"$error":"#DIV/0!"},{"$f":"IF(AB51=AB59,AZ59,IF(AB51=AB62,AZ62,))","v":{"$error":"#DIV/0!"}},{"$error":"#DIV/0!"},{"$f":"IF(AB51=AB59,BB59,IF(AB51=AB62,BB62,))","v":{"$error":"#DIV/0!"}},{"$error":"#DIV/0!"},{"$error":"#DIV/0!"},null,{"$error":"#DIV/0!"}]
[null,null,null,null,null,null,null,null,null,null,null,null,null,null,null,null,null,null,null,null,null,null,null,null,null,null,"D",{"$f":"IF(AT78=2,AB78,IF(AT81=2,AB81,))","v":{"$error":"#DIV/0!"}},null,{"$f":"IF(AB52=AB78,AV78,IF(AB52=AB81,AV81,))","v":{"$error":"#DIV/0!"}},{"$error":"#DIV/0!"},{"$f":"IF(AB52=AB78,AX78,IF(AB52=AB81,AX81,))","v":{"$error":"#DIV/0!"}},{"$error":"#DIV/0!"},{"$f":"IF(AB52=AB78,AZ78,IF(AB52=AB81,AZ81,))","v":{"$error":"#DIV/0!"}},{"$error":"#DIV/0!"},{"$f":"IF(AB52=AB78,BB78,IF(AB52=AB81,BB81,))","v":{"$error":"#DIV/0!"}},{"$error":"#DIV/0!"},{"$error":"#DIV/0!"},null,{"$error":"#DIV/0!"}]
[]
[]
[null,"SAISIE DES RESULTATS",null,null,null,null,null,null,null,null,null,"SAISIE DES RESULTATS",null,null,null,null,null,null,null,null,null,null,null,null,null,null,null,null,null,{"$f":"C50","v":0},null,null,{"$f":"C51","v":0},null,null,{"$f":"C50","v":0},null,null,{"$f":"C51","v":0},null,null,null,"TOTAUX",null,null,"CLASSEMENT",null,null,null,null,null,null,null,null,null,null,null,null,null,null,null,null,null,{"$f":"M50","v":{"$error":"#DIV/0!"}},null,null,{"$f":"M51","v":{"$error":"#DIV/0!"}},null,null,{"$f":"M50","v":{"$error":"#DIV/0!"}},null,null,{"$f":"M51","v":{"$error":"#DIV/0!"}},null,null,null,"TOTAUX",null,null,"CLASSEMENT"]
[]
[null,null,null,null,null,null,null,null,null,null,null,null,null,null,null,null,null,null,null,null,null,null,null,null,null,null,null,null,null,null,null,null,null,null,null,null,null,null,null,null,null,null,null,null,null,null,null,"Classement",null,"Classement",null,"Classement",null,"Classement",null,"Classement",null,"GENERAL","RANG",null,null,null,null,null,null,null,null,null,null,null,null,null,null,null,null,null,null,null,null,null,null,"Classement",null,"Classement",null,"Classement",null,"Classement",null,"Classement",null,"GENERAL","RANG"]
[null,"PHASE 1 - POULE C",null,null,null,null,null,null,null,null,null,"PHASE 3 - POULE C",null,null,null,null,null,null,null,null,null,null,null,null,null,null,null,null,null,null,null,null,null,null,null,null,null,null,null,null,null,null,null,null,null,null,null,"Point-Match","CLS-M","Moy-Gen","CLS-G","Moy-Part","CLS-G","M-Series","CLS-S","MGPS","CLS","CLS",null,null,null,null,null,null,null,null,null,null,null,null,null,null,null,null,null,null,null,null,null,null,null,"Point-Match","CLS-M","Moy-Gen","CLS-G","Moy-Part","CLS-P","M-Series","CLS-S","MGPS","CLS","CLS"]
[null,null,null,null,null,null,null,null,null,null,null,null,null,null,null,null,null,null,null,null,null,null,null,null,null,null,null,{"$f":"C50","v":0},null,"L",null,null,{"$f":"D62","v":0},null,{"$f":"E62","v":0},"B",null,null,{"$f":"D65","v":0},null,{"$f":"E65","v":0},null,{"$f":"AG59+AM59","v":0},null,{"$f":"AI59+AO59","v":0},{"$f":"BG59","v":{"$error":"#DIV/0!"}},null,{"$f":"AR60","v":0.02},{"$f":"RANK(AV59,AV$59:AV$64,0)","v":1},{"$f":"AS61","v":{"$error":"#DIV/0!"}},{"$f":"RANK(AX59,AX$59:AX$64,0)","v":{"$error":"#DIV/0!"}},{"$f":"MAX(AI61,AO61)","v":{"$error":"#DIV/0!"}},{"$f":"RANK(AZ59,AZ$59:AZ$64,0)","v":{"$error":"#DIV/0!"}},{"$f":"AQ61","v":0},{"$f":"RANK(BB59,BB$59:BB$64)","v":1},{"$f":"(AW59*1000)+(AY59*100)+(BA59*10)+(BC59*1)","v":{"$error":"#DIV/0!"}},{"$f":"RANK(BD59,BD$59:BD$64)","v":{"$error":"#DIV/0!"}},{"$f":"BD59","v":{"$error":"#DIV/0!"}},{"$f":"RANK(BF59,BF59:BF$64,1)","v":{"$error":"#DIV/0!"}},null,null,{"$f":"M50","v":{"$error":"#DIV/0!"}},null,"L",null,null,{"$f":"N62","v":0},null,{"$f":"O62","v":0},"B",null,null,{"$f":"N65","v":0},null,{"$f":"O65","v":0},null,{"$f":"BO59+BU59","v":0},null,{"$f":"BQ59+BW59","v":0},{"$f":"CO59","v":{"$error":"#DIV/0!"}},null,{"$f":"BY59","v":0},{"$f":"RANK(CD59,CD$59:CD$64,0)","v":1},{"$f":"CA61","v":{"$error":"#DIV/0!"}},{"$f":"RANK(CF59,CF$59:CF$64,0)","v":{"$error":"#DIV/0!"}},{"$f":"MAX(BQ61,BW61)","v":{"$error":"#DIV/0!"}},{"$f":"RANK(CH59,CH$59:CH$64,0)","v":{"$error":"#DIV/0!"}},{"$f":"BY61","v":0},{"$f":"RANK(CJ59,CJ$59:CJ$64,0)","v":1},{"$f":"(CE59*1000)+(CG59*100)+(CI59*10)+(CK67*1)","v":{"$error":"#DIV/0!"}},{"$f":"RANK(CL59,CL$59:CL$64,0)","v":{"$error":"#DIV/0!"}},{"$f":"CL59","v":{"$error":"#DIV/0!"}},{"$f":"RANK(CL59,CL$59:CL$64,1)","v":{"$error":"#DIV/0!"}}]
[null,null,null,null,null,null,null,null,null,null,null,"Derniers 2ème des poules A-B-C-D",null,null,null,null,null,null,null,null,null,null,null,null,null,null,null,null,null,null,null,null,null,{"$f":"IF(AI59<1,0.01,IF(AG59>AD62,2,IF(AG59=AD62,1,0)))","v":0.01},null,null,null,null,null,{"$f":"IF(AO59<1,0.01,IF(AM59>AJ62,2,IF(AM59=AJ62,1,0)))","v":0.01},null,null,null,{"$f":"AH60+AN60","v":0.02},null,null,null,null,null,null,null,null,null,null,null,null,null,null,null,null,null,null,null,null,null,null,null,{"$f":"IF(BQ59<1,0.01,IF(BO59>BL62,2,IF(BO59=BL62,1,0)))","v":0.01},null,null,null,null,null,{"$f":"IF(BW59<1,0.01,IF(BU59>BR62,2,IF(BU59=BR62,1,0)))","v":0.01},null,null,null,{"$f":"BP60+BV60","v":0.02}]
[null,null,null,"Pts","Rep","Série",null,null,null,null,null,null,null,"Pts","Rep","Série",null,null,null,null,null,null,null,null,null,null,null,null,null,null,null,null,{"$f":"F62","v":0},null,{"$f":"AG59/AI59","v":{"$error":"#DIV/0!"}},null,null,null,{"$f":"F65","v":0},null,{"$f":"AM59/AO59","v":{"$error":"#DIV/0!"}},null,{"$f":"MAX(AG61,AM61)","v":0},null,{"$f":"AQ59/AS59","v":{"$error":"#DIV/0!"}},null,null,null,null,null,null,null,null,null,null,null,null,null,null,null,null,null,null,null,null,null,{"$f":"P62","v":0},null,{"$f":"BO59/BQ59","v":{"$error":"#DIV/0!"}},null,null,null,{"$f":"P65","v":0},null,{"$f":"BU59/BW59","v":{"$error":"#DIV/0!"}},null,{"$f":"MAX(BO61,BU61)","v":0},null,{"$f":"BY59/CA59","v":{"$error":"#DIV/0!"}}]
[null,"Tour 1",{"$f":"C50","v":0},null,null,null,null,null,null,null,null,"Tour 1",{"$f":"M50","v":{"$error":"#DIV/0!"}},null,null,null,null,null,null,null,null,null,null,null,null,null,null,{"$f":"C51","v":0},null,{"$f":"D63","v":0},null,{"$f":"E62","v":0},"M",null,null,{"$f":"D66","v":0},null,{"$f":"E65","v":0},null,null,null,null,{"$f":"AD62+AJ62","v":0},null,{"$f":"AF62+AL62","v":0},{"$f":"BG62","v":{"$error":"#DIV/0!"}},null,{"$f":"AR63","v":0.02},{"$f":"RANK(AV62,AV$59:AV$64,0)","v":1},{"$f":"AS64","v":{"$error":"#DIV/0!"}},{"$f":"RANK(AX62,AX$59:AX$64,0)","v":{"$error":"#DIV/0!"}},{"$f":"MAX(AF64,AL64)","v":{"$error":"#DIV/0!"}},{"$f":"RANK(AZ62,AZ$59:AZ$64,0)","v":{"$error":"#DIV/0!"}},{"$f":"AQ64","v":0},{"$f":"RANK(BB62,BB$59:BB$64)","v":1},{"$f":"(AW62*1000)+(AY62*100)+(BA62*10)+(BC62*1)","v":{"$error":"#DIV/0!"}},{"$f":"RANK(BD62,BD$59:BD$64)","v":{"$error":"#DIV/0!"}},{"$f":"BD62","v":{"$error":"#DIV/0!"}},{"$f":"RANK(BF62,BF59:BF$64,1)","v":{"$error":"#DIV/0!"}},null,null,{"$f":"M51","v":{"$error":"#DIV/0!"}},null,{"$f":"N63","v":0},null,{"$f":"O62","v":0},"M",null,null,{"$f":"N66","v":0},null,{"$f":"O65","v":0},null,null,null,null,{"$f":"BL62+BR62","v":0},null,{"$f":"BN62+BT62","v":0},{"$f":"CO62","v":{"$error":"#DIV/0!"}},null,{"$f":"BY62","v":0},{"$f":"RANK(CD62,CD$59:CD$64,0)","v":1},{"$f":"CA64","v":{"$error":"#DIV/0!"}},{"$f":"RANK(CF62,CF$59:CF$64,0)","v":{"$error":"#DIV/0!"}},{"$f":"MAX(BN64,BT64)","v":{"$error":"#DIV/0!"}},{"$f":"RANK(CH62,CH$59:CH$64,0)","v":{"$error":"#DIV/0!"}},{"$f":"BY64","v":0},{"$f":"RANK(CJ62,CJ$59:CJ$64,0)","v":1},{"$f":"(CE62*1000)+(CG62*100)+(CI62*10)+(CK70*1)","v":{"$error":"#DIV/0!"}},{"$f":"RANK(CL62,CL$59:CL$64,0)","v":{"$error":"#DIV/0!"}},{"$f":"CL62","v":{"$error":"#DIV/0!"}},{"$f":"RANK(CL62,CL$59:CL$64,1)","v":{"$error":"#DIV/0!"}}]
[null,null,{"$f":"C51","v":0},null,null,null,null,null,null,null,null,null,{"$f":"M51","v":{"$error":"#DIV/0!"}},null,null,null,null,null,null,null,null,null,null,null,null,null,null,null,null,null,{"$f":"IF(AI59>0,2-AH60,0.01)","v":0.01},null,null,null,null,null,{"$f":"IF(AL62<1,0.01,IF(AJ62>AM59,2,IF(AJ62=AM59,1,0)))","v":0.01},null,null,null,null,null,null,{"$f":"AE63+AK63","v":0.02},null,null,null,null,null,null,null,null,null,null,null,null,null,null,null,null,null,null,null,null,{"$f":"IF(BN62<1,0.01,IF(BL62>BO59,2,IF(BL62=BO59,1,0)))","v":0.01},null,null,null,null,null,{"$f":"IF(BT62<1,0.01,IF(BR62>BU59,2,IF(BR62=BU59,1,0)))","v":0.01},null,null,null,null,null,null,{"$f":"BM63+BS63","v":0.02}]
[null,null,null,null,null,null,null,null,null,null,null,null,null,null,null,null,null,null,null,null,null,null,null,null,null,null,null,null,null,{"$f":"F63","v":0},null,{"$f":"AD62/AF62","v":{"$error":"#DIV/0!"}},null,null,null,{"$f":"F66","v":0},null,{"$f":"AJ62/AL62","v":{"$error":"#DIV/0!"}},null,null,null,null,{"$f":"MAX(AD64,AJ64)","v":0},null,{"$f":"AQ62/AS62","v":{"$error":"#DIV/0!"}},null,null,null,null,null,null,null,null,null,null,null,null,null,null,null,null,null,null,{"$f":"P63","v":0},null,{"$f":"BL62/BN62","v":{"$error":"#DIV/0!"}},null,null,null,{"$f":"P66","v":0},null,{"$f":"BR62/BT62","v":{"$error":"#DIV/0!"}},null,null,null,null,{"$f":"MAX(BL64,BR64)","v":0},null,{"$f":"BY62/CA62","v":{"$error":"#DIV/0!"}}]
[null,"Tour 2",{"$f":"C50","v":0},null,null,null,null,null,null,null,null,"Tour 2",{"$f":"M50","v":{"$error":"#DIV/0!"}}]
[null,null,{"$f":"C51","v":0},null,null,null,null,null,null,null,null,null,{"$f":"M51","v":{"$error":"#DIV/0!"}}]
[]
[]
[null,"Joueur 1",{"$f":"'Saisie des joueurs'!L21","v":0},null,null,null,null,null,null,null,null,"Joueur 1",{"$f":"IF(AQ18=3,AB18,IF(AQ21=3,AB21,IF(AQ24=3,AB24)))","v":{"$error":"#DIV/0!"}}]
[null,"Joueur 2",{"$f":"'Saisie des joueurs'!L22","v":0},null,null,null,null,null,null,null,null,"Joueur 2",{"$f":"IF(AQ38=3,AB38,IF(AQ41=3,AB41,IF(AQ44=3,AB44,)))","v":{"$error":"#DIV/0!"}}]
[null,null,null,null,null,null,null,null,null,null,null,null,null,null,null,null,null,null,null,null,null,null,null,null,null,null,null,null,null,null,null,null,null,null,null,null,null,null,null,null,null,null,null,null,null,null,null,null,null,null,null,null,null,null,null,null,null,null,null,null,null,null,null,{"$f":"M69","v":{"$error":"#DIV/0!"}},null,null,{"$f":"M70","v":{"$error":"#DIV/0!"}},null,null,{"$f":"M69","v":{"$error":"#DIV/0!"}},null,null,{"$f":"M70","v":{"$error":"#DIV/0!"}},null,null,null,"TOTAUX",null,null,"CLASSEMENT"]
[null,"SAISIE DES RESULTATS",null,null,null,null,null,null,null,null,null,"SAISIE DES RESULTATS"]
[null,null,null,null,null,null,null,null,null,null,null,null,null,null,null,null,null,null,null,null,null,null,null,null,null,null,null,null,null,null,null,null,null,null,null,null,null,null,null,null,null,null,null,null,null,null,null,null,null,null,null,null,null,null,null,null,null,null,null,null,null,null,null,null,null,null,null,null,null,null,null,null,null,null,null,null,null,null,null,null,null,"Classement",null,"Classement",null,"Classement",null,"Classement",null,"Classement",null,"GENERAL","RANG"]
[null,null,null,null,null,null,null,null,null,null,null,null,null,null,null,null,null,null,null,null,null,null,null,null,null,null,null,null,null,{"$f":"C69","v":0},null,null,{"$f":"C70","v":0},null,null,{"$f":"C69","v":0},null,null,{"$f":"C70","v":0},null,null,null,"TOTAUX",null,null,"CLASSEMENT",null,null,null,null,null,null,null,null,null,null,null,null,null,null,null,null,null,null,null,null,null,null,null,null,null,null,null,null,null,null,null,null,null,null,null,"Point-Match","CLS-M","Moy-Gen","CLS-G","Moy-Part","CLS-P","M-Series","CLS-S","MGPS","CLS","CLS"]
[null,"PHASE 1 - POULE D",null,null,null,null,null,null,null,null,null,"PHASE 2 - POULE D",null,null,null,null,null,null,null,null,null,null,null,null,null,null,null,null,null,null,null,null,null,null,null,null,null,null,null,null,null,null,null,null,null,null,null,null,null,null,null,null,null,null,null,null,null,null,null,null,null,{"$f":"M69","v":{"$error":"#DIV/0!"}},null,"L",null,null,{"$f":"N79","v":0},null,{"$f":"O79","v":0},"B",null,null,{"$f":"N82","v":0},null,{"$f":"O82","v":0},null,{"$f":"BO75+BU75","v":0},null,{"$f":"BQ75+BW75","v":0},{"$f":"CO75","v":{"$error":"#DIV/0!"}},null,{"$f":"BY75","v":0},{"$f":"RANK(CD75,CD$75:CD$80,0)","v":1},{"$f":"CA77","v":{"$error":"#DIV/0!"}},{"$f":"RANK(CF75,CF$75:CF$80,0)","v":{"$error":"#DIV/0!"}},{"$f":"MAX(BQ77,BW77)","v":{"$error":"#DIV/0!"}},{"$f":"RANK(CH75,CH$75:CH$80,0)","v":{"$error":"#DIV/0!"}},{"$f":"BY77","v":0},{"$f":"RANK(CJ75,CJ$75:CJ$80,0)","v":1},{"$f":"(CE75*1000)+(CG75*100)+(CI75*10)+(CK75*1)","v":{"$error":"#DIV/0!"}},{"$f":"RANK(CL75,CL$75:CL$80,0)","v":{"$error":"#DIV/0!"}},{"$f":"CL75","v":{"$error":"#DIV/0!"}},{"$f":"RANK(CL75,CL$75:CL$80,1)","v":{"$error":"#DIV/0!"}}]
[null,null,null,null,null,null,null,null,null,null,null,null,null,null,null,null,null,null,null,null,null,null,null,null,null,null,null,null,null,null,null,null,null,null,null,null,null,null,null,null,null,null,null,null,null,null,null,"Classement",null,"Classement",null,"Classement",null,"Classement",null,"Classement",null,"GENERAL","RANG",null,null,null,null,null,null,null,null,{"$f":"IF(BQ75<1,0.01,IF(BO75>BL78,2,IF(BO75=BL78,1,0)))","v":0.01},null,null,null,null,null,{"$f":"IF(BW75<1,0.01,IF(BU75>BR78,2,IF(BU75=BR78,1,0)))","v":0.01},null,null,null,{"$f":"BP76+BV76","v":0.02}]
[null,null,null,null,null,null,null,null,null,null,null,"3ème des poules A-B de la phase 1",null,null,null,null,null,null,null,null,null,null,null,null,null,null,null,null,null,null,null,null,null,null,null,null,null,null,null,null,null,null,null,null,null,null,null,"Point-Match","CLS-M","Moy-Gen","CLS-G","Moy-Part","CLS-G","M-Series","CLS-S","MGPS","CLS","CLS",null,null,null,null,null,null,null,null,{"$f":"P79","v":0},null,{"$f":"BO75/BQ75","v":{"$error":"#DIV/0!"}},null,null,null,{"$f":"P82","v":0},null,{"$f":"BU75/BW75","v":{"$error":"#DIV/0!"}},null,{"$f":"MAX(BO77,BU77)","v":0},null,{"$f":"BY75/CA75","v":{"$error":"#DIV/0!"}}]
[null,null,null,"Pts","Rep","Série",null,null,null,null,null,null,null,"Pts","Rep","Série",null,null,null,null,null,null,null,null,null,null,null,{"$f":"C69","v":0},null,"L",null,null,{"$f":"D79","v":0},null,{"$f":"E79","v":0},"B",null,null,{"$f":"D82","v":0},null,{"$f":"E82","v":0},null,{"$f":"AG78+AM78","v":0},null,{"$f":"AI78+AO78","v":0},{"$f":"BG78","v":{"$error":"#DIV/0!"}},null,{"$f":"AR79","v":0.02},{"$f":"RANK(AV78,AV$78:AV$83,0)","v":1},{"$f":"AS80","v":{"$error":"#DIV/0!"}},{"$f":"RANK(AX78,AX$78:AX$83,0)","v":{"$error":"#DIV/0!"}},{"$f":"MAX(AI80,AO80)","v":{"$error":"#DIV/0!"}},{"$f":"RANK(AZ78,AZ$78:AZ$83,0)","v":{"$error":"#DIV/0!"}},{"$f":"AQ80","v":0},{"$f":"RANK(BB78,BB$78:BB$83)","v":1},{"$f":"(AW78*1000)+(AY78*100)+(BA78*10)+(BC78*1)","v":{"$error":"#DIV/0!"}},{"$f":"RANK(BD78,BD$78:BD$83)","v":{"$error":"#DIV/0!"}},{"$f":"BD78","v":{"$error":"#DIV/0!"}},{"$f":"RANK(BF78,BF$78:BF83,1)","v":{"$error":"#DIV/0!"}},null,null,{"$f":"M70","v":{"$error":"#DIV/0!"}},null,{"$f":"N80","v":0},null,{"$f":"O79","v":0},"M",null,null,{"$f":"N83","v":0},null,{"$f":"O82","v":0},null,null,null,null,{"$f":"BL78+BR78","v":0},null,{"$f":"BN78+BT78","v":0},{"$f":"CO78","v":{"$error":"#DIV/0!"}},null,{"$f":"BY78","v":0},{"$f":"RANK(CD78,CD$75:CD$80,0)","v":1},{"$f":"CA80","v":{"$error":"#DIV/0!"}},{"$f":"RANK(CF78,CF$75:CF$80,0)","v":{"$error":"#DIV/0!"}},{"$f":"MAX(BN80,BT80)","v":{"$error":"#DIV/0!"}},{"$f":"RANK(CH78,CH$75:CH$80,0)","v":{"$error":"#DIV/0!"}},{"$f":"BY80","v":0},{"$f":"RANK(CJ78,CJ$75:CJ$80,0)","v":1},{"$f":"(CE78*1000)+(CG78*100)+(CI78*10)+(CK78*1)","v":{"$error":"#DIV/0!"}},{"$f":"RANK(CL78,CL$75:CL$80,0)","v":{"$error":"#DIV/0!"}},{"$f":"CL78","v":{"$error":"#DIV/0!"}},{"$f":"RANK(CL78,CL$75:CL$80,1)","v":{"$error":"#DIV/0!"}}]
[null,"Tour 1",{"$f":"C69","v":0},null,null,null,null,null,null,null,null,"Tour 1",{"$f":"M69","v":{"$error":"#DIV/0!"}},null,null,null,null,null,null,null,null,null,null,null,null,null,null,null,null,null,null,null,null,{"$f":"IF(AI78<1,0.01,IF(AG78>AD81,2,IF(AG78=AD81,1,0)))","v":0.01},null,null,null,null,null,{"$f":"IF(AO78<1,0.01,IF(AM78>AJ81,2,IF(AM78=AJ81,1,0)))","v":0.01},null,null,null,{"$f":"AH79+AN79","v":0.02},null,null,null,null,null,null,null,null,null,null,null,null,null,null,null,null,null,null,null,null,{"$f":"IF(BN78<1,0.01,IF(BL78>BO75,2,IF(BL78=BO75,1,0)))","v":0.01},null,null,null,null,null,{"$f":"IF(BT78<1,0.01,IF(BR78>BU75,2,IF(BR78=BU75,1,0)))","v":0.01},null,null,null,null,null,null,{"$f":"BM79+BS79","v":0.02}]
[null,null,{"$f":"C70","v":0},null,null,null,null,null,null,null,null,null,{"$f":"M70","v":{"$error":"#DIV/0!"}},null,null,null,null,null,null,null,null,null,null,null,null,null,null,null,null,null,null,null,{"$f":"F79","v":0},null,{"$f":"AG78/AI78","v":{"$error":"#DIV/0!"}},null,null,null,{"$f":"F82","v":0},null,{"$f":"AM78/AO78","v":{"$error":"#DIV/0!"}},null,{"$f":"MAX(AG80,AM80)","v":0},null,{"$f":"AQ78/AS78","v":{"$error":"#DIV/0!"}},null,null,null,null,null,null,null,null,null,null,null,null,null,null,null,null,null,null,{"$f":"P80","v":0},null,{"$f":"BL78/BN78","v":{"$error":"#DIV/0!"}},null,null,null,{"$f":"P83","v":0},null,{"$f":"BR78/BT78","v":{"$error":"#DIV/0!"}},null,null,null,null,{"$f":"MAX(BL80,BR80)","v":0},null,{"$f":"BY78/CA78","v":{"$error":"#DIV/0!"}}]
[null,null,null,null,null,null,null,null,null,null,null,null,null,null,null,null,null,null,null,null,null,null,null,null,null,null,null,{"$f":"C70","v":0},null,{"$f":"D80","v":0},null,{"$f":"E79","v":0},"M",null,null,{"$f":"D83","v":0},null,{"$f":"E82","v":0},null,null,null,null,{"$f":"AD81+AJ81","v":0},null,{"$f":"AF81+AL81","v":0},{"$f":"BG81","v":{"$error":"#DIV/0!"}},null,{"$f":"AR82","v":0.02},{"$f":"RANK(AV81,AV$78:AV$83,0)","v":1},{"$f":"AS83","v":{"$error":"#DIV/0!"}},{"$f":"RANK(AX81,AX$78:AX$83,0)","v":{"$error":"#DIV/0!"}},{"$f":"MAX(AF83,AL83)","v":{"$error":"#DIV/0!"}},{"$f":"RANK(AZ81,AZ$78:AZ$83,0)","v":{"$error":"#DIV/0!"}},{"$f":"AQ83","v":0},{"$f":"RANK(BB81,BB$78:BB$83)","v":1},{"$f":"(AW81*1000)+(AY81*100)+(BA81*10)+(BC81*1)","v":{"$error":"#DIV/0!"}},{"$f":"RANK(BD81,BD$78:BD$83)","v":{"$error":"#DIV/0!"}},{"$f":"BD81","v":{"$error":"#DIV/0!"}},{"$f":"RANK(BF81,BF$64:BF83,1)","v":{"$error":"#DIV/0!"}}]
[null,"Tour 2",{"$f":"C69","v":0},null,null,null,null,null,null,null,null,"Tour 2",{"$f":"M69","v":{"$error":"#DIV/0!"}},null,null,null,null,null,null,null,null,null,null,null,null,null,null,null,null,null,{"$f":"IF(AI78>0,2-AH79,0.01)","v":0.01},null,null,null,null,null,{"$f":"IF(AL81<1,0.01,IF(AJ81>AM78,2,IF(AJ81=AM78,1,0)))","v":0.01},null,null,null,null,null,null,{"$f":"AE82+AK82","v":0.02}]
[null,null,{"$f":"C70","v":0},null,null,null,null,null,null,null,null,null,{"$f":"M70","v":{"$error":"#DIV/0!"}},null,null,null,null,null,null,null,null,null,null,null,null,null,null,null,null,{"$f":"F80","v":0},null,{"$f":"AD81/AF81","v":{"$error":"#DIV/0!"}},null,null,null,{"$f":"F83","v":0},null,{"$f":"AJ81/AL81","v":{"$error":"#DIV/0!"}},null,null,null,null,{"$f":"MAX(AD83,AJ83)","v":0},null,{"$f":"AQ81/AS81","v":{"$error":"#DIV/0!"}}]
[]
[]
[]
[]
[]
[]
[]
[]
[]
[]
[]
[null,null,null,null,null,null,null,null,null,null,null,null,null,null,null,null,null,null,null,null,null,null,null,null,null,null,null,null,null,null,"PtsP1","PtsP2","Total","RepP1","RepP2","Total","Moy"]
[null,null,null,null,null,null,null,null,null,null,null,null,null,null,null,null,null,null,null,null,null,null,null,null,null,null,null,{"$f":"T18","v":{"$error":"#DIV/0!"}},null,null,{"$f":"IF(AB18=AB96,AN18,IF(AB21=AB96,AN21,IF(AB24=AB96,AN24,IF(AB38=AB96,AN38,IF(AB41=AB96,AN41,IF(AB44=AB96,AN44,IF(AB59=AB96,AQ59,IF(AB62=AB96,AQ62,IF(AB65=AB96,AQ65)))))))))","v":{"$error":"#DIV/0!"}},{"$f":"IF(BJ18=AB96,BV18,IF(BJ21=AB96,BV21,IF(BJ24=AB96,BV24,IF(BJ38=AB96,BV38,IF(BJ41=AB96,BV41,IF(BJ44=AB96,BV44,IF(BJ59=AB96,BY59,IF(BJ62=AB96,BY62,IF(#REF!=AB96,#REF!)))))))))","v":{"$error":"#DIV/0!"}},{"$f":"AE96+AF96","v":{"$error":"#DIV/0!"}},{"$f":"IF(AB18=AB96,AP18,IF(AB21=AB96,AP21,IF(AB24=AB96,AP24,IF(AB38=AB96,AP38,IF(AB41=AB96,AP41,IF(AB44=AB96,AP44,IF(AB59=AB96,AS59,IF(AB62=AB96,AS62,IF(AB65=AB96,AS65)))))))))","v":{"$error":"#DIV/0!"}},{"$f":"IF(BJ18=AB96,BX18,IF(BJ21=AB96,BX21,IF(BJ24=AB96,BX24,IF(BJ38=AB96,BX38,IF(BJ41=AB96,BX41,IF(BJ44=AB96,BX44,IF(BJ59=AB96,CA59,IF(BJ62=AB96,CA62,IF(#REF!=AB96,#REF!)))))))))","v":{"$error":"#DIV/0!"}},{"$f":"AH96+AI96","v":{"$error":"#DIV/0!"}},{"$f":"AG96/AJ96","v":{"$error":"#DIV/0!"}}]
[null,null,null,null,null,null,null,null,null,null,null,null,null,null,null,null,null,null,null,null,null,null,null,null,null,null,null,{"$error":"#DIV/0!"},null,null,{"$f":"IF(AB18=AB97,AN18,IF(AB21=AB97,AN21,IF(AB24=AB97,AN24,IF(AB38=AB97,AN38,IF(AB41=AB97,AN41,IF(AB44=AB97,AN44,IF(AB59=AB97,AQ59,IF(AB62=AB97,AQ62,IF(AB65=AB97,AQ65)))))))))","v":{"$error":"#DIV/0!"}},{"$f":"IF(BJ18=AB97,BV18,IF(BJ21=AB97,BV21,IF(BJ24=AB97,BV24,IF(BJ38=AB97,BV38,IF(BJ41=AB97,BV41,IF(BJ44=AB97,BV44,IF(BJ59=AB97,BY59,IF(BJ62=AB97,BY62,IF(#REF!=AB97,#REF!)))))))))","v":{"$error":"#DIV/0!"}},{"$f":"AE97+AF97","v":{"$error":"#DIV/0!"}},{"$f":"IF(AB18=AB97,AP18,IF(AB21=AB97,AP21,IF(AB24=AB97,AP24,IF(AB38=AB97,AP38,IF(AB41=AB97,AP41,IF(AB44=AB97,AP44,IF(AB59=AB97,AS59,IF(AB62=AB97,AS62,IF(AB65=AB97,AS65)))))))))","v":{"$error":"#DIV/0!"}},{"$f":"IF(BJ18=AB97,BX18,IF(BJ21=AB97,BX21,IF(BJ24=AB97,BX24,IF(BJ38=AB97,BX38,IF(BJ41=AB97,BX41,IF(BJ44=AB97,BX44,IF(BJ59=AB97,CA59,IF(BJ62=AB97,CA62,IF(#REF!=AB97,#REF!)))))))))","v":{"$error":"#DIV/0!"}},{"$f":"AH97+AI97","v":{"$error":"#DIV/0!"}},{"$f":"AG97/AJ97","v":{"$error":"#DIV/0!"}}]
[null,null,null,null,null,null,null,null,null,null,null,null,null,null,null,null,null,null,null,null,null,null,null,null,null,null,null,{"$error":"#DIV/0!"},null,null,{"$f":"IF(AB18=AB98,AN18,IF(AB21=AB98,AN21,IF(AB24=AB98,AN24,IF(AB38=AB98,AN38,IF(AB41=AB98,AN41,IF(AB44=AB98,AN44,IF(AB59=AB98,AQ59,IF(AB62=AB98,AQ62,IF(AB65=AB98,AQ65)))))))))","v":{"$error":"#DIV/0!"}},{"$f":"IF(BJ18=AB98,BV18,IF(BJ21=AB98,BV21,IF(BJ24=AB98,BV24,IF(BJ38=AB98,BV38,IF(BJ41=AB98,BV41,IF(BJ44=AB98,BV44,IF(BJ59=AB98,BY59,IF(BJ62=AB98,BY62,IF(#REF!=AB98,#REF!)))))))))","v":{"$error":"#DIV/0!"}},{"$error":"#DIV/0!"},{"$f":"IF(AB18=AB98,AP18,IF(AB21=AB98,AP21,IF(AB24=AB98,AP24,IF(AB38=AB98,AP38,IF(AB41=AB98,AP41,IF(AB44=AB98,AP44,IF(AB59=AB98,AS59,IF(AB62=AB98,AS62,IF(AB65=AB98,AS65)))))))))","v":{"$error":"#DIV/0!"}},{"$f":"IF(BJ18=AB98,BX18,IF(BJ21=AB98,BX21,IF(BJ24=AB98,BX24,IF(BJ38=AB98,BX38,IF(BJ41=AB98,BX41,IF(BJ44=AB98,BX44,IF(BJ59=AB98,CA59,IF(BJ62=AB98,CA62,IF(#REF!=AB98,#REF!)))))))))","v":{"$error":"#DIV/0!"}},{"$error":"#DIV/0!"},{"$error":"#DIV/0!"}]
[null,null,null,null,null,null,null,null,null,null,null,null,null,null,null,null,null,null,null,null,null,null,null,null,null,null,null,{"$error":"#DIV/0!"},null,null,{"$f":"IF(AB18=AB99,AN18,IF(AB21=AB99,AN21,IF(AB24=AB99,AN24,IF(AB38=AB99,AN38,IF(AB41=AB99,AN41,IF(AB44=AB99,AN44,IF(AB59=AB99,AQ59,IF(AB62=AB99,AQ62,IF(AB65=AB99,AQ65)))))))))","v":{"$error":"#DIV/0!"}},{"$f":"IF(BJ18=AB99,BV18,IF(BJ21=AB99,BV21,IF(BJ24=AB99,BV24,IF(BJ38=AB99,BV38,IF(BJ41=AB99,BV41,IF(BJ44=AB99,BV44,IF(BJ59=AB99,BY59,IF(BJ62=AB99,BY62,IF(#REF!=AB99,#REF!)))))))))","v":{"$error":"#DIV/0!"}},{"$error":"#DIV/0!"},{"$f":"IF(AB18=AB99,AP18,IF(AB21=AB99,AP21,IF(AB24=AB99,AP24,IF(AB38=AB99,AP38,IF(AB41=AB99,AP41,IF(AB44=AB99,AP44,IF(AB59=AB99,AS59,IF(AB62=AB99,AS62,IF(AB65=AB99,AS65)))))))))","v":{"$error":"#DIV/0!"}},{"$f":"IF(BJ18=AB99,BX18,IF(BJ21=AB99,BX21,IF(BJ24=AB99,BX24,IF(BJ38=AB99,BX38,IF(BJ41=AB99,BX41,IF(BJ44=AB99,BX44,IF(BJ59=AB99,CA59,IF(BJ62=AB99,CA62,IF(#REF!=AB99,#REF!)))))))))","v":{"$error":"#DIV/0!"}},{"$error":"#DIV/0!"},{"$error":"#DIV/0!"}]
[null,null,null,null,null,null,null,null,null,null,null,null,null,null,null,null,null,null,null,null,null,null,null,null,null,null,null,{"$error":"#DIV/0!"},null,null,{"$f":"IF(AB18=AB100,AN18,IF(AB21=AB100,AN21,IF(AB24=AB100,AN24,IF(AB38=AB100,AN38,IF(AB41=AB100,AN41,IF(AB44=AB100,AN44,IF(AB59=AB100,AQ59,IF(AB62=AB100,AQ62,IF(AB65=AB100,AQ65)))))))))","v":{"$error":"#DIV/0!"}},{"$f":"IF(BJ18=AB100,BV18,IF(BJ21=AB100,BV21,IF(BJ24=AB100,BV24,IF(BJ38=AB100,BV38,IF(BJ41=AB100,BV41,IF(BJ44=AB100,BV44,IF(BJ59=AB100,BY59,IF(BJ62=AB100,BY62,IF(#REF!=AB100,#REF!)))))))))","v":{"$error":"#DIV/0!"}},{"$error":"#DIV/0!"},{"$f":"IF(AB18=AB100,AP18,IF(AB21=AB100,AP21,IF(AB24=AB100,AP24,IF(AB38=AB100,AP38,IF(AB41=AB100,AP41,IF(AB44=AB100,AP44,IF(AB59=AB100,AS59,IF(AB62=AB100,AS62,IF(AB65=AB100,AS65)))))))))","v":{"$error":"#DIV/0!"}},{"$f":"IF(BJ18=AB100,BX18,IF(BJ21=AB100,BX21,IF(BJ24=AB100,BX24,IF(BJ38=AB100,BX38,IF(BJ41=AB100,BX41,IF(BJ44=AB100,BX44,IF(BJ59=AB100,CA59,IF(BJ62=AB100,CA62,IF(#REF!=AB100,#REF!)))))))))","v":{"$error":"#DIV/0!"}},{"$error":"#DIV/0!"},{"$error":"#DIV/0!"}]
[null,null,null,null,null,null,null,null,null,null,null,null,null,null,null,null,null,null,null,null,null,null,null,null,null,null,null,{"$error":"#DIV/0!"},null,null,{"$f":"IF(AB18=AB101,AN18,IF(AB21=AB101,AN21,IF(AB24=AB101,AN24,IF(AB38=AB101,AN38,IF(AB41=AB101,AN41,IF(AB44=AB101,AN44,IF(AB59=AB101,AQ59,IF(AB62=AB101,AQ62,IF(AB65=AB101,AQ65,)))))))))","v":{"$error":"#DIV/0!"}},{"$f":"IF(BJ18=AB101,BV18,IF(BJ21=AB101,BV21,IF(BJ24=AB101,BV24,IF(BJ38=AB101,BV38,IF(BJ41=AB101,BV41,IF(BJ44=AB101,BV44,IF(BJ59=AB101,BY59,IF(BJ62=AB101,BY62,IF(#REF!=AB101,#REF!)))))))))","v":{"$error":"#DIV/0!"}},{"$error":"#DIV/0!"},{"$f":"IF(AB18=AB101,AP18,IF(AB21=AB101,AP21,IF(AB24=AB101,AP24,IF(AB38=AB101,AP38,IF(AB41=AB101,AP41,IF(AB44=AB101,AP44,IF(AB59=AB101,AS59,IF(AB62=AB101,AS62,IF(AB65=AB101,AS65)))))))))","v":{"$error":"#DIV/0!"}},{"$f":"IF(BJ18=AB101,BX18,IF(BJ21=AB101,BX21,IF(BJ24=AB101,BX24,IF(BJ38=AB101,BX38,IF(BJ41=AB101,BX41,IF(BJ44=AB101,BX44,IF(BJ59=AB101,CA59,IF(BJ62=AB101,CA62,IF(#REF!=AB101,#REF!)))))))))","v":{"$error":"#DIV/0!"}},{"$error":"#DIV/0!"},{"$error":"#DIV/0!"}]
[null,null,null,null,null,null,null,null,null,null,null,null,null,null,null,null,null,null,null,null,null,null,null,null,null,null,null,{"$error":"#DIV/0!"},null,null,{"$f":"IF(AB18=AB102,AN18,IF(AB21=AB102,AN21,IF(AB24=AB102,AN24,IF(AB38=AB102,AN38,IF(AB41=AB102,AN41,IF(AB44=AB102,AN44,IF(AB59=AB102,AQ59,IF(AB62=AB102,AQ62,IF(AB65=AB102,AQ65,)))))))))","v":{"$error":"#DIV/0!"}},{"$f":"IF(BJ18=AB102,BV18,IF(BJ21=AB102,BV21,IF(BJ24=AB102,BV24,IF(BJ38=AB102,BV38,IF(BJ41=AB102,BV41,IF(BJ44=AB102,BV44,IF(BJ59=AB102,BY59,IF(BJ62=AB102,BY62,IF(#REF!=AB102,#REF!)))))))))","v":{"$error":"#DIV/0!"}},{"$error":"#DIV/0!"},{"$f":"IF(AB18=AB102,AP18,IF(AB21=AB102,AP21,IF(AB24=AB102,AP24,IF(AB38=AB102,AP38,IF(AB41=AB102,AP41,IF(AB44=AB102,AP44,IF(AB59=AB102,AS59,IF(AB62=AB102,AS62,IF(AB65=AB102,AS65)))))))))","v":{"$error":"#DIV/0!"}},{"$f":"IF(BJ18=AB102,BX18,IF(BJ21=AB102,BX21,IF(BJ24=AB102,BX24,IF(BJ38=AB102,BX38,IF(BJ41=AB102,BX41,IF(BJ44=AB102,BX44,IF(BJ59=AB102,CA59,IF(BJ62=AB102,CA62,IF(#REF!=AB102,#REF!)))))))))","v":{"$error":"#DIV/0!"}},{"$error":"#DIV/0!"},{"$error":"#DIV/0!"}]
[null,null,null,null,null,null,null,null,null,null,null,null,null,null,null,null,null,null,null,null,null,null,null,null,null,null,null,{"$error":"#DIV/0!"},null,null,{"$f":"IF(AB18=AB103,AN18,IF(AB21=AB103,AN21,IF(AB24=AB103,AN24,IF(AB38=AB103,AN38,IF(AB41=AB103,AN41,IF(AB44=AB103,AN44,IF(AB59=AB103,AQ59,IF(AB62=AB103,AQ62,IF(AB65=AB103,AQ65,)))))))))","v":{"$error":"#DIV/0!"}},{"$f":"IF(BJ18=AB103,BV18,IF(BJ21=AB103,BV21,IF(BJ24=AB103,BV24,IF(BJ38=AB103,BV38,IF(BJ41=AB103,BV41,IF(BJ44=AB103,BV44,IF(BJ59=AB103,BY59,IF(BJ62=AB103,BY62,IF(#REF!=AB103,#REF!)))))))))","v":{"$error":"#DIV/0!"}},{"$error":"#DIV/0!"},{"$f":"IF(AB18=AB103,AP18,IF(AB21=AB103,AP21,IF(AB24=AB103,AP24,IF(AB38=AB103,AP38,IF(AB41=AB103,AP41,IF(AB44=AB103,AP44,IF(AB59=AB103,AS59,IF(AB62=AB103,AS62,IF(AB65=AB103,AS65)))))))))","v":{"$error":"#DIV/0!"}},{"$f":"IF(BJ18=AB103,BX18,IF(BJ21=AB103,BX21,IF(BJ24=AB103,BX24,IF(BJ38=AB103,BX38,IF(BJ41=AB103,BX41,IF(BJ44=AB103,BX44,IF(BJ59=AB103,CA59,IF(BJ62=AB103,CA62,IF(#REF!=AB103,#REF!)))))))))","v":{"$error":"#DIV/0!"}},{"$error":"#DIV/0!"},{"$error":"#DIV/0!"}]
[null,null,null,null,null,null,null,null,null,null,null,null,null,null,null,null,null,null,null,null,null,null,null,null,null,null,null,{"$error":"#DIV/0!"},null,null,{"$f":"IF(AB18=AB104,AN18,IF(AB21=AB104,AN21,IF(AB24=AB104,AN24,IF(AB38=AB104,AN38,IF(AB41=AB104,AN41,IF(AB44=AB104,AN44,IF(AB59=AB104,AQ59,IF(AB62=AB104,AQ62,IF(AB65=AB104,AQ65,)))))))))","v":{"$error":"#DIV/0!"}},{"$f":"IF(BJ18=AB104,BV18,IF(BJ21=AB104,BV21,IF(BJ24=AB104,BV24,IF(BJ38=AB104,BV38,IF(BJ41=AB104,BV41,IF(BJ44=AB104,BV44,IF(BJ59=AB104,BY59,IF(BJ62=AB104,BY62,IF(#REF!=AB104,#REF!)))))))))","v":{"$error":"#DIV/0!"}},{"$error":"#DIV/0!"},{"$f":"IF(AB18=AB104,AP18,IF(AB21=AB104,AP21,IF(AB24=AB104,AP24,IF(AB38=AB104,AP38,IF(AB41=AB104,AP41,IF(AB44=AB104,AP44,IF(AB59=AB104,AS59,IF(AB62=AB104,AS62,IF(AB65=AB104,AS65)))))))))","v":{"$error":"#DIV/0!"}},{"$f":"IF(BJ18=AB104,BX18,IF(BJ21=AB104,BX21,IF(BJ24=AB104,BX24,IF(BJ38=AB104,BX38,IF(BJ41=AB104,BX41,IF(BJ44=AB104,BX44,IF(BJ59=AB104,CA59,IF(BJ62=AB104,CA62,IF(#REF!=AB104,#REF!)))))))))","v":{"$error":"#DIV/0!"}},{"$error":"#DIV/0!"},{"$error":"#DIV/0!"}]
[null,null,null,null,null,null,null,null,null,null,null,null,null,null,null,null,null,null,null,null,null,null,null,null,null,null,null,{"$error":"#DIV/0!"},null,null,{"$f":"IF(AB19=AB105,AN19,IF(AB22=AB105,AN22,IF(AB25=AB105,AN25,IF(AB39=AB105,AN39,IF(AB42=AB105,AN42,IF(AB45=AB105,AN45,IF(AB60=AB105,AQ60,IF(AB63=AB105,AQ63,IF(AB66=AB105,AQ66,)))))))))","v":{"$error":"#DIV/0!"}},{"$f":"IF(BJ19=AB105,BV19,IF(BJ22=AB105,BV22,IF(BJ25=AB105,BV25,IF(BJ39=AB105,BV39,IF(BJ42=AB105,BV42,IF(BJ45=AB105,BV45,IF(BJ60=AB105,BY60,IF(BJ63=AB105,BY63,IF(#REF!=AB105,#REF!)))))))))","v":{"$error":"#DIV/0!"}},{"$f":"AE105+AF105","v":{"$error":"#DIV/0!"}},{"$f":"IF(AB19=AB105,AP19,IF(AB22=AB105,AP22,IF(AB25=AB105,AP25,IF(AB39=AB105,AP39,IF(AB42=AB105,AP42,IF(AB45=AB105,AP45,IF(AB60=AB105,AS60,IF(AB63=AB105,AS63,IF(AB66=AB105,AS66)))))))))","v":{"$error":"#DIV/0!"}},{"$f":"IF(BJ19=AB105,BX19,IF(BJ22=AB105,BX22,IF(BJ25=AB105,BX25,IF(BJ39=AB105,BX39,IF(BJ42=AB105,BX42,IF(BJ45=AB105,BX45,IF(BJ60=AB105,CA60,IF(BJ63=AB105,CA63,IF(#REF!=AB105,#REF!)))))))))","v":{"$error":"#DIV/0!"}},{"$f":"AH105+AI105","v":{"$error":"#DIV/0!"}},{"$f":"AG105/AJ105","v":{"$error":"#DIV/0!"}}]

{"sheet":"11JOUEURS","index":22,"n_rows":101,"n_cols":93,"rows_kept":101,"cut":false,"hidden":true,"merged":[[16,16,16,17],[64,89,66,89],[68,26,68,28],[68,37,68,38],[69,27,69,28],[69,37,69,38],[70,27,70,28],[70,37,70,38],[71,27,71,28],[71,37,71,38],[64,80,66,80],[64,81,66,81],[64,82,66,82],[64,83,66,83],[64,84,66,84],[64,85,66,85],[64,86,66,86],[64,87,66,87],[64,88,66,88],[64,55,66,55],[64,51,66,51],[64,52,66,52],[64,53,66,53],[64,54,66,54],[56,80,56,81],[56,82,56,83],[56,84,56,85],[56,86,56,87],[56,89,57,89],[58,78,60,78],[58,80,60,80],[61,78,63,78],[61,80,63,80],[61,82,63,82],[61,83,63,83],[61,84,63,84],[61,85,63,85],[61,86,63,86],[61,87,63,87],[61,88,63,88],[61,89,63,89],[61,81,63,81],[58,86,60,86],[58,87,60,87],[58,88,60,88],[58,89,60,89],[58,81,60,81],[58,83,60,83],[54,73,57,75],[54,76,57,76],[58,76,60,76],[61,76,63,76],[64,61,66,62],[64,69,66,71],[64,76,66,76],[56,78,56,79],[64,78,66,78],[64,79,66,79],[54,63,57,65],[54,66,57,68],[54,69,57,71],[55,61,57,62],[99,27,99,29],[67,1,68,1],[67,4,68,4],[67,11,68,11],[67,14,68,14],[51,12,51,15],[64,27,66,28],[64,35,66,37],[90,27,90,29],[91,27,91,29],[92,27,92,29],[93,27,93,29],[94,27,94,29],[95,27,95,29],[96,27,96,29],[97,27,97,29],[98,27,98,29],[59,11,60,12],[61,1,62,1],[61,4,62,4],[61,11,62,11],[61,14,62,14],[61,27,63,28],[61,32,63,34],[83,58,85,58],[84,1,85,1],[84,4,85,4],[84,11,85,11],[84,14,85,14],[83,27,85,28],[83,32,85,34],[83,38,85,40],[83,45,85,45],[83,47,85,47],[83,48,85,48],[83,49,85,49],[83,50,85,50],[83,51,85,51],[83,87,85,87],[83,88,85,88],[83,89,85,89],[83,90,85,90],[83,91,85,91],[83,92,85,92],[81,1,82,1],[81,4,82,4],[81,11,82,11],[81,14,82,14],[83,66,85,68],[83,72,85,74],[83,79,85,79],[83,81,85,81],[83,82,85,82],[83,83,85,83],[83,84,85,84],[83,85,85,85],[83,86,85,86],[80,51,82,51],[80,52,82,52],[80,53,82,53],[80,54,82,54],[80,55,82,55],[80,56,82,56],[80,57,82,57],[80,58,82,58],[83,61,85,62],[77,1,78,2],[77,11,78,12],[77,27,79,28],[80,61,82,62],[80,63,82,65],[79,11,80,12],[80,27,82,28],[80,29,82,31],[80,35,82,37],[80,45,82,45],[80,47,82,47],[80,48,82,48],[80,49,82,49],[80,50,82,50],[83,52,85,52],[83,53,85,53],[83,54,85,54],[83,55,85,55],[83,56,85,56],[83,57,85,57],[80,90,82,90],[80,91,82,91],[78,83,78,84],[78,85,78,86],[78,87,78,88],[78,89,78,90],[78,92,79,92],[76,29,79,31],[76,32,79,34],[76,35,79,37],[76,38,79,40],[76,42,79,44],[76,45,79,45],[80,69,82,71],[80,79,82,79],[80,81,82,81],[80,82,82,82],[78,47,78,48],[78,49,78,50],[78,51,78,52],[78,53,78,54],[78,55,78,56],[78,58,79,58],[78,81,78,82],[71,2,71,5],[71,12,71,15],[72,12,72,15],[64,49,66,49],[64,50,66,50],[72,2,72,5],[64,42,66,42],[80,92,82,92],[76,63,79,65],[76,66,79,68],[76,69,79,71],[76,72,79,74],[76,76,79,78],[76,79,79,79],[74,1,75,5],[74,11,75,15],[77,61,79,62],[80,83,82,83],[80,84,82,84],[80,85,82,85],[80,86,82,86],[80,87,82,87],[80,88,82,88],[80,89,82,89],[64,45,66,45],[64,46,66,46],[64,47,66,47],[64,48,66,48],[61,45,63,45],[61,47,63,47],[61,48,63,48],[64,1,65,1],[64,4,65,4],[64,11,65,11],[64,14,65,14],[64,44,66,44],[58,84,60,84],[58,85,60,85],[61,53,63,53],[61,54,63,54],[58,61,60,62],[58,63,60,65],[58,79,60,79],[58,51,60,51],[58,52,60,52],[58,53,60,53],[58,54,60,54],[58,55,60,55],[61,55,63,55],[61,61,63,62],[61,66,63,68],[61,79,63,79],[58,82,60,82],[56,50,56,51],[58,42,60,42],[58,44,60,44],[58,46,60,46],[61,49,63,49],[61,50,63,50],[61,51,63,51],[61,52,63,52],[61,42,63,42],[56,52,56,53],[61,44,63,44],[61,46,63,46],[56,55,57,55],[51,2,51,5],[51,27,51,28],[51,37,51,38],[54,1,55,5],[54,11,55,15],[54,29,57,31],[54,32,57,34],[54,35,57,37],[57,1,58,2],[57,11,58,12],[58,27,60,28],[58,29,60,31],[58,45,60,45],[58,47,60,47],[58,48,60,48],[58,49,60,49],[58,50,60,50],[55,27,57,28],[54,39,57,41],[54,42,57,42],[56,44,56,45],[56,46,56,47],[56,48,56,49],[48,37,48,38],[49,2,49,5],[49,12,49,15],[49,27,49,28],[49,37,49,38],[50,2,50,5],[50,12,50,15],[50,27,50,28],[50,37,50,38],[48,27,48,28],[43,82,45,82],[43,83,45,83],[43,84,45,84],[43,85,45,85],[43,86,45,86],[43,87,45,87],[43,88,45,88],[43,89,45,89],[46,1,47,1],[46,4,47,4],[46,11,47,11],[46,14,47,14],[47,26,47,28],[47,37,47,38],[43,54,45,54],[43,55,45,55],[43,61,45,62],[43,69,45,71],[43,76,45,76],[43,78,45,78],[43,79,45,79],[43,80,45,80],[43,81,45,81],[40,83,42,83],[40,84,42,84],[40,85,42,85],[40,86,42,86],[40,87,42,87],[40,88,42,88],[40,89,42,89],[43,1,44,1],[43,4,44,4],[43,11,44,11],[43,14,44,14],[43,27,45,28],[43,35,45,37],[43,42,45,42],[43,44,45,44],[43,45,45,45],[43,46,45,46],[43,47,45,47],[43,48,45,48],[43,49,45,49],[43,50,45,50],[43,51,45,51],[43,52,45,52],[43,53,45,53],[40,55,42,55],[40,61,42,62],[40,66,42,68],[40,76,42,76],[40,78,42,78],[40,79,42,79],[40,80,42,80],[40,81,42,81],[40,82,42,82],[37,85,39,85],[37,86,39,86],[37,87,39,87],[37,88,39,88],[37,89,39,89],[38,11,39,12],[40,1,41,1],[40,4,41,4],[40,11,41,11],[40,14,41,14],[40,27,42,28],[40,32,42,34],[40,42,42,42],[40,44,42,44],[40,45,42,45],[40,46,42,46],[40,47,42,47],[40,48,42,48],[40,49,42,49],[40,50,42,50],[40,51,42,51],[40,52,42,52],[40,53,42,53],[40,54,42,54],[37,63,39,65],[37,76,39,76],[37,78,39,78],[37,79,39,79],[37,80,39,80],[37,81,39,81],[37,82,39,82],[37,83,39,83],[37,84,39,84],[35,78,35,79],[35,80,35,81],[35,82,35,83],[35,84,35,85],[35,86,35,87],[35,89,36,89],[36,1,37,2],[36,11,37,12],[37,27,39,28],[37,29,39,31],[37,42,39,42],[37,44,39,44],[37,45,39,45],[37,46,39,46],[37,47,39,47],[37,48,39,48],[37,49,39,49],[37,50,39,50],[37,51,39,51],[37,52,39,52],[37,53,39,53],[37,54,39,54],[37,55,39,55],[37,61,39,62],[33,39,36,41],[33,42,36,42],[33,63,36,65],[33,66,36,68],[33,69,36,71],[33,73,36,75],[33,76,36,76],[34,27,36,28],[34,61,36,62],[35,44,35,45],[35,46,35,47],[35,48,35,49],[35,50,35,51],[35,52,35,53],[35,55,36,55],[31,2,31,5],[31,12,31,15],[31,27,31,28],[31,37,31,38],[32,2,32,5],[33,1,34,5],[33,11,34,15],[33,29,36,31],[33,32,36,34],[33,35,36,37],[27,37,27,38],[28,27,28,28],[28,37,28,38],[27,19,27,21],[29,2,29,5],[29,12,29,15],[29,27,29,28],[29,37,29,38],[30,2,30,5],[30,12,30,15],[30,27,30,28],[30,37,30,38],[23,83,25,83],[23,84,25,84],[23,85,25,85],[23,86,25,86],[23,87,25,87],[23,88,25,88],[23,89,25,89],[24,19,24,21],[25,19,25,21],[23,55,25,55],[23,61,25,62],[23,69,25,71],[23,76,25,76],[23,78,25,78],[23,79,25,79],[23,80,25,80],[23,81,25,81],[23,82,25,82],[20,88,22,88],[20,89,22,89],[21,7,21,10],[21,19,21,21],[22,19,22,21],[23,1,24,1],[23,4,24,4],[23,11,24,11],[23,14,24,14],[23,19,23,21],[23,27,25,28],[23,35,25,37],[23,42,25,42],[23,44,25,44],[23,45,25,45],[23,46,25,46],[23,47,25,47],[23,48,25,48],[23,49,25,49],[23,50,25,50],[23,51,25,51],[23,52,25,52],[23,53,25,53],[23,54,25,54],[20,79,22,79],[20,80,22,80],[20,81,22,81],[20,82,22,82],[20,83,22,83],[20,84,22,84],[20,85,22,85],[20,86,22,86],[20,87,22,87],[20,51,22,51],[20,52,22,52],[20,53,22,53],[20,54,22,54],[20,55,22,55],[20,61,22,62],[20,66,22,68],[20,76,22,76],[20,78,22,78],[20,32,22,34],[20,42,22,42],[20,44,22,44],[20,45,22,45],[20,46,22,46],[20,47,22,47],[20,48,22,48],[20,49,22,49],[20,50,22,50],[17,83,19,83],[17,84,19,84],[17,85,19,85],[17,86,19,86],[17,87,19,87],[17,88,19,88],[17,89,19,89],[18,11,19,12],[18,19,18,21],[17,55,19,55],[17,61,19,62],[17,63,19,65],[17,76,19,76],[17,78,19,78],[17,79,19,79],[17,80,19,80],[17,81,19,81],[17,82,19,82],[19,19,19,21],[15,78,15,79],[15,80,15,81],[15,82,15,83],[15,84,15,85],[15,86,15,87],[15,89,16,89],[16,1,17,2],[16,11,17,12],[16,19,16,21],[17,19,17,21],[17,27,19,28],[17,29,19,31],[17,42,19,42],[17,44,19,44],[17,45,19,45],[17,46,19,46],[17,47,19,47],[17,48,19,48],[17,49,19,49],[17,50,19,50],[17,51,19,51],[17,52,19,52],[17,53,19,53],[17,54,19,54],[13,63,16,65],[13,66,16,68],[13,69,16,71],[13,73,16,75],[13,76,16,76],[14,27,16,28],[14,61,16,62],[15,44,15,45],[15,46,15,47],[15,48,15,49],[15,50,15,51],[15,52,15,53],[15,55,16,55],[13,29,16,31],[13,32,16,34],[13,35,16,37],[13,39,16,41],[13,42,16,42],[1,12,3,24],[2,1,3,2],[2,3,3,9],[5,1,6,2],[5,3,6,9],[5,12,5,15],[5,17,5,18],[6,12,6,15],[6,17,6,18],[5,22,5,23],[6,22,6,23],[100,27,100,29],[9,2,9,5],[9,12,9,15],[10,2,10,5],[10,12,10,15],[11,2,11,5],[11,12,11,15],[13,1,14,5],[13,11,14,15],[13,18,14,24],[19,7,19,10],[20,1,21,1],[20,4,21,4],[20,7,20,10],[20,11,21,11],[20,14,21,14],[20,19,20,21],[20,27,22,28],[26,1,27,1],[26,4,27,4],[26,11,27,11],[26,14,27,14],[26,19,26,21],[27,26,27,28]]}
[]
[null,null,null,null,null,null,null,null,null,null,null,null,"LIGUE MÉDITERRANÉENNE DE BILLARD"]
[null,"CLUB ORGANISATEUR"]
[]
[]
[null,"DIRECTEUR DE JEU :",null,null,null,null,null,null,null,null,null,null,"Compétition",null,null,null,null,"Mode de jeu",null,null,"Categorie",null,"Distance"]
[]
[]
[]
[null,"Joueur 1",{"$f":"'Saisie des joueurs'!L18","v":0},null,null,null,null,null,null,null,null,"Joueur 1",{"$f":"IF(AN29=1,AB29,IF(AN30=1,AB30,IF(AN31=1,AB31,IF(AN32=1,AB32,))))","v":{"$error":"#DIV/0!"}}]
[null,"Joueur 2",{"$f":"'Saisie des joueurs'!L25","v":0},null,null,null,null,null,null,null,null,"Joueur 2",{"$f":"IF(AN29=2,AB29,IF(AN30=2,AB30,IF(AN31=2,AB31,IF(AN32=2,AB32,))))","v":{"$error":"#DIV/0!"}}]
[null,"Joueur 3",{"$f":"'Saisie des joueurs'!L26","v":0},null,null,null,null,null,null,null,null,"Joueur 3",{"$f":"IF(AN29=3,AB29,IF(AN30=3,AB30,IF(AN31=3,AB31,IF(AN32=3,AB32,))))","v":{"$error":"#DIV/0!"}}]
[]
[null,"SAISIE DES RESULTATS",null,null,null,null,null,null,null,null,null,"SAISIE DES RESULTATS",null,null,null,null,null,null,"CLASSEMENT DU TOURNOI",null,null,null,null,null,null,null,null,null,null,{"$f":"C10","v":0},null,null,{"$f":"C11","v":0},null,null,{"$f":"C12","v":0},null,null,null,"TOTAUX",null,null,"CLASSEMENT",null,null,null,null,null,null,null,null,null,null,null,null,null,null,null,null,null,null,null,null,{"$f":"M10","v":{"$error":"#DIV/0!"}},null,null,{"$f":"M11","v":{"$error":"#DIV/0!"}},null,null,{"$f":"M12","v":{"$error":"#DIV/0!"}},null,null,null,"TOTAUX",null,null,"CLASSEMENT"]
[]
[null,null,null,null,null,null,null,null,null,null,null,null,null,null,null,null,null,null,null,null,null,null,null,null,null,null,null,null,null,null,null,null,null,null,null,null,null,null,null,null,null,null,null,null,"Classement",null,"Classement",null,"Classement",null,"Classement",null,"Classement",null,"GENERAL","RANG",null,null,null,null,null,null,null,null,null,null,null,null,null,null,null,null,null,null,null,null,null,null,"Classement",null,"Classement",null,"Classement",null,"Classement",null,"Classement",null,"GENERAL","RANG"]
[null,"PHASE 1 - POULE A",null,null,null,null,null,null,null,null,null,"PHASE 5 - POULE A",null,null,null,null,"Pts Tournoi",null,null,"NOM",null,null,"Pts","Rep","Moy.",null,null,null,null,null,null,null,null,null,null,null,null,null,null,null,null,null,null,null,"Point-Match","CLS-M","Moy-Gen","CLS-G","Moy-Part","CLS-P","M-Series","CLS-S","MGPS","CLS","CLS",null,null,null,null,null,null,null,null,null,null,null,null,null,null,null,null,null,null,null,null,null,null,null,"Point-Match","CLS-M","Moy-Gen","CLS-G","Moy-Part","CLS-P","M-Series","CLS-S","MGPS","CLS","CLS"]
[null,null,null,null,null,null,null,null,null,null,null,null,null,null,null,null,null,120,1,{"$f":"IF(BY18=1,BJ18,IF(BY21=1,BJ21,IF(BY24=1,BJ24,)))","v":{"$error":"#DIV/0!"}},null,null,{"$f":"AG91","v":{"$error":"#DIV/0!"}},{"$f":"AJ91","v":{"$error":"#DIV/0!"}},{"$f":"W18/X18","v":{"$error":"#DIV/0!"}},null,null,{"$f":"C10","v":0},null,"L",null,null,{"$f":"D27","v":0},null,{"$f":"E27","v":0},{"$f":"D21","v":0},null,{"$f":"E21","v":0},null,{"$f":"AG18+AJ18","v":0},null,{"$f":"AI18+AL18","v":0},{"$f":"BD18","v":{"$error":"#DIV/0!"}},null,{"$f":"AO19","v":0.02},{"$f":"RANK(AS18,AS$18:AS$26,0)","v":1},{"$f":"AP20","v":{"$error":"#DIV/0!"}},{"$f":"RANK(AU18,AU$18:AU$26,0)","v":{"$error":"#DIV/0!"}},{"$f":"MAX(AI20,AL20)","v":{"$error":"#DIV/0!"}},{"$f":"RANK(AW18,AW$18:AW$26,0)","v":{"$error":"#DIV/0!"}},{"$f":"AN20","v":0},{"$f":"RANK(AY18,AY$18:AY$26)","v":1},{"$f":"(AT18*1000)+(AV18*100)+(AX18*10)+(AZ18*1)","v":{"$error":"#DIV/0!"}},{"$f":"RANK(BA18,BA$18:BA$26)","v":{"$error":"#DIV/0!"}},{"$f":"BA18","v":{"$error":"#DIV/0!"}},{"$f":"RANK(BC18,BC$18:BC$26,1)","v":{"$error":"#DIV/0!"}},null,null,null,null,null,{"$f":"M10","v":{"$error":"#DIV/0!"}},null,"L",null,null,{"$f":"N27","v":0},null,{"$f":"O27","v":0},{"$f":"N21","v":0},null,{"$f":"O21","v":0},null,{"$f":"BO18+BR18","v":0},null,{"$f":"BQ18+BT18","v":0},{"$f":"CL18","v":{"$error":"#DIV/0!"}},null,{"$f":"BW19","v":0.02},{"$f":"RANK(CA18,CA$18:CA$26,0)","v":1},{"$f":"BX20","v":{"$error":"#DIV/0!"}},{"$f":"RANK(CC18,CC$18:CC$26,0)","v":{"$error":"#DIV/0!"}},{"$f":"MAX(BQ20,BT20)","v":{"$error":"#DIV/0!"}},{"$f":"RANK(CE18,CE$18:CE$26,1)","v":{"$error":"#DIV/0!"}},{"$f":"BV20","v":0},{"$f":"RANK(CG18,CG$18:CG$26)","v":1},{"$f":"(CB18*1000)+(CD18*100)+(CF18*10)+(CH18*1)","v":{"$error":"#DIV/0!"}},{"$f":"RANK(CI18,CI$18:CI$26)","v":{"$error":"#DIV/0!"}},{"$f":"CI18","v":{"$error":"#DIV/0!"}},{"$f":"RANK(CK18,CK$18:CK$26,1)","v":{"$error":"#DIV/0!"}}]
[null,null,null,null,null,null,null,null,null,null,null,"3 meilleurs 1er des poules A-B-C-D de la phase 1",null,null,null,null,null,90,2,{"$f":"IF(BY18=2,BJ18,IF(BY21=2,BJ21,IF(BY24=2,BJ24,)))","v":{"$error":"#DIV/0!"}},null,null,{"$f":"AG92","v":{"$error":"#DIV/0!"}},{"$f":"AJ92","v":{"$error":"#DIV/0!"}},{"$f":"W19/X19","v":{"$error":"#DIV/0!"}},null,null,null,null,null,null,null,null,{"$f":"IF(AI18<1,0.01,IF(AG18>AD21,2,IF(AG18=AD21,1,0)))","v":0.01},null,null,{"$f":"IF(AL18<1,0.01,IF(AJ18>AD24,2,IF(AJ18=AD24,1,0)))","v":0.01},null,null,null,{"$f":"AH19+AK19","v":0.02},null,null,null,null,null,null,null,null,null,null,null,null,null,null,null,null,null,null,null,null,null,null,null,null,null,null,{"$f":"IF(BQ18<1,0.01,IF(BO18>BL21,2,IF(BO18=BL21,1,0)))","v":0.01},null,null,{"$f":"IF(BT18<1,0.01,IF(BR18>BL24,2,IF(BR18=BL24,1,0)))","v":0.01},null,null,null,{"$f":"BP19+BS19","v":0.02}]
[null,null,null,"Pts","Rep","Série",null,"1er de poule",null,null,null,null,null,"Pts","Rep","Série",null,70,3,{"$f":"IF(BY18=3,BJ18,IF(BY21=3,BJ21,IF(BY24=3,BJ24,)))","v":{"$error":"#DIV/0!"}},null,null,{"$error":"#DIV/0!"},{"$error":"#DIV/0!"},{"$error":"#DIV/0!"},null,null,null,null,null,null,null,{"$f":"F27","v":0},null,{"$f":"AG18/AI18","v":{"$error":"#DIV/0!"}},{"$f":"F21","v":0},null,{"$f":"AJ18/AL18","v":{"$error":"#DIV/0!"}},null,{"$f":"MAX(AG20,AJ20)","v":0},null,{"$f":"AN18/AP18","v":{"$error":"#DIV/0!"}},null,null,null,null,null,null,null,null,null,null,null,null,null,null,null,null,null,null,null,null,null,null,null,null,{"$f":"P27","v":0},null,{"$f":"BO18/BQ18","v":{"$error":"#DIV/0!"}},{"$f":"P21","v":0},null,{"$f":"BR18/BT18","v":{"$error":"#DIV/0!"}},null,{"$f":"MAX(BO20,BR20)","v":0},null,{"$f":"BV18/BX18","v":{"$error":"#DIV/0!"}}]
[null,"Tour 1",{"$f":"C10","v":0},null,null,null,null,"2ème de poule",null,null,null,"Tour 1",{"$f":"M10","v":{"$error":"#DIV/0!"}},null,null,null,null,50,4,{"$f":"IF(BY38=1,BJ38,IF(BY41=1,BJ41,IF(BY44=1,BJ44,)))","v":{"$error":"#DIV/0!"}},null,null,{"$error":"#DIV/0!"},{"$error":"#DIV/0!"},{"$error":"#DIV/0!"},null,null,{"$f":"C11","v":0},null,{"$f":"D28","v":0},null,{"$f":"E27","v":0},"M",null,null,{"$f":"D24","v":0},null,{"$f":"E24","v":0},null,{"$f":"AD21+AJ21","v":0},null,{"$f":"AF21+AL21","v":0},{"$f":"BD21","v":{"$error":"#DIV/0!"}},null,{"$f":"AO22","v":0.02},{"$f":"RANK(AS21,AS$18:AS$26,0)","v":1},{"$f":"AP23","v":{"$error":"#DIV/0!"}},{"$f":"RANK(AU21,AU$18:AU$26,0)","v":{"$error":"#DIV/0!"}},{"$f":"MAX(AF23,AL23)","v":{"$error":"#DIV/0!"}},{"$f":"RANK(AW21,AW$18:AW$26,0)","v":{"$error":"#DIV/0!"}},{"$f":"AN23","v":0},{"$f":"RANK(AY21,AY$18:AY$26)","v":1},{"$f":"(AT21*1000)+(AV21*100)+(AX21*10)+(AZ21*1)","v":{"$error":"#DIV/0!"}},{"$f":"RANK(BA21,BA$18:BA$26)","v":{"$error":"#DIV/0!"}},{"$f":"BA21","v":{"$error":"#DIV/0!"}},{"$f":"RANK(BC21,BC$18:BC$26,1)","v":{"$error":"#DIV/0!"}},null,null,null,null,null,{"$f":"M11","v":{"$error":"#DIV/0!"}},null,{"$f":"N28","v":0},null,{"$f":"O27","v":0},"M",null,null,{"$f":"N24","v":0},null,{"$f":"O24","v":0},null,{"$f":"BL21+BR21","v":0},null,{"$f":"BN21+BT21","v":0},{"$f":"CL21","v":{"$error":"#DIV/0!"}},null,{"$f":"BW22","v":0.02},{"$f":"RANK(CA21,CA$18:CA$26,0)","v":1},{"$f":"BX23","v":{"$error":"#DIV/0!"}},{"$f":"RANK(CC21,CC$18:CC$26,0)","v":{"$error":"#DIV/0!"}},{"$f":"MAX(BN23,BT23)","v":{"$error":"#DIV/0!"}},{"$f":"RANK(CE21,CE$18:CE$26,1)","v":{"$error":"#DIV/0!"}},{"$f":"BV23","v":0},{"$f":"RANK(CE21,CE$18:CE$26)","v":{"$error":"#DIV/0!"}},{"$f":"(CB21*1000)+(CD21*100)+(CF21*10)+(CH21*1)","v":{"$error":"#DIV/0!"}},{"$f":"RANK(CI21,CI$18:CI$26)","v":{"$error":"#DIV/0!"}},{"$f":"CI21","v":{"$error":"#DIV/0!"}},{"$f":"RANK(CK21,CK$18:CK$26,1)","v":{"$error":"#DIV/0!"}}]
[null,null,{"$f":"C12","v":0},null,null,null,null,"3ème de poule",null,null,null,null,{"$f":"M12","v":{"$error":"#DIV/0!"}},null,null,null,null,30,5,{"$f":"IF(BY38=2,BJ38,IF(BY41=2,BJ41,IF(BY44=2,BJ44,)))","v":{"$error":"#DIV/0!"}},null,null,{"$error":"#DIV/0!"},{"$error":"#DIV/0!"},{"$error":"#DIV/0!"},null,null,null,null,null,{"$f":"IF(AI18>0,2-AH19,0.01)","v":0.01},null,null,null,null,null,{"$f":"IF(AL21<1,0.01,IF(AJ21>AG24,2,IF(AJ21=AG24,1,0)))","v":0.01},null,null,null,{"$f":"AE22+AK22","v":0.02},null,null,null,null,null,null,null,null,null,null,null,null,null,null,null,null,null,null,null,null,null,null,null,{"$f":"IF(BN21<1,0.01,IF(BL21>BO18,2,IF(BL21=BO18,1,0)))","v":0.01},null,null,null,null,null,{"$f":"IF(BT21<1,0.01,IF(BR21>BO24,2,IF(BR21=BO24,1,0)))","v":0.01},null,null,null,{"$f":"BM22+BS22","v":0.02}]
[null,null,null,null,null,null,null,null,null,null,null,null,null,null,null,null,null,10,6,{"$f":"IF(BY38=3,BJ38,IF(BY41=3,BJ41,IF(BY44=3,BJ44,)))","v":{"$error":"#DIV/0!"}},null,null,{"$error":"#DIV/0!"},{"$error":"#DIV/0!"},{"$error":"#DIV/0!"},null,null,null,null,{"$f":"F28","v":0},null,{"$f":"AD21/AF21","v":{"$error":"#DIV/0!"}},null,null,null,{"$f":"F24","v":0},null,{"$f":"AJ21/AL21","v":{"$error":"#DIV/0!"}},null,{"$f":"MAX(AD23,AJ23)","v":0},null,{"$f":"AN21/AP21","v":{"$error":"#DIV/0!"}},null,null,null,null,null,null,null,null,null,null,null,null,null,null,null,null,null,null,null,null,null,{"$f":"P28","v":0},null,{"$f":"BL21/BN21","v":{"$error":"#DIV/0!"}},null,null,null,{"$f":"P24","v":0},null,{"$f":"BR21/BT21","v":{"$error":"#DIV/0!"}},null,{"$f":"MAX(BL23,BR23)","v":0},null,{"$f":"BV21/BX21","v":{"$error":"#DIV/0!"}}]
[null,"Tour 2",{"$f":"C11","v":0},null,null,null,null,null,null,null,null,"Tour 2",{"$f":"M11","v":{"$error":"#DIV/0!"}},null,null,null,null,5,7,{"$f":"IF(BY59=1,BJ59,IF(BY62=1,BJ62,IF(BY65=1,BJ65,)))","v":{"$error":"#DIV/0!"}},null,null,{"$error":"#DIV/0!"},{"$error":"#DIV/0!"},{"$error":"#DIV/0!"},null,null,{"$f":"C12","v":0},null,{"$f":"D22","v":0},null,{"$f":"E21","v":0},{"$f":"D25","v":0},null,{"$f":"E24","v":0},"B",null,null,null,{"$f":"AD24+AG24","v":0},null,{"$f":"AF24+AI24","v":0},{"$f":"BD24","v":{"$error":"#DIV/0!"}},null,{"$f":"AO25","v":0.02},{"$f":"RANK(AS24,AS$18:AS$26,0)","v":1},{"$f":"AP26","v":{"$error":"#DIV/0!"}},{"$f":"RANK(AU24,AU$18:AU$26,0)","v":{"$error":"#DIV/0!"}},{"$f":"MAX(AF26,AI26)","v":{"$error":"#DIV/0!"}},{"$f":"RANK(AW24,AW$18:AW$26,0)","v":{"$error":"#DIV/0!"}},{"$f":"AN26","v":0},{"$f":"RANK(AY24,AY$18:AY$26)","v":1},{"$f":"(AT24*1000)+(AV24*100)+(AX24*10)+(AZ24*1)","v":{"$error":"#DIV/0!"}},{"$f":"RANK(BA24,BA$18:BA$26)","v":{"$error":"#DIV/0!"}},{"$f":"BA24","v":{"$error":"#DIV/0!"}},{"$f":"RANK(BC24,BC$18:BC$26,1)","v":{"$error":"#DIV/0!"}},null,null,null,null,null,{"$f":"M12","v":{"$error":"#DIV/0!"}},null,{"$f":"N22","v":0},null,{"$f":"O21","v":0},{"$f":"N25","v":0},null,{"$f":"O24","v":0},"B",null,null,null,{"$f":"BL24+BO24","v":0},null,{"$f":"BN24+BQ24","v":0},{"$f":"CL24","v":{"$error":"#DIV/0!"}},null,{"$f":"BW25","v":0.02},{"$f":"RANK(CA24,CA$18:CA$26,0)","v":1},{"$f":"BX26","v":{"$error":"#DIV/0!"}},{"$f":"RANK(CC24,CC$18:CC$26,0)","v":{"$error":"#DIV/0!"}},{"$f":"MAX(BN26,BQ26)","v":{"$error":"#DIV/0!"}},{"$f":"RANK(CE24,CE$18:CE$26,1)","v":{"$error":"#DIV/0!"}},{"$f":"BV26","v":0},{"$f":"RANK(CE24,CE$18:CE$26)","v":{"$error":"#DIV/0!"}},{"$f":"(CB24*1000)+(CD24*100)+(CF24*10)+(CH24*1)","v":{"$error":"#DIV/0!"}},{"$f":"RANK(CI24,CI$18:CI$26)","v":{"$error":"#DIV/0!"}},{"$f":"CI24","v":{"$error":"#DIV/0!"}},{"$f":"RANK(CK24,CK$18:CK$26,1)","v":{"$error":"#DIV/0!"}}]
[null,null,{"$f":"C12","v":0},null,null,null,null,null,null,null,null,null,{"$f":"M12","v":{"$error":"#DIV/0!"}},null,null,null,null,5,8,{"$f":"IF(BY59=2,BJ59,IF(BY62=2,BJ62,IF(BY65=2,BJ65,)))","v":{"$error":"#DIV/0!"}},null,null,{"$error":"#DIV/0!"},{"$error":"#DIV/0!"},{"$error":"#DIV/0!"},null,null,null,null,null,{"$f":"IF(AL18>0,2-AK19,0.01)","v":0.01},null,null,{"$f":"IF(AL21>0,2-AK22,0.01)","v":0.01},null,null,null,null,null,null,{"$f":"AE25+AH25","v":0.02},null,null,null,null,null,null,null,null,null,null,null,null,null,null,null,null,null,null,null,null,null,null,null,{"$f":"IF(BN24<1,0.01,IF(BL24>BR18,2,IF(BL24=BR18,1,0)))","v":0.01},null,null,{"$f":"IF(BQ24<1,0.01,IF(BO24>BR21,2,IF(BO24=BR21,1,0)))","v":0.01},null,null,null,null,null,null,{"$f":"BM25+BP25","v":0.02}]
[null,null,null,null,null,null,null,null,null,null,null,null,null,null,null,null,null,5,9,{"$f":"IF(BY59=3,BJ59,IF(BY62=3,BJ62,IF(BY65=3,BJ65,)))","v":{"$error":"#DIV/0!"}},null,null,{"$error":"#DIV/0!"},{"$error":"#DIV/0!"},{"$error":"#DIV/0!"},null,null,null,null,{"$f":"F22","v":0},null,{"$f":"AD24/AF24","v":{"$error":"#DIV/0!"}},{"$f":"F25","v":0},null,{"$f":"AG24/AI24","v":{"$error":"#DIV/0!"}},null,null,null,null,{"$f":"MAX(AD26,AG26)","v":0},null,{"$f":"AN24/AP24","v":{"$error":"#DIV/0!"}},null,null,null,null,null,null,null,null,null,null,null,null,null,null,null,null,null,null,null,null,null,{"$f":"P22","v":0},null,{"$f":"BL24/BN24","v":{"$error":"#DIV/0!"}},{"$f":"P25","v":0},null,{"$f":"BO24/BQ24","v":{"$error":"#DIV/0!"}},null,null,null,null,{"$f":"MAX(BL26,BO26)","v":0},null,{"$f":"BV24/BX24","v":{"$error":"#DIV/0!"}}]
[null,"Tour 3",{"$f":"C10","v":0},null,null,null,null,null,null,null,null,"Tour 3",{"$f":"M10","v":{"$error":"#DIV/0!"}},null,null,null,null,5,10,{"$f":"IF(CB81=1,BJ81,IF(CB84=1,BJ84,))","v":{"$error":"#DIV/0!"}},null,null,{"$error":"#DIV/0!"},{"$error":"#DIV/0!"},{"$error":"#DIV/0!"}]
[null,null,{"$f":"C11","v":0},null,null,null,null,null,null,null,null,null,{"$f":"M11","v":{"$error":"#DIV/0!"}},null,null,null,null,5,11,{"$f":"IF(CB81=2,BJ81,IF(CB84=2,BJ84,))","v":{"$error":"#DIV/0!"}},null,null,{"$error":"#DIV/0!"},{"$error":"#DIV/0!"},{"$f":"W28/X28","v":{"$error":"#DIV/0!"}},null,"Classement des 1er",null,null,"PM","CLS","MG","CLS","MP","CLS","MS","CLS","TOTAL",null,"CLS"]
[null,null,null,null,null,null,null,null,null,null,null,null,null,null,null,null,null,null,null,null,null,null,null,null,null,null,"A",{"$f":"IF(AQ18=1,AB18,IF(AQ21=1,AB21,IF(AQ24=1,AB24)))","v":{"$error":"#DIV/0!"}},null,{"$f":"IF(AB29=AB18,AS18,IF(AB32=AB21,AS21,IF(AB32=AB24,AS24,)))","v":{"$error":"#DIV/0!"}},{"$f":"RANK(AD29,AD$29:AD$32)","v":{"$error":"#DIV/0!"}},{"$f":"IF(AB29=AB18,AU18,IF(AB29=AB21,AU21,IF(AB29=AB24,AU24,)))","v":{"$error":"#DIV/0!"}},{"$f":"RANK(AF29,AF$29:AF$32)","v":{"$error":"#DIV/0!"}},{"$f":"IF(AB29=AB18,AW18,IF(AB29=AB21,AW21,IF(AB29=AB24,AW24,)))","v":{"$error":"#DIV/0!"}},{"$f":"RANK(AH29,AH$29:AH$32)","v":{"$error":"#DIV/0!"}},{"$f":"IF(AB29=AB18,AY18,IF(AB29=AB21,AY21,IF(AB29=AB24,AY24,)))","v":{"$error":"#DIV/0!"}},{"$f":"RANK(AJ29,AJ$29:AJ$32)","v":{"$error":"#DIV/0!"}},{"$f":"(AE29*1000)+(AG29*100)+(AI29*10)+(AK29*1)","v":{"$error":"#DIV/0!"}},null,{"$f":"RANK(AL29,AL$29:AL$32,1)","v":{"$error":"#DIV/0!"}}]
[null,"Joueur 1",{"$f":"'Saisie des joueurs'!L19","v":0},null,null,null,null,null,null,null,null,"Joueur 1",{"$f":"IF(AN29=4,AB29,IF(AN30=4,AB30,IF(AN31=4,AB31,IF(AN32=4,AB32,))))","v":{"$error":"#DIV/0!"}},null,null,null,null,null,null,null,null,null,null,null,null,null,"B",{"$f":"IF(AQ38=1,AB38,IF(AQ41=1,AB41,IF(AQ44=1,AB44,)))","v":{"$error":"#DIV/0!"}},null,{"$f":"IF(AB30=AB38,AS38,IF(AB30=AB41,AS41,IF(AB30=AB44,AS44,)))","v":{"$error":"#DIV/0!"}},{"$f":"RANK(AD30,AD$29:AD$32)","v":{"$error":"#DIV/0!"}},{"$f":"IF(AB30=AB38,AU38,IF(AB30=AB41,AU41,IF(AB30=AB44,AU44,)))","v":{"$error":"#DIV/0!"}},{"$f":"RANK(AF30,AF$29:AF$32)","v":{"$error":"#DIV/0!"}},{"$f":"IF(AB30=AB38,AW38,IF(AB30=AB41,AW41,IF(AB30=AB44,AW44,)))","v":{"$error":"#DIV/0!"}},{"$f":"RANK(AH30,AH$29:AH$32)","v":{"$error":"#DIV/0!"}},{"$f":"IF(AB30=AB38,AY38,IF(AB30=AB41,AY41,IF(AB30=AB44,AY44,)))","v":{"$error":"#DIV/0!"}},{"$f":"RANK(AJ30,AJ$29:AJ$32)","v":{"$error":"#DIV/0!"}},{"$f":"(AE30*1000)+(AG30*100)+(AI30*10)+(AK30*1)","v":{"$error":"#DIV/0!"}},null,{"$f":"RANK(AL30,AL$29:AL$32,1)","v":{"$error":"#DIV/0!"}}]
[null,"Joueur 2",{"$f":"'Saisie des joueurs'!L24","v":0},null,null,null,null,null,null,null,null,"Joueur 2",{"$f":"IF(AN49=1,AB49,IF(AN50=1,AB50,IF(AN51=1,AB51,IF(AN52=1,AB52,))))","v":{"$error":"#DIV/0!"}},null,null,null,null,null,null,null,null,null,null,null,null,null,"C",{"$f":"IF(AQ59=1,AB59,IF(AQ62=1,AB62,IF(AQ65=1,AB65,)))","v":{"$error":"#DIV/0!"}},null,{"$f":"IF(AB31=AB59,AV59,IF(AB31=AB62,AV62,))","v":{"$error":"#DIV/0!"}},{"$error":"#DIV/0!"},{"$f":"IF(AB31=AB59,AX59,IF(AB31=AB62,AX62,))","v":{"$error":"#DIV/0!"}},{"$error":"#DIV/0!"},{"$f":"IF(AB31=AB59,AZ59,IF(AB31=AB62,AZ62,))","v":{"$error":"#DIV/0!"}},{"$error":"#DIV/0!"},{"$f":"IF(AB31=AB59,BB59,IF(AB31=AB62,BB62,))","v":{"$error":"#DIV/0!"}},{"$error":"#DIV/0!"},{"$error":"#DIV/0!"},null,{"$error":"#DIV/0!"}]
[null,"Joueur 3",{"$f":"'Saisie des joueurs'!L27","v":0},null,null,null,null,null,null,null,null,"Joueur 3",{"$f":"IF(AN49=2,AB49,IF(AN50=2,AB50,IF(AN51=2,AB51,IF(AN52=2,AB52,))))","v":{"$error":"#DIV/0!"}},null,null,null,null,null,null,null,null,null,null,null,null,null,"D",{"$f":"IF(AT81=1,AB81,IF(AT84=1,AB84,))","v":{"$error":"#DIV/0!"}},null,{"$f":"IF(AB32=AB81,AV81,IF(AB32=AB84,AV84,))","v":{"$error":"#DIV/0!"}},{"$error":"#DIV/0!"},{"$f":"IF(AB32=AB81,AX81,IF(AB32=AB84,AX84,))","v":{"$error":"#DIV/0!"}},{"$error":"#DIV/0!"},{"$f":"IF(AB32=AB81,AZ81,IF(AB32=AB84,AZ84,))","v":{"$error":"#DIV/0!"}},{"$error":"#DIV/0!"},{"$f":"IF(AB32=AB81,BB81,IF(AB32=AB84,BB84,))","v":{"$error":"#DIV/0!"}},{"$error":"#DIV/0!"},{"$error":"#DIV/0!"},null,{"$error":"#DIV/0!"}]
[]
[null,"SAISIE DES RESULTATS",null,null,null,null,null,null,null,null,null,"SAISIE DES RESULTATS",null,null,null,null,null,null,null,null,null,null,null,null,null,null,null,null,null,{"$f":"C30","v":0},null,null,{"$f":"C31","v":0},null,null,{"$f":"C32","v":0},null,null,null,"TOTAUX",null,null,"CLASSEMENT",null,null,null,null,null,null,null,null,null,null,null,null,null,null,null,null,null,null,null,null,{"$f":"M30","v":{"$error":"#DIV/0!"}},null,null,{"$f":"M31","v":{"$error":"#DIV/0!"}},null,null,{"$f":"M32","v":{"$error":"#DIV/0!"}},null,null,null,"TOTAUX",null,null,"CLASSEMENT"]
[]
[null,null,null,null,null,null,null,null,null,null,null,null,null,null,null,null,null,null,null,null,null,null,null,null,null,null,null,null,null,null,null,null,null,null,null,null,null,null,null,null,null,null,null,null,"Classement",null,"Classement",null,"Classement",null,"Classement",null,"Classement",null,"GENERAL","RANG",null,null,null,null,null,null,null,null,null,null,null,null,null,null,null,null,null,null,null,null,null,null,"Classement",null,"Classement",null,"Classement",null,"Classement",null,"Classement",null,"GENERAL","RANG"]
[null,"PHASE 1 - POULE B",null,null,null,null,null,null,null,null,null,"PHASE 4 - POULE B",null,null,null,null,null,null,null,null,null,null,null,null,null,null,null,null,null,null,null,null,null,null,null,null,null,null,null,null,null,null,null,null,"Point-Match","CLS-M","Moy-Gen","CLS-G","Moy-Part","CLS-P","M-Series","CLS-S","MGPS","CLS","CLS",null,null,null,null,null,null,null,null,null,null,null,null,null,null,null,null,null,null,null,null,null,null,null,"Point-Match","CLS-M","Moy-Gen","CLS-G","Moy-Part","CLS-P","M-Series","CLS-S","MGPS","CLS","CLS"]
[null,null,null,null,null,null,null,null,null,null,null,null,null,null,null,null,null,null,null,null,null,null,null,null,null,null,null,{"$f":"C30","v":0},null,"L",null,null,{"$f":"D47","v":0},null,{"$f":"E47","v":0},{"$f":"D41","v":0},null,{"$f":"E41","v":0},null,{"$f":"AG38+AJ38","v":0},null,{"$f":"AI38+AL38","v":0},{"$f":"BD38","v":{"$error":"#DIV/0!"}},null,{"$f":"AO39","v":0.02},{"$f":"RANK(AS38,AS$38:AS$46,0)","v":1},{"$f":"AP40","v":{"$error":"#DIV/0!"}},{"$f":"RANK(AU38,AU$38:AU$46,0)","v":{"$error":"#DIV/0!"}},{"$f":"MAX(AI40,AL40)","v":{"$error":"#DIV/0!"}},{"$f":"RANK(AW38,AW$38:AW$46,0)","v":{"$error":"#DIV/0!"}},{"$f":"AN40","v":0},{"$f":"RANK(AY38,AY$38:AY$46)","v":1},{"$f":"(AT38*1000)+(AV38*100)+(AX38*10)+(AZ38*1)","v":{"$error":"#DIV/0!"}},{"$f":"RANK(BA38,BA$38:BA$46)","v":{"$error":"#DIV/0!"}},{"$f":"BA38","v":{"$error":"#DIV/0!"}},{"$f":"RANK(BC38,BC$38:BC$46,1)","v":{"$error":"#DIV/0!"}},null,null,null,null,null,{"$f":"M30","v":{"$error":"#DIV/0!"}},null,"L",null,null,{"$f":"N47","v":0},null,{"$f":"O47","v":0},{"$f":"N41","v":0},null,{"$f":"O41","v":0},null,{"$f":"BO38+BR38","v":0},null,{"$f":"BQ38+BT38","v":0},{"$f":"CL38","v":{"$error":"#DIV/0!"}},null,{"$f":"BW39","v":0.02},{"$f":"RANK(CA38,CA$38:CA$46,0)","v":1},{"$f":"BX40","v":{"$error":"#DIV/0!"}},{"$f":"RANK(CC38,CC$38:CC$46,0)","v":{"$error":"#DIV/0!"}},{"$f":"MAX(BQ40,BT40)","v":{"$error":"#DIV/0!"}},{"$f":"RANK(CE38,CE$38:CE$46)","v":{"$error":"#DIV/0!"}},{"$f":"BV40","v":0},{"$f":"RANK(CG38,CG$38:CG$46)","v":1},{"$f":"(CB38*1000)+(CD38*100)+(CF38*10)+(CH38*1)","v":{"$error":"#DIV/0!"}},{"$f":"RANK(CI38,CI$38:CI$46)","v":{"$error":"#DIV/0!"}},{"$f":"CI38","v":{"$error":"#DIV/0!"}},{"$f":"RANK(CK38,CK$38:CK$46,1)","v":{"$error":"#DIV/0!"}}]
[null,null,null,null,null,null,null,null,null,null,null,"Dernier 1er et 2 meilleurs 2ème des poules A-B-C-D de la phase 1",null,null,null,null,null,null,null,null,null,null,null,null,null,null,null,null,null,null,null,null,null,{"$f":"IF(AI38<1,0.01,IF(AG38>AD41,2,IF(AG38=AD41,1,0)))","v":0.01},null,null,{"$f":"IF(AL38<1,0.01,IF(AJ38>AD44,2,IF(AJ38=AD44,1,0)))","v":0.01},null,null,null,{"$f":"AH39+AK39","v":0.02},null,null,null,null,null,null,null,null,null,null,null,null,null,null,null,null,null,null,null,null,null,null,null,null,null,null,{"$f":"IF(BQ38<1,0.01,IF(BO38>BL41,2,IF(BO38=BL41,1,0)))","v":0.01},null,null,{"$f":"IF(BT38<1,0.01,IF(BR38>BL44,2,IF(BR38=BL44,1,0)))","v":0.01},null,null,null,{"$f":"BP39+BS39","v":0.02}]
[null,null,null,"Pts","Rep","Série",null,null,null,null,null,null,null,"Pts","Rep","Série",null,null,null,null,null,null,null,null,null,null,null,null,null,null,null,null,{"$f":"F47","v":0},null,{"$f":"AG38/AI38","v":{"$error":"#DIV/0!"}},{"$f":"F41","v":0},null,{"$f":"AJ38/AL38","v":{"$error":"#DIV/0!"}},null,{"$f":"MAX(AG40,AJ40)","v":0},null,{"$f":"AN38/AP38","v":{"$error":"#DIV/0!"}},null,null,null,null,null,null,null,null,null,null,null,null,null,null,null,null,null,null,null,null,null,null,null,null,{"$f":"P47","v":0},null,{"$f":"BO38/BQ38","v":{"$error":"#DIV/0!"}},{"$f":"P41","v":0},null,{"$f":"BR38/BT38","v":{"$error":"#DIV/0!"}},null,{"$f":"MAX(BO40,BR40)","v":0},null,{"$f":"BV38/BX38","v":{"$error":"#DIV/0!"}}]
[null,"Tour",{"$f":"C30","v":0},null,null,null,null,null,null,null,null,"Tour 1",{"$f":"M30","v":{"$error":"#DIV/0!"}},null,null,null,null,null,null,null,null,null,null,null,null,null,null,{"$f":"C31","v":0},null,{"$f":"D48","v":0},null,{"$f":"E47","v":0},"M",null,null,{"$f":"D44","v":0},null,{"$f":"E44","v":0},null,{"$f":"AD41+AJ41","v":0},null,{"$f":"AF41+AL41","v":0},{"$f":"BD41","v":{"$error":"#DIV/0!"}},null,{"$f":"AO42","v":0.02},{"$f":"RANK(AS41,AS$38:AS$46,0)","v":1},{"$f":"AP43","v":{"$error":"#DIV/0!"}},{"$f":"RANK(AU41,AU$38:AU$46,0)","v":{"$error":"#DIV/0!"}},{"$f":"MAX(AF43,AL43)","v":{"$error":"#DIV/0!"}},{"$f":"RANK(AW41,AW$38:AW$46,0)","v":{"$error":"#DIV/0!"}},{"$f":"AN43","v":0},{"$f":"RANK(AY41,AY$38:AY$46)","v":1},{"$f":"(AT41*1000)+(AV41*100)+(AX41*10)+(AZ41*1)","v":{"$error":"#DIV/0!"}},{"$f":"RANK(BA41,BA$38:BA$46)","v":{"$error":"#DIV/0!"}},{"$f":"BA41","v":{"$error":"#DIV/0!"}},{"$f":"RANK(BC41,BC$38:BC$46,1)","v":{"$error":"#DIV/0!"}},null,null,null,null,null,{"$f":"M31","v":{"$error":"#DIV/0!"}},null,{"$f":"N48","v":0},null,{"$f":"O47","v":0},"M",null,null,{"$f":"N44","v":0},null,{"$f":"O44","v":0},null,{"$f":"BL41+BR41","v":0},null,{"$f":"BN41+BT41","v":0},{"$f":"CL41","v":{"$error":"#DIV/0!"}},null,{"$f":"BW42","v":0.02},{"$f":"RANK(CA41,CA$38:CA$46,0)","v":1},{"$f":"BX43","v":{"$error":"#DIV/0!"}},{"$f":"RANK(CC41,CC$38:CC$46,0)","v":{"$error":"#DIV/0!"}},{"$f":"MAX(BN43,BT43)","v":{"$error":"#DIV/0!"}},{"$f":"RANK(CE41,CE$38:CE$46)","v":{"$error":"#DIV/0!"}},{"$f":"BV43","v":0},{"$f":"RANK(CG41,CG$38:CG$46)","v":1},{"$f":"(CB41*1000)+(CD41*100)+(CF41*10)+(CH41*1)","v":{"$error":"#DIV/0!"}},{"$f":"RANK(CI41,CI$38:CI$46)","v":{"$error":"#DIV/0!"}},{"$f":"CI41","v":{"$error":"#DIV/0!"}},{"$f":"RANK(CK41,CK$38:CK$46,1)","v":{"$error":"#DIV/0!"}}]
[null,null,{"$f":"C32","v":0},null,null,null,null,null,null,null,null,null,{"$f":"M32","v":{"$error":"#DIV/0!"}},null,null,null,null,null,null,null,null,null,null,null,null,null,null,null,null,null,{"$f":"IF(AI38>0,2-AH39,0.01)","v":0.01},null,null,null,null,null,{"$f":"IF(AL41<1,0.01,IF(AJ41>AG44,2,IF(AJ41=AG44,1,0)))","v":0.01},null,null,null,{"$f":"AE42+AK42","v":0.02},null,null,null,null,null,null,null,null,null,null,null,null,null,null,null,null,null,null,null,null,null,null,null,{"$f":"IF(BN41<1,0.01,IF(BL41>BO38,2,IF(BL41=BO38,1,0)))","v":0.01},null,null,null,null,null,{"$f":"IF(BT41<1,0.01,IF(BR41>BO44,2,IF(BR41=BO44,1,0)))","v":0.01},null,null,null,{"$f":"BM42+BS42","v":0.02}]
[null,null,null,null,null,null,null,null,null,null,null,null,null,null,null,null,null,null,null,null,null,null,null,null,null,null,null,null,null,{"$f":"F48","v":0},null,{"$f":"AD41/AF41","v":{"$error":"#DIV/0!"}},null,null,null,{"$f":"F44","v":0},null,{"$f":"AJ41/AL41","v":{"$error":"#DIV/0!"}},null,{"$f":"MAX(AD43,AJ43)","v":0},null,{"$f":"AN41/AP41","v":{"$error":"#DIV/0!"}},null,null,null,null,null,null,null,null,null,null,null,null,null,null,null,null,null,null,null,null,null,{"$f":"P48","v":0},null,{"$f":"BL41/BN41","v":{"$error":"#DIV/0!"}},null,null,null,{"$f":"P44","v":0},null,{"$f":"BR41/BT41","v":{"$error":"#DIV/0!"}},null,{"$f":"MAX(BL43,BR43)","v":0},null,{"$f":"BV41/BX41","v":{"$error":"#DIV/0!"}}]
[null,"Tour 2",{"$f":"C31","v":0},null,null,null,null,null,null,null,null,"Tour 2",{"$f":"M31","v":{"$error":"#DIV/0!"}},null,null,null,null,null,null,null,null,null,null,null,null,null,null,{"$f":"C32","v":0},null,{"$f":"D42","v":0},null,{"$f":"E41","v":0},{"$f":"D45","v":0},null,{"$f":"E44","v":0},"B",null,null,null,{"$f":"AD44+AG44","v":0},null,{"$f":"AF44+AI44","v":0},{"$f":"BD44","v":{"$error":"#DIV/0!"}},null,{"$f":"AO45","v":0.02},{"$f":"RANK(AS44,AS$38:AS$46,0)","v":1},{"$f":"AP46","v":{"$error":"#DIV/0!"}},{"$f":"RANK(AU44,AU$38:AU$46,0)","v":{"$error":"#DIV/0!"}},{"$f":"MAX(AF46,AI46)","v":{"$error":"#DIV/0!"}},{"$f":"RANK(AW44,AW$38:AW$46,0)","v":{"$error":"#DIV/0!"}},{"$f":"AN46","v":0},{"$f":"RANK(AY44,AY$38:AY$46)","v":1},{"$f":"(AT44*1000)+(AV44*100)+(AX44*10)+(AZ44*1)","v":{"$error":"#DIV/0!"}},{"$f":"RANK(BA44,BA$38:BA$46)","v":{"$error":"#DIV/0!"}},{"$f":"BA44","v":{"$error":"#DIV/0!"}},{"$f":"RANK(BC44,BC$38:BC$46,1)","v":{"$error":"#DIV/0!"}},null,null,null,null,null,{"$f":"M32","v":{"$error":"#DIV/0!"}},null,{"$f":"N42","v":0},null,{"$f":"O41","v":0},{"$f":"N45","v":0},null,{"$f":"O44","v":0},"B",null,null,null,{"$f":"BL44+BO44","v":0},null,{"$f":"BN44+BQ44","v":0},{"$f":"CL44","v":{"$error":"#DIV/0!"}},null,{"$f":"BW45","v":0.02},{"$f":"RANK(CA44,CA$38:CA$46,0)","v":1},{"$f":"BX46","v":{"$error":"#DIV/0!"}},{"$f":"RANK(CC44,CC$38:CC$46,0)","v":{"$error":"#DIV/0!"}},{"$f":"MAX(BN46,BQ46)","v":{"$error":"#DIV/0!"}},{"$f":"RANK(CE44,CE$38:CE$46)","v":{"$error":"#DIV/0!"}},{"$f":"BV46","v":0},{"$f":"RANK(CG44,CG$38:CG$46)","v":1},{"$f":"(CB44*1000)+(CD44*100)+(CF44*10)+(CH44*1)","v":{"$error":"#DIV/0!"}},{"$f":"RANK(CI44,CI$38:CI$46)","v":{"$error":"#DIV/0!"}},{"$f":"CI44","v":{"$error":"#DIV/0!"}},{"$f":"RANK(CK44,CK$38:CK$46,1)","v":{"$error":"#DIV/0!"}}]
[null,null,{"$f":"C32","v":0},null,null,null,null,null,null,null,null,null,{"$f":"M32","v":{"$error":"#DIV/0!"}},null,null,null,null,null,null,null,null,null,null,null,null,null,null,null,null,null,{"$f":"IF(AL38>0,2-AK39,0.01)","v":0.01},null,null,{"$f":"IF(AL41>0,2-AK42,0.01)","v":0.01},null,null,null,null,null,null,{"$f":"AE45+AH45","v":0.02},null,null,null,null,null,null,null,null,null,null,null,null,null,null,null,null,null,null,null,null,null,null,null,{"$f":"IF(BN44<1,0.01,IF(BL44>BR38,2,IF(BL44=BR38,1,0)))","v":0.01},null,null,{"$f":"IF(BQ44<1,0.01,IF(BO44>BR41,2,IF(BO44=BR41,1,0)))","v":0.01},null,null,null,null,null,null,{"$f":"BM45+BP45","v":0.02}]
[null,null,null,null,null,null,null,null,null,null,null,null,null,null,null,null,null,null,null,null,null,null,null,null,null,null,null,null,null,{"$f":"F42","v":0},null,{"$f":"AD44/AF44","v":{"$error":"#DIV/0!"}},{"$f":"F45","v":0},null,{"$f":"AG44/AI44","v":{"$error":"#DIV/0!"}},null,null,null,null,{"$f":"MAX(AD46,AG46)","v":0},null,{"$f":"AN44/AP44","v":{"$error":"#DIV/0!"}},null,null,null,null,null,null,null,null,null,null,null,null,null,null,null,null,null,null,null,null,null,{"$f":"P42","v":0},null,{"$f":"BL44/BN44","v":{"$error":"#DIV/0!"}},{"$f":"P45","v":0},null,{"$f":"BO44/BQ44","v":{"$error":"#DIV/0!"}},null,null,null,null,{"$f":"MAX(BL46,BO46)","v":0},null,{"$f":"BV44/BX44","v":{"$error":"#DIV/0!"}}]
[null,"Tour 3",{"$f":"C30","v":0},null,null,null,null,null,null,null,null,"Tour 3",{"$f":"M30","v":{"$error":"#DIV/0!"}}]
[null,null,{"$f":"C31","v":0},null,null,null,null,null,null,null,null,null,{"$f":"M31","v":{"$error":"#DIV/0!"}},null,null,null,null,null,null,null,null,null,null,null,null,null,"Classement des 2ème",null,null,"PM","CLS","MG","CLS","MP","CLS","MS","CLS","TOTAL",null,"CLS"]
[null,null,null,null,null,null,null,null,null,null,null,null,null,null,null,null,null,null,null,null,null,null,null,null,null,null,"A",{"$f":"IF(AQ18=2,AB18,IF(AQ21=2,AB21,IF(AQ24=2,AB24)))","v":{"$error":"#DIV/0!"}},null,{"$f":"IF(AB49=AB18,AS18,IF(AB49=AB21,AS21,IF(AB49=AB24,AS24,)))","v":{"$error":"#DIV/0!"}},{"$f":"RANK(AD49,AD$49:AD$52)","v":{"$error":"#DIV/0!"}},{"$f":"IF(AB49=AB18,AU18,IF(AB49=AB21,AU21,IF(AB49=AB24,AU24,)))","v":{"$error":"#DIV/0!"}},{"$f":"RANK(AF49,AF$49:AF$52)","v":{"$error":"#DIV/0!"}},{"$f":"IF(AB49=AB18,AW18,IF(AB49=AB21,AW21,IF(AB49=AB24,AW24,)))","v":{"$error":"#DIV/0!"}},{"$f":"RANK(AH49,AH$49:AH$52)","v":{"$error":"#DIV/0!"}},{"$f":"IF(AB49=AB18,AY18,IF(AB49=AB21,AY21,IF(AB49=AB24,AY24,)))","v":{"$error":"#DIV/0!"}},{"$f":"RANK(AJ49,AJ$49:AJ$52)","v":{"$error":"#DIV/0!"}},{"$f":"(AE49*1000)+(AG49*100)+(AI49*10)+(AK49*1)","v":{"$error":"#DIV/0!"}},null,{"$f":"RANK(AL49,AL$49:AL$52,1)","v":{"$error":"#DIV/0!"}}]
[null,"Joueur 1",{"$f":"'Saisie des joueurs'!L20","v":0},null,null,null,null,null,null,null,null,"Joueur 1",{"$f":"IF(AN49=3,AB49,IF(AN50=3,AB50,IF(AN51=3,AB51,IF(AN52=3,AB52,))))","v":{"$error":"#DIV/0!"}},null,null,null,null,null,null,null,null,null,null,null,null,null,"B",{"$f":"IF(AQ38=2,AB38,IF(AQ41=2,AB41,IF(AQ44=2,AB44,)))","v":{"$error":"#DIV/0!"}},null,{"$f":"IF(AB50=AB38,AS38,IF(AB50=AB41,AS41,IF(AB50=AB44,AS44,)))","v":{"$error":"#DIV/0!"}},{"$f":"RANK(AD50,AD$49:AD$52)","v":{"$error":"#DIV/0!"}},{"$f":"IF(AB50=AB38,AU38,IF(AB50=AB41,AU41,IF(AB50=AB44,AU44,)))","v":{"$error":"#DIV/0!"}},{"$f":"RANK(AF50,AF$49:AF$52)","v":{"$error":"#DIV/0!"}},{"$f":"IF(AB50=AB38,AW38,IF(AB50=AB41,AW41,IF(AB50=AB44,AW44,)))","v":{"$error":"#DIV/0!"}},{"$f":"RANK(AH50,AH$49:AH$52)","v":{"$error":"#DIV/0!"}},{"$f":"IF(AB50=AB38,AY38,IF(AB50=AB41,AY41,IF(AB50=AB44,AY44,)))","v":{"$error":"#DIV/0!"}},{"$f":"RANK(AJ50,AJ$49:AJ$52)","v":{"$error":"#DIV/0!"}},{"$f":"(AE50*1000)+(AG50*100)+(AI50*10)+(AK50*1)","v":{"$error":"#DIV/0!"}},null,{"$f":"RANK(AL50,AL$49:AL$52,1)","v":{"$error":"#DIV/0!"}}]
[null,"Joueur 2",{"$f":"'Saisie des joueurs'!L23","v":0},null,null,null,null,null,null,null,null,"Joueur 2",{"$f":"IF(AN49=4,AB49,IF(AN50=4,AB50,IF(AN51=4,AB51,IF(AN52=4,AB52,))))","v":{"$error":"#DIV/0!"}},null,null,null,null,null,null,null,null,null,null,null,null,null,"C",{"$f":"IF(AQ59=2,AB59,IF(AQ62=2,AB62,IF(AQ65=2,AB65,)))","v":{"$error":"#DIV/0!"}},null,{"$f":"IF(AB51=AB59,AS59,IF(AB51=AB62,AS62,IF(AB51=AB65,AS65,)))","v":{"$error":"#DIV/0!"}},{"$error":"#DIV/0!"},{"$f":"IF(AB51=AB59,AU59,IF(AB51=AB62,AU62,IF(AB51=AB65,AU65,)))","v":{"$error":"#DIV/0!"}},{"$error":"#DIV/0!"},{"$f":"IF(AB51=AB59,AW59,IF(AB51=AB62,AW62,IF(AB51=AB65,AW65,)))","v":{"$error":"#DIV/0!"}},{"$error":"#DIV/0!"},{"$f":"IF(AB51=AB59,AY59,IF(AB51=AB62,AY62,IF(AB51=AB65,AY65,)))","v":{"$error":"#DIV/0!"}},{"$error":"#DIV/0!"},{"$error":"#DIV/0!"},null,{"$error":"#DIV/0!"}]
[null,"Joueur 3",{"$f":"'Saisie des joueurs'!L28","v":0},null,null,null,null,null,null,null,null,"Joueur 3",{"$f":"IF(AN70=1,AB70,IF(AN71=1,AB71,IF(AN72=1,AB72,)))","v":{"$error":"#DIV/0!"}},null,null,null,null,null,null,null,null,null,null,null,null,null,"D",{"$f":"IF(AT81=2,AB81,IF(AT84=2,AB84,))","v":{"$error":"#DIV/0!"}},null,{"$f":"IF(AB52=AB81,AV81,IF(AB52=AB84,AV84,))","v":{"$error":"#DIV/0!"}},{"$error":"#DIV/0!"},{"$f":"IF(AB52=AB81,AX81,IF(AB52=AB84,AX84,))","v":{"$error":"#DIV/0!"}},{"$error":"#DIV/0!"},{"$f":"IF(AB52=AB81,AZ81,IF(AB52=AB84,AZ84,))","v":{"$error":"#DIV/0!"}},{"$error":"#DIV/0!"},{"$f":"IF(AB52=AB81,BB81,IF(AB52=AB84,BB84,))","v":{"$error":"#DIV/0!"}},{"$error":"#DIV/0!"},{"$error":"#DIV/0!"},null,{"$error":"#DIV/0!"}]
[]
[]
[null,"SAISIE DES RESULTATS",null,null,null,null,null,null,null,null,null,"SAISIE DES RESULTATS",null,null,null,null,null,null,null,null,null,null,null,null,null,null,null,null,null,{"$f":"C50","v":0},null,null,{"$f":"C51","v":0},null,null,{"$f":"C52","v":0},null,null,null,"TOTAUX",null,null,"CLASSEMENT",null,null,null,null,null,null,null,null,null,null,null,null,null,null,null,null,null,null,null,null,{"$f":"M50","v":{"$error":"#DIV/0!"}},null,null,{"$f":"M51","v":{"$error":"#DIV/0!"}},null,null,{"$f":"M52","v":{"$error":"#DIV/0!"}},null,null,null,"TOTAUX",null,null,"CLASSEMENT"]
[]
[null,null,null,null,null,null,null,null,null,null,null,null,null,null,null,null,null,null,null,null,null,null,null,null,null,null,null,null,null,null,null,null,null,null,null,null,null,null,null,null,null,null,null,null,"Classement",null,"Classement",null,"Classement",null,"Classement",null,"Classement",null,"GENERAL","RANG",null,null,null,null,null,null,null,null,null,null,null,null,null,null,null,null,null,null,null,null,null,null,"Classement",null,"Classement",null,"Classement",null,"Classement",null,"Classement",null,"GENERAL","RANG"]
[null,"PHASE 1 - POULE C",null,null,null,null,null,null,null,null,null,"PHASE 3 - POULE C",null,null,null,null,null,null,null,null,null,null,null,null,null,null,null,null,null,null,null,null,null,null,null,null,null,null,null,null,null,null,null,null,"Point-Match","CLS-M","Moy-Gen","CLS-G","Moy-Part","CLS-P","M-Series","CLS-S","MGPS","CLS","CLS",null,null,null,null,null,null,null,null,null,null,null,null,null,null,null,null,null,null,null,null,null,null,null,"Point-Match","CLS-M","Moy-Gen","CLS-G","Moy-Part","CLS-P","M-Series","CLS-S","MGPS","CLS","CLS"]
[null,null,null,null,null,null,null,null,null,null,null,null,null,null,null,null,null,null,null,null,null,null,null,null,null,null,null,{"$f":"C50","v":0},null,"L",null,null,{"$f":"D68","v":0},null,{"$f":"E68","v":0},{"$f":"D62","v":0},null,{"$f":"E62","v":0},null,{"$f":"AG59+AJ59","v":0},null,{"$f":"AI59+AL59","v":0},{"$f":"BD59","v":{"$error":"#DIV/0!"}},null,{"$f":"AO60","v":0.02},{"$f":"RANK(AS59,AS$59:AS$67,0)","v":1},{"$f":"AP61","v":{"$error":"#DIV/0!"}},{"$f":"RANK(AU59,AU$59:AU$67,0)","v":{"$error":"#DIV/0!"}},{"$f":"MAX(AI61,AL61)","v":{"$error":"#DIV/0!"}},{"$f":"RANK(AW59,AW$59:AW$67,0)","v":{"$error":"#DIV/0!"}},{"$f":"AN61","v":0},{"$f":"RANK(AY59,AY$59:AY$67)","v":1},{"$f":"(AT59*1000)+(AV59*100)+(AX59*10)+(AZ59*1)","v":{"$error":"#DIV/0!"}},{"$f":"RANK(BA59,BA$59:BA$67)","v":{"$error":"#DIV/0!"}},{"$f":"BA59","v":{"$error":"#DIV/0!"}},{"$f":"RANK(BC59,BC$59:BC$67,1)","v":{"$error":"#DIV/0!"}},null,null,null,null,null,{"$f":"M50","v":{"$error":"#DIV/0!"}},null,"L",null,null,{"$f":"N68","v":0},null,{"$f":"O68","v":0},{"$f":"N62","v":0},null,{"$f":"O62","v":0},null,{"$f":"BO59+BR59","v":0},null,{"$f":"BQ59+BT59","v":0},{"$f":"CL59","v":{"$error":"#DIV/0!"}},null,{"$f":"BW60","v":0.02},{"$f":"RANK(CA59,CA$59:CA$67,0)","v":1},{"$f":"BX61","v":{"$error":"#DIV/0!"}},{"$f":"RANK(CC59,CC$59:CC$66,0)","v":{"$error":"#DIV/0!"}},{"$f":"MAX(BQ61,BT61)","v":{"$error":"#DIV/0!"}},{"$f":"RANK(CE59,CE$59:CE$66)","v":{"$error":"#DIV/0!"}},{"$f":"BV61","v":0},{"$f":"RANK(CG59,CG$59:CG$66)","v":1},{"$f":"(CB59*1000)+(CD59*100)+(CF59*10)+(CH59*1)","v":{"$error":"#DIV/0!"}},{"$f":"RANK(CI59,CI$59:CI$66)","v":{"$error":"#DIV/0!"}},{"$f":"CI59","v":{"$error":"#DIV/0!"}},{"$f":"RANK(CK59,CK$59:CK$66,1)","v":{"$error":"#DIV/0!"}}]
[null,null,null,null,null,null,null,null,null,null,null,"Derniers 2ème et premier 3ème des poules A-B-C-D ",null,null,null,null,null,null,null,null,null,null,null,null,null,null,null,null,null,null,null,null,null,{"$f":"IF(AI59<1,0.01,IF(AG59>AD62,2,IF(AG59=AD62,1,0)))","v":0.01},null,null,{"$f":"IF(AL59<1,0.01,IF(AJ59>AD62,2,IF(AJ59=AD62,1,0)))","v":0.01},null,null,null,{"$f":"AH60+AK60","v":0.02},null,null,null,null,null,null,null,null,null,null,null,null,null,null,null,null,null,null,null,null,null,null,null,null,null,null,{"$f":"IF(BQ59<1,0.01,IF(BO59>BL62,2,IF(BO59=BL62,1,0)))","v":0.01},null,null,{"$f":"IF(BT59<1,0.01,IF(BR59>BL65,2,IF(BR59=BL65,1,0)))","v":0.01},null,null,null,{"$f":"BP60+BS60","v":0.02}]
[null,null,null,"Pts","Rep","Série",null,null,null,null,null,null,null,"Pts","Rep","Série",null,null,null,null,null,null,null,null,null,null,null,null,null,null,null,null,{"$f":"F68","v":0},null,{"$f":"AG59/AI59","v":{"$error":"#DIV/0!"}},{"$f":"F62","v":0},null,{"$f":"AJ59/AL59","v":{"$error":"#DIV/0!"}},null,{"$f":"MAX(AG61,AJ61)","v":0},null,{"$f":"AN59/AP59","v":{"$error":"#DIV/0!"}},null,null,null,null,null,null,null,null,null,null,null,null,null,null,null,null,null,null,null,null,null,null,null,null,{"$f":"P68","v":0},null,{"$f":"BO59/BQ59","v":{"$error":"#DIV/0!"}},{"$f":"P62","v":0},null,{"$f":"BR59/BT59","v":{"$error":"#DIV/0!"}},null,{"$f":"MAX(BO61,BR61)","v":0},null,{"$f":"BV59/BX59","v":{"$error":"#DIV/0!"}}]
[null,"Tour 1",{"$f":"C50","v":0},null,null,null,null,null,null,null,null,"Tour 1",{"$f":"M50","v":{"$error":"#DIV/0!"}},null,null,null,null,null,null,null,null,null,null,null,null,null,null,{"$f":"C51","v":0},null,{"$f":"D69","v":0},null,{"$f":"E68","v":0},"M",null,null,{"$f":"D65","v":0},null,{"$f":"E65","v":0},null,{"$f":"AD62+AJ62","v":0},null,{"$f":"AF62+AL62","v":0},{"$f":"BD62","v":{"$error":"#DIV/0!"}},null,{"$f":"AO63","v":0.02},{"$f":"RANK(AS62,AS$59:AS$67,0)","v":1},{"$f":"AP64","v":{"$error":"#DIV/0!"}},{"$f":"RANK(AU62,AU$59:AU$67,0)","v":{"$error":"#DIV/0!"}},{"$f":"MAX(AF64,AL64)","v":{"$error":"#DIV/0!"}},{"$f":"RANK(AW62,AW$59:AW$67,0)","v":{"$error":"#DIV/0!"}},{"$f":"AN64","v":0},{"$f":"RANK(AY62,AY$59:AY$67)","v":1},{"$f":"(AT62*1000)+(AV62*100)+(AX62*10)+(AZ62*1)","v":{"$error":"#DIV/0!"}},{"$f":"RANK(BA62,BA$59:BA$67)","v":{"$error":"#DIV/0!"}},{"$f":"BA62","v":{"$error":"#DIV/0!"}},{"$f":"RANK(BC62,BC$59:BC$67,1)","v":{"$error":"#DIV/0!"}},null,null,null,null,null,{"$f":"M51","v":{"$error":"#DIV/0!"}},null,{"$f":"N69","v":0},null,{"$f":"O68","v":0},"M",null,null,{"$f":"N65","v":0},null,{"$f":"O65","v":0},null,{"$f":"BL62+BR62","v":0},null,{"$f":"BN62+BT62","v":0},{"$f":"CL62","v":{"$error":"#DIV/0!"}},null,{"$f":"BW63","v":0.02},{"$f":"RANK(CA62,CA$59:CA$67,0)","v":1},{"$f":"BX64","v":{"$error":"#DIV/0!"}},{"$f":"RANK(CC62,CC$59:CC$66,0)","v":{"$error":"#DIV/0!"}},{"$f":"MAX(BN64,BT64)","v":{"$error":"#DIV/0!"}},{"$f":"RANK(CE62,CE$59:CE$66)","v":{"$error":"#DIV/0!"}},{"$f":"BV64","v":0},{"$f":"RANK(CG62,CG$59:CG$66)","v":1},{"$f":"(CB62*1000)+(CD62*100)+(CF62*10)+(CH62*1)","v":{"$error":"#DIV/0!"}},{"$f":"RANK(CI62,CI$59:CI$66)","v":{"$error":"#DIV/0!"}},{"$f":"CI62","v":{"$error":"#DIV/0!"}},{"$f":"RANK(CK62,CK$59:CK$66,1)","v":{"$error":"#DIV/0!"}}]
[null,null,{"$f":"C52","v":0},null,null,null,null,null,null,null,null,null,{"$f":"M52","v":{"$error":"#DIV/0!"}},null,null,null,null,null,null,null,null,null,null,null,null,null,null,null,null,null,{"$f":"IF(AI59>0,2-AH60,0.01)","v":0.01},null,null,null,null,null,{"$f":"IF(AL62<1,0.01,IF(AJ62>AG65,2,IF(AJ62=AG65,1,0)))","v":0.01},null,null,null,{"$f":"AE63+AK63","v":0.02},null,null,null,null,null,null,null,null,null,null,null,null,null,null,null,null,null,null,null,null,null,null,null,{"$f":"IF(BN62<1,0.01,IF(BL62>BO59,2,IF(BL62=BO59,1,0)))","v":0.01},null,null,null,null,null,{"$f":"IF(BT62<1,0.01,IF(BR62>BO65,2,IF(BR62=BO65,1,0)))","v":0.01},null,null,null,{"$f":"BM63+BS63","v":0.02}]
[null,null,null,null,null,null,null,null,null,null,null,null,null,null,null,null,null,null,null,null,null,null,null,null,null,null,null,null,null,{"$f":"F69","v":0},null,{"$f":"AD62/AF62","v":{"$error":"#DIV/0!"}},null,null,null,{"$f":"F65","v":0},null,{"$f":"AJ62/AL62","v":{"$error":"#DIV/0!"}},null,{"$f":"MAX(AD64,AJ64)","v":0},null,{"$f":"AN62/AP62","v":{"$error":"#DIV/0!"}},null,null,null,null,null,null,null,null,null,null,null,null,null,null,null,null,null,null,null,null,null,{"$f":"P69","v":0},null,{"$f":"BL62/BN62","v":{"$error":"#DIV/0!"}},null,null,null,{"$f":"P65","v":0},null,{"$f":"BR62/BT62","v":{"$error":"#DIV/0!"}},null,{"$f":"MAX(BL64,BR64)","v":0},null,{"$f":"BV62/BX62","v":{"$error":"#DIV/0!"}}]
[null,"Tour 2",{"$f":"C51","v":0},null,null,null,null,null,null,null,null,"Tour 2",{"$f":"M51","v":{"$error":"#DIV/0!"}},null,null,null,null,null,null,null,null,null,null,null,null,null,null,{"$f":"C52","v":0},null,{"$f":"D63","v":0},null,{"$f":"E62","v":0},{"$f":"D66","v":0},null,{"$f":"E65","v":0},"B",null,null,null,{"$f":"AD65+AG65","v":0},null,{"$f":"AF65+AI65","v":0},{"$f":"BD65","v":{"$error":"#DIV/0!"}},null,{"$f":"AO66","v":0.02},{"$f":"RANK(AS65,AS$59:AS$67,0)","v":1},{"$f":"AP67","v":{"$error":"#DIV/0!"}},{"$f":"RANK(AU65,AU$59:AU$67,0)","v":{"$error":"#DIV/0!"}},{"$f":"MAX(AF67,AI67)","v":{"$error":"#DIV/0!"}},{"$f":"RANK(AW65,AW$59:AW$67,0)","v":{"$error":"#DIV/0!"}},{"$f":"AN67","v":0},{"$f":"RANK(AY65,AY$59:AY$67)","v":1},{"$f":"(AT65*1000)+(AV65*100)+(AX65*10)+(AZ65*1)","v":{"$error":"#DIV/0!"}},{"$f":"RANK(BA65,BA$59:BA$67)","v":{"$error":"#DIV/0!"}},{"$f":"BA65","v":{"$error":"#DIV/0!"}},{"$f":"RANK(BC65,BC$59:BC$67,1)","v":{"$error":"#DIV/0!"}},null,null,null,null,null,{"$f":"M52","v":{"$error":"#DIV/0!"}},null,{"$f":"N63","v":0},null,{"$f":"O62","v":0},{"$f":"N66","v":0},null,{"$f":"O65","v":0},"B",null,null,null,{"$f":"BL65+BO65","v":0},null,{"$f":"BN65+BQ65","v":0},{"$f":"CL65","v":{"$error":"#DIV/0!"}},null,{"$f":"BW66","v":0.02},{"$f":"RANK(CA65,CA$59:CA$67,0)","v":1},{"$f":"BX67","v":{"$error":"#DIV/0!"}},{"$f":"RANK(CC65,CC$59:CC$66,0)","v":{"$error":"#DIV/0!"}},{"$f":"MAX(BN67,BQ67)","v":{"$error":"#DIV/0!"}},{"$f":"RANK(CE65,CE$59:CE$66)","v":{"$error":"#DIV/0!"}},{"$f":"BV67","v":0},{"$f":"RANK(CG65,CG$59:CG$66)","v":1},{"$f":"(CB65*1000)+(CD65*100)+(CF65*10)+(CH65*1)","v":{"$error":"#DIV/0!"}},{"$f":"RANK(CI65,CI$59:CI$66)","v":{"$error":"#DIV/0!"}},{"$f":"CI65","v":{"$error":"#DIV/0!"}},{"$f":"RANK(CK65,CK$59:CK$66,1)","v":{"$error":"#DIV/0!"}}]
[null,null,{"$f":"C52","v":0},null,null,null,null,null,null,null,null,null,{"$f":"M52","v":{"$error":"#DIV/0!"}},null,null,null,null,null,null,null,null,null,null,null,null,null,null,null,null,null,{"$f":"IF(AL59>0,2-AK60,0.01)","v":0.01},null,null,{"$f":"IF(AI65<1,0.01,IF(AG65>AJ62,2,IF(AG65=AJ62,1,0)))","v":0.01},null,null,null,null,null,null,{"$f":"AE66+AH66","v":0.02},null,null,null,null,null,null,null,null,null,null,null,null,null,null,null,null,null,null,null,null,null,null,null,{"$f":"IF(BN65<1,0.01,IF(BL65>BR59,2,IF(BL65=BR59,1,0)))","v":0.01},null,null,{"$f":"IF(BQ65<1,0.01,IF(BO65>BR62,2,IF(BO65=BR62,1,0)))","v":0.01},null,null,null,null,null,null,{"$f":"BM66+BP66","v":0.02}]
[null,null,null,null,null,null,null,null,null,null,null,null,null,null,null,null,null,null,null,null,null,null,null,null,null,null,null,null,null,{"$f":"F63","v":0},null,{"$f":"AD65/AF65","v":{"$error":"#DIV/0!"}},{"$f":"F66","v":0},null,{"$f":"AG65/AI65","v":{"$error":"#DIV/0!"}},null,null,null,null,{"$f":"MAX(AD67,AG67)","v":0},null,{"$f":"AN65/AP65","v":{"$error":"#DIV/0!"}},null,null,null,null,null,null,null,null,null,null,null,null,null,null,null,null,null,null,null,null,null,{"$f":"P63","v":0},null,{"$f":"BL65/BN65","v":{"$error":"#DIV/0!"}},{"$f":"P66","v":0},null,{"$f":"BO65/BQ65","v":{"$error":"#DIV/0!"}},null,null,null,null,{"$f":"MAX(BL67,BO67)","v":0},null,{"$f":"BV65/BX65","v":{"$error":"#DIV/0!"}}]
[null,"Tour 3",{"$f":"C50","v":0},null,null,null,null,null,null,null,null,"Tour 3",{"$f":"M50","v":{"$error":"#DIV/0!"}}]
[null,null,{"$f":"C51","v":0},null,null,null,null,null,null,null,null,null,{"$f":"M51","v":{"$error":"#DIV/0!"}},null,null,null,null,null,null,null,null,null,null,null,null,null,"Classement des 3ème",null,null,"PM","CLS","MG","CLS","MP","CLS","MS","CLS","TOTAL",null,"CLS"]
[null,null,null,null,null,null,null,null,null,null,null,null,null,null,null,null,null,null,null,null,null,null,null,null,null,null,"A",{"$f":"IF(AQ18=3,AB18,IF(AQ21=3,AB21,IF(AQ24=3,AB24)))","v":{"$error":"#DIV/0!"}},null,{"$f":"IF(AB70=AB18,AS18,IF(AB70=AB21,AS21,IF(AB70=AB24,AS24,)))","v":{"$error":"#DIV/0!"}},{"$f":"RANK(AD70,AD$70:AD$72)","v":{"$error":"#DIV/0!"}},{"$f":"IF(AB70=AB18,AP20,IF(AB70=AB21,AP23,IF(AB70=AB24,AP26,)))","v":{"$error":"#DIV/0!"}},{"$f":"RANK(AF70,AF$70:AF$72)","v":{"$error":"#DIV/0!"}},{"$f":"IF(AB70=AB18,AW18,IF(AB70=AB21,AW21,IF(AB70=AB24,AW24,)))","v":{"$error":"#DIV/0!"}},{"$f":"RANK(AH70,AH$70:AH$72)","v":{"$error":"#DIV/0!"}},{"$f":"IF(AB70=AB18,AY18,IF(AB70=AB21,AY21,IF(AB70=AB24,AY24,)))","v":{"$error":"#DIV/0!"}},{"$f":"RANK(AJ70,AJ$70:AJ$72)","v":{"$error":"#DIV/0!"}},{"$f":"(AE70*1000)+(AG70*100)+(AI70*10)+(AK70*1)","v":{"$error":"#DIV/0!"}},null,{"$f":"RANK(AL70,AL$70:AL$72,1)","v":{"$error":"#DIV/0!"}}]
[null,null,null,null,null,null,null,null,null,null,null,null,null,null,null,null,null,null,null,null,null,null,null,null,null,null,"B",{"$f":"IF(AQ38=3,AB38,IF(AQ41=3,AB41,IF(AQ44=3,AB44,)))","v":{"$error":"#DIV/0!"}},null,{"$f":"IF(AB71=AB38,S38,IF(AB71=AB41,AS41,IF(AB71=AB44,AS44,)))","v":{"$error":"#DIV/0!"}},{"$f":"RANK(AD71,AD$70:AD$72)","v":{"$error":"#DIV/0!"}},{"$f":"IF(AB71=AB38,AP40,IF(AB71=AB41,AP43,IF(AB71=AB44,AP46,)))","v":{"$error":"#DIV/0!"}},{"$f":"RANK(AF71,AF$70:AF$72)","v":{"$error":"#DIV/0!"}},{"$f":"IF(AB71=AB38,AW38,IF(AB71=AB41,AW41,IF(AB71=AB44,AW44,)))","v":{"$error":"#DIV/0!"}},{"$f":"RANK(AH71,AH$70:AH$72)","v":{"$error":"#DIV/0!"}},{"$f":"IF(AB71=AB38,AY38,IF(AB71=AB41,AY41,IF(AB71=AB44,AY44,)))","v":{"$error":"#DIV/0!"}},{"$f":"RANK(AJ71,AJ$70:AJ$72)","v":{"$error":"#DIV/0!"}},{"$f":"(AE71*1000)+(AG71*100)+(AI71*10)+(AK71*1)","v":{"$error":"#DIV/0!"}},null,{"$f":"RANK(AL71,AL$70:AL$72,1)","v":{"$error":"#DIV/0!"}}]
[null,"Joueur 1",{"$f":"'Saisie des joueurs'!L21","v":0},null,null,null,null,null,null,null,null,"Joueur 1",{"$f":"IF(AN70=2,AB70,IF(AN71=2,AB71,IF(AN72=2,AB72,)))","v":{"$error":"#DIV/0!"}},null,null,null,null,null,null,null,null,null,null,null,null,null,"C",{"$f":"IF(AQ59=3,AB59,IF(AQ62=3,AB62,IF(AQ65=3,AB65,)))","v":{"$error":"#DIV/0!"}},null,{"$f":"IF(AB72=AB59,AS59,IF(AB72=AB62,AS62,IF(AB72=AB65,AS65,)))","v":{"$error":"#DIV/0!"}},{"$error":"#DIV/0!"},{"$f":"IF(AB72=AB59,AP61,IF(AB72=AB62,AP64,IF(AB72=AB65,AP67,)))","v":{"$error":"#DIV/0!"}},{"$error":"#DIV/0!"},{"$f":"IF(AB72=AB59,AW59,IF(AB72=AB62,AW62,IF(AB72=AB65,AW65,)))","v":{"$error":"#DIV/0!"}},{"$error":"#DIV/0!"},{"$f":"IF(AB72=AB59,AY59,IF(AB72=AB62,AY62,IF(AB72=AB65,AY65,)))","v":{"$error":"#DIV/0!"}},{"$error":"#DIV/0!"},{"$error":"#DIV/0!"},null,{"$error":"#DIV/0!"}]
[null,"Joueur 2",{"$f":"'Saisie des joueurs'!L22","v":0},null,null,null,null,null,null,null,null,"Joueur 2",{"$f":"IF(AN70=3,AB70,IF(AN71=3,AB71,IF(AN72=3,AB72,)))","v":{"$error":"#DIV/0!"}}]
[]
[null,"SAISIE DES RESULTATS",null,null,null,null,null,null,null,null,null,"SAISIE DES RESULTATS"]
[]
[null,null,null,null,null,null,null,null,null,null,null,null,null,null,null,null,null,null,null,null,null,null,null,null,null,null,null,null,null,{"$f":"C72","v":0},null,null,{"$f":"C73","v":0},null,null,{"$f":"C72","v":0},null,null,{"$f":"C73","v":0},null,null,null,"TOTAUX",null,null,"CLASSEMENT",null,null,null,null,null,null,null,null,null,null,null,null,null,null,null,null,null,{"$f":"M72","v":{"$error":"#DIV/0!"}},null,null,{"$f":"M73","v":{"$error":"#DIV/0!"}},null,null,{"$f":"M72","v":{"$error":"#DIV/0!"}},null,null,{"$f":"M73","v":{"$error":"#DIV/0!"}},null,null,null,"TOTAUX",null,null,"CLASSEMENT"]
[null,"PHASE 1 - POULE D",null,null,null,null,null,null,null,null,null,"PHASE 2 - POULE D"]
[null,null,null,null,null,null,null,null,null,null,null,null,null,null,null,null,null,null,null,null,null,null,null,null,null,null,null,null,null,null,null,null,null,null,null,null,null,null,null,null,null,null,null,null,null,null,null,"Classement",null,"Classement",null,"Classement",null,"Classement",null,"Classement",null,"GENERAL","RANG",null,null,null,null,null,null,null,null,null,null,null,null,null,null,null,null,null,null,null,null,null,null,"Classement",null,"Classement",null,"Classement",null,"Classement",null,"Classement",null,"GENERAL","RANG"]
[null,null,null,null,null,null,null,null,null,null,null,"3ème des poules A-B de la phase 1",null,null,null,null,null,null,null,null,null,null,null,null,null,null,null,null,null,null,null,null,null,null,null,null,null,null,null,null,null,null,null,null,null,null,null,"Point-Match","CLS-M","Moy-Gen","CLS-G","Moy-Part","CLS-G","M-Series","CLS-S","MGPS","CLS","CLS",null,null,null,null,null,null,null,null,null,null,null,null,null,null,null,null,null,null,null,null,null,null,null,"Point-Match","CLS-M","Moy-Gen","CLS-G","Moy-Part","CLS-P","M-Series","CLS-S","MGPS","CLS","CLS"]
[null,null,null,"Pts","Rep","Série",null,null,null,null,null,null,null,"Pts","Rep","Série",null,null,null,null,null,null,null,null,null,null,null,{"$f":"C72","v":0},null,"L",null,null,{"$f":"D82","v":0},null,{"$f":"E82","v":0},"B",null,null,{"$f":"D85","v":0},null,{"$f":"E85","v":0},null,{"$f":"AG81+AM81","v":0},null,{"$f":"AI81+AO81","v":0},{"$f":"BG81","v":{"$error":"#DIV/0!"}},null,{"$f":"AR82","v":0.02},{"$f":"RANK(AV81,AV$81:AV$86,0)","v":1},{"$f":"AS83","v":{"$error":"#DIV/0!"}},{"$f":"RANK(AX81,AX$81:AX$86,0)","v":{"$error":"#DIV/0!"}},{"$f":"MAX(AI83,AO83)","v":{"$error":"#DIV/0!"}},{"$f":"RANK(AZ81,AZ$81:AZ$86,0)","v":{"$error":"#DIV/0!"}},{"$f":"AQ83","v":0},{"$f":"RANK(BB81,BB$81:BB$86)","v":1},{"$f":"(AW81*1000)+(AY81*100)+(BA81*10)+(BC81*1)","v":{"$error":"#DIV/0!"}},{"$f":"RANK(BD81,BD$81:BD$86)","v":{"$error":"#DIV/0!"}},{"$f":"BD81","v":{"$error":"#DIV/0!"}},{"$f":"RANK(BF81,BF$81:BF86,1)","v":{"$error":"#DIV/0!"}},null,null,{"$f":"M72","v":{"$error":"#DIV/0!"}},null,"L",null,null,{"$f":"N82","v":0},null,{"$f":"O82","v":0},"B",null,null,{"$f":"N85","v":0},null,{"$f":"O85","v":0},null,{"$f":"BO81+BU81","v":0},null,{"$f":"BQ81+BW81","v":0},{"$f":"CO81","v":{"$error":"#DIV/0!"}},null,{"$f":"BY81","v":0},{"$f":"RANK(CD81,CD$81:CD$86,0)","v":1},{"$f":"CA83","v":{"$error":"#DIV/0!"}},{"$f":"RANK(CF81,CF$81:CF$86,0)","v":{"$error":"#DIV/0!"}},{"$f":"MAX(BQ83,BW83)","v":{"$error":"#DIV/0!"}},{"$f":"RANK(CH81,CH$81:CH$86,0)","v":{"$error":"#DIV/0!"}},{"$f":"BY83","v":0},{"$f":"RANK(CJ81,CJ$81:CJ$86,0)","v":1},{"$f":"(CE81*1000)+(CG81*100)+(CI81*10)+(CK81*1)","v":{"$error":"#DIV/0!"}},{"$f":"RANK(CL81,CL$81:CL$86,0)","v":{"$error":"#DIV/0!"}},{"$f":"CL81","v":{"$error":"#DIV/0!"}},{"$f":"RANK(CL81,CL$81:CL$86,1)","v":{"$error":"#DIV/0!"}}]
[null,"Tour 1",{"$f":"C72","v":0},null,null,null,null,null,null,null,null,"Tour 1",{"$f":"M72","v":{"$error":"#DIV/0!"}},null,null,null,null,null,null,null,null,null,null,null,null,null,null,null,null,null,null,null,null,{"$f":"IF(AI81<1,0.01,IF(AG81>AD84,2,IF(AG81=AD84,1,0)))","v":0.01},null,null,null,null,null,{"$f":"IF(AO81<1,0.01,IF(AM81>AJ84,2,IF(AM81=AJ84,1,0)))","v":0.01},null,null,null,{"$f":"AH82+AN82","v":0.02},null,null,null,null,null,null,null,null,null,null,null,null,null,null,null,null,null,null,null,null,null,null,null,{"$f":"IF(BQ81<1,0.01,IF(BO81>BL84,2,IF(BO81=BL84,1,0)))","v":0.01},null,null,null,null,null,{"$f":"IF(BW81<1,0.01,IF(BU81>BR84,2,IF(BU81=BR84,1,0)))","v":0.01},null,null,null,{"$f":"BP82+BV82","v":0.02}]
[null,null,{"$f":"C73","v":0},null,null,null,null,null,null,null,null,null,{"$f":"M73","v":{"$error":"#DIV/0!"}},null,null,null,null,null,null,null,null,null,null,null,null,null,null,null,null,null,null,null,{"$f":"F82","v":0},null,{"$f":"AG81/AI81","v":{"$error":"#DIV/0!"}},null,null,null,{"$f":"F85","v":0},null,{"$f":"AM81/AO81","v":{"$error":"#DIV/0!"}},null,{"$f":"MAX(AG83,AM83)","v":0},null,{"$f":"AQ81/AS81","v":{"$error":"#DIV/0!"}},null,null,null,null,null,null,null,null,null,null,null,null,null,null,null,null,null,null,null,null,null,{"$f":"P82","v":0},null,{"$f":"BO81/BQ81","v":{"$error":"#DIV/0!"}},null,null,null,{"$f":"P85","v":0},null,{"$f":"BU81/BW81","v":{"$error":"#DIV/0!"}},null,{"$f":"MAX(BO83,BU83)","v":0},null,{"$f":"BY81/CA81","v":{"$error":"#DIV/0!"}}]
[null,null,null,null,null,null,null,null,null,null,null,null,null,null,null,null,null,null,null,null,null,null,null,null,null,null,null,{"$f":"C73","v":0},null,{"$f":"D83","v":0},null,{"$f":"E82","v":0},"M",null,null,{"$f":"D86","v":0},null,{"$f":"E85","v":0},null,null,null,null,{"$f":"AD84+AJ84","v":0},null,{"$f":"AF84+AL84","v":0},{"$f":"BG84","v":{"$error":"#DIV/0!"}},null,{"$f":"AR85","v":0.02},{"$f":"RANK(AV84,AV$81:AV$86,0)","v":1},{"$f":"AS86","v":{"$error":"#DIV/0!"}},{"$f":"RANK(AX84,AX$81:AX$86,0)","v":{"$error":"#DIV/0!"}},{"$f":"MAX(AF86,AL86)","v":{"$error":"#DIV/0!"}},{"$f":"RANK(AZ84,AZ$81:AZ$86,0)","v":{"$error":"#DIV/0!"}},{"$f":"AQ86","v":0},{"$f":"RANK(BB84,BB$81:BB$86)","v":1},{"$f":"(AW84*1000)+(AY84*100)+(BA84*10)+(BC84*1)","v":{"$error":"#DIV/0!"}},{"$f":"RANK(BD84,BD$81:BD$86)","v":{"$error":"#DIV/0!"}},{"$f":"BD84","v":{"$error":"#DIV/0!"}},{"$f":"RANK(BF84,BF$64:BF86,1)","v":{"$error":"#DIV/0!"}},null,null,{"$f":"M73","v":{"$error":"#DIV/0!"}},null,{"$f":"N83","v":0},null,{"$f":"O82","v":0},"M",null,null,{"$f":"N86","v":0},null,{"$f":"O85","v":0},null,null,null,null,{"$f":"BL84+BR84","v":0},null,{"$f":"BN84+BT84","v":0},{"$f":"CO84","v":{"$error":"#DIV/0!"}},null,{"$f":"BY84","v":0},{"$f":"RANK(CD84,CD$81:CD$86,0)","v":1},{"$f":"CA86","v":{"$error":"#DIV/0!"}},{"$f":"RANK(CF84,CF$81:CF$86,0)","v":{"$error":"#DIV/0!"}},{"$f":"MAX(BN86,BT86)","v":{"$error":"#DIV/0!"}},{"$f":"RANK(CH84,CH$81:CH$86,0)","v":{"$error":"#DIV/0!"}},{"$f":"BY86","v":0},{"$f":"RANK(CJ84,CJ$81:CJ$86,0)","v":1},{"$f":"(CE84*1000)+(CG84*100)+(CI84*10)+(CK84*1)","v":{"$error":"#DIV/0!"}},{"$f":"RANK(CL84,CL$81:CL$86,0)","v":{"$error":"#DIV/0!"}},{"$f":"CL84","v":{"$error":"#DIV/0!"}},{"$f":"RANK(CL84,CL$81:CL$86,1)","v":{"$error":"#DIV/0!"}}]
[null,"Tour 2",{"$f":"C72","v":0},null,null,null,null,null,null,null,null,"Tour 2",{"$f":"M72","v":{"$error":"#DIV/0!"}},null,null,null,null,null,null,null,null,null,null,null,null,null,null,null,null,null,{"$f":"IF(AI81>0,2-AH82,0.01)","v":0.01},null,null,null,null,null,{"$f":"IF(AL84<1,0.01,IF(AJ84>AM81,2,IF(AJ84=AM81,1,0)))","v":0.01},null,null,null,null,null,null,{"$f":"AE85+AK85","v":0.02},null,null,null,null,null,null,null,null,null,null,null,null,null,null,null,null,null,null,null,null,{"$f":"IF(BN84<1,0.01,IF(BL84>BO81,2,IF(BL84=BO81,1,0)))","v":0.01},null,null,null,null,null,{"$f":"IF(BT84<1,0.01,IF(BR84>BU81,2,IF(BR84=BU81,1,0)))","v":0.01},null,null,null,null,null,null,{"$f":"BM85+BS85","v":0.02}]
[null,null,{"$f":"C73","v":0},null,null,null,null,null,null,null,null,null,{"$f":"M73","v":{"$error":"#DIV/0!"}},null,null,null,null,null,null,null,null,null,null,null,null,null,null,null,null,{"$f":"F83","v":0},null,{"$f":"AD84/AF84","v":{"$error":"#DIV/0!"}},null,null,null,{"$f":"F86","v":0},null,{"$f":"AJ84/AL84","v":{"$error":"#DIV/0!"}},null,null,null,null,{"$f":"MAX(AD86,AJ86)","v":0},null,{"$f":"AQ84/AS84","v":{"$error":"#DIV/0!"}},null,null,null,null,null,null,null,null,null,null,null,null,null,null,null,null,null,null,{"$f":"P83","v":0},null,{"$f":"BL84/BN84","v":{"$error":"#DIV/0!"}},null,null,null,{"$f":"P86","v":0},null,{"$f":"BR84/BT84","v":{"$error":"#DIV/0!"}},null,null,null,null,{"$f":"MAX(BL86,BR86)","v":0},null,{"$f":"BY84/CA84","v":{"$error":"#DIV/0!"}}]
[]
[]
[]
[null,null,null,null,null,null,null,null,null,null,null,null,null,null,null,null,null,null,null,null,null,null,null,null,null,null,null,null,null,null,"PtsP1","PtsP2","Total","RepP1","RepP2","Total","Moy"]
[null,null,null,null,null,null,null,null,null,null,null,null,null,null,null,null,null,null,null,null,null,null,null,null,null,null,null,{"$f":"T18","v":{"$error":"#DIV/0!"}},null,null,{"$f":"IF(AB18=AB91,AN18,IF(AB21=AB91,AN21,IF(AB24=AB91,AN24,IF(AB38=AB91,AN38,IF(AB41=AB91,AN41,IF(AB44=AB91,AN44,IF(AB59=AB91,AN59,IF(AB62=AB91,AN62,IF(AB65=AB91,AN65,IF(AB81=AB91,AQ81,IF(AB84=AB91,AQ84,)))))))))))","v":{"$error":"#DIV/0!"}},{"$f":"IF(BJ18=AB91,BV18,IF(BJ21=AB91,BV21,IF(BJ24=AB91,BV24,IF(BJ38=AB91,BV38,IF(BJ41=AB91,BV41,IF(BJ44=AB91,BV44,IF(BJ59=AB91,BV59,IF(BJ62=AB91,BV62,IF(BJ65=AB91,BV65,IF(BJ81=AB91,BY81,IF(BJ84=AB91,BY84,)))))))))))","v":{"$error":"#DIV/0!"}},{"$f":"AE91+AF91","v":{"$error":"#DIV/0!"}},{"$f":"IF(AB18=AB91,AP18,IF(AB21=AB91,AP21,IF(AB24=AB91,AP24,IF(AB38=AB91,AP38,IF(AB41=AB91,AP41,IF(AB44=AB91,AP44,IF(AB59=AB91,AP59,IF(AB62=AB91,AP62,IF(AB65=AB91,AP65,IF(AB81=AB91,AS81,IF(AB84=AB91,AS84,)))))))))))","v":{"$error":"#DIV/0!"}},{"$f":"IF(BJ18=AB91,BX18,IF(BJ21=AB91,BX21,IF(BJ24=AB91,BX24,IF(BJ38=AB91,BX38,IF(BJ41=AB91,BX41,IF(BJ44=AB91,BX44,IF(BJ59=AB91,BX59,IF(BJ62=AB91,BX62,IF(BJ65=AB91,BX65,IF(BJ81=AB91,CA81,IF(BJ84=AB91,CA84,)))))))))))","v":{"$error":"#DIV/0!"}},{"$f":"AH91+AI91","v":{"$error":"#DIV/0!"}},{"$f":"AG91/AJ91","v":{"$error":"#DIV/0!"}}]
[null,null,null,null,null,null,null,null,null,null,null,null,null,null,null,null,null,null,null,null,null,null,null,null,null,null,null,{"$error":"#DIV/0!"},null,null,{"$f":"IF(AB18=AB92,AN18,IF(AB21=AB92,AN21,IF(AB24=AB92,AN24,IF(AB38=AB92,AN38,IF(AB41=AB92,AN41,IF(AB44=AB92,AN44,IF(AB59=AB92,AN59,IF(AB62=AB92,AN62,IF(AB65=AB92,AN65,IF(AB81=AB92,AQ81,IF(AB84=AB92,AQ84,)))))))))))","v":{"$error":"#DIV/0!"}},{"$f":"IF(BJ18=AB92,BV18,IF(BJ21=AB92,BV21,IF(BJ24=AB92,BV24,IF(BJ38=AB92,BV38,IF(BJ41=AB92,BV41,IF(BJ44=AB92,BV44,IF(BJ59=AB92,BV59,IF(BJ62=AB92,BV62,IF(BJ65=AB92,BV65,IF(BJ81=AB92,BY81,IF(BJ84=AB92,BY84,)))))))))))","v":{"$error":"#DIV/0!"}},{"$f":"AE92+AF92","v":{"$error":"#DIV/0!"}},{"$f":"IF(AB18=AB92,AP18,IF(AB21=AB92,AP21,IF(AB24=AB92,AP24,IF(AB38=AB92,AP38,IF(AB41=AB92,AP41,IF(AB44=AB92,AP44,IF(AB59=AB92,AP59,IF(AB62=AB92,AP62,IF(AB65=AB92,AP65,IF(AB81=AB92,AS81,IF(AB84=AB92,AS84,)))))))))))","v":{"$error":"#DIV/0!"}},{"$f":"IF(BJ18=AB92,BX18,IF(BJ21=AB92,BX21,IF(BJ24=AB92,BX24,IF(BJ38=AB92,BX38,IF(BJ41=AB92,BX41,IF(BJ44=AB92,BX44,IF(BJ59=AB92,BX59,IF(BJ62=AB92,BX62,IF(BJ65=AB92,BX65,IF(BJ81=AB92,CA81,IF(BJ84=AB92,CA84,)))))))))))","v":{"$error":"#DIV/0!"}},{"$f":"AH92+AI92","v":{"$error":"#DIV/0!"}},{"$f":"AG92/AJ92","v":{"$error":"#DIV/0!"}}]
[null,null,null,null,null,null,null,null,null,null,null,null,null,null,null,null,null,null,null,null,null,null,null,null,null,null,null,{"$error":"#DIV/0!"},null,null,{"$f":"IF(AB18=AB93,AN18,IF(AB21=AB93,AN21,IF(AB24=AB93,AN24,IF(AB38=AB93,AN38,IF(AB41=AB93,AN41,IF(AB44=AB93,AN44,IF(AB59=AB93,AN59,IF(AB62=AB93,AN62,IF(AB65=AB93,AN65,IF(AB81=AB93,AQ81,IF(AB84=AB93,AQ84,)))))))))))","v":{"$error":"#DIV/0!"}},{"$f":"IF(BJ18=AB93,BV18,IF(BJ21=AB93,BV21,IF(BJ24=AB93,BV24,IF(BJ38=AB93,BV38,IF(BJ41=AB93,BV41,IF(BJ44=AB93,BV44,IF(BJ59=AB93,BV59,IF(BJ62=AB93,BV62,IF(BJ65=AB93,BV65,IF(BJ81=AB93,BY81,IF(BJ84=AB93,BY84,)))))))))))","v":{"$error":"#DIV/0!"}},{"$error":"#DIV/0!"},{"$f":"IF(AB18=AB93,AP18,IF(AB21=AB93,AP21,IF(AB24=AB93,AP24,IF(AB38=AB93,AP38,IF(AB41=AB93,AP41,IF(AB44=AB93,AP44,IF(AB59=AB93,AP59,IF(AB62=AB93,AP62,IF(AB65=AB93,AP65,IF(AB81=AB93,AS81,IF(AB84=AB93,AS84,)))))))))))","v":{"$error":"#DIV/0!"}},{"$f":"IF(BJ18=AB93,BX18,IF(BJ21=AB93,BX21,IF(BJ24=AB93,BX24,IF(BJ38=AB93,BX38,IF(BJ41=AB93,BX41,IF(BJ44=AB93,BX44,IF(BJ59=AB93,BX59,IF(BJ62=AB93,BX62,IF(BJ65=AB93,BX65,IF(BJ81=AB93,CA81,IF(BJ84=AB93,CA84,)))))))))))","v":{"$error":"#DIV/0!"}},{"$error":"#DIV/0!"},{"$error":"#DIV/0!"}]
[null,null,null,null,null,null,null,null,null,null,null,null,null,null,null,null,null,null,null,null,null,null,null,null,null,null,null,{"$error":"#DIV/0!"},null,null,{"$f":"IF(AB18=AB94,AN18,IF(AB21=AB94,AN21,IF(AB24=AB94,AN24,IF(AB38=AB94,AN38,IF(AB41=AB94,AN41,IF(AB44=AB94,AN44,IF(AB59=AB94,AN59,IF(AB62=AB94,AN62,IF(AB65=AB94,AN65,IF(AB81=AB94,AQ81,IF(AB84=AB94,AQ84,)))))))))))","v":{"$error":"#DIV/0!"}},{"$f":"IF(BJ18=AB94,BV18,IF(BJ21=AB94,BV21,IF(BJ24=AB94,BV24,IF(BJ38=AB94,BV38,IF(BJ41=AB94,BV41,IF(BJ44=AB94,BV44,IF(BJ59=AB94,BV59,IF(BJ62=AB94,BV62,IF(BJ65=AB94,BV65,IF(BJ81=AB94,BY81,IF(BJ84=AB94,BY84,)))))))))))","v":{"$error":"#DIV/0!"}},{"$error":"#DIV/0!"},{"$f":"IF(AB18=AB94,AP18,IF(AB21=AB94,AP21,IF(AB24=AB94,AP24,IF(AB38=AB94,AP38,IF(AB41=AB94,AP41,IF(AB44=AB94,AP44,IF(AB59=AB94,AP59,IF(AB62=AB94,AP62,IF(AB65=AB94,AP65,IF(AB81=AB94,AS81,IF(AB84=AB94,AS84,)))))))))))","v":{"$error":"#DIV/0!"}},{"$f":"IF(BJ18=AB94,BX18,IF(BJ21=AB94,BX21,IF(BJ24=AB94,BX24,IF(BJ38=AB94,BX38,IF(BJ41=AB94,BX41,IF(BJ44=AB94,BX44,IF(BJ59=AB94,BX59,IF(BJ62=AB94,BX62,IF(BJ65=AB94,BX65,IF(BJ81=AB94,CA81,IF(BJ84=AB94,CA84,)))))))))))","v":{"$error":"#DIV/0!"}},{"$error":"#DIV/0!"},{"$error":"#DIV/0!"}]
[null,null,null,null,null,null,null,null,null,null,null,null,null,null,null,null,null,null,null,null,null,null,null,null,null,null,null,{"$error":"#DIV/0!"},null,null,{"$f":"IF(AB18=AB95,AN18,IF(AB21=AB95,AN21,IF(AB24=AB95,AN24,IF(AB38=AB95,AN38,IF(AB41=AB95,AN41,IF(AB44=AB95,AN44,IF(AB59=AB95,AN59,IF(AB62=AB95,AN62,IF(AB65=AB95,AN65,IF(AB81=AB95,AQ81,IF(AB84=AB95,AQ84,)))))))))))","v":{"$error":"#DIV/0!"}},{"$f":"IF(BJ18=AB95,BV18,IF(BJ21=AB95,BV21,IF(BJ24=AB95,BV24,IF(BJ38=AB95,BV38,IF(BJ41=AB95,BV41,IF(BJ44=AB95,BV44,IF(BJ59=AB95,BV59,IF(BJ62=AB95,BV62,IF(BJ65=AB95,BV65,IF(BJ81=AB95,BY81,IF(BJ84=AB95,BY84,)))))))))))","v":{"$error":"#DIV/0!"}},{"$error":"#DIV/0!"},{"$f":"IF(AB18=AB95,AP18,IF(AB21=AB95,AP21,IF(AB24=AB95,AP24,IF(AB38=AB95,AP38,IF(AB41=AB95,AP41,IF(AB44=AB95,AP44,IF(AB59=AB95,AP59,IF(AB62=AB95,AP62,IF(AB65=AB95,AP65,IF(AB81=AB95,AS81,IF(AB84=AB95,AS84,)))))))))))","v":{"$error":"#DIV/0!"}},{"$f":"IF(BJ18=AB95,BX18,IF(BJ21=AB95,BX21,IF(BJ24=AB95,BX24,IF(BJ38=AB95,BX38,IF(BJ41=AB95,BX41,IF(BJ44=AB95,BX44,IF(BJ59=AB95,BX59,IF(BJ62=AB95,BX62,IF(BJ65=AB95,BX65,IF(BJ81=AB95,CA81,IF(BJ84=AB95,CA84,)))))))))))","v":{"$error":"#DIV/0!"}},{"$error":"#DIV/0!"},{"$error":"#DIV/0!"}]
[null,null,null,null,null,null,null,null,null,null,null,null,null,null,null,null,null,null,null,null,null,null,null,null,null,null,null,{"$error":"#DIV/0!"},null,null,{"$f":"IF(AB18=AB96,AN18,IF(AB21=AB96,AN21,IF(AB24=AB96,AN24,IF(AB38=AB96,AN38,IF(AB41=AB96,AN41,IF(AB44=AB96,AN44,IF(AB59=AB96,AN59,IF(AB62=AB96,AN62,IF(AB65=AB96,AN65,IF(AB81=AB96,AQ81,IF(AB84=AB96,AQ84,)))))))))))","v":{"$error":"#DIV/0!"}},{"$f":"IF(BJ18=AB96,BV18,IF(BJ21=AB96,BV21,IF(BJ24=AB96,BV24,IF(BJ38=AB96,BV38,IF(BJ41=AB96,BV41,IF(BJ44=AB96,BV44,IF(BJ59=AB96,BV59,IF(BJ62=AB96,BV62,IF(BJ65=AB96,BV65,IF(BJ81=AB96,BY81,IF(BJ84=AB96,BY84,)))))))))))","v":{"$error":"#DIV/0!"}},{"$error":"#DIV/0!"},{"$f":"IF(AB18=AB96,AP18,IF(AB21=AB96,AP21,IF(AB24=AB96,AP24,IF(AB38=AB96,AP38,IF(AB41=AB96,AP41,IF(AB44=AB96,AP44,IF(AB59=AB96,AP59,IF(AB62=AB96,AP62,IF(AB65=AB96,AP65,IF(AB81=AB96,AS81,IF(AB84=AB96,AS84,)))))))))))","v":{"$error":"#DIV/0!"}},{"$f":"IF(BJ18=AB96,BX18,IF(BJ21=AB96,BX21,IF(BJ24=AB96,BX24,IF(BJ38=AB96,BX38,IF(BJ41=AB96,BX41,IF(BJ44=AB96,BX44,IF(BJ59=AB96,BX59,IF(BJ62=AB96,BX62,IF(BJ65=AB96,BX65,IF(BJ81=AB96,CA81,IF(BJ84=AB96,CA84,)))))))))))","v":{"$error":"#DIV/0!"}},{"$error":"#DIV/0!"},{"$error":"#DIV/0!"}]
[null,null,null,null,null,null,null,null,null,null,null,null,null,null,null,null,null,null,null,null,null,null,null,null,null,null,null,{"$error":"#DIV/0!"},null,null,{"$f":"IF(AB18=AB97,AN18,IF(AB21=AB97,AN21,IF(AB24=AB97,AN24,IF(AB38=AB97,AN38,IF(AB41=AB97,AN41,IF(AB44=AB97,AN44,IF(AB59=AB97,AN59,IF(AB62=AB97,AN62,IF(AB65=AB97,AN65,IF(AB81=AB97,AQ81,IF(AB84=AB97,AQ84,)))))))))))","v":{"$error":"#DIV/0!"}},{"$f":"IF(BJ18=AB97,BV18,IF(BJ21=AB97,BV21,IF(BJ24=AB97,BV24,IF(BJ38=AB97,BV38,IF(BJ41=AB97,BV41,IF(BJ44=AB97,BV44,IF(BJ59=AB97,BV59,IF(BJ62=AB97,BV62,IF(BJ65=AB97,BV65,IF(BJ81=AB97,BY81,IF(BJ84=AB97,BY84,)))))))))))","v":{"$error":"#DIV/0!"}},{"$error":"#DIV/0!"},{"$f":"IF(AB18=AB97,AP18,IF(AB21=AB97,AP21,IF(AB24=AB97,AP24,IF(AB38=AB97,AP38,IF(AB41=AB97,AP41,IF(AB44=AB97,AP44,IF(AB59=AB97,AP59,IF(AB62=AB97,AP62,IF(AB65=AB97,AP65,IF(AB81=AB97,AS81,IF(AB84=AB97,AS84,)))))))))))","v":{"$error":"#DIV/0!"}},{"$f":"IF(BJ18=AB97,BX18,IF(BJ21=AB97,BX21,IF(BJ24=AB97,BX24,IF(BJ38=AB97,BX38,IF(BJ41=AB97,BX41,IF(BJ44=AB97,BX44,IF(BJ59=AB97,BX59,IF(BJ62=AB97,BX62,IF(BJ65=AB97,BX65,IF(BJ81=AB97,CA81,IF(BJ84=AB97,CA84,)))))))))))","v":{"$error":"#DIV/0!"}},{"$error":"#DIV/0!"},{"$error":"#DIV/0!"}]
[null,null,null,null,null,null,null,null,null,null,null,null,null,null,null,null,null,null,null,null,null,null,null,null,null,null,null,{"$error":"#DIV/0!"},null,null,{"$f":"IF(AB18=AB98,AN18,IF(AB21=AB98,AN21,IF(AB24=AB98,AN24,IF(AB38=AB98,AN38,IF(AB41=AB98,AN41,IF(AB44=AB98,AN44,IF(AB59=AB98,AN59,IF(AB62=AB98,AN62,IF(AB65=AB98,AN65,IF(AB81=AB98,AQ81,IF(AB84=AB98,AQ84,)))))))))))","v":{"$error":"#DIV/0!"}},{"$f":"IF(BJ18=AB98,BV18,IF(BJ21=AB98,BV21,IF(BJ24=AB98,BV24,IF(BJ38=AB98,BV38,IF(BJ41=AB98,BV41,IF(BJ44=AB98,BV44,IF(BJ59=AB98,BV59,IF(BJ62=AB98,BV62,IF(BJ65=AB98,BV65,IF(BJ81=AB98,BY81,IF(BJ84=AB98,BY84,)))))))))))","v":{"$error":"#DIV/0!"}},{"$error":"#DIV/0!"},{"$f":"IF(AB18=AB98,AP18,IF(AB21=AB98,AP21,IF(AB24=AB98,AP24,IF(AB38=AB98,AP38,IF(AB41=AB98,AP41,IF(AB44=AB98,AP44,IF(AB59=AB98,AP59,IF(AB62=AB98,AP62,IF(AB65=AB98,AP65,IF(AB81=AB98,AS81,IF(AB84=AB98,AS84,)))))))))))","v":{"$error":"#DIV/0!"}},{"$f":"IF(BJ18=AB98,BX18,IF(BJ21=AB98,BX21,IF(BJ24=AB98,BX24,IF(BJ38=AB98,BX38,IF(BJ41=AB98,BX41,IF(BJ44=AB98,BX44,IF(BJ59=AB98,BX59,IF(BJ62=AB98,BX62,IF(BJ65=AB98,BX65,IF(BJ81=AB98,CA81,IF(BJ84=AB98,CA84,)))))))))))","v":{"$error":"#DIV/0!"}},{"$error":"#DIV/0!"},{"$error":"#DIV/0!"}]
[null,null,null,null,null,null,null,null,null,null,null,null,null,null,null,null,null,null,null,null,null,null,null,null,null,null,null,{"$error":"#DIV/0!"},null,null,{"$f":"IF(AB18=AB99,AN18,IF(AB21=AB99,AN21,IF(AB24=AB99,AN24,IF(AB38=AB99,AN38,IF(AB41=AB99,AN41,IF(AB44=AB99,AN44,IF(AB59=AB99,AN59,IF(AB62=AB99,AN62,IF(AB65=AB99,AN65,IF(AB81=AB99,AQ81,IF(AB84=AB99,AQ84,)))))))))))","v":{"$error":"#DIV/0!"}},{"$f":"IF(BJ18=AB99,BV18,IF(BJ21=AB99,BV21,IF(BJ24=AB99,BV24,IF(BJ38=AB99,BV38,IF(BJ41=AB99,BV41,IF(BJ44=AB99,BV44,IF(BJ59=AB99,BV59,IF(BJ62=AB99,BV62,IF(BJ65=AB99,BV65,IF(BJ81=AB99,BY81,IF(BJ84=AB99,BY84,)))))))))))","v":{"$error":"#DIV/0!"}},{"$error":"#DIV/0!"},{"$f":"IF(AB18=AB99,AP18,IF(AB21=AB99,AP21,IF(AB24=AB99,AP24,IF(AB38=AB99,AP38,IF(AB41=AB99,AP41,IF(AB44=AB99,AP44,IF(AB59=AB99,AP59,IF(AB62=AB99,AP62,IF(AB65=AB99,AP65,IF(AB81=AB99,AS81,IF(AB84=AB99,AS84,)))))))))))","v":{"$error":"#DIV/0!"}},{"$f":"IF(BJ18=AB99,BX18,IF(BJ21=AB99,BX21,IF(BJ24=AB99,BX24,IF(BJ38=AB99,BX38,IF(BJ41=AB99,BX41,IF(BJ44=AB99,BX44,IF(BJ59=AB99,BX59,IF(BJ62=AB99,BX62,IF(BJ65=AB99,BX65,IF(BJ81=AB99,CA81,IF(BJ84=AB99,CA84,)))))))))))","v":{"$error":"#DIV/0!"}},{"$error":"#DIV/0!"},{"$error":"#DIV/0!"}]
[null,null,null,null,null,null,null,null,null,null,null,null,null,null,null,null,null,null,null,null,null,null,null,null,null,null,null,{"$error":"#DIV/0!"},null,null,{"$f":"IF(AB18=AB100,AN18,IF(AB21=AB100,AN21,IF(AB24=AB100,AN24,IF(AB38=AB100,AN38,IF(AB41=AB100,AN41,IF(AB44=AB100,AN44,IF(AB59=AB100,AN59,IF(AB62=AB100,AN62,IF(AB65=AB100,AN65,IF(AB81=AB100,AQ81,IF(AB84=AB100,AQ84,)))))))))))","v":{"$error":"#DIV/0!"}},{"$f":"IF(BJ18=AB100,BV18,IF(BJ21=AB100,BV21,IF(BJ24=AB100,BV24,IF(BJ38=AB100,BV38,IF(BJ41=AB100,BV41,IF(BJ44=AB100,BV44,IF(BJ59=AB100,BV59,IF(BJ62=AB100,BV62,IF(BJ65=AB100,BV65,IF(BJ81=AB100,BY81,IF(BJ84=AB100,BY84,)))))))))))","v":{"$error":"#DIV/0!"}},{"$error":"#DIV/0!"},{"$f":"IF(AB18=AB100,AP18,IF(AB21=AB100,AP21,IF(AB24=AB100,AP24,IF(AB38=AB100,AP38,IF(AB41=AB100,AP41,IF(AB44=AB100,AP44,IF(AB59=AB100,AP59,IF(AB62=AB100,AP62,IF(AB65=AB100,AP65,IF(AB81=AB100,AS81,IF(AB84=AB100,AS84,)))))))))))","v":{"$error":"#DIV/0!"}},{"$f":"IF(BJ18=AB100,BX18,IF(BJ21=AB100,BX21,IF(BJ24=AB100,BX24,IF(BJ38=AB100,BX38,IF(BJ41=AB100,BX41,IF(BJ44=AB100,BX44,IF(BJ59=AB100,BX59,IF(BJ62=AB100,BX62,IF(BJ65=AB100,BX65,IF(BJ81=AB100,CA81,IF(BJ84=AB100,CA84,)))))))))))","v":{"$error":"#DIV/0!"}},{"$error":"#DIV/0!"},{"$error":"#DIV/0!"}]
[null,null,null,null,null,null,null,null,null,null,null,null,null,null,null,null,null,null,null,null,null,null,null,null,null,null,null,{"$error":"#DIV/0!"},null,null,{"$f":"IF(AB18=AB101,AN18,IF(AB21=AB101,AN21,IF(AB24=AB101,AN24,IF(AB38=AB101,AN38,IF(AB41=AB101,AN41,IF(AB44=AB101,AN44,IF(AB59=AB101,AN59,IF(AB62=AB101,AN62,IF(AB65=AB101,AN65,IF(AB81=AB101,AQ81,IF(AB84=AB101,AQ84,)))))))))))","v":{"$error":"#DIV/0!"}},{"$f":"IF(BJ18=AB101,BV18,IF(BJ21=AB101,BV21,IF(BJ24=AB101,BV24,IF(BJ38=AB101,BV38,IF(BJ41=AB101,BV41,IF(BJ44=AB101,BV44,IF(BJ59=AB101,BV59,IF(BJ62=AB101,BV62,IF(BJ65=AB101,BV65,IF(BJ81=AB101,BY81,IF(BJ84=AB101,BY84,)))))))))))","v":{"$error":"#DIV/0!"}},{"$error":"#DIV/0!"},{"$f":"IF(AB18=AB101,AP18,IF(AB21=AB101,AP21,IF(AB24=AB101,AP24,IF(AB38=AB101,AP38,IF(AB41=AB101,AP41,IF(AB44=AB101,AP44,IF(AB59=AB101,AP59,IF(AB62=AB101,AP62,IF(AB65=AB101,AP65,IF(AB81=AB101,AS81,IF(AB84=AB101,AS84,)))))))))))","v":{"$error":"#DIV/0!"}},{"$f":"IF(BJ18=AB101,BX18,IF(BJ21=AB101,BX21,IF(BJ24=AB101,BX24,IF(BJ38=AB101,BX38,IF(BJ41=AB101,BX41,IF(BJ44=AB101,BX44,IF(BJ59=AB101,BX59,IF(BJ62=AB101,BX62,IF(BJ65=AB101,BX65,IF(BJ81=AB101,CA81,IF(BJ84=AB101,CA84,)))))))))))","v":{"$error":"#DIV/0!"}},{"$error":"#DIV/0!"},{"$f":"AG101/AJ101","v":{"$error":"#DIV/0!"}}]

{"sheet":"12JOUEURS","index":23,"n_rows":106,"n_cols":90,"rows_kept":106,"cut":false,"hidden":true,"merged":[[16,16,16,17],[105,27,105,29],[97,27,97,29],[98,27,98,29],[99,27,99,29],[100,27,100,29],[101,27,101,29],[102,27,102,29],[103,27,103,29],[104,27,104,29],[84,27,86,28],[94,27,94,29],[95,27,95,29],[96,27,96,29],[69,27,69,28],[84,50,86,50],[84,51,86,51],[84,80,86,80],[84,81,86,81],[84,82,86,82],[84,83,86,83],[84,84,86,84],[84,52,86,52],[84,53,86,53],[84,54,86,54],[84,55,86,55],[84,61,86,62],[84,66,86,68],[84,89,86,89],[85,1,86,1],[85,4,86,4],[85,11,86,11],[85,14,86,14],[84,85,86,85],[84,86,86,86],[84,87,86,87],[87,50,89,50],[87,88,89,88],[87,89,89,89],[88,1,89,1],[88,4,89,4],[88,11,89,11],[88,14,89,14],[87,35,89,37],[87,79,89,79],[87,80,89,80],[87,81,89,81],[87,82,89,82],[84,79,86,79],[84,88,86,88],[84,76,86,76],[84,78,86,78],[87,42,89,42],[87,44,89,44],[87,45,89,45],[87,46,89,46],[87,47,89,47],[87,48,89,48],[87,49,89,49],[84,32,86,34],[87,27,89,28],[84,42,86,42],[84,44,86,44],[84,45,86,45],[84,46,86,46],[84,47,86,47],[84,48,86,48],[84,49,86,49],[81,85,83,85],[81,86,83,86],[81,87,83,87],[81,88,83,88],[81,89,83,89],[82,1,83,1],[82,4,83,4],[82,11,83,11],[82,14,83,14],[81,63,83,65],[81,76,83,76],[81,78,83,78],[81,79,83,79],[81,80,83,80],[81,81,83,81],[81,82,83,82],[81,83,83,83],[79,78,79,79],[79,80,79,81],[79,82,79,83],[79,84,79,85],[79,86,79,87],[79,89,80,89],[80,11,81,12],[81,27,83,28],[81,29,83,31],[81,42,83,42],[81,44,83,44],[81,45,83,45],[81,46,83,46],[81,47,83,47],[81,48,83,48],[81,49,83,49],[81,50,83,50],[81,51,83,51],[81,52,83,52],[81,53,83,53],[81,54,83,54],[81,55,83,55],[81,61,83,62],[81,84,83,84],[77,39,80,41],[77,42,80,42],[77,63,80,65],[77,66,80,68],[77,69,80,71],[77,73,80,75],[77,76,80,76],[78,1,79,2],[78,11,79,12],[78,27,80,28],[78,61,80,62],[79,44,79,45],[79,46,79,47],[79,48,79,49],[79,50,79,51],[79,52,79,53],[79,55,80,55],[69,37,69,38],[70,27,70,28],[70,37,70,38],[71,12,71,15],[71,27,71,28],[71,37,71,38],[72,12,72,15],[75,1,76,5],[75,11,76,15],[72,27,72,28],[72,37,72,38],[64,82,66,82],[64,83,66,83],[64,84,66,84],[64,85,66,85],[64,86,66,86],[64,87,66,87],[64,88,66,88],[64,89,66,89],[67,1,68,1],[67,4,68,4],[67,11,68,11],[67,14,68,14],[68,26,68,28],[68,37,68,38],[64,54,66,54],[64,55,66,55],[64,61,66,62],[64,69,66,71],[64,76,66,76],[64,78,66,78],[64,79,66,79],[64,80,66,80],[64,81,66,81],[61,83,63,83],[61,84,63,84],[61,85,63,85],[61,86,63,86],[61,87,63,87],[61,88,63,88],[61,89,63,89],[64,1,65,1],[64,4,65,4],[64,11,65,11],[64,14,65,14],[64,27,66,28],[64,35,66,37],[64,42,66,42],[64,44,66,44],[64,45,66,45],[64,46,66,46],[64,47,66,47],[64,48,66,48],[64,49,66,49],[64,50,66,50],[64,51,66,51],[64,52,66,52],[64,53,66,53],[61,55,63,55],[61,61,63,62],[61,66,63,68],[61,76,63,76],[61,78,63,78],[61,79,63,79],[61,80,63,80],[61,81,63,81],[61,82,63,82],[58,85,60,85],[58,86,60,86],[58,87,60,87],[58,88,60,88],[58,89,60,89],[59,11,60,12],[61,1,62,1],[61,4,62,4],[61,11,62,11],[61,14,62,14],[61,27,63,28],[61,32,63,34],[61,42,63,42],[61,44,63,44],[61,45,63,45],[61,46,63,46],[61,47,63,47],[61,48,63,48],[61,49,63,49],[61,50,63,50],[61,51,63,51],[61,52,63,52],[61,53,63,53],[61,54,63,54],[58,63,60,65],[58,76,60,76],[58,78,60,78],[58,79,60,79],[58,80,60,80],[58,81,60,81],[58,82,60,82],[58,83,60,83],[58,84,60,84],[56,78,56,79],[56,80,56,81],[56,82,56,83],[56,84,56,85],[56,86,56,87],[56,89,57,89],[57,1,58,2],[57,11,58,12],[58,27,60,28],[58,29,60,31],[58,42,60,42],[58,44,60,44],[58,45,60,45],[58,46,60,46],[58,47,60,47],[58,48,60,48],[58,49,60,49],[58,50,60,50],[58,51,60,51],[58,52,60,52],[58,53,60,53],[58,54,60,54],[58,55,60,55],[58,61,60,62],[54,69,57,71],[54,73,57,75],[54,76,57,76],[55,27,57,28],[55,61,57,62],[56,44,56,45],[56,46,56,47],[56,48,56,49],[56,50,56,51],[56,52,56,53],[56,55,57,55],[54,1,55,5],[54,11,55,15],[54,29,57,31],[54,32,57,34],[54,35,57,37],[54,39,57,41],[54,42,57,42],[54,63,57,65],[54,66,57,68],[49,2,49,5],[49,12,49,15],[49,27,49,28],[49,37,49,38],[50,2,50,5],[50,12,50,15],[50,27,50,28],[50,37,50,38],[51,2,51,5],[51,12,51,15],[51,27,51,28],[51,37,51,38],[43,82,45,82],[43,83,45,83],[43,84,45,84],[43,85,45,85],[43,86,45,86],[43,87,45,87],[43,88,45,88],[43,89,45,89],[46,1,47,1],[46,4,47,4],[46,11,47,11],[46,14,47,14],[47,26,47,28],[47,37,47,38],[43,54,45,54],[43,55,45,55],[43,61,45,62],[43,69,45,71],[43,76,45,76],[43,78,45,78],[43,79,45,79],[43,80,45,80],[43,81,45,81],[40,83,42,83],[40,84,42,84],[40,85,42,85],[40,86,42,86],[40,87,42,87],[40,88,42,88],[40,89,42,89],[43,1,44,1],[43,4,44,4],[43,11,44,11],[43,14,44,14],[43,27,45,28],[43,35,45,37],[43,42,45,42],[43,44,45,44],[43,45,45,45],[43,46,45,46],[43,47,45,47],[43,48,45,48],[43,49,45,49],[43,50,45,50],[43,51,45,51],[43,52,45,52],[43,53,45,53],[40,55,42,55],[40,61,42,62],[40,66,42,68],[40,76,42,76],[40,78,42,78],[40,79,42,79],[40,80,42,80],[40,81,42,81],[40,82,42,82],[37,85,39,85],[37,86,39,86],[37,87,39,87],[37,88,39,88],[37,89,39,89],[38,11,39,12],[40,1,41,1],[40,4,41,4],[40,11,41,11],[40,14,41,14],[40,27,42,28],[40,32,42,34],[40,42,42,42],[40,44,42,44],[40,45,42,45],[40,46,42,46],[40,47,42,47],[40,48,42,48],[40,49,42,49],[40,50,42,50],[40,51,42,51],[40,52,42,52],[40,53,42,53],[40,54,42,54],[37,63,39,65],[37,76,39,76],[37,78,39,78],[37,79,39,79],[37,80,39,80],[37,81,39,81],[37,82,39,82],[37,83,39,83],[37,84,39,84],[35,78,35,79],[35,80,35,81],[35,82,35,83],[35,84,35,85],[35,86,35,87],[35,89,36,89],[36,1,37,2],[36,11,37,12],[37,27,39,28],[37,29,39,31],[37,42,39,42],[37,44,39,44],[37,45,39,45],[37,46,39,46],[37,47,39,47],[37,48,39,48],[37,49,39,49],[37,50,39,50],[37,51,39,51],[37,52,39,52],[37,53,39,53],[37,54,39,54],[37,55,39,55],[37,61,39,62],[33,69,36,71],[33,73,36,75],[33,76,36,76],[34,27,36,28],[34,61,36,62],[35,44,35,45],[35,46,35,47],[35,48,35,49],[35,50,35,51],[35,52,35,53],[35,55,36,55],[33,1,34,5],[33,11,34,15],[33,29,36,31],[33,32,36,34],[33,35,36,37],[33,39,36,41],[33,42,36,42],[33,63,36,65],[33,66,36,68],[30,2,30,5],[30,12,30,15],[30,27,30,28],[30,37,30,38],[31,2,31,5],[31,12,31,15],[31,27,31,28],[31,37,31,38],[32,2,32,5],[23,82,25,82],[23,83,25,83],[23,84,25,84],[23,85,25,85],[23,86,25,86],[23,87,25,87],[23,88,25,88],[23,89,25,89],[24,19,24,21],[25,19,25,21],[23,54,25,54],[23,55,25,55],[23,61,25,62],[23,69,25,71],[23,76,25,76],[23,78,25,78],[23,79,25,79],[23,80,25,80],[23,81,25,81],[23,45,25,45],[23,46,25,46],[23,47,25,47],[23,48,25,48],[23,49,25,49],[23,50,25,50],[23,51,25,51],[23,52,25,52],[23,53,25,53],[23,1,24,1],[23,4,24,4],[23,11,24,11],[23,14,24,14],[23,19,23,21],[23,27,25,28],[23,35,25,37],[23,42,25,42],[23,44,25,44],[20,84,22,84],[20,85,22,85],[20,86,22,86],[20,87,22,87],[20,88,22,88],[20,89,22,89],[21,7,21,10],[21,19,21,21],[22,19,22,21],[20,61,22,62],[20,66,22,68],[20,76,22,76],[20,78,22,78],[20,79,22,79],[20,80,22,80],[20,81,22,81],[20,82,22,82],[20,83,22,83],[20,47,22,47],[20,48,22,48],[20,49,22,49],[20,50,22,50],[20,51,22,51],[20,52,22,52],[20,53,22,53],[20,54,22,54],[20,55,22,55],[20,11,21,11],[20,14,21,14],[20,19,20,21],[20,27,22,28],[20,32,22,34],[20,42,22,42],[20,44,22,44],[20,45,22,45],[20,46,22,46],[17,83,19,83],[17,84,19,84],[17,85,19,85],[17,86,19,86],[17,87,19,87],[17,88,19,88],[17,89,19,89],[18,11,19,12],[18,19,18,21],[19,19,19,21],[17,55,19,55],[17,61,19,62],[17,63,19,65],[17,76,19,76],[17,78,19,78],[17,79,19,79],[17,80,19,80],[17,81,19,81],[17,82,19,82],[15,78,15,79],[15,80,15,81],[15,82,15,83],[15,84,15,85],[15,86,15,87],[15,89,16,89],[16,1,17,2],[16,11,17,12],[16,19,16,21],[17,19,17,21],[17,27,19,28],[17,29,19,31],[17,42,19,42],[17,44,19,44],[17,45,19,45],[17,46,19,46],[17,47,19,47],[17,48,19,48],[17,49,19,49],[17,50,19,50],[17,51,19,51],[17,52,19,52],[17,53,19,53],[17,54,19,54],[13,73,16,75],[13,76,16,76],[14,27,16,28],[14,61,16,62],[15,44,15,45],[15,46,15,47],[15,48,15,49],[15,50,15,51],[15,52,15,53],[15,55,16,55],[13,18,14,24],[13,29,16,31],[13,32,16,34],[13,35,16,37],[13,39,16,41],[13,42,16,42],[13,63,16,65],[13,66,16,68],[13,69,16,71],[9,2,9,5],[1,12,3,24],[2,1,3,2],[2,3,3,9],[5,1,6,2],[5,3,6,9],[5,12,5,15],[5,17,5,18],[6,12,6,15],[6,17,6,18],[9,12,9,15],[5,22,5,23],[6,22,6,23],[10,2,10,5],[10,12,10,15],[11,2,11,5],[11,12,11,15],[13,1,14,5],[19,7,19,10],[20,1,21,1],[20,4,21,4],[20,7,20,10],[13,11,14,15],[26,1,27,1],[26,4,27,4],[26,11,27,11],[26,14,27,14],[48,27,48,28],[48,37,48,38],[71,2,71,5],[72,2,72,5],[77,29,80,31],[77,32,80,34],[77,35,80,37],[73,2,73,5],[73,12,73,15],[28,19,28,21],[26,19,26,21],[27,19,27,21],[27,26,27,28],[27,37,27,38],[28,27,28,28],[28,37,28,38],[29,2,29,5],[29,12,29,15],[29,27,29,28],[29,37,29,38],[87,83,89,83],[87,84,89,84],[87,85,89,85],[87,86,89,86],[87,87,89,87],[87,51,89,51],[87,52,89,52],[87,53,89,53],[87,54,89,54],[87,55,89,55],[87,61,89,62],[87,76,89,76],[87,78,89,78],[87,69,89,71]]}
[]
[null,null,null,null,null,null,null,null,null,null,null,null,"LIGUE MÉDITERRANÉENNE DE BILLARD"]
[null,"CLUB ORGANISATEUR"]
[]
[]
[null,"DIRECTEUR DE JEU :",null,null,null,null,null,null,null,null,null,null,"Compétition",null,null,null,null,"Mode de jeu",null,null,"Categorie",null,"Distance"]
[]
[]
[]
[null,"Joueur 1",{"$f":"'Saisie des joueurs'!L18","v":0},null,null,null,null,null,null,null,null,"Joueur 1",{"$f":"IF(AN29=1,AB29,IF(AN30=1,AB30,IF(AN31=1,AB31,IF(AN32=1,AB32,))))","v":{"$error":"#DIV/0!"}}]
[null,"Joueur 2",{"$f":"'Saisie des joueurs'!L25","v":0},null,null,null,null,null,null,null,null,"Joueur 2",{"$f":"IF(AN29=2,AB29,IF(AN30=2,AB30,IF(AN31=2,AB31,IF(AN32=2,AB32,))))","v":{"$error":"#DIV/0!"}}]
[null,"Joueur 3",{"$f":"'Saisie des joueurs'!L26","v":0},null,null,null,null,null,null,null,null,"Joueur 3",{"$f":"IF(AN29=3,AB29,IF(AN30=3,AB30,IF(AN31=3,AB31,IF(AN32=3,AB32,))))","v":{"$error":"#DIV/0!"}}]
[]
[null,"SAISIE DES RESULTATS",null,null,null,null,null,null,null,null,null,"SAISIE DES RESULTATS",null,null,null,null,null,null,"CLASSEMENT DU TOURNOI",null,null,null,null,null,null,null,null,null,null,{"$f":"C10","v":0},null,null,{"$f":"C11","v":0},null,null,{"$f":"C12","v":0},null,null,null,"TOTAUX",null,null,"CLASSEMENT",null,null,null,null,null,null,null,null,null,null,null,null,null,null,null,null,null,null,null,null,{"$f":"M10","v":{"$error":"#DIV/0!"}},null,null,{"$f":"M11","v":{"$error":"#DIV/0!"}},null,null,{"$f":"M12","v":{"$error":"#DIV/0!"}},null,null,null,"TOTAUX",null,null,"CLASSEMENT"]
[]
[null,null,null,null,null,null,null,null,null,null,null,null,null,null,null,null,null,null,null,null,null,null,null,null,null,null,null,null,null,null,null,null,null,null,null,null,null,null,null,null,null,null,null,null,"Classement",null,"Classement",null,"Classement",null,"Classement",null,"Classement",null,"GENERAL","RANG",null,null,null,null,null,null,null,null,null,null,null,null,null,null,null,null,null,null,null,null,null,null,"Classement",null,"Classement",null,"Classement",null,"Classement",null,"Classement",null,"GENERAL","RANG"]
[null,"PHASE 1 - POULE A",null,null,null,null,null,null,null,null,null,"PHASE 5 - POULE A",null,null,null,null,"Pts Tournoi",null,null,"NOM",null,null,"Pts","Rep","Moy.",null,null,null,null,null,null,null,null,null,null,null,null,null,null,null,null,null,null,null,"Point-Match","CLS-M","Moy-Gen","CLS-G","Moy-Part","CLS-P","M-Series","CLS-S","MGPS","CLS","CLS",null,null,null,null,null,null,null,null,null,null,null,null,null,null,null,null,null,null,null,null,null,null,null,"Point-Match","CLS-M","Moy-Gen","CLS-G","Moy-Part","CLS-P","M-Series","CLS-S","MGPS","CLS","CLS"]
[null,null,null,null,null,null,null,null,null,null,null,null,null,null,null,null,null,120,1,{"$f":"IF(BY18=1,BJ18,IF(BY21=1,BJ21,IF(BY24=1,BJ24,)))","v":{"$error":"#DIV/0!"}},null,null,{"$f":"AG95","v":{"$error":"#DIV/0!"}},{"$f":"AJ95","v":{"$error":"#DIV/0!"}},{"$f":"W18/X18","v":{"$error":"#DIV/0!"}},null,null,{"$f":"C10","v":0},null,"L",null,null,{"$f":"D27","v":0},null,{"$f":"E27","v":0},{"$f":"D21","v":0},null,{"$f":"E21","v":0},null,{"$f":"AG18+AJ18","v":0},null,{"$f":"AI18+AL18","v":0},{"$f":"BD18","v":{"$error":"#DIV/0!"}},null,{"$f":"AO19","v":0.02},{"$f":"RANK(AS18,AS$18:AS$26,0)","v":1},{"$f":"AP20","v":{"$error":"#DIV/0!"}},{"$f":"RANK(AU18,AU$18:AU$26,0)","v":{"$error":"#DIV/0!"}},{"$f":"MAX(AI20,AL20)","v":{"$error":"#DIV/0!"}},{"$f":"RANK(AW18,AW$18:AW$26,0)","v":{"$error":"#DIV/0!"}},{"$f":"AN20","v":0},{"$f":"RANK(AY18,AY$18:AY$26)","v":1},{"$f":"(AT18*1000)+(AV18*100)+(AX18*10)+(AZ18*1)","v":{"$error":"#DIV/0!"}},{"$f":"RANK(BA18,BA$18:BA$26)","v":{"$error":"#DIV/0!"}},{"$f":"BA18","v":{"$error":"#DIV/0!"}},{"$f":"RANK(BC18,BC$18:BC$26,1)","v":{"$error":"#DIV/0!"}},null,null,null,null,null,{"$f":"M10","v":{"$error":"#DIV/0!"}},null,"L",null,null,{"$f":"N27","v":0},null,{"$f":"O27","v":0},{"$f":"N21","v":0},null,{"$f":"O21","v":0},null,{"$f":"BO18+BR18","v":0},null,{"$f":"BQ18+BT18","v":0},{"$f":"CL18","v":{"$error":"#DIV/0!"}},null,{"$f":"BW19","v":0.02},{"$f":"RANK(CA18,CA$18:CA$26,0)","v":1},{"$f":"BX20","v":{"$error":"#DIV/0!"}},{"$f":"RANK(CC18,CC$18:CC$26,0)","v":{"$error":"#DIV/0!"}},{"$f":"MAX(BQ20,BT20)","v":{"$error":"#DIV/0!"}},{"$f":"RANK(CE18,CE$18:CE$26,1)","v":{"$error":"#DIV/0!"}},{"$f":"BV20","v":0},{"$f":"RANK(CG18,CG$18:CG$26)","v":1},{"$f":"(CB18*1000)+(CD18*100)+(CF18*10)+(CH18*1)","v":{"$error":"#DIV/0!"}},{"$f":"RANK(CI18,CI$18:CI$26)","v":{"$error":"#DIV/0!"}},{"$f":"CI18","v":{"$error":"#DIV/0!"}},{"$f":"RANK(CK18,CK$18:CK$26,1)","v":{"$error":"#DIV/0!"}}]
[null,null,null,null,null,null,null,null,null,null,null,"3 meilleurs 1er des poules A-B-C-D de la phase 1",null,null,null,null,null,90,2,{"$f":"IF(BY18=2,BJ18,IF(BY21=2,BJ21,IF(BY24=2,BJ24,)))","v":{"$error":"#DIV/0!"}},null,null,{"$f":"AG96","v":{"$error":"#DIV/0!"}},{"$f":"AJ96","v":{"$error":"#DIV/0!"}},{"$f":"W19/X19","v":{"$error":"#DIV/0!"}},null,null,null,null,null,null,null,null,{"$f":"IF(AI18<1,0.01,IF(AG18>AD21,2,IF(AG18=AD21,1,0)))","v":0.01},null,null,{"$f":"IF(AL18<1,0.01,IF(AJ18>AD24,2,IF(AJ18=AD24,1,0)))","v":0.01},null,null,null,{"$f":"AH19+AK19","v":0.02},null,null,null,null,null,null,null,null,null,null,null,null,null,null,null,null,null,null,null,null,null,null,null,null,null,null,{"$f":"IF(BQ18<1,0.01,IF(BO18>BL21,2,IF(BO18=BL21,1,0)))","v":0.01},null,null,{"$f":"IF(BT18<1,0.01,IF(BR18>BL24,2,IF(BR18=BL24,1,0)))","v":0.01},null,null,null,{"$f":"BP19+BS19","v":0.02}]
[null,null,null,"Pts","Rep","Série",null,"1er de poule",null,null,null,null,null,"Pts","Rep","Série",null,70,3,{"$f":"IF(BY18=3,BJ18,IF(BY21=3,BJ21,IF(BY24=3,BJ24,)))","v":{"$error":"#DIV/0!"}},null,null,{"$error":"#DIV/0!"},{"$error":"#DIV/0!"},{"$error":"#DIV/0!"},null,null,null,null,null,null,null,{"$f":"F27","v":0},null,{"$f":"AG18/AI18","v":{"$error":"#DIV/0!"}},{"$f":"F21","v":0},null,{"$f":"AJ18/AL18","v":{"$error":"#DIV/0!"}},null,{"$f":"MAX(AG20,AJ20)","v":0},null,{"$f":"AN18/AP18","v":{"$error":"#DIV/0!"}},null,null,null,null,null,null,null,null,null,null,null,null,null,null,null,null,null,null,null,null,null,null,null,null,{"$f":"P27","v":0},null,{"$f":"BO18/BQ18","v":{"$error":"#DIV/0!"}},{"$f":"P21","v":0},null,{"$f":"BR18/BT18","v":{"$error":"#DIV/0!"}},null,{"$f":"MAX(BO20,BR20)","v":0},null,{"$f":"BV18/BX18","v":{"$error":"#DIV/0!"}}]
[null,"Tour 1",{"$f":"C10","v":0},null,null,null,null,"2ème de poule",null,null,null,"Tour 1",{"$f":"M10","v":{"$error":"#DIV/0!"}},null,null,null,null,50,4,{"$f":"IF(BY38=1,BJ38,IF(BY41=1,BJ41,IF(BY44=1,BJ44,)))","v":{"$error":"#DIV/0!"}},null,null,{"$error":"#DIV/0!"},{"$error":"#DIV/0!"},{"$error":"#DIV/0!"},null,null,{"$f":"C11","v":0},null,{"$f":"D28","v":0},null,{"$f":"E27","v":0},"M",null,null,{"$f":"D24","v":0},null,{"$f":"E24","v":0},null,{"$f":"AD21+AJ21","v":0},null,{"$f":"AF21+AL21","v":0},{"$f":"BD21","v":{"$error":"#DIV/0!"}},null,{"$f":"AO22","v":0.02},{"$f":"RANK(AS21,AS$18:AS$26,0)","v":1},{"$f":"AP23","v":{"$error":"#DIV/0!"}},{"$f":"RANK(AU21,AU$18:AU$26,0)","v":{"$error":"#DIV/0!"}},{"$f":"MAX(AF23,AL23)","v":{"$error":"#DIV/0!"}},{"$f":"RANK(AW21,AW$18:AW$26,0)","v":{"$error":"#DIV/0!"}},{"$f":"AN23","v":0},{"$f":"RANK(AY21,AY$18:AY$26)","v":1},{"$f":"(AT21*1000)+(AV21*100)+(AX21*10)+(AZ21*1)","v":{"$error":"#DIV/0!"}},{"$f":"RANK(BA21,BA$18:BA$26)","v":{"$error":"#DIV/0!"}},{"$f":"BA21","v":{"$error":"#DIV/0!"}},{"$f":"RANK(BC21,BC$18:BC$26,1)","v":{"$error":"#DIV/0!"}},null,null,null,null,null,{"$f":"M11","v":{"$error":"#DIV/0!"}},null,{"$f":"N28","v":0},null,{"$f":"O27","v":0},"M",null,null,{"$f":"N24","v":0},null,{"$f":"O24","v":0},null,{"$f":"BL21+BR21","v":0},null,{"$f":"BN21+BT21","v":0},{"$f":"CL21","v":{"$error":"#DIV/0!"}},null,{"$f":"BW22","v":0.02},{"$f":"RANK(CA21,CA$18:CA$26,0)","v":1},{"$f":"BX23","v":{"$error":"#DIV/0!"}},{"$f":"RANK(CC21,CC$18:CC$26,0)","v":{"$error":"#DIV/0!"}},{"$f":"MAX(BN23,BT23)","v":{"$error":"#DIV/0!"}},{"$f":"RANK(CE21,CE$18:CE$26,1)","v":{"$error":"#DIV/0!"}},{"$f":"BV23","v":0},{"$f":"RANK(CE21,CE$18:CE$26)","v":{"$error":"#DIV/0!"}},{"$f":"(CB21*1000)+(CD21*100)+(CF21*10)+(CH21*1)","v":{"$error":"#DIV/0!"}},{"$f":"RANK(CI21,CI$18:CI$26)","v":{"$error":"#DIV/0!"}},{"$f":"CI21","v":{"$error":"#DIV/0!"}},{"$f":"RANK(CK21,CK$18:CK$26,1)","v":{"$error":"#DIV/0!"}}]
[null,null,{"$f":"C12","v":0},null,null,null,null,"3ème de poule",null,null,null,null,{"$f":"M12","v":{"$error":"#DIV/0!"}},null,null,null,null,30,5,{"$f":"IF(BY38=2,BJ38,IF(BY41=2,BJ41,IF(BY44=2,BJ44,)))","v":{"$error":"#DIV/0!"}},null,null,{"$error":"#DIV/0!"},{"$error":"#DIV/0!"},{"$error":"#DIV/0!"},null,null,null,null,null,{"$f":"IF(AI18>0,2-AH19,0.01)","v":0.01},null,null,null,null,null,{"$f":"IF(AL21<1,0.01,IF(AJ21>AG24,2,IF(AJ21=AG24,1,0)))","v":0.01},null,null,null,{"$f":"AE22+AK22","v":0.02},null,null,null,null,null,null,null,null,null,null,null,null,null,null,null,null,null,null,null,null,null,null,null,{"$f":"IF(BN21<1,0.01,IF(BL21>BO18,2,IF(BL21=BO18,1,0)))","v":0.01},null,null,null,null,null,{"$f":"IF(BT21<1,0.01,IF(BR21>BO24,2,IF(BR21=BO24,1,0)))","v":0.01},null,null,null,{"$f":"BM22+BS22","v":0.02}]
[null,null,null,null,null,null,null,null,null,null,null,null,null,null,null,null,null,10,6,{"$f":"IF(BY38=3,BJ38,IF(BY41=3,BJ41,IF(BY44=3,BJ44,)))","v":{"$error":"#DIV/0!"}},null,null,{"$error":"#DIV/0!"},{"$error":"#DIV/0!"},{"$error":"#DIV/0!"},null,null,null,null,{"$f":"F28","v":0},null,{"$f":"AD21/AF21","v":{"$error":"#DIV/0!"}},null,null,null,{"$f":"F24","v":0},null,{"$f":"AJ21/AL21","v":{"$error":"#DIV/0!"}},null,{"$f":"MAX(AD23,AJ23)","v":0},null,{"$f":"AN21/AP21","v":{"$error":"#DIV/0!"}},null,null,null,null,null,null,null,null,null,null,null,null,null,null,null,null,null,null,null,null,null,{"$f":"P28","v":0},null,{"$f":"BL21/BN21","v":{"$error":"#DIV/0!"}},null,null,null,{"$f":"P24","v":0},null,{"$f":"BR21/BT21","v":{"$error":"#DIV/0!"}},null,{"$f":"MAX(BL23,BR23)","v":0},null,{"$f":"BV21/BX21","v":{"$error":"#DIV/0!"}}]
[null,"Tour 2",{"$f":"C11","v":0},null,null,null,null,null,null,null,null,"Tour 2",{"$f":"M11","v":{"$error":"#DIV/0!"}},null,null,null,null,5,7,{"$f":"IF(BY59=1,BJ59,IF(BY62=1,BJ62,IF(BY65=1,BJ65,)))","v":{"$error":"#DIV/0!"}},null,null,{"$error":"#DIV/0!"},{"$error":"#DIV/0!"},{"$error":"#DIV/0!"},null,null,{"$f":"C12","v":0},null,{"$f":"D22","v":0},null,{"$f":"E21","v":0},{"$f":"D25","v":0},null,{"$f":"E24","v":0},"B",null,null,null,{"$f":"AD24+AG24","v":0},null,{"$f":"AF24+AI24","v":0},{"$f":"BD24","v":{"$error":"#DIV/0!"}},null,{"$f":"AO25","v":0.02},{"$f":"RANK(AS24,AS$18:AS$26,0)","v":1},{"$f":"AP26","v":{"$error":"#DIV/0!"}},{"$f":"RANK(AU24,AU$18:AU$26,0)","v":{"$error":"#DIV/0!"}},{"$f":"MAX(AF26,AI26)","v":{"$error":"#DIV/0!"}},{"$f":"RANK(AW24,AW$18:AW$26,0)","v":{"$error":"#DIV/0!"}},{"$f":"AN26","v":0},{"$f":"RANK(AY24,AY$18:AY$26)","v":1},{"$f":"(AT24*1000)+(AV24*100)+(AX24*10)+(AZ24*1)","v":{"$error":"#DIV/0!"}},{"$f":"RANK(BA24,BA$18:BA$26)","v":{"$error":"#DIV/0!"}},{"$f":"BA24","v":{"$error":"#DIV/0!"}},{"$f":"RANK(BC24,BC$18:BC$26,1)","v":{"$error":"#DIV/0!"}},null,null,null,null,null,{"$f":"M12","v":{"$error":"#DIV/0!"}},null,{"$f":"N22","v":0},null,{"$f":"O21","v":0},{"$f":"N25","v":0},null,{"$f":"O24","v":0},"B",null,null,null,{"$f":"BL24+BO24","v":0},null,{"$f":"BN24+BQ24","v":0},{"$f":"CL24","v":{"$error":"#DIV/0!"}},null,{"$f":"BW25","v":0.02},{"$f":"RANK(CA24,CA$18:CA$26,0)","v":1},{"$f":"BX26","v":{"$error":"#DIV/0!"}},{"$f":"RANK(CC24,CC$18:CC$26,0)","v":{"$error":"#DIV/0!"}},{"$f":"MAX(BN26,BQ26)","v":{"$error":"#DIV/0!"}},{"$f":"RANK(CE24,CE$18:CE$26,1)","v":{"$error":"#DIV/0!"}},{"$f":"BV26","v":0},{"$f":"RANK(CE24,CE$18:CE$26)","v":{"$error":"#DIV/0!"}},{"$f":"(CB24*1000)+(CD24*100)+(CF24*10)+(CH24*1)","v":{"$error":"#DIV/0!"}},{"$f":"RANK(CI24,CI$18:CI$26)","v":{"$error":"#DIV/0!"}},{"$f":"CI24","v":{"$error":"#DIV/0!"}},{"$f":"RANK(CK24,CK$18:CK$26,1)","v":{"$error":"#DIV/0!"}}]
[null,null,{"$f":"C12","v":0},null,null,null,null,null,null,null,null,null,{"$f":"M12","v":{"$error":"#DIV/0!"}},null,null,null,null,5,8,{"$f":"IF(BY59=2,BJ59,IF(BY62=2,BJ62,IF(BY65=2,BJ65,)))","v":{"$error":"#DIV/0!"}},null,null,{"$error":"#DIV/0!"},{"$error":"#DIV/0!"},{"$error":"#DIV/0!"},null,null,null,null,null,{"$f":"IF(AL18>0,2-AK19,0.01)","v":0.01},null,null,{"$f":"IF(AL21>0,2-AK22,0.01)","v":0.01},null,null,null,null,null,null,{"$f":"AE25+AH25","v":0.02},null,null,null,null,null,null,null,null,null,null,null,null,null,null,null,null,null,null,null,null,null,null,null,{"$f":"IF(BN24<1,0.01,IF(BL24>BR18,2,IF(BL24=BR18,1,0)))","v":0.01},null,null,{"$f":"IF(BQ24<1,0.01,IF(BO24>BR21,2,IF(BO24=BR21,1,0)))","v":0.01},null,null,null,null,null,null,{"$f":"BM25+BP25","v":0.02}]
[null,null,null,null,null,null,null,null,null,null,null,null,null,null,null,null,null,5,9,{"$f":"IF(BY59=3,BJ59,IF(BY62=3,BJ62,IF(BY65=3,BJ65,)))","v":{"$error":"#DIV/0!"}},null,null,{"$error":"#DIV/0!"},{"$error":"#DIV/0!"},{"$error":"#DIV/0!"},null,null,null,null,{"$f":"F22","v":0},null,{"$f":"AD24/AF24","v":{"$error":"#DIV/0!"}},{"$f":"F25","v":0},null,{"$f":"AG24/AI24","v":{"$error":"#DIV/0!"}},null,null,null,null,{"$f":"MAX(AD26,AG26)","v":0},null,{"$f":"AN24/AP24","v":{"$error":"#DIV/0!"}},null,null,null,null,null,null,null,null,null,null,null,null,null,null,null,null,null,null,null,null,null,{"$f":"P22","v":0},null,{"$f":"BL24/BN24","v":{"$error":"#DIV/0!"}},{"$f":"P25","v":0},null,{"$f":"BO24/BQ24","v":{"$error":"#DIV/0!"}},null,null,null,null,{"$f":"MAX(BL26,BO26)","v":0},null,{"$f":"BV24/BX24","v":{"$error":"#DIV/0!"}}]
[null,"Tour 3",{"$f":"C10","v":0},null,null,null,null,null,null,null,null,"Tour 3",{"$f":"M10","v":{"$error":"#DIV/0!"}},null,null,null,null,5,10,{"$f":"IF(BY82=1,BJ82,IF(BY85=1,BJ85,IF(BY88=1,BJ88)))","v":{"$error":"#DIV/0!"}},null,null,{"$error":"#DIV/0!"},{"$error":"#DIV/0!"},{"$error":"#DIV/0!"}]
[null,null,{"$f":"C11","v":0},null,null,null,null,null,null,null,null,null,{"$f":"M11","v":{"$error":"#DIV/0!"}},null,null,null,null,5,11,{"$f":"IF(BY82=2,BJ82,IF(BY85=2,BJ85,IF(BY88=2,BJ88)))","v":{"$error":"#DIV/0!"}},null,null,{"$error":"#DIV/0!"},{"$error":"#DIV/0!"},{"$error":"#DIV/0!"},null,"Classement des 1er",null,null,"PM","CLS","MG","CLS","MP","CLS","MS","CLS","TOTAL",null,"CLS"]
[null,null,null,null,null,null,null,null,null,null,null,null,null,null,null,null,null,5,12,{"$f":"IF(BY82=3,BJ82,IF(BY85=3,BJ85,IF(BY88=3,BJ88)))","v":{"$error":"#DIV/0!"}},null,null,{"$error":"#DIV/0!"},{"$error":"#DIV/0!"},{"$error":"#DIV/0!"},null,"A",{"$f":"IF(AQ18=1,AB18,IF(AQ21=1,AB21,IF(AQ24=1,AB24)))","v":{"$error":"#DIV/0!"}},null,{"$f":"IF(AB29=AB18,AS18,IF(AB29=AB21,AS21,IF(AB29=AB24,AS24,)))","v":{"$error":"#DIV/0!"}},{"$f":"RANK(AD29,AD$29:AD$32)","v":{"$error":"#DIV/0!"}},{"$f":"IF(AB29=AB18,AU18,IF(AB29=AB21,AU21,IF(AB29=AB24,AU24,)))","v":{"$error":"#DIV/0!"}},{"$f":"RANK(AF29,AF$29:AF$32)","v":{"$error":"#DIV/0!"}},{"$f":"IF(AB29=AB18,AW18,IF(AB29=AB21,AW21,IF(AB29=AB24,AW24,)))","v":{"$error":"#DIV/0!"}},{"$f":"RANK(AH29,AH$29:AH$32)","v":{"$error":"#DIV/0!"}},{"$f":"IF(AB29=AB18,AY18,IF(AB29=AB21,AY21,IF(AB29=AB24,AY24,)))","v":{"$error":"#DIV/0!"}},{"$f":"RANK(AJ29,AJ$29:AJ$32)","v":{"$error":"#DIV/0!"}},{"$f":"(AE29*1000)+(AG29*100)+(AI29*10)+(AK29*1)","v":{"$error":"#DIV/0!"}},null,{"$f":"RANK(AL29,AL$29:AL$32,1)","v":{"$error":"#DIV/0!"}}]
[null,"Joueur 1",{"$f":"'Saisie des joueurs'!L19","v":0},null,null,null,null,null,null,null,null,"Joueur 1",{"$f":"IF(AN29=4,AB29,IF(AN30=4,AB30,IF(AN31=4,AB31,IF(AN32=4,AB32,))))","v":{"$error":"#DIV/0!"}},null,null,null,null,null,null,null,null,null,null,null,null,null,"B",{"$f":"IF(AQ38=1,AB38,IF(AQ41=1,AB41,IF(AQ44=1,AB44,)))","v":{"$error":"#DIV/0!"}},null,{"$f":"IF(AB30=AB38,AS38,IF(AB30=AB41,AS41,IF(AB30=AB44,AS44,)))","v":{"$error":"#DIV/0!"}},{"$f":"RANK(AD30,AD$29:AD$32)","v":{"$error":"#DIV/0!"}},{"$f":"IF(AB30=AB38,AU38,IF(AB30=AB41,AU41,IF(AB30=AB44,AU44,)))","v":{"$error":"#DIV/0!"}},{"$f":"RANK(AF30,AF$29:AF$32)","v":{"$error":"#DIV/0!"}},{"$f":"IF(AB30=AB38,AW38,IF(AB30=AB41,AW41,IF(AB30=AB44,AW44,)))","v":{"$error":"#DIV/0!"}},{"$f":"RANK(AH30,AH$29:AH$32)","v":{"$error":"#DIV/0!"}},{"$f":"IF(AB30=AB38,AY38,IF(AB30=AB41,AY41,IF(AB30=AB44,AY44,)))","v":{"$error":"#DIV/0!"}},{"$f":"RANK(AJ30,AJ$29:AJ$32)","v":{"$error":"#DIV/0!"}},{"$f":"(AE30*1000)+(AG30*100)+(AI30*10)+(AK30*1)","v":{"$error":"#DIV/0!"}},null,{"$f":"RANK(AL30,AL$29:AL$32,1)","v":{"$error":"#DIV/0!"}}]
[null,"Joueur 2",{"$f":"'Saisie des joueurs'!L24","v":0},null,null,null,null,null,null,null,null,"Joueur 2",{"$f":"IF(AN49=1,AB49,IF(AN50=1,AB50,IF(AN51=1,AB51,IF(AN52=1,AB52,))))","v":{"$error":"#DIV/0!"}},null,null,null,null,null,null,null,null,null,null,null,null,null,"C",{"$f":"IF(AQ59=1,AB59,IF(AQ62=1,AB62,IF(AQ65=1,AB65,)))","v":{"$error":"#DIV/0!"}},null,{"$f":"IF(AB31=AB59,AS59,IF(AB31=AB62,AS62,IF(AB31=AB65,AS65,)))","v":{"$error":"#DIV/0!"}},{"$error":"#DIV/0!"},{"$f":"IF(AB31=AB59,AU59,IF(AB31=AB62,AU62,IF(AB31=AB65,AU65,)))","v":{"$error":"#DIV/0!"}},{"$error":"#DIV/0!"},{"$f":"IF(AB31=AB59,AW59,IF(AB31=AB62,AW62,IF(AB31=AB65,AW65,)))","v":{"$error":"#DIV/0!"}},{"$error":"#DIV/0!"},{"$f":"IF(AB31=AB59,AY59,IF(AB31=AB62,AY62,IF(AB31=AB65,AY65,)))","v":{"$error":"#DIV/0!"}},{"$error":"#DIV/0!"},{"$error":"#DIV/0!"},null,{"$error":"#DIV/0!"}]
[null,"Joueur 3",{"$f":"'Saisie des joueurs'!L27","v":0},null,null,null,null,null,null,null,null,"Joueur 3",{"$f":"IF(AN49=2,AB49,IF(AN50=2,AB50,IF(AN51=2,AB51,IF(AN52=2,AB52,))))","v":{"$error":"#DIV/0!"}},null,null,null,null,null,null,null,null,null,null,null,null,null,"D",{"$f":"IF(AQ82=1,AB82,IF(AQ85=1,AB85,IF(AQ88=1,AB88,)))","v":{"$error":"#DIV/0!"}},null,{"$f":"IF(AB32=AB82,AS82,IF(AB32=AB85,AS85,))","v":{"$error":"#DIV/0!"}},{"$error":"#DIV/0!"},{"$f":"IF(AB32=AB82,AU82,IF(AB32=AB85,AU85,IF(AB32=AB88,AU88,)))","v":{"$error":"#DIV/0!"}},{"$error":"#DIV/0!"},{"$f":"IF(AB32=AB82,AW82,IF(AB32=AB85,AW85,IF(AB32=AB88,AW88,)))","v":{"$error":"#DIV/0!"}},{"$error":"#DIV/0!"},{"$f":"IF(AB32=AB82,AY82,IF(AB32=AB85,AY85,IF(AB32=AB88,AY88,)))","v":{"$error":"#DIV/0!"}},{"$error":"#DIV/0!"},{"$error":"#DIV/0!"},null,{"$error":"#DIV/0!"}]
[]
[null,"SAISIE DES RESULTATS",null,null,null,null,null,null,null,null,null,"SAISIE DES RESULTATS",null,null,null,null,null,null,null,null,null,null,null,null,null,null,null,null,null,{"$f":"C30","v":0},null,null,{"$f":"C31","v":0},null,null,{"$f":"C32","v":0},null,null,null,"TOTAUX",null,null,"CLASSEMENT",null,null,null,null,null,null,null,null,null,null,null,null,null,null,null,null,null,null,null,null,{"$f":"M30","v":{"$error":"#DIV/0!"}},null,null,{"$f":"M31","v":{"$error":"#DIV/0!"}},null,null,{"$f":"M32","v":{"$error":"#DIV/0!"}},null,null,null,"TOTAUX",null,null,"CLASSEMENT"]
[]
[null,null,null,null,null,null,null,null,null,null,null,null,null,null,null,null,null,null,null,null,null,null,null,null,null,null,null,null,null,null,null,null,null,null,null,null,null,null,null,null,null,null,null,null,"Classement",null,"Classement",null,"Classement",null,"Classement",null,"Classement",null,"GENERAL","RANG",null,null,null,null,null,null,null,null,null,null,null,null,null,null,null,null,null,null,null,null,null,null,"Classement",null,"Classement",null,"Classement",null,"Classement",null,"Classement",null,"GENERAL","RANG"]
[null,"PHASE 1 - POULE B",null,null,null,null,null,null,null,null,null,"PHASE 4 - POULE B",null,null,null,null,null,null,null,null,null,null,null,null,null,null,null,null,null,null,null,null,null,null,null,null,null,null,null,null,null,null,null,null,"Point-Match","CLS-M","Moy-Gen","CLS-G","Moy-Part","CLS-P","M-Series","CLS-S","MGPS","CLS","CLS",null,null,null,null,null,null,null,null,null,null,null,null,null,null,null,null,null,null,null,null,null,null,null,"Point-Match","CLS-M","Moy-Gen","CLS-G","Moy-Part","CLS-P","M-Series","CLS-S","MGPS","CLS","CLS"]
[null,null,null,null,null,null,null,null,null,null,null,null,null,null,null,null,null,null,null,null,null,null,null,null,null,null,null,{"$f":"C30","v":0},null,"L",null,null,{"$f":"D47","v":0},null,{"$f":"E47","v":0},{"$f":"D41","v":0},null,{"$f":"E41","v":0},null,{"$f":"AG38+AJ38","v":0},null,{"$f":"AI38+AL38","v":0},{"$f":"BD38","v":{"$error":"#DIV/0!"}},null,{"$f":"AO39","v":0.02},{"$f":"RANK(AS38,AS$38:AS$46,0)","v":1},{"$f":"AP40","v":{"$error":"#DIV/0!"}},{"$f":"RANK(AU38,AU$38:AU$46,0)","v":{"$error":"#DIV/0!"}},{"$f":"MAX(AI40,AL40)","v":{"$error":"#DIV/0!"}},{"$f":"RANK(AW38,AW$38:AW$46,0)","v":{"$error":"#DIV/0!"}},{"$f":"AN40","v":0},{"$f":"RANK(AY38,AY$38:AY$46)","v":1},{"$f":"(AT38*1000)+(AV38*100)+(AX38*10)+(AZ38*1)","v":{"$error":"#DIV/0!"}},{"$f":"RANK(BA38,BA$38:BA$46)","v":{"$error":"#DIV/0!"}},{"$f":"BA38","v":{"$error":"#DIV/0!"}},{"$f":"RANK(BC38,BC$38:BC$46,1)","v":{"$error":"#DIV/0!"}},null,null,null,null,null,{"$f":"M30","v":{"$error":"#DIV/0!"}},null,"L",null,null,{"$f":"N47","v":0},null,{"$f":"O47","v":0},{"$f":"N41","v":0},null,{"$f":"O41","v":0},null,{"$f":"BO38+BR38","v":0},null,{"$f":"BQ38+BT38","v":0},{"$f":"CL38","v":{"$error":"#DIV/0!"}},null,{"$f":"BW39","v":0.02},{"$f":"RANK(CA38,CA$38:CA$46,0)","v":1},{"$f":"BX40","v":{"$error":"#DIV/0!"}},{"$f":"RANK(CC38,CC$38:CC$46,0)","v":{"$error":"#DIV/0!"}},{"$f":"MAX(BQ40,BT40)","v":{"$error":"#DIV/0!"}},{"$f":"RANK(CE38,CE$38:CE$46)","v":{"$error":"#DIV/0!"}},{"$f":"BV40","v":0},{"$f":"RANK(CG38,CG$38:CG$46)","v":1},{"$f":"(CB38*1000)+(CD38*100)+(CF38*10)+(CH38*1)","v":{"$error":"#DIV/0!"}},{"$f":"RANK(CI38,CI$38:CI$46)","v":{"$error":"#DIV/0!"}},{"$f":"CI38","v":{"$error":"#DIV/0!"}},{"$f":"RANK(CK38,CK$38:CK$46,1)","v":{"$error":"#DIV/0!"}}]
[null,null,null,null,null,null,null,null,null,null,null,"Dernier 1er et 2 meilleurs 2ème des poules A-B-C-D de la phase 1",null,null,null,null,null,null,null,null,null,null,null,null,null,null,null,null,null,null,null,null,null,{"$f":"IF(AI38<1,0.01,IF(AG38>AD41,2,IF(AG38=AD41,1,0)))","v":0.01},null,null,{"$f":"IF(AL38<1,0.01,IF(AJ38>AD44,2,IF(AJ38=AD44,1,0)))","v":0.01},null,null,null,{"$f":"AH39+AK39","v":0.02},null,null,null,null,null,null,null,null,null,null,null,null,null,null,null,null,null,null,null,null,null,null,null,null,null,null,{"$f":"IF(BQ38<1,0.01,IF(BO38>BL41,2,IF(BO38=BL41,1,0)))","v":0.01},null,null,{"$f":"IF(BT38<1,0.01,IF(BR38>BL44,2,IF(BR38=BL44,1,0)))","v":0.01},null,null,null,{"$f":"BP39+BS39","v":0.02}]
[null,null,null,"Pts","Rep","Série",null,null,null,null,null,null,null,"Pts","Rep","Série",null,null,null,null,null,null,null,null,null,null,null,null,null,null,null,null,{"$f":"F47","v":0},null,{"$f":"AG38/AI38","v":{"$error":"#DIV/0!"}},{"$f":"F41","v":0},null,{"$f":"AJ38/AL38","v":{"$error":"#DIV/0!"}},null,{"$f":"MAX(AG40,AJ40)","v":0},null,{"$f":"AN38/AP38","v":{"$error":"#DIV/0!"}},null,null,null,null,null,null,null,null,null,null,null,null,null,null,null,null,null,null,null,null,null,null,null,null,{"$f":"P47","v":0},null,{"$f":"BO38/BQ38","v":{"$error":"#DIV/0!"}},{"$f":"P41","v":0},null,{"$f":"BR38/BT38","v":{"$error":"#DIV/0!"}},null,{"$f":"MAX(BO40,BR40)","v":0},null,{"$f":"BV38/BX38","v":{"$error":"#DIV/0!"}}]
[null,"Tour",{"$f":"C30","v":0},null,null,null,null,null,null,null,null,"Tour 1",{"$f":"M30","v":{"$error":"#DIV/0!"}},null,null,null,null,null,null,null,null,null,null,null,null,null,null,{"$f":"C31","v":0},null,{"$f":"D48","v":0},null,{"$f":"E47","v":0},"M",null,null,{"$f":"D44","v":0},null,{"$f":"E44","v":0},null,{"$f":"AD41+AJ41","v":0},null,{"$f":"AF41+AL41","v":0},{"$f":"BD41","v":{"$error":"#DIV/0!"}},null,{"$f":"AO42","v":0.02},{"$f":"RANK(AS41,AS$38:AS$46,0)","v":1},{"$f":"AP43","v":{"$error":"#DIV/0!"}},{"$f":"RANK(AU41,AU$38:AU$46,0)","v":{"$error":"#DIV/0!"}},{"$f":"MAX(AF43,AL43)","v":{"$error":"#DIV/0!"}},{"$f":"RANK(AW41,AW$38:AW$46,0)","v":{"$error":"#DIV/0!"}},{"$f":"AN43","v":0},{"$f":"RANK(AY41,AY$38:AY$46)","v":1},{"$f":"(AT41*1000)+(AV41*100)+(AX41*10)+(AZ41*1)","v":{"$error":"#DIV/0!"}},{"$f":"RANK(BA41,BA$38:BA$46)","v":{"$error":"#DIV/0!"}},{"$f":"BA41","v":{"$error":"#DIV/0!"}},{"$f":"RANK(BC41,BC$38:BC$46,1)","v":{"$error":"#DIV/0!"}},null,null,null,null,null,{"$f":"M31","v":{"$error":"#DIV/0!"}},null,{"$f":"N48","v":0},null,{"$f":"O47","v":0},"M",null,null,{"$f":"N44","v":0},null,{"$f":"O44","v":0},null,{"$f":"BL41+BR41","v":0},null,{"$f":"BN41+BT41","v":0},{"$f":"CL41","v":{"$error":"#DIV/0!"}},null,{"$f":"BW42","v":0.02},{"$f":"RANK(CA41,CA$38:CA$46,0)","v":1},{"$f":"BX43","v":{"$error":"#DIV/0!"}},{"$f":"RANK(CC41,CC$38:CC$46,0)","v":{"$error":"#DIV/0!"}},{"$f":"MAX(BN43,BT43)","v":{"$error":"#DIV/0!"}},{"$f":"RANK(CE41,CE$38:CE$46)","v":{"$error":"#DIV/0!"}},{"$f":"BV43","v":0},{"$f":"RANK(CG41,CG$38:CG$46)","v":1},{"$f":"(CB41*1000)+(CD41*100)+(CF41*10)+(CH41*1)","v":{"$error":"#DIV/0!"}},{"$f":"RANK(CI41,CI$38:CI$46)","v":{"$error":"#DIV/0!"}},{"$f":"CI41","v":{"$error":"#DIV/0!"}},{"$f":"RANK(CK41,CK$38:CK$46,1)","v":{"$error":"#DIV/0!"}}]
[null,null,{"$f":"C32","v":0},null,null,null,null,null,null,null,null,null,{"$f":"M32","v":{"$error":"#DIV/0!"}},null,null,null,null,null,null,null,null,null,null,null,null,null,null,null,null,null,{"$f":"IF(AI38>0,2-AH39,0.01)","v":0.01},null,null,null,null,null,{"$f":"IF(AL41<1,0.01,IF(AJ41>AG44,2,IF(AJ41=AG44,1,0)))","v":0.01},null,null,null,{"$f":"AE42+AK42","v":0.02},null,null,null,null,null,null,null,null,null,null,null,null,null,null,null,null,null,null,null,null,null,null,null,{"$f":"IF(BN41<1,0.01,IF(BL41>BO38,2,IF(BL41=BO38,1,0)))","v":0.01},null,null,null,null,null,{"$f":"IF(BT41<1,0.01,IF(BR41>BO44,2,IF(BR41=BO44,1,0)))","v":0.01},null,null,null,{"$f":"BM42+BS42","v":0.02}]
[null,null,null,null,null,null,null,null,null,null,null,null,null,null,null,null,null,null,null,null,null,null,null,null,null,null,null,null,null,{"$f":"F48","v":0},null,{"$f":"AD41/AF41","v":{"$error":"#DIV/0!"}},null,null,null,{"$f":"F44","v":0},null,{"$f":"AJ41/AL41","v":{"$error":"#DIV/0!"}},null,{"$f":"MAX(AD43,AJ43)","v":0},null,{"$f":"AN41/AP41","v":{"$error":"#DIV/0!"}},null,null,null,null,null,null,null,null,null,null,null,null,null,null,null,null,null,null,null,null,null,{"$f":"P48","v":0},null,{"$f":"BL41/BN41","v":{"$error":"#DIV/0!"}},null,null,null,{"$f":"P44","v":0},null,{"$f":"BR41/BT41","v":{"$error":"#DIV/0!"}},null,{"$f":"MAX(BL43,BR43)","v":0},null,{"$f":"BV41/BX41","v":{"$error":"#DIV/0!"}}]
[null,"Tour 2",{"$f":"C31","v":0},null,null,null,null,null,null,null,null,"Tour 2",{"$f":"M31","v":{"$error":"#DIV/0!"}},null,null,null,null,null,null,null,null,null,null,null,null,null,null,{"$f":"C32","v":0},null,{"$f":"D42","v":0},null,{"$f":"E41","v":0},{"$f":"D45","v":0},null,{"$f":"E44","v":0},"B",null,null,null,{"$f":"AD44+AG44","v":0},null,{"$f":"AF44+AI44","v":0},{"$f":"BD44","v":{"$error":"#DIV/0!"}},null,{"$f":"AO45","v":0.02},{"$f":"RANK(AS44,AS$38:AS$46,0)","v":1},{"$f":"AP46","v":{"$error":"#DIV/0!"}},{"$f":"RANK(AU44,AU$38:AU$46,0)","v":{"$error":"#DIV/0!"}},{"$f":"MAX(AF46,AI46)","v":{"$error":"#DIV/0!"}},{"$f":"RANK(AW44,AW$38:AW$46,0)","v":{"$error":"#DIV/0!"}},{"$f":"AN46","v":0},{"$f":"RANK(AY44,AY$38:AY$46)","v":1},{"$f":"(AT44*1000)+(AV44*100)+(AX44*10)+(AZ44*1)","v":{"$error":"#DIV/0!"}},{"$f":"RANK(BA44,BA$38:BA$46)","v":{"$error":"#DIV/0!"}},{"$f":"BA44","v":{"$error":"#DIV/0!"}},{"$f":"RANK(BC44,BC$38:BC$46,1)","v":{"$error":"#DIV/0!"}},null,null,null,null,null,{"$f":"M32","v":{"$error":"#DIV/0!"}},null,{"$f":"N42","v":0},null,{"$f":"O41","v":0},{"$f":"N45","v":0},null,{"$f":"O44","v":0},"B",null,null,null,{"$f":"BL44+BO44","v":0},null,{"$f":"BN44+BQ44","v":0},{"$f":"CL44","v":{"$error":"#DIV/0!"}},null,{"$f":"BW45","v":0.02},{"$f":"RANK(CA44,CA$38:CA$46,0)","v":1},{"$f":"BX46","v":{"$error":"#DIV/0!"}},{"$f":"RANK(CC44,CC$38:CC$46,0)","v":{"$error":"#DIV/0!"}},{"$f":"MAX(BN46,BQ46)","v":{"$error":"#DIV/0!"}},{"$f":"RANK(CE44,CE$38:CE$46)","v":{"$error":"#DIV/0!"}},{"$f":"BV46","v":0},{"$f":"RANK(CG44,CG$38:CG$46)","v":1},{"$f":"(CB44*1000)+(CD44*100)+(CF44*10)+(CH44*1)","v":{"$error":"#DIV/0!"}},{"$f":"RANK(CI44,CI$38:CI$46)","v":{"$error":"#DIV/0!"}},{"$f":"CI44","v":{"$error":"#DIV/0!"}},{"$f":"RANK(CK44,CK$38:CK$46,1)","v":{"$error":"#DIV/0!"}}]
[null,null,{"$f":"C32","v":0},null,null,null,null,null,null,null,null,null,{"$f":"M32","v":{"$error":"#DIV/0!"}},null,null,null,null,null,null,null,null,null,null,null,null,null,null,null,null,null,{"$f":"IF(AL38>0,2-AK39,0.01)","v":0.01},null,null,{"$f":"IF(AL41>0,2-AK42,0.01)","v":0.01},null,null,null,null,null,null,{"$f":"AE45+AH45","v":0.02},null,null,null,null,null,null,null,null,null,null,null,null,null,null,null,null,null,null,null,null,null,null,null,{"$f":"IF(BN44<1,0.01,IF(BL44>BR38,2,IF(BL44=BR38,1,0)))","v":0.01},null,null,{"$f":"IF(BQ44<1,0.01,IF(BO44>BR41,2,IF(BO44=BR41,1,0)))","v":0.01},null,null,null,null,null,null,{"$f":"BM45+BP45","v":0.02}]
[null,null,null,null,null,null,null,null,null,null,null,null,null,null,null,null,null,null,null,null,null,null,null,null,null,null,null,null,null,{"$f":"F42","v":0},null,{"$f":"AD44/AF44","v":{"$error":"#DIV/0!"}},{"$f":"F45","v":0},null,{"$f":"AG44/AI44","v":{"$error":"#DIV/0!"}},null,null,null,null,{"$f":"MAX(AD46,AG46)","v":0},null,{"$f":"AN44/AP44","v":{"$error":"#DIV/0!"}},null,null,null,null,null,null,null,null,null,null,null,null,null,null,null,null,null,null,null,null,null,{"$f":"P42","v":0},null,{"$f":"BL44/BN44","v":{"$error":"#DIV/0!"}},{"$f":"P45","v":0},null,{"$f":"BO44/BQ44","v":{"$error":"#DIV/0!"}},null,null,null,null,{"$f":"MAX(BL46,BO46)","v":0},null,{"$f":"BV44/BX44","v":{"$error":"#DIV/0!"}}]
[null,"Tour 3",{"$f":"C30","v":0},null,null,null,null,null,null,null,null,"Tour 3",{"$f":"M30","v":{"$error":"#DIV/0!"}}]
[null,null,{"$f":"C31","v":0},null,null,null,null,null,null,null,null,null,{"$f":"M31","v":{"$error":"#DIV/0!"}},null,null,null,null,null,null,null,null,null,null,null,null,null,"Classement des 2ème",null,null,"PM","CLS","MG","CLS","MP","CLS","MS","CLS","TOTAL",null,"CLS"]
[null,null,null,null,null,null,null,null,null,null,null,null,null,null,null,null,null,null,null,null,null,null,null,null,null,null,"A",{"$f":"IF(AQ18=2,AB18,IF(AQ21=2,AB21,IF(AQ24=2,AB24)))","v":{"$error":"#DIV/0!"}},null,{"$f":"IF(AB49=AB18,AS18,IF(AB49=AB21,AS21,IF(AB49=AB24,AS24,)))","v":{"$error":"#DIV/0!"}},{"$f":"RANK(AD49,AD$49:AD$52)","v":{"$error":"#DIV/0!"}},{"$f":"IF(AB49=AB18,AU18,IF(AB49=AB21,AU21,IF(AB49=AB24,AU24,)))","v":{"$error":"#DIV/0!"}},{"$f":"RANK(AF49,AF$49:AF$52)","v":{"$error":"#DIV/0!"}},{"$f":"IF(AB49=AB18,AW18,IF(AB49=AB21,AW21,IF(AB49=AB24,AW24,)))","v":{"$error":"#DIV/0!"}},{"$f":"RANK(AH49,AH$49:AH$52)","v":{"$error":"#DIV/0!"}},{"$f":"IF(AB49=AB18,AY18,IF(AB49=AB21,AY21,IF(AB49=AB24,AY24,)))","v":{"$error":"#DIV/0!"}},{"$f":"RANK(AJ49,AJ$49:AJ$52)","v":{"$error":"#DIV/0!"}},{"$f":"(AE49*1000)+(AG49*100)+(AI49*10)+(AK49*1)","v":{"$error":"#DIV/0!"}},null,{"$f":"RANK(AL49,AL$49:AL$52,1)","v":{"$error":"#DIV/0!"}}]
[null,"Joueur 1",{"$f":"'Saisie des joueurs'!L20","v":0},null,null,null,null,null,null,null,null,"Joueur 1",{"$f":"IF(AN49=3,AB49,IF(AN50=3,AB50,IF(AN51=3,AB51,IF(AN52=3,AB52,))))","v":{"$error":"#DIV/0!"}},null,null,null,null,null,null,null,null,null,null,null,null,null,"B",{"$f":"IF(AQ38=2,AB38,IF(AQ41=2,AB41,IF(AQ44=2,AB44,)))","v":{"$error":"#DIV/0!"}},null,{"$f":"IF(AB50=AB38,AS38,IF(AB50=AB41,AS41,IF(AB50=AB44,AS44,)))","v":{"$error":"#DIV/0!"}},{"$f":"RANK(AD50,AD$49:AD$52)","v":{"$error":"#DIV/0!"}},{"$f":"IF(AB50=AB38,AU38,IF(AB50=AB41,AU41,IF(AB50=AB44,AU44,)))","v":{"$error":"#DIV/0!"}},{"$f":"RANK(AF50,AF$49:AF$52)","v":{"$error":"#DIV/0!"}},{"$f":"IF(AB50=AB38,AW38,IF(AB50=AB41,AW41,IF(AB50=AB44,AW44,)))","v":{"$error":"#DIV/0!"}},{"$f":"RANK(AH50,AH$49:AH$52)","v":{"$error":"#DIV/0!"}},{"$f":"IF(AB50=AB38,AY38,IF(AB50=AB41,AY41,IF(AB50=AB44,AY44,)))","v":{"$error":"#DIV/0!"}},{"$f":"RANK(AJ50,AJ$49:AJ$52)","v":{"$error":"#DIV/0!"}},{"$f":"(AE50*1000)+(AG50*100)+(AI50*10)+(AK50*1)","v":{"$error":"#DIV/0!"}},null,{"$f":"RANK(AL50,AL$49:AL$52,1)","v":{"$error":"#DIV/0!"}}]
[null,"Joueur 2",{"$f":"'Saisie des joueurs'!L23","v":0},null,null,null,null,null,null,null,null,"Joueur 2",{"$f":"IF(AN49=4,AB49,IF(AN50=4,AB50,IF(AN51=4,AB51,IF(AN52=4,AB52,))))","v":{"$error":"#DIV/0!"}},null,null,null,null,null,null,null,null,null,null,null,null,null,"C",{"$f":"IF(AQ59=2,AB59,IF(AQ62=2,AB62,IF(AQ65=2,AB65,)))","v":{"$error":"#DIV/0!"}},null,{"$f":"IF(AB51=AB59,AS59,IF(AB51=AB62,AS62,IF(AB51=AB65,AS65,)))","v":{"$error":"#DIV/0!"}},{"$error":"#DIV/0!"},{"$f":"IF(AB51=AB59,AU59,IF(AB51=AB62,AU62,IF(AB51=AB65,AU65,)))","v":{"$error":"#DIV/0!"}},{"$error":"#DIV/0!"},{"$f":"IF(AB51=AB59,AW59,IF(AB51=AB62,AW62,IF(AB51=AB65,AW65,)))","v":{"$error":"#DIV/0!"}},{"$error":"#DIV/0!"},{"$f":"IF(AB51=AB59,AY59,IF(AB51=AB62,AY62,IF(AB51=AB65,AY65,)))","v":{"$error":"#DIV/0!"}},{"$error":"#DIV/0!"},{"$error":"#DIV/0!"},null,{"$error":"#DIV/0!"}]
[null,"Joueur 3",{"$f":"'Saisie des joueurs'!L28","v":0},null,null,null,null,null,null,null,null,"Joueur 3",{"$f":"IF(AN70=1,AB70,IF(AN71=1,AB71,IF(AN72=1,AB72,IF(AN73=1,AB73,))))","v":{"$error":"#DIV/0!"}},null,null,null,null,null,null,null,null,null,null,null,null,null,"D",{"$f":"IF(AQ82=2,AB82,IF(AQ85=2,AB85,IF(AQ88=2,AB88,)))","v":{"$error":"#DIV/0!"}},null,{"$f":"IF(AB52=AB82,AS82,IF(AB52=AB85,AS85,IF(AB52=AB88,AS88,)))","v":{"$error":"#DIV/0!"}},{"$error":"#DIV/0!"},{"$f":"IF(AB52=AB82,AU82,IF(AB52=AB85,AU85,IF(AB52=AB88,AU88,)))","v":{"$error":"#DIV/0!"}},{"$error":"#DIV/0!"},{"$f":"IF(AB52=AB82,AW82,IF(AB52=AB85,AW85,IF(AB52=AB88,AW88,)))","v":{"$error":"#DIV/0!"}},{"$error":"#DIV/0!"},{"$f":"IF(AB52=AB82,AY82,IF(AB52=AB85,AY85,IF(AB52=AB88,AY88,)))","v":{"$error":"#DIV/0!"}},{"$error":"#DIV/0!"},{"$error":"#DIV/0!"},null,{"$error":"#DIV/0!"}]
[]
[]
[null,"SAISIE DES RESULTATS",null,null,null,null,null,null,null,null,null,"SAISIE DES RESULTATS",null,null,null,null,null,null,null,null,null,null,null,null,null,null,null,null,null,{"$f":"C50","v":0},null,null,{"$f":"C51","v":0},null,null,{"$f":"C52","v":0},null,null,null,"TOTAUX",null,null,"CLASSEMENT",null,null,null,null,null,null,null,null,null,null,null,null,null,null,null,null,null,null,null,null,{"$f":"M50","v":{"$error":"#DIV/0!"}},null,null,{"$f":"M51","v":{"$error":"#DIV/0!"}},null,null,{"$f":"M52","v":{"$error":"#DIV/0!"}},null,null,null,"TOTAUX",null,null,"CLASSEMENT"]
[]
[null,null,null,null,null,null,null,null,null,null,null,null,null,null,null,null,null,null,null,null,null,null,null,null,null,null,null,null,null,null,null,null,null,null,null,null,null,null,null,null,null,null,null,null,"Classement",null,"Classement",null,"Classement",null,"Classement",null,"Classement",null,"GENERAL","RANG",null,null,null,null,null,null,null,null,null,null,null,null,null,null,null,null,null,null,null,null,null,null,"Classement",null,"Classement",null,"Classement",null,"Classement",null,"Classement",null,"GENERAL","RANG"]
[null,"PHASE 1 - POULE C",null,null,null,null,null,null,null,null,null,"PHASE 3 - POULE C",null,null,null,null,null,null,null,null,null,null,null,null,null,null,null,null,null,null,null,null,null,null,null,null,null,null,null,null,null,null,null,null,"Point-Match","CLS-M","Moy-Gen","CLS-G","Moy-Part","CLS-P","M-Series","CLS-S","MGPS","CLS","CLS",null,null,null,null,null,null,null,null,null,null,null,null,null,null,null,null,null,null,null,null,null,null,null,"Point-Match","CLS-M","Moy-Gen","CLS-G","Moy-Part","CLS-P","M-Series","CLS-S","MGPS","CLS","CLS"]
[null,null,null,null,null,null,null,null,null,null,null,null,null,null,null,null,null,null,null,null,null,null,null,null,null,null,null,{"$f":"C50","v":0},null,"L",null,null,{"$f":"D68","v":0},null,{"$f":"E68","v":0},{"$f":"D62","v":0},null,{"$f":"E62","v":0},null,{"$f":"AG59+AJ59","v":0},null,{"$f":"AI59+AL59","v":0},{"$f":"BD59","v":{"$error":"#DIV/0!"}},null,{"$f":"AO60","v":0.02},{"$f":"RANK(AS59,AS$59:AS$67,0)","v":1},{"$f":"AP61","v":{"$error":"#DIV/0!"}},{"$f":"RANK(AU59,AU$59:AU$67,0)","v":{"$error":"#DIV/0!"}},{"$f":"MAX(AI61,AL61)","v":{"$error":"#DIV/0!"}},{"$f":"RANK(AW59,AW$59:AW$67,0)","v":{"$error":"#DIV/0!"}},{"$f":"AN61","v":0},{"$f":"RANK(AY59,AY$59:AY$67)","v":1},{"$f":"(AT59*1000)+(AV59*100)+(AX59*10)+(AZ59*1)","v":{"$error":"#DIV/0!"}},{"$f":"RANK(BA59,BA$59:BA$67)","v":{"$error":"#DIV/0!"}},{"$f":"BA59","v":{"$error":"#DIV/0!"}},{"$f":"RANK(BC59,BC$59:BC$67,1)","v":{"$error":"#DIV/0!"}},null,null,null,null,null,{"$f":"M50","v":{"$error":"#DIV/0!"}},null,"L",null,null,{"$f":"N68","v":0},null,{"$f":"O68","v":0},{"$f":"N62","v":0},null,{"$f":"O62","v":0},null,{"$f":"BO59+BR59","v":0},null,{"$f":"BQ59+BT59","v":0},{"$f":"CL59","v":{"$error":"#DIV/0!"}},null,{"$f":"BW60","v":0.02},{"$f":"RANK(CA59,CA$59:CA$67,0)","v":1},{"$f":"BX61","v":{"$error":"#DIV/0!"}},{"$f":"RANK(CC59,CC$59:CC$66,0)","v":{"$error":"#DIV/0!"}},{"$f":"MAX(BQ61,BT61)","v":{"$error":"#DIV/0!"}},{"$f":"RANK(CE59,CE$59:CE$66)","v":{"$error":"#DIV/0!"}},{"$f":"BV61","v":0},{"$f":"RANK(CG59,CG$59:CG$66)","v":1},{"$f":"(CB59*1000)+(CD59*100)+(CF59*10)+(CH59*1)","v":{"$error":"#DIV/0!"}},{"$f":"RANK(CI59,CI$59:CI$66)","v":{"$error":"#DIV/0!"}},{"$f":"CI59","v":{"$error":"#DIV/0!"}},{"$f":"RANK(CK59,CK$59:CK$66,1)","v":{"$error":"#DIV/0!"}}]
[null,null,null,null,null,null,null,null,null,null,null,"Derniers 2ème et premier 3ème des poules A-B-C-D ",null,null,null,null,null,null,null,null,null,null,null,null,null,null,null,null,null,null,null,null,null,{"$f":"IF(AI59<1,0.01,IF(AG59>AD62,2,IF(AG59=AD62,1,0)))","v":0.01},null,null,{"$f":"IF(AL59<1,0.01,IF(AJ59>AD62,2,IF(AJ59=AD62,1,0)))","v":0.01},null,null,null,{"$f":"AH60+AK60","v":0.02},null,null,null,null,null,null,null,null,null,null,null,null,null,null,null,null,null,null,null,null,null,null,null,null,null,null,{"$f":"IF(BQ59<1,0.01,IF(BO59>BL62,2,IF(BO59=BL62,1,0)))","v":0.01},null,null,{"$f":"IF(BT59<1,0.01,IF(BR59>BL65,2,IF(BR59=BL65,1,0)))","v":0.01},null,null,null,{"$f":"BP60+BS60","v":0.02}]
[null,null,null,"Pts","Rep","Série",null,null,null,null,null,null,null,"Pts","Rep","Série",null,null,null,null,null,null,null,null,null,null,null,null,null,null,null,null,{"$f":"F68","v":0},null,{"$f":"AG59/AI59","v":{"$error":"#DIV/0!"}},{"$f":"F62","v":0},null,{"$f":"AJ59/AL59","v":{"$error":"#DIV/0!"}},null,{"$f":"MAX(AG61,AJ61)","v":0},null,{"$f":"AN59/AP59","v":{"$error":"#DIV/0!"}},null,null,null,null,null,null,null,null,null,null,null,null,null,null,null,null,null,null,null,null,null,null,null,null,{"$f":"P68","v":0},null,{"$f":"BO59/BQ59","v":{"$error":"#DIV/0!"}},{"$f":"P62","v":0},null,{"$f":"BR59/BT59","v":{"$error":"#DIV/0!"}},null,{"$f":"MAX(BO61,BR61)","v":0},null,{"$f":"BV59/BX59","v":{"$error":"#DIV/0!"}}]
[null,"Tour 1",{"$f":"C50","v":0},null,null,null,null,null,null,null,null,"Tour 1",{"$f":"M50","v":{"$error":"#DIV/0!"}},null,null,null,null,null,null,null,null,null,null,null,null,null,null,{"$f":"C51","v":0},null,{"$f":"D69","v":0},null,{"$f":"E68","v":0},"M",null,null,{"$f":"D65","v":0},null,{"$f":"E65","v":0},null,{"$f":"AD62+AJ62","v":0},null,{"$f":"AF62+AL62","v":0},{"$f":"BD62","v":{"$error":"#DIV/0!"}},null,{"$f":"AO63","v":0.02},{"$f":"RANK(AS62,AS$59:AS$67,0)","v":1},{"$f":"AP64","v":{"$error":"#DIV/0!"}},{"$f":"RANK(AU62,AU$59:AU$67,0)","v":{"$error":"#DIV/0!"}},{"$f":"MAX(AF64,AL64)","v":{"$error":"#DIV/0!"}},{"$f":"RANK(AW62,AW$59:AW$67,0)","v":{"$error":"#DIV/0!"}},{"$f":"AN64","v":0},{"$f":"RANK(AY62,AY$59:AY$67)","v":1},{"$f":"(AT62*1000)+(AV62*100)+(AX62*10)+(AZ62*1)","v":{"$error":"#DIV/0!"}},{"$f":"RANK(BA62,BA$59:BA$67)","v":{"$error":"#DIV/0!"}},{"$f":"BA62","v":{"$error":"#DIV/0!"}},{"$f":"RANK(BC62,BC$59:BC$67,1)","v":{"$error":"#DIV/0!"}},null,null,null,null,null,{"$f":"M51","v":{"$error":"#DIV/0!"}},null,{"$f":"N69","v":0},null,{"$f":"O68","v":0},"M",null,null,{"$f":"N65","v":0},null,{"$f":"O65","v":0},null,{"$f":"BL62+BR62","v":0},null,{"$f":"BN62+BT62","v":0},{"$f":"CL62","v":{"$error":"#DIV/0!"}},null,{"$f":"BW63","v":0.02},{"$f":"RANK(CA62,CA$59:CA$67,0)","v":1},{"$f":"BX64","v":{"$error":"#DIV/0!"}},{"$f":"RANK(CC62,CC$59:CC$66,0)","v":{"$error":"#DIV/0!"}},{"$f":"MAX(BN64,BT64)","v":{"$error":"#DIV/0!"}},{"$f":"RANK(CE62,CE$59:CE$66)","v":{"$error":"#DIV/0!"}},{"$f":"BV64","v":0},{"$f":"RANK(CG62,CG$59:CG$66)","v":1},{"$f":"(CB62*1000)+(CD62*100)+(CF62*10)+(CH62*1)","v":{"$error":"#DIV/0!"}},{"$f":"RANK(CI62,CI$59:CI$66)","v":{"$error":"#DIV/0!"}},{"$f":"CI62","v":{"$error":"#DIV/0!"}},{"$f":"RANK(CK62,CK$59:CK$66,1)","v":{"$error":"#DIV/0!"}}]
[null,null,{"$f":"C52","v":0},null,null,null,null,null,null,null,null,null,{"$f":"M52","v":{"$error":"#DIV/0!"}},null,null,null,null,null,null,null,null,null,null,null,null,null,null,null,null,null,{"$f":"IF(AI59>0,2-AH60,0.01)","v":0.01},null,null,null,null,null,{"$f":"IF(AL62<1,0.01,IF(AJ62>AG65,2,IF(AJ62=AG65,1,0)))","v":0.01},null,null,null,{"$f":"AE63+AK63","v":0.02},null,null,null,null,null,null,null,null,null,null,null,null,null,null,null,null,null,null,null,null,null,null,null,{"$f":"IF(BN62<1,0.01,IF(BL62>BO59,2,IF(BL62=BO59,1,0)))","v":0.01},null,null,null,null,null,{"$f":"IF(BT62<1,0.01,IF(BR62>BO65,2,IF(BR62=BO65,1,0)))","v":0.01},null,null,null,{"$f":"BM63+BS63","v":0.02}]
[null,null,null,null,null,null,null,null,null,null,null,null,null,null,null,null,null,null,null,null,null,null,null,null,null,null,null,null,null,{"$f":"F69","v":0},null,{"$f":"AD62/AF62","v":{"$error":"#DIV/0!"}},null,null,null,{"$f":"F65","v":0},null,{"$f":"AJ62/AL62","v":{"$error":"#DIV/0!"}},null,{"$f":"MAX(AD64,AJ64)","v":0},null,{"$f":"AN62/AP62","v":{"$error":"#DIV/0!"}},null,null,null,null,null,null,null,null,null,null,null,null,null,null,null,null,null,null,null,null,null,{"$f":"P69","v":0},null,{"$f":"BL62/BN62","v":{"$error":"#DIV/0!"}},null,null,null,{"$f":"P65","v":0},null,{"$f":"BR62/BT62","v":{"$error":"#DIV/0!"}},null,{"$f":"MAX(BL64,BR64)","v":0},null,{"$f":"BV62/BX62","v":{"$error":"#DIV/0!"}}]
[null,"Tour 2",{"$f":"C51","v":0},null,null,null,null,null,null,null,null,"Tour 2",{"$f":"M51","v":{"$error":"#DIV/0!"}},null,null,null,null,null,null,null,null,null,null,null,null,null,null,{"$f":"C52","v":0},null,{"$f":"D63","v":0},null,{"$f":"E62","v":0},{"$f":"D66","v":0},null,{"$f":"E65","v":0},"B",null,null,null,{"$f":"AD65+AG65","v":0},null,{"$f":"AF65+AI65","v":0},{"$f":"BD65","v":{"$error":"#DIV/0!"}},null,{"$f":"AO66","v":0.02},{"$f":"RANK(AS65,AS$59:AS$67,0)","v":1},{"$f":"AP67","v":{"$error":"#DIV/0!"}},{"$f":"RANK(AU65,AU$59:AU$67,0)","v":{"$error":"#DIV/0!"}},{"$f":"MAX(AF67,AI67)","v":{"$error":"#DIV/0!"}},{"$f":"RANK(AW65,AW$59:AW$67,0)","v":{"$error":"#DIV/0!"}},{"$f":"AN67","v":0},{"$f":"RANK(AY65,AY$59:AY$67)","v":1},{"$f":"(AT65*1000)+(AV65*100)+(AX65*10)+(AZ65*1)","v":{"$error":"#DIV/0!"}},{"$f":"RANK(BA65,BA$59:BA$67)","v":{"$error":"#DIV/0!"}},{"$f":"BA65","v":{"$error":"#DIV/0!"}},{"$f":"RANK(BC65,BC$59:BC$67,1)","v":{"$error":"#DIV/0!"}},null,null,null,null,null,{"$f":"M52","v":{"$error":"#DIV/0!"}},null,{"$f":"N63","v":0},null,{"$f":"O62","v":0},{"$f":"N66","v":0},null,{"$f":"O65","v":0},"B",null,null,null,{"$f":"BL65+BO65","v":0},null,{"$f":"BN65+BQ65","v":0},{"$f":"CL65","v":{"$error":"#DIV/0!"}},null,{"$f":"BW66","v":0.02},{"$f":"RANK(CA65,CA$59:CA$67,0)","v":1},{"$f":"BX67","v":{"$error":"#DIV/0!"}},{"$f":"RANK(CC65,CC$59:CC$66,0)","v":{"$error":"#DIV/0!"}},{"$f":"MAX(BN67,BQ67)","v":{"$error":"#DIV/0!"}},{"$f":"RANK(CE65,CE$59:CE$66)","v":{"$error":"#DIV/0!"}},{"$f":"BV67","v":0},{"$f":"RANK(CG65,CG$59:CG$66)","v":1},{"$f":"(CB65*1000)+(CD65*100)+(CF65*10)+(CH65*1)","v":{"$error":"#DIV/0!"}},{"$f":"RANK(CI65,CI$59:CI$66)","v":{"$error":"#DIV/0!"}},{"$f":"CI65","v":{"$error":"#DIV/0!"}},{"$f":"RANK(CK65,CK$59:CK$66,1)","v":{"$error":"#DIV/0!"}}]
[null,null,{"$f":"C52","v":0},null,null,null,null,null,null,null,null,null,{"$f":"M52","v":{"$error":"#DIV/0!"}},null,null,null,null,null,null,null,null,null,null,null,null,null,null,null,null,null,{"$f":"IF(AL59>0,2-AK60,0.01)","v":0.01},null,null,{"$f":"IF(AI65<1,0.01,IF(AG65>AJ62,2,IF(AG65=AJ62,1,0)))","v":0.01},null,null,null,null,null,null,{"$f":"AE66+AH66","v":0.02},null,null,null,null,null,null,null,null,null,null,null,null,null,null,null,null,null,null,null,null,null,null,null,{"$f":"IF(BN65<1,0.01,IF(BL65>BR59,2,IF(BL65=BR59,1,0)))","v":0.01},null,null,{"$f":"IF(BQ65<1,0.01,IF(BO65>BR62,2,IF(BO65=BR62,1,0)))","v":0.01},null,null,null,null,null,null,{"$f":"BM66+BP66","v":0.02}]
[null,null,null,null,null,null,null,null,null,null,null,null,null,null,null,null,null,null,null,null,null,null,null,null,null,null,null,null,null,{"$f":"F63","v":0},null,{"$f":"AD65/AF65","v":{"$error":"#DIV/0!"}},{"$f":"F66","v":0},null,{"$f":"AG65/AI65","v":{"$error":"#DIV/0!"}},null,null,null,null,{"$f":"MAX(AD67,AG67)","v":0},null,{"$f":"AN65/AP65","v":{"$error":"#DIV/0!"}},null,null,null,null,null,null,null,null,null,null,null,null,null,null,null,null,null,null,null,null,null,{"$f":"P63","v":0},null,{"$f":"BL65/BN65","v":{"$error":"#DIV/0!"}},{"$f":"P66","v":0},null,{"$f":"BO65/BQ65","v":{"$error":"#DIV/0!"}},null,null,null,null,{"$f":"MAX(BL67,BO67)","v":0},null,{"$f":"BV65/BX65","v":{"$error":"#DIV/0!"}}]
[null,"Tour 3",{"$f":"C50","v":0},null,null,null,null,null,null,null,null,"Tour 3",{"$f":"M50","v":{"$error":"#DIV/0!"}}]
[null,null,{"$f":"C51","v":0},null,null,null,null,null,null,null,null,null,{"$f":"M51","v":{"$error":"#DIV/0!"}},null,null,null,null,null,null,null,null,null,null,null,null,null,"Classement des 3ème",null,null,"PM","CLS","MG","CLS","MP","CLS","MS","CLS","TOTAL",null,"CLS"]
[null,null,null,null,null,null,null,null,null,null,null,null,null,null,null,null,null,null,null,null,null,null,null,null,null,null,"A",{"$f":"IF(AQ18=3,AB18,IF(AQ21=3,AB21,IF(AQ24=3,AB24)))","v":{"$error":"#DIV/0!"}},null,{"$f":"IF(AB70=AB18,AS18,IF(AB70=AB21,AS21,IF(AB70=AB24,AS24,)))","v":{"$error":"#DIV/0!"}},{"$f":"RANK(AD70,AD$70:AD$73)","v":{"$error":"#DIV/0!"}},{"$f":"IF(AB70=AB18,AP20,IF(AB70=AB21,AP23,IF(AB70=AB24,AP26,)))","v":{"$error":"#DIV/0!"}},{"$f":"RANK(AF70,AF$70:AF$73)","v":{"$error":"#DIV/0!"}},{"$f":"IF(AB70=AB18,AW18,IF(AB70=AB21,AW21,IF(AB70=AB24,AW24,)))","v":{"$error":"#DIV/0!"}},{"$f":"RANK(AH70,AH$70:AH$73)","v":{"$error":"#DIV/0!"}},{"$f":"IF(AB70=AB18,AY18,IF(AB70=AB21,AY21,IF(AB70=AB24,AY24,)))","v":{"$error":"#DIV/0!"}},{"$f":"RANK(AJ70,AJ$70:AJ$73)","v":{"$error":"#DIV/0!"}},{"$f":"(AE70*1000)+(AG70*100)+(AI70*10)+(AK70*1)","v":{"$error":"#DIV/0!"}},null,{"$f":"RANK(AL70,AL$70:AL$73,1)","v":{"$error":"#DIV/0!"}}]
[null,null,null,null,null,null,null,null,null,null,null,null,null,null,null,null,null,null,null,null,null,null,null,null,null,null,"B",{"$f":"IF(AQ38=3,AB38,IF(AQ41=3,AB41,IF(AQ44=3,AB44,)))","v":{"$error":"#DIV/0!"}},null,{"$f":"IF(AB71=AB38,AS38,IF(AB71=AB41,AS41,IF(AB71=AB44,AS44,)))","v":{"$error":"#DIV/0!"}},{"$f":"RANK(AD71,AD$70:AD$73)","v":{"$error":"#DIV/0!"}},{"$f":"IF(AB71=AB38,AP40,IF(AB71=AB41,AP43,IF(AB71=AB44,AP46,)))","v":{"$error":"#DIV/0!"}},{"$f":"RANK(AF71,AF$70:AF$73)","v":{"$error":"#DIV/0!"}},{"$f":"IF(AB71=AB38,AW38,IF(AB71=AB41,AW41,IF(AB71=AB44,AW44,)))","v":{"$error":"#DIV/0!"}},{"$f":"RANK(AH71,AH$70:AH$73)","v":{"$error":"#DIV/0!"}},{"$f":"IF(AB71=AB38,AY38,IF(AB71=AB41,AY41,IF(AB71=AB44,AY44,)))","v":{"$error":"#DIV/0!"}},{"$f":"RANK(AJ71,AJ$70:AJ$73)","v":{"$error":"#DIV/0!"}},{"$f":"(AE71*1000)+(AG71*100)+(AI71*10)+(AK71*1)","v":{"$error":"#DIV/0!"}},null,{"$f":"RANK(AL71,AL$70:AL$73,1)","v":{"$error":"#DIV/0!"}}]
[null,"Joueur 1",{"$f":"'Saisie des joueurs'!L21","v":0},null,null,null,null,null,null,null,null,"Joueur 1",{"$f":"IF(AN70=2,AB70,IF(AN71=2,AB71,IF(AN72=2,AB72,IF(AN73=2,AB73,))))","v":{"$error":"#DIV/0!"}},null,null,null,null,null,null,null,null,null,null,null,null,null,"C",{"$f":"IF(AQ59=3,AB59,IF(AQ62=3,AB62,IF(AQ65=3,AB65,)))","v":{"$error":"#DIV/0!"}},null,{"$f":"IF(AB72=AB59,AS59,IF(AB72=AB62,AS62,IF(AB72=AB65,AS65,)))","v":{"$error":"#DIV/0!"}},{"$error":"#DIV/0!"},{"$f":"IF(AB72=AB59,AP61,IF(AB72=AB62,AP64,IF(AB72=AB65,AP67,)))","v":{"$error":"#DIV/0!"}},{"$error":"#DIV/0!"},{"$f":"IF(AB72=AB59,AW59,IF(AB72=AB62,AW62,IF(AB72=AB65,AW65,)))","v":{"$error":"#DIV/0!"}},{"$error":"#DIV/0!"},{"$f":"IF(AB72=AB59,AY59,IF(AB72=AB62,AY62,IF(AB72=AB65,AY65,)))","v":{"$error":"#DIV/0!"}},{"$error":"#DIV/0!"},{"$error":"#DIV/0!"},null,{"$error":"#DIV/0!"}]
[null,"Joueur 2",{"$f":"'Saisie des joueurs'!L22","v":0},null,null,null,null,null,null,null,null,"Joueur 2",{"$f":"IF(AN70=3,AB70,IF(AN71=3,AB71,IF(AN72=3,AB72,IF(AN73=3,AB73,))))","v":{"$error":"#DIV/0!"}},null,null,null,null,null,null,null,null,null,null,null,null,null,"C",{"$f":"IF(AQ82=3,AB82,IF(AQ85=3,AB85,IF(AQ88=3,AB88,)))","v":{"$error":"#DIV/0!"}},null,{"$f":"IF(AB73=AB82,AS82,IF(AB73=AB85,AS85,IF(AB73=AB88,AS88,)))","v":{"$error":"#DIV/0!"}},{"$error":"#DIV/0!"},{"$f":"IF(AB73=AB82,AP84,IF(AB73=AB85,AP87,IF(AB73=AB88,AP90,)))","v":{"$error":"#DIV/0!"}},{"$error":"#DIV/0!"},{"$f":"IF(AB73=AB82,AW82,IF(AB73=AB85,AW85,IF(AB73=AB88,AW88,)))","v":{"$error":"#DIV/0!"}},{"$error":"#DIV/0!"},{"$f":"IF(AB73=AB82,AY82,IF(AB73=AB85,AY85,IF(AB73=AB88,AY88,)))","v":{"$error":"#DIV/0!"}},{"$error":"#DIV/0!"},{"$f":"(AE73*1000)+(AG73*100)+(AI73*10)+(AK73*1)","v":{"$error":"#DIV/0!"}},null,{"$error":"#DIV/0!"}]
[null,"Joueur 3",{"$f":"'Saisie des joueurs'!L29","v":0},null,null,null,null,null,null,null,null,"Joueur 3",{"$f":"IF(AN70=4,AB70,IF(AN71=4,AB71,IF(AN72=4,AB72,IF(AN73=4,AB73,))))","v":{"$error":"#DIV/0!"}}]
[]
[null,"SAISIE DES RESULTATS",null,null,null,null,null,null,null,null,null,"SAISIE DES RESULTATS"]
[]
[null,null,null,null,null,null,null,null,null,null,null,null,null,null,null,null,null,null,null,null,null,null,null,null,null,null,null,null,null,{"$f":"C72","v":0},null,null,{"$f":"C73","v":0},null,null,{"$f":"C74","v":0},null,null,null,"TOTAUX",null,null,"CLASSEMENT",null,null,null,null,null,null,null,null,null,null,null,null,null,null,null,null,null,null,null,null,{"$f":"M72","v":{"$error":"#DIV/0!"}},null,null,{"$f":"M73","v":{"$error":"#DIV/0!"}},null,null,{"$f":"M74","v":{"$error":"#DIV/0!"}},null,null,null,"TOTAUX",null,null,"CLASSEMENT"]
[null,"PHASE 1 - POULE D",null,null,null,null,null,null,null,null,null,"PHASE 2 - POULE D"]
[null,null,null,null,null,null,null,null,null,null,null,null,null,null,null,null,null,null,null,null,null,null,null,null,null,null,null,null,null,null,null,null,null,null,null,null,null,null,null,null,null,null,null,null,"Classement",null,"Classement",null,"Classement",null,"Classement",null,"Classement",null,"GENERAL","RANG",null,null,null,null,null,null,null,null,null,null,null,null,null,null,null,null,null,null,null,null,null,null,"Classement",null,"Classement",null,"Classement",null,"Classement",null,"Classement",null,"GENERAL","RANG"]
[null,null,null,null,null,null,null,null,null,null,null,"3ème des poules A-B-C-D de\nla phase 1",null,null,null,null,null,null,null,null,null,null,null,null,null,null,null,null,null,null,null,null,null,null,null,null,null,null,null,null,null,null,null,null,"Point-Match","CLS-M","Moy-Gen","CLS-G","Moy-Part","CLS-G","M-Series","CLS-S","MGPS","CLS","CLS",null,null,null,null,null,null,null,null,null,null,null,null,null,null,null,null,null,null,null,null,null,null,null,"Point-Match","CLS-M","Moy-Gen","CLS-G","Moy-Part","CLS-P","M-Series","CLS-S","MGPS","CLS","CLS"]
[null,null,null,"Pts","Rep","Série",null,null,null,null,null,null,null,"Pts","Rep","Série",null,null,null,null,null,null,null,null,null,null,null,{"$f":"C72","v":0},null,"L",null,null,{"$f":"D89","v":0},null,{"$f":"E89","v":0},{"$f":"D83","v":0},null,{"$f":"E83","v":0},null,{"$f":"AG82+AJ82","v":0},null,{"$f":"AI82+AL82","v":0},{"$f":"BD82","v":{"$error":"#DIV/0!"}},null,{"$f":"AO83","v":0.02},{"$f":"RANK(AS82,AS$82:AS$90,0)","v":1},{"$f":"AP84","v":{"$error":"#DIV/0!"}},{"$f":"RANK(AU82,AU$82:AU$90,0)","v":{"$error":"#DIV/0!"}},{"$f":"MAX(AI84,AL84)","v":{"$error":"#DIV/0!"}},{"$f":"RANK(AW82,AW$82:AW$90,0)","v":{"$error":"#DIV/0!"}},{"$f":"AN84","v":0},{"$f":"RANK(AY82,AY$82:AY$90)","v":1},{"$f":"(AT82*1000)+(AV82*100)+(AX82*10)+(AZ82*1)","v":{"$error":"#DIV/0!"}},{"$f":"RANK(BA82,BA$82:BA$90)","v":{"$error":"#DIV/0!"}},{"$f":"BA82","v":{"$error":"#DIV/0!"}},{"$f":"RANK(BC82,BC$82:BC90,1)","v":{"$error":"#DIV/0!"}},null,null,null,null,null,{"$f":"M72","v":{"$error":"#DIV/0!"}},null,"L",null,null,{"$f":"N89","v":0},null,{"$f":"O89","v":0},{"$f":"N83","v":0},null,{"$f":"O83","v":0},null,{"$f":"BO82+BR82","v":0},null,{"$f":"BQ82+BT82","v":0},{"$f":"CL82","v":{"$error":"#DIV/0!"}},null,{"$f":"BV82","v":0},{"$f":"RANK(CA82,CA$82:CA$90,0)","v":1},{"$f":"BX84","v":{"$error":"#DIV/0!"}},{"$f":"RANK(CC82,CC$82:CC$90,0)","v":{"$error":"#DIV/0!"}},{"$f":"MAX(BQ84,BT84)","v":{"$error":"#DIV/0!"}},{"$f":"RANK(CE82,CE$82:CE$90,0)","v":{"$error":"#DIV/0!"}},{"$f":"BV84","v":0},{"$f":"RANK(CG82,CG$82:CG$90,0)","v":1},{"$f":"(CB82*1000)+(CD82*100)+(CF82*10)+(CH82*1)","v":{"$error":"#DIV/0!"}},{"$f":"RANK(CI82,CI$82:CI$90,0)","v":{"$error":"#DIV/0!"}},{"$f":"CI82","v":{"$error":"#DIV/0!"}},{"$f":"RANK(CI82,CI$82:CI$90,1)","v":{"$error":"#DIV/0!"}}]
[null,"Tour 1",{"$f":"C72","v":0},null,null,null,null,null,null,null,null,"Tour 1",{"$f":"M72","v":{"$error":"#DIV/0!"}},null,null,null,null,null,null,null,null,null,null,null,null,null,null,null,null,null,null,null,null,{"$f":"IF(AI82<1,0.01,IF(AG82>AD85,2,IF(AG82=AD85,1,0)))","v":0.01},null,null,{"$f":"IF(AL82<1,0.01,IF(AJ82>AD88,2,IF(AJ82=AD88,1,0)))","v":0.01},null,null,null,{"$f":"AH83+AK83","v":0.02},null,null,null,null,null,null,null,null,null,null,null,null,null,null,null,null,null,null,null,null,null,null,null,null,null,null,{"$f":"IF(BQ82<1,0.01,IF(BO82>BL85,2,IF(BO82=BL85,1,0)))","v":0.01},null,null,{"$f":"IF(BT82<1,0.01,IF(BR82>BL88,2,IF(BR82=BL88,1,0)))","v":0.01},null,null,null,{"$f":"BP83+BS83","v":0.02}]
[null,null,{"$f":"C74","v":0},null,null,null,null,null,null,null,null,null,{"$f":"M74","v":{"$error":"#DIV/0!"}},null,null,null,null,null,null,null,null,null,null,null,null,null,null,null,null,null,null,null,{"$f":"F89","v":0},null,{"$f":"AG82/AI82","v":{"$error":"#DIV/0!"}},{"$f":"F83","v":0},null,{"$f":"AJ82/AL82","v":{"$error":"#DIV/0!"}},null,{"$f":"MAX(AG84,AJ84)","v":0},null,{"$f":"AN82/AP82","v":{"$error":"#DIV/0!"}},null,null,null,null,null,null,null,null,null,null,null,null,null,null,null,null,null,null,null,null,null,null,null,null,{"$f":"P89","v":0},null,{"$f":"BO82/BQ82","v":{"$error":"#DIV/0!"}},{"$f":"P83","v":0},null,{"$f":"BR82/BT82","v":{"$error":"#DIV/0!"}},null,{"$f":"MAX(BO84,BR84)","v":0},null,{"$f":"BV82/BX82","v":{"$error":"#DIV/0!"}}]
[null,null,null,null,null,null,null,null,null,null,null,null,null,null,null,null,null,null,null,null,null,null,null,null,null,null,null,{"$f":"C73","v":0},null,{"$f":"D90","v":0},null,{"$f":"E89","v":0},"M",null,null,{"$f":"D86","v":0},null,{"$f":"E86","v":0},null,{"$f":"AD85+AJ85","v":0},null,{"$f":"AF85+AL85","v":0},{"$f":"BD85","v":{"$error":"#DIV/0!"}},null,{"$f":"AO86","v":0.02},{"$f":"RANK(AS85,AS$82:AS$90,0)","v":1},{"$f":"AP87","v":{"$error":"#DIV/0!"}},{"$f":"RANK(AU85,AU$82:AU$90,0)","v":{"$error":"#DIV/0!"}},{"$f":"MAX(AF87,AL87)","v":{"$error":"#DIV/0!"}},{"$f":"RANK(AW85,AW$82:AW$90,0)","v":{"$error":"#DIV/0!"}},{"$f":"AN87","v":0},{"$f":"RANK(AY85,AY$82:AY$90)","v":1},{"$f":"(AT85*1000)+(AV85*100)+(AX85*10)+(AZ85*1)","v":{"$error":"#DIV/0!"}},{"$f":"RANK(BA85,BA$82:BA$90)","v":{"$error":"#DIV/0!"}},{"$f":"BA85","v":{"$error":"#DIV/0!"}},{"$f":"RANK(BC85,BC$82:BC93,1)","v":{"$error":"#DIV/0!"}},null,null,null,null,null,{"$f":"M73","v":{"$error":"#DIV/0!"}},null,{"$f":"N90","v":0},null,{"$f":"O89","v":0},"M",null,null,{"$f":"N86","v":0},null,{"$f":"O86","v":0},null,{"$f":"BL85+BR85","v":0},null,{"$f":"BN85+BT85","v":0},{"$f":"CL85","v":{"$error":"#DIV/0!"}},null,{"$f":"BV85","v":0},{"$f":"RANK(CA85,CA$82:CA$90,0)","v":1},{"$f":"BX87","v":{"$error":"#DIV/0!"}},{"$f":"RANK(CC85,CC$82:CC$90,0)","v":{"$error":"#DIV/0!"}},{"$f":"MAX(BN87,BT87)","v":{"$error":"#DIV/0!"}},{"$f":"RANK(CE85,CE$82:CE$90,0)","v":{"$error":"#DIV/0!"}},{"$f":"BV87","v":0},{"$f":"RANK(CG85,CG$82:CG$90,0)","v":1},{"$f":"(CB85*1000)+(CD85*100)+(CF85*10)+(CH85*1)","v":{"$error":"#DIV/0!"}},{"$f":"RANK(CI85,CI$82:CI$90,0)","v":{"$error":"#DIV/0!"}},{"$f":"CI85","v":{"$error":"#DIV/0!"}},{"$f":"RANK(CI85,CI$82:CI$90,1)","v":{"$error":"#DIV/0!"}}]
[null,"Tour 2",{"$f":"C73","v":0},null,null,null,null,null,null,null,null,"Tour 2",{"$f":"M73","v":{"$error":"#DIV/0!"}},null,null,null,null,null,null,null,null,null,null,null,null,null,null,null,null,null,{"$f":"IF(AI82>0,2-AH83,0.01)","v":0.01},null,null,null,null,null,{"$f":"IF(AL85<1,0.01,IF(AJ85>AG88,2,IF(AJ85=AG88,1,0)))","v":0.01},null,null,null,{"$f":"AE86+AK86","v":0.02},null,null,null,null,null,null,null,null,null,null,null,null,null,null,null,null,null,null,null,null,null,null,null,{"$f":"IF(BN85<1,0.01,IF(BL85>BO82,2,IF(BL85=BO82,1,0)))","v":0.01},null,null,null,null,null,{"$f":"IF(BT85<1,0.01,IF(BR85>BO88,2,IF(BR85=BO88,1,0)))","v":0.01},null,null,null,{"$f":"BM86+BS86","v":0.02}]
[null,null,{"$f":"C74","v":0},null,null,null,null,null,null,null,null,null,{"$f":"M74","v":{"$error":"#DIV/0!"}},null,null,null,null,null,null,null,null,null,null,null,null,null,null,null,null,{"$f":"F90","v":0},null,{"$f":"AD85/AF85","v":{"$error":"#DIV/0!"}},null,null,null,{"$f":"F86","v":0},null,{"$f":"AJ85/AL85","v":{"$error":"#DIV/0!"}},null,{"$f":"MAX(AD87,AJ87)","v":0},null,{"$f":"AN85/AP85","v":{"$error":"#DIV/0!"}},null,null,null,null,null,null,null,null,null,null,null,null,null,null,null,null,null,null,null,null,null,{"$f":"P90","v":0},null,{"$f":"BL85/BN85","v":{"$error":"#DIV/0!"}},null,null,null,{"$f":"P86","v":0},null,{"$f":"BR85/BT85","v":{"$error":"#DIV/0!"}},null,{"$f":"MAX(BL87,BR87)","v":0},null,{"$f":"BV85/BX85","v":{"$error":"#DIV/0!"}}]
[null,null,null,null,null,null,null,null,null,null,null,null,null,null,null,null,null,null,null,null,null,null,null,null,null,null,null,{"$f":"C74","v":0},null,{"$f":"D84","v":0},null,{"$f":"E83","v":0},{"$f":"D87","v":0},null,{"$f":"E86","v":0},"B",null,null,null,{"$f":"AD88+AG88","v":0},null,{"$f":"AF88+AI88","v":0},{"$f":"BD88","v":{"$error":"#DIV/0!"}},null,{"$f":"AO89","v":0.02},{"$f":"RANK(AS88,AS$82:AS$90,0)","v":1},{"$f":"AP90","v":{"$error":"#DIV/0!"}},{"$f":"RANK(AU88,AU$82:AU$90,0)","v":{"$error":"#DIV/0!"}},{"$f":"MAX(AF90,AI90)","v":{"$error":"#DIV/0!"}},{"$f":"RANK(AW88,AW$82:AW$90,0)","v":{"$error":"#DIV/0!"}},{"$f":"AN90","v":0},{"$f":"RANK(AY88,AY$82:AY$90)","v":1},{"$f":"(AT88*1000)+(AV88*100)+(AX88*10)+(AZ88*1)","v":{"$error":"#DIV/0!"}},{"$f":"RANK(BA88,BA$82:BA$90)","v":{"$error":"#DIV/0!"}},{"$f":"BA88","v":{"$error":"#DIV/0!"}},{"$f":"RANK(BC88,BC$82:BC96,1)","v":{"$error":"#DIV/0!"}},null,null,null,null,null,{"$f":"M74","v":{"$error":"#DIV/0!"}},null,{"$f":"N84","v":0},null,{"$f":"O83","v":0},{"$f":"N87","v":0},null,{"$f":"O86","v":0},"B",null,null,null,{"$f":"BL88+BO88","v":0},null,{"$f":"BN88+BQ88","v":0},{"$f":"CL88","v":{"$error":"#DIV/0!"}},null,{"$f":"BV88","v":0},{"$f":"RANK(CA88,CA$82:CA$90,0)","v":1},{"$f":"BX90","v":{"$error":"#DIV/0!"}},{"$f":"RANK(CC88,CC$82:CC$90,0)","v":{"$error":"#DIV/0!"}},{"$f":"MAX(BN90,BQ90)","v":{"$error":"#DIV/0!"}},{"$f":"RANK(CE88,CE$82:CE$90,0)","v":{"$error":"#DIV/0!"}},{"$f":"BV90","v":0},{"$f":"RANK(CG88,CG$82:CG$90,0)","v":1},{"$f":"(CB88*1000)+(CD88*100)+(CF88*10)+(CH88*1)","v":{"$error":"#DIV/0!"}},{"$f":"RANK(CI88,CI$82:CI$90,0)","v":{"$error":"#DIV/0!"}},{"$f":"CI88","v":{"$error":"#DIV/0!"}},{"$f":"RANK(CI88,CI$82:CI$90,1)","v":{"$error":"#DIV/0!"}}]
[null,"Tour 2",{"$f":"C72","v":0},null,null,null,null,null,null,null,null,"Tour 2",{"$f":"M72","v":{"$error":"#DIV/0!"}},null,null,null,null,null,null,null,null,null,null,null,null,null,null,null,null,null,{"$f":"IF(AF88<1,0.01,IF(AD88>AJ82,2,IF(AD88=AJ82,1,0)))","v":0.01},null,null,{"$f":"IF(AI88<1,0.01,IF(AG88>AJ85,2,IF(AG88=AJ85,1,0)))","v":0.01},null,null,null,null,null,null,{"$f":"AE89+AH89","v":0.02},null,null,null,null,null,null,null,null,null,null,null,null,null,null,null,null,null,null,null,null,null,null,null,{"$f":"IF(BN88<1,0.01,IF(BL88>BR82,2,IF(BL88=BR82,1,0)))","v":0.01},null,null,{"$f":"IF(BQ88<1,0.01,IF(BO88>BR85,2,IF(BO88=BR85,1,0)))","v":0.01},null,null,null,null,null,null,{"$f":"BM89+BS89","v":0.01}]
[null,null,{"$f":"C73","v":0},null,null,null,null,null,null,null,null,null,{"$f":"M73","v":{"$error":"#DIV/0!"}},null,null,null,null,null,null,null,null,null,null,null,null,null,null,null,null,{"$f":"F84","v":0},null,{"$f":"AD88/AF88","v":{"$error":"#DIV/0!"}},{"$f":"F87","v":0},null,{"$f":"AG88/AI88","v":{"$error":"#DIV/0!"}},null,null,null,null,{"$f":"MAX(AD90,AG90)","v":0},null,{"$f":"AN88/AP88","v":{"$error":"#DIV/0!"}},null,null,null,null,null,null,null,null,null,null,null,null,null,null,null,null,null,null,null,null,null,{"$f":"P84","v":0},null,{"$f":"BL88/BN88","v":{"$error":"#DIV/0!"}},{"$f":"P87","v":0},null,{"$f":"BO88/BQ88","v":{"$error":"#DIV/0!"}},null,null,null,null,{"$f":"MAX(BL90,BO90)","v":0},null,{"$f":"BV88/BX88","v":{"$error":"#DIV/0!"}}]
[]
[]
[]
[null,null,null,null,null,null,null,null,null,null,null,null,null,null,null,null,null,null,null,null,null,null,null,null,null,null,null,null,null,null,"PtsP1","PtsP2","Total","RepP1","RepP2","Total","Moy"]
[null,null,null,null,null,null,null,null,null,null,null,null,null,null,null,null,null,null,null,null,null,null,null,null,null,null,null,{"$f":"T18","v":{"$error":"#DIV/0!"}},null,null,{"$f":"IF(AB18=AB95,AN18,IF(AB21=AB95,AN21,IF(AB24=AB95,AN24,IF(AB38=AB95,AN38,IF(AB41=AB95,AN41,IF(AB44=AB95,AN44,IF(AB59=AB95,AN59,IF(AB62=AB95,AN62,IF(AB65=AB95,AN65,IF(AB82=AB95,AN82,IF(AB85=AB95,AN85,IF(AB88=AB95,AN88,))))))))))))","v":{"$error":"#DIV/0!"}},{"$f":"IF(BJ18=AB95,BV18,IF(BJ21=AB95,BV21,IF(BJ24=AB95,BV24,IF(BJ38=AB95,BV38,IF(BJ41=AB95,BV41,IF(BJ44=AB95,BV44,IF(BJ59=AB95,BV59,IF(BJ62=AB95,BV62,IF(BJ65=AB95,BV65,IF(BJ82=AB95,BV82,IF(BJ85=AB95,BV85,IF(BJ88=AB95,BV88,))))))))))))","v":{"$error":"#DIV/0!"}},{"$f":"AE95+AF95","v":{"$error":"#DIV/0!"}},{"$f":"IF(AB18=AB95,AP18,IF(AB21=AB95,AP21,IF(AB24=AB95,AP24,IF(AB38=AB95,AP38,IF(AB41=AB95,AP41,IF(AB44=AB95,AP44,IF(AB59=AB95,AP59,IF(AB62=AB95,AP62,IF(AB65=AB95,AP65,IF(AB82=AB95,AP82,IF(AB85=AB95,AP85,IF(AB88=AB95,AP88,))))))))))))","v":{"$error":"#DIV/0!"}},{"$f":"IF(BJ18=AB95,BX18,IF(BJ21=AB95,BX21,IF(BJ24=AB95,BX24,IF(BJ38=AB95,BX38,IF(BJ41=AB95,BX41,IF(BJ44=AB95,BX44,IF(BJ59=AB95,BX59,IF(BJ62=AB95,BX62,IF(BJ65=AB95,BX65,IF(BJ82=AB95,BX82,IF(BJ85=AB95,BX85,IF(BJ88=AB95,BX85,))))))))))))","v":{"$error":"#DIV/0!"}},{"$f":"AH95+AI95","v":{"$error":"#DIV/0!"}},{"$f":"AG95/AJ95","v":{"$error":"#DIV/0!"}}]
[null,null,null,null,null,null,null,null,null,null,null,null,null,null,null,null,null,null,null,null,null,null,null,null,null,null,null,{"$error":"#DIV/0!"},null,null,{"$f":"IF(AB18=AB96,AN18,IF(AB21=AB96,AN21,IF(AB24=AB96,AN24,IF(AB38=AB96,AN38,IF(AB41=AB96,AN41,IF(AB44=AB96,AN44,IF(AB59=AB96,AN59,IF(AB62=AB96,AN62,IF(AB65=AB96,AN65,IF(AB82=AB96,AN82,IF(AB85=AB96,AN85,IF(AB88=AB96,AN88))))))))))))","v":{"$error":"#DIV/0!"}},{"$f":"IF(BJ18=AB96,BV18,IF(BJ21=AB96,BV21,IF(BJ24=AB96,BV24,IF(BJ38=AB96,BV38,IF(BJ41=AB96,BV41,IF(BJ44=AB96,BV44,IF(BJ59=AB96,BV59,IF(BJ62=AB96,BV62,IF(BJ65=AB96,BV65,IF(BJ82=AB96,BV82,IF(BJ85=AB96,BV85,IF(BJ88=AB96,BV88,))))))))))))","v":{"$error":"#DIV/0!"}},{"$f":"AE96+AF96","v":{"$error":"#DIV/0!"}},{"$f":"IF(AB18=AB96,AP18,IF(AB21=AB96,AP21,IF(AB24=AB96,AP24,IF(AB38=AB96,AP38,IF(AB41=AB96,AP41,IF(AB44=AB96,AP44,IF(AB59=AB96,AP59,IF(AB62=AB96,AP62,IF(AB65=AB96,AP65,IF(AB82=AB96,AP82,IF(AB85=AB96,AP85,IF(AB88=AB96,AP88,))))))))))))","v":{"$error":"#DIV/0!"}},{"$f":"IF(BJ18=AB96,BX18,IF(BJ21=AB96,BX21,IF(BJ24=AB96,BX24,IF(BJ38=AB96,BX38,IF(BJ41=AB96,BX41,IF(BJ44=AB96,BX44,IF(BJ59=AB96,BX59,IF(BJ62=AB96,BX62,IF(BJ65=AB96,BX65,IF(BJ82=AB96,BX82,IF(BJ85=AB96,BX85,IF(BJ88=AB96,BX88,))))))))))))","v":{"$error":"#DIV/0!"}},{"$f":"AH96+AI96","v":{"$error":"#DIV/0!"}},{"$f":"AG96/AJ96","v":{"$error":"#DIV/0!"}}]
[null,null,null,null,null,null,null,null,null,null,null,null,null,null,null,null,null,null,null,null,null,null,null,null,null,null,null,{"$error":"#DIV/0!"},null,null,{"$f":"IF(AB18=AB97,AN18,IF(AB21=AB97,AN21,IF(AB24=AB97,AN24,IF(AB38=AB97,AN38,IF(AB41=AB97,AN41,IF(AB44=AB97,AN44,IF(AB59=AB97,AN59,IF(AB62=AB97,AN62,IF(AB65=AB97,AN65,IF(AB82=AB97,AN82,IF(AB85=AB97,AN85,IF(AB88=AB97,AN88))))))))))))","v":{"$error":"#DIV/0!"}},{"$f":"IF(BJ18=AB97,BV18,IF(BJ21=AB97,BV21,IF(BJ24=AB97,BV24,IF(BJ38=AB97,BV38,IF(BJ41=AB97,BV41,IF(BJ44=AB97,BV44,IF(BJ59=AB97,BV59,IF(BJ62=AB97,BV62,IF(BJ65=AB97,BV65,IF(BJ82=AB97,BV82,IF(BJ85=AB97,BV85,IF(BJ88=AB97,BV88,))))))))))))","v":{"$error":"#DIV/0!"}},{"$error":"#DIV/0!"},{"$f":"IF(AB18=AB97,AP18,IF(AB21=AB97,AP21,IF(AB24=AB97,AP24,IF(AB38=AB97,AP38,IF(AB41=AB97,AP41,IF(AB44=AB97,AP44,IF(AB59=AB97,AP59,IF(AB62=AB97,AP62,IF(AB65=AB97,AP65,IF(AB82=AB97,AP82,IF(AB85=AB97,AP85,IF(AB88=AB97,AP88,))))))))))))","v":{"$error":"#DIV/0!"}},{"$f":"IF(BJ18=AB97,BX18,IF(BJ21=AB97,BX21,IF(BJ24=AB97,BX24,IF(BJ38=AB97,BX38,IF(BJ41=AB97,BX41,IF(BJ44=AB97,BX44,IF(BJ59=AB97,BX59,IF(BJ62=AB97,BX62,IF(BJ65=AB97,BX65,IF(BJ82=AB97,BX82,IF(BJ85=AB97,BX85,IF(BJ88=AB97,BX88,))))))))))))","v":{"$error":"#DIV/0!"}},{"$error":"#DIV/0!"},{"$error":"#DIV/0!"}]
[null,null,null,null,null,null,null,null,null,null,null,null,null,null,null,null,null,null,null,null,null,null,null,null,null,null,null,{"$error":"#DIV/0!"},null,null,{"$f":"IF(AB18=AB98,AN18,IF(AB21=AB98,AN21,IF(AB24=AB98,AN24,IF(AB38=AB98,AN38,IF(AB41=AB98,AN41,IF(AB44=AB98,AN44,IF(AB59=AB98,AN59,IF(AB62=AB98,AN62,IF(AB65=AB98,AN65,IF(AB82=AB98,AN82,IF(AB85=AB98,AN85,IF(AB88=AB98,AN88))))))))))))","v":{"$error":"#DIV/0!"}},{"$f":"IF(BJ18=AB98,BV18,IF(BJ21=AB98,BV21,IF(BJ24=AB98,BV24,IF(BJ38=AB98,BV38,IF(BJ41=AB98,BV41,IF(BJ44=AB98,BV44,IF(BJ59=AB98,BV59,IF(BJ62=AB98,BV62,IF(BJ65=AB98,BV65,IF(BJ82=AB98,BV82,IF(BJ85=AB98,BV85,IF(BJ88=AB98,BV88,))))))))))))","v":{"$error":"#DIV/0!"}},{"$error":"#DIV/0!"},{"$f":"IF(AB18=AB98,AP18,IF(AB21=AB98,AP21,IF(AB24=AB98,AP24,IF(AB38=AB98,AP38,IF(AB41=AB98,AP41,IF(AB44=AB98,AP44,IF(AB59=AB98,AP59,IF(AB62=AB98,AP62,IF(AB65=AB98,AP65,IF(AB82=AB98,AP82,IF(AB85=AB98,AP85,IF(AB88=AB98,AP88,))))))))))))","v":{"$error":"#DIV/0!"}},{"$f":"IF(BJ18=AB98,BX18,IF(BJ21=AB98,BX21,IF(BJ24=AB98,BX24,IF(BJ38=AB98,BX38,IF(BJ41=AB98,BX41,IF(BJ44=AB98,BX44,IF(BJ59=AB98,BX59,IF(BJ62=AB98,BX62,IF(BJ65=AB98,BX65,IF(BJ82=AB98,BX82,IF(BJ85=AB98,BX85,IF(BJ88=AB98,BX88,))))))))))))","v":{"$error":"#DIV/0!"}},{"$error":"#DIV/0!"},{"$error":"#DIV/0!"}]
[null,null,null,null,null,null,null,null,null,null,null,null,null,null,null,null,null,null,null,null,null,null,null,null,null,null,null,{"$error":"#DIV/0!"},null,null,{"$f":"IF(AB18=AB99,AN18,IF(AB21=AB99,AN21,IF(AB24=AB99,AN24,IF(AB38=AB99,AN38,IF(AB41=AB99,AN41,IF(AB44=AB99,AN44,IF(AB59=AB99,AN59,IF(AB62=AB99,AN62,IF(AB65=AB99,AN65,IF(AB82=AB99,AN82,IF(AB85=AB99,AN85,IF(AB88=AB99,AN88,))))))))))))","v":{"$error":"#DIV/0!"}},{"$f":"IF(BJ18=AB99,BV18,IF(BJ21=AB99,BV21,IF(BJ24=AB99,BV24,IF(BJ38=AB99,BV38,IF(BJ41=AB99,BV41,IF(BJ44=AB99,BV44,IF(BJ59=AB99,BV59,IF(BJ62=AB99,BV62,IF(BJ65=AB99,BV65,IF(BJ82=AB99,BV82,IF(BJ85=AB99,BV85,IF(BJ88=AB99,BV88,))))))))))))","v":{"$error":"#DIV/0!"}},{"$error":"#DIV/0!"},{"$f":"IF(AB18=AB99,AP18,IF(AB21=AB99,AP21,IF(AB24=AB99,AP24,IF(AB38=AB99,AP38,IF(AB41=AB99,AP41,IF(AB44=AB99,AP44,IF(AB59=AB99,AP59,IF(AB62=AB99,AP62,IF(AB65=AB99,AP65,IF(AB82=AB99,AP82,IF(AB85=AB99,AP85,IF(AB88=AB99,AP88,))))))))))))","v":{"$error":"#DIV/0!"}},{"$f":"IF(BJ18=AB99,BX18,IF(BJ21=AB99,BX21,IF(BJ24=AB99,BX24,IF(BJ38=AB99,BX38,IF(BJ41=AB99,BX41,IF(BJ44=AB99,BX44,IF(BJ59=AB99,BX59,IF(BJ62=AB99,BX62,IF(BJ65=AB99,BX65,IF(BJ82=AB99,BX82,IF(BJ85=AB99,BX85,IF(BJ88=AB99,BX88,))))))))))))","v":{"$error":"#DIV/0!"}},{"$error":"#DIV/0!"},{"$error":"#DIV/0!"}]
[null,null,null,null,null,null,null,null,null,null,null,null,null,null,null,null,null,null,null,null,null,null,null,null,null,null,null,{"$error":"#DIV/0!"},null,null,{"$f":"IF(AB18=AB100,AN18,IF(AB21=AB100,AN21,IF(AB24=AB100,AN24,IF(AB38=AB100,AN38,IF(AB41=AB100,AN41,IF(AB44=AB100,AN44,IF(AB59=AB100,AN59,IF(AB62=AB100,AN62,IF(AB65=AB100,AN65,IF(AB82=AB100,AN82,IF(AB85=AB100,AN85,IF(AB88=AB100,AN88,))))))))))))","v":{"$error":"#DIV/0!"}},{"$f":"IF(BJ18=AB100,BV18,IF(BJ21=AB100,BV21,IF(BJ24=AB100,BV24,IF(BJ38=AB100,BV38,IF(BJ41=AB100,BV41,IF(BJ44=AB100,BV44,IF(BJ59=AB100,BV59,IF(BJ62=AB100,BV62,IF(BJ65=AB100,BV65,IF(BJ82=AB100,BV82,IF(BJ85=AB100,BV85,IF(BJ88=AB100,BV88,))))))))))))","v":{"$error":"#DIV/0!"}},{"$error":"#DIV/0!"},{"$f":"IF(AB18=AB100,AP18,IF(AB21=AB100,AP21,IF(AB24=AB100,AP24,IF(AB38=AB100,AP38,IF(AB41=AB100,AP41,IF(AB44=AB100,AP44,IF(AB59=AB100,AP59,IF(AB62=AB100,AP62,IF(AB65=AB100,AP65,IF(AB82=AB100,AP82,IF(AB85=AB100,AP85,IF(AB88=AB100,AP88,))))))))))))","v":{"$error":"#DIV/0!"}},{"$f":"IF(BJ18=AB100,BX18,IF(BJ21=AB100,BX21,IF(BJ24=AB100,BX24,IF(BJ38=AB100,BX38,IF(BJ41=AB100,BX41,IF(BJ44=AB100,BX44,IF(BJ59=AB100,BX59,IF(BJ62=AB100,BX62,IF(BJ65=AB100,BX65,IF(BJ82=AB100,BX82,IF(BJ85=AB100,BX85,IF(BJ88=AB100,BX88,))))))))))))","v":{"$error":"#DIV/0!"}},{"$error":"#DIV/0!"},{"$error":"#DIV/0!"}]
[null,null,null,null,null,null,null,null,null,null,null,null,null,null,null,null,null,null,null,null,null,null,null,null,null,null,null,{"$error":"#DIV/0!"},null,null,{"$f":"IF(AB18=AB101,AN18,IF(AB21=AB101,AN21,IF(AB24=AB101,AN24,IF(AB38=AB101,AN38,IF(AB41=AB101,AN41,IF(AB44=AB101,AN44,IF(AB59=AB101,AN59,IF(AB62=AB101,AN62,IF(AB65=AB101,AN65,IF(AB82=AB101,AN82,IF(AB85=AB101,AN85,IF(AB88=AB101,AN88,))))))))))))","v":{"$error":"#DIV/0!"}},{"$f":"IF(BJ18=AB101,BV18,IF(BJ21=AB101,BV21,IF(BJ24=AB101,BV24,IF(BJ38=AB101,BV38,IF(BJ41=AB101,BV41,IF(BJ44=AB101,BV44,IF(BJ59=AB101,BV59,IF(BJ62=AB101,BV62,IF(BJ65=AB101,BV65,IF(BJ82=AB101,BV82,IF(BJ85=AB101,BV85,IF(BJ88=AB101,BV88,))))))))))))","v":{"$error":"#DIV/0!"}},{"$error":"#DIV/0!"},{"$f":"IF(AB18=AB101,AP18,IF(AB21=AB101,AP21,IF(AB24=AB101,AP24,IF(AB38=AB101,AP38,IF(AB41=AB101,AP41,IF(AB44=AB101,AP44,IF(AB59=AB101,AP59,IF(AB62=AB101,AP62,IF(AB65=AB101,AP65,IF(AB82=AB101,AP82,IF(AB85=AB101,AP85,IF(AB88=AB101,AP88,))))))))))))","v":{"$error":"#DIV/0!"}},{"$f":"IF(BJ18=AB101,BX18,IF(BJ21=AB101,BX21,IF(BJ24=AB101,BX24,IF(BJ38=AB101,BX38,IF(BJ41=AB101,BX41,IF(BJ44=AB101,BX44,IF(BJ59=AB101,BX59,IF(BJ62=AB101,BX62,IF(BJ65=AB101,BX65,IF(BJ82=AB101,BX82,IF(BJ85=AB101,BX85,IF(BJ88=AB101,BX88,))))))))))))","v":{"$error":"#DIV/0!"}},{"$error":"#DIV/0!"},{"$error":"#DIV/0!"}]
[null,null,null,null,null,null,null,null,null,null,null,null,null,null,null,null,null,null,null,null,null,null,null,null,null,null,null,{"$error":"#DIV/0!"},null,null,{"$f":"IF(AB18=AB102,AN18,IF(AB21=AB102,AN21,IF(AB24=AB102,AN24,IF(AB38=AB102,AN38,IF(AB41=AB102,AN41,IF(AB44=AB102,AN44,IF(AB59=AB102,AN59,IF(AB62=AB102,AN62,IF(AB65=AB102,AN65,IF(AB82=AB102,AN82,IF(AB85=AB102,AN85,IF(AB88=AB102,AN88,))))))))))))","v":{"$error":"#DIV/0!"}},{"$f":"IF(BJ18=AB102,BV18,IF(BJ21=AB102,BV21,IF(BJ24=AB102,BV24,IF(BJ38=AB102,BV38,IF(BJ41=AB102,BV41,IF(BJ44=AB102,BV44,IF(BJ59=AB102,BV59,IF(BJ62=AB102,BV62,IF(BJ65=AB102,BV65,IF(BJ82=AB102,BV82,IF(BJ85=AB102,BV85,IF(BJ88=AB102,BV88,))))))))))))","v":{"$error":"#DIV/0!"}},{"$error":"#DIV/0!"},{"$f":"IF(AB18=AB102,AP18,IF(AB21=AB102,AP21,IF(AB24=AB102,AP24,IF(AB38=AB102,AP38,IF(AB41=AB102,AP41,IF(AB44=AB102,AP44,IF(AB59=AB102,AP59,IF(AB62=AB102,AP62,IF(AB65=AB102,AP65,IF(AB82=AB102,AP82,IF(AB85=AB102,AP85,IF(AB88=AB102,AP88,))))))))))))","v":{"$error":"#DIV/0!"}},{"$f":"IF(BJ18=AB102,BX18,IF(BJ21=AB102,BX21,IF(BJ24=AB102,BX24,IF(BJ38=AB102,BX38,IF(BJ41=AB102,BX41,IF(BJ44=AB102,BX44,IF(BJ59=AB102,BX59,IF(BJ62=AB102,BX62,IF(BJ65=AB102,BX65,IF(BJ82=AB102,BX82,IF(BJ85=AB102,BX85,IF(BJ88=AB102,BX88,))))))))))))","v":{"$error":"#DIV/0!"}},{"$error":"#DIV/0!"},{"$error":"#DIV/0!"}]
[null,null,null,null,null,null,null,null,null,null,null,null,null,null,null,null,null,null,null,null,null,null,null,null,null,null,null,{"$error":"#DIV/0!"},null,null,{"$f":"IF(AB18=AB103,AN18,IF(AB21=AB103,AN21,IF(AB24=AB103,AN24,IF(AB38=AB103,AN38,IF(AB41=AB103,AN41,IF(AB44=AB103,AN44,IF(AB59=AB103,AN59,IF(AB62=AB103,AN62,IF(AB65=AB103,AN65,IF(AB82=AB103,AN82,IF(AB85=AB103,AN85,IF(AB88=AB103,AN88,))))))))))))","v":{"$error":"#DIV/0!"}},{"$f":"IF(BJ18=AB103,BV18,IF(BJ21=AB103,BV21,IF(BJ24=AB103,BV24,IF(BJ38=AB103,BV38,IF(BJ41=AB103,BV41,IF(BJ44=AB103,BV44,IF(BJ59=AB103,BV59,IF(BJ62=AB103,BV62,IF(BJ65=AB103,BV65,IF(BJ82=AB103,BV82,IF(BJ85=AB103,BV85,IF(BJ88=AB103,BV88,))))))))))))","v":{"$error":"#DIV/0!"}},{"$error":"#DIV/0!"},{"$f":"IF(AB18=AB103,AP18,IF(AB21=AB103,AP21,IF(AB24=AB103,AP24,IF(AB38=AB103,AP38,IF(AB41=AB103,AP41,IF(AB44=AB103,AP44,IF(AB59=AB103,AP59,IF(AB62=AB103,AP62,IF(AB65=AB103,AP65,IF(AB82=AB103,AP82,IF(AB85=AB103,AP85,IF(AB88=AB103,AP88,))))))))))))","v":{"$error":"#DIV/0!"}},{"$f":"IF(BJ18=AB103,BX18,IF(BJ21=AB103,BX21,IF(BJ24=AB103,BX24,IF(BJ38=AB103,BX38,IF(BJ41=AB103,BX41,IF(BJ44=AB103,BX44,IF(BJ59=AB103,BX59,IF(BJ62=AB103,BX62,IF(BJ65=AB103,BX65,IF(BJ82=AB103,BX82,IF(BJ85=AB103,BX85,IF(BJ88=AB103,BX88,))))))))))))","v":{"$error":"#DIV/0!"}},{"$error":"#DIV/0!"},{"$error":"#DIV/0!"}]
[null,null,null,null,null,null,null,null,null,null,null,null,null,null,null,null,null,null,null,null,null,null,null,null,null,null,null,{"$error":"#DIV/0!"},null,null,{"$f":"IF(AB18=AB104,AN18,IF(AB21=AB104,AN21,IF(AB24=AB104,AN24,IF(AB38=AB104,AN38,IF(AB41=AB104,AN41,IF(AB44=AB104,AN44,IF(AB59=AB104,AN59,IF(AB62=AB104,AN62,IF(AB65=AB104,AN65,IF(AB82=AB104,AN82,IF(AB85=AB104,AN85,IF(AB88=AB104,AN88,))))))))))))","v":{"$error":"#DIV/0!"}},{"$f":"IF(BJ18=AB104,BV18,IF(BJ21=AB104,BV21,IF(BJ24=AB104,BV24,IF(BJ38=AB104,BV38,IF(BJ41=AB104,BV41,IF(BJ44=AB104,BV44,IF(BJ59=AB104,BV59,IF(BJ62=AB104,BV62,IF(BJ65=AB104,BV65,IF(BJ82=AB104,BV82,IF(BJ85=AB104,BV85,IF(BJ88=AB104,BV88,))))))))))))","v":{"$error":"#DIV/0!"}},{"$error":"#DIV/0!"},{"$f":"IF(AB18=AB104,AP18,IF(AB21=AB104,AP21,IF(AB24=AB104,AP24,IF(AB38=AB104,AP38,IF(AB41=AB104,AP41,IF(AB44=AB104,AP44,IF(AB59=AB104,AP59,IF(AB62=AB104,AP62,IF(AB65=AB104,AP65,IF(AB82=AB104,AP82,IF(AB85=AB104,AP85,IF(AB88=AB104,AP88,))))))))))))","v":{"$error":"#DIV/0!"}},{"$f":"IF(BJ18=AB104,BX18,IF(BJ21=AB104,BX21,IF(BJ24=AB104,BX24,IF(BJ38=AB104,BX38,IF(BJ41=AB104,BX41,IF(BJ44=AB104,BX44,IF(BJ59=AB104,BX59,IF(BJ62=AB104,BX62,IF(BJ65=AB104,BX65,IF(BJ82=AB104,BX82,IF(BJ85=AB104,BX85,IF(BJ88=AB104,BX88,))))))))))))","v":{"$error":"#DIV/0!"}},{"$error":"#DIV/0!"},{"$error":"#DIV/0!"}]
[null,null,null,null,null,null,null,null,null,null,null,null,null,null,null,null,null,null,null,null,null,null,null,null,null,null,null,{"$error":"#DIV/0!"},null,null,{"$f":"IF(AB18=AB105,AN18,IF(AB21=AB105,AN21,IF(AB24=AB105,AN24,IF(AB38=AB105,AN38,IF(AB41=AB105,AN41,IF(AB44=AB105,AN44,IF(AB59=AB105,AN59,IF(AB62=AB105,AN62,IF(AB65=AB105,AN65,IF(AB82=AB105,AN82,IF(AB85=AB105,AN85,IF(AB88=AB105,AN88,))))))))))))","v":{"$error":"#DIV/0!"}},{"$f":"IF(BJ18=AB105,BV18,IF(BJ21=AB105,BV21,IF(BJ24=AB105,BV24,IF(BJ38=AB105,BV38,IF(BJ41=AB105,BV41,IF(BJ44=AB105,BV44,IF(BJ59=AB105,BV59,IF(BJ62=AB105,BV62,IF(BJ65=AB105,BV65,IF(BJ82=AB105,BV82,IF(BJ85=AB105,BV85,IF(BJ88=AB105,BV88,))))))))))))","v":{"$error":"#DIV/0!"}},{"$error":"#DIV/0!"},{"$f":"IF(AB18=AB105,AP18,IF(AB21=AB105,AP21,IF(AB24=AB105,AP24,IF(AB38=AB105,AP38,IF(AB41=AB105,AP41,IF(AB44=AB105,AP44,IF(AB59=AB105,AP59,IF(AB62=AB105,AP62,IF(AB65=AB105,AP65,IF(AB82=AB105,AP82,IF(AB85=AB105,AP85,IF(AB88=AB105,AP88,))))))))))))","v":{"$error":"#DIV/0!"}},{"$f":"IF(BJ18=AB105,BX18,IF(BJ21=AB105,BX21,IF(BJ24=AB105,BX24,IF(BJ38=AB105,BX38,IF(BJ41=AB105,BX41,IF(BJ44=AB105,BX44,IF(BJ59=AB105,BX59,IF(BJ62=AB105,BX62,IF(BJ65=AB105,BX65,IF(BJ82=AB105,BX82,IF(BJ85=AB105,BX85,IF(BJ88=AB105,BX88,))))))))))))","v":{"$error":"#DIV/0!"}},{"$error":"#DIV/0!"},{"$error":"#DIV/0!"}]
[null,null,null,null,null,null,null,null,null,null,null,null,null,null,null,null,null,null,null,null,null,null,null,null,null,null,null,{"$error":"#DIV/0!"},null,null,{"$f":"IF(AB18=AB106,AN18,IF(AB21=AB106,AN21,IF(AB24=AB106,AN24,IF(AB38=AB106,AN38,IF(AB41=AB106,AN41,IF(AB44=AB106,AN44,IF(AB59=AB106,AN59,IF(AB62=AB106,AN62,IF(AB65=AB106,AN65,IF(AB82=AB106,AN82,IF(AB85=AB106,AN85,IF(AB88=AB106,AN88,))))))))))))","v":{"$error":"#DIV/0!"}},{"$f":"IF(BJ18=AB106,BV18,IF(BJ21=AB106,BV21,IF(BJ24=AB106,BV24,IF(BJ38=AB106,BV38,IF(BJ41=AB106,BV41,IF(BJ44=AB106,BV44,IF(BJ59=AB106,BV59,IF(BJ62=AB106,BV62,IF(BJ65=AB106,BV65,IF(BJ82=AB106,BV82,IF(BJ85=AB106,BV85,IF(BJ88=AB106,BV88,))))))))))))","v":{"$error":"#DIV/0!"}},{"$f":"AE106+AF106","v":{"$error":"#DIV/0!"}},{"$f":"IF(AB18=AB106,AP18,IF(AB21=AB106,AP21,IF(AB24=AB106,AP24,IF(AB38=AB106,AP38,IF(AB41=AB106,AP41,IF(AB44=AB106,AP44,IF(AB59=AB106,AP59,IF(AB62=AB106,AP62,IF(AB65=AB106,AP65,IF(AB82=AB106,AP82,IF(AB85=AB106,AP85,IF(AB88=AB106,AP88,))))))))))))","v":{"$error":"#DIV/0!"}},{"$f":"IF(BJ18=AB106,BX18,IF(BJ21=AB106,BX21,IF(BJ24=AB106,BX24,IF(BJ38=AB106,BX38,IF(BJ41=AB106,BX41,IF(BJ44=AB106,BX44,IF(BJ59=AB106,BX59,IF(BJ62=AB106,BX62,IF(BJ65=AB106,BX65,IF(BJ82=AB106,BX82,IF(BJ85=AB106,BX85,IF(BJ88=AB106,BX88,))))))))))))","v":{"$error":"#DIV/0!"}},{"$f":"AH106+AI106","v":{"$error":"#DIV/0!"}},{"$f":"AG106/AJ106","v":{"$error":"#DIV/0!"}}]

{"sheet":"13JOUEURS","index":24,"n_rows":129,"n_cols":48,"rows_kept":129,"cut":false,"hidden":true,"merged":[[118,45,120,45],[118,46,120,46],[118,47,120,47],[121,1,122,1],[121,4,122,4],[118,37,120,37],[118,38,120,38],[118,39,120,39],[118,40,120,40],[118,41,120,41],[124,1,125,1],[124,4,125,4],[127,1,128,1],[127,4,128,4],[118,43,120,43],[118,44,120,44],[118,42,120,42],[118,1,119,1],[118,4,119,4],[118,10,120,11],[118,21,120,23],[118,28,120,29],[118,36,120,36],[115,46,117,46],[115,47,117,47],[112,46,114,46],[112,47,114,47],[115,1,116,1],[115,4,116,4],[115,10,117,11],[115,18,117,20],[115,28,117,29],[112,37,114,37],[112,38,114,38],[112,39,114,39],[112,1,113,1],[112,4,113,4],[112,10,114,11],[112,15,114,17],[112,28,114,29],[112,36,114,36],[115,36,117,36],[115,37,117,37],[115,38,117,38],[115,39,117,39],[115,40,117,40],[115,41,117,41],[112,43,114,43],[112,44,114,44],[112,45,114,45],[112,40,114,40],[112,41,114,41],[112,42,114,42],[109,44,111,44],[109,45,111,45],[115,45,117,45],[115,42,117,42],[115,43,117,43],[115,44,117,44],[109,46,111,46],[109,47,111,47],[109,41,111,41],[109,42,111,42],[109,43,111,43],[105,18,108,20],[105,21,108,23],[105,25,108,27],[105,28,108,29],[107,36,107,37],[107,38,107,39],[107,40,107,41],[107,42,107,43],[107,44,107,45],[107,47,108,47],[109,38,111,38],[109,39,111,39],[109,40,111,40],[108,2,109,5],[109,10,111,11],[109,12,111,14],[109,28,111,29],[109,36,111,36],[109,37,111,37],[102,2,102,5],[105,1,106,5],[105,10,108,11],[105,12,108,14],[105,15,108,17],[93,1,94,1],[93,4,94,4],[96,1,97,1],[96,4,97,4],[99,2,99,5],[84,1,85,1],[84,4,85,4],[84,10,86,11],[84,18,86,20],[101,2,101,5],[100,2,100,5],[84,45,86,45],[84,46,86,46],[84,34,86,34],[84,36,86,36],[84,37,86,37],[84,38,86,38],[84,39,86,39],[84,40,86,40],[84,47,86,47],[87,1,88,1],[87,4,88,4],[88,12,88,34],[90,1,91,1],[90,4,91,4],[84,41,86,41],[84,42,86,42],[84,43,86,43],[84,44,86,44],[84,27,86,29],[81,37,83,37],[81,38,83,38],[78,47,80,47],[81,1,82,1],[81,4,82,4],[81,10,83,11],[81,15,83,17],[81,24,83,26],[81,34,83,34],[81,36,83,36],[81,45,83,45],[81,46,83,46],[81,47,83,47],[81,41,83,41],[81,42,83,42],[81,39,83,39],[81,40,83,40],[78,40,80,40],[78,41,80,41],[78,42,80,42],[78,43,80,43],[78,44,80,44],[81,43,83,43],[81,44,83,44],[74,1,75,5],[74,12,77,14],[74,15,77,17],[74,18,77,20],[74,21,77,23],[74,24,77,26],[74,27,77,29],[78,37,80,37],[78,38,80,38],[74,31,77,33],[74,34,77,34],[75,10,77,11],[76,36,76,37],[76,38,76,39],[78,39,80,39],[76,43,76,44],[76,46,77,46],[77,2,78,5],[78,10,80,11],[78,12,80,14],[78,21,80,23],[78,34,80,34],[78,36,80,36],[76,41,76,42],[78,45,80,45],[78,46,80,46],[72,12,72,20],[72,21,72,29],[53,42,55,42],[53,43,55,43],[53,44,55,44],[53,45,55,45],[56,1,57,1],[56,4,57,4],[57,12,57,34],[59,1,60,1],[59,4,60,4],[62,1,63,1],[62,4,63,4],[65,1,66,1],[65,4,66,4],[68,2,68,5],[69,2,69,5],[70,2,70,5],[71,2,71,5],[53,46,55,46],[53,47,55,47],[53,36,55,36],[53,37,55,37],[53,38,55,38],[53,39,55,39],[53,40,55,40],[53,41,55,41],[53,1,54,1],[53,4,54,4],[53,10,55,11],[53,18,55,20],[53,27,55,29],[53,34,55,34],[50,47,52,47],[50,36,52,36],[50,37,52,37],[50,38,52,38],[50,39,52,39],[50,40,52,40],[50,41,52,41],[50,42,52,42],[50,43,52,43],[50,44,52,44],[50,45,52,45],[47,39,49,39],[47,40,49,40],[47,41,49,41],[47,42,49,42],[47,43,49,43],[47,44,49,44],[47,45,49,45],[47,46,49,46],[50,46,52,46],[47,47,49,47],[50,1,51,1],[50,4,51,4],[50,10,52,11],[50,15,52,17],[50,24,52,26],[50,34,52,34],[43,27,46,29],[43,31,46,33],[43,34,46,34],[44,10,46,11],[45,36,45,37],[45,38,45,39],[45,41,45,42],[45,43,45,44],[45,46,46,46],[46,2,47,5],[47,10,49,11],[47,12,49,14],[47,21,49,23],[47,34,49,34],[47,36,49,36],[47,37,49,37],[47,38,49,38],[39,2,39,5],[40,2,40,5],[41,12,41,20],[41,21,41,29],[43,1,44,5],[43,12,46,14],[43,15,46,17],[43,18,46,20],[43,21,46,23],[43,24,46,26],[37,2,37,5],[38,2,38,5],[22,47,24,47],[25,1,26,1],[25,4,26,4],[26,12,26,34],[28,1,29,1],[28,4,29,4],[22,41,24,41],[22,42,24,42],[22,43,24,43],[22,44,24,44],[22,45,24,45],[22,46,24,46],[22,34,24,34],[22,36,24,36],[22,37,24,37],[22,38,24,38],[22,39,24,39],[22,40,24,40],[19,38,21,38],[19,39,21,39],[19,40,21,40],[31,1,32,1],[31,4,32,4],[34,1,35,1],[34,4,35,4],[22,1,23,1],[22,4,23,4],[22,10,24,11],[22,18,24,20],[22,27,24,29],[19,37,21,37],[19,1,20,1],[19,4,20,4],[19,10,21,11],[19,15,21,17],[19,24,21,26],[19,34,21,34],[19,36,21,36],[19,43,21,43],[19,44,21,44],[19,45,21,45],[19,46,21,46],[19,47,21,47],[19,41,21,41],[19,42,21,42],[16,39,18,39],[16,40,18,40],[16,41,18,41],[16,42,18,42],[16,43,18,43],[16,44,18,44],[16,45,18,45],[16,46,18,46],[16,47,18,47],[12,31,15,33],[12,34,15,34],[13,10,15,11],[14,36,14,37],[14,38,14,39],[14,41,14,42],[14,43,14,44],[14,46,15,46],[15,2,16,5],[16,10,18,11],[16,12,18,14],[16,21,18,23],[16,34,18,34],[16,36,18,36],[16,37,18,37],[16,38,18,38],[6,2,6,5],[7,2,7,5],[8,2,8,5],[9,2,9,5],[10,12,10,20],[10,21,10,29],[1,1,3,13],[12,1,13,5],[12,12,15,14],[12,15,15,17],[12,18,15,20],[12,21,15,23],[12,24,15,26],[12,27,15,29]]}
[]
[null,"LIGUE MÉDITERRANÉENNE DE BILLARD"]
[]
[]
[]
[]
[null,"Joueur 1",{"$f":"'Saisie des joueurs'!L18","v":0}]
[null,"Joueur 2",{"$f":"'Saisie des joueurs'!L25","v":0}]
[null,"Joueur 3",{"$f":"'Saisie des joueurs'!L26","v":0}]
[]
[null,null,null,null,null,null,null,null,null,null,null,null,"MATCH ALLER",null,null,null,null,null,null,null,null,"MATCH RETOUR"]
[]
[null,"SAISIE DES RESULTATS",null,null,null,null,null,null,null,null,null,null,{"$f":"C7","v":0},null,null,{"$f":"C8","v":0},null,null,{"$f":"C9","v":0},null,null,{"$f":"C7","v":0},null,null,{"$f":"C8","v":0},null,null,{"$f":"C9","v":0},null,null,null,"TOTAUX",null,null,"CLASSEMENT"]
[]
[null,null,null,null,null,null,null,null,null,null,null,null,null,null,null,null,null,null,null,null,null,null,null,null,null,null,null,null,null,null,null,null,null,null,null,null,"Classement",null,"Classement",null,"Classement","Classement",null,"Classement",null,"GENERAL","RANG"]
[null,null,"POULE A",null,null,null,null,null,null,null,null,null,null,null,null,null,null,null,null,null,null,null,null,null,null,null,null,null,null,null,null,null,null,null,null,null,"Point-Match","CLS-M","Moy-Gen","CLS-G","Moy-Part","M-Series","CLS-S","MGPS","CLS","CLS"]
[null,null,null,null,null,null,null,null,null,null,{"$f":"C7","v":0},null,"L",null,null,{"$f":"D26","v":0},null,{"$f":"E26","v":0},{"$f":"D20","v":0},null,{"$f":"E20","v":0},"L",null,null,{"$f":"D35","v":0},null,{"$f":"E35","v":0},{"$f":"D29","v":0},null,{"$f":"E29","v":0},null,{"$f":"P17+S17+Y17+AB17","v":0},null,{"$f":"R17+U17+AA17+AD17","v":0},{"$f":"AU17","v":{"$error":"#DIV/0!"}},null,{"$f":"AG18","v":0.04},{"$f":"RANK(AK17,AK$17:AK$25,0)","v":1},{"$f":"AH19","v":{"$error":"#DIV/0!"}},{"$f":"RANK(AM17,AM$17:AM$25,0)","v":{"$error":"#DIV/0!"}},{"$f":"MAX(R19,U19,AA19,AD19)","v":{"$error":"#DIV/0!"}},{"$f":"RANK(AO17,AO$17:AO$25)","v":{"$error":"#DIV/0!"}},{"$f":"AF19","v":0},{"$f":"RANK(AQ17,AQ$17:AQ$25)","v":1},{"$f":"(AL17*1000)+(AN17*100)+(AP17*10)+(AR17*1)","v":{"$error":"#DIV/0!"}},{"$f":"AS17","v":{"$error":"#DIV/0!"}},{"$f":"RANK(AT17,AT$17:AT$25,1)","v":{"$error":"#DIV/0!"}},{"$f":"RANK(AU17,AU$17:AU$25,1)","v":{"$error":"#DIV/0!"}}]
[null,null,null,null,null,null,null,null,null,null,null,null,null,null,null,null,{"$f":"IF(R17<1,0.01,IF(P17>M20,2,IF(P17=M20,1,0)))","v":0.01},null,null,{"$f":"IF(U17<1,0.01,IF(S17>M23,2,IF(S17=M23,1,0)))","v":0.01},null,null,null,null,null,{"$f":"IF(AA17<1,0.01,IF(Y17>V20,2,IF(Y17=V20,1,0)))","v":0.01},null,null,{"$f":"IF(AD17<1,0.01,IF(AB17>V23,2,IF(AB17=V23,1,0)))","v":0.01},null,null,null,{"$f":"Q18+T18+Z18+AC18","v":0.04}]
[null,null,null,"Pts","Rep","Série",null,null,null,null,null,null,null,null,null,{"$f":"F26","v":0},null,{"$f":"P17/R17","v":{"$error":"#DIV/0!"}},{"$f":"F20","v":0},null,{"$f":"S17/U17","v":{"$error":"#DIV/0!"}},null,null,null,{"$f":"F35","v":0},null,{"$f":"Y17/AA17","v":{"$error":"#DIV/0!"}},{"$f":"F29","v":0},null,{"$f":"AB17/AD17","v":{"$error":"#DIV/0!"}},null,{"$f":"MAX(P19,S19,Y19,AB19)","v":0},null,{"$f":"AF17/AH17","v":{"$error":"#DIV/0!"}}]
[null,"Tour 1\nMatch aller",{"$f":"C7","v":0},null,null,null,null,null,null,null,{"$f":"C8","v":0},null,{"$f":"D27","v":0},null,{"$f":"E26","v":0},"M",null,null,{"$f":"D23","v":0},null,{"$f":"E23","v":0},{"$f":"D36","v":0},null,{"$f":"E35","v":0},"M",null,null,{"$f":"D32","v":0},null,{"$f":"E32","v":0},null,{"$f":"M20+S20+V20+AB20","v":0},null,{"$f":"O20+U20+X20+AD20","v":0},{"$f":"AU20","v":{"$error":"#DIV/0!"}},null,{"$f":"AG21","v":0.04},{"$f":"RANK(AK20,AK$17:AK$25,0)","v":1},{"$f":"AH22","v":{"$error":"#DIV/0!"}},{"$f":"RANK(AM20,AM$17:AM$25,0)","v":{"$error":"#DIV/0!"}},{"$f":"MAX(R22,U22,AA22,AD22)","v":{"$error":"#DIV/0!"}},{"$f":"RANK(AO20,AO$17:AO$25)","v":{"$error":"#DIV/0!"}},{"$f":"AF22","v":0},{"$f":"RANK(AQ20,AQ$17:AQ$25)","v":1},{"$f":"(AL20*1000)+(AN20*100)+(AP20*10)+(AR20*1)","v":{"$error":"#DIV/0!"}},{"$f":"AS20","v":{"$error":"#DIV/0!"}},{"$f":"RANK(AT20,AT$17:AT$25,1)","v":{"$error":"#DIV/0!"}},{"$f":"RANK(AU20,AU$17:AU$25,1)","v":{"$error":"#DIV/0!"}}]
[null,null,{"$f":"C9","v":0},null,null,null,null,null,null,null,null,null,null,{"$f":"IF(R17>0,2-Q18,0.01)","v":0.01},null,null,null,null,null,{"$f":"IF(U20<1,0.01,IF(S20>P23,2,IF(S20=P23,1,0)))","v":0.01},null,null,{"$f":"IF(AA17>0,2-Z18,0.01)","v":0.01},null,null,null,null,null,{"$f":"IF(AD20<1,0.01,IF(AB20>Y23,2,IF(AB20=Y23,1,0)))","v":0.01},null,null,null,{"$f":"N21+T21+W21+AC21","v":0.04}]
[null,null,null,null,null,null,null,null,null,null,null,null,{"$f":"F27","v":0},null,{"$f":"M20/O20","v":{"$error":"#DIV/0!"}},null,null,null,{"$f":"F23","v":0},null,{"$f":"S20/U20","v":{"$error":"#DIV/0!"}},{"$f":"F36","v":0},null,{"$f":"V20/X20","v":{"$error":"#DIV/0!"}},null,null,null,{"$f":"F32","v":0},null,{"$f":"AB20/AD20","v":{"$error":"#DIV/0!"}},null,{"$f":"MAXA(M22,S22,V22,AB22)","v":0},null,{"$f":"AF20/AH20","v":{"$error":"#DIV/0!"}}]
[null,"Tour 2\nMatch aller",{"$f":"C8","v":0},null,null,null,null,null,null,null,{"$f":"C9","v":0},null,{"$f":"D21","v":0},null,{"$f":"E20","v":0},{"$f":"D24","v":0},null,{"$f":"E23","v":0},"B",null,null,{"$f":"D30","v":0},null,{"$f":"E29","v":0},{"$f":"D33","v":0},null,{"$f":"E32","v":0},"B",null,null,null,{"$f":"M23+P23+V23+Y23","v":0},null,{"$f":"O23+R23+X23+AA23","v":0},{"$f":"AU23","v":{"$error":"#DIV/0!"}},null,{"$f":"AG24","v":0.04},{"$f":"RANK(AK23,AK$17:AK$25,0)","v":1},{"$f":"AH25","v":{"$error":"#DIV/0!"}},{"$f":"RANK(AM23,AM$17:AM$25,0)","v":{"$error":"#DIV/0!"}},{"$f":"MAX(R25,U25,AA25,AD25)","v":{"$error":"#DIV/0!"}},{"$f":"RANK(AO23,AO$17:AO$25)","v":{"$error":"#DIV/0!"}},{"$f":"AF25","v":0},{"$f":"RANK(AQ23,AQ$17:AQ$25)","v":1},{"$f":"(AL23*1000)+(AN23*100)+(AP23*10)+(AR23*1)","v":{"$error":"#DIV/0!"}},{"$f":"AS23","v":{"$error":"#DIV/0!"}},{"$f":"RANK(AT23,AT$17:AT$25,1)","v":{"$error":"#DIV/0!"}},{"$f":"RANK(AU23,AU$17:AU$25,1)","v":{"$error":"#DIV/0!"}}]
[null,null,{"$f":"C9","v":0},null,null,null,null,null,null,null,null,null,null,{"$f":"IF(U17>0,2-T18,0.01)","v":0.01},null,null,{"$f":"IF(U20>0,2-T21,0.01)","v":0.01},null,null,null,null,null,{"$f":"IF(AD17>0,2-AC18,0.01)","v":0.01},null,null,{"$f":"IF(AD20>0,2-AC21,0.01)","v":0.01},null,null,null,null,null,null,{"$f":"N24+Q24+W24+Z24","v":0.04}]
[null,null,null,null,null,null,null,null,null,null,null,null,{"$f":"F21","v":0},null,{"$f":"M23/O23","v":{"$error":"#DIV/0!"}},{"$f":"F24","v":0},null,{"$f":"P23/R23","v":{"$error":"#DIV/0!"}},null,null,null,{"$f":"F30","v":0},null,{"$f":"V23/X23","v":{"$error":"#DIV/0!"}},{"$f":"F33","v":0},null,{"$f":"Y23/AA23","v":{"$error":"#DIV/0!"}},null,null,null,null,{"$f":"MAXA(M25,P25,V25,Y25)","v":0},null,{"$f":"AF23/AH23","v":{"$error":"#DIV/0!"}}]
[null,"Tour 3\nMatch aller",{"$f":"C7","v":0}]
[null,null,{"$f":"C8","v":0},null,null,null,null,null,null,null,null,null,"Pas de prolongation en cas de match nul."]
[]
[null,"Tour 1\nMatch retour",{"$f":"C7","v":0}]
[null,null,{"$f":"C9","v":0}]
[]
[null,"Tour 2\nMatch retour",{"$f":"C8","v":0}]
[null,null,{"$f":"C9","v":0}]
[]
[null,"Tour 3\nMatch retour",{"$f":"C7","v":0}]
[null,null,{"$f":"C8","v":0}]
[]
[null,"Joueur 1",{"$f":"'Saisie des joueurs'!L19","v":0}]
[null,"Joueur 2",{"$f":"'Saisie des joueurs'!L24","v":0}]
[null,"Joueur 3",{"$f":"'Saisie des joueurs'!L27","v":0}]
[]
[null,null,null,null,null,null,null,null,null,null,null,null,"MATCH ALLER",null,null,null,null,null,null,null,null,"MATCH RETOUR"]
[]
[null,"SAISIE DES RESULTATS",null,null,null,null,null,null,null,null,null,null,{"$f":"C38","v":0},null,null,{"$f":"C39","v":0},null,null,{"$f":"C40","v":0},null,null,{"$f":"C38","v":0},null,null,{"$f":"C39","v":0},null,null,{"$f":"C40","v":0},null,null,null,"TOTAUX",null,null,"CLASSEMENT"]
[]
[null,null,null,null,null,null,null,null,null,null,null,null,null,null,null,null,null,null,null,null,null,null,null,null,null,null,null,null,null,null,null,null,null,null,null,null,"Classement",null,"Classement",null,"Classement","Classement",null,"Classement",null,"GENERAL","RANG"]
[null,null,"POULE B",null,null,null,null,null,null,null,null,null,null,null,null,null,null,null,null,null,null,null,null,null,null,null,null,null,null,null,null,null,null,null,null,null,"Point-Match","CLS-M","Moy-Gen","CLS-G","Moy-Part","M-Series","CLS-S","MGPS","CLS","CLS"]
[null,null,null,null,null,null,null,null,null,null,{"$f":"C38","v":0},null,"L",null,null,{"$f":"D57","v":0},null,{"$f":"E57","v":0},{"$f":"D51","v":0},null,{"$f":"E51","v":0},"L",null,null,{"$f":"D66","v":0},null,{"$f":"E66","v":0},{"$f":"D60","v":0},null,{"$f":"E60","v":0},null,{"$f":"P48+S48+Y48+AB48","v":0},null,{"$f":"R48+U48+AA48+AD48","v":0},{"$f":"AU48","v":{"$error":"#DIV/0!"}},null,{"$f":"AG49","v":0.04},{"$f":"RANK(AK48,AK$48:AK$56,0)","v":1},{"$f":"AH50","v":{"$error":"#DIV/0!"}},{"$f":"RANK(AM48,AM$48:AM$56,0)","v":{"$error":"#DIV/0!"}},{"$f":"MAX(R50,U50,AA50,AD50)","v":{"$error":"#DIV/0!"}},{"$f":"RANK(AO48,AO$48:AO$56)","v":{"$error":"#DIV/0!"}},{"$f":"AF50","v":0},{"$f":"RANK(AQ48,AQ$48:AQ$56)","v":1},{"$f":"(AL48*1000)+(AN48*100)+(AP48*10)+(AR48*1)","v":{"$error":"#DIV/0!"}},{"$f":"AS48","v":{"$error":"#DIV/0!"}},{"$f":"RANK(AT48,AT$48:AT$56,1)","v":{"$error":"#DIV/0!"}},{"$f":"RANK(AU48,AU$48:AU$56,1)","v":{"$error":"#DIV/0!"}}]
[null,null,null,null,null,null,null,null,null,null,null,null,null,null,null,null,{"$f":"IF(R48<1,0.01,IF(P48>M51,2,IF(P48=M51,1,0)))","v":0.01},null,null,{"$f":"IF(U48<1,0.01,IF(S48>M54,2,IF(S48=M54,1,0)))","v":0.01},null,null,null,null,null,{"$f":"IF(AA48<1,0.01,IF(Y48>V51,2,IF(Y48=V51,1,0)))","v":0.01},null,null,{"$f":"IF(AD48<1,0.01,IF(AB48>V54,2,IF(AB48=V54,1,0)))","v":0.01},null,null,null,{"$f":"Q49+T49+Z49+AC49","v":0.04}]
[null,null,null,"Pts","Rep","Série",null,null,null,null,null,null,null,null,null,{"$f":"F57","v":0},null,{"$f":"P48/R48","v":{"$error":"#DIV/0!"}},{"$f":"F51","v":0},null,{"$f":"S48/U48","v":{"$error":"#DIV/0!"}},null,null,null,{"$f":"F66","v":0},null,{"$f":"Y48/AA48","v":{"$error":"#DIV/0!"}},{"$f":"F60","v":0},null,{"$f":"AB48/AD48","v":{"$error":"#DIV/0!"}},null,{"$f":"MAX(P50,S50,Y50,AB50)","v":0},null,{"$f":"AF48/AH48","v":{"$error":"#DIV/0!"}}]
[null,"Tour 1\nMatch aller",{"$f":"C38","v":0},null,null,null,null,null,null,null,{"$f":"C39","v":0},null,{"$f":"D58","v":0},null,{"$f":"E57","v":0},"M",null,null,{"$f":"D54","v":0},null,{"$f":"E54","v":0},{"$f":"D67","v":0},null,{"$f":"E66","v":0},"M",null,null,{"$f":"D63","v":0},null,{"$f":"E63","v":0},null,{"$f":"M51+S51+V51+AB51","v":0},null,{"$f":"O51+U51+X51+AD51","v":0},{"$f":"AU51","v":{"$error":"#DIV/0!"}},null,{"$f":"AG52","v":0.04},{"$f":"RANK(AK51,AK$48:AK$56,0)","v":1},{"$f":"AH53","v":{"$error":"#DIV/0!"}},{"$f":"RANK(AM51,AM$48:AM$56,0)","v":{"$error":"#DIV/0!"}},{"$f":"MAX(O53,U53,X53,AD53)","v":{"$error":"#DIV/0!"}},{"$f":"RANK(AO51,AO$48:AO$56)","v":{"$error":"#DIV/0!"}},{"$f":"AF53","v":0},{"$f":"RANK(AQ51,AQ$48:AQ$56)","v":1},{"$f":"(AL51*1000)+(AN51*100)+(AP51*10)+(AR51*1)","v":{"$error":"#DIV/0!"}},{"$f":"AS51","v":{"$error":"#DIV/0!"}},{"$f":"RANK(AT51,AT$48:AT$56,1)","v":{"$error":"#DIV/0!"}},{"$f":"RANK(AU51,AU$48:AU$56,1)","v":{"$error":"#DIV/0!"}}]
[null,null,{"$f":"C40","v":0},null,null,null,null,null,null,null,null,null,null,{"$f":"IF(R48>0,2-Q49,0.01)","v":0.01},null,null,null,null,null,{"$f":"IF(U51<1,0.01,IF(S51>P54,2,IF(S51=P54,1,0)))","v":0.01},null,null,{"$f":"IF(AA48>0,2-Z49,0.01)","v":0.01},null,null,null,null,null,{"$f":"IF(AD51<1,0.01,IF(AB51>Y54,2,IF(AB51=Y54,1,0)))","v":0.01},null,null,null,{"$f":"N52+T52+W52+AC52","v":0.04}]
[null,null,null,null,null,null,null,null,null,null,null,null,{"$f":"F58","v":0},null,{"$f":"M51/O51","v":{"$error":"#DIV/0!"}},null,null,null,{"$f":"F54","v":0},null,{"$f":"S51/U51","v":{"$error":"#DIV/0!"}},{"$f":"F67","v":0},null,{"$f":"V51/X51","v":{"$error":"#DIV/0!"}},null,null,null,{"$f":"F63","v":0},null,{"$f":"AB51/AD51","v":{"$error":"#DIV/0!"}},null,{"$f":"MAXA(M53,S53,V53,AB53)","v":0},null,{"$f":"AF51/AH51","v":{"$error":"#DIV/0!"}}]
[null,"Tour 2\nMatch aller",{"$f":"C39","v":0},null,null,null,null,null,null,null,{"$f":"C40","v":0},null,{"$f":"D52","v":0},null,{"$f":"E51","v":0},{"$f":"D55","v":0},null,{"$f":"E54","v":0},"B",null,null,{"$f":"D61","v":0},null,{"$f":"E60","v":0},{"$f":"D64","v":0},null,{"$f":"E63","v":0},"B",null,null,null,{"$f":"M54+P54+V54+Y54","v":0},null,{"$f":"O54+R54+X54+AA54","v":0},{"$f":"AU54","v":{"$error":"#DIV/0!"}},null,{"$f":"AG55","v":0.04},{"$f":"RANK(AK54,AK$48:AK$56,0)","v":1},{"$f":"AH56","v":{"$error":"#DIV/0!"}},{"$f":"RANK(AM54,AM$48:AM$56,0)","v":{"$error":"#DIV/0!"}},{"$f":"MAX(O56,R56,X56,AA56)","v":{"$error":"#DIV/0!"}},{"$f":"RANK(AO54,AO$48:AO$56)","v":{"$error":"#DIV/0!"}},{"$f":"AF56","v":0},{"$f":"RANK(AQ54,AQ$48:AQ$56)","v":1},{"$f":"(AL54*1000)+(AN54*100)+(AP54*10)+(AR54*1)","v":{"$error":"#DIV/0!"}},{"$f":"AS54","v":{"$error":"#DIV/0!"}},{"$f":"RANK(AT54,AT$48:AT$56,1)","v":{"$error":"#DIV/0!"}},{"$f":"RANK(AU54,AU$48:AU$56,1)","v":{"$error":"#DIV/0!"}}]
[null,null,{"$f":"C40","v":0},null,null,null,null,null,null,null,null,null,null,{"$f":"IF(U48>0,2-T49,0.01)","v":0.01},null,null,{"$f":"IF(U51>0,2-T52,0.01)","v":0.01},null,null,null,null,null,{"$f":"IF(AD48>0,2-AC49,0.01)","v":0.01},null,null,{"$f":"IF(AD51>0,2-AC52,0.01)","v":0.01},null,null,null,null,null,null,{"$f":"N55+Q55+W55+Z55","v":0.04}]
[null,null,null,null,null,null,null,null,null,null,null,null,{"$f":"F52","v":0},null,{"$f":"M54/O54","v":{"$error":"#DIV/0!"}},{"$f":"F55","v":0},null,{"$f":"P54/R54","v":{"$error":"#DIV/0!"}},null,null,null,{"$f":"F61","v":0},null,{"$f":"V54/X54","v":{"$error":"#DIV/0!"}},{"$f":"F64","v":0},null,{"$f":"Y54/AA54","v":{"$error":"#DIV/0!"}},null,null,null,null,{"$f":"MAXA(M56,P56,V56,Y56)","v":0},null,{"$f":"AF54/AH54","v":{"$error":"#DIV/0!"}}]
[null,"Tour 3\nMatch aller",{"$f":"C38","v":0}]
[null,null,{"$f":"C39","v":0},null,null,null,null,null,null,null,null,null,"Pas de prolongation en cas de match nul."]
[]
[null,"Tour 1\nMatch retour",{"$f":"C38","v":0}]
[null,null,{"$f":"C40","v":0}]
[]
[null,"Tour 2\nMatch retour",{"$f":"C39","v":0}]
[null,null,{"$f":"C40","v":0}]
[]
[null,"Tour 3\nMatch retour",{"$f":"C38","v":0}]
[null,null,{"$f":"C39","v":0}]
[]
[null,"Joueur 1",{"$f":"'Saisie des joueurs'!L20","v":0}]
[null,"Joueur 2",{"$f":"'Saisie des joueurs'!L23","v":0}]
[null,"Joueur 3",{"$f":"'Saisie des joueurs'!L28","v":0}]
[]
[null,null,null,null,null,null,null,null,null,null,null,null,"MATCH ALLER",null,null,null,null,null,null,null,null,"MATCH RETOUR"]
[]
[null,"SAISIE DES RESULTATS",null,null,null,null,null,null,null,null,null,null,{"$f":"C69","v":0},null,null,{"$f":"C70","v":0},null,null,{"$f":"C71","v":0},null,null,{"$f":"C69","v":0},null,null,{"$f":"C70","v":0},null,null,{"$f":"C71","v":0},null,null,null,"TOTAUX",null,null,"CLASSEMENT"]
[]
[null,null,null,null,null,null,null,null,null,null,null,null,null,null,null,null,null,null,null,null,null,null,null,null,null,null,null,null,null,null,null,null,null,null,null,null,"Classement",null,"Classement",null,"Classement","Classement",null,"Classement",null,"GENERAL","RANG"]
[null,null,"POULE C",null,null,null,null,null,null,null,null,null,null,null,null,null,null,null,null,null,null,null,null,null,null,null,null,null,null,null,null,null,null,null,null,null,"Point-Match","CLS-M","Moy-Gen","CLS-G","Moy-Part","M-Series","CLS-S","MGPS","CLS","CLS"]
[null,null,null,null,null,null,null,null,null,null,{"$f":"C69","v":0},null,"L",null,null,{"$f":"D88","v":0},null,{"$f":"E88","v":0},{"$f":"D82","v":0},null,{"$f":"E82","v":0},"L",null,null,{"$f":"D97","v":0},null,{"$f":"E97","v":0},{"$f":"D91","v":0},null,{"$f":"E91","v":0},null,{"$f":"P79+S79+Y79+AB79","v":0},null,{"$f":"R79+U79+AA79+AD79","v":0},{"$f":"AU79","v":{"$error":"#DIV/0!"}},null,{"$f":"AG80","v":0.04},{"$f":"RANK(AK79,AK$79:AK$87,0)","v":1},{"$f":"AH81","v":{"$error":"#DIV/0!"}},{"$f":"RANK(AM79,AM$79:AM$87,0)","v":{"$error":"#DIV/0!"}},{"$f":"MAX(R81,U81,AA81,AD81)","v":{"$error":"#DIV/0!"}},{"$f":"RANK(AO79,AO$79:AO$87)","v":{"$error":"#DIV/0!"}},{"$f":"AF81","v":0},{"$f":"RANK(AQ79,AQ$79:AQ$87)","v":1},{"$f":"(AL79*1000)+(AN79*100)+(AP79*10)+(AR79*1)","v":{"$error":"#DIV/0!"}},{"$f":"AS79","v":{"$error":"#DIV/0!"}},{"$f":"RANK(AT79,AT79:AT$87,1)","v":{"$error":"#DIV/0!"}},{"$f":"RANK(AU79,AU$79:AU$87,1)","v":{"$error":"#DIV/0!"}}]
[null,null,null,null,null,null,null,null,null,null,null,null,null,null,null,null,{"$f":"IF(R79<1,0.01,IF(P79>M82,2,IF(P79=M82,1,0)))","v":0.01},null,null,{"$f":"IF(U79<1,0.01,IF(S79>M85,2,IF(S79=M85,1,0)))","v":0.01},null,null,null,null,null,{"$f":"IF(AA79<1,0.01,IF(Y79>V82,2,IF(Y79=V82,1,0)))","v":0.01},null,null,{"$f":"IF(AD79<1,0.01,IF(AB79>V85,2,IF(AB79=V85,1,0)))","v":0.01},null,null,null,{"$f":"Q80+T80+Z80+AC80","v":0.04}]
[null,null,null,"Pts","Rep","Série",null,null,null,null,null,null,null,null,null,{"$f":"F88","v":0},null,{"$f":"P79/R79","v":{"$error":"#DIV/0!"}},{"$f":"F82","v":0},null,{"$f":"S79/U79","v":{"$error":"#DIV/0!"}},null,null,null,{"$f":"F97","v":0},null,{"$f":"Y79/AA79","v":{"$error":"#DIV/0!"}},{"$f":"F91","v":0},null,{"$f":"AB79/AD79","v":{"$error":"#DIV/0!"}},null,{"$f":"MAX(P81,S81,Y81,AB81)","v":0},null,{"$f":"AF79/AH79","v":{"$error":"#DIV/0!"}}]
[null,"Tour 1\nMatch aller",{"$f":"C69","v":0},null,null,null,null,null,null,null,{"$f":"C70","v":0},null,{"$f":"D89","v":0},null,{"$f":"E88","v":0},"M",null,null,{"$f":"D85","v":0},null,{"$f":"E85","v":0},{"$f":"D98","v":0},null,{"$f":"E97","v":0},"M",null,null,{"$f":"D94","v":0},null,{"$f":"E94","v":0},null,{"$f":"M82+S82+V82+AB82","v":0},null,{"$f":"O82+U82+X82+AD82","v":0},{"$f":"AU82","v":{"$error":"#DIV/0!"}},null,{"$f":"AG83","v":0.04},{"$f":"RANK(AK82,AK$79:AK$87,0)","v":1},{"$f":"AH84","v":{"$error":"#DIV/0!"}},{"$f":"RANK(AM82,AM$79:AM$87,0)","v":{"$error":"#DIV/0!"}},{"$f":"MAX(O84,U84,X84,AD84)","v":{"$error":"#DIV/0!"}},{"$f":"RANK(AO82,AO$79:AO$87)","v":{"$error":"#DIV/0!"}},{"$f":"AF84","v":0},{"$f":"RANK(AQ82,AQ$79:AQ$87)","v":1},{"$f":"(AL82*1000)+(AN82*100)+(AP82*10)+(AR82*1)","v":{"$error":"#DIV/0!"}},{"$f":"AS82","v":{"$error":"#DIV/0!"}},{"$f":"RANK(AT82,AT82:AT$87,1)","v":{"$error":"#DIV/0!"}},{"$f":"RANK(AU82,AU$79:AU$87,1)","v":{"$error":"#DIV/0!"}}]
[null,null,{"$f":"C71","v":0},null,null,null,null,null,null,null,null,null,null,{"$f":"IF(R79>0,2-Q80,0.01)","v":0.01},null,null,null,null,null,{"$f":"IF(U82<1,0.01,IF(S82>P85,2,IF(S82=P85,1,0)))","v":0.01},null,null,{"$f":"IF(AA79>0,2-Z80,0.01)","v":0.01},null,null,null,null,null,{"$f":"IF(AD82<1,0.01,IF(AB82>Y85,2,IF(AB82=Y85,1,0)))","v":0.01},null,null,null,{"$f":"N83+T83+W83+AC83","v":0.04}]
[null,null,null,null,null,null,null,null,null,null,null,null,{"$f":"F89","v":0},null,{"$f":"M82/O82","v":{"$error":"#DIV/0!"}},null,null,null,{"$f":"F85","v":0},null,{"$f":"S82/U82","v":{"$error":"#DIV/0!"}},{"$f":"F98","v":0},null,{"$f":"V82/X82","v":{"$error":"#DIV/0!"}},null,null,null,{"$f":"F94","v":0},null,{"$f":"AB82/AD82","v":{"$error":"#DIV/0!"}},null,{"$f":"MAXA(M84,S84,V84,AB84)","v":0},null,{"$f":"AF82/AH82","v":{"$error":"#DIV/0!"}}]
[null,"Tour 2\nMatch aller",{"$f":"C70","v":0},null,null,null,null,null,null,null,{"$f":"C71","v":0},null,{"$f":"D83","v":0},null,{"$f":"E82","v":0},{"$f":"D86","v":0},null,{"$f":"E85","v":0},"B",null,null,{"$f":"D92","v":0},null,{"$f":"E91","v":0},{"$f":"D95","v":0},null,{"$f":"E94","v":0},"B",null,null,null,{"$f":"M85+P85+V85+Y85","v":0},null,{"$f":"O85+R85+X85+AA85","v":0},{"$f":"AU85","v":{"$error":"#DIV/0!"}},null,{"$f":"AG86","v":0.04},{"$f":"RANK(AK85,AK$79:AK$87,0)","v":1},{"$f":"AH87","v":{"$error":"#DIV/0!"}},{"$f":"RANK(AM85,AM$79:AM$87,0)","v":{"$error":"#DIV/0!"}},{"$f":"MAX(O87,R87,X87,AA87)","v":{"$error":"#DIV/0!"}},{"$f":"RANK(AO85,AO$79:AO$87)","v":{"$error":"#DIV/0!"}},{"$f":"AF87","v":0},{"$f":"RANK(AQ85,AQ$79:AQ$87)","v":1},{"$f":"(AL85*1000)+(AN85*100)+(AP85*10)+(AR85*1)","v":{"$error":"#DIV/0!"}},{"$f":"AS85","v":{"$error":"#DIV/0!"}},{"$f":"RANK(AT85,AT85:AT$87,1)","v":{"$error":"#DIV/0!"}},{"$f":"RANK(AU85,AU$79:AU$87,1)","v":{"$error":"#DIV/0!"}}]
[null,null,{"$f":"C71","v":0},null,null,null,null,null,null,null,null,null,null,{"$f":"IF(U79>0,2-T80,0.01)","v":0.01},null,null,{"$f":"IF(U82>0,2-T83,0.01)","v":0.01},null,null,null,null,null,{"$f":"IF(AD79>0,2-AC80,0.01)","v":0.01},null,null,{"$f":"IF(AD82>0,2-AC83,0.01)","v":0.01},null,null,null,null,null,null,{"$f":"N86+Q86+W86+Z86","v":0.04}]
[null,null,null,null,null,null,null,null,null,null,null,null,{"$f":"F83","v":0},null,{"$f":"M85/O85","v":{"$error":"#DIV/0!"}},{"$f":"F86","v":0},null,{"$f":"P85/R85","v":{"$error":"#DIV/0!"}},null,null,null,{"$f":"F92","v":0},null,{"$f":"V85/X85","v":{"$error":"#DIV/0!"}},{"$f":"F95","v":0},null,{"$f":"Y85/AA85","v":{"$error":"#DIV/0!"}},null,null,null,null,{"$f":"MAXA(M87,P87,V87,Y87)","v":0},null,{"$f":"AF85/AH85","v":{"$error":"#DIV/0!"}}]
[null,"Tour 3\nMatch aller",{"$f":"C69","v":0}]
[null,null,{"$f":"C70","v":0},null,null,null,null,null,null,null,null,null,"Pas de prolongation en cas de match nul."]
[]
[null,"Tour 1\nMatch retour",{"$f":"C69","v":0}]
[null,null,{"$f":"C71","v":0}]
[]
[null,"Tour 2\nMatch retour",{"$f":"C70","v":0}]
[null,null,{"$f":"C71","v":0}]
[]
[null,"Tour 3\nMatch retour",{"$f":"C69","v":0}]
[null,null,{"$f":"C70","v":0}]
[]
[null,"Joueur 1",{"$f":"'Saisie des joueurs'!L21","v":0}]
[null,"Joueur 2",{"$f":"'Saisie des joueurs'!L22","v":0}]
[null,"Joueur 3",{"$f":"'Saisie des joueurs'!L29","v":0}]
[null,"Joueur 4",{"$f":"'Saisie des joueurs'!L30","v":0}]
[]
[]
[null,"SAISIE DES RESULTATS",null,null,null,null,null,null,null,null,null,null,{"$f":"C100","v":0},null,null,{"$f":"C101","v":0},null,null,{"$f":"C102","v":0},null,null,{"$f":"C103","v":0},null,null,null,"TOTAUX",null,null,"CLASSEMENT"]
[]
[null,null,null,null,null,null,null,null,null,null,null,null,null,null,null,null,null,null,null,null,null,null,null,null,null,null,null,null,null,null,null,null,null,null,null,null,"Classement",null,"Classement",null,"Classement",null,"Classement",null,"Classement",null,"GENERAL","RANG"]
[null,null,"POULE D",null,null,null,null,null,null,null,null,null,null,null,null,null,null,null,null,null,null,null,null,null,null,null,null,null,null,null,null,null,null,null,null,null,"Point-Match","CLS-M","Moy-Gen","CLS-G","Moy-Part","CLS-P","M-Series","CLS-S","MGPS","CLS","CLS"]
[null,null,null,null,null,null,null,null,null,null,{"$f":"C100","v":0},null,"L",null,null,{"$f":"D125","v":0},null,{"$f":"E125","v":0},{"$f":"D119","v":0},null,{"$f":"E119","v":0},{"$f":"D113","v":0},null,{"$f":"E113","v":0},null,{"$f":"P110+S110+V110","v":0},null,{"$f":"R110+U110+X110","v":0},{"$f":"AV110","v":{"$error":"#DIV/0!"}},null,null,null,null,null,null,null,{"$f":"AA111","v":0.03},{"$f":"RANK(AK110,AK$110:AK$121,0)","v":1},{"$f":"AB112","v":{"$error":"#DIV/0!"}},{"$f":"RANK(AM110,AM$110:AM$121,0)","v":{"$error":"#DIV/0!"}},{"$f":"MAX(R112,U112,X112)","v":{"$error":"#DIV/0!"}},{"$f":"RANK(AO110,AO$110:AO$121)","v":{"$error":"#DIV/0!"}},{"$f":"Z112","v":0},{"$f":"RANK(AQ110,AQ$110:AQ$121)","v":1},{"$f":"(AL110*1000)+(AN110*100)+(AP110*10)+(AR110*1)","v":{"$error":"#DIV/0!"}},{"$f":"AS110","v":{"$error":"#DIV/0!"}},{"$f":"RANK(AT110,AT$110:AT$121,1)","v":{"$error":"#DIV/0!"}},{"$f":"RANK(AU110,AU$110:AU$121,1)","v":{"$error":"#DIV/0!"}}]
[null,null,null,null,null,null,null,null,null,null,null,null,null,null,null,null,{"$f":"IF(R110<1,0.01,IF(P110>M113,2,IF(P110=M113,1,0)))","v":0.01},null,null,{"$f":"IF(U110<1,0.01,IF(S110>M116,2,IF(S110=M116,1,0)))","v":0.01},null,null,{"$f":"IF(X110<1,0.01,IF(V110>M119,2,IF(V110=M119,1,0)))","v":0.01},null,null,null,{"$f":"W111+T111+Q111","v":0.03}]
[null,null,null,"Pts","Rep","Série",null,null,null,null,null,null,null,null,null,{"$f":"F125","v":0},null,{"$f":"P110/R110","v":{"$error":"#DIV/0!"}},{"$f":"F119","v":0},null,{"$f":"S110/U110","v":{"$error":"#DIV/0!"}},{"$f":"F113","v":0},null,{"$f":"V110/X110","v":{"$error":"#DIV/0!"}},null,{"$f":"MAX(V112,S112,P112)","v":0},null,{"$f":"Z110/AB110","v":{"$error":"#DIV/0!"}}]
[null,"Tour 1",{"$f":"C100","v":0},null,null,null,null,null,null,null,{"$f":"C101","v":0},null,{"$f":"D126","v":0},null,{"$f":"E125","v":0},"M",null,null,{"$f":"D116","v":0},null,{"$f":"E116","v":0},{"$f":"D123","v":0},null,{"$f":"E122","v":0},null,{"$f":"M113+S113+V113","v":0},null,{"$f":"O113+U113+X113","v":0},{"$f":"AV113","v":{"$error":"#DIV/0!"}},null,null,null,null,null,null,null,{"$f":"AA114","v":0.03},{"$f":"RANK(AK113,AK$110:AK$121,0)","v":1},{"$f":"AB115","v":{"$error":"#DIV/0!"}},{"$f":"RANK(AM113,AM$110:AM$121,0)","v":{"$error":"#DIV/0!"}},{"$f":"MAX(R115,U115,X115)","v":{"$error":"#DIV/0!"}},{"$f":"RANK(AO113,AO$110:AO$121)","v":{"$error":"#DIV/0!"}},{"$f":"Z115","v":0},{"$f":"RANK(AQ113,AQ$110:AQ$121)","v":1},{"$f":"(AL113*1000)+(AN113*100)+(AP113*10)+(AR113*1)","v":{"$error":"#DIV/0!"}},{"$f":"AS113","v":{"$error":"#DIV/0!"}},{"$f":"RANK(AT113,AT$110:AT$121,1)","v":{"$error":"#DIV/0!"}},{"$f":"RANK(AU113,AU$110:AU$121,1)","v":{"$error":"#DIV/0!"}}]
[null,null,{"$f":"C103","v":0},null,null,null,null,null,null,null,null,null,null,{"$f":"IF(R110>0,2-Q111,0.01)","v":0.01},null,null,null,null,null,{"$f":"IF(U113<1,0.01,IF(S113>P116,2,IF(S113=P116,1,0)))","v":0.01},null,null,{"$f":"IF(X113<1,0.01,IF(V113>P119,2,IF(V113=P119,1,0)))","v":0.01},null,null,null,{"$f":"N114+T114+W114","v":0.03}]
[null,null,null,null,null,null,null,null,null,null,null,null,{"$f":"F126","v":0},null,{"$f":"M113/O113","v":{"$error":"#DIV/0!"}},null,null,null,{"$f":"F116","v":0},null,{"$f":"S113/U113","v":{"$error":"#DIV/0!"}},{"$f":"F123","v":0},null,{"$f":"V113/X113","v":{"$error":"#DIV/0!"}},null,{"$f":"MAXA(S115,V115,M115)","v":0},null,{"$f":"Z113/AB113","v":{"$error":"#DIV/0!"}}]
[null,"Tour 2",{"$f":"C101","v":0},null,null,null,null,null,null,null,{"$f":"C102","v":0},null,{"$f":"D120","v":0},null,{"$f":"E119","v":0},{"$f":"D117","v":0},null,{"$f":"E116","v":0},"B",null,null,{"$f":"D128","v":0},null,{"$f":"E128","v":0},null,{"$f":"M116+P116+V116","v":0},null,{"$f":"O116+U116+X116","v":0},{"$f":"AV116","v":{"$error":"#DIV/0!"}},null,null,null,null,null,null,null,{"$f":"AA117","v":0.02},{"$f":"RANK(AK116,AK$110:AK$121,0)","v":4},{"$f":"AB118","v":{"$error":"#DIV/0!"}},{"$f":"RANK(AM116,AM$110:AM$121,0)","v":{"$error":"#DIV/0!"}},{"$f":"MAX(R118,U118,X118)","v":{"$error":"#DIV/0!"}},{"$f":"RANK(AO116,AO$110:AO$121)","v":{"$error":"#DIV/0!"}},{"$f":"Z118","v":0},{"$f":"RANK(AQ116,AQ$110:AQ$121)","v":1},{"$f":"(AL116*1000)+(AN116*100)+(AP116*10)+(AR116*1)","v":{"$error":"#DIV/0!"}},{"$f":"AS116","v":{"$error":"#DIV/0!"}},{"$f":"RANK(AT116,AT$110:AT$121,1)","v":{"$error":"#DIV/0!"}},{"$f":"RANK(AU116,AU$110:AU$121,1)","v":{"$error":"#DIV/0!"}}]
[null,null,{"$f":"C102","v":0},null,null,null,null,null,null,null,null,null,null,{"$f":"IF(U110>0,2-T111,0.01)","v":0.01},null,null,{"$f":"IF(U113>0,2-T114,0.01)","v":0.01},null,null,null,null,null,{"$f":"IF(X116<1,0.01,IF(V116>S119,2,IF(V116=S119,1,0)))","v":0.01},null,null,null,{"$f":"N117+T117+W117","v":0.02}]
[null,null,null,null,null,null,null,null,null,null,null,null,{"$f":"F120","v":0},null,{"$f":"M116/O116","v":{"$error":"#DIV/0!"}},{"$f":"F117","v":0},null,{"$f":"P116/R116","v":{"$error":"#DIV/0!"}},null,null,null,{"$f":"F128","v":0},null,{"$f":"V116/X116","v":{"$error":"#DIV/0!"}},null,{"$f":"MAXA(V118,P118,M118)","v":0},null,{"$f":"Z116/AB116","v":{"$error":"#DIV/0!"}}]
[null,"Tour 3",{"$f":"C100","v":0},null,null,null,null,null,null,null,{"$f":"C103","v":0},null,{"$f":"D114","v":0},null,{"$f":"E113","v":0},{"$f":"D122","v":0},null,{"$f":"E122","v":0},{"$f":"D129","v":0},null,{"$f":"E128","v":0},null,null,null,null,{"$f":"S119+V119+Y119","v":0},null,{"$f":"U119+R119+O119","v":0},{"$f":"AV119","v":{"$error":"#DIV/0!"}},null,null,null,null,null,null,null,{"$f":"AA120","v":0.03},{"$f":"RANK(AK119,AK$110:AK$121,0)","v":1},{"$f":"AB121","v":{"$error":"#DIV/0!"}},{"$f":"RANK(AM119,AM$110:AM$121,0)","v":{"$error":"#DIV/0!"}},{"$f":"MAX(R121,U121,X121)","v":{"$error":"#DIV/0!"}},{"$f":"RANK(AO119,AO$110:AO$121)","v":{"$error":"#DIV/0!"}},{"$f":"Z121","v":0},{"$f":"RANK(AQ119,AQ$110:AQ$121)","v":1},{"$f":"(AL119*1000)+(AN119*100)+(AP119*10)+(AR119*1)","v":{"$error":"#DIV/0!"}},{"$f":"AS119","v":{"$error":"#DIV/0!"}},{"$f":"RANK(AT119,AT$110:AT$121,1)","v":{"$error":"#DIV/0!"}},{"$f":"RANK(AU119,AU$110:AU$121,1)","v":{"$error":"#DIV/0!"}}]
[null,null,{"$f":"C102","v":0},null,null,null,null,null,null,null,null,null,null,{"$f":"IF(X110>0,2-W111,0.01)","v":0.01},null,null,{"$f":"IF(X113>0,2-W114,0.01)","v":0.01},null,null,{"$f":"IF(X116>0,2-W117,0.01)","v":0.01},null,null,null,null,null,null,{"$f":"N120+Q120+T120","v":0.03}]
[null,null,null,null,null,null,null,null,null,null,null,null,{"$f":"F114","v":0},null,{"$f":"M119/O119","v":{"$error":"#DIV/0!"}},{"$f":"F122","v":0},null,{"$f":"P119/R119","v":{"$error":"#DIV/0!"}},{"$f":"F129","v":0},null,{"$f":"S119/U119","v":{"$error":"#DIV/0!"}},null,null,null,null,{"$f":"MAXA(S121,V121,Y121)","v":0},null,{"$f":"Z119/AB119","v":{"$error":"#DIV/0!"}}]
[null,"Tour 4",{"$f":"C103","v":0}]
[null,null,{"$f":"C101","v":0}]
[]
[null,"Tour 5",{"$f":"C100","v":0}]
[null,null,{"$f":"C101","v":0}]
[]
[null,"Tour 6",{"$f":"C102","v":0}]
[null,null,{"$f":"C103","v":0}]

{"sheet":"14JOUEURS","index":25,"n_rows":129,"n_cols":48,"rows_kept":129,"cut":false,"hidden":true,"merged":[[1,1,3,13],[10,21,10,29],[6,2,6,5],[7,2,7,5],[8,2,8,5],[9,2,9,5],[10,12,10,20],[14,46,15,46],[15,2,16,5],[16,10,18,11],[16,12,18,14],[16,21,18,23],[16,34,18,34],[16,36,18,36],[16,37,18,37],[12,1,13,5],[12,12,15,14],[12,15,15,17],[12,18,15,20],[12,21,15,23],[12,24,15,26],[16,46,18,46],[14,41,14,42],[13,10,15,11],[12,27,15,29],[19,1,20,1],[19,4,20,4],[19,10,21,11],[19,15,21,17],[19,24,21,26],[19,37,21,37],[19,34,21,34],[19,36,21,36],[16,38,18,38],[12,31,15,33],[12,34,15,34],[19,43,21,43],[19,44,21,44],[19,45,21,45],[14,43,14,44],[14,36,14,37],[14,38,14,39],[19,38,21,38],[19,39,21,39],[22,45,24,45],[16,47,18,47],[19,47,21,47],[16,39,18,39],[16,40,18,40],[16,41,18,41],[16,42,18,42],[16,43,18,43],[16,44,18,44],[22,47,24,47],[22,46,24,46],[19,46,21,46],[19,41,21,41],[19,42,21,42],[19,40,21,40],[16,45,18,45],[28,1,29,1],[28,4,29,4],[22,41,24,41],[22,42,24,42],[22,43,24,43],[22,44,24,44],[31,1,32,1],[31,4,32,4],[34,1,35,1],[34,4,35,4],[22,34,24,34],[22,36,24,36],[22,37,24,37],[22,38,24,38],[22,39,24,39],[22,40,24,40],[25,1,26,1],[25,4,26,4],[26,12,26,34],[22,1,23,1],[22,4,23,4],[22,10,24,11],[22,18,24,20],[22,27,24,29],[37,2,37,5],[38,2,38,5],[47,45,49,45],[47,46,49,46],[39,2,39,5],[40,2,40,5],[41,12,41,20],[41,21,41,29],[43,1,44,5],[43,12,46,14],[43,15,46,17],[43,18,46,20],[43,27,46,29],[43,31,46,33],[43,34,46,34],[44,10,46,11],[45,36,45,37],[45,38,45,39],[43,21,46,23],[43,24,46,26],[45,41,45,42],[45,43,45,44],[45,46,46,46],[46,2,47,5],[50,45,52,45],[50,46,52,46],[50,47,52,47],[50,36,52,36],[50,37,52,37],[50,38,52,38],[50,39,52,39],[50,40,52,40],[47,41,49,41],[47,42,49,42],[47,43,49,43],[50,42,52,42],[50,43,52,43],[50,44,52,44],[47,44,49,44],[47,47,49,47],[50,41,52,41],[50,1,51,1],[50,4,51,4],[50,10,52,11],[50,15,52,17],[50,24,52,26],[50,34,52,34],[47,38,49,38],[47,39,49,39],[47,40,49,40],[47,10,49,11],[47,12,49,14],[47,21,49,23],[47,34,49,34],[47,36,49,36],[47,37,49,37],[53,44,55,44],[53,45,55,45],[53,46,55,46],[53,47,55,47],[53,36,55,36],[53,37,55,37],[53,38,55,38],[53,39,55,39],[53,40,55,40],[53,43,55,43],[62,1,63,1],[62,4,63,4],[53,42,55,42],[68,2,68,5],[69,2,69,5],[65,1,66,1],[65,4,66,4],[56,1,57,1],[56,4,57,4],[53,1,54,1],[53,4,54,4],[53,10,55,11],[53,18,55,20],[53,27,55,29],[53,34,55,34],[53,41,55,41],[57,12,57,34],[59,1,60,1],[59,4,60,4],[78,47,80,47],[78,41,80,41],[78,42,80,42],[78,43,80,43],[70,2,70,5],[71,2,71,5],[74,1,75,5],[74,10,77,11],[74,12,77,14],[74,15,77,17],[74,28,77,29],[76,36,76,37],[76,38,76,39],[78,44,80,44],[78,45,80,45],[78,46,80,46],[76,47,77,47],[77,2,78,5],[78,10,80,11],[78,12,80,14],[78,28,80,29],[78,36,80,36],[78,37,80,37],[74,18,77,20],[74,21,77,23],[74,25,77,27],[78,38,80,38],[78,39,80,39],[78,40,80,40],[76,40,76,41],[76,42,76,43],[76,44,76,45],[84,45,86,45],[84,40,86,40],[84,41,86,41],[81,40,83,40],[81,41,83,41],[81,42,83,42],[84,42,86,42],[84,1,85,1],[84,4,85,4],[84,10,86,11],[84,18,86,20],[84,28,86,29],[81,37,83,37],[81,36,83,36],[84,38,86,38],[84,39,86,39],[84,36,86,36],[84,37,86,37],[81,1,82,1],[81,4,82,4],[81,10,83,11],[81,15,83,17],[81,28,83,29],[81,38,83,38],[81,39,83,39],[87,45,89,45],[87,46,89,46],[87,47,89,47],[81,43,83,43],[81,44,83,44],[81,45,83,45],[81,46,83,46],[81,47,83,47],[84,43,86,43],[84,44,86,44],[87,43,89,43],[87,44,89,44],[84,46,86,46],[84,47,86,47],[87,40,89,40],[87,41,89,41],[87,42,89,42],[93,1,94,1],[93,4,94,4],[96,1,97,1],[96,4,97,4],[90,1,91,1],[90,4,91,4],[87,1,88,1],[87,4,88,4],[87,10,89,11],[87,21,89,23],[87,28,89,29],[87,36,89,36],[87,37,89,37],[87,38,89,38],[87,39,89,39],[99,2,99,5],[100,2,100,5],[101,2,101,5],[102,2,102,5],[105,1,106,5],[107,44,107,45],[105,10,108,11],[105,12,108,14],[105,15,108,17],[105,18,108,20],[105,21,108,23],[105,25,108,27],[105,28,108,29],[107,36,107,37],[107,38,107,39],[107,40,107,41],[107,42,107,43],[107,47,108,47],[108,2,109,5],[109,10,111,11],[109,12,111,14],[109,28,111,29],[109,36,111,36],[109,37,111,37],[109,38,111,38],[109,39,111,39],[109,47,111,47],[109,41,111,41],[109,40,111,40],[109,42,111,42],[109,43,111,43],[109,44,111,44],[109,45,111,45],[109,46,111,46],[112,37,114,37],[112,38,114,38],[112,41,114,41],[112,40,114,40],[112,46,114,46],[112,42,114,42],[112,43,114,43],[112,44,114,44],[112,45,114,45],[124,1,125,1],[115,46,117,46],[124,4,125,4],[115,39,117,39],[115,40,117,40],[118,45,120,45],[118,46,120,46],[127,1,128,1],[127,4,128,4],[118,44,120,44],[118,1,119,1],[118,4,119,4],[118,10,120,11],[118,21,120,23],[118,28,120,29],[118,36,120,36],[118,37,120,37],[118,43,120,43],[115,45,117,45],[115,1,116,1],[115,4,116,4],[115,10,117,11],[115,18,117,20],[115,28,117,29],[112,47,114,47],[115,36,117,36],[115,37,117,37],[112,39,114,39],[112,1,113,1],[112,4,113,4],[118,47,120,47],[121,1,122,1],[121,4,122,4],[118,38,120,38],[118,39,120,39],[118,40,120,40],[118,41,120,41],[118,42,120,42],[115,38,117,38],[115,47,117,47],[115,41,117,41],[115,42,117,42],[115,43,117,43],[115,44,117,44],[112,10,114,11],[112,15,114,17],[112,28,114,29],[112,36,114,36]]}
[]
[null,"LIGUE MÉDITERRANÉENNE DE BILLARD"]
[]
[]
[]
[]
[null,"Joueur 1",{"$f":"'Saisie des joueurs'!L18","v":0}]
[null,"Joueur 2",{"$f":"'Saisie des joueurs'!L25","v":0}]
[null,"Joueur 3",{"$f":"'Saisie des joueurs'!L26","v":0}]
[]
[null,null,null,null,null,null,null,null,null,null,null,null,"MATCH ALLER",null,null,null,null,null,null,null,null,"MATCH RETOUR"]
[]
[null,"SAISIE DES RESULTATS",null,null,null,null,null,null,null,null,null,null,{"$f":"C7","v":0},null,null,{"$f":"C8","v":0},null,null,{"$f":"C9","v":0},null,null,{"$f":"C7","v":0},null,null,{"$f":"C8","v":0},null,null,{"$f":"C9","v":0},null,null,null,"TOTAUX",null,null,"CLASSEMENT"]
[]
[null,null,null,null,null,null,null,null,null,null,null,null,null,null,null,null,null,null,null,null,null,null,null,null,null,null,null,null,null,null,null,null,null,null,null,null,"Classement",null,"Classement",null,"Classement","Classement",null,"Classement",null,"GENERAL","RANG"]
[null,null,"POULE A",null,null,null,null,null,null,null,null,null,null,null,null,null,null,null,null,null,null,null,null,null,null,null,null,null,null,null,null,null,null,null,null,null,"Point-Match","CLS-M","Moy-Gen","CLS-G","Moy-Part","M-Series","CLS-S","MGPS","CLS","CLS"]
[null,null,null,null,null,null,null,null,null,null,{"$f":"C7","v":0},null,"L",null,null,{"$f":"D26","v":0},null,{"$f":"E26","v":0},{"$f":"D20","v":0},null,{"$f":"E20","v":0},"L",null,null,{"$f":"D35","v":0},null,{"$f":"E35","v":0},{"$f":"D29","v":0},null,{"$f":"E29","v":0},null,{"$f":"P17+S17+Y17+AB17","v":0},null,{"$f":"R17+U17+AA17+AD17","v":0},{"$f":"AU17","v":{"$error":"#DIV/0!"}},null,{"$f":"AG18","v":0.04},{"$f":"RANK(AK17,AK$17:AK$25,0)","v":1},{"$f":"AH19","v":{"$error":"#DIV/0!"}},{"$f":"RANK(AM17,AM$17:AM$25,0)","v":{"$error":"#DIV/0!"}},{"$f":"MAX(R19,U19,AA19,AD19)","v":{"$error":"#DIV/0!"}},{"$f":"RANK(AO17,AO$17:AO$25)","v":{"$error":"#DIV/0!"}},{"$f":"AF19","v":0},{"$f":"RANK(AQ17,AQ$17:AQ$25)","v":1},{"$f":"(AL17*1000)+(AN17*100)+(AP17*10)+(AR17*1)","v":{"$error":"#DIV/0!"}},{"$f":"AS17","v":{"$error":"#DIV/0!"}},{"$f":"RANK(AT17,AT$17:AT$25,1)","v":{"$error":"#DIV/0!"}},{"$f":"RANK(AU17,AU$17:AU$25,1)","v":{"$error":"#DIV/0!"}}]
[null,null,null,null,null,null,null,null,null,null,null,null,null,null,null,null,{"$f":"IF(R17<1,0.01,IF(P17>M20,2,IF(P17=M20,1,0)))","v":0.01},null,null,{"$f":"IF(U17<1,0.01,IF(S17>M23,2,IF(S17=M23,1,0)))","v":0.01},null,null,null,null,null,{"$f":"IF(AA17<1,0.01,IF(Y17>V20,2,IF(Y17=V20,1,0)))","v":0.01},null,null,{"$f":"IF(AD17<1,0.01,IF(AB17>V23,2,IF(AB17=V23,1,0)))","v":0.01},null,null,null,{"$f":"Q18+T18+Z18+AC18","v":0.04}]
[null,null,null,"Pts","Rep","Série",null,null,null,null,null,null,null,null,null,{"$f":"F26","v":0},null,{"$f":"P17/R17","v":{"$error":"#DIV/0!"}},{"$f":"F20","v":0},null,{"$f":"S17/U17","v":{"$error":"#DIV/0!"}},null,null,null,{"$f":"F35","v":0},null,{"$f":"Y17/AA17","v":{"$error":"#DIV/0!"}},{"$f":"F29","v":0},null,{"$f":"AB17/AD17","v":{"$error":"#DIV/0!"}},null,{"$f":"MAX(P19,S19,Y19,AB19)","v":0},null,{"$f":"AF17/AH17","v":{"$error":"#DIV/0!"}}]
[null,"Tour 1\nMatch aller",{"$f":"C7","v":0},null,null,null,null,null,null,null,{"$f":"C8","v":0},null,{"$f":"D27","v":0},null,{"$f":"E26","v":0},"M",null,null,{"$f":"D23","v":0},null,{"$f":"E23","v":0},{"$f":"D36","v":0},null,{"$f":"E35","v":0},"M",null,null,{"$f":"D32","v":0},null,{"$f":"E32","v":0},null,{"$f":"M20+S20+V20+AB20","v":0},null,{"$f":"O20+U20+X20+AD20","v":0},{"$f":"AU20","v":{"$error":"#DIV/0!"}},null,{"$f":"AG21","v":0.04},{"$f":"RANK(AK20,AK$17:AK$25,0)","v":1},{"$f":"AH22","v":{"$error":"#DIV/0!"}},{"$f":"RANK(AM20,AM$17:AM$25,0)","v":{"$error":"#DIV/0!"}},{"$f":"MAX(R22,U22,AA22,AD22)","v":{"$error":"#DIV/0!"}},{"$f":"RANK(AO20,AO$17:AO$25)","v":{"$error":"#DIV/0!"}},{"$f":"AF22","v":0},{"$f":"RANK(AQ20,AQ$17:AQ$25)","v":1},{"$f":"(AL20*1000)+(AN20*100)+(AP20*10)+(AR20*1)","v":{"$error":"#DIV/0!"}},{"$f":"AS20","v":{"$error":"#DIV/0!"}},{"$f":"RANK(AT20,AT$17:AT$25,1)","v":{"$error":"#DIV/0!"}},{"$f":"RANK(AU20,AU$17:AU$25,1)","v":{"$error":"#DIV/0!"}}]
[null,null,{"$f":"C9","v":0},null,null,null,null,null,null,null,null,null,null,{"$f":"IF(R17>0,2-Q18,0.01)","v":0.01},null,null,null,null,null,{"$f":"IF(U20<1,0.01,IF(S20>P23,2,IF(S20=P23,1,0)))","v":0.01},null,null,{"$f":"IF(AA17>0,2-Z18,0.01)","v":0.01},null,null,null,null,null,{"$f":"IF(AD20<1,0.01,IF(AB20>Y23,2,IF(AB20=Y23,1,0)))","v":0.01},null,null,null,{"$f":"N21+T21+W21+AC21","v":0.04}]
[null,null,null,null,null,null,null,null,null,null,null,null,{"$f":"F27","v":0},null,{"$f":"M20/O20","v":{"$error":"#DIV/0!"}},null,null,null,{"$f":"F23","v":0},null,{"$f":"S20/U20","v":{"$error":"#DIV/0!"}},{"$f":"F36","v":0},null,{"$f":"V20/X20","v":{"$error":"#DIV/0!"}},null,null,null,{"$f":"F32","v":0},null,{"$f":"AB20/AD20","v":{"$error":"#DIV/0!"}},null,{"$f":"MAXA(M22,S22,V22,AB22)","v":0},null,{"$f":"AF20/AH20","v":{"$error":"#DIV/0!"}}]
[null,"Tour 2\nMatch aller",{"$f":"C8","v":0},null,null,null,null,null,null,null,{"$f":"C9","v":0},null,{"$f":"D21","v":0},null,{"$f":"E20","v":0},{"$f":"D24","v":0},null,{"$f":"E23","v":0},"B",null,null,{"$f":"D30","v":0},null,{"$f":"E29","v":0},{"$f":"D33","v":0},null,{"$f":"E32","v":0},"B",null,null,null,{"$f":"M23+P23+V23+Y23","v":0},null,{"$f":"O23+R23+X23+AA23","v":0},{"$f":"AU23","v":{"$error":"#DIV/0!"}},null,{"$f":"AG24","v":0.04},{"$f":"RANK(AK23,AK$17:AK$25,0)","v":1},{"$f":"AH25","v":{"$error":"#DIV/0!"}},{"$f":"RANK(AM23,AM$17:AM$25,0)","v":{"$error":"#DIV/0!"}},{"$f":"MAX(R25,U25,AA25,AD25)","v":{"$error":"#DIV/0!"}},{"$f":"RANK(AO23,AO$17:AO$25)","v":{"$error":"#DIV/0!"}},{"$f":"AF25","v":0},{"$f":"RANK(AQ23,AQ$17:AQ$25)","v":1},{"$f":"(AL23*1000)+(AN23*100)+(AP23*10)+(AR23*1)","v":{"$error":"#DIV/0!"}},{"$f":"AS23","v":{"$error":"#DIV/0!"}},{"$f":"RANK(AT23,AT$17:AT$25,1)","v":{"$error":"#DIV/0!"}},{"$f":"RANK(AU23,AU$17:AU$25,1)","v":{"$error":"#DIV/0!"}}]
[null,null,{"$f":"C9","v":0},null,null,null,null,null,null,null,null,null,null,{"$f":"IF(U17>0,2-T18,0.01)","v":0.01},null,null,{"$f":"IF(U20>0,2-T21,0.01)","v":0.01},null,null,null,null,null,{"$f":"IF(AD17>0,2-AC18,0.01)","v":0.01},null,null,{"$f":"IF(AD20>0,2-AC21,0.01)","v":0.01},null,null,null,null,null,null,{"$f":"N24+Q24+W24+Z24","v":0.04}]
[null,null,null,null,null,null,null,null,null,null,null,null,{"$f":"F21","v":0},null,{"$f":"M23/O23","v":{"$error":"#DIV/0!"}},{"$f":"F24","v":0},null,{"$f":"P23/R23","v":{"$error":"#DIV/0!"}},null,null,null,{"$f":"F30","v":0},null,{"$f":"V23/X23","v":{"$error":"#DIV/0!"}},{"$f":"F33","v":0},null,{"$f":"Y23/AA23","v":{"$error":"#DIV/0!"}},null,null,null,null,{"$f":"MAXA(M25,P25,V25,Y25)","v":0},null,{"$f":"AF23/AH23","v":{"$error":"#DIV/0!"}}]
[null,"Tour 3\nMatch aller",{"$f":"C7","v":0}]
[null,null,{"$f":"C8","v":0},null,null,null,null,null,null,null,null,null,"Pas de prolongation en cas de match nul."]
[]
[null,"Tour 1\nMatch retour",{"$f":"C7","v":0}]
[null,null,{"$f":"C9","v":0}]
[]
[null,"Tour 2\nMatch retour",{"$f":"C8","v":0}]
[null,null,{"$f":"C9","v":0}]
[]
[null,"Tour 3\nMatch retour",{"$f":"C7","v":0}]
[null,null,{"$f":"C8","v":0}]
[]
[null,"Joueur 1",{"$f":"'Saisie des joueurs'!L19","v":0}]
[null,"Joueur 2",{"$f":"'Saisie des joueurs'!L24","v":0}]
[null,"Joueur 3",{"$f":"'Saisie des joueurs'!L27","v":0}]
[]
[null,null,null,null,null,null,null,null,null,null,null,null,"MATCH ALLER",null,null,null,null,null,null,null,null,"MATCH RETOUR"]
[]
[null,"SAISIE DES RESULTATS",null,null,null,null,null,null,null,null,null,null,{"$f":"C38","v":0},null,null,{"$f":"C39","v":0},null,null,{"$f":"C40","v":0},null,null,{"$f":"C38","v":0},null,null,{"$f":"C39","v":0},null,null,{"$f":"C40","v":0},null,null,null,"TOTAUX",null,null,"CLASSEMENT"]
[]
[null,null,null,null,null,null,null,null,null,null,null,null,null,null,null,null,null,null,null,null,null,null,null,null,null,null,null,null,null,null,null,null,null,null,null,null,"Classement",null,"Classement",null,"Classement","Classement",null,"Classement",null,"GENERAL","RANG"]
[null,null,"POULE B",null,null,null,null,null,null,null,null,null,null,null,null,null,null,null,null,null,null,null,null,null,null,null,null,null,null,null,null,null,null,null,null,null,"Point-Match","CLS-M","Moy-Gen","CLS-G","Moy-Part","M-Series","CLS-S","MGPS","CLS","CLS"]
[null,null,null,null,null,null,null,null,null,null,{"$f":"C38","v":0},null,"L",null,null,{"$f":"D57","v":0},null,{"$f":"E57","v":0},{"$f":"D51","v":0},null,{"$f":"E51","v":0},"L",null,null,{"$f":"D66","v":0},null,{"$f":"E66","v":0},{"$f":"D60","v":0},null,{"$f":"E60","v":0},null,{"$f":"P48+S48+Y48+AB48","v":0},null,{"$f":"R48+U48+AA48+AD48","v":0},{"$f":"AU48","v":{"$error":"#DIV/0!"}},null,{"$f":"AG49","v":0.04},{"$f":"RANK(AK48,AK$48:AK$56,0)","v":1},{"$f":"AH50","v":{"$error":"#DIV/0!"}},{"$f":"RANK(AM48,AM$48:AM$56,0)","v":{"$error":"#DIV/0!"}},{"$f":"MAX(R50,U50,AA50,AD50)","v":{"$error":"#DIV/0!"}},{"$f":"RANK(AO48,AO$48:AO$56)","v":{"$error":"#DIV/0!"}},{"$f":"AF50","v":0},{"$f":"RANK(AQ48,AQ$48:AQ$56)","v":1},{"$f":"(AL48*1000)+(AN48*100)+(AP48*10)+(AR48*1)","v":{"$error":"#DIV/0!"}},{"$f":"AS48","v":{"$error":"#DIV/0!"}},{"$f":"RANK(AT48,AT$48:AT$56,1)","v":{"$error":"#DIV/0!"}},{"$f":"RANK(AU48,AU$48:AU$56,1)","v":{"$error":"#DIV/0!"}}]
[null,null,null,null,null,null,null,null,null,null,null,null,null,null,null,null,{"$f":"IF(R48<1,0.01,IF(P48>M51,2,IF(P48=M51,1,0)))","v":0.01},null,null,{"$f":"IF(U48<1,0.01,IF(S48>M54,2,IF(S48=M54,1,0)))","v":0.01},null,null,null,null,null,{"$f":"IF(AA48<1,0.01,IF(Y48>V51,2,IF(Y48=V51,1,0)))","v":0.01},null,null,{"$f":"IF(AD48<1,0.01,IF(AB48>V54,2,IF(AB48=V54,1,0)))","v":0.01},null,null,null,{"$f":"Q49+T49+Z49+AC49","v":0.04}]
[null,null,null,"Pts","Rep","Série",null,null,null,null,null,null,null,null,null,{"$f":"F57","v":0},null,{"$f":"P48/R48","v":{"$error":"#DIV/0!"}},{"$f":"F51","v":0},null,{"$f":"S48/U48","v":{"$error":"#DIV/0!"}},null,null,null,{"$f":"F66","v":0},null,{"$f":"Y48/AA48","v":{"$error":"#DIV/0!"}},{"$f":"F60","v":0},null,{"$f":"AB48/AD48","v":{"$error":"#DIV/0!"}},null,{"$f":"MAX(P50,S50,Y50,AB50)","v":0},null,{"$f":"AF48/AH48","v":{"$error":"#DIV/0!"}}]
[null,"Tour 1\nMatch aller",{"$f":"C38","v":0},null,null,null,null,null,null,null,{"$f":"C39","v":0},null,{"$f":"D58","v":0},null,{"$f":"E57","v":0},"M",null,null,{"$f":"D54","v":0},null,{"$f":"E54","v":0},{"$f":"D67","v":0},null,{"$f":"E66","v":0},"M",null,null,{"$f":"D63","v":0},null,{"$f":"E63","v":0},null,{"$f":"M51+S51+V51+AB51","v":0},null,{"$f":"O51+U51+X51+AD51","v":0},{"$f":"AU51","v":{"$error":"#DIV/0!"}},null,{"$f":"AG52","v":0.04},{"$f":"RANK(AK51,AK$48:AK$56,0)","v":1},{"$f":"AH53","v":{"$error":"#DIV/0!"}},{"$f":"RANK(AM51,AM$48:AM$56,0)","v":{"$error":"#DIV/0!"}},{"$f":"MAX(O53,U53,X53,AD53)","v":{"$error":"#DIV/0!"}},{"$f":"RANK(AO51,AO$48:AO$56)","v":{"$error":"#DIV/0!"}},{"$f":"AF53","v":0},{"$f":"RANK(AQ51,AQ$48:AQ$56)","v":1},{"$f":"(AL51*1000)+(AN51*100)+(AP51*10)+(AR51*1)","v":{"$error":"#DIV/0!"}},{"$f":"AS51","v":{"$error":"#DIV/0!"}},{"$f":"RANK(AT51,AT$48:AT$56,1)","v":{"$error":"#DIV/0!"}},{"$f":"RANK(AU51,AU$48:AU$56,1)","v":{"$error":"#DIV/0!"}}]
[null,null,{"$f":"C40","v":0},null,null,null,null,null,null,null,null,null,null,{"$f":"IF(R48>0,2-Q49,0.01)","v":0.01},null,null,null,null,null,{"$f":"IF(U51<1,0.01,IF(S51>P54,2,IF(S51=P54,1,0)))","v":0.01},null,null,{"$f":"IF(AA48>0,2-Z49,0.01)","v":0.01},null,null,null,null,null,{"$f":"IF(AD51<1,0.01,IF(AB51>Y54,2,IF(AB51=Y54,1,0)))","v":0.01},null,null,null,{"$f":"N52+T52+W52+AC52","v":0.04}]
[null,null,null,null,null,null,null,null,null,null,null,null,{"$f":"F58","v":0},null,{"$f":"M51/O51","v":{"$error":"#DIV/0!"}},null,null,null,{"$f":"F54","v":0},null,{"$f":"S51/U51","v":{"$error":"#DIV/0!"}},{"$f":"F67","v":0},null,{"$f":"V51/X51","v":{"$error":"#DIV/0!"}},null,null,null,{"$f":"F63","v":0},null,{"$f":"AB51/AD51","v":{"$error":"#DIV/0!"}},null,{"$f":"MAXA(M53,S53,V53,AB53)","v":0},null,{"$f":"AF51/AH51","v":{"$error":"#DIV/0!"}}]
[null,"Tour 2\nMatch aller",{"$f":"C39","v":0},null,null,null,null,null,null,null,{"$f":"C40","v":0},null,{"$f":"D52","v":0},null,{"$f":"E51","v":0},{"$f":"D55","v":0},null,{"$f":"E54","v":0},"B",null,null,{"$f":"D61","v":0},null,{"$f":"E60","v":0},{"$f":"D64","v":0},null,{"$f":"E63","v":0},"B",null,null,null,{"$f":"M54+P54+V54+Y54","v":0},null,{"$f":"O54+R54+X54+AA54","v":0},{"$f":"AU54","v":{"$error":"#DIV/0!"}},null,{"$f":"AG55","v":0.04},{"$f":"RANK(AK54,AK$48:AK$56,0)","v":1},{"$f":"AH56","v":{"$error":"#DIV/0!"}},{"$f":"RANK(AM54,AM$48:AM$56,0)","v":{"$error":"#DIV/0!"}},{"$f":"MAX(O56,R56,X56,AA56)","v":{"$error":"#DIV/0!"}},{"$f":"RANK(AO54,AO$48:AO$56)","v":{"$error":"#DIV/0!"}},{"$f":"AF56","v":0},{"$f":"RANK(AQ54,AQ$48:AQ$56)","v":1},{"$f":"(AL54*1000)+(AN54*100)+(AP54*10)+(AR54*1)","v":{"$error":"#DIV/0!"}},{"$f":"AS54","v":{"$error":"#DIV/0!"}},{"$f":"RANK(AT54,AT$48:AT$56,1)","v":{"$error":"#DIV/0!"}},{"$f":"RANK(AU54,AU$48:AU$56,1)","v":{"$error":"#DIV/0!"}}]
[null,null,{"$f":"C40","v":0},null,null,null,null,null,null,null,null,null,null,{"$f":"IF(U48>0,2-T49,0.01)","v":0.01},null,null,{"$f":"IF(U51>0,2-T52,0.01)","v":0.01},null,null,null,null,null,{"$f":"IF(AD48>0,2-AC49,0.01)","v":0.01},null,null,{"$f":"IF(AD51>0,2-AC52,0.01)","v":0.01},null,null,null,null,null,null,{"$f":"N55+Q55+W55+Z55","v":0.04}]
[null,null,null,null,null,null,null,null,null,null,null,null,{"$f":"F52","v":0},null,{"$f":"M54/O54","v":{"$error":"#DIV/0!"}},{"$f":"F55","v":0},null,{"$f":"P54/R54","v":{"$error":"#DIV/0!"}},null,null,null,{"$f":"F61","v":0},null,{"$f":"V54/X54","v":{"$error":"#DIV/0!"}},{"$f":"F64","v":0},null,{"$f":"Y54/AA54","v":{"$error":"#DIV/0!"}},null,null,null,null,{"$f":"MAXA(M56,P56,V56,Y56)","v":0},null,{"$f":"AF54/AH54","v":{"$error":"#DIV/0!"}}]
[null,"Tour 3\nMatch aller",{"$f":"C38","v":0}]
[null,null,{"$f":"C39","v":0},null,null,null,null,null,null,null,null,null,"Pas de prolongation en cas de match nul."]
[]
[null,"Tour 1\nMatch retour",{"$f":"C38","v":0}]
[null,null,{"$f":"C40","v":0}]
[]
[null,"Tour 2\nMatch retour",{"$f":"C39","v":0}]
[null,null,{"$f":"C40","v":0}]
[]
[null,"Tour 3\nMatch retour",{"$f":"C38","v":0}]
[null,null,{"$f":"C39","v":0}]
[]
[null,"Joueur 1",{"$f":"'Saisie des joueurs'!L20","v":0}]
[null,"Joueur 2",{"$f":"'Saisie des joueurs'!L23","v":0}]
[null,"Joueur 3",{"$f":"'Saisie des joueurs'!L28","v":0}]
[null,"Joueur 4",{"$f":"'Saisie des joueurs'!L31","v":0}]
[]
[]
[null,"SAISIE DES RESULTATS",null,null,null,null,null,null,null,null,null,null,{"$f":"C69","v":0},null,null,{"$f":"C70","v":0},null,null,{"$f":"C71","v":0},null,null,{"$f":"C72","v":0},null,null,null,"TOTAUX",null,null,"CLASSEMENT"]
[]
[null,null,null,null,null,null,null,null,null,null,null,null,null,null,null,null,null,null,null,null,null,null,null,null,null,null,null,null,null,null,null,null,null,null,null,null,"Classement",null,"Classement",null,"Classement",null,"Classement",null,"Classement",null,"GENERAL","RANG"]
[null,null,"POULE C",null,null,null,null,null,null,null,null,null,null,null,null,null,null,null,null,null,null,null,null,null,null,null,null,null,null,null,null,null,null,null,null,null,"Point-Match","CLS-M","Moy-Gen","CLS-G","Moy-Part","CLS-P","M-Series","CLS-S","MGPS","CLS","CLS"]
[null,null,null,null,null,null,null,null,null,null,{"$f":"C69","v":0},null,"L",null,null,{"$f":"D94","v":0},null,{"$f":"E94","v":0},{"$f":"D88","v":0},null,{"$f":"E88","v":0},{"$f":"D82","v":0},null,{"$f":"E82","v":0},null,{"$f":"P79+S79+V79","v":0},null,{"$f":"R79+U79+X79","v":0},{"$f":"AV79","v":{"$error":"#DIV/0!"}},null,null,null,null,null,null,null,{"$f":"AA80","v":0.03},{"$f":"RANK(AK79,AK$79:AK$90,0)","v":1},{"$f":"AB81","v":{"$error":"#DIV/0!"}},{"$f":"RANK(AM79,AM$79:AM$90,0)","v":{"$error":"#DIV/0!"}},{"$f":"MAX(R81,U81,X81)","v":{"$error":"#DIV/0!"}},{"$f":"RANK(AO79,AO$79:AO$90)","v":{"$error":"#DIV/0!"}},{"$f":"Z81","v":0},{"$f":"RANK(AQ79,AQ$79:AQ$90)","v":1},{"$f":"(AL79*1000)+(AN79*100)+(AP79*10)+(AR79*1)","v":{"$error":"#DIV/0!"}},{"$f":"AS79","v":{"$error":"#DIV/0!"}},{"$f":"RANK(AT79,AT$79:AT$90,1)","v":{"$error":"#DIV/0!"}},{"$f":"RANK(AU79,AU$79:AU$90,1)","v":{"$error":"#DIV/0!"}}]
[null,null,null,null,null,null,null,null,null,null,null,null,null,null,null,null,{"$f":"IF(R79<1,0.01,IF(P79>M82,2,IF(P79=M82,1,0)))","v":0.01},null,null,{"$f":"IF(U79<1,0.01,IF(S79>M85,2,IF(S79=M85,1,0)))","v":0.01},null,null,{"$f":"IF(X79<1,0.01,IF(V79>M88,2,IF(V79=M88,1,0)))","v":0.01},null,null,null,{"$f":"W80+T80+Q80","v":0.03}]
[null,null,null,"Pts","Rep","Série",null,null,null,null,null,null,null,null,null,{"$f":"F94","v":0},null,{"$f":"P79/R79","v":{"$error":"#DIV/0!"}},{"$f":"F88","v":0},null,{"$f":"S79/U79","v":{"$error":"#DIV/0!"}},{"$f":"F82","v":0},null,{"$f":"V79/X79","v":{"$error":"#DIV/0!"}},null,{"$f":"MAX(V81,S81,P81)","v":0},null,{"$f":"Z79/AB79","v":{"$error":"#DIV/0!"}}]
[null,"Tour 1",{"$f":"C69","v":0},null,null,null,null,null,null,null,{"$f":"C70","v":0},null,{"$f":"D95","v":0},null,{"$f":"E94","v":0},"M",null,null,{"$f":"D85","v":0},null,{"$f":"E85","v":0},{"$f":"D92","v":0},null,{"$f":"E91","v":0},null,{"$f":"M82+S82+V82","v":0},null,{"$f":"O82+U82+X82","v":0},{"$f":"AV82","v":{"$error":"#DIV/0!"}},null,null,null,null,null,null,null,{"$f":"AA83","v":0.03},{"$f":"RANK(AK82,AK$79:AK$90,0)","v":1},{"$f":"AB84","v":{"$error":"#DIV/0!"}},{"$f":"RANK(AM82,AM$79:AM$90,0)","v":{"$error":"#DIV/0!"}},{"$f":"MAX(R84,U84,X84)","v":{"$error":"#DIV/0!"}},{"$f":"RANK(AO82,AO$79:AO$90)","v":{"$error":"#DIV/0!"}},{"$f":"Z84","v":0},{"$f":"RANK(AQ82,AQ$79:AQ$90)","v":1},{"$f":"(AL82*1000)+(AN82*100)+(AP82*10)+(AR82*1)","v":{"$error":"#DIV/0!"}},{"$f":"AS82","v":{"$error":"#DIV/0!"}},{"$f":"RANK(AT82,AT$79:AT$90,1)","v":{"$error":"#DIV/0!"}},{"$f":"RANK(AU82,AU$79:AU$90,1)","v":{"$error":"#DIV/0!"}}]
[null,null,{"$f":"C72","v":0},null,null,null,null,null,null,null,null,null,null,{"$f":"IF(R79>0,2-Q80,0.01)","v":0.01},null,null,null,null,null,{"$f":"IF(U82<1,0.01,IF(S82>P85,2,IF(S82=P85,1,0)))","v":0.01},null,null,{"$f":"IF(X82<1,0.01,IF(V82>P88,2,IF(V82=P88,1,0)))","v":0.01},null,null,null,{"$f":"N83+T83+W83","v":0.03}]
[null,null,null,null,null,null,null,null,null,null,null,null,{"$f":"F95","v":0},null,{"$f":"M82/O82","v":{"$error":"#DIV/0!"}},null,null,null,{"$f":"F85","v":0},null,{"$f":"S82/U82","v":{"$error":"#DIV/0!"}},{"$f":"F92","v":0},null,{"$f":"V82/X82","v":{"$error":"#DIV/0!"}},null,{"$f":"MAXA(S84,V84,M84)","v":0},null,{"$f":"Z82/AB82","v":{"$error":"#DIV/0!"}}]
[null,"Tour 2",{"$f":"C70","v":0},null,null,null,null,null,null,null,{"$f":"C71","v":0},null,{"$f":"D89","v":0},null,{"$f":"E88","v":0},{"$f":"D86","v":0},null,{"$f":"E85","v":0},"B",null,null,{"$f":"D97","v":0},null,{"$f":"E97","v":0},null,{"$f":"M85+P85+V85","v":0},null,{"$f":"O85+U85+X85","v":0},{"$f":"AV85","v":{"$error":"#DIV/0!"}},null,null,null,null,null,null,null,{"$f":"AA86","v":0.02},{"$f":"RANK(AK85,AK$79:AK$90,0)","v":4},{"$f":"AB87","v":{"$error":"#DIV/0!"}},{"$f":"RANK(AM85,AM$79:AM$90,0)","v":{"$error":"#DIV/0!"}},{"$f":"MAX(R87,U87,X87)","v":{"$error":"#DIV/0!"}},{"$f":"RANK(AO85,AO$79:AO$90)","v":{"$error":"#DIV/0!"}},{"$f":"Z87","v":0},{"$f":"RANK(AQ85,AQ$79:AQ$90)","v":1},{"$f":"(AL85*1000)+(AN85*100)+(AP85*10)+(AR85*1)","v":{"$error":"#DIV/0!"}},{"$f":"AS85","v":{"$error":"#DIV/0!"}},{"$f":"RANK(AT85,AT$79:AT$90,1)","v":{"$error":"#DIV/0!"}},{"$f":"RANK(AU85,AU$79:AU$90,1)","v":{"$error":"#DIV/0!"}}]
[null,null,{"$f":"C71","v":0},null,null,null,null,null,null,null,null,null,null,{"$f":"IF(U79>0,2-T80,0.01)","v":0.01},null,null,{"$f":"IF(U82>0,2-T83,0.01)","v":0.01},null,null,null,null,null,{"$f":"IF(X85<1,0.01,IF(V85>S88,2,IF(V85=S88,1,0)))","v":0.01},null,null,null,{"$f":"N86+T86+W86","v":0.02}]
[null,null,null,null,null,null,null,null,null,null,null,null,{"$f":"F89","v":0},null,{"$f":"M85/O85","v":{"$error":"#DIV/0!"}},{"$f":"F86","v":0},null,{"$f":"P85/R85","v":{"$error":"#DIV/0!"}},null,null,null,{"$f":"F97","v":0},null,{"$f":"V85/X85","v":{"$error":"#DIV/0!"}},null,{"$f":"MAXA(V87,P87,M87)","v":0},null,{"$f":"Z85/AB85","v":{"$error":"#DIV/0!"}}]
[null,"Tour 3",{"$f":"C69","v":0},null,null,null,null,null,null,null,{"$f":"C72","v":0},null,{"$f":"D83","v":0},null,{"$f":"E82","v":0},{"$f":"D91","v":0},null,{"$f":"E91","v":0},{"$f":"D98","v":0},null,{"$f":"E97","v":0},null,null,null,null,{"$f":"S88+V88+Y88","v":0},null,{"$f":"U88+R88+O88","v":0},{"$f":"AV88","v":{"$error":"#DIV/0!"}},null,null,null,null,null,null,null,{"$f":"AA89","v":0.03},{"$f":"RANK(AK88,AK$79:AK$90,0)","v":1},{"$f":"AB90","v":{"$error":"#DIV/0!"}},{"$f":"RANK(AM88,AM$79:AM$90,0)","v":{"$error":"#DIV/0!"}},{"$f":"MAX(R90,U90,X90)","v":{"$error":"#DIV/0!"}},{"$f":"RANK(AO88,AO$79:AO$90)","v":{"$error":"#DIV/0!"}},{"$f":"Z90","v":0},{"$f":"RANK(AQ88,AQ$79:AQ$90)","v":1},{"$f":"(AL88*1000)+(AN88*100)+(AP88*10)+(AR88*1)","v":{"$error":"#DIV/0!"}},{"$f":"AS88","v":{"$error":"#DIV/0!"}},{"$f":"RANK(AT88,AT$79:AT$90,1)","v":{"$error":"#DIV/0!"}},{"$f":"RANK(AU88,AU$79:AU$90,1)","v":{"$error":"#DIV/0!"}}]
[null,null,{"$f":"C71","v":0},null,null,null,null,null,null,null,null,null,null,{"$f":"IF(X79>0,2-W80,0.01)","v":0.01},null,null,{"$f":"IF(X82>0,2-W83,0.01)","v":0.01},null,null,{"$f":"IF(X85>0,2-W86,0.01)","v":0.01},null,null,null,null,null,null,{"$f":"N89+Q89+T89","v":0.03}]
[null,null,null,null,null,null,null,null,null,null,null,null,{"$f":"F83","v":0},null,{"$f":"M88/O88","v":{"$error":"#DIV/0!"}},{"$f":"F91","v":0},null,{"$f":"P88/R88","v":{"$error":"#DIV/0!"}},{"$f":"F98","v":0},null,{"$f":"S88/U88","v":{"$error":"#DIV/0!"}},null,null,null,null,{"$f":"MAXA(S90,V90,Y90)","v":0},null,{"$f":"Z88/AB88","v":{"$error":"#DIV/0!"}}]
[null,"Tour 4",{"$f":"C72","v":0}]
[null,null,{"$f":"C70","v":0}]
[]
[null,"Tour 5",{"$f":"C69","v":0}]
[null,null,{"$f":"C70","v":0}]
[]
[null,"Tour 6",{"$f":"C71","v":0}]
[null,null,{"$f":"C72","v":0}]
[]
[null,"Joueur 1",{"$f":"'Saisie des joueurs'!L21","v":0}]
[null,"Joueur 2",{"$f":"'Saisie des joueurs'!L22","v":0}]
[null,"Joueur 3",{"$f":"'Saisie des joueurs'!L29","v":0}]
[null,"Joueur 4",{"$f":"'Saisie des joueurs'!L30","v":0}]
[]
[]
[null,"SAISIE DES RESULTATS",null,null,null,null,null,null,null,null,null,null,{"$f":"C100","v":0},null,null,{"$f":"C101","v":0},null,null,{"$f":"C102","v":0},null,null,{"$f":"C103","v":0},null,null,null,"TOTAUX",null,null,"CLASSEMENT"]
[]
[null,null,null,null,null,null,null,null,null,null,null,null,null,null,null,null,null,null,null,null,null,null,null,null,null,null,null,null,null,null,null,null,null,null,null,null,"Classement",null,"Classement",null,"Classement",null,"Classement",null,"Classement",null,"GENERAL","RANG"]
[null,null,"POULE D",null,null,null,null,null,null,null,null,null,null,null,null,null,null,null,null,null,null,null,null,null,null,null,null,null,null,null,null,null,null,null,null,null,"Point-Match","CLS-M","Moy-Gen","CLS-G","Moy-Part","CLS-P","M-Series","CLS-S","MGPS","CLS","CLS"]
[null,null,null,null,null,null,null,null,null,null,{"$f":"C100","v":0},null,"L",null,null,{"$f":"D125","v":0},null,{"$f":"E125","v":0},{"$f":"D119","v":0},null,{"$f":"E119","v":0},{"$f":"D113","v":0},null,{"$f":"E113","v":0},null,{"$f":"P110+S110+V110","v":0},null,{"$f":"R110+U110+X110","v":0},{"$f":"AV110","v":{"$error":"#DIV/0!"}},null,null,null,null,null,null,null,{"$f":"AA111","v":0.03},{"$f":"RANK(AK110,AK$110:AK$121,0)","v":1},{"$f":"AB112","v":{"$error":"#DIV/0!"}},{"$f":"RANK(AM110,AM$79:AM$90,0)","v":{"$error":"#DIV/0!"}},{"$f":"MAX(R112,U112,X112)","v":{"$error":"#DIV/0!"}},{"$f":"RANK(AO110,AO$110:AO$121)","v":{"$error":"#DIV/0!"}},{"$f":"Z112","v":0},{"$f":"RANK(AQ110,AQ$110:AQ$121)","v":1},{"$f":"(AL110*1000)+(AN110*100)+(AP110*10)+(AR110*1)","v":{"$error":"#DIV/0!"}},{"$f":"AS110","v":{"$error":"#DIV/0!"}},{"$f":"RANK(AT110,AT$110:AT$121,1)","v":{"$error":"#DIV/0!"}},{"$f":"RANK(AU110,AU$110:AU$121,1)","v":{"$error":"#DIV/0!"}}]
[null,null,null,null,null,null,null,null,null,null,null,null,null,null,null,null,{"$f":"IF(R110<1,0.01,IF(P110>M113,2,IF(P110=M113,1,0)))","v":0.01},null,null,{"$f":"IF(U110<1,0.01,IF(S110>M116,2,IF(S110=M116,1,0)))","v":0.01},null,null,{"$f":"IF(X110<1,0.01,IF(V110>M119,2,IF(V110=M119,1,0)))","v":0.01},null,null,null,{"$f":"W111+T111+Q111","v":0.03}]
[null,null,null,"Pts","Rep","Série",null,null,null,null,null,null,null,null,null,{"$f":"F125","v":0},null,{"$f":"P110/R110","v":{"$error":"#DIV/0!"}},{"$f":"F119","v":0},null,{"$f":"S110/U110","v":{"$error":"#DIV/0!"}},{"$f":"F113","v":0},null,{"$f":"V110/X110","v":{"$error":"#DIV/0!"}},null,{"$f":"MAX(V112,S112,P112)","v":0},null,{"$f":"Z110/AB110","v":{"$error":"#DIV/0!"}}]
[null,"Tour 1",{"$f":"C100","v":0},null,null,null,null,null,null,null,{"$f":"C101","v":0},null,{"$f":"D126","v":0},null,{"$f":"E125","v":0},"M",null,null,{"$f":"D116","v":0},null,{"$f":"E116","v":0},{"$f":"D123","v":0},null,{"$f":"E122","v":0},null,{"$f":"M113+S113+V113","v":0},null,{"$f":"O113+U113+X113","v":0},{"$f":"AV113","v":{"$error":"#DIV/0!"}},null,null,null,null,null,null,null,{"$f":"AA114","v":0.03},{"$f":"RANK(AK113,AK$110:AK$121,0)","v":1},{"$f":"AB115","v":{"$error":"#DIV/0!"}},{"$f":"RANK(AM113,AM$79:AM$90,0)","v":{"$error":"#DIV/0!"}},{"$f":"MAX(R115,U115,X115)","v":{"$error":"#DIV/0!"}},{"$f":"RANK(AO113,AO$110:AO$121)","v":{"$error":"#DIV/0!"}},{"$f":"Z115","v":0},{"$f":"RANK(AQ113,AQ$110:AQ$121)","v":1},{"$f":"(AL113*1000)+(AN113*100)+(AP113*10)+(AR113*1)","v":{"$error":"#DIV/0!"}},{"$f":"AS113","v":{"$error":"#DIV/0!"}},{"$f":"RANK(AT113,AT$110:AT$121,1)","v":{"$error":"#DIV/0!"}},{"$f":"RANK(AU113,AU$110:AU$121,1)","v":{"$error":"#DIV/0!"}}]
[null,null,{"$f":"C103","v":0},null,null,null,null,null,null,null,null,null,null,{"$f":"IF(R110>0,2-Q111,0.01)","v":0.01},null,null,null,null,null,{"$f":"IF(U113<1,0.01,IF(S113>P116,2,IF(S113=P116,1,0)))","v":0.01},null,null,{"$f":"IF(X113<1,0.01,IF(V113>P119,2,IF(V113=P119,1,0)))","v":0.01},null,null,null,{"$f":"N114+T114+W114","v":0.03}]
[null,null,null,null,null,null,null,null,null,null,null,null,{"$f":"F126","v":0},null,{"$f":"M113/O113","v":{"$error":"#DIV/0!"}},null,null,null,{"$f":"F116","v":0},null,{"$f":"S113/U113","v":{"$error":"#DIV/0!"}},{"$f":"F123","v":0},null,{"$f":"V113/X113","v":{"$error":"#DIV/0!"}},null,{"$f":"MAXA(S115,V115,M115)","v":0},null,{"$f":"Z113/AB113","v":{"$error":"#DIV/0!"}}]
[null,"Tour 2",{"$f":"C101","v":0},null,null,null,null,null,null,null,{"$f":"C102","v":0},null,{"$f":"D120","v":0},null,{"$f":"E119","v":0},{"$f":"D117","v":0},null,{"$f":"E116","v":0},"B",null,null,{"$f":"D128","v":0},null,{"$f":"E128","v":0},null,{"$f":"M116+P116+V116","v":0},null,{"$f":"O116+U116+X116","v":0},{"$f":"AV116","v":{"$error":"#DIV/0!"}},null,null,null,null,null,null,null,{"$f":"AA117","v":0.02},{"$f":"RANK(AK116,AK$110:AK$121,0)","v":4},{"$f":"AB118","v":{"$error":"#DIV/0!"}},{"$f":"RANK(AM116,AM$79:AM$90,0)","v":{"$error":"#DIV/0!"}},{"$f":"MAX(R118,U118,X118)","v":{"$error":"#DIV/0!"}},{"$f":"RANK(AO116,AO$110:AO$121)","v":{"$error":"#DIV/0!"}},{"$f":"Z118","v":0},{"$f":"RANK(AQ116,AQ$110:AQ$121)","v":1},{"$f":"(AL116*1000)+(AN116*100)+(AP116*10)+(AR116*1)","v":{"$error":"#DIV/0!"}},{"$f":"AS116","v":{"$error":"#DIV/0!"}},{"$f":"RANK(AT116,AT$110:AT$121,1)","v":{"$error":"#DIV/0!"}},{"$f":"RANK(AU116,AU$110:AU$121,1)","v":{"$error":"#DIV/0!"}}]
[null,null,{"$f":"C102","v":0},null,null,null,null,null,null,null,null,null,null,{"$f":"IF(U110>0,2-T111,0.01)","v":0.01},null,null,{"$f":"IF(U113>0,2-T114,0.01)","v":0.01},null,null,null,null,null,{"$f":"IF(X116<1,0.01,IF(V116>S119,2,IF(V116=S119,1,0)))","v":0.01},null,null,null,{"$f":"N117+T117+W117","v":0.02}]
[null,null,null,null,null,null,null,null,null,null,null,null,{"$f":"F120","v":0},null,{"$f":"M116/O116","v":{"$error":"#DIV/0!"}},{"$f":"F117","v":0},null,{"$f":"P116/R116","v":{"$error":"#DIV/0!"}},null,null,null,{"$f":"F128","v":0},null,{"$f":"V116/X116","v":{"$error":"#DIV/0!"}},null,{"$f":"MAXA(V118,P118,M118)","v":0},null,{"$f":"Z116/AB116","v":{"$error":"#DIV/0!"}}]
[null,"Tour 3",{"$f":"C100","v":0},null,null,null,null,null,null,null,{"$f":"C103","v":0},null,{"$f":"D114","v":0},null,{"$f":"E113","v":0},{"$f":"D122","v":0},null,{"$f":"E122","v":0},{"$f":"D129","v":0},null,{"$f":"E128","v":0},null,null,null,null,{"$f":"S119+V119+Y119","v":0},null,{"$f":"U119+R119+O119","v":0},{"$f":"AV119","v":{"$error":"#DIV/0!"}},null,null,null,null,null,null,null,{"$f":"AA120","v":0.03},{"$f":"RANK(AK119,AK$110:AK$121,0)","v":1},{"$f":"AB121","v":{"$error":"#DIV/0!"}},{"$f":"RANK(AM119,AM$79:AM$90,0)","v":{"$error":"#DIV/0!"}},{"$f":"MAX(R121,U121,X121)","v":{"$error":"#DIV/0!"}},{"$f":"RANK(AO119,AO$110:AO$121)","v":{"$error":"#DIV/0!"}},{"$f":"Z121","v":0},{"$f":"RANK(AQ119,AQ$110:AQ$121)","v":1},{"$f":"(AL119*1000)+(AN119*100)+(AP119*10)+(AR119*1)","v":{"$error":"#DIV/0!"}},{"$f":"AS119","v":{"$error":"#DIV/0!"}},{"$f":"RANK(AT119,AT$110:AT$121,1)","v":{"$error":"#DIV/0!"}},{"$f":"RANK(AU119,AU$110:AU$121,1)","v":{"$error":"#DIV/0!"}}]
[null,null,{"$f":"C102","v":0},null,null,null,null,null,null,null,null,null,null,{"$f":"IF(X110>0,2-W111,0.01)","v":0.01},null,null,{"$f":"IF(X113>0,2-W114,0.01)","v":0.01},null,null,{"$f":"IF(X116>0,2-W117,0.01)","v":0.01},null,null,null,null,null,null,{"$f":"N120+Q120+T120","v":0.03}]
[null,null,null,null,null,null,null,null,null,null,null,null,{"$f":"F114","v":0},null,{"$f":"M119/O119","v":{"$error":"#DIV/0!"}},{"$f":"F122","v":0},null,{"$f":"P119/R119","v":{"$error":"#DIV/0!"}},{"$f":"F129","v":0},null,{"$f":"S119/U119","v":{"$error":"#DIV/0!"}},null,null,null,null,{"$f":"MAXA(S121,V121,Y121)","v":0},null,{"$f":"Z119/AB119","v":{"$error":"#DIV/0!"}}]
[null,"Tour 4",{"$f":"C103","v":0}]
[null,null,{"$f":"C101","v":0}]
[]
[null,"Tour 5",{"$f":"C100","v":0}]
[null,null,{"$f":"C101","v":0}]
[]
[null,"Tour 6",{"$f":"C102","v":0}]
[null,null,{"$f":"C103","v":0}]

{"sheet":"15JOUEURS","index":26,"n_rows":129,"n_cols":48,"rows_kept":129,"cut":false,"hidden":true,"merged":[[14,43,14,44],[12,1,13,5],[9,2,9,5],[10,12,10,20],[16,37,18,37],[16,38,18,38],[12,31,15,33],[12,34,15,34],[13,10,15,11],[14,36,14,37],[14,38,14,39],[12,24,15,26],[12,27,15,29],[1,1,3,13],[14,46,15,46],[15,2,16,5],[16,10,18,11],[16,12,18,14],[16,21,18,23],[16,34,18,34],[16,36,18,36],[16,40,18,40],[16,41,18,41],[16,42,18,42],[16,43,18,43],[16,44,18,44],[12,12,15,14],[12,15,15,17],[12,18,15,20],[12,21,15,23],[16,46,18,46],[10,21,10,29],[14,41,14,42],[16,45,18,45],[6,2,6,5],[7,2,7,5],[8,2,8,5],[16,47,18,47],[19,1,20,1],[19,4,20,4],[19,10,21,11],[19,15,21,17],[19,24,21,26],[19,34,21,34],[19,36,21,36],[16,39,18,39],[19,37,21,37],[19,38,21,38],[19,39,21,39],[19,40,21,40],[19,41,21,41],[19,42,21,42],[19,43,21,43],[19,44,21,44],[19,45,21,45],[19,46,21,46],[19,47,21,47],[22,39,24,39],[22,40,24,40],[22,41,24,41],[22,42,24,42],[22,43,24,43],[22,44,24,44],[22,45,24,45],[22,46,24,46],[31,1,32,1],[31,4,32,4],[22,1,23,1],[22,4,23,4],[22,10,24,11],[22,18,24,20],[22,27,24,29],[22,34,24,34],[22,36,24,36],[22,37,24,37],[22,38,24,38],[34,1,35,1],[34,4,35,4],[22,47,24,47],[25,1,26,1],[25,4,26,4],[26,12,26,34],[28,1,29,1],[28,4,29,4],[47,46,49,46],[47,47,49,47],[37,2,37,5],[38,2,38,5],[39,2,39,5],[40,2,40,5],[45,40,45,41],[45,42,45,43],[43,1,44,5],[43,10,46,11],[43,12,46,14],[43,15,46,17],[43,18,46,20],[43,21,46,23],[47,38,49,38],[47,39,49,39],[45,38,45,39],[50,38,52,38],[47,40,49,40],[45,44,45,45],[45,47,46,47],[46,2,47,5],[47,10,49,11],[47,12,49,14],[47,28,49,29],[47,36,49,36],[47,37,49,37],[50,47,52,47],[50,39,52,39],[50,40,52,40],[53,1,54,1],[53,4,54,4],[53,10,55,11],[53,18,55,20],[53,28,55,29],[53,36,55,36],[43,25,46,27],[43,28,46,29],[45,36,45,37],[50,1,51,1],[50,4,51,4],[50,10,52,11],[50,15,52,17],[50,28,52,29],[50,36,52,36],[50,37,52,37],[56,46,58,46],[56,47,58,47],[47,41,49,41],[47,42,49,42],[47,43,49,43],[47,44,49,44],[47,45,49,45],[53,38,55,38],[53,39,55,39],[53,40,55,40],[53,41,55,41],[53,42,55,42],[53,43,55,43],[56,41,58,41],[56,42,58,42],[53,44,55,44],[53,45,55,45],[53,46,55,46],[50,41,52,41],[50,42,52,42],[50,43,52,43],[50,44,52,44],[50,45,52,45],[50,46,52,46],[70,2,70,5],[53,47,55,47],[56,1,57,1],[56,4,57,4],[56,10,58,11],[56,21,58,23],[56,28,58,29],[56,36,58,36],[59,1,60,1],[59,4,60,4],[56,37,58,37],[56,38,58,38],[56,39,58,39],[56,40,58,40],[62,1,63,1],[62,4,63,4],[65,1,66,1],[65,4,66,4],[68,2,68,5],[69,2,69,5],[53,37,55,37],[56,43,58,43],[56,44,58,44],[56,45,58,45],[78,47,80,47],[78,41,80,41],[78,42,80,42],[78,43,80,43],[71,2,71,5],[74,1,75,5],[74,10,77,11],[74,12,77,14],[74,15,77,17],[74,28,77,29],[76,36,76,37],[76,38,76,39],[78,44,80,44],[78,45,80,45],[78,46,80,46],[76,47,77,47],[77,2,78,5],[78,10,80,11],[78,12,80,14],[78,28,80,29],[78,36,80,36],[78,37,80,37],[74,18,77,20],[74,21,77,23],[74,25,77,27],[78,38,80,38],[78,39,80,39],[78,40,80,40],[76,40,76,41],[76,42,76,43],[76,44,76,45],[84,45,86,45],[84,46,86,46],[84,41,86,41],[81,40,83,40],[81,41,83,41],[81,42,83,42],[84,42,86,42],[84,40,86,40],[84,1,85,1],[84,4,85,4],[84,10,86,11],[84,18,86,20],[84,28,86,29],[81,37,83,37],[81,36,83,36],[84,38,86,38],[84,39,86,39],[84,36,86,36],[84,37,86,37],[81,1,82,1],[81,4,82,4],[81,10,83,11],[81,15,83,17],[81,28,83,29],[81,38,83,38],[81,39,83,39],[87,45,89,45],[87,46,89,46],[87,47,89,47],[81,43,83,43],[81,44,83,44],[81,45,83,45],[81,46,83,46],[81,47,83,47],[84,43,86,43],[84,44,86,44],[87,43,89,43],[87,44,89,44],[84,47,86,47],[87,41,89,41],[87,42,89,42],[87,1,88,1],[87,4,88,4],[87,10,89,11],[87,21,89,23],[87,28,89,29],[87,36,89,36],[90,1,91,1],[90,4,91,4],[87,37,89,37],[87,38,89,38],[87,39,89,39],[87,40,89,40],[93,1,94,1],[93,4,94,4],[96,1,97,1],[96,4,97,4],[99,2,99,5],[100,2,100,5],[109,47,111,47],[109,41,111,41],[109,42,111,42],[109,43,111,43],[101,2,101,5],[102,2,102,5],[105,1,106,5],[105,10,108,11],[105,12,108,14],[105,15,108,17],[105,28,108,29],[107,36,107,37],[107,38,107,39],[109,44,111,44],[109,45,111,45],[109,46,111,46],[107,47,108,47],[108,2,109,5],[115,43,117,43],[115,44,117,44],[109,10,111,11],[109,12,111,14],[109,28,111,29],[109,36,111,36],[109,37,111,37],[105,18,108,20],[105,21,108,23],[105,25,108,27],[109,38,111,38],[115,39,117,39],[112,46,114,46],[112,47,114,47],[109,39,111,39],[109,40,111,40],[107,40,107,41],[107,42,107,43],[107,44,107,45],[112,36,114,36],[112,43,114,43],[112,44,114,44],[112,45,114,45],[112,40,114,40],[112,41,114,41],[112,42,114,42],[112,37,114,37],[112,38,114,38],[112,39,114,39],[127,1,128,1],[127,4,128,4],[124,1,125,1],[124,4,125,4],[118,1,119,1],[118,4,119,4],[118,10,120,11],[118,21,120,23],[118,28,120,29],[118,36,120,36],[112,1,113,1],[112,4,113,4],[112,10,114,11],[112,15,114,17],[112,28,114,29],[115,38,117,38],[115,36,117,36],[115,37,117,37],[115,45,117,45],[118,46,120,46],[118,47,120,47],[121,1,122,1],[121,4,122,4],[118,37,120,37],[118,38,120,38],[118,39,120,39],[118,40,120,40],[118,43,120,43],[118,41,120,41],[118,42,120,42],[118,44,120,44],[118,45,120,45],[115,1,116,1],[115,4,116,4],[115,10,117,11],[115,18,117,20],[115,28,117,29],[115,46,117,46],[115,47,117,47],[115,42,117,42],[115,40,117,40],[115,41,117,41]]}
[]
[null,"LIGUE MÉDITERRANÉENNE DE BILLARD"]
[]
[]
[]
[]
[null,"Joueur 1",{"$f":"'Saisie des joueurs'!L18","v":0}]
[null,"Joueur 2",{"$f":"'Saisie des joueurs'!L25","v":0}]
[null,"Joueur 3",{"$f":"'Saisie des joueurs'!L26","v":0}]
[]
[null,null,null,null,null,null,null,null,null,null,null,null,"MATCH ALLER",null,null,null,null,null,null,null,null,"MATCH RETOUR"]
[]
[null,"SAISIE DES RESULTATS",null,null,null,null,null,null,null,null,null,null,{"$f":"C7","v":0},null,null,{"$f":"C8","v":0},null,null,{"$f":"C9","v":0},null,null,{"$f":"C7","v":0},null,null,{"$f":"C8","v":0},null,null,{"$f":"C9","v":0},null,null,null,"TOTAUX",null,null,"CLASSEMENT"]
[]
[null,null,null,null,null,null,null,null,null,null,null,null,null,null,null,null,null,null,null,null,null,null,null,null,null,null,null,null,null,null,null,null,null,null,null,null,"Classement",null,"Classement",null,"Classement","Classement",null,"Classement",null,"GENERAL","RANG"]
[null,null,"POULE A",null,null,null,null,null,null,null,null,null,null,null,null,null,null,null,null,null,null,null,null,null,null,null,null,null,null,null,null,null,null,null,null,null,"Point-Match","CLS-M","Moy-Gen","CLS-G","Moy-Part","M-Series","CLS-S","MGPS","CLS","CLS"]
[null,null,null,null,null,null,null,null,null,null,{"$f":"C7","v":0},null,"L",null,null,{"$f":"D26","v":0},null,{"$f":"E26","v":0},{"$f":"D20","v":0},null,{"$f":"E20","v":0},"L",null,null,{"$f":"D35","v":0},null,{"$f":"E35","v":0},{"$f":"D29","v":0},null,{"$f":"E29","v":0},null,{"$f":"P17+S17+Y17+AB17","v":0},null,{"$f":"R17+U17+AA17+AD17","v":0},{"$f":"AU17","v":{"$error":"#DIV/0!"}},null,{"$f":"AG18","v":0.04},{"$f":"RANK(AK17,AK$17:AK$25,0)","v":1},{"$f":"AH19","v":{"$error":"#DIV/0!"}},{"$f":"RANK(AM17,AM$17:AM$25,0)","v":{"$error":"#DIV/0!"}},{"$f":"MAX(R19,U19,AA19,AD19)","v":{"$error":"#DIV/0!"}},{"$f":"RANK(AO17,AO$17:AO$25)","v":{"$error":"#DIV/0!"}},{"$f":"AF19","v":0},{"$f":"RANK(AQ17,AQ$17:AQ$25)","v":1},{"$f":"(AL17*1000)+(AN17*100)+(AP17*10)+(AR17*1)","v":{"$error":"#DIV/0!"}},{"$f":"AS17","v":{"$error":"#DIV/0!"}},{"$f":"RANK(AT17,AT$17:AT$25,1)","v":{"$error":"#DIV/0!"}},{"$f":"RANK(AU17,AU$17:AU$25,1)","v":{"$error":"#DIV/0!"}}]
[null,null,null,null,null,null,null,null,null,null,null,null,null,null,null,null,{"$f":"IF(R17<1,0.01,IF(P17>M20,2,IF(P17=M20,1,0)))","v":0.01},null,null,{"$f":"IF(U17<1,0.01,IF(S17>M23,2,IF(S17=M23,1,0)))","v":0.01},null,null,null,null,null,{"$f":"IF(AA17<1,0.01,IF(Y17>V20,2,IF(Y17=V20,1,0)))","v":0.01},null,null,{"$f":"IF(AD17<1,0.01,IF(AB17>V23,2,IF(AB17=V23,1,0)))","v":0.01},null,null,null,{"$f":"Q18+T18+Z18+AC18","v":0.04}]
[null,null,null,"Pts","Rep","Série",null,null,null,null,null,null,null,null,null,{"$f":"F26","v":0},null,{"$f":"P17/R17","v":{"$error":"#DIV/0!"}},{"$f":"F20","v":0},null,{"$f":"S17/U17","v":{"$error":"#DIV/0!"}},null,null,null,{"$f":"F35","v":0},null,{"$f":"Y17/AA17","v":{"$error":"#DIV/0!"}},{"$f":"F29","v":0},null,{"$f":"AB17/AD17","v":{"$error":"#DIV/0!"}},null,{"$f":"MAX(P19,S19,Y19,AB19)","v":0},null,{"$f":"AF17/AH17","v":{"$error":"#DIV/0!"}}]
[null,"Tour 1\nMatch aller",{"$f":"C7","v":0},null,null,null,null,null,null,null,{"$f":"C8","v":0},null,{"$f":"D27","v":0},null,{"$f":"E26","v":0},"M",null,null,{"$f":"D23","v":0},null,{"$f":"E23","v":0},{"$f":"D36","v":0},null,{"$f":"E35","v":0},"M",null,null,{"$f":"D32","v":0},null,{"$f":"E32","v":0},null,{"$f":"M20+S20+V20+AB20","v":0},null,{"$f":"O20+U20+X20+AD20","v":0},{"$f":"AU20","v":{"$error":"#DIV/0!"}},null,{"$f":"AG21","v":0.04},{"$f":"RANK(AK20,AK$17:AK$25,0)","v":1},{"$f":"AH22","v":{"$error":"#DIV/0!"}},{"$f":"RANK(AM20,AM$17:AM$25,0)","v":{"$error":"#DIV/0!"}},{"$f":"MAX(R22,U22,AA22,AD22)","v":{"$error":"#DIV/0!"}},{"$f":"RANK(AO20,AO$17:AO$25)","v":{"$error":"#DIV/0!"}},{"$f":"AF22","v":0},{"$f":"RANK(AQ20,AQ$17:AQ$25)","v":1},{"$f":"(AL20*1000)+(AN20*100)+(AP20*10)+(AR20*1)","v":{"$error":"#DIV/0!"}},{"$f":"AS20","v":{"$error":"#DIV/0!"}},{"$f":"RANK(AT20,AT$17:AT$25,1)","v":{"$error":"#DIV/0!"}},{"$f":"RANK(AU20,AU$17:AU$25,1)","v":{"$error":"#DIV/0!"}}]
[null,null,{"$f":"C9","v":0},null,null,null,null,null,null,null,null,null,null,{"$f":"IF(R17>0,2-Q18,0.01)","v":0.01},null,null,null,null,null,{"$f":"IF(U20<1,0.01,IF(S20>P23,2,IF(S20=P23,1,0)))","v":0.01},null,null,{"$f":"IF(AA17>0,2-Z18,0.01)","v":0.01},null,null,null,null,null,{"$f":"IF(AD20<1,0.01,IF(AB20>Y23,2,IF(AB20=Y23,1,0)))","v":0.01},null,null,null,{"$f":"N21+T21+W21+AC21","v":0.04}]
[null,null,null,null,null,null,null,null,null,null,null,null,{"$f":"F27","v":0},null,{"$f":"M20/O20","v":{"$error":"#DIV/0!"}},null,null,null,{"$f":"F23","v":0},null,{"$f":"S20/U20","v":{"$error":"#DIV/0!"}},{"$f":"F36","v":0},null,{"$f":"V20/X20","v":{"$error":"#DIV/0!"}},null,null,null,{"$f":"F32","v":0},null,{"$f":"AB20/AD20","v":{"$error":"#DIV/0!"}},null,{"$f":"MAXA(M22,S22,V22,AB22)","v":0},null,{"$f":"AF20/AH20","v":{"$error":"#DIV/0!"}}]
[null,"Tour 2\nMatch aller",{"$f":"C8","v":0},null,null,null,null,null,null,null,{"$f":"C9","v":0},null,{"$f":"D21","v":0},null,{"$f":"E20","v":0},{"$f":"D24","v":0},null,{"$f":"E23","v":0},"B",null,null,{"$f":"D30","v":0},null,{"$f":"E29","v":0},{"$f":"D33","v":0},null,{"$f":"E32","v":0},"B",null,null,null,{"$f":"M23+P23+V23+Y23","v":0},null,{"$f":"O23+R23+X23+AA23","v":0},{"$f":"AU23","v":{"$error":"#DIV/0!"}},null,{"$f":"AG24","v":0.04},{"$f":"RANK(AK23,AK$17:AK$25,0)","v":1},{"$f":"AH25","v":{"$error":"#DIV/0!"}},{"$f":"RANK(AM23,AM$17:AM$25,0)","v":{"$error":"#DIV/0!"}},{"$f":"MAX(R25,U25,AA25,AD25)","v":{"$error":"#DIV/0!"}},{"$f":"RANK(AO23,AO$17:AO$25)","v":{"$error":"#DIV/0!"}},{"$f":"AF25","v":0},{"$f":"RANK(AQ23,AQ$17:AQ$25)","v":1},{"$f":"(AL23*1000)+(AN23*100)+(AP23*10)+(AR23*1)","v":{"$error":"#DIV/0!"}},{"$f":"AS23","v":{"$error":"#DIV/0!"}},{"$f":"RANK(AT23,AT$17:AT$25,1)","v":{"$error":"#DIV/0!"}},{"$f":"RANK(AU23,AU$17:AU$25,1)","v":{"$error":"#DIV/0!"}}]
[null,null,{"$f":"C9","v":0},null,null,null,null,null,null,null,null,null,null,{"$f":"IF(U17>0,2-T18,0.01)","v":0.01},null,null,{"$f":"IF(U20>0,2-T21,0.01)","v":0.01},null,null,null,null,null,{"$f":"IF(AD17>0,2-AC18,0.01)","v":0.01},null,null,{"$f":"IF(AD20>0,2-AC21,0.01)","v":0.01},null,null,null,null,null,null,{"$f":"N24+Q24+W24+Z24","v":0.04}]
[null,null,null,null,null,null,null,null,null,null,null,null,{"$f":"F21","v":0},null,{"$f":"M23/O23","v":{"$error":"#DIV/0!"}},{"$f":"F24","v":0},null,{"$f":"P23/R23","v":{"$error":"#DIV/0!"}},null,null,null,{"$f":"F30","v":0},null,{"$f":"V23/X23","v":{"$error":"#DIV/0!"}},{"$f":"F33","v":0},null,{"$f":"Y23/AA23","v":{"$error":"#DIV/0!"}},null,null,null,null,{"$f":"MAXA(M25,P25,V25,Y25)","v":0},null,{"$f":"AF23/AH23","v":{"$error":"#DIV/0!"}}]
[null,"Tour 3\nMatch aller",{"$f":"C7","v":0}]
[null,null,{"$f":"C8","v":0},null,null,null,null,null,null,null,null,null,"Pas de prolongation en cas de match nul."]
[]
[null,"Tour 1\nMatch retour",{"$f":"C7","v":0}]
[null,null,{"$f":"C9","v":0}]
[]
[null,"Tour 2\nMatch retour",{"$f":"C8","v":0}]
[null,null,{"$f":"C9","v":0}]
[]
[null,"Tour 3\nMatch retour",{"$f":"C7","v":0}]
[null,null,{"$f":"C8","v":0}]
[]
[null,"Joueur 1",{"$f":"'Saisie des joueurs'!L18","v":0}]
[null,"Joueur 2",{"$f":"'Saisie des joueurs'!L24","v":0}]
[null,"Joueur 3",{"$f":"'Saisie des joueurs'!L27","v":0}]
[null,"Joueur 4",{"$f":"'Saisie des joueurs'!L32","v":0}]
[]
[]
[null,"SAISIE DES RESULTATS",null,null,null,null,null,null,null,null,null,null,{"$f":"C38","v":0},null,null,{"$f":"C39","v":0},null,null,{"$f":"C40","v":0},null,null,{"$f":"C41","v":0},null,null,null,"TOTAUX",null,null,"CLASSEMENT"]
[]
[null,null,null,null,null,null,null,null,null,null,null,null,null,null,null,null,null,null,null,null,null,null,null,null,null,null,null,null,null,null,null,null,null,null,null,null,"Classement",null,"Classement",null,"Classement",null,"Classement",null,"Classement",null,"GENERAL","RANG"]
[null,null,"POULE B",null,null,null,null,null,null,null,null,null,null,null,null,null,null,null,null,null,null,null,null,null,null,null,null,null,null,null,null,null,null,null,null,null,"Point-Match","CLS-M","Moy-Gen","CLS-G","Moy-Part","CLS-P","M-Series","CLS-S","MGPS","CLS","CLS"]
[null,null,null,null,null,null,null,null,null,null,{"$f":"C38","v":0},null,"L",null,null,{"$f":"D63","v":0},null,{"$f":"E63","v":0},{"$f":"D57","v":0},null,{"$f":"E57","v":0},{"$f":"D51","v":0},null,{"$f":"E51","v":0},null,{"$f":"P48+S48+V48","v":0},null,{"$f":"R48+U48+X48","v":0},{"$f":"AV48","v":{"$error":"#DIV/0!"}},null,null,null,null,null,null,null,{"$f":"AA49","v":0.03},{"$f":"RANK(AK48,AK$48:AK$59,0)","v":1},{"$f":"AB50","v":{"$error":"#DIV/0!"}},{"$f":"RANK(AM48,AM$48:AM$59,0)","v":{"$error":"#DIV/0!"}},{"$f":"MAX(R50,U50,X50)","v":{"$error":"#DIV/0!"}},{"$f":"RANK(AO48,AO$48:AO$59)","v":{"$error":"#DIV/0!"}},{"$f":"Z50","v":0},{"$f":"RANK(AQ48,AQ$48:AQ$59)","v":1},{"$f":"(AL48*1000)+(AN48*100)+(AP48*10)+(AR48*1)","v":{"$error":"#DIV/0!"}},{"$f":"AS48","v":{"$error":"#DIV/0!"}},{"$f":"RANK(AT48,AT$48:AT$59,1)","v":{"$error":"#DIV/0!"}},{"$f":"RANK(AU48,AU$48:AU$59,1)","v":{"$error":"#DIV/0!"}}]
[null,null,null,null,null,null,null,null,null,null,null,null,null,null,null,null,{"$f":"IF(R48<1,0.01,IF(P48>M51,2,IF(P48=M51,1,0)))","v":0.01},null,null,{"$f":"IF(U48<1,0.01,IF(S48>M54,2,IF(S48=M54,1,0)))","v":0.01},null,null,{"$f":"IF(X48<1,0.01,IF(V48>M57,2,IF(V48=M57,1,0)))","v":0.01},null,null,null,{"$f":"W49+T49+Q49","v":0.03}]
[null,null,null,"Pts","Rep","Série",null,null,null,null,null,null,null,null,null,{"$f":"F63","v":0},null,{"$f":"P48/R48","v":{"$error":"#DIV/0!"}},{"$f":"F57","v":0},null,{"$f":"S48/U48","v":{"$error":"#DIV/0!"}},{"$f":"F51","v":0},null,{"$f":"V48/X48","v":{"$error":"#DIV/0!"}},null,{"$f":"MAX(V50,S50,P50)","v":0},null,{"$f":"Z48/AB48","v":{"$error":"#DIV/0!"}}]
[null,"Tour 1",{"$f":"C38","v":0},null,null,null,null,null,null,null,{"$f":"C39","v":0},null,{"$f":"D64","v":0},null,{"$f":"E63","v":0},"M",null,null,{"$f":"D54","v":0},null,{"$f":"E54","v":0},{"$f":"D61","v":0},null,{"$f":"E60","v":0},null,{"$f":"M51+S51+V51","v":0},null,{"$f":"O51+U51+X51","v":0},{"$f":"AV51","v":{"$error":"#DIV/0!"}},null,null,null,null,null,null,null,{"$f":"AA52","v":0.03},{"$f":"RANK(AK51,AK$48:AK$59,0)","v":1},{"$f":"AB53","v":{"$error":"#DIV/0!"}},{"$f":"RANK(AM51,AM$48:AM$59,0)","v":{"$error":"#DIV/0!"}},{"$f":"MAX(R53,U53,X53)","v":{"$error":"#DIV/0!"}},{"$f":"RANK(AO51,AO$48:AO$59)","v":{"$error":"#DIV/0!"}},{"$f":"Z53","v":0},{"$f":"RANK(AQ51,AQ$48:AQ$59)","v":1},{"$f":"(AL51*1000)+(AN51*100)+(AP51*10)+(AR51*1)","v":{"$error":"#DIV/0!"}},{"$f":"AS51","v":{"$error":"#DIV/0!"}},{"$f":"RANK(AT51,AT$48:AT$59,1)","v":{"$error":"#DIV/0!"}},{"$f":"RANK(AU51,AU$48:AU$59,1)","v":{"$error":"#DIV/0!"}}]
[null,null,{"$f":"C41","v":0},null,null,null,null,null,null,null,null,null,null,{"$f":"IF(R48>0,2-Q49,0.01)","v":0.01},null,null,null,null,null,{"$f":"IF(U51<1,0.01,IF(S51>P54,2,IF(S51=P54,1,0)))","v":0.01},null,null,{"$f":"IF(X51<1,0.01,IF(V51>P57,2,IF(V51=P57,1,0)))","v":0.01},null,null,null,{"$f":"N52+T52+W52","v":0.03}]
[null,null,null,null,null,null,null,null,null,null,null,null,{"$f":"F64","v":0},null,{"$f":"M51/O51","v":{"$error":"#DIV/0!"}},null,null,null,{"$f":"F54","v":0},null,{"$f":"S51/U51","v":{"$error":"#DIV/0!"}},{"$f":"F61","v":0},null,{"$f":"V51/X51","v":{"$error":"#DIV/0!"}},null,{"$f":"MAXA(S53,V53,M53)","v":0},null,{"$f":"Z51/AB51","v":{"$error":"#DIV/0!"}}]
[null,"Tour 2",{"$f":"C39","v":0},null,null,null,null,null,null,null,{"$f":"C40","v":0},null,{"$f":"D58","v":0},null,{"$f":"E57","v":0},{"$f":"D55","v":0},null,{"$f":"E54","v":0},"B",null,null,{"$f":"D66","v":0},null,{"$f":"E66","v":0},null,{"$f":"M54+P54+V54","v":0},null,{"$f":"O54+U54+X54","v":0},{"$f":"AV54","v":{"$error":"#DIV/0!"}},null,null,null,null,null,null,null,{"$f":"AA55","v":0.02},{"$f":"RANK(AK54,AK$48:AK$59,0)","v":4},{"$f":"AB56","v":{"$error":"#DIV/0!"}},{"$f":"RANK(AM54,AM$48:AM$59,0)","v":{"$error":"#DIV/0!"}},{"$f":"MAX(R56,U56,X56)","v":{"$error":"#DIV/0!"}},{"$f":"RANK(AO54,AO$48:AO$59)","v":{"$error":"#DIV/0!"}},{"$f":"Z56","v":0},{"$f":"RANK(AQ54,AQ$48:AQ$59)","v":1},{"$f":"(AL54*1000)+(AN54*100)+(AP54*10)+(AR54*1)","v":{"$error":"#DIV/0!"}},{"$f":"AS54","v":{"$error":"#DIV/0!"}},{"$f":"RANK(AT54,AT$48:AT$59,1)","v":{"$error":"#DIV/0!"}},{"$f":"RANK(AU54,AU$48:AU$59,1)","v":{"$error":"#DIV/0!"}}]
[null,null,{"$f":"C40","v":0},null,null,null,null,null,null,null,null,null,null,{"$f":"IF(U48>0,2-T49,0.01)","v":0.01},null,null,{"$f":"IF(U51>0,2-T52,0.01)","v":0.01},null,null,null,null,null,{"$f":"IF(X54<1,0.01,IF(V54>S57,2,IF(V54=S57,1,0)))","v":0.01},null,null,null,{"$f":"N55+T55+W55","v":0.02}]
[null,null,null,null,null,null,null,null,null,null,null,null,{"$f":"F58","v":0},null,{"$f":"M54/O54","v":{"$error":"#DIV/0!"}},{"$f":"F55","v":0},null,{"$f":"P54/R54","v":{"$error":"#DIV/0!"}},null,null,null,{"$f":"F66","v":0},null,{"$f":"V54/X54","v":{"$error":"#DIV/0!"}},null,{"$f":"MAXA(V56,P56,M56)","v":0},null,{"$f":"Z54/AB54","v":{"$error":"#DIV/0!"}}]
[null,"Tour 3",{"$f":"C38","v":0},null,null,null,null,null,null,null,{"$f":"C41","v":0},null,{"$f":"D52","v":0},null,{"$f":"E51","v":0},{"$f":"D60","v":0},null,{"$f":"E60","v":0},{"$f":"D67","v":0},null,{"$f":"E66","v":0},null,null,null,null,{"$f":"S57+V57+Y57","v":0},null,{"$f":"U57+R57+O57","v":0},{"$f":"AV57","v":{"$error":"#DIV/0!"}},null,null,null,null,null,null,null,{"$f":"AA58","v":0.03},{"$f":"RANK(AK57,AK$48:AK$59,0)","v":1},{"$f":"AB59","v":{"$error":"#DIV/0!"}},{"$f":"RANK(AM57,AM$48:AM$59,0)","v":{"$error":"#DIV/0!"}},{"$f":"MAX(R59,U59,X59)","v":{"$error":"#DIV/0!"}},{"$f":"RANK(AO57,AO$48:AO$59)","v":{"$error":"#DIV/0!"}},{"$f":"Z59","v":0},{"$f":"RANK(AQ57,AQ$48:AQ$59)","v":1},{"$f":"(AL57*1000)+(AN57*100)+(AP57*10)+(AR57*1)","v":{"$error":"#DIV/0!"}},{"$f":"AS57","v":{"$error":"#DIV/0!"}},{"$f":"RANK(AT57,AT$48:AT$59,1)","v":{"$error":"#DIV/0!"}},{"$f":"RANK(AU57,AU$48:AU$59,1)","v":{"$error":"#DIV/0!"}}]
[null,null,{"$f":"C40","v":0},null,null,null,null,null,null,null,null,null,null,{"$f":"IF(X48>0,2-W49,0.01)","v":0.01},null,null,{"$f":"IF(X51>0,2-W52,0.01)","v":0.01},null,null,{"$f":"IF(X54>0,2-W55,0.01)","v":0.01},null,null,null,null,null,null,{"$f":"N58+Q58+T58","v":0.03}]
[null,null,null,null,null,null,null,null,null,null,null,null,{"$f":"F52","v":0},null,{"$f":"M57/O57","v":{"$error":"#DIV/0!"}},{"$f":"F60","v":0},null,{"$f":"P57/R57","v":{"$error":"#DIV/0!"}},{"$f":"F67","v":0},null,{"$f":"S57/U57","v":{"$error":"#DIV/0!"}},null,null,null,null,{"$f":"MAXA(S59,V59,Y59)","v":0},null,{"$f":"Z57/AB57","v":{"$error":"#DIV/0!"}}]
[null,"Tour 4",{"$f":"C41","v":0}]
[null,null,{"$f":"C39","v":0}]
[]
[null,"Tour 5",{"$f":"C38","v":0}]
[null,null,{"$f":"C39","v":0}]
[]
[null,"Tour 6",{"$f":"C40","v":0}]
[null,null,{"$f":"C41","v":0}]
[]
[null,"Joueur 1",{"$f":"'Saisie des joueurs'!L20","v":0}]
[null,"Joueur 2",{"$f":"'Saisie des joueurs'!L23","v":0}]
[null,"Joueur 3",{"$f":"'Saisie des joueurs'!L28","v":0}]
[null,"Joueur 4",{"$f":"'Saisie des joueurs'!L31","v":0}]
[]
[]
[null,"SAISIE DES RESULTATS",null,null,null,null,null,null,null,null,null,null,{"$f":"C69","v":0},null,null,{"$f":"C70","v":0},null,null,{"$f":"C71","v":0},null,null,{"$f":"C72","v":0},null,null,null,"TOTAUX",null,null,"CLASSEMENT"]
[]
[null,null,null,null,null,null,null,null,null,null,null,null,null,null,null,null,null,null,null,null,null,null,null,null,null,null,null,null,null,null,null,null,null,null,null,null,"Classement",null,"Classement",null,"Classement",null,"Classement",null,"Classement",null,"GENERAL","RANG"]
[null,null,"POULE C",null,null,null,null,null,null,null,null,null,null,null,null,null,null,null,null,null,null,null,null,null,null,null,null,null,null,null,null,null,null,null,null,null,"Point-Match","CLS-M","Moy-Gen","CLS-G","Moy-Part","CLS-P","M-Series","CLS-S","MGPS","CLS","CLS"]
[null,null,null,null,null,null,null,null,null,null,{"$f":"C69","v":0},null,"L",null,null,{"$f":"D94","v":0},null,{"$f":"E94","v":0},{"$f":"D88","v":0},null,{"$f":"E88","v":0},{"$f":"D82","v":0},null,{"$f":"E82","v":0},null,{"$f":"P79+S79+V79","v":0},null,{"$f":"R79+U79+X79","v":0},{"$f":"AV79","v":{"$error":"#DIV/0!"}},null,null,null,null,null,null,null,{"$f":"AA80","v":0.03},{"$f":"RANK(AK79,AK$79:AK$90,0)","v":1},{"$f":"AB81","v":{"$error":"#DIV/0!"}},{"$f":"RANK(AM79,AM$48:AM$59,0)","v":{"$error":"#DIV/0!"}},{"$f":"MAX(R81,U81,X81)","v":{"$error":"#DIV/0!"}},{"$f":"RANK(AO79,AO$79:AO$90)","v":{"$error":"#DIV/0!"}},{"$f":"Z81","v":0},{"$f":"RANK(AQ79,AQ$79:AQ$90)","v":1},{"$f":"(AL79*1000)+(AN79*100)+(AP79*10)+(AR79*1)","v":{"$error":"#DIV/0!"}},{"$f":"AS79","v":{"$error":"#DIV/0!"}},{"$f":"RANK(AT79,AT$79:AT$90,1)","v":{"$error":"#DIV/0!"}},{"$f":"RANK(AU79,AU$79:AU$90,1)","v":{"$error":"#DIV/0!"}}]
[null,null,null,null,null,null,null,null,null,null,null,null,null,null,null,null,{"$f":"IF(R79<1,0.01,IF(P79>M82,2,IF(P79=M82,1,0)))","v":0.01},null,null,{"$f":"IF(U79<1,0.01,IF(S79>M85,2,IF(S79=M85,1,0)))","v":0.01},null,null,{"$f":"IF(X79<1,0.01,IF(V79>M88,2,IF(V79=M88,1,0)))","v":0.01},null,null,null,{"$f":"W80+T80+Q80","v":0.03}]
[null,null,null,"Pts","Rep","Série",null,null,null,null,null,null,null,null,null,{"$f":"F94","v":0},null,{"$f":"P79/R79","v":{"$error":"#DIV/0!"}},{"$f":"F88","v":0},null,{"$f":"S79/U79","v":{"$error":"#DIV/0!"}},{"$f":"F82","v":0},null,{"$f":"V79/X79","v":{"$error":"#DIV/0!"}},null,{"$f":"MAX(V81,S81,P81)","v":0},null,{"$f":"Z79/AB79","v":{"$error":"#DIV/0!"}}]
[null,"Tour 1",{"$f":"C69","v":0},null,null,null,null,null,null,null,{"$f":"C70","v":0},null,{"$f":"D95","v":0},null,{"$f":"E94","v":0},"M",null,null,{"$f":"D85","v":0},null,{"$f":"E85","v":0},{"$f":"D92","v":0},null,{"$f":"E91","v":0},null,{"$f":"M82+S82+V82","v":0},null,{"$f":"O82+U82+X82","v":0},{"$f":"AV82","v":{"$error":"#DIV/0!"}},null,null,null,null,null,null,null,{"$f":"AA83","v":0.03},{"$f":"RANK(AK82,AK$79:AK$90,0)","v":1},{"$f":"AB84","v":{"$error":"#DIV/0!"}},{"$f":"RANK(AM82,AM$48:AM$59,0)","v":{"$error":"#DIV/0!"}},{"$f":"MAX(R84,U84,X84)","v":{"$error":"#DIV/0!"}},{"$f":"RANK(AO82,AO$79:AO$90)","v":{"$error":"#DIV/0!"}},{"$f":"Z84","v":0},{"$f":"RANK(AQ82,AQ$79:AQ$90)","v":1},{"$f":"(AL82*1000)+(AN82*100)+(AP82*10)+(AR82*1)","v":{"$error":"#DIV/0!"}},{"$f":"AS82","v":{"$error":"#DIV/0!"}},{"$f":"RANK(AT82,AT$79:AT$90,1)","v":{"$error":"#DIV/0!"}},{"$f":"RANK(AU82,AU$79:AU$90,1)","v":{"$error":"#DIV/0!"}}]
[null,null,{"$f":"C72","v":0},null,null,null,null,null,null,null,null,null,null,{"$f":"IF(R79>0,2-Q80,0.01)","v":0.01},null,null,null,null,null,{"$f":"IF(U82<1,0.01,IF(S82>P85,2,IF(S82=P85,1,0)))","v":0.01},null,null,{"$f":"IF(X82<1,0.01,IF(V82>P88,2,IF(V82=P88,1,0)))","v":0.01},null,null,null,{"$f":"N83+T83+W83","v":0.03}]
[null,null,null,null,null,null,null,null,null,null,null,null,{"$f":"F95","v":0},null,{"$f":"M82/O82","v":{"$error":"#DIV/0!"}},null,null,null,{"$f":"F85","v":0},null,{"$f":"S82/U82","v":{"$error":"#DIV/0!"}},{"$f":"F92","v":0},null,{"$f":"V82/X82","v":{"$error":"#DIV/0!"}},null,{"$f":"MAXA(S84,V84,M84)","v":0},null,{"$f":"Z82/AB82","v":{"$error":"#DIV/0!"}}]
[null,"Tour 2",{"$f":"C70","v":0},null,null,null,null,null,null,null,{"$f":"C71","v":0},null,{"$f":"D89","v":0},null,{"$f":"E88","v":0},{"$f":"D86","v":0},null,{"$f":"E85","v":0},"B",null,null,{"$f":"D97","v":0},null,{"$f":"E97","v":0},null,{"$f":"M85+P85+V85","v":0},null,{"$f":"O85+U85+X85","v":0},{"$f":"AV85","v":{"$error":"#DIV/0!"}},null,null,null,null,null,null,null,{"$f":"AA86","v":0.02},{"$f":"RANK(AK85,AK$79:AK$90,0)","v":4},{"$f":"AB87","v":{"$error":"#DIV/0!"}},{"$f":"RANK(AM85,AM$48:AM$59,0)","v":{"$error":"#DIV/0!"}},{"$f":"MAX(R87,U87,X87)","v":{"$error":"#DIV/0!"}},{"$f":"RANK(AO85,AO$79:AO$90)","v":{"$error":"#DIV/0!"}},{"$f":"Z87","v":0},{"$f":"RANK(AQ85,AQ$79:AQ$90)","v":1},{"$f":"(AL85*1000)+(AN85*100)+(AP85*10)+(AR85*1)","v":{"$error":"#DIV/0!"}},{"$f":"AS85","v":{"$error":"#DIV/0!"}},{"$f":"RANK(AT85,AT$79:AT$90,1)","v":{"$error":"#DIV/0!"}},{"$f":"RANK(AU85,AU$79:AU$90,1)","v":{"$error":"#DIV/0!"}}]
[null,null,{"$f":"C71","v":0},null,null,null,null,null,null,null,null,null,null,{"$f":"IF(U79>0,2-T80,0.01)","v":0.01},null,null,{"$f":"IF(U82>0,2-T83,0.01)","v":0.01},null,null,null,null,null,{"$f":"IF(X85<1,0.01,IF(V85>S88,2,IF(V85=S88,1,0)))","v":0.01},null,null,null,{"$f":"N86+T86+W86","v":0.02}]
[null,null,null,null,null,null,null,null,null,null,null,null,{"$f":"F89","v":0},null,{"$f":"M85/O85","v":{"$error":"#DIV/0!"}},{"$f":"F86","v":0},null,{"$f":"P85/R85","v":{"$error":"#DIV/0!"}},null,null,null,{"$f":"F97","v":0},null,{"$f":"V85/X85","v":{"$error":"#DIV/0!"}},null,{"$f":"MAXA(V87,P87,M87)","v":0},null,{"$f":"Z85/AB85","v":{"$error":"#DIV/0!"}}]
[null,"Tour 3",{"$f":"C69","v":0},null,null,null,null,null,null,null,{"$f":"C72","v":0},null,{"$f":"D83","v":0},null,{"$f":"E82","v":0},{"$f":"D91","v":0},null,{"$f":"E91","v":0},{"$f":"D98","v":0},null,{"$f":"E97","v":0},null,null,null,null,{"$f":"S88+V88+Y88","v":0},null,{"$f":"U88+R88+O88","v":0},{"$f":"AV88","v":{"$error":"#DIV/0!"}},null,null,null,null,null,null,null,{"$f":"AA89","v":0.03},{"$f":"RANK(AK88,AK$79:AK$90,0)","v":1},{"$f":"AB90","v":{"$error":"#DIV/0!"}},{"$f":"RANK(AM88,AM$48:AM$59,0)","v":{"$error":"#DIV/0!"}},{"$f":"MAX(R90,U90,X90)","v":{"$error":"#DIV/0!"}},{"$f":"RANK(AO88,AO$79:AO$90)","v":{"$error":"#DIV/0!"}},{"$f":"Z90","v":0},{"$f":"RANK(AQ88,AQ$79:AQ$90)","v":1},{"$f":"(AL88*1000)+(AN88*100)+(AP88*10)+(AR88*1)","v":{"$error":"#DIV/0!"}},{"$f":"AS88","v":{"$error":"#DIV/0!"}},{"$f":"RANK(AT88,AT$79:AT$90,1)","v":{"$error":"#DIV/0!"}},{"$f":"RANK(AU88,AU$79:AU$90,1)","v":{"$error":"#DIV/0!"}}]
[null,null,{"$f":"C71","v":0},null,null,null,null,null,null,null,null,null,null,{"$f":"IF(X79>0,2-W80,0.01)","v":0.01},null,null,{"$f":"IF(X82>0,2-W83,0.01)","v":0.01},null,null,{"$f":"IF(X85>0,2-W86,0.01)","v":0.01},null,null,null,null,null,null,{"$f":"N89+Q89+T89","v":0.03}]
[null,null,null,null,null,null,null,null,null,null,null,null,{"$f":"F83","v":0},null,{"$f":"M88/O88","v":{"$error":"#DIV/0!"}},{"$f":"F91","v":0},null,{"$f":"P88/R88","v":{"$error":"#DIV/0!"}},{"$f":"F98","v":0},null,{"$f":"S88/U88","v":{"$error":"#DIV/0!"}},null,null,null,null,{"$f":"MAXA(S90,V90,Y90)","v":0},null,{"$f":"Z88/AB88","v":{"$error":"#DIV/0!"}}]
[null,"Tour 4",{"$f":"C72","v":0}]
[null,null,{"$f":"C70","v":0}]
[]
[null,"Tour 5",{"$f":"C69","v":0}]
[null,null,{"$f":"C70","v":0}]
[]
[null,"Tour 6",{"$f":"C71","v":0}]
[null,null,{"$f":"C72","v":0}]
[]
[null,"Joueur 1",{"$f":"'Saisie des joueurs'!L21","v":0}]
[null,"Joueur 2",{"$f":"'Saisie des joueurs'!L22","v":0}]
[null,"Joueur 3",{"$f":"'Saisie des joueurs'!L29","v":0}]
[null,"Joueur 4",{"$f":"'Saisie des joueurs'!L30","v":0}]
[]
[]
[null,"SAISIE DES RESULTATS",null,null,null,null,null,null,null,null,null,null,{"$f":"C100","v":0},null,null,{"$f":"C101","v":0},null,null,{"$f":"C102","v":0},null,null,{"$f":"C103","v":0},null,null,null,"TOTAUX",null,null,"CLASSEMENT"]
[]
[null,null,null,null,null,null,null,null,null,null,null,null,null,null,null,null,null,null,null,null,null,null,null,null,null,null,null,null,null,null,null,null,null,null,null,null,"Classement",null,"Classement",null,"Classement",null,"Classement",null,"Classement",null,"GENERAL","RANG"]
[null,null,"POULE D",null,null,null,null,null,null,null,null,null,null,null,null,null,null,null,null,null,null,null,null,null,null,null,null,null,null,null,null,null,null,null,null,null,"Point-Match","CLS-M","Moy-Gen","CLS-G","Moy-Part","CLS-P","M-Series","CLS-S","MGPS","CLS","CLS"]
[null,null,null,null,null,null,null,null,null,null,{"$f":"C100","v":0},null,"L",null,null,{"$f":"D125","v":0},null,{"$f":"E125","v":0},{"$f":"D119","v":0},null,{"$f":"E119","v":0},{"$f":"D113","v":0},null,{"$f":"E113","v":0},null,{"$f":"P110+S110+V110","v":0},null,{"$f":"R110+U110+X110","v":0},{"$f":"AV110","v":{"$error":"#DIV/0!"}},null,null,null,null,null,null,null,{"$f":"AA111","v":0.03},{"$f":"RANK(AK110,AK$110:AK$121,0)","v":1},{"$f":"AB112","v":{"$error":"#DIV/0!"}},{"$f":"RANK(AM110,AM$110:AM$121,0)","v":{"$error":"#DIV/0!"}},{"$f":"MAX(R112,U112,X112)","v":{"$error":"#DIV/0!"}},{"$f":"RANK(AO110,AO$110:AO$121)","v":{"$error":"#DIV/0!"}},{"$f":"Z112","v":0},{"$f":"RANK(AQ110,AQ$110:AQ$121)","v":1},{"$f":"(AL110*1000)+(AN110*100)+(AP110*10)+(AR110*1)","v":{"$error":"#DIV/0!"}},{"$f":"AS110","v":{"$error":"#DIV/0!"}},{"$f":"RANK(AT110,AT$110:AT$121,1)","v":{"$error":"#DIV/0!"}},{"$f":"RANK(AU110,AU$110:AU$121,1)","v":{"$error":"#DIV/0!"}}]
[null,null,null,null,null,null,null,null,null,null,null,null,null,null,null,null,{"$f":"IF(R110<1,0.01,IF(P110>M113,2,IF(P110=M113,1,0)))","v":0.01},null,null,{"$f":"IF(U110<1,0.01,IF(S110>M116,2,IF(S110=M116,1,0)))","v":0.01},null,null,{"$f":"IF(X110<1,0.01,IF(V110>M119,2,IF(V110=M119,1,0)))","v":0.01},null,null,null,{"$f":"W111+T111+Q111","v":0.03}]
[null,null,null,"Pts","Rep","Série",null,null,null,null,null,null,null,null,null,{"$f":"F125","v":0},null,{"$f":"P110/R110","v":{"$error":"#DIV/0!"}},{"$f":"F119","v":0},null,{"$f":"S110/U110","v":{"$error":"#DIV/0!"}},{"$f":"F113","v":0},null,{"$f":"V110/X110","v":{"$error":"#DIV/0!"}},null,{"$f":"MAX(V112,S112,P112)","v":0},null,{"$f":"Z110/AB110","v":{"$error":"#DIV/0!"}}]
[null,"Tour 1",{"$f":"C100","v":0},null,null,null,null,null,null,null,{"$f":"C101","v":0},null,{"$f":"D126","v":0},null,{"$f":"E125","v":0},"M",null,null,{"$f":"D116","v":0},null,{"$f":"E116","v":0},{"$f":"D123","v":0},null,{"$f":"E122","v":0},null,{"$f":"M113+S113+V113","v":0},null,{"$f":"O113+U113+X113","v":0},{"$f":"AV113","v":{"$error":"#DIV/0!"}},null,null,null,null,null,null,null,{"$f":"AA114","v":0.03},{"$f":"RANK(AK113,AK$110:AK$121,0)","v":1},{"$f":"AB115","v":{"$error":"#DIV/0!"}},{"$f":"RANK(AM113,AM$110:AM$121,0)","v":{"$error":"#DIV/0!"}},{"$f":"MAX(R115,U115,X115)","v":{"$error":"#DIV/0!"}},{"$f":"RANK(AO113,AO$110:AO$121)","v":{"$error":"#DIV/0!"}},{"$f":"Z115","v":0},{"$f":"RANK(AQ113,AQ$110:AQ$121)","v":1},{"$f":"(AL113*1000)+(AN113*100)+(AP113*10)+(AR113*1)","v":{"$error":"#DIV/0!"}},{"$f":"AS113","v":{"$error":"#DIV/0!"}},{"$f":"RANK(AT113,AT$110:AT$121,1)","v":{"$error":"#DIV/0!"}},{"$f":"RANK(AU113,AU$110:AU$121,1)","v":{"$error":"#DIV/0!"}}]
[null,null,{"$f":"C103","v":0},null,null,null,null,null,null,null,null,null,null,{"$f":"IF(R110>0,2-Q111,0.01)","v":0.01},null,null,null,null,null,{"$f":"IF(U113<1,0.01,IF(S113>P116,2,IF(S113=P116,1,0)))","v":0.01},null,null,{"$f":"IF(X113<1,0.01,IF(V113>P119,2,IF(V113=P119,1,0)))","v":0.01},null,null,null,{"$f":"N114+T114+W114","v":0.03}]
[null,null,null,null,null,null,null,null,null,null,null,null,{"$f":"F126","v":0},null,{"$f":"M113/O113","v":{"$error":"#DIV/0!"}},null,null,null,{"$f":"F116","v":0},null,{"$f":"S113/U113","v":{"$error":"#DIV/0!"}},{"$f":"F123","v":0},null,{"$f":"V113/X113","v":{"$error":"#DIV/0!"}},null,{"$f":"MAXA(S115,V115,M115)","v":0},null,{"$f":"Z113/AB113","v":{"$error":"#DIV/0!"}}]
[null,"Tour 2",{"$f":"C101","v":0},null,null,null,null,null,null,null,{"$f":"C102","v":0},null,{"$f":"D120","v":0},null,{"$f":"E119","v":0},{"$f":"D117","v":0},null,{"$f":"E116","v":0},"B",null,null,{"$f":"D128","v":0},null,{"$f":"E128","v":0},null,{"$f":"M116+P116+V116","v":0},null,{"$f":"O116+U116+X116","v":0},{"$f":"AV116","v":{"$error":"#DIV/0!"}},null,null,null,null,null,null,null,{"$f":"AA117","v":0.02},{"$f":"RANK(AK116,AK$110:AK$121,0)","v":4},{"$f":"AB118","v":{"$error":"#DIV/0!"}},{"$f":"RANK(AM116,AM$110:AM$121,0)","v":{"$error":"#DIV/0!"}},{"$f":"MAX(R118,U118,X118)","v":{"$error":"#DIV/0!"}},{"$f":"RANK(AO116,AO$110:AO$121)","v":{"$error":"#DIV/0!"}},{"$f":"Z118","v":0},{"$f":"RANK(AQ116,AQ$110:AQ$121)","v":1},{"$f":"(AL116*1000)+(AN116*100)+(AP116*10)+(AR116*1)","v":{"$error":"#DIV/0!"}},{"$f":"AS116","v":{"$error":"#DIV/0!"}},{"$f":"RANK(AT116,AT$110:AT$121,1)","v":{"$error":"#DIV/0!"}},{"$f":"RANK(AU116,AU$110:AU$121,1)","v":{"$error":"#DIV/0!"}}]
[null,null,{"$f":"C102","v":0},null,null,null,null,null,null,null,null,null,null,{"$f":"IF(U110>0,2-T111,0.01)","v":0.01},null,null,{"$f":"IF(U113>0,2-T114,0.01)","v":0.01},null,null,null,null,null,{"$f":"IF(X116<1,0.01,IF(V116>S119,2,IF(V116=S119,1,0)))","v":0.01},null,null,null,{"$f":"N117+T117+W117","v":0.02}]
[null,null,null,null,null,null,null,null,null,null,null,null,{"$f":"F120","v":0},null,{"$f":"M116/O116","v":{"$error":"#DIV/0!"}},{"$f":"F117","v":0},null,{"$f":"P116/R116","v":{"$error":"#DIV/0!"}},null,null,null,{"$f":"F128","v":0},null,{"$f":"V116/X116","v":{"$error":"#DIV/0!"}},null,{"$f":"MAXA(V118,P118,M118)","v":0},null,{"$f":"Z116/AB116","v":{"$error":"#DIV/0!"}}]
[null,"Tour 3",{"$f":"C100","v":0},null,null,null,null,null,null,null,{"$f":"C103","v":0},null,{"$f":"D113","v":0},null,{"$f":"E113","v":0},{"$f":"D122","v":0},null,{"$f":"E122","v":0},{"$f":"D129","v":0},null,{"$f":"E128","v":0},null,null,null,null,{"$f":"S119+V119+Y119","v":0},null,{"$f":"U119+R119+O119","v":0},{"$f":"AV119","v":{"$error":"#DIV/0!"}},null,null,null,null,null,null,null,{"$f":"AA120","v":0.03},{"$f":"RANK(AK119,AK$110:AK$121,0)","v":1},{"$f":"AB121","v":{"$error":"#DIV/0!"}},{"$f":"RANK(AM119,AM$110:AM$121,0)","v":{"$error":"#DIV/0!"}},{"$f":"MAX(R121,U121,X121)","v":{"$error":"#DIV/0!"}},{"$f":"RANK(AO119,AO$110:AO$121)","v":{"$error":"#DIV/0!"}},{"$f":"Z121","v":0},{"$f":"RANK(AQ119,AQ$110:AQ$121)","v":1},{"$f":"(AL119*1000)+(AN119*100)+(AP119*10)+(AR119*1)","v":{"$error":"#DIV/0!"}},{"$f":"AS119","v":{"$error":"#DIV/0!"}},{"$f":"RANK(AT119,AT$110:AT$121,1)","v":{"$error":"#DIV/0!"}},{"$f":"RANK(AU119,AU$110:AU$121,1)","v":{"$error":"#DIV/0!"}}]
[null,null,{"$f":"C102","v":0},null,null,null,null,null,null,null,null,null,null,{"$f":"IF(X110>0,2-W111,0.01)","v":0.01},null,null,{"$f":"IF(X113>0,2-W114,0.01)","v":0.01},null,null,{"$f":"IF(X116>0,2-W117,0.01)","v":0.01},null,null,null,null,null,null,{"$f":"N120+Q120+T120","v":0.03}]
[null,null,null,null,null,null,null,null,null,null,null,null,{"$f":"F114","v":0},null,{"$f":"M119/O119","v":{"$error":"#DIV/0!"}},{"$f":"F122","v":0},null,{"$f":"P119/R119","v":{"$error":"#DIV/0!"}},{"$f":"F129","v":0},null,{"$f":"S119/U119","v":{"$error":"#DIV/0!"}},null,null,null,null,{"$f":"MAXA(S121,V121,Y121)","v":0},null,{"$f":"Z119/AB119","v":{"$error":"#DIV/0!"}}]
[null,"Tour 4",{"$f":"C103","v":0}]
[null,null,{"$f":"C101","v":0}]
[]
[null,"Tour 5",{"$f":"C100","v":0}]
[null,null,{"$f":"C101","v":0}]
[]
[null,"Tour 6",{"$f":"C102","v":0}]
[null,null,{"$f":"C103","v":0}]

{"sheet":"16JOUEURS","index":27,"n_rows":130,"n_cols":42,"rows_kept":130,"cut":false,"hidden":true,"merged":[[6,2,6,5],[7,2,7,5],[8,2,8,5],[9,2,9,5],[12,1,13,5],[12,12,15,14],[15,2,16,5],[1,1,3,13],[12,15,15,17],[12,18,15,20],[12,21,15,23],[13,10,15,11],[16,40,18,40],[16,41,18,41],[16,35,18,35],[16,36,18,36],[16,37,18,37],[16,38,18,38],[16,39,18,39],[13,25,15,27],[13,28,15,28],[14,30,14,31],[14,32,14,33],[14,34,14,35],[14,36,14,37],[14,38,14,39],[14,41,15,41],[16,10,18,11],[16,12,18,14],[16,28,18,28],[16,30,18,30],[16,31,18,31],[16,32,18,32],[16,33,18,33],[19,31,21,31],[19,32,21,32],[22,32,24,32],[22,33,24,33],[22,34,24,34],[16,34,18,34],[19,1,20,1],[19,4,20,4],[19,10,21,11],[19,15,21,17],[19,28,21,28],[19,30,21,30],[22,1,23,1],[22,4,23,4],[22,10,24,11],[22,18,24,20],[22,28,24,28],[22,30,24,30],[22,31,24,31],[22,38,24,38],[22,39,24,39],[22,40,24,40],[22,41,24,41],[22,35,24,35],[22,36,24,36],[22,37,24,37],[19,33,21,33],[19,34,21,34],[19,35,21,35],[19,36,21,36],[19,37,21,37],[19,38,21,38],[19,39,21,39],[19,40,21,40],[19,41,21,41],[25,37,27,37],[25,38,27,38],[25,39,27,39],[25,40,27,40],[25,41,27,41],[28,1,29,1],[28,4,29,4],[29,12,29,23],[25,31,27,31],[25,32,27,32],[25,33,27,33],[25,34,27,34],[25,35,27,35],[25,36,27,36],[25,1,26,1],[25,4,26,4],[25,10,27,11],[25,21,27,23],[25,28,27,28],[25,30,27,30],[31,1,32,1],[31,4,32,4],[34,1,35,1],[34,4,35,4],[38,2,38,5],[39,2,39,5],[48,41,50,41],[48,35,50,35],[48,36,50,36],[48,37,50,37],[40,2,40,5],[41,2,41,5],[44,1,45,5],[44,12,47,14],[44,15,47,17],[44,18,47,20],[45,28,47,28],[46,30,46,31],[46,32,46,33],[48,38,50,38],[48,39,50,39],[48,40,50,40],[46,41,47,41],[47,2,48,5],[48,10,50,11],[48,12,50,14],[48,28,50,28],[48,30,50,30],[48,31,50,31],[44,21,47,23],[45,10,47,11],[45,25,47,27],[48,32,50,32],[48,33,50,33],[48,34,50,34],[46,34,46,35],[46,36,46,37],[46,38,46,39],[54,39,56,39],[54,40,56,40],[54,41,56,41],[54,30,56,30],[54,31,56,31],[51,36,53,36],[54,36,56,36],[54,1,55,1],[54,4,55,4],[54,10,56,11],[54,18,56,20],[54,28,56,28],[51,31,53,31],[51,30,53,30],[57,39,59,39],[57,40,59,40],[57,1,58,1],[57,4,58,4],[57,10,59,11],[57,21,59,23],[57,28,59,28],[57,30,59,30],[51,1,52,1],[51,4,52,4],[51,10,53,11],[51,15,53,17],[51,28,53,28],[51,32,53,32],[51,33,53,33],[51,34,53,34],[51,35,53,35],[57,41,59,41],[51,37,53,37],[51,38,53,38],[51,39,53,39],[51,40,53,40],[51,41,53,41],[54,37,56,37],[54,38,56,38],[54,32,56,32],[54,33,56,33],[54,34,56,34],[54,35,56,35],[57,37,59,37],[57,38,59,38],[57,34,59,34],[57,35,59,35],[57,36,59,36],[57,33,59,33],[79,10,81,11],[79,12,81,14],[79,28,81,28],[79,30,81,30],[60,1,61,1],[60,4,61,4],[61,12,61,23],[57,31,59,31],[57,32,59,32],[63,1,64,1],[63,4,64,4],[66,1,67,1],[66,4,67,4],[79,33,81,33],[79,34,81,34],[77,34,77,35],[77,36,77,37],[69,2,69,5],[70,2,70,5],[79,41,81,41],[79,35,81,35],[79,36,81,36],[79,37,81,37],[71,2,71,5],[72,2,72,5],[75,1,76,5],[75,12,78,14],[75,15,78,17],[75,18,78,20],[76,28,78,28],[77,30,77,31],[77,32,77,33],[79,38,81,38],[79,39,81,39],[79,40,81,40],[77,41,78,41],[78,2,79,5],[82,31,84,31],[82,32,84,32],[82,33,84,33],[82,34,84,34],[82,35,84,35],[85,30,87,30],[85,31,87,31],[77,38,77,39],[82,1,83,1],[82,4,83,4],[82,10,84,11],[82,15,84,17],[82,28,84,28],[82,30,84,30],[82,36,84,36],[85,36,87,36],[85,37,87,37],[85,38,87,38],[85,39,87,39],[79,31,81,31],[75,21,78,23],[76,10,78,11],[76,25,78,27],[79,32,81,32],[88,41,90,41],[82,37,84,37],[82,38,84,38],[82,39,84,39],[82,40,84,40],[82,41,84,41],[85,41,87,41],[85,34,87,34],[85,35,87,35],[88,37,90,37],[88,38,90,38],[88,39,90,39],[88,40,90,40],[88,34,90,34],[88,35,90,35],[88,36,90,36],[85,40,87,40],[94,1,95,1],[94,4,95,4],[97,1,98,1],[97,4,98,4],[85,32,87,32],[85,33,87,33],[85,1,86,1],[85,4,86,4],[85,10,87,11],[85,18,87,20],[88,1,89,1],[88,4,89,4],[88,10,90,11],[88,21,90,23],[88,28,90,28],[88,30,90,30],[91,1,92,1],[91,4,92,4],[92,12,92,23],[88,31,90,31],[88,32,90,32],[88,33,90,33],[85,28,87,28],[100,2,100,5],[101,2,101,5],[102,2,102,5],[103,2,103,5],[106,1,107,5],[109,2,110,5],[113,33,115,33],[113,34,115,34],[113,35,115,35],[113,1,114,1],[113,4,114,4],[106,12,109,14],[107,10,109,11],[107,25,109,27],[107,28,109,28],[108,30,108,31],[108,32,108,33],[113,32,115,32],[110,10,112,11],[110,12,112,14],[110,28,112,28],[110,30,112,30],[110,31,112,31],[110,32,112,32],[108,41,109,41],[106,15,109,17],[106,18,109,20],[106,21,109,23],[110,40,112,40],[110,41,112,41],[108,34,108,35],[108,36,108,37],[108,38,108,39],[110,35,112,35],[110,36,112,36],[110,37,112,37],[110,38,112,38],[110,39,112,39],[110,33,112,33],[110,34,112,34],[116,1,117,1],[116,4,117,4],[116,10,118,11],[116,18,118,20],[116,28,118,28],[116,30,118,30],[116,37,118,37],[116,38,118,38],[113,38,115,38],[113,37,115,37],[113,36,115,36],[116,31,118,31],[116,32,118,32],[116,33,118,33],[113,31,115,31],[113,10,115,11],[113,15,115,17],[113,28,115,28],[113,30,115,30],[116,39,118,39],[116,40,118,40],[116,41,118,41],[116,34,118,34],[116,35,118,35],[116,36,118,36],[113,40,115,40],[113,41,115,41],[113,39,115,39],[119,39,121,39],[119,40,121,40],[119,41,121,41],[122,1,123,1],[122,4,123,4],[123,12,123,23],[119,31,121,31],[119,32,121,32],[119,33,121,33],[119,34,121,34],[119,10,121,11],[119,21,121,23],[119,28,121,28],[119,30,121,30],[125,1,126,1],[125,4,126,4],[128,1,129,1],[128,4,129,4],[119,37,121,37],[119,38,121,38],[119,35,121,35],[119,36,121,36],[119,1,120,1],[119,4,120,4]]}
[]
[null,"LIGUE MÉDITERRANÉENNE DE BILLARD"]
[]
[]
[]
[]
[null,"Joueur 1",{"$f":"'Saisie des joueurs'!L18","v":0}]
[null,"Joueur 2",{"$f":"'Saisie des joueurs'!L25","v":0}]
[null,"Joueur 3",{"$f":"'Saisie des joueurs'!L26","v":0}]
[null,"Joueur 4",{"$f":"'Saisie des joueurs'!L33","v":0}]
[]
[]
[null,"SAISIE DES RESULTATS",null,null,null,null,null,null,null,null,null,null,{"$f":"C7","v":0},null,null,{"$f":"C8","v":0},null,null,{"$f":"C9","v":0},null,null,{"$f":"C10","v":0}]
[null,null,null,null,null,null,null,null,null,null,null,null,null,null,null,null,null,null,null,null,null,null,null,null,null,"TOTAUX",null,null,"CLASSEMENT"]
[null,null,null,null,null,null,null,null,null,null,null,null,null,null,null,null,null,null,null,null,null,null,null,null,null,null,null,null,null,null,"Classement",null,"Classement",null,"Classement",null,"Classement",null,"Classement",null,"GENERAL","RANG"]
[null,null,"POULE A",null,null,null,null,null,null,null,null,null,null,null,null,null,null,null,null,null,null,null,null,null,null,null,null,null,null,null,"Point-Match","CLS-M","Moy-Gen","CLS-G","Moy-Part","CLS-P","M-Series","CLS-S","MGPS","CLS","CLS"]
[null,null,null,null,null,null,null,null,null,null,{"$f":"C7","v":0},null,"L",null,null,{"$f":"D32","v":0},null,{"$f":"E32","v":0},{"$f":"D26","v":0},null,{"$f":"E26","v":0},{"$f":"D20","v":0},null,{"$f":"E20","v":0},null,{"$f":"P17+S17+V17","v":0},null,{"$f":"R17+U17+X17","v":0},{"$f":"AP17","v":{"$error":"#DIV/0!"}},null,{"$f":"AA18","v":0.03},{"$f":"RANK(AE17,AE$17:AE$28,0)","v":1},{"$f":"AB19","v":{"$error":"#DIV/0!"}},{"$f":"RANK(AG17,AG$17:AG$28,0)","v":{"$error":"#DIV/0!"}},{"$f":"MAX(R19,U19,X19)","v":{"$error":"#DIV/0!"}},{"$f":"RANK(AI17,AI$17:AI$28)","v":{"$error":"#DIV/0!"}},{"$f":"Z19","v":0},{"$f":"RANK(AK17,AK$17:AK$28)","v":1},{"$f":"(AF17*1000)+(AH17*100)+(AJ17*10)+(AL17*1)","v":{"$error":"#DIV/0!"}},{"$f":"AM17","v":{"$error":"#DIV/0!"}},{"$f":"RANK(AN17,AN$17:AN$28,1)","v":{"$error":"#DIV/0!"}},{"$f":"RANK(AO17,AO$17:AO$28,1)","v":{"$error":"#DIV/0!"}}]
[null,null,null,null,null,null,null,null,null,null,null,null,null,null,null,null,{"$f":"IF(R17<1,0.01,IF(P17>M20,2,IF(P17=M20,1,0)))","v":0.01},null,null,{"$f":"IF(U17<1,0.01,IF(S17>M23,2,IF(S17=M23,1,0)))","v":0.01},null,null,{"$f":"IF(X17<1,0.01,IF(V17>M26,2,IF(V17=M26,1,0)))","v":0.01},null,null,null,{"$f":"Q18+T18+W18","v":0.03}]
[null,null,null,"Pts","Rep","Série",null,null,null,null,null,null,null,null,null,{"$f":"F32","v":0},null,{"$f":"P17/R17","v":{"$error":"#DIV/0!"}},{"$f":"F26","v":0},null,{"$f":"S17/U17","v":{"$error":"#DIV/0!"}},{"$f":"F20","v":0},null,{"$f":"V17/X17","v":{"$error":"#DIV/0!"}},null,{"$f":"MAX(P19,S19,V19)","v":0},null,{"$f":"Z17/AB17","v":{"$error":"#DIV/0!"}}]
[null,"Tour 1",{"$f":"C7","v":0},null,null,null,null,null,null,null,{"$f":"C8","v":0},null,{"$f":"D33","v":0},null,{"$f":"E32","v":0},"M",null,null,{"$f":"D23","v":0},null,{"$f":"E23","v":0},{"$f":"D30","v":0},null,{"$f":"E29","v":0},null,{"$f":"M20+S20+V20","v":0},null,{"$f":"O20+U20+X20","v":0},{"$f":"AP20","v":{"$error":"#DIV/0!"}},null,{"$f":"AA21","v":0.03},{"$f":"RANK(AE20,AE$17:AE$28,0)","v":1},{"$f":"AB22","v":{"$error":"#DIV/0!"}},{"$f":"RANK(AG20,AG$17:AG$28,0)","v":{"$error":"#DIV/0!"}},{"$f":"MAX(O22,U22,X22)","v":{"$error":"#DIV/0!"}},{"$f":"RANK(AI20,AI$17:AI$28)","v":{"$error":"#DIV/0!"}},{"$f":"Z22","v":0},{"$f":"RANK(AK20,AK$17:AK$28)","v":1},{"$f":"(AF20*1000)+(AH20*100)+(AJ20*10)+(AL20*1)","v":{"$error":"#DIV/0!"}},{"$f":"AM20","v":{"$error":"#DIV/0!"}},{"$f":"RANK(AN20,AN$17:AN$28,1)","v":{"$error":"#DIV/0!"}},{"$f":"RANK(AO20,AO$17:AO$28,1)","v":{"$error":"#DIV/0!"}}]
[null,null,{"$f":"C10","v":0},null,null,null,null,null,null,null,null,null,null,{"$f":"IF(R17>0,2-Q18,0.01)","v":0.01},null,null,null,null,null,{"$f":"IF(U20<1,0.01,IF(S20>P23,2,IF(S20=P23,1,0)))","v":0.01},null,null,{"$f":"IF(X20<1,0.01,IF(V20>P26,2,IF(V20=P26,1,0)))","v":0.01},null,null,null,{"$f":"N21+T21+W21","v":0.03}]
[null,null,null,null,null,null,null,null,null,null,null,null,{"$f":"F33","v":0},null,{"$f":"M20/O20","v":{"$error":"#DIV/0!"}},null,null,null,{"$f":"F23","v":0},null,{"$f":"S20/U20","v":{"$error":"#DIV/0!"}},{"$f":"F30","v":0},null,{"$f":"V20/X20","v":{"$error":"#DIV/0!"}},null,{"$f":"MAXA(M22,S22,V22)","v":0},null,{"$f":"Z20/AB20","v":{"$error":"#DIV/0!"}}]
[null,"Tour 2",{"$f":"C8","v":0},null,null,null,null,null,null,null,{"$f":"C9","v":0},null,{"$f":"D27","v":0},null,{"$f":"E26","v":0},{"$f":"D24","v":0},null,{"$f":"E23","v":0},"B",null,null,{"$f":"D35","v":0},null,{"$f":"E35","v":0},null,{"$f":"M23+P23+V23","v":0},null,{"$f":"O23+R23+X23","v":0},{"$f":"AP23","v":{"$error":"#DIV/0!"}},null,{"$f":"AA24","v":0.03},{"$f":"RANK(AE23,AE$17:AE$28,0)","v":1},{"$f":"AB25","v":{"$error":"#DIV/0!"}},{"$f":"RANK(AG23,AG$17:AG$28,0)","v":{"$error":"#DIV/0!"}},{"$f":"MAX(O25,R25,X25)","v":{"$error":"#DIV/0!"}},{"$f":"RANK(AI23,AI$17:AI$28)","v":{"$error":"#DIV/0!"}},{"$f":"Z25","v":0},{"$f":"RANK(AK23,AK$17:AK$28)","v":1},{"$f":"(AF23*1000)+(AH23*100)+(AJ23*10)+(AL23*1)","v":{"$error":"#DIV/0!"}},{"$f":"AM23","v":{"$error":"#DIV/0!"}},{"$f":"RANK(AN23,AN$17:AN$28,1)","v":{"$error":"#DIV/0!"}},{"$f":"RANK(AO23,AO$17:AO$28,1)","v":{"$error":"#DIV/0!"}}]
[null,null,{"$f":"C9","v":0},null,null,null,null,null,null,null,null,null,null,{"$f":"IF(U17>0,2-T18,0.01)","v":0.01},null,null,{"$f":"IF(U20>0,2-T21,0.01)","v":0.01},null,null,null,null,null,{"$f":"IF(X23<1,0.01,IF(V23>S26,2,IF(V23=S26,1,0)))","v":0.01},null,null,null,{"$f":"N24+Q24+W24","v":0.03}]
[null,null,null,null,null,null,null,null,null,null,null,null,{"$f":"F27","v":0},null,{"$f":"M23/O23","v":{"$error":"#DIV/0!"}},{"$f":"F24","v":0},null,{"$f":"P23/R23","v":{"$error":"#DIV/0!"}},null,null,null,{"$f":"F35","v":0},null,{"$f":"V23/X23","v":{"$error":"#DIV/0!"}},null,{"$f":"MAXA(M25,P25,V25)","v":0},null,{"$f":"Z23/AB23","v":{"$error":"#DIV/0!"}}]
[null,"Tour 3",{"$f":"C7","v":0},null,null,null,null,null,null,null,{"$f":"C10","v":0},null,{"$f":"D21","v":0},null,{"$f":"E20","v":0},{"$f":"D29","v":0},null,{"$f":"E29","v":0},{"$f":"D36","v":0},null,{"$f":"E35","v":0},null,null,null,null,{"$f":"M26+P26+S26","v":0},null,{"$f":"O26+R26+U26","v":0},{"$f":"AP26","v":{"$error":"#DIV/0!"}},null,{"$f":"AA27","v":0.03},{"$f":"RANK(AE26,AE$17:AE$28,0)","v":1},{"$f":"AB28","v":{"$error":"#DIV/0!"}},{"$f":"RANK(AG26,AG$17:AG$28,0)","v":{"$error":"#DIV/0!"}},{"$f":"MAX(O28,R28,U28)","v":{"$error":"#DIV/0!"}},{"$f":"RANK(AI26,AI$17:AI$28)","v":{"$error":"#DIV/0!"}},{"$f":"Z28","v":0},{"$f":"RANK(AK26,AK$17:AK$28)","v":1},{"$f":"(AF26*1000)+(AH26*100)+(AJ26*10)+(AL26*1)","v":{"$error":"#DIV/0!"}},{"$f":"AM26","v":{"$error":"#DIV/0!"}},{"$f":"RANK(AN26,AN$17:AN$28,1)","v":{"$error":"#DIV/0!"}},{"$f":"RANK(AO26,AO$17:AO$28,1)","v":{"$error":"#DIV/0!"}}]
[null,null,{"$f":"C9","v":0},null,null,null,null,null,null,null,null,null,null,{"$f":"IF(X17>0,2-W18,0.01)","v":0.01},null,null,{"$f":"IF(X20>0,2-W21,0.01)","v":0.01},null,null,{"$f":"IF(X23>0,2-W24,0.01)","v":0.01},null,null,null,null,null,null,{"$f":"N27+Q27+T27","v":0.03}]
[null,null,null,null,null,null,null,null,null,null,null,null,{"$f":"F21","v":0},null,{"$f":"M26/O26","v":{"$error":"#DIV/0!"}},{"$f":"F29","v":0},null,{"$f":"P26/R26","v":{"$error":"#DIV/0!"}},{"$f":"F36","v":0},null,{"$f":"S26/U26","v":{"$error":"#DIV/0!"}},null,null,null,null,{"$f":"MAXA(M28,P28,S28)","v":0},null,{"$f":"Z26/AB26","v":{"$error":"#DIV/0!"}}]
[null,"Tour 4",{"$f":"C10","v":0}]
[null,null,{"$f":"C8","v":0},null,null,null,null,null,null,null,null,null,"Pas de prolongation en cas de match nul."]
[]
[null,"Tour 5",{"$f":"C7","v":0}]
[null,null,{"$f":"C8","v":0}]
[]
[null,"Tour 6",{"$f":"C9","v":0}]
[null,null,{"$f":"C10","v":0}]
[]
[]
[null,"Joueur 1",{"$f":"'Saisie des joueurs'!L19","v":0}]
[null,"Joueur 2",{"$f":"'Saisie des joueurs'!L24","v":0}]
[null,"Joueur 3",{"$f":"'Saisie des joueurs'!L27","v":0}]
[null,"Joueur 4",{"$f":"'Saisie des joueurs'!L32","v":0}]
[]
[]
[null,"SAISIE DES RESULTATS",null,null,null,null,null,null,null,null,null,null,{"$f":"C39","v":0},null,null,{"$f":"C40","v":0},null,null,{"$f":"C41","v":0},null,null,{"$f":"C42","v":0}]
[null,null,null,null,null,null,null,null,null,null,null,null,null,null,null,null,null,null,null,null,null,null,null,null,null,"TOTAUX",null,null,"CLASSEMENT"]
[null,null,null,null,null,null,null,null,null,null,null,null,null,null,null,null,null,null,null,null,null,null,null,null,null,null,null,null,null,null,"Classement",null,"Classement",null,"Classement",null,"Classement",null,"Classement",null,"GENERAL","RANG"]
[null,null,"POULE B",null,null,null,null,null,null,null,null,null,null,null,null,null,null,null,null,null,null,null,null,null,null,null,null,null,null,null,"Point-Match","CLS-M","Moy-Gen","CLS-G","Moy-Part","CLS-P","M-Series","CLS-S","MGPS","CLS","CLS"]
[null,null,null,null,null,null,null,null,null,null,{"$f":"C39","v":0},null,"L",null,null,{"$f":"D64","v":0},null,{"$f":"E64","v":0},{"$f":"D58","v":0},null,{"$f":"E58","v":0},{"$f":"D52","v":0},null,{"$f":"E52","v":0},null,{"$f":"P49+S49+V49","v":0},null,{"$f":"R49+U49+X49","v":0},{"$f":"AP49","v":{"$error":"#DIV/0!"}},null,{"$f":"AA50","v":0.03},{"$f":"RANK(AE49,AE$49:AE$60,0)","v":1},{"$f":"AB51","v":{"$error":"#DIV/0!"}},{"$f":"RANK(AG49,AG$49:AG$60,0)","v":{"$error":"#DIV/0!"}},{"$f":"MAX(R51,U51,X51)","v":{"$error":"#DIV/0!"}},{"$f":"RANK(AI49,AI$49:AI$60)","v":{"$error":"#DIV/0!"}},{"$f":"Z51","v":0},{"$f":"RANK(AK49,AK$49:AK$60)","v":1},{"$f":"(AF49*1000)+(AH49*100)+(AJ49*10)+(AL49*1)","v":{"$error":"#DIV/0!"}},{"$f":"AM49","v":{"$error":"#DIV/0!"}},{"$f":"RANK(AN49,AN$49:AN$60,1)","v":{"$error":"#DIV/0!"}},{"$f":"RANK(AO49,AO$49:AO$60,1)","v":{"$error":"#DIV/0!"}}]
[null,null,null,null,null,null,null,null,null,null,null,null,null,null,null,null,{"$f":"IF(R49<1,0.01,IF(P49>M52,2,IF(P49=M52,1,0)))","v":0.01},null,null,{"$f":"IF(U49<1,0.01,IF(S49>M55,2,IF(S49=M55,1,0)))","v":0.01},null,null,{"$f":"IF(X49<1,0.01,IF(V49>M58,2,IF(V49=M58,1,0)))","v":0.01},null,null,null,{"$f":"Q50+T50+W50","v":0.03}]
[null,null,null,"Pts","Rep","Série",null,null,null,null,null,null,null,null,null,{"$f":"F64","v":0},null,{"$f":"P49/R49","v":{"$error":"#DIV/0!"}},{"$f":"F58","v":0},null,{"$f":"S49/U49","v":{"$error":"#DIV/0!"}},{"$f":"F52","v":0},null,{"$f":"V49/X49","v":{"$error":"#DIV/0!"}},null,{"$f":"MAX(P51,S51,V51)","v":0},null,{"$f":"Z49/AB49","v":{"$error":"#DIV/0!"}}]
[null,"Tour 1",{"$f":"C39","v":0},null,null,null,null,null,null,null,{"$f":"C40","v":0},null,{"$f":"D65","v":0},null,{"$f":"E64","v":0},"M",null,null,{"$f":"D55","v":0},null,{"$f":"E55","v":0},{"$f":"D62","v":0},null,{"$f":"E61","v":0},null,{"$f":"M52+S52+V52","v":0},null,{"$f":"O52+U52+X52","v":0},{"$f":"AP52","v":{"$error":"#DIV/0!"}},null,{"$f":"AA53","v":0.03},{"$f":"RANK(AE52,AE$49:AE$60,0)","v":1},{"$f":"AB54","v":{"$error":"#DIV/0!"}},{"$f":"RANK(AG52,AG$49:AG$60,0)","v":{"$error":"#DIV/0!"}},{"$f":"MAX(O54,U54,X54)","v":{"$error":"#DIV/0!"}},{"$f":"RANK(AI52,AI$49:AI$60)","v":{"$error":"#DIV/0!"}},{"$f":"Z54","v":0},{"$f":"RANK(AK52,AK$49:AK$60)","v":1},{"$f":"(AF52*1000)+(AH52*100)+(AJ52*10)+(AL52*1)","v":{"$error":"#DIV/0!"}},{"$f":"AM52","v":{"$error":"#DIV/0!"}},{"$f":"RANK(AN52,AN$49:AN$60,1)","v":{"$error":"#DIV/0!"}},{"$f":"RANK(AO52,AO$49:AO$60,1)","v":{"$error":"#DIV/0!"}}]
[null,null,{"$f":"C42","v":0},null,null,null,null,null,null,null,null,null,null,{"$f":"IF(R49>0,2-Q50,0.01)","v":0.01},null,null,null,null,null,{"$f":"IF(U52<1,0.01,IF(S52>P55,2,IF(S52=P55,1,0)))","v":0.01},null,null,{"$f":"IF(X52<1,0.01,IF(V52>P58,2,IF(V52=P58,1,0)))","v":0.01},null,null,null,{"$f":"N53+T53+W53","v":0.03}]
[null,null,null,null,null,null,null,null,null,null,null,null,{"$f":"F65","v":0},null,{"$f":"M52/O52","v":{"$error":"#DIV/0!"}},null,null,null,{"$f":"F55","v":0},null,{"$f":"S52/U52","v":{"$error":"#DIV/0!"}},{"$f":"F62","v":0},null,{"$f":"V52/X52","v":{"$error":"#DIV/0!"}},null,{"$f":"MAXA(M54,S54,V54)","v":0},null,{"$f":"Z52/AB52","v":{"$error":"#DIV/0!"}}]
[null,"Tour 2",{"$f":"C40","v":0},null,null,null,null,null,null,null,{"$f":"C41","v":0},null,{"$f":"D59","v":0},null,{"$f":"E58","v":0},{"$f":"D56","v":0},null,{"$f":"E55","v":0},"B",null,null,{"$f":"D67","v":0},null,{"$f":"E67","v":0},null,{"$f":"M55+P55+V55","v":0},null,{"$f":"O55+R55+X55","v":0},{"$f":"AP55","v":{"$error":"#DIV/0!"}},null,{"$f":"AA56","v":0.03},{"$f":"RANK(AE55,AE$49:AE$60,0)","v":1},{"$f":"AB57","v":{"$error":"#DIV/0!"}},{"$f":"RANK(AG55,AG$49:AG$60,0)","v":{"$error":"#DIV/0!"}},{"$f":"MAX(O57,R57,X57)","v":{"$error":"#DIV/0!"}},{"$f":"RANK(AI55,AI$49:AI$60)","v":{"$error":"#DIV/0!"}},{"$f":"Z57","v":0},{"$f":"RANK(AK55,AK$49:AK$60)","v":1},{"$f":"(AF55*1000)+(AH55*100)+(AJ55*10)+(AL55*1)","v":{"$error":"#DIV/0!"}},{"$f":"AM55","v":{"$error":"#DIV/0!"}},{"$f":"RANK(AN55,AN$49:AN$60,1)","v":{"$error":"#DIV/0!"}},{"$f":"RANK(AO55,AO$49:AO$60,1)","v":{"$error":"#DIV/0!"}}]
[null,null,{"$f":"C41","v":0},null,null,null,null,null,null,null,null,null,null,{"$f":"IF(U49>0,2-T50,0.01)","v":0.01},null,null,{"$f":"IF(U52>0,2-T53,0.01)","v":0.01},null,null,null,null,null,{"$f":"IF(X55<1,0.01,IF(V55>S58,2,IF(V55=S58,1,0)))","v":0.01},null,null,null,{"$f":"N56+Q56+W56","v":0.03}]
[null,null,null,null,null,null,null,null,null,null,null,null,{"$f":"F59","v":0},null,{"$f":"M55/O55","v":{"$error":"#DIV/0!"}},{"$f":"F56","v":0},null,{"$f":"P55/R55","v":{"$error":"#DIV/0!"}},null,null,null,{"$f":"F67","v":0},null,{"$f":"V55/X55","v":{"$error":"#DIV/0!"}},null,{"$f":"MAXA(M57,P57,V57)","v":0},null,{"$f":"Z55/AB55","v":{"$error":"#DIV/0!"}}]
[null,"Tour 3",{"$f":"C39","v":0},null,null,null,null,null,null,null,{"$f":"C42","v":0},null,{"$f":"D53","v":0},null,{"$f":"E52","v":0},{"$f":"D61","v":0},null,{"$f":"E61","v":0},{"$f":"D68","v":0},null,{"$f":"E67","v":0},null,null,null,null,{"$f":"M58+P58+S58","v":0},null,{"$f":"O58+R58+U58","v":0},{"$f":"AP58","v":{"$error":"#DIV/0!"}},null,{"$f":"AA59","v":0.03},{"$f":"RANK(AE58,AE$49:AE$60,0)","v":1},{"$f":"AB60","v":{"$error":"#DIV/0!"}},{"$f":"RANK(AG58,AG$49:AG$60,0)","v":{"$error":"#DIV/0!"}},{"$f":"MAX(O60,R60,U60)","v":{"$error":"#DIV/0!"}},{"$f":"RANK(AI58,AI$49:AI$60)","v":{"$error":"#DIV/0!"}},{"$f":"Z60","v":0},{"$f":"RANK(AK58,AK$49:AK$60)","v":1},{"$f":"(AF58*1000)+(AH58*100)+(AJ58*10)+(AL58*1)","v":{"$error":"#DIV/0!"}},{"$f":"AM58","v":{"$error":"#DIV/0!"}},{"$f":"RANK(AN58,AN$49:AN$60,1)","v":{"$error":"#DIV/0!"}},{"$f":"RANK(AO58,AO$49:AO$60,1)","v":{"$error":"#DIV/0!"}}]
[null,null,{"$f":"C41","v":0},null,null,null,null,null,null,null,null,null,null,{"$f":"IF(X49>0,2-W50,0.01)","v":0.01},null,null,{"$f":"IF(X52>0,2-W53,0.01)","v":0.01},null,null,{"$f":"IF(X55>0,2-W56,0.01)","v":0.01},null,null,null,null,null,null,{"$f":"N59+Q59+T59","v":0.03}]
[null,null,null,null,null,null,null,null,null,null,null,null,{"$f":"F53","v":0},null,{"$f":"M58/O58","v":{"$error":"#DIV/0!"}},{"$f":"F61","v":0},null,{"$f":"P58/R58","v":{"$error":"#DIV/0!"}},{"$f":"F68","v":0},null,{"$f":"S58/U58","v":{"$error":"#DIV/0!"}},null,null,null,null,{"$f":"MAXA(M60,P60,S60)","v":0},null,{"$f":"Z58/AB58","v":{"$error":"#DIV/0!"}}]
[null,"Tour 4",{"$f":"C42","v":0}]
[null,null,{"$f":"C40","v":0},null,null,null,null,null,null,null,null,null,"Pas de prolongation en cas de match nul."]
[]
[null,"Tour 5",{"$f":"C39","v":0}]
[null,null,{"$f":"C40","v":0}]
[]
[null,"Tour 6",{"$f":"C41","v":0}]
[null,null,{"$f":"C42","v":0}]
[]
[null,"Joueur 1",{"$f":"'Saisie des joueurs'!L20","v":0}]
[null,"Joueur 2",{"$f":"'Saisie des joueurs'!L23","v":0}]
[null,"Joueur 3",{"$f":"'Saisie des joueurs'!L28","v":0}]
[null,"Joueur 4",{"$f":"'Saisie des joueurs'!L31","v":0}]
[]
[]
[null,"SAISIE DES RESULTATS",null,null,null,null,null,null,null,null,null,null,{"$f":"C70","v":0},null,null,{"$f":"C71","v":0},null,null,{"$f":"C72","v":0},null,null,{"$f":"C73","v":0}]
[null,null,null,null,null,null,null,null,null,null,null,null,null,null,null,null,null,null,null,null,null,null,null,null,null,"TOTAUX",null,null,"CLASSEMENT"]
[null,null,null,null,null,null,null,null,null,null,null,null,null,null,null,null,null,null,null,null,null,null,null,null,null,null,null,null,null,null,"Classement",null,"Classement",null,"Classement",null,"Classement",null,"Classement",null,"GENERAL","RANG"]
[null,null,"POULE C",null,null,null,null,null,null,null,null,null,null,null,null,null,null,null,null,null,null,null,null,null,null,null,null,null,null,null,"Point-Match","CLS-M","Moy-Gen","CLS-G","Moy-Part","CLS-P","M-Series","CLS-S","MGPS","CLS","CLS"]
[null,null,null,null,null,null,null,null,null,null,{"$f":"C70","v":0},null,"L",null,null,{"$f":"D95","v":0},null,{"$f":"E95","v":0},{"$f":"D89","v":0},null,{"$f":"E89","v":0},{"$f":"D83","v":0},null,{"$f":"E83","v":0},null,{"$f":"P80+S80+V80","v":0},null,{"$f":"R80+U80+X80","v":0},{"$f":"AP80","v":{"$error":"#DIV/0!"}},null,{"$f":"AA81","v":0.03},{"$f":"RANK(AE80,AE$80:AE$91,0)","v":1},{"$f":"AB82","v":{"$error":"#DIV/0!"}},{"$f":"RANK(AG80,AG$80:AG$91,0)","v":{"$error":"#DIV/0!"}},{"$f":"MAX(R82,U82,X82)","v":{"$error":"#DIV/0!"}},{"$f":"RANK(AI80,AI$80:AI$91)","v":{"$error":"#DIV/0!"}},{"$f":"Z82","v":0},{"$f":"RANK(AK80,AK$49:AK$60)","v":1},{"$f":"(AF80*1000)+(AH80*100)+(AJ80*10)+(AL80*1)","v":{"$error":"#DIV/0!"}},{"$f":"AM80","v":{"$error":"#DIV/0!"}},{"$f":"RANK(AN80,AN$80:AN$91,1)","v":{"$error":"#DIV/0!"}},{"$f":"RANK(AO80,AO$80:AO$91,1)","v":{"$error":"#DIV/0!"}}]
[null,null,null,null,null,null,null,null,null,null,null,null,null,null,null,null,{"$f":"IF(R80<1,0.01,IF(P80>M83,2,IF(P80=M83,1,0)))","v":0.01},null,null,{"$f":"IF(U80<1,0.01,IF(S80>M86,2,IF(S80=M86,1,0)))","v":0.01},null,null,{"$f":"IF(X80<1,0.01,IF(V80>M89,2,IF(V80=M89,1,0)))","v":0.01},null,null,null,{"$f":"Q81+T81+W81","v":0.03}]
[null,null,null,"Pts","Rep","Série",null,null,null,null,null,null,null,null,null,{"$f":"F95","v":0},null,{"$f":"P80/R80","v":{"$error":"#DIV/0!"}},{"$f":"F89","v":0},null,{"$f":"S80/U80","v":{"$error":"#DIV/0!"}},{"$f":"F83","v":0},null,{"$f":"V80/X80","v":{"$error":"#DIV/0!"}},null,{"$f":"MAX(P82,S82,V82)","v":0},null,{"$f":"Z80/AB80","v":{"$error":"#DIV/0!"}}]
[null,"Tour 1",{"$f":"C70","v":0},null,null,null,null,null,null,null,{"$f":"C71","v":0},null,{"$f":"D96","v":0},null,{"$f":"E95","v":0},"M",null,null,{"$f":"D86","v":0},null,{"$f":"E86","v":0},{"$f":"D93","v":0},null,{"$f":"E92","v":0},null,{"$f":"M83+S83+V83","v":0},null,{"$f":"O83+U83+X83","v":0},{"$f":"AP83","v":{"$error":"#DIV/0!"}},null,{"$f":"AA84","v":0.03},{"$f":"RANK(AE83,AE$80:AE$91,0)","v":1},{"$f":"AB85","v":{"$error":"#DIV/0!"}},{"$f":"RANK(AG83,AG$80:AG$91,0)","v":{"$error":"#DIV/0!"}},{"$f":"MAX(O85,U85,X85)","v":{"$error":"#DIV/0!"}},{"$f":"RANK(AI83,AI$80:AI$91)","v":{"$error":"#DIV/0!"}},{"$f":"Z85","v":0},{"$f":"RANK(AK83,AK$49:AK$60)","v":1},{"$f":"(AF83*1000)+(AH83*100)+(AJ83*10)+(AL83*1)","v":{"$error":"#DIV/0!"}},{"$f":"AM83","v":{"$error":"#DIV/0!"}},{"$f":"RANK(AN83,AN$80:AN$91,1)","v":{"$error":"#DIV/0!"}},{"$f":"RANK(AO83,AO$80:AO$91,1)","v":{"$error":"#DIV/0!"}}]
[null,null,{"$f":"C73","v":0},null,null,null,null,null,null,null,null,null,null,{"$f":"IF(R80>0,2-Q81,0.01)","v":0.01},null,null,null,null,null,{"$f":"IF(U83<1,0.01,IF(S83>P86,2,IF(S83=P86,1,0)))","v":0.01},null,null,{"$f":"IF(X83<1,0.01,IF(V83>P89,2,IF(V83=P89,1,0)))","v":0.01},null,null,null,{"$f":"N84+T84+W84","v":0.03}]
[null,null,null,null,null,null,null,null,null,null,null,null,{"$f":"F96","v":0},null,{"$f":"M83/O83","v":{"$error":"#DIV/0!"}},null,null,null,{"$f":"F86","v":0},null,{"$f":"S83/U83","v":{"$error":"#DIV/0!"}},{"$f":"F93","v":0},null,{"$f":"V83/X83","v":{"$error":"#DIV/0!"}},null,{"$f":"MAXA(M85,S85,V85)","v":0},null,{"$f":"Z83/AB83","v":{"$error":"#DIV/0!"}}]
[null,"Tour 2",{"$f":"C71","v":0},null,null,null,null,null,null,null,{"$f":"C72","v":0},null,{"$f":"D90","v":0},null,{"$f":"E89","v":0},{"$f":"D87","v":0},null,{"$f":"E86","v":0},"B",null,null,{"$f":"D98","v":0},null,{"$f":"E98","v":0},null,{"$f":"M86+P86+V86","v":0},null,{"$f":"O86+R86+X86","v":0},{"$f":"AP86","v":{"$error":"#DIV/0!"}},null,{"$f":"AA87","v":0.03},{"$f":"RANK(AE86,AE$80:AE$91,0)","v":1},{"$f":"AB88","v":{"$error":"#DIV/0!"}},{"$f":"RANK(AG86,AG$80:AG$91,0)","v":{"$error":"#DIV/0!"}},{"$f":"MAX(O88,R88,X88)","v":{"$error":"#DIV/0!"}},{"$f":"RANK(AI86,AI$80:AI$91)","v":{"$error":"#DIV/0!"}},{"$f":"Z88","v":0},{"$f":"RANK(AK86,AK$49:AK$60)","v":1},{"$f":"(AF86*1000)+(AH86*100)+(AJ86*10)+(AL86*1)","v":{"$error":"#DIV/0!"}},{"$f":"AM86","v":{"$error":"#DIV/0!"}},{"$f":"RANK(AN86,AN$80:AN$91,1)","v":{"$error":"#DIV/0!"}},{"$f":"RANK(AO86,AO$80:AO$91,1)","v":{"$error":"#DIV/0!"}}]
[null,null,{"$f":"C72","v":0},null,null,null,null,null,null,null,null,null,null,{"$f":"IF(U80>0,2-T81,0.01)","v":0.01},null,null,{"$f":"IF(U83>0,2-T84,0.01)","v":0.01},null,null,null,null,null,{"$f":"IF(X86<1,0.01,IF(V86>S89,2,IF(V86=S89,1,0)))","v":0.01},null,null,null,{"$f":"N87+Q87+W87","v":0.03}]
[null,null,null,null,null,null,null,null,null,null,null,null,{"$f":"F90","v":0},null,{"$f":"M86/O86","v":{"$error":"#DIV/0!"}},{"$f":"F87","v":0},null,{"$f":"P86/R86","v":{"$error":"#DIV/0!"}},null,null,null,{"$f":"F98","v":0},null,{"$f":"V86/X86","v":{"$error":"#DIV/0!"}},null,{"$f":"MAXA(M88,P88,V88)","v":0},null,{"$f":"Z86/AB86","v":{"$error":"#DIV/0!"}}]
[null,"Tour 3",{"$f":"C70","v":0},null,null,null,null,null,null,null,{"$f":"C73","v":0},null,{"$f":"D84","v":0},null,{"$f":"E83","v":0},{"$f":"D92","v":0},null,{"$f":"E92","v":0},{"$f":"D99","v":0},null,{"$f":"E98","v":0},null,null,null,null,{"$f":"M89+P89+S89","v":0},null,{"$f":"O89+R89+U89","v":0},{"$f":"AP89","v":{"$error":"#DIV/0!"}},null,{"$f":"AA90","v":0.03},{"$f":"RANK(AE89,AE$80:AE$91,0)","v":1},{"$f":"AB91","v":{"$error":"#DIV/0!"}},{"$f":"RANK(AG89,AG$80:AG$91,0)","v":{"$error":"#DIV/0!"}},{"$f":"MAX(O91,R91,U91)","v":{"$error":"#DIV/0!"}},{"$f":"RANK(AI89,AI$80:AI$91)","v":{"$error":"#DIV/0!"}},{"$f":"Z91","v":0},{"$f":"RANK(AK89,AK$49:AK$60)","v":1},{"$f":"(AF89*1000)+(AH89*100)+(AJ89*10)+(AL89*1)","v":{"$error":"#DIV/0!"}},{"$f":"AM89","v":{"$error":"#DIV/0!"}},{"$f":"RANK(AN89,AN$80:AN$91,1)","v":{"$error":"#DIV/0!"}},{"$f":"RANK(AO89,AO$80:AO$91,1)","v":{"$error":"#DIV/0!"}}]
[null,null,{"$f":"C72","v":0},null,null,null,null,null,null,null,null,null,null,{"$f":"IF(X80>0,2-W81,0.01)","v":0.01},null,null,{"$f":"IF(X83>0,2-W84,0.01)","v":0.01},null,null,{"$f":"IF(X86>0,2-W87,0.01)","v":0.01},null,null,null,null,null,null,{"$f":"N90+Q90+T90","v":0.03}]
[null,null,null,null,null,null,null,null,null,null,null,null,{"$f":"F84","v":0},null,{"$f":"M89/O89","v":{"$error":"#DIV/0!"}},{"$f":"F92","v":0},null,{"$f":"P89/R89","v":{"$error":"#DIV/0!"}},{"$f":"F99","v":0},null,{"$f":"S89/U89","v":{"$error":"#DIV/0!"}},null,null,null,null,{"$f":"MAXA(M91,P91,S91)","v":0},null,{"$f":"Z89/AB89","v":{"$error":"#DIV/0!"}}]
[null,"Tour 4",{"$f":"C73","v":0}]
[null,null,{"$f":"C71","v":0},null,null,null,null,null,null,null,null,null,"Pas de prolongation en cas de match nul."]
[]
[null,"Tour 5",{"$f":"C70","v":0}]
[null,null,{"$f":"C71","v":0}]
[]
[null,"Tour 6",{"$f":"C72","v":0}]
[null,null,{"$f":"C73","v":0}]
[]
[null,"Joueur 1",{"$f":"'Saisie des joueurs'!L21","v":0}]
[null,"Joueur 2",{"$f":"'Saisie des joueurs'!L22","v":0}]
[null,"Joueur 3",{"$f":"'Saisie des joueurs'!L29","v":0}]
[null,"Joueur 4",{"$f":"'Saisie des joueurs'!L30","v":0}]
[]
[]
[null,"SAISIE DES RESULTATS",null,null,null,null,null,null,null,null,null,null,{"$f":"C101","v":0},null,null,{"$f":"C102","v":0},null,null,{"$f":"C103","v":0},null,null,{"$f":"C104","v":0}]
[null,null,null,null,null,null,null,null,null,null,null,null,null,null,null,null,null,null,null,null,null,null,null,null,null,"TOTAUX",null,null,"CLASSEMENT"]
[null,null,null,null,null,null,null,null,null,null,null,null,null,null,null,null,null,null,null,null,null,null,null,null,null,null,null,null,null,null,"Classement",null,"Classement",null,"Classement",null,"Classement",null,"Classement",null,"GENERAL","RANG"]
[null,null,"POULE D",null,null,null,null,null,null,null,null,null,null,null,null,null,null,null,null,null,null,null,null,null,null,null,null,null,null,null,"Point-Match","CLS-M","Moy-Gen","CLS-G","Moy-Part","CLS-P","M-Series","CLS-S","MGPS","CLS","CLS"]
[null,null,null,null,null,null,null,null,null,null,{"$f":"C101","v":0},null,"L",null,null,{"$f":"D126","v":0},null,{"$f":"E126","v":0},{"$f":"D120","v":0},null,{"$f":"E120","v":0},{"$f":"D114","v":0},null,{"$f":"E114","v":0},null,{"$f":"P111+S111+V111","v":0},null,{"$f":"R111+U111+X111","v":0},{"$f":"AP111","v":{"$error":"#DIV/0!"}},null,{"$f":"AA112","v":0.03},{"$f":"RANK(AE111,AE$111:AE$122,0)","v":1},{"$f":"AB113","v":{"$error":"#DIV/0!"}},{"$f":"RANK(AG111,AG$111:AG$122,0)","v":{"$error":"#DIV/0!"}},{"$f":"MAX(R113,U113,X113)","v":{"$error":"#DIV/0!"}},{"$f":"RANK(AI111,AI$111:AI$122)","v":{"$error":"#DIV/0!"}},{"$f":"Z113","v":0},{"$f":"RANK(AK111,AK$111:AK$122)","v":1},{"$f":"(AF111*1000)+(AH111*100)+(AJ111*10)+(AL111*1)","v":{"$error":"#DIV/0!"}},{"$f":"AM111","v":{"$error":"#DIV/0!"}},{"$f":"RANK(AN111,AN$111:AN$122,1)","v":{"$error":"#DIV/0!"}},{"$f":"RANK(AO111,AO$111:AO$122,1)","v":{"$error":"#DIV/0!"}}]
[null,null,null,null,null,null,null,null,null,null,null,null,null,null,null,null,{"$f":"IF(R111<1,0.01,IF(P111>M114,2,IF(P111=M114,1,0)))","v":0.01},null,null,{"$f":"IF(U111<1,0.01,IF(S111>M117,2,IF(S111=M117,1,0)))","v":0.01},null,null,{"$f":"IF(X111<1,0.01,IF(V111>M120,2,IF(V111=M120,1,0)))","v":0.01},null,null,null,{"$f":"Q112+T112+W112","v":0.03}]
[null,null,null,"Pts","Rep","Série",null,null,null,null,null,null,null,null,null,{"$f":"F126","v":0},null,{"$f":"P111/R111","v":{"$error":"#DIV/0!"}},{"$f":"F120","v":0},null,{"$f":"S111/U111","v":{"$error":"#DIV/0!"}},{"$f":"F114","v":0},null,{"$f":"V111/X111","v":{"$error":"#DIV/0!"}},null,{"$f":"MAX(P113,S113,V113)","v":0},null,{"$f":"Z111/AB111","v":{"$error":"#DIV/0!"}}]
[null,"Tour 1",{"$f":"C101","v":0},null,null,null,null,null,null,null,{"$f":"C102","v":0},null,{"$f":"D127","v":0},null,{"$f":"E126","v":0},"M",null,null,{"$f":"D117","v":0},null,{"$f":"E117","v":0},{"$f":"D124","v":0},null,{"$f":"E123","v":0},null,{"$f":"M114+S114+V114","v":0},null,{"$f":"O114+U114+X114","v":0},{"$f":"AP114","v":{"$error":"#DIV/0!"}},null,{"$f":"AA115","v":0.03},{"$f":"RANK(AE114,AE$111:AE$122,0)","v":1},{"$f":"AB116","v":{"$error":"#DIV/0!"}},{"$f":"RANK(AG114,AG$111:AG$122,0)","v":{"$error":"#DIV/0!"}},{"$f":"MAX(R116,U116,X116)","v":{"$error":"#DIV/0!"}},{"$f":"RANK(AI114,AI$111:AI$122)","v":{"$error":"#DIV/0!"}},{"$f":"Z116","v":0},{"$f":"RANK(AK114,AK$111:AK$122)","v":1},{"$f":"(AF114*1000)+(AH114*100)+(AJ114*10)+(AL114*1)","v":{"$error":"#DIV/0!"}},{"$f":"AM114","v":{"$error":"#DIV/0!"}},{"$f":"RANK(AN114,AN$111:AN$122,1)","v":{"$error":"#DIV/0!"}},{"$f":"RANK(AO114,AO$111:AO$122,1)","v":{"$error":"#DIV/0!"}}]
[null,null,{"$f":"C104","v":0},null,null,null,null,null,null,null,null,null,null,{"$f":"IF(R111>0,2-Q112,0.01)","v":0.01},null,null,null,null,null,{"$f":"IF(U114<1,0.01,IF(S114>P117,2,IF(S114=P117,1,0)))","v":0.01},null,null,{"$f":"IF(X114<1,0.01,IF(V114>P120,2,IF(V114=P120,1,0)))","v":0.01},null,null,null,{"$f":"N115+T115+W115","v":0.03}]
[null,null,null,null,null,null,null,null,null,null,null,null,{"$f":"F127","v":0},null,{"$f":"M114/O114","v":{"$error":"#DIV/0!"}},null,null,null,{"$f":"F117","v":0},null,{"$f":"S114/U114","v":{"$error":"#DIV/0!"}},{"$f":"F124","v":0},null,{"$f":"V114/X114","v":{"$error":"#DIV/0!"}},null,{"$f":"MAXA(M116,S116,V116)","v":0},null,{"$f":"Z114/AB114","v":{"$error":"#DIV/0!"}}]
[null,"Tour 2",{"$f":"C102","v":0},null,null,null,null,null,null,null,{"$f":"C103","v":0},null,{"$f":"D121","v":0},null,{"$f":"E120","v":0},{"$f":"D118","v":0},null,{"$f":"E117","v":0},"B",null,null,{"$f":"D129","v":0},null,{"$f":"E129","v":0},null,{"$f":"M117+P117+V117","v":0},null,{"$f":"O117+R117+X117","v":0},{"$f":"AP117","v":{"$error":"#DIV/0!"}},null,{"$f":"AA118","v":0.03},{"$f":"RANK(AE117,AE$111:AE$122,0)","v":1},{"$f":"AB119","v":{"$error":"#DIV/0!"}},{"$f":"RANK(AG117,AG$111:AG$122,0)","v":{"$error":"#DIV/0!"}},{"$f":"MAX(R119,U119,X119)","v":{"$error":"#DIV/0!"}},{"$f":"RANK(AI117,AI$111:AI$122)","v":{"$error":"#DIV/0!"}},{"$f":"Z119","v":0},{"$f":"RANK(AK117,AK$111:AK$122)","v":1},{"$f":"(AF117*1000)+(AH117*100)+(AJ117*10)+(AL117*1)","v":{"$error":"#DIV/0!"}},{"$f":"AM117","v":{"$error":"#DIV/0!"}},{"$f":"RANK(AN117,AN$111:AN$122,1)","v":{"$error":"#DIV/0!"}},{"$f":"RANK(AO117,AO$111:AO$122,1)","v":{"$error":"#DIV/0!"}}]
[null,null,{"$f":"C103","v":0},null,null,null,null,null,null,null,null,null,null,{"$f":"IF(U111>0,2-T112,0.01)","v":0.01},null,null,{"$f":"IF(U114>0,2-T115,0.01)","v":0.01},null,null,null,null,null,{"$f":"IF(X117<1,0.01,IF(V117>S120,2,IF(V117=S120,1,0)))","v":0.01},null,null,null,{"$f":"N118+Q118+W118","v":0.03}]
[null,null,null,null,null,null,null,null,null,null,null,null,{"$f":"F121","v":0},null,{"$f":"M117/O117","v":{"$error":"#DIV/0!"}},{"$f":"F118","v":0},null,{"$f":"P117/R117","v":{"$error":"#DIV/0!"}},null,null,null,{"$f":"F129","v":0},null,{"$f":"V117/X117","v":{"$error":"#DIV/0!"}},null,{"$f":"MAXA(M119,P119,V119)","v":0},null,{"$f":"Z117/AB117","v":{"$error":"#DIV/0!"}}]
[null,"Tour 3",{"$f":"C101","v":0},null,null,null,null,null,null,null,{"$f":"C104","v":0},null,{"$f":"D115","v":0},null,{"$f":"E114","v":0},{"$f":"D123","v":0},null,{"$f":"E123","v":0},{"$f":"D130","v":0},null,{"$f":"E129","v":0},null,null,null,null,{"$f":"M120+P120+S120","v":0},null,{"$f":"O120+R120+U120","v":0},{"$f":"AP120","v":{"$error":"#DIV/0!"}},null,{"$f":"AA121","v":0.03},{"$f":"RANK(AE120,AE$111:AE$122,0)","v":1},{"$f":"AB122","v":{"$error":"#DIV/0!"}},{"$f":"RANK(AG120,AG$111:AG$122,0)","v":{"$error":"#DIV/0!"}},{"$f":"MAX(R122,U122,X122)","v":{"$error":"#DIV/0!"}},{"$f":"RANK(AI120,AI$111:AI$122)","v":{"$error":"#DIV/0!"}},{"$f":"Z122","v":0},{"$f":"RANK(AK120,AK$111:AK$122)","v":1},{"$f":"(AF120*1000)+(AH120*100)+(AJ120*10)+(AL120*1)","v":{"$error":"#DIV/0!"}},{"$f":"AM120","v":{"$error":"#DIV/0!"}},{"$f":"RANK(AN120,AN$111:AN$122,1)","v":{"$error":"#DIV/0!"}},{"$f":"RANK(AO120,AO$111:AO$122,1)","v":{"$error":"#DIV/0!"}}]
[null,null,{"$f":"C103","v":0},null,null,null,null,null,null,null,null,null,null,{"$f":"IF(X111>0,2-W112,0.01)","v":0.01},null,null,{"$f":"IF(X114>0,2-W115,0.01)","v":0.01},null,null,{"$f":"IF(X117>0,2-W118,0.01)","v":0.01},null,null,null,null,null,null,{"$f":"N121+Q121+T121","v":0.03}]
[null,null,null,null,null,null,null,null,null,null,null,null,{"$f":"F115","v":0},null,{"$f":"M120/O120","v":{"$error":"#DIV/0!"}},{"$f":"F123","v":0},null,{"$f":"P120/R120","v":{"$error":"#DIV/0!"}},{"$f":"F130","v":0},null,{"$f":"S120/U120","v":{"$error":"#DIV/0!"}},null,null,null,null,{"$f":"MAXA(M122,P122,S122)","v":0},null,{"$f":"Z120/AB120","v":{"$error":"#DIV/0!"}}]
[null,"Tour 4",{"$f":"C104","v":0}]
[null,null,{"$f":"C102","v":0},null,null,null,null,null,null,null,null,null,"Pas de prolongation en cas de match nul."]
[]
[null,"Tour 5",{"$f":"C101","v":0}]
[null,null,{"$f":"C102","v":0}]
[]
[null,"Tour 6",{"$f":"C103","v":0}]
[null,null,{"$f":"C104","v":0}]