{"text_format":"1","workbook":"xlsx","n_sheets":48,"sheets":["FicheJoueurs","CLUB","BOISSON_T","3BANDES","BANDE","CADRE","LIBRE","MACRO","BOISSON_F","DistNat","DistDept","SaisieJoueurs Finale","Saisie des joueurs","FINALE 2x3 JOUEURS","FINALE 6 JOUEURS","3JOUEURS_SERPENTIN","2JOUEURS_SERPENTIN","4JOUEURS_SERPENTIN","5JOUEURS_SERPENTIN","6JOUEURS_SERPENTIN","7JOUEURS_SERPENTIN","8JOUEURS_SERPENTIN","9JOUEURS_SERPENTIN","10JOUEURS_SERPENTIN","11JOUEURS_SERPENTIN","12JOUEURS_SERPENTIN","13JOUEURS_SERPENTIN","14JOUEURS_SERPENTIN","15JOUEURS_SERPENTIN","16JOUEURS_SERPENTIN","17JOUEURS_SERPENTIN","18JOUEURS_SERPENTIN","19JOUEURS_SERPENTIN","20JOUEURS_SERPENTIN","3JOUEURS_MOYENNE","4JOUEURS_MOYENNE","5JOUEURS_MOYENNE","6JOUEURS_MOYENNE","7JOUEURS_MOYENNE","8JOUEURS_MOYENNE","9JOUEURS_MOYENNE","10JOUEURS_MOYENNE","11JOUEURS_MOYENNE","12JOUEURS_MOYENNE","13JOUEURS_MOYENNE","14JOUEURS_MOYENNE","15JOUEURS_MOYENNE","16JOUEURS_MOYENNE"],"not_rendered":{"charts":0,"images":3,"macros":1,"external_links":0,"defined_names":98,"comments":1,"pivot_tables":0},"unopened":[],"bounds":{"document_bytes":16777216,"sheet_cells":100000,"rows_first":2000,"rows_last":500,"rows_between":2000,"halvings":0,"cell_chars":16384,"cell_head_chars":4096},"cells_cut":0,"cells_raw":0,"read":"whole","date_system":"1900"}

{"sheet":"FicheJoueurs","index":0,"n_rows":614,"n_cols":5,"rows_kept":614,"cut":false,"hidden":true,"merged":[[0,1,1,4]]}
[null,"LISTING JOUEURS LICENCIES LMB 2025"]
[]
[null,"NC","NOM PRENOM","CLUB ","N° LICENCE"]
[]
[]
[null,"Non Classé","Nom joueur","Club","Licence"]
[null,null,"ABAD-YANNICK","19002--SPORT AMAT.DE BILLARD MARSEILLAIS","106287Z"]
[null,null,"ABELA-JOSEPH","19021-BILLARD CLUB CAVAILLONNAIS","159403P"]
[null,null,"AGNES-ALEXANDRE","19127-O CIGALON BILLARD CLUB","147448V"]
[null,null,"AGOPIAN-VICTOR","19050-BILLARD CLUB SAUSSETOIS","146637X"]
[null,null,"AKNIN-GABRIEL","19027-ACADEMIE DE BILLARD DE BOLLENE","021810W"]
[null,null,"AKTAS-JEAN","19112-NISSA BILLARD CLUB","147980Y"]
[null,null,"ALESSI-JEAN PIERRE","19023-BILLARD CLUB GARDEEN","149448T"]
[null,null,"ALIBERT-BRUNO","19056-BILLARD CLUB DE NICE","151459E"]
[null,null,"ALLAL-SOUHIL","19130-BLACK BALL CAVAILLONNAIS","132516U"]
[null,null,"ALLIGIER-GERARD","19019-BILLARD CLUB DE LA BAIE","157036R"]
[null,null,"ALLORGE-STEPHANE","19009-CLUB BILLARD ISTREEN","186296W"]
[null,null,"ALVAREZ-PHILIPPE","19056-BILLARD CLUB DE NICE","159130S"]
[null,null,"ALVISET-GUY","19050-BILLARD CLUB SAUSSETOIS","152035F"]
[null,null,"AMANS-HERVE","19009-CLUB BILLARD ISTREEN","177854V"]
[null,null,"AMMARI-ANAS","19002-SPORT AMAT.DE BILLARD MARSEILLAIS","186456V"]
[null,null,"AMOUROUX-JACQUES ANTOINE","19023-BILLARD CLUB GARDEEN","162879S"]
[null,null,"AMOUROUX-LUC","19023-BILLARD CLUB GARDEEN","155531F"]
[null,null,"ANGUE-PATRICK","19056-BILLARD CLUB DE NICE","021819F"]
[null,null,"ANNESTAY-JACQUES","19025-BILLARD CLUB SISTERONNAIS","021820G"]
[null,null,"ANTONIN-ALAIN","19021-BILLARD CLUB CAVAILLONNAIS","021821H"]
[null,null,"ARBAUD-STEPHANE","19112-NISSA BILLARD CLUB","021824K"]
[null,null,"ARENAS-ROLDAN","19055-ACADEMIE DE BILLARD DE MENTON","181505N"]
[null,null,"ARGENTIN-JEAN NOEL","19127-O CIGALON BILLARD CLUB","126179B"]
[null,null,"ARMENGAU-PHILIPPE","19056-BILLARD CLUB DE NICE","161785D"]
[null,null,"ARNAUD-PIERRE","19006-BILLARD CLUB CARPENTRASSIEN","122035R"]
[null,null,"ARNOUX-LAURENT","19058-ACADEMIE DE BILLARD DE BARBOSSI MANDELIEU","180272Y"]
[null,null,"AUBERT ROUECHE-LYDIA","19106-BILLARD CLUB VINONNAIS","148204R"]
[null,null,"AUDIBERT-JEAN PIERRE","19012-SALON BILLARD CLUB","106513R"]
[null,null,"AUTRAND-MICHEL","19001-S. S. A. B. D AIX EN PROVENCE","172643F"]
[null,null,"AZOULAY-ALAIN","19017-BILLARD CLUB PHOCEEN","021839Z"]
[null,null,"BACHERGIAN-MAXENCE","19002-SPORT AMAT.DE BILLARD MARSEILLAIS","174115F"]
[null,null,"BAILLON-JEAN","19058-ACADEMIE DE BILLARD DE BARBOSSI MANDELIEU","115304U"]
[null,null,"BAJEUX-JEAN LOUIS","19090-BILLARD AMATEUR ROGNAC","183850M"]
[null,null,"BALESTRI-MAURICE","19058-ACADEMIE DE BILLARD DE BARBOSSI MANDELIEU","153554G"]
[null,null,"BALLAIS-REMI","19017-BILLARD CLUB PHOCEEN","186655L"]
[null,null,"BALLIGAND-SERGE","19059-BILLARD CLUB ROQUEBRUNOIS","023184S"]
[null,null,"BANO-SERGE","19001-S. S. A. B. D AIX EN PROVENCE","149693K"]
[null,null,"BARBANNEAU-FREDERIC","19106-BILLARD CLUB VINONNAIS","109917P"]
[null,null,"BARBESANT-DIDIER","19058-ACADEMIE DE BILLARD DE BARBOSSI MANDELIEU","168289Y"]
[null,null,"BARNES-JEAN PIERRE","19009-CLUB BILLARD ISTREEN","177120X"]
[null,null,"BAROTH-DARIO","19127-O CIGALON BILLARD CLUB","174346G"]
[null,null,"BAROTH-LOEVA","19127-O CIGALON BILLARD CLUB","174347H"]
[null,null,"BARRALLON-JEAN PAUL","19023-BILLARD CLUB GARDEEN","122300W"]
[null,null,"BARTHE-CHANTAL","19090-BILLARD AMATEUR ROGNAC","179073V"]
[null,null,"BASELGA-PASCAL","19093-AMERICAN CLUB LOUIS XI","135538A"]
[null,null,"BASSOUL-JEAN MARIE","19006-BILLARD CLUB CARPENTRASSIEN","103568K"]
[null,null,"BAUDOUX-JEAN CLAUDE","19058-ACADEMIE DE BILLARD DE BARBOSSI MANDELIEU","164877P"]
[null,null,"BAYARD-JEAN CLAUDE","19021-BILLARD CLUB CAVAILLONNAIS","021860U"]
[null,null,"BAYLE-PASCAL","19090-BILLARD AMATEUR ROGNAC","021861V"]
[null,null,"BEAUCHANT-FABRICE","19131-BILLARD CLUB DE L ESTAGNOL","182453T"]
[null,null,"BECK-MICHEL","19061-ACAD.BILLARD ST RAPHAEL","011797T"]
[null,null,"BEDARIDE-NICOLAS","19002-SPORT AMAT.DE BILLARD MARSEILLAIS","170823C"]
[null,null,"BEDOC-JACQUES","19007-BILLARD CLUB BERROIS","021863X"]
[null,null,"BELAICH-EDOUARD","19017-BILLARD CLUB PHOCEEN","175776L"]
[null,null,"BELHASSEN-BENJAMIN","19112-NISSA BILLARD CLUB","021865Z"]
[null,null,"BELINGUIER-MAXIME","19002-SPORT AMAT.DE BILLARD MARSEILLAIS","182588Q"]
[null,null,"BELTRITTI-JEAN YVES","19106-BILLARD CLUB VINONNAIS","132789H"]
[null,null,"BENAVIDES-CLAUDE","19012-SALON BILLARD CLUB","021872G"]
[null,null,"BENAVIDES-GERARD","19012-SALON BILLARD CLUB","138275H"]
[null,null,"BENDAVID-KARINE","19112-NISSA BILLARD CLUB","124802C"]
[null,null,"BENHAMOU-ALEXIS","19001-S. S. A. B. D AIX EN PROVENCE","160341J"]
[null,null,"BENIER-PATRICK","19023-BILLARD CLUB GARDEEN","159238K"]
[null,null,"BENOIT-MICHEL","19027-ACADEMIE DE BILLARD DE BOLLENE","159790K"]
[null,null,"BENSAID-NOEL","19138-BILLARD CLUB FREJUSSIEN","160011A"]
[null,null,"BERLIOZ-PASCAL","19006-BILLARD CLUB CARPENTRASSIEN","151532J"]
[null,null,"BERNABEI-ROBERT","19093-AMERICAN CLUB LOUIS XI","153662Z"]
[null,null,"BERNAT-JEAN PIERRE","19023-BILLARD CLUB GARDEEN","125945B"]
[null,null,"BERNICHON-PASCAL","19127-O CIGALON BILLARD CLUB","115001D"]
[null,null,"BIARD-ANDRE","19009-CLUB BILLARD ISTREEN","159202W"]
[null,null,"BIARD-ARTHUR","19009-CLUB BILLARD ISTREEN","173584D"]
[null,null,"BIARD-NOAH","19009-CLUB BILLARD ISTREEN","173583C"]
[null,null,"BIDDAU-FRANCOIS","19009-CLUB BILLARD ISTREEN","125917Z"]
[null,null,"BIOT-ELODIE","19058-ACADEMIE DE BILLARD DE BARBOSSI MANDELIEU","183516Z"]
[null,null,"BLANC SANTELLI-ERIC","19009-CLUB BILLARD ISTREEN","179744Z"]
[null,null,"BLANCA-JOAQUIM","19131-BILLARD CLUB DE L ESTAGNOL","010403D"]
[null,null,"BLANCA-LEO","19131-BILLARD CLUB DE L ESTAGNOL","181218B"]
[null,null,"BOCCHETTA-ERIC","19093-AMERICAN CLUB LOUIS XI","169485Y"]
[null,null,"BOGGIO POLA-PIERRE","19007-BILLARD CLUB BERROIS","181202J"]
[null,null,"BOLLOTTE-BENIGNE","19023-BILLARD CLUB GARDEEN","175504Q"]
[null,null,"BONACCORSI-LORENZO","19002-SPORT AMAT.DE BILLARD MARSEILLAIS","186460Z"]
[null,null,"BONELLO-LUCIEN","19090-BILLARD AMATEUR ROGNAC","021894C"]
[null,null,"BONETTO-JEAN LOUIS","19050-BILLARD CLUB SAUSSETOIS","186374F"]
[null,null,"BONNEMAISON-DENIS","19009-CLUB BILLARD ISTREEN","150422C"]
[null,null,"BONNICI-ROGER","19017-BILLARD CLUB PHOCEEN","168593D"]
[null,null,"BONTOUX-MAX","19007-BILLARD CLUB BERROIS","021900I"]
[null,null,"BOPEA-CHRISTIAN","19127-O CIGALON BILLARD CLUB","125957N"]
[null,null,"BORDES-BERNARD","19061-ACAD.BILLARD ST RAPHAEL","149287T"]
[null,null,"BORDES-CATHERINE","19061-ACAD.BILLARD ST RAPHAEL","149288V"]
[null,null,"BORGNA-GUY","19001-S. S. A. B. D AIX EN PROVENCE","184114Z"]
[null,null,"BOSSOT-JEAN","19027-ACADEMIE DE BILLARD DE BOLLENE","160000N"]
[null,null,"BOUFFLET-THIERRY","19025-BILLARD CLUB SISTERONNAIS","182430T"]
[null,null,"BOULANT-CLAUDE","19019-BILLARD CLUB DE LA BAIE","155529D"]
[null,null,"BOURDELLES-LAURENT","19055-ACADEMIE DE BILLARD DE MENTON","021911T"]
[null,null,"BOUTILLE-NICOLAS","19027-ACADEMIE DE BILLARD DE BOLLENE","122662U"]
[null,null,"BOUTTIER-CAROLINE","19127-O CIGALON BILLARD CLUB","125921D"]
[null,null,"BOUTTIER-CHARLES","19056-BILLARD CLUB DE NICE","118665B"]
[null,null,"BRAYER-DENIS","19008-BRITISH BILLARD CLUB AVIGNON","016411F"]
[null,null,"BREDAT-RENE","19025-BILLARD CLUB SISTERONNAIS","021918A"]
[null,null,"BREGRE-SEBASTIEN","19002-SPORT AMAT.DE BILLARD MARSEILLAIS","159347D"]
[null,null,"BREPSON-MARTIAL","19058-ACADEMIE DE BILLARD DE BARBOSSI MANDELIEU","152345S"]
[null,null,"BRETON-LUC","19006-BILLARD CLUB CARPENTRASSIEN","172527E"]
[null,null,"BRIAND-ALAIN","19002-SPORT AMAT.DE BILLARD MARSEILLAIS","113104E"]
[null,null,"BRIOIT-DOMINIQUE","19055-ACADEMIE DE BILLARD DE MENTON","021920C"]
[null,null,"BRIOSNE-PASCAL","19001-S. S. A. B. D AIX EN PROVENCE","021922E"]
[null,null,"BROYER-PHILIPPE","19127-O CIGALON BILLARD CLUB","186325C"]
[null,null,"BRUN-ROGER","19017-BILLARD CLUB PHOCEEN","021929L"]
[null,null,"BURGANT-JEAN MARIE","19019-BILLARD CLUB DE LA BAIE","123684C"]
[null,null,"CACHAU HERREICCHT-LAURENT","19023-BILLARD CLUB GARDEEN","184127N"]
[null,null,"CAILLAUD-DANIEL","19023-BILLARD CLUB GARDEEN","144785R"]
[null,null,"CANDA-JEROME","19130-BLACK BALL CAVAILLONNAIS","163016R"]
[null,null,"CANUEL-LUC","19127-O CIGALON BILLARD CLUB","181817C"]
[null,null,"CAO-GAUTIER","19098-BILLARD CLUB LA FARE","173582B"]
[null,null,"CAO-HUU TUOI","19098-BILLARD CLUB LA FARE","021944A"]
[null,null,"CAO-MEGANE","19098-BILLARD CLUB LA FARE","173581A"]
[null,null,"CARAIL-MICHEL","19021-BILLARD CLUB CAVAILLONNAIS","146885L"]
[null,null,"CARDINALI-DENIS","19056-BILLARD CLUB DE NICE","021946C"]
[null,null,"CARRILLON-MICHEL","19001-S. S. A. B. D AIX EN PROVENCE","141066Q"]
[null,null,"CARRION-JEAN PHILIPPE","19058-ACADEMIE DE BILLARD DE BARBOSSI MANDELIEU","130701Z"]
[null,null,"CASTELLINO-GEORGES","19061-ACAD.BILLARD ST RAPHAEL","181424A"]
[null,null,"CATELAS-JEAN LOUIS","19001-S. S. A. B. D AIX EN PROVENCE","167180S"]
[null,null,"CAUDRY-ALAIN","19023-BILLARD CLUB GARDEEN","170688F"]
[null,null,"CESARO-JEAN CLAUDE","19007-BILLARD CLUB BERROIS","118684U"]
[null,null,"CESMAT BELLIARD-NICOLAS","19127-O CIGALON BILLARD CLUB","119681D"]
[null,null,"CHAIX-JOEL","19025-BILLARD CLUB SISTERONNAIS","021960Q"]
[null,null,"CHANTEUX-ALAIN","19025-BILLARD CLUB SISTERONNAIS","143166K"]
[null,null,"CHANU-ALICE","19025-BILLARD CLUB SISTERONNAIS","186206Y"]
[null,null,"CHAPUIS-ERIC","19056-BILLARD CLUB DE NICE","104469B"]
[null,null,"CHARBIT-JEAN MARC","19056-BILLARD CLUB DE NICE","021967X"]
[null,null,"CHARLES-CHRISTOPHE","19131-BILLARD CLUB DE L ESTAGNOL","103539H"]
[null,null,"CHARPENTIER-MARC","19017-BILLARD CLUB PHOCEEN","185636D"]
[null,null,"CHASTAN-GEORGES","19021-BILLARD CLUB CAVAILLONNAIS","012782Q"]
[null,null,"CHELUS-ALIN","19127-O CIGALON BILLARD CLUB","146376W"]
[null,null,"CHEVENIER-PASCAL","19017-BILLARD CLUB PHOCEEN","185638F"]
[null,null,"CHEVRIER-CAMILLE","19131-BILLARD CLUB DE L ESTAGNOL","152831W"]
[null,null,"CHICARD-ALAIN","19006-BILLARD CLUB CARPENTRASSIEN","160332Z"]
[null,null,"CHUZEVILLE-GILLES","19025-BILLARD CLUB SISTERONNAIS","108854S"]
[null,null,"CLAUDON-PHILIPPE","19056-BILLARD CLUB DE NICE","148126G"]
[null,null,"CLEMENT-GERARD","19050-BILLARD CLUB SAUSSETOIS","129497R"]
[null,null,"CLERGET-JEAN LOUIS","19127-O CIGALON BILLARD CLUB","101474W"]
[null,null,"CLOUD-TOM","19127-O CIGALON BILLARD CLUB","152107J"]
[null,null,"CLUS-SANDY","19138-BILLARD CLUB FREJUSSIEN","106896K"]
[null,null,"COHEN-RICHARD MANDELIEU","19058-ACADEMIE DE BILLARD DE BARBOSSI MANDELIEU","012827J"]
[null,null,"COHEN-RICHARD NICE","19056-BILLARD CLUB DE NICE","148796K"]
[null,null,"COHEN-STEPHANE","19058-ACADEMIE DE BILLARD DE BARBOSSI MANDELIEU","170613Z"]
[null,null,"COLOMBINI-ALAIN","19002-SPORT AMAT.DE BILLARD MARSEILLAIS","186457W"]
[null,null,"CONFAVREUX-KELIAN","19130-BLACK BALL CAVAILLONNAIS","178799X"]
[null,null,"CONTRAIN-JEROME","19012-SALON BILLARD CLUB","166177C"]
[null,null,"COPPIN-JEAN MICHEL","19027-ACADEMIE DE BILLARD DE BOLLENE","021985P"]
[null,null,"CORBET-LAURENT","19021-BILLARD CLUB CAVAILLONNAIS","021987R"]
[null,null,"CORBIN-LUC","19023-BILLARD CLUB GARDEEN","164007T"]
[null,null,"CORNET-MARIELLE","19059-BILLARD CLUB ROQUEBRUNOIS","185390L"]
[null,null,"COSTE-PHILIPPE","19061-ACAD.BILLARD ST RAPHAEL","125938U"]
[null,null,"COTARD-SANDRINE","19131-BILLARD CLUB DE L ESTAGNOL","101268Y"]
[null,null,"COTTET-JACQUES","19025-BILLARD CLUB SISTERONNAIS","139655J"]
[null,null,"COUPET-PHILIPPE","19023-BILLARD CLUB GARDEEN","119932U"]
[null,null,"COURBOT-LUDWIG","19001-S. S. A. B. D AIX EN PROVENCE","016838Q"]
[null,null,"COZETTE-SYLVIE","19023-BILLARD CLUB GARDEEN","168685D"]
[null,null,"CREUZOT-PATRICE","19017-BILLARD CLUB PHOCEEN","021996A"]
[null,null,"CROUZET-JEAN ANDRE","19027-ACADEMIE DE BILLARD DE BOLLENE","152067Q"]
[null,null,"CUADRADO-HECTOR","19021-BILLARD CLUB CAVAILLONNAIS","142586C"]
[null,null,"CUER-KILLIAN","19127-O CIGALON BILLARD CLUB","181819E"]
[null,null,"DAIFHALLA PUICHAULT-YANNIS","19025-BILLARD CLUB SISTERONNAIS","182676L"]
[null,null,"DALMASSO-EMMANUELLE","19025-BILLARD CLUB SISTERONNAIS","177204N"]
[null,null,"DAMIENS-ALEXANDRE","19127-O CIGALON BILLARD CLUB","167825T"]
[null,null,"DAMON-GERARD","19056-BILLARD CLUB DE NICE","022002G"]
[null,null,"DAMON-OLIVIER","19012-SALON BILLARD CLUB","022003H"]
[null,null,"DANCARVILLE-GUY","19009-CLUB BILLARD ISTREEN","144640C"]
[null,null,"DAUPHIN-MICHEL","19014-BILLARD CLUB AVIGNONNAIS","014828I"]
[null,null,"DAUPHIN-THYFFEN","19002-SPORT AMAT.DE BILLARD MARSEILLAIS","172573E"]
[null,null,"DAVID-THIERRY","19025-BILLARD CLUB SISTERONNAIS","155526A"]
[null,null,"DE CAMBOURG-HELION","19014-BILLARD CLUB AVIGNONNAIS","171181R"]
[null,null,"DE CAMPO-TEDDY","19068-BILLARD CLUB ARLESIEN","138202M"]
[null,null,"DE GRYSE-GERARD","19023-BILLARD CLUB GARDEEN","139487X"]
[null,null,"DE LOOSE-FELIX","19106-BILLARD CLUB VINONNAIS","163348C"]
[null,null,"DE OLIVEIRA GONCALVES-PAULO","19130-BLACK BALL CAVAILLONNAIS","177338J"]
[null,null,"DE RIGAL-DANIEL","19027-ACADEMIE DE BILLARD DE BOLLENE","127655V"]
[null,null,"DEBASC-GAD","19017-BILLARD CLUB PHOCEEN","158419V"]
[null,null,"DEBOSZ-RICHARD","19021-BILLARD CLUB CAVAILLONNAIS","140093F"]
[null,null,"DEBRUYNE-ANNE","19106-BILLARD CLUB VINONNAIS","184548W"]
[null,null,"DEBRUYNE-TRISTAN","19106-BILLARD CLUB VINONNAIS","113220Q"]
[null,null,"DEBUYSER-ANNE","19058-ACADEMIE DE BILLARD DE BARBOSSI MANDELIEU","178356Q"]
[null,null,"DEDON-DENISE","19007-BILLARD CLUB BERROIS","181198E"]
[null,null,"DEDON-RICHARD","19007-BILLARD CLUB BERROIS","177233V"]
[null,null,"DEFRETIN JOEL","19023--BILLARD CLUB GARDEEN","020635 R"]
[null,null,"DELAIRE-JEAN PIERRE","19021-BILLARD CLUB CAVAILLONNAIS","166003N"]
[null,null,"DELAPORTE-YVES","19006-BILLARD CLUB CARPENTRASSIEN","160334B"]
[null,null,"DELBEY-JULIEN","19012-SALON BILLARD CLUB","112719J"]
[null,null,"DELZORS-JEAN PIERRE","19056-BILLARD CLUB DE NICE","143883Z"]
[null,null,"DEMARCQ-JEAN FRANCOIS","19025-BILLARD CLUB SISTERONNAIS","168662D"]
[null,null,"DEMAY-ROMUALD","19127-O CIGALON BILLARD CLUB","159102M"]
[null,null,"DEMERLIAC-BRUNO","19007-BILLARD CLUB BERROIS","159076J"]
[null,null,"DENIS-GILLES","19009-CLUB BILLARD ISTREEN","186297X"]
[null,null,"DEROSSI-LORA","19002-SPORT AMAT.DE BILLARD MARSEILLAIS","185116N"]
[null,null,"DESMERO-RAYMOND","19007-BILLARD CLUB BERROIS","142358I"]
[null,null,"DESWAZIERE-MICHEL","19027-ACADEMIE DE BILLARD DE BOLLENE","115051B"]
[null,null,"DHENNIN-MICHEL","19059-BILLARD CLUB ROQUEBRUNOIS","176237M"]
[null,null,"DHERMY-BERTRAND","19127-O CIGALON BILLARD CLUB","156564D"]
[null,null,"DI BIN-JEAN MARIE","19027-ACADEMIE DE BILLARD DE BOLLENE","135014W"]
[null,null,"DI CRESCENZO-PIERRE","19017-BILLARD CLUB PHOCEEN","109528Q"]
[null,null,"DIDIER-DOMINIQUE","19090-BILLARD AMATEUR ROGNAC","186066W"]
[null,null,"DION-JEAN LOUIS","19006-BILLARD CLUB CARPENTRASSIEN","160331Y"]
[null,null,"DONABEDIAN-DANIEL","19019-BILLARD CLUB DE LA BAIE","142363N"]
[null,null,"DORIDANT-VINCENT","19127-O CIGALON BILLARD CLUB","134701V"]
[null,null,"DORNBUSH-MARTINE","19023-BILLARD CLUB GARDEEN","181974Y"]
[null,null,"DOS SANTOS-ADRIEN","19130-BLACK BALL CAVAILLONNAIS","133512C"]
[null,null,"DOS SANTOS-FRANCIS","19050-BILLARD CLUB SAUSSETOIS","022039R"]
[null,null,"DOUSSET-RENE","19023-BILLARD CLUB GARDEEN","174348J"]
[null,null,"DREMEAUX-JEAN PIERRE","19023-BILLARD CLUB GARDEEN","140803N"]
[null,null,"DUBREUIL-FRANCK","19061-ACAD.BILLARD ST RAPHAEL","013022W"]
[null,null,"DUPUY-MICHEL","19058-ACADEMIE DE BILLARD DE BARBOSSI MANDELIEU","011522E"]
[null,null,"DUSSAULE-PIERRE","19027-ACADEMIE DE BILLARD DE BOLLENE","102285B"]
[null,null,"DUSSEAUX-PATRICK","19021-BILLARD CLUB CAVAILLONNAIS","183248H"]
[null,null,"DUVAL-THIERRY","19061-ACAD.BILLARD ST RAPHAEL","175172E"]
[null,null,"ECK-MICHEL","19017-BILLARD CLUB PHOCEEN","146662W"]
[null,null,"EGEA-JEAN PIERRE","19130-BLACK BALL CAVAILLONNAIS","146142W"]
[null,null,"EGRETEAUD-CHRISTOPHE","19017-BILLARD CLUB PHOCEEN","155680S"]
[null,null,"EL KARMOUNI-DAVID","19002-SPORT AMAT.DE BILLARD MARSEILLAIS","186461A"]
[null,null,"ELEOUET-DANIEL","19006-BILLARD CLUB CARPENTRASSIEN","163467G"]
[null,null,"ESCOFFIER-ALAIN","19006-BILLARD CLUB CARPENTRASSIEN","167497M"]
[null,null,"ESTABLIER-PIERRE","19023-BILLARD CLUB GARDEEN","147622J"]
[null,null,"FABER-ERWIN","19021-BILLARD CLUB CAVAILLONNAIS","186621Z"]
[null,null,"FABRE-ALEXANDRE","19002-SPORT AMAT.DE BILLARD MARSEILLAIS","186571V"]
[null,null,"FAIVRE D ARCIER-PATRICK","19056-BILLARD CLUB DE NICE","022061N"]
[null,null,"FAVARIO-CHRISTIAN","19027-ACADEMIE DE BILLARD DE BOLLENE","022066S"]
[null,null,"FEBVRET-MELANIE","19130-BLACK BALL CAVAILLONNAIS","179557W"]
[null,null,"FERAUD-GERARD","19027-ACADEMIE DE BILLARD DE BOLLENE","022067T"]
[null,null,"FERAUD-LOUIS","19025-BILLARD CLUB SISTERONNAIS","182675K"]
[null,null,"FERHAT-ACHOUR","19106-BILLARD CLUB VINONNAIS","129036Y"]
[null,null,"FERNANDES GOMES-MARIO","19093-AMERICAN CLUB LOUIS XI","153669G"]
[null,null,"FERNANDEZ-MARC","19007-BILLARD CLUB BERROIS","013111H"]
[null,null,"FERRON-FREDERIC","19012-SALON BILLARD CLUB","172308R"]
[null,null,"FERRO-PHILIPPE","19009-CLUB BILLARD ISTREEN","122658Q"]
[null,null,"FONTAINE-DANY","19106-BILLARD CLUB VINONNAIS","101139Z"]
[null,null,"FOREL-PHILIPPE","19130-BLACK BALL CAVAILLONNAIS","127035Z"]
[null,null,"FOURNET-SEBASTIEN","19002-SPORT AMAT.DE BILLARD MARSEILLAIS","184732W"]
[null,null,"FRANCO-ALBERT","19019-BILLARD CLUB DE LA BAIE","022084K"]
[null,null,"FRANCO-HENRY","19055-ACADEMIE DE BILLARD DE MENTON","118688Y"]
[null,null,"FRIGANO-SEBASTIEN","19130-BLACK BALL CAVAILLONNAIS","123168G"]
[null,null,"FROMENT-REMI","19068-BILLARD CLUB ARLESIEN","182539M"]
[null,null,"FROMEYER-CORINNE","19058-ACADEMIE DE BILLARD DE BARBOSSI MANDELIEU","167290M"]
[null,null,"GABETTO-STEPHANE","19023-BILLARD CLUB GARDEEN","103216W"]
[null,null,"GABRIEL-MARTIAL","19127-O CIGALON BILLARD CLUB","120076I"]
[null,null,"GAILLET-PATRICK","19098-BILLARD CLUB LA FARE","176024F"]
[null,null,"GALARDINI-RICHARD","19050-BILLARD CLUB SAUSSETOIS","142316S"]
[null,null,"GALLEZ-DANIEL","19019-BILLARD CLUB DE LA BAIE","178728V"]
[null,null,"GALLUCCI-STEPHANE","19056-BILLARD CLUB DE NICE","022091R"]
[null,null,"GAMEN-ANDRE","19023-BILLARD CLUB GARDEEN","147288W"]
[null,null,"GARCIA-SEBASTIEN","19112-NISSA BILLARD CLUB","116525T"]
[null,null,"GATTINO-MARCO","19055-ACADEMIE DE BILLARD DE MENTON","147262S"]
[null,null,"GATTO-ANTOINE","19050-BILLARD CLUB SAUSSETOIS","022097X"]
[null,null,"GAUTIER-PATRICK","19027-ACADEMIE DE BILLARD DE BOLLENE","186342W"]
[null,null,"GAVALDA-PIERRE","19006-BILLARD CLUB CARPENTRASSIEN","116278G"]
[null,null,"GEDOR-FRANCIS","19061-ACAD.BILLARD ST RAPHAEL","186701L"]
[null,null,"GEFFROY-MEGGAN","19008-BRITISH BILLARD CLUB AVIGNON","183704D"]
[null,null,"GELAS-BERNARD","19098-BILLARD CLUB LA FARE","163279C"]
[null,null,"GENDRAUD-PHILIPPE","19138-BILLARD CLUB FREJUSSIEN","150065P"]
[null,null,"GERARD-PASCAL","19056-BILLARD CLUB DE NICE","022103D"]
[null,null,"GERARD-SANDRINE","19090-BILLARD AMATEUR ROGNAC","179077Z"]
[null,null,"GERARD-THOMAS","19056-BILLARD CLUB DE NICE","167330F"]
[null,null,"GERVAIS-GUILLAUME","19021-BILLARD CLUB CAVAILLONNAIS","022104E"]
[null,null,"GIANNATTASIO-LUCIEN","19009-CLUB BILLARD ISTREEN","022108I"]
[null,null,"GIAVELLI-GAETAN","19068-BILLARD CLUB ARLESIEN","129044G"]
[null,null,"GIBARROUX-CHRISTOPHE","19001-S. S. A. B. D AIX EN PROVENCE","118661X"]
[null,null,"GILLET-PHILIPPE","19058-ACADEMIE DE BILLARD DE BARBOSSI MANDELIEU","180514L"]
[null,null,"GILLODTS-CHRISTIAN","19017-BILLARD CLUB PHOCEEN","149471T"]
[null,null,"GIMENEZ-SERGE","19056-BILLARD CLUB DE NICE","022113N"]
[null,null,"GIRARD-JACQUES","19058-ACADEMIE DE BILLARD DE BARBOSSI MANDELIEU","129718E"]
[null,null,"GOAILLARD-JEAN MARC","19017-BILLARD CLUB PHOCEEN","181920P"]
[null,null,"GODARD-PASCAL","19006-BILLARD CLUB CARPENTRASSIEN","157852D"]
[null,null,"GODOY-CYRILLE","19127-O CIGALON BILLARD CLUB","101478A"]
[null,null,"GOMES-VITOR","19001-S. S. A. B. D AIX EN PROVENCE","120100G"]
[null,null,"GORGET-MIKAEL","19002-SPORT AMAT.DE BILLARD MARSEILLAIS","174487K"]
[null,null,"GOTTRAU-MARION","19002-SPORT AMAT.DE BILLARD MARSEILLAIS","186570T"]
[null,null,"GOUILLON-MATTHIEU","19056-BILLARD CLUB DE NICE","174010R"]
[null,null,"GOUIRAN-GEORGES","19050-BILLARD CLUB SAUSSETOIS","022129D"]
[null,null,"GOUZIEN-MILENE","19131-BILLARD CLUB DE L ESTAGNOL","175026W"]
[null,null,"GOUZIEN-RENAUD","19131-BILLARD CLUB DE L ESTAGNOL","101259P"]
[null,null,"GOUZIEN-YANN","19131-BILLARD CLUB DE L ESTAGNOL","166216V"]
[null,null,"GOUZOUGUEN-CHRISTIAN","19006-BILLARD CLUB CARPENTRASSIEN","144636Y"]
[null,null,"GOYAUD-YVES","19002-SPORT AMAT.DE BILLARD MARSEILLAIS","135555R"]
[null,null,"GRANDBOUCHE-FRANCOIS","19002-SPORT AMAT.DE BILLARD MARSEILLAIS","180247W"]
[null,null,"GRANIER-JEAN MARC","19130-BLACK BALL CAVAILLONNAIS","156807S"]
[null,null,"GRAVELLE-JULIEN","19006-BILLARD CLUB CARPENTRASSIEN","157851C"]
[null,null,"GREBLO-EDI","19093-AMERICAN CLUB LOUIS XI","170379V"]
[null,null,"GREGEOIS-MAEL","19002-SPORT AMAT.DE BILLARD MARSEILLAIS","183595K"]
[null,null,"GROS-MARIE PAULE","19068-BILLARD CLUB ARLESIEN","107059R"]
[null,null,"GROS-ROLAND","19068-BILLARD CLUB ARLESIEN","101403D"]
[null,null,"GROUSSON-ROBERT","19009-CLUB BILLARD ISTREEN","172011T"]
[null,null,"GUERINEAU-BRUNO","19021-BILLARD CLUB CAVAILLONNAIS","144796C"]
[null,null,"GUERINEAU-THIERRY","19021-BILLARD CLUB CAVAILLONNAIS","022135J"]
[null,null,"GUERIN-RAYMOND","19017-BILLARD CLUB PHOCEEN","103615F"]
[null,null,"GUERI-ROBERT","19027-ACADEMIE DE BILLARD DE BOLLENE","135013V"]
[null,null,"GUEUG-PIERRE","19056-BILLARD CLUB DE NICE","104475H"]
[null,null,"GUIZELIN-PASCAL","19106-BILLARD CLUB VINONNAIS","154530S"]
[null,null,"HADDAD-JEAN PIERRE","19014-BILLARD CLUB AVIGNONNAIS","184013P"]
[null,null,"HADDOUCHE-JONATHAN","19002-SPORT AMAT.DE BILLARD MARSEILLAIS","147316B"]
[null,null,"HAHN-DANIEL","19017-BILLARD CLUB PHOCEEN","011966G"]
[null,null,"HAMALIAN-CYRIL","19002-SPORT AMAT.DE BILLARD MARSEILLAIS","166068J"]
[null,null,"HARTENSTEIN-BRUNO","19006-BILLARD CLUB CARPENTRASSIEN","166328R"]
[null,null,"HATEM-MARC","19131-BILLARD CLUB DE L ESTAGNOL","183291E"]
[null,null,"HAZE-PATRICK","19021-BILLARD CLUB CAVAILLONNAIS","137523J"]
[null,null,"HEBRAL-LUDOVIC","19112-NISSA BILLARD CLUB","101323B"]
[null,null,"HEINRICH-CHRISTIAN","19009-CLUB BILLARD ISTREEN","186298Y"]
[null,null,"HERREMAN-SERGE","19023-BILLARD CLUB GARDEEN","119933V"]
[null,null,"HEURTAULT-JACKY","19012-SALON BILLARD CLUB","137004K"]
[null,null,"HEYDON-CHRISTOPHER","19127-O CIGALON BILLARD CLUB","169219J"]
[null,null,"HEYDON-SABINE","19127-O CIGALON BILLARD CLUB","169259C"]
[null,null,"HOLUIGUE-ROGER","19023-BILLARD CLUB GARDEEN","177454K"]
[null,null,"HUGUET-PATRICK","19017-BILLARD CLUB PHOCEEN","172086A"]
[null,null,"IDJERI-GILBERT","19050-BILLARD CLUB SAUSSETOIS","172214P"]
[null,null,"INGA-FABRIZIO","19112-NISSA BILLARD CLUB","181447A"]
[null,null,"ISRAEL-ELIE","19017-BILLARD CLUB PHOCEEN","184059P"]
[null,null,"IVACHEFF-HELENE","19106-BILLARD CLUB VINONNAIS","184667A"]
[null,null,"IVACHEFF-MICHEL","19106-BILLARD CLUB VINONNAIS","181239Z"]
[null,null,"JABBOUR-HAMZA","19002-SPORT AMAT.DE BILLARD MARSEILLAIS","182210E"]
[null,null,"JALLIFFIER ARDENT-MARIE","19056-BILLARD CLUB DE NICE","179363K"]
[null,null,"JALOUAJ-AMINE","19127-O CIGALON BILLARD CLUB","167227T"]
[null,null,"JANNOT-FREDERIC","19019-BILLARD CLUB DE LA BAIE","183489V"]
[null,null,"JONNARD-FREDERIC","19023-BILLARD CLUB GARDEEN","120814S"]
[null,null,"JUIGNET-CHRISTIAN","19138-BILLARD CLUB FREJUSSIEN","109412E"]
[null,null,"JUMEL-RENE","19027-ACADEMIE DE BILLARD DE BOLLENE","162905W"]
[null,null,"KERNINON-PATRICE","19130-BLACK BALL CAVAILLONNAIS","101100M"]
[null,null,"KUNTZ-ADRIEN","19055-ACADEMIE DE BILLARD DE MENTON","022175X"]
[null,null,"LABATUT-FRANCOIS","19059-BILLARD CLUB ROQUEBRUNOIS","186947D"]
[null,null,"LACOSSE-JEAN PAUL","19019-BILLARD CLUB DE LA BAIE","109977X"]
[null,null,"LACOUR-DAVID","19127-O CIGALON BILLARD CLUB","116529X"]
[null,null,"LAFDJIAN-GILBERT","19007-BILLARD CLUB BERROIS","177232T"]
[null,null,"LAGIER-ALBAN","19131-BILLARD CLUB DE L ESTAGNOL","101267X"]
[null,null,"LAM-MINH TRUNG DENIS","19056-BILLARD CLUB DE NICE","181038F"]
[null,null,"LANAIA-MICKAEL","19130-BLACK BALL CAVAILLONNAIS","167062P"]
[null,null,"LANARI-PIERRE","19056-BILLARD CLUB DE NICE","175999D"]
[null,null,"LANDE-GERARD","19014-BILLARD CLUB AVIGNONNAIS","016084Q"]
[null,null,"LANDERECTHE-PASCAL","19007-BILLARD CLUB BERROIS","181199F"]
[null,null,"LANDERECTHE-RUDY","19007-BILLARD CLUB BERROIS","181200G"]
[null,null,"LANDOIS-DOMINIQUE","19055-ACADEMIE DE BILLARD DE MENTON","179135M"]
[null,null,"LANG-CHRISTIAN","19009-CLUB BILLARD ISTREEN","022186I"]
[null,null,"LANNURIEN-THIERRY","19023-BILLARD CLUB GARDEEN","168288X"]
[null,null,"LANNY-ALAIN","19050-BILLARD CLUB SAUSSETOIS","186266N"]
[null,null,"LAUNAY-MICHEL","19058-ACADEMIE DE BILLARD DE BARBOSSI MANDELIEU","178352L"]
[null,null,"LAVAUD-JOHN","19130-BLACK BALL CAVAILLONNAIS","122601L"]
[null,null,"LE FAUCHEUR-LAURENT","19098-BILLARD CLUB LA FARE","163278B"]
[null,null,"LE GOC-MICKAEL","19136-BLACK BALL CONCEPT","148064P"]
[null,null,"LE GUENNEC-CHRISTIAN","19061-ACAD.BILLARD ST RAPHAEL","125949F"]
[null,null,"LE TROCQUER-HUGO","19002-SPORT AMAT.DE BILLARD MARSEILLAIS","186459Y"]
[null,null,"LEBARBENCHON-JEAN","19055-ACADEMIE DE BILLARD DE MENTON","177122Z"]
[null,null,"LECLERC-SYLVAIN","19130-BLACK BALL CAVAILLONNAIS","160245E"]
[null,null,"LECOQ-ARNAUD","19012-SALON BILLARD CLUB","141504M"]
[null,null,"LECUILLIER-ARNAUD","19127-O CIGALON BILLARD CLUB","128719T"]
[null,null,"LEDUCQ-MORGAN","19014-BILLARD CLUB AVIGNONNAIS","105373V"]
[null,null,"LEFAUX-JEAN JACQUES","19025-BILLARD CLUB SISTERONNAIS","117411V"]
[null,null,"LEMARTINET-ROBERT","19019-BILLARD CLUB DE LA BAIE","110379J"]
[null,null,"LEMESLE-FABRICE","19017-BILLARD CLUB PHOCEEN","022205B"]
[null,null,"LEMIERE-JEAN NOEL","19023-BILLARD CLUB GARDEEN","104233Z"]
[null,null,"LEON-ALFRED","19021-BILLARD CLUB CAVAILLONNAIS","186622A"]
[null,null,"LESPRIT-CLAUDE","19019-BILLARD CLUB DE LA BAIE","179358E"]
[null,null,"LETELLIER-ALAIN","19090-BILLARD AMATEUR ROGNAC","176350K"]
[null,null,"LIEGEOIS-DOMINIQUE","19027-ACADEMIE DE BILLARD DE BOLLENE","022209F"]
[null,null,"LIENS-MICHEL","19021-BILLARD CLUB CAVAILLONNAIS","118678O"]
[null,null,"LIMA-STEPHANE","19130-BLACK BALL CAVAILLONNAIS","161477T"]
[null,null,"LIONNE-GEORGES","19027-ACADEMIE DE BILLARD DE BOLLENE","178650K"]
[null,null,"LISI-ROGER","19007-BILLARD CLUB BERROIS","146375V"]
[null,null,"LISSAJOUX-JEAN CLAUDE","19009-CLUB BILLARD ISTREEN","168722T"]
[null,null,"LLOBELL-ALAIN","19017-BILLARD CLUB PHOCEEN","170266X"]
[null,null,"LLOBELL-CLAIRE","19017-BILLARD CLUB PHOCEEN","170267Y"]
[null,null,"LOMBARDO-STEPHANE","19127-O CIGALON BILLARD CLUB","101339R"]
[null,null,"LORKOVIC-JOSEPH","19009-CLUB BILLARD ISTREEN","022217N"]
[null,null,"LOSTAO-DOMINIQUE","19058-ACADEMIE DE BILLARD DE BARBOSSI MANDELIEU","168030R"]
[null,null,"LUCENET-PAUL","19009-CLUB BILLARD ISTREEN","162076V"]
[null,null,"LUNEAU-JEAN CLAUDE","19023-BILLARD CLUB GARDEEN","186880F"]
[null,null,"LUVISON-JEAN","19012-SALON BILLARD CLUB","022221R"]
[null,null,"MACQUET-PATRICK","19056-BILLARD CLUB DE NICE","022223T"]
[null,null,"MALLEVAL-GERARD","19023-BILLARD CLUB GARDEEN","100910E"]
[null,null,"MANZO-PIERRE JEAN","19002-SPORT AMAT.DE BILLARD MARSEILLAIS","186458X"]
[null,null,"MARCEAUX-JOSE","19059-BILLARD CLUB ROQUEBRUNOIS","020447L"]
[null,null,"MARCHANDISE MORAND-JACQUELINE","19025-BILLARD CLUB SISTERONNAIS","177467Z"]
[null,null,"MARCHAND-PHILIPPE","19001-S. S. A. B. D AIX EN PROVENCE","164047M"]
[null,null,"MARIE-MICHEL","19021-BILLARD CLUB CAVAILLONNAIS","175846M"]
[null,null,"MARIOTTI-JEAN MICHEL","19131-BILLARD CLUB DE L ESTAGNOL","101260Q"]
[null,null,"MARME-HANS","19127-O CIGALON BILLARD CLUB","159950J"]
[null,null,"MARTIN-CLAUDE","19021-BILLARD CLUB CAVAILLONNAIS","175391S"]
[null,null,"MARTINEZ-BENOIT","19008-BRITISH BILLARD CLUB AVIGNON","180741H"]
[null,null,"MASSERAN-PHILIPPE","19058-ACADEMIE DE BILLARD DE BARBOSSI MANDELIEU","103581X"]
[null,null,"MASSIAS-GUY","19001-S. S. A. B. D AIX EN PROVENCE","172680W"]
[null,null,"MASSOT-SEBASTIEN","19025-BILLARD CLUB SISTERONNAIS","159674J"]
[null,null,"MATHIEU-MICHEL","19006-BILLARD CLUB CARPENTRASSIEN","183687K"]
[null,null,"MATILLON-CLAUDE","19001-S. S. A. B. D AIX EN PROVENCE","160344M"]
[null,null,"MAUDUIT-DIDIER","19009-CLUB BILLARD ISTREEN","017615N"]
[null,null,"MAURON-BERNARD","19023-BILLARD CLUB GARDEEN","149391G"]
[null,null,"MAURY-HENRI","19058-ACADEMIE DE BILLARD DE BARBOSSI MANDELIEU","163825W"]
[null,null,"MAYNARD-ALEXANDRE","19056-BILLARD CLUB DE NICE","112015H"]
[null,null,"MEGUIN-ERIC","19021-BILLARD CLUB CAVAILLONNAIS","128466A"]
[null,null,"MELLET-PIERRE","19027-ACADEMIE DE BILLARD DE BOLLENE","144802I"]
[null,null,"METAIS-ALBAN","19006-BILLARD CLUB CARPENTRASSIEN","152604Z"]
[null,null,"MEYER-LUC","19023-BILLARD CLUB GARDEEN","022260E"]
[null,null,"MICHEL-JACQUES","19006-BILLARD CLUB CARPENTRASSIEN","183513W"]
[null,null,"MILLOT-ANITA","19023-BILLARD CLUB GARDEEN","180677N"]
[null,null,"MILLOT-BENOIT","19023-BILLARD CLUB GARDEEN","180676M"]
[null,null,"MILLOT-ROBERT","19025-BILLARD CLUB SISTERONNAIS","172218T"]
[null,null,"MISRAKI-ROMAIN","19002-SPORT AMAT.DE BILLARD MARSEILLAIS","144792Y"]
[null,null,"MOGLIA-EMILE","19014-BILLARD CLUB AVIGNONNAIS","022266K"]
[null,null,"MOINON-FRANCOIS","19002-SPORT AMAT.DE BILLARD MARSEILLAIS","184069A"]
[null,null,"MOLAND-PHILIPPE","19059-BILLARD CLUB ROQUEBRUNOIS","022268M"]
[null,null,"MOLINAS-ROBERT","19021-BILLARD CLUB CAVAILLONNAIS","022270O"]
[null,null,"MONNET-JEAN CLAUDE","19021-BILLARD CLUB CAVAILLONNAIS","022271P"]
[null,null,"MONTALTI-PIERRE","19002-SPORT AMAT.DE BILLARD MARSEILLAIS","116557Z"]
[null,null,"MONTERO-JEAN MANUEL","19068-BILLARD CLUB ARLESIEN","147134D"]
[null,null,"MONTESINOS-GILLES","19012-SALON BILLARD CLUB","136279N"]
[null,null,"MOREELS-BERNARD","19023-BILLARD CLUB GARDEEN","147624L"]
[null,null,"MORERE-JEAN PIERRE","19059-BILLARD CLUB ROQUEBRUNOIS","176019A"]
[null,null,"MOUMENE-AMINE","19002-SPORT AMAT.DE BILLARD MARSEILLAIS","182204Y"]
[null,null,"MOUSSIER-PATRICK","19056-BILLARD CLUB DE NICE","151456B"]
[null,null,"MOUTON-VINCENT","19112-NISSA BILLARD CLUB","153604L"]
[null,null,"MUNOS-JEAN","19050-BILLARD CLUB SAUSSETOIS","109063T"]
[null,null,"MUNOS-VINCENT","19007-BILLARD CLUB BERROIS","109708O"]
[null,null,"MUNOZ-CHRISTIAN","19021-BILLARD CLUB CAVAILLONNAIS","022284C"]
[null,null,"MURAILLE-ALAIN","19017-BILLARD CLUB PHOCEEN","168135F"]
[null,null,"MUSATO-LAETITIA","19127-O CIGALON BILLARD CLUB","117647X"]
[null,null,"N GUYEN VAN DUC-MAX","19007-BILLARD CLUB BERROIS","141788K"]
[null,null,"NABHANE-EMILE","19006-BILLARD CLUB CARPENTRASSIEN","166329S"]
[null,null,"NAPOLI-SALVATORE","19006-BILLARD CLUB CARPENTRASSIEN","107150E"]
[null,null,"NARBONI-PATRICK","19056-BILLARD CLUB DE NICE","013816K"]
[null,null,"NASICA-PATRICK","19014-BILLARD CLUB AVIGNONNAIS","107263N"]
[null,null,"NATALI-MICHEL","19131-BILLARD CLUB DE L ESTAGNOL","101269Z"]
[null,null,"NATELLA-IDA","19056-BILLARD CLUB DE NICE","154573P"]
[null,null,"NATELLA-ROGER","19056-BILLARD CLUB DE NICE","154572N"]
[null,null,"NAUDIN-DIDIER","19027-ACADEMIE DE BILLARD DE BOLLENE","186341V"]
[null,null,"NEGOZIO-JACKY","19059-BILLARD CLUB ROQUEBRUNOIS","185108E"]
[null,null,"NGUYEN-AHN TUAN","19006-BILLARD CLUB CARPENTRASSIEN","164318G"]
[null,null,"NOE-HUGO","19068-BILLARD CLUB ARLESIEN","182538L"]
[null,null,"NOLASQUE-LYDIE","19127-O CIGALON BILLARD CLUB","125919B"]
[null,null,"NOSSIN-MARC","19058-ACADEMIE DE BILLARD DE BARBOSSI MANDELIEU","182190H"]
[null,null,"OLLIVIER-DANIEL","19009-CLUB BILLARD ISTREEN","020258E"]
[null,null,"OUDOUX-GERARD","19023-BILLARD CLUB GARDEEN","128468C"]
[null,null,"PACZESNY-FABRICE","19098-BILLARD CLUB LA FARE","150400D"]
[null,null,"PANAGET-KEVIN","19127-O CIGALON BILLARD CLUB","186539K"]
[null,null,"PAN-JEROME","19127-O CIGALON BILLARD CLUB","164512S"]
[null,null,"PANTALONE-CLAUDE","19017-BILLARD CLUB PHOCEEN","185639G"]
[null,null,"PAU-CHRISTINE","19025-BILLARD CLUB SISTERONNAIS","177193B"]
[null,null,"PAUL-ANTOINE","19002-SPORT AMAT.DE BILLARD MARSEILLAIS","183593H"]
[null,null,"PELLAT-FRANCIS","19025-BILLARD CLUB SISTERONNAIS","141673Z"]
[null,null,"PEREY-ELEONORE","19008-BRITISH BILLARD CLUB AVIGNON","182269T"]
[null,null,"PEREZ-CHRISTIAN","19009-CLUB BILLARD ISTREEN","130773T"]
[null,null,"PERIS-MICHEL","19056-BILLARD CLUB DE NICE","022321N"]
[null,null,"PERRIER-GILLES","19021-BILLARD CLUB CAVAILLONNAIS","021540M"]
[null,null,"PERRIN-GILLES","19068-BILLARD CLUB ARLESIEN","101398Y"]
[null,null,"PERRIN-LIONEL","19023-BILLARD CLUB GARDEEN","181624S"]
[null,null,"PERSONNE-MARTINE","19008-BRITISH BILLARD CLUB AVIGNON","170701V"]
[null,null,"PERTUZON-NOLAN","19009-CLUB BILLARD ISTREEN","179786V"]
[null,null,"PIALLA-VALERIE","19009-CLUB BILLARD ISTREEN","182685W"]
[null,null,"PICCHI-GERARD","19009-CLUB BILLARD ISTREEN","135135N"]
[null,null,"PIELIN-PASCAL","19012-SALON BILLARD CLUB","022330W"]
[null,null,"PIGNATEL-FLORENT","19021-BILLARD CLUB CAVAILLONNAIS","112316W"]
[null,null,"PILAVDJIAN-JACQUES","19017-BILLARD CLUB PHOCEEN","165118B"]
[null,null,"PINARD-PATRICE","19012-SALON BILLARD CLUB","105404A"]
[null,null,"PINNA-ALAIN","19017-BILLARD CLUB PHOCEEN","022332Y"]
[null,null,"PINNA-VINCENT","19017-BILLARD CLUB PHOCEEN","148229T"]
[null,null,"PIRO COUDERC-MARIE LAURE","19025-BILLARD CLUB SISTERONNAIS","177205P"]
[null,null,"PLE-CYRIL","19025-BILLARD CLUB SISTERONNAIS","177189X"]
[null,null,"POIRIER-DOMINIQUE","19061-ACAD.BILLARD ST RAPHAEL","108010G"]
[null,null,"PONT-CEDRIC","19002-SPORT AMAT.DE BILLARD MARSEILLAIS","183247G"]
[null,null,"PORA-JEAN PAUL","19009-CLUB BILLARD ISTREEN","170697Q"]
[null,null,"PORTET-PATRICK","19059-BILLARD CLUB ROQUEBRUNOIS","181316H"]
[null,null,"POUGIN-JEAN FRANCOIS","19059-BILLARD CLUB ROQUEBRUNOIS","022346M"]
[null,null,"POZNANSKI-JEAN MICHEL","19012-SALON BILLARD CLUB","022349P"]
[null,null,"PROFIT-GILBERT","19056-BILLARD CLUB DE NICE","143885B"]
[null,null,"PTSIAMITAS-PANAGIOTIS","19090-BILLARD AMATEUR ROGNAC","180317X"]
[null,null,"PUICHAULT-REMY","19025-BILLARD CLUB SISTERONNAIS","172219V"]
[null,null,"QUANTINET-ROBERT","19058-ACADEMIE DE BILLARD DE BARBOSSI MANDELIEU","143151V"]
[null,null,"QUARTO-LARA","19056-BILLARD CLUB DE NICE","174009Q"]
[null,null,"QUILLET-LORIS","19130-BLACK BALL CAVAILLONNAIS","174571B"]
[null,null,"QUILLET-YANN","19130-BLACK BALL CAVAILLONNAIS","186763D"]
[null,null,"RAMAROSON-HERIZO","19002-SPORT AMAT.DE BILLARD MARSEILLAIS","182722L"]
[null,null,"RAMIREZ-ALAIN","19001-S. S. A. B. D AIX EN PROVENCE","176234J"]
[null,null,"RAMOND-JEAN MARC","19058-ACADEMIE DE BILLARD DE BARBOSSI MANDELIEU","022357X"]
[null,null,"RANC-ALAIN","19027-ACADEMIE DE BILLARD DE BOLLENE","136205R"]
[null,null,"RANIERI-JEAN ANDRE","19136-BLACK BALL CONCEPT","101290U"]
[null,null,"RAVENET-FRANCIS","19059-BILLARD CLUB ROQUEBRUNOIS","157788J"]
[null,null,"REMIRO-CANDIDO","19130-BLACK BALL CAVAILLONNAIS","156535X"]
[null,null,"RENAUD-JEAN PAUL","19009-CLUB BILLARD ISTREEN","133622I"]
[null,null,"RENAUD-MARTINE","19127-O CIGALON BILLARD CLUB","153346F"]
[null,null,"RENAUD-THIERRY","19127-O CIGALON BILLARD CLUB","153347G"]
[null,null,"REVALOR-MICHEL","19050-BILLARD CLUB SAUSSETOIS","119696S"]
[null,null,"RIBOLLA-PATRICE","19056-BILLARD CLUB DE NICE","022366G"]
[null,null,"RICARD-AUDREY","19127-O CIGALON BILLARD CLUB","147449W"]
[null,null,"RICHAUD-PIERRE","19017-BILLARD CLUB PHOCEEN","107093Z"]
[null,null,"RIGNOLS-PHILIPPE","19021-BILLARD CLUB CAVAILLONNAIS","022372M"]
[null,null,"RIGOLLET-PIERRE","19025-BILLARD CLUB SISTERONNAIS","023064C"]
[null,null,"RIVARD-MICHEL","19093-AMERICAN CLUB LOUIS XI","156515A"]
[null,null,"RIVIER-PATRICE","19017-BILLARD CLUB PHOCEEN","170733E"]
[null,null,"ROBERT-DOMINIQUE","19056-BILLARD CLUB DE NICE","022376Q"]
[null,null,"ROBIN-JEAN FRANCOIS","19056-BILLARD CLUB DE NICE","143938C"]
[null,null,"ROCCA-JEAN","19017-BILLARD CLUB PHOCEEN","182388Y"]
[null,null,"RODRIGUES-STEVE","19090-BILLARD AMATEUR ROGNAC","171160T"]
[null,null,"ROGER-GERARD","19021-BILLARD CLUB CAVAILLONNAIS","134843H"]
[null,null,"RONSAIN-JEAN JACQUES","19012-SALON BILLARD CLUB","166175A"]
[null,null,"ROUANET-CLAUDE","19025-BILLARD CLUB SISTERONNAIS","163166E"]
[null,null,"ROUGON-ROBERT","19007-BILLARD CLUB BERROIS","101518O"]
[null,null,"ROUSSEL-PATRICE","19068-BILLARD CLUB ARLESIEN","172468Q"]
[null,null,"RYCKELYNCK-LAURENT","19006-BILLARD CLUB CARPENTRASSIEN","121397D"]
[null,null,"SABAH-YVES","19001-S. S. A. B. D AIX EN PROVENCE","153753Y"]
[null,null,"SAJ-PATRICK","19017-BILLARD CLUB PHOCEEN","185637E"]
[null,null,"SALAMA-ALAIN","19021-BILLARD CLUB CAVAILLONNAIS","136546U"]
[null,null,"SALES-THIERRY","19061-ACAD.BILLARD ST RAPHAEL","175174G"]
[null,null,"SANDEAUX-JEAN CLEMENT","19001-S. S. A. B. D AIX EN PROVENCE","182824X"]
[null,null,"SANTIAGO-EMMANUEL","19021-BILLARD CLUB CAVAILLONNAIS","118693D"]
[null,null,"SANTIAGO-JEAN JOSEPH","19050-BILLARD CLUB SAUSSETOIS","022391F"]
[null,null,"SANTORO-JENNIFER","19127-O CIGALON BILLARD CLUB","122933F"]
[null,null,"SARRALDE-LOUIS","19021-BILLARD CLUB CAVAILLONNAIS","014138U"]
[null,null,"SAUVAN-HENRY","19023-BILLARD CLUB GARDEEN","164008V"]
[null,null,"SAVARY-PHILIPPE","19059-BILLARD CLUB ROQUEBRUNOIS","174856L"]
[null,null,"SAVI-OLIVIER","19050-BILLARD CLUB SAUSSETOIS","186195L"]
[null,null,"SAVOIA-PATRICK","19050-BILLARD CLUB SAUSSETOIS","113222S"]
[null,null,"SAVOIE-ISABELLE","19130-BLACK BALL CAVAILLONNAIS","119929R"]
[null,null,"SCHAEFER-ERNEST ROBERT","19006-BILLARD CLUB CARPENTRASSIEN","149694L"]
[null,null,"SCHENK-ROBERT","19056-BILLARD CLUB DE NICE","136540O"]
[null,null,"SCHOU-MICHEL","19023-BILLARD CLUB GARDEEN","183292F"]
[null,null,"SEBAH-JEAN PAUL","19017-BILLARD CLUB PHOCEEN","175481Q"]
[null,null,"SEDANO-JEAN LUC","19130-BLACK BALL CAVAILLONNAIS","014712W"]
[null,null,"SEDRATI-ONIS","19002-SPORT AMAT.DE BILLARD MARSEILLAIS","182207B"]
[null,null,"SEEBORUTH-NIKHIL","19002-SPORT AMAT.DE BILLARD MARSEILLAIS","186463C"]
[null,null,"SEEMANN-MICHAEL","19025-BILLARD CLUB SISTERONNAIS","182883L"]
[null,null,"SELLIER-MICHEL","19056-BILLARD CLUB DE NICE","022406U"]
[null,null,"SERMON-FABIO","19130-BLACK BALL CAVAILLONNAIS","149899J"]
[null,null,"SICARD-GEORGES","19025-BILLARD CLUB SISTERONNAIS","163238H"]
[null,null,"SIDGUI-OUSSAMA","19002-SPORT AMAT.DE BILLARD MARSEILLAIS","182206A"]
[null,null,"SIEGLER-JEAN PIERRE","19006-BILLARD CLUB CARPENTRASSIEN","168834Q"]
[null,null,"SIMIAN-FABIENNE","19130-BLACK BALL CAVAILLONNAIS","156378B"]
[null,null,"SIMON-GERARD","19014-BILLARD CLUB AVIGNONNAIS","010203L"]
[null,null,"SIMON-PASCAL","19127-O CIGALON BILLARD CLUB","114485H"]
[null,null,"SINANIAN-JEAN PAUL","19017-BILLARD CLUB PHOCEEN","022412A"]
[null,null,"SKAF-JOSEPH","19002-SPORT AMAT.DE BILLARD MARSEILLAIS","134702W"]
[null,null,"SOLARI-ANNICK","19098-BILLARD CLUB LA FARE","151274D"]
[null,null,"SOLTANI-OMAR","19106-BILLARD CLUB VINONNAIS","103578U"]
[null,null,"SOULIER-JENNIFER","19068-BILLARD CLUB ARLESIEN","178610R"]
[null,null,"SPINNLER-JEAN LUC","19027-ACADEMIE DE BILLARD DE BOLLENE","165931K"]
[null,null,"STEINMANN-SEBASTIEN","19061-ACAD.BILLARD ST RAPHAEL","020790Q"]
[null,null,"STEPHAN-OLIVIER","19025-BILLARD CLUB SISTERONNAIS","125931N"]
[null,null,"STRAUDO-JEAN PIERRE","19090-BILLARD AMATEUR ROGNAC","179072T"]
[null,null,"STRAUDO-MICHEL","19090-BILLARD AMATEUR ROGNAC","156278S"]
[null,null,"SUMILE-JODERICK","19112-NISSA BILLARD CLUB","186725M"]
[null,null,"SURATEAU-BERNARD","19061-ACAD.BILLARD ST RAPHAEL","165925D"]
[null,null,"TAN-BUN HO","19068-BILLARD CLUB ARLESIEN","182372F"]
[null,null,"TARDIEUX-LUC","19098-BILLARD CLUB LA FARE","022429R"]
[null,null,"TARDY-JEAN CLAUDE","19014-BILLARD CLUB AVIGNONNAIS","133907H"]
[null,null,"TARDY-PIERRE YVES","19058-ACADEMIE DE BILLARD DE BARBOSSI MANDELIEU","143024Y"]
[null,null,"TARTING-BERNARD","19001-S. S. A. B. D AIX EN PROVENCE","160345N"]
[null,null,"TEYSSIER-SERGE","19007-BILLARD CLUB BERROIS","132938A"]
[null,null,"THEVENET-JEAN CLAUDE","19025-BILLARD CLUB SISTERONNAIS","014232K"]
[null,null,"THIBAULT-LUCETTE","19106-BILLARD CLUB VINONNAIS","184678M"]
[null,null,"THIBOUT-HERVE","19017-BILLARD CLUB PHOCEEN","186654K"]
[null,null,"THIERY-PATRICE","19068-BILLARD CLUB ARLESIEN","173938N"]
[null,null,"THOMAS-MICHEL","19061-ACAD.BILLARD ST RAPHAEL","125937T"]
[null,null,"THOMAS-PHILIPPE","19023-BILLARD CLUB GARDEEN","168687F"]
[null,null,"TIBERT-THIERRY","19055-ACADEMIE DE BILLARD DE MENTON","113231B"]
[null,null,"TICHADOU-SAMY","19002-SPORT AMAT.DE BILLARD MARSEILLAIS","186465E"]
[null,null,"TOMASINI-ALEXANDRE","19055-ACADEMIE DE BILLARD DE MENTON","105800G"]
[null,null,"TONINI BOSSI-LAURENT","19002-SPORT AMAT.DE BILLARD MARSEILLAIS","131820A"]
[null,null,"TONOLI-PASCAL","19059-BILLARD CLUB ROQUEBRUNOIS","022438A"]
[null,null,"TORES-JEAN LUC","19009-CLUB BILLARD ISTREEN","135554Q"]
[null,null,"TORRE-BENOIT","19068-BILLARD CLUB ARLESIEN","180537L"]
[null,null,"TOUATI-WILLIAM","19002-SPORT AMAT.DE BILLARD MARSEILLAIS","186455T"]
[null,null,"TOULLEC-DANIEL","19059-BILLARD CLUB ROQUEBRUNOIS","177643Q"]
[null,null,"TOUREILLE-ALAIN","19025-BILLARD CLUB SISTERONNAIS","139062O"]
[null,null,"TOURE-MADOU","19002-SPORT AMAT.DE BILLARD MARSEILLAIS","014256I"]
[null,null,"TRAN-KEVIN","19002-SPORT AMAT.DE BILLARD MARSEILLAIS","022443F"]
[null,null,"TURPIN-JEAN","19001-S. S. A. B. D AIX EN PROVENCE","172679V"]
[null,null,"VAHE-GUILLAUME","19112-NISSA BILLARD CLUB","107282G"]
[null,null,"VALENSI-GERARD","19017-BILLARD CLUB PHOCEEN","022453P"]
[null,null,"VALET-JEAN MICHEL","19023-BILLARD CLUB GARDEEN","177653B"]
[null,null,"VALETTE-SYLVAIN","19023-BILLARD CLUB GARDEEN","177654C"]
[null,null,"VALLETTE-PHILIPPE","19027-ACADEMIE DE BILLARD DE BOLLENE","171874V"]
[null,null,"VALMAGGIA-CHRISTIAN","19009-CLUB BILLARD ISTREEN","141274Q"]
[null,null,"VALVERDE-JEAN YVES","19023-BILLARD CLUB GARDEEN","153163G"]
[null,null,"VAN GOOL-FRANS","19058-ACADEMIE DE BILLARD DE BARBOSSI MANDELIEU","170621H"]
[null,null,"VAN OVERSTRAETEN-JULIEN","19002-SPORT AMAT.DE BILLARD MARSEILLAIS","186462B"]
[null,null,"VAN WIJNGAARDEN-HANS","19058-ACADEMIE DE BILLARD DE BARBOSSI MANDELIEU","143155Z"]
[null,null,"VAUTRIN-JEAN","19056-BILLARD CLUB DE NICE","022459V"]
[null,null,"VIAL-HUGO","19112-NISSA BILLARD CLUB","159948G"]
[null,null,"VICTOR-DANIEL","19019-BILLARD CLUB DE LA BAIE","147412F"]
[null,null,"VIDAL-RENE BERNARD","19106-BILLARD CLUB VINONNAIS","181240A"]
[null,null,"VIERA MAIA-ARLINDO","19061-ACAD.BILLARD ST RAPHAEL","148051A"]
[null,null,"VIGNE-PHILIPPE","19014-BILLARD CLUB AVIGNONNAIS","014327B"]
[null,null,"VILLAR-FRANCOIS","19112-NISSA BILLARD CLUB","149606Q"]
[null,null,"VILLAR-LOUP","19112-NISSA BILLARD CLUB","176924J"]
[null,null,"VILLASEVIL-ANTONIO","19007-BILLARD CLUB BERROIS","101485H"]
[null,null,"VILLEMAIN-SYLVAIN","19130-BLACK BALL CAVAILLONNAIS","153007M"]
[null,null,"VILLENAVE-REGIS","19068-BILLARD CLUB ARLESIEN","172469R"]
[null,null,"VILLENEUVE-THEO","19127-O CIGALON BILLARD CLUB","186540L"]
[null,null,"VISCONTI-JEAN","19090-BILLARD AMATEUR ROGNAC","138731V"]
[null,null,"VIVALDI-ANDRE","19106-BILLARD CLUB VINONNAIS","022476M"]
[null,null,"VUILLAUME-JEAN CLAUDE","19056-BILLARD CLUB DE NICE","154571M"]
[null,null,"VULTAGGIO-PIERRE","19058-ACADEMIE DE BILLARD DE BARBOSSI MANDELIEU","022480Q"]
[null,null,"WALLON-PATRICK","19027-ACADEMIE DE BILLARD DE BOLLENE","176943E"]
[null,null,"WARLET-JEAN CLAUDE","19061-ACAD.BILLARD ST RAPHAEL","117872O"]
[null,null,"WILLAME-PHILIPPE","19001-S. S. A. B. D AIX EN PROVENCE","152534Y"]
[null,null,"WIRTH-HUGO","19002-SPORT AMAT.DE BILLARD MARSEILLAIS","186649E"]
[null,null,"WOLFF-MAXIME","19002-SPORT AMAT.DE BILLARD MARSEILLAIS","182608M"]
[null,null,"WYNIGER-ERIC","19014-BILLARD CLUB AVIGNONNAIS","172921H"]
[null,null,"WYNIGER-MARC","19014-BILLARD CLUB AVIGNONNAIS","172922J"]
[null,null,"XUEREF-JEAN MARIE","19019-BILLARD CLUB DE LA BAIE","152049W"]
[null,null,"YORAC-ARNOLF","19138-BILLARD CLUB FREJUSSIEN","143308W"]
[null,null,"YUNG-NADEGE","19130-BLACK BALL CAVAILLONNAIS","166159H"]
[null,null,"YVOZ-ALAIN","19006-BILLARD CLUB CARPENTRASSIEN","184288N"]
[null,null,"ZANDRINO-ALAIN","19007-BILLARD CLUB BERROIS","134311V"]
[null,null,"ZATTERA-GIOVANNI","19002-SPORT AMAT.DE BILLARD MARSEILLAIS","186520P"]
[null,null,"ZOPPI-AIME","19106-BILLARD CLUB VINONNAIS","144788U"]
[null,null,"ZOPPI-CEDRIC","19106-BILLARD CLUB VINONNAIS","125457H"]
[null,null,"ZOUARI-SAMY","19002-SPORT AMAT.DE BILLARD MARSEILLAIS","184338S"]

{"sheet":"CLUB","index":1,"n_rows":31,"n_cols":15,"rows_kept":31,"cut":false,"hidden":true,"merged":[[0,0,0,4],[21,7,21,13]]}
["CLUB AFFILIE LMB\n",null,null,null,null,null,null,"Tournoi","Categ","News Joueurs","Compet","Forfait","Mode","Distance","Format"]
["CLUB","ADRESSE 1","ADRESSE 2","CODE POSTAL","VILLE",null,null,"TOURNOI N°1","M","CL","1/2 Finale Ligue","Excusé","CADRE",10,"3,10 GC"]
["19001 – S. S. A. B. D AIX EN PROVENCE","RUE PIERRE DE COUBERTIN",null,13100,"AIX EN PROVENCE",null,null,"TOURNOI N°2","N1","NC","Finale Ligue","Non Excusé","2,80m 42/2",11,"2,80 GC"]
["19002 – SPORT AMAT.DE BILLARD MARSEILLAIS","26 RUE PAVILLON",null,13001,"MARSEILLE",null,null,"TOURNOI N°3","N2",null,"1/2 Finale Dpt","Abandon","3,10m 47/2",15,"2,80 PC"]
["19006 – BILLARD CLUB CARPENTRASSIEN","264 BOULEVARD ALBIN DURAND",null,84200,"CARPENTRAS",null,null,"TOURNOI N°4","N3",null,"Finale Dpt",null,"LIBRE",20]
["19007 – BILLARD CLUB BERROIS","RUE MARCEL PAGNOL",null,13130,"BERRE L ETANG",null,null,"TOURNOI N°5","R1",null,"Finale Inter-Dpt",null,"2,80m PC",25]
["19009 – CLUB BILLARD ISTREEN","HALLE POLYVALENTE PLACE RAOUX","ALLEE DES ECHOPPES",13800,"ISTRES",null,null,"TOURNOI N°6","R2",null,null,null,"2,80m GC",30]
["19012 – SALON BILLARD CLUB","CERCLE DES ARTS","RUE DES FILEUSES DE SOIE",13300,"SALON DE PROVENCE",null,null,"TOURNOI N°7","R3",null,null,null,"3,10m GC",35]
["19014 – BILLARD CLUB AVIGNONNAIS","12 RUE BONAPARTE","MAISON DU COMBATTANT",84000,"AVIGNON",null,null,"TOURNOI N°8","R4",null,null,null,"1B - 3B",40]
["19016 – BILLARD CLUB ORANGEOIS","MAISON DES ASSOCIATIONS","ROUTE DE CADEROUSSE",84100,"ORANGE",null,null,"TOURNOI N°9","4BILLES",null,null,null,"2,80m ",50]
["19017 – BILLARD CLUB PHOCEEN","12 RUE DU DOCTEUR ACQUAVIVA",null,13004,"MARSEILLE",null,null,"TOURNOI N°10",null,null,null,null,"3,10m ",60]
["19019 – BILLARD CLUB DE LA BAIE","SALLE OTTAVI","AVENUE DES ALLIES",83240,"CAVALAIRE SUR MER",null,null,"TOURNOI N°11",null,null,null,null,"Cadet ",70]
["19021 – BILLARD CLUB CAVAILLONNAIS","CERCLE DE L INDEPENDANCE","97 COURS VICTOR HUGO",84300,"CAVAILLON",null,null,"TOURNOI N°12",null,null,null,null,"Junior",80]
["19023 – BILLARD CLUB GARDEEN","LE MAS QUARTIER SAINTE MARGUERITE","293 AVENUE PIERRE LOTI",83130,"LA GARDE",null,null,null,null,null,null,null,null,100]
["19025 – BILLARD CLUB SISTERONNAIS","73 AVENUE DE LA DURANCE","SALLE OMNISPORT DANIEL MAFFREN",4200,"SISTERON",null,null,"FINALE CDB04",null,null,null,null,null,120]
["19027 – ACADEMIE DE BILLARD DE BOLLENE","GROUPE SCOLAIRE PIERRE MARIE CURIE",null,84500,"BOLLENE",null,null,"FINALE CDB06",null,null,null,null,null,150]
["19050 – BILLARD CLUB SAUSSETOIS","PARC MUNICIPAL DES LOISIRS","31 AVENUE DE LA COTE BLEUE",13960,"SAUSSET LES PINS",null,null,"FINALE CDB13",null,null,null,null,null,200]
["19055 – ACADEMIE DE BILLARD DE MENTON","ALLEE DU LOUVRE ","SALON DU LOUVRE",6500,"MENTON",null,null,"FINALE CDB83",null,null,null,null,null,250]
["19056 – BILLARD CLUB DE NICE","SALLE MALATESTA","64 AVENUE CYRILLE BESSET",6100,"NICE",null,null,"FINALE CDB84",null,null,null,null,null,300]
["19058 – ACADEMIE DE BILLARD DE BARBOSSI MANDELIEU","COUNTRY CLUB DE BARBOSSI","23 CHEMIN DE MAURE-VIEL",6210,"MANDELIEU LA NAPOULE",")",null,"FINALE LIGUE",null,null,null,null,null,400]
["19059 – BILLARD CLUB ROQUEBRUNOIS","44 AVENUE GABRIEL PERRI",null,83520,"ROQUEBRUNE SUR ARGENS"]
["19061 – ACAD.BILLARD ST RAPHAEL","90 RUE THOMAS EDISSON","ZI LA PALUD",83700,"ST RAPHAEL",null,null,"CATEGORIES SUIVANT LES MODES DE JEU"]
["19090 – BILLARD CLUB ROGNAC","60 BOULEVARD JEAN JAURES",null,13340,"ROGNAC",null,null,"LIBRE","CADRE 47/2","CADRE 42/2","CADRE 71/2","CADRE 47/1","BANDE","3BANDES"]
["19098 – BILLARD CLUB LA FARE","36 BIS AVENUE PASTEUR",null,13580,"LA FARE LES OLIVIERS",null,null,"M","M","N3","M","M","M","M"]
["19106 – BILLARD CLUB VINONNAIS","480 RUE DES ENTREPRENEURS","ZA DU PAS DE MENC",83560,"VINON SUR VERDON",null,null,"N1","N1","R1",null,null,"N1","N1"]
["19057 – ACADEMIE VENCOISE DE BILLARD",null,null,null,null,null,null,"N3","N2",null,null,null,"N3","N2"]
[null,null,null,null,null,null,null,"R1","N3",null,null,null,"R1","N3"]
[null,null,null,null,null,null,null,"R2","R1",null,null,null,"R2","R1"]
[null,null,null,null,null,null,null,"R3",null,null,null,null,null,"R2"]
[null,null,null,null,null,null,null,"R4",null,null,null,null,null,"DAMES"]
[null,null,null,null,null,null,null,"DAMES"]

{"sheet":"BOISSON_T","index":2,"n_rows":28,"n_cols":6,"rows_kept":28,"cut":false,"hidden":true,"merged":[[0,0,0,4]]}
["BOISSONS DU",null,null,null,null,{"$f":"'Saisie des joueurs'!D5","v":"00:00:00"}]
["Nom - Prénom","EAU","BOISSONS","REPAS","TOTAL","CLUB"]
[{"$f":"'Saisie des joueurs'!X18","v":0}]
[{"$f":"'Saisie des joueurs'!X19","v":0}]
[{"$f":"'Saisie des joueurs'!X20","v":0}]
[{"$f":"'Saisie des joueurs'!X21","v":0}]
[{"$f":"'Saisie des joueurs'!X22","v":0}]
[{"$f":"'Saisie des joueurs'!X23","v":0}]
[{"$f":"'Saisie des joueurs'!X24","v":0}]
[{"$f":"'Saisie des joueurs'!X25","v":0}]
[{"$f":"'Saisie des joueurs'!X26","v":0}]
[{"$f":"'Saisie des joueurs'!X27","v":0}]
[{"$f":"'Saisie des joueurs'!X28","v":0}]
[{"$f":"'Saisie des joueurs'!X29","v":0}]
[{"$f":"'Saisie des joueurs'!X30","v":0}]
[{"$f":"'Saisie des joueurs'!X31","v":0}]
[{"$f":"'Saisie des joueurs'!X32","v":0}]
[{"$f":"'Saisie des joueurs'!X33","v":0}]
[{"$f":"'Saisie des joueurs'!X34","v":0}]
[{"$f":"'Saisie des joueurs'!X35","v":0}]
[{"$f":"'Saisie des joueurs'!X36","v":0}]
[{"$f":"'Saisie des joueurs'!X37","v":0}]
[{"$f":"'Saisie des joueurs'!X38","v":0}]
[{"$f":"'Saisie des joueurs'!X39","v":0}]
[{"$f":"'Saisie des joueurs'!X40","v":0}]
[{"$f":"'Saisie des joueurs'!X41","v":0}]
[{"$f":"'Saisie des joueurs'!X42","v":0}]
[{"$f":"'Saisie des joueurs'!X43","v":0}]

{"sheet":"3BANDES","index":3,"n_rows":67,"n_cols":6,"rows_kept":67,"cut":false,"hidden":true,"merged":[[0,0,1,5]]}
["3BANDES"]
[]
["NC-CL","NOM","N° LICENCE","CAT","MG","CLUB"]
["CL","BASSOUL JEAN MARIE","103568 K","R2","0,202","19006 – BILLARD CLUB CARPENTRASSIEN"]
["CL","BIARD ANDRE","159202 W","R2","0,171","19009 – CLUB BILLARD ISTREEN"]
["CL","BLANC SANTELLI ERIC","179744 Z","R2","0,143","19009 – CLUB BILLARD ISTREEN"]
["CL","BONNEMAISON DENIS","150422 C","R1","0,23","19009 – CLUB BILLARD ISTREEN"]
["CL","BOUTILLE NICOLAS","122662 U","R1","0,392","19027 – ACADEMIE DE BILLARD DE BOLLENE"]
["CL","CAO HUU TUOI","021944 A","R1","0,434","19098 – BILLARD CLUB LA FARE"]
["CL","CARRILLON MICHEL","141066 Q","R1","0,289","19001 – S. S. A. B. D AIX EN PROVENCE"]
["CL","CHEURF SELIMANE","187031 V","R2","0,189","19090 – BILLARD CLUB ROGNAC"]
["CL","CLEMENT GERARD","129497 R","R1","0,36","19050 – BILLARD CLUB SAUSSETOIS"]
["CL","CORTES JEAN LOUIS","187055 W","R1","0,29","19009 – CLUB BILLARD ISTREEN"]
["CL","DEDON RICHARD","177233 V","R1","0,236","19007 – BILLARD CLUB BERROIS"]
["CL","DI CRESCENZO PIERRE","109528 Q","R1","0,317","19017 – BILLARD CLUB PHOCEEN"]
["CL","DUSSAULE PIERRE","102285 B","R1","0,377","19027 – ACADEMIE DE BILLARD DE BOLLENE"]
["CL","ELEOUET DANIEL","163467 G","R1","0,325","19006 – BILLARD CLUB CARPENTRASSIEN"]
["CL","FERRO PHILIPPE","122658 Q","R1","0,276","19009 – CLUB BILLARD ISTREEN"]
["CL","FLEURIOT PATRICK","173138 T","R2","0,152","19014 – BILLARD CLUB AVIGNONNAIS"]
["CL","GELAS BERNARD","163279 C","R2","0,225","19098 – BILLARD CLUB LA FARE"]
["CL","GHU GERARD","101282 M","R1","0,25","19016 – BILLARD CLUB ORANGEOIS"]
["CL","GIBARROUX CHRISTOPHE","118661 X","R1","0,33","19001 – S. S. A. B. D AIX EN PROVENCE"]
["CL","GIOVANNETTI DAMIEN","022115 P","R1","0,181","19050 – BILLARD CLUB SAUSSETOIS"]
["CL","GOAILLARD JEAN MARC","181920 P","R1","0,393","19017 – BILLARD CLUB PHOCEEN"]
["CL","GODARD PASCAL","157852 D","R1","0,417","19006 – BILLARD CLUB CARPENTRASSIEN"]
["CL","GOURSEAUD YVES","104054 C","R1","0,379","19016 – BILLARD CLUB ORANGEOIS"]
["CL","GUIBERT JEAN MARIE","022137 L","R1","0,306","19009 – CLUB BILLARD ISTREEN"]
["CL","HAZE PATRICK","137523 J","R1","0,285","19021 – BILLARD CLUB CAVAILLONNAIS"]
["CL","HEURTAULT JACKY","137004 K","R1","0,292","19012 – SALON BILLARD CLUB"]
["CL","IDJERI GILBERT","172214 P","R1","0,376","19050 – BILLARD CLUB SAUSSETOIS"]
["CL","JUMEL RENE","162905 W","R2","0,246","19027 – ACADEMIE DE BILLARD DE BOLLENE"]
["CL","LANDERECTHE PASCAL","181199 F","R1","0,305","19090 – BILLARD CLUB ROGNAC"]
["CL","LETELLIER ALAIN","176350 K","R2","0,187","19090 – BILLARD CLUB ROGNAC"]
["CL","LISI ROGER","146375 V","R2","0,18","19007 – BILLARD CLUB BERROIS"]
["CL","MASSIAS GUY","172680 W","R2","0,216","19001 – S. S. A. B. D AIX EN PROVENCE"]
["CL","METAIS ALBAN","152604 Z","R1","0,317","19006 – BILLARD CLUB CARPENTRASSIEN"]
["CL","N GUYEN VAN DUC MAX","141788 K","R1","0,324","19007 – BILLARD CLUB BERROIS"]
["CL","OLLIVIER DANIEL","020258 E","R1","0,322","19009 – CLUB BILLARD ISTREEN"]
["CL","PACZESNY FABRICE","150400 D","R1","0,236","19098 – BILLARD CLUB LA FARE"]
["CL","PELLAT FRANCIS","141673 Z","R1","0,27","19009 – CLUB BILLARD ISTREEN"]
["CL","PEREZ CHRISTIAN","130773 T","R2","0,213","19009 – CLUB BILLARD ISTREEN"]
["CL","PETIT PHILIPPE","179183 P","R2","0,213","19014 – BILLARD CLUB AVIGNONNAIS"]
["CL","PILAVDJIAN JACQUES","165118 B","R1","0,287","19017 – BILLARD CLUB PHOCEEN"]
["CL","PORA JEAN PAUL","170697 Q","R1","0,286","19009 – CLUB BILLARD ISTREEN"]
["CL","POUJOL JEAN PAUL","022347 N","R2","0,223","19014 – BILLARD CLUB AVIGNONNAIS"]
["CL","POULAIN FREDERIC","144719 D","R2","0,234","19016 – BILLARD CLUB ORANGEOIS"]
["CL","RANC ALAIN","136205 R","R1","0,296","19027 – ACADEMIE DE BILLARD DE BOLLENE"]
["CL","REVALOR MICHEL","119696 S","R2","0,175","19050 – BILLARD CLUB SAUSSETOIS"]
["CL","ROBBE RAYMOND","134183 X","R1","0,29","19009 – CLUB BILLARD ISTREEN"]
["CL","RONSAIN JEAN JACQUES","166175 A","R1","0,233","19012 – SALON BILLARD CLUB"]
["CL","ROUGON ROBERT","101518 O","R1","0,346","19090 – BILLARD CLUB ROGNAC"]
["CL","RYCKELYNCK LAURENT","121397 D","R2","0,375","19006 – BILLARD CLUB CARPENTRASSIEN"]
["CL","SALAMA ALAIN","136546 U","R1","0,322","19021 – BILLARD CLUB CAVAILLONNAIS"]
["CL","SARRALDE LOUIS","014138 U","R1","0,25","19021 – BILLARD CLUB CAVAILLONNAIS"]
["CL","SAVI OLIVIER","186195 L","R1","0,252","19050 – BILLARD CLUB SAUSSETOIS"]
["CL","SAVOIA PATRICK","113222 S","R1","0,372","19050 – BILLARD CLUB SAUSSETOIS"]
["CL","SCHAEFER ERNEST ROBERT","149694 L","R2","0,211","19006 – BILLARD CLUB CARPENTRASSIEN"]
["NC","SIEGLER JEAN PIERRE","168834 Q","R1","0,25","19006 – BILLARD CLUB CARPENTRASSIEN"]
["CL","SIMON GERARD","010203 L","R1","0,393","19014 – BILLARD CLUB AVIGNONNAIS"]
["CL","TARDIEUX LUC","022429 R","R2","0,237","19098 – BILLARD CLUB LA FARE"]
["CL","TARDY JEAN CLAUDE","133907 H","R2","0,138","19014 – BILLARD CLUB AVIGNONNAIS"]
["CL","TEYSSIER SERGE","132938 A","R2","0,208","19090 – BILLARD CLUB ROGNAC"]
["CL","TORES JEAN LUC","135554 Q","R1","0,297","19009 – CLUB BILLARD ISTREEN"]
["CL","VIOU GERARD","147607 S","R1","0,409","19098 – BILLARD CLUB LA FARE"]
["CL","VITALIEN PIERRE","119674 W","R1","0,299","19016 – BILLARD CLUB ORANGEOIS"]
["CL","WILLAME PHILIPPE","152534 Y","R2","0,218","19001 – S. S. A. B. D AIX EN PROVENCE"]
["CL","YVOZ ALAIN","184288 N","R1","0,369","19006 – BILLARD CLUB CARPENTRASSIEN"]

{"sheet":"BANDE","index":4,"n_rows":202,"n_cols":6,"rows_kept":202,"cut":false,"hidden":true,"merged":[[0,0,1,5]]}
["BANDE"]
[]
["NC-CL","NOM","N° LICENCE","CAT","MG","CLUB"]
["CL","ABEAUZIT JACQUES","106902 Q","R2","0,87","19014 – BILLARD CLUB AVIGNONNAIS"]
["CL","AKNIN GABRIEL","021810 W","R1","1,38","19027 – ACADEMIE DE BILLARD DE BOLLENE"]
["CL","ALVISET GUY","152035 F","R2","0,68","19050 – BILLARD CLUB SAUSSETOIS"]
["CL","ANDRY JEAN FRANCOIS","021818 E","R2","1,05","19090 – BILLARD CLUB ROGNAC"]
["CL","AUDIBERT JEAN PIERRE","106513 R","R2","0,91","19012 – SALON BILLARD CLUB"]
["CL","AZOULAY ALAIN","021839 Z","R1","1,73","19017 – BILLARD CLUB PHOCEEN"]
["NC","BANO SERGE","149693 K","R2","0,82","19001 – S. S. A. B. D AIX EN PROVENCE"]
["CL","BASSOUL JEAN MARIE","103568 K","R2","1,2","19006 – BILLARD CLUB CARPENTRASSIEN"]
["CL","BAYARD JEAN CLAUDE","021860 U","R2","0,5","19021 – BILLARD CLUB CAVAILLONNAIS"]
["CL","BEDOC JACQUES","021863 X","R2","0,86","19007 – BILLARD CLUB BERROIS"]
["CL","BENOIT MICHEL","159790 K","R2","0,66","19027 – ACADEMIE DE BILLARD DE BOLLENE"]
["CL","BERTRAND CADI YVES","021884 S","R2","0,52","19016 – BILLARD CLUB ORANGEOIS"]
["CL","BIARD ANDRE","159202 W","R2","0,47","19009 – CLUB BILLARD ISTREEN"]
["CL","BILDIK MEHMET","141828 Y","R1","1,64","19006 – BILLARD CLUB CARPENTRASSIEN"]
["CL","BONELLO LUCIEN","021894 C","R2","0,6","19090 – BILLARD CLUB ROGNAC"]
["CL","BONNEMAISON DENIS","150422 C","R2","0,62","19009 – CLUB BILLARD ISTREEN"]
["CL","BOSSOT JEAN","160000 N","R2","0,95","19027 – ACADEMIE DE BILLARD DE BOLLENE"]
["CL","BOUTILLE NICOLAS","122662 U","R2","1,01","19027 – ACADEMIE DE BILLARD DE BOLLENE"]
["NC","BRAYER DENIS","016411 F","R1","1,51","19008 – BRITISH BILLARD CLUB AVIGNON"]
["CL","BRESSE JEAN LOUIS","021919 B","R2","0,76","19016 – BILLARD CLUB ORANGEOIS"]
["CL","BRIAND ALAIN","113104 E","R1","1,18","19002 – SPORT AMAT.DE BILLARD MARSEILLAIS"]
["CL","BRIQUET ERIC","106514 S","R2","0,6","19012 – SALON BILLARD CLUB"]
["CL","BRUANT SYLVAIN","114733 V","R1","1,1","19016 – BILLARD CLUB ORANGEOIS"]
["CL","BRUN ROGER","021929 L","R2","0,84","19017 – BILLARD CLUB PHOCEEN"]
["CL","BURELLI GEORGES","155679 R","R2","0,57","19050 – BILLARD CLUB SAUSSETOIS"]
["CL","CACHO DIDIER","112311 R","R1","1,6","19098 – BILLARD CLUB LA FARE"]
["CL","CALDERON LUC","021938 U","R1","0,8","19009 – CLUB BILLARD ISTREEN"]
["CL","CAO HUU TUOI","021944 A","R1","1,32","19098 – BILLARD CLUB LA FARE"]
["CL","CARRILLON MICHEL","141066 Q","R2","0,84","19001 – S. S. A. B. D AIX EN PROVENCE"]
["CL","CESARO JEAN CLAUDE","118684 U","R2","0,88","19007 – BILLARD CLUB BERROIS"]
["CL","CHASTAN GEORGES","012782 Q","R1","1,41","19006 – BILLARD CLUB CARPENTRASSIEN"]
["CL","CHAUVIN JEAN PAUL","021972 C","R1","1,16","19050 – BILLARD CLUB SAUSSETOIS"]
["CL","CHEMLA ELIE","137581 P","R1","1,26","19014 – BILLARD CLUB AVIGNONNAIS"]
["CL","CHEURF SELIMANE","187031 V","R2","0,64","19090 – BILLARD CLUB ROGNAC"]
["CL","CHICARD ALAIN","160332 Z","R2","0,53","19006 – BILLARD CLUB CARPENTRASSIEN"]
["CL","CLEMENT GERARD","129497 R","R2","0,85","19050 – BILLARD CLUB SAUSSETOIS"]
["CL","COATMEUR ALAN","149116 H","R2","0,64","19014 – BILLARD CLUB AVIGNONNAIS"]
["CL","COLLEMINE BERNARD","113219 P","R2",1,"19050 – BILLARD CLUB SAUSSETOIS"]
["CL","CONSOLIN DANIEL","127970 Y","R1","1,34","19007 – BILLARD CLUB BERROIS"]
["CL","CONTRAIN JEROME","166177 C","R2","0,74","19012 – SALON BILLARD CLUB"]
["CL","COPPIN JEAN MICHEL","021985 P","R2","0,73","19027 – ACADEMIE DE BILLARD DE BOLLENE"]
["CL","CORDONNIER ROGER","106512 Q","R2","1,02","19027 – ACADEMIE DE BILLARD DE BOLLENE"]
["CL","CORTES JEAN LOUIS","187055 W","R1","1,2","19009 – CLUB BILLARD ISTREEN"]
["CL","COUPE GILBERT","120419 N","R1","1,36","19017 – BILLARD CLUB PHOCEEN"]
["CL","CREUGNY LAURENT","016445 N","R1","1,69","19027 – ACADEMIE DE BILLARD DE BOLLENE"]
["CL","CROUZET JEAN ANDRE","152067 Q","R2","1,05","19027 – ACADEMIE DE BILLARD DE BOLLENE"]
["CL","D HERET ERIC","119971 H","R1","1,31","19006 – BILLARD CLUB CARPENTRASSIEN"]
["CL","DECARPENTRIE FREDDY","138297 D","R2","1,04","19050 – BILLARD CLUB SAUSSETOIS"]
["CL","DEDON RICHARD","177233 V","R2","0,82","19007 – BILLARD CLUB BERROIS"]
["CL","DEFFE MICHEL","119889 D","R2","0,94","19068 – BILLARD CLUB ARLESIEN"]
["CL","DELAPORTE YVES","160334 B","R2","0,61","19006 – BILLARD CLUB CARPENTRASSIEN"]
["CL","DELATTRE RAYMOND","022014 S","R1","1,17","19090 – BILLARD CLUB ROGNAC"]
["CL","DELMER PHILIPPE","149695 M","R2","0,5","19006 – BILLARD CLUB CARPENTRASSIEN"]
["CL","DELUC BERNARD","166346 L","R2","0,78","19098 – BILLARD CLUB LA FARE"]
["CL","DEMERLIAC BRUNO","159076 J","R2","0,57","19007 – BILLARD CLUB BERROIS"]
["CL","DESMERO RAYMOND","142358 I","R2","0,6","19007 – BILLARD CLUB BERROIS"]
["CL","DESWAZIERE MICHEL","115051 B","R1","1,28","19027 – ACADEMIE DE BILLARD DE BOLLENE"]
["CL","DI CINTIO PHILIPPE","144569 J","R1","1,35","19014 – BILLARD CLUB AVIGNONNAIS"]
["NC","DRONET CHRISTEL","134193 H","R2","0,84","19006 – BILLARD CLUB CARPENTRASSIEN"]
["CL","DUCA ALFONSO","154651 Z","R2","0,4","19090 – BILLARD CLUB ROGNAC"]
["CL","DURAND FREDERIC","022049 B","R2","1,08","19012 – SALON BILLARD CLUB"]
["CL","DUSFOUR RENE","022052 E","R1","1,29","19012 – SALON BILLARD CLUB"]
["CL","DUSSAULE PIERRE","102285 B","R1","0,83","19027 – ACADEMIE DE BILLARD DE BOLLENE"]
["CL","EL MEGHARY MAROUANE","140809 T","R2","0,67","19002 – SPORT AMAT.DE BILLARD MARSEILLAIS"]
["CL","ELEOUET DANIEL","163467 G","R1","1,09","19006 – BILLARD CLUB CARPENTRASSIEN"]
["CL","ESTRUGO HENRI","117567 V","R2","0,43","19012 – SALON BILLARD CLUB"]
["CL","FAGET FRANCIS","101511 H","R1","1,42","19001 – S. S. A. B. D AIX EN PROVENCE"]
["CL","FARINET JEAN FRANCOIS","145515 T","R2","0,51","19027 – ACADEMIE DE BILLARD DE BOLLENE"]
["CL","FAURE EMILE","022065 R","R2","0,95","19016 – BILLARD CLUB ORANGEOIS"]
["CL","FAVARIO CHRISTIAN","022066 S","R2","0,96","19027 – ACADEMIE DE BILLARD DE BOLLENE"]
["CL","FERRO PHILIPPE","122658 Q","R1","0,94","19009 – CLUB BILLARD ISTREEN"]
["CL","FLEURIOT PATRICK","173138 T","R2","0,71","19014 – BILLARD CLUB AVIGNONNAIS"]
["CL","FORGET LIONEL","152014 H","R2","0,61","19007 – BILLARD CLUB BERROIS"]
["CL","FURNON ROGER","159060 R","R2","0,71","19014 – BILLARD CLUB AVIGNONNAIS"]
["CL","FUTERAL MAX","022088 O","R1","1,32","983 – Licenciés indépendants 83"]
["CL","GALARDINI RICHARD","142316 S","R2","0,89","19050 – BILLARD CLUB SAUSSETOIS"]
["CL","GANTOIS GILLES","022092 S","R1","1,69","19016 – BILLARD CLUB ORANGEOIS"]
["CL","GANTOIS NADINE","122653 L","R2","0,7","19027 – ACADEMIE DE BILLARD DE BOLLENE"]
["CL","GATTO ANTOINE","022097 X","R2","0,68","19050 – BILLARD CLUB SAUSSETOIS"]
["CL","GELAS BERNARD","163279 C","R2","0,93","19098 – BILLARD CLUB LA FARE"]
["CL","GHU GERARD","101282 M","R2","1,02","19016 – BILLARD CLUB ORANGEOIS"]
["CL","GIANNATTASIO LUCIEN","022108 I","R1","1,2","19009 – CLUB BILLARD ISTREEN"]
["CL","GIBARROUX CHRISTOPHE","118661 X","R1","1,75","19001 – S. S. A. B. D AIX EN PROVENCE"]
["CL","GIOVANNETTI DAMIEN","022115 P","R2",1,"19050 – BILLARD CLUB SAUSSETOIS"]
["CL","GODARD PASCAL","157852 D","R1","1,68","19006 – BILLARD CLUB CARPENTRASSIEN"]
["CL","GOUDENECHE BERNARD","131925 B","R2","0,67","19098 – BILLARD CLUB LA FARE"]
["CL","GOUIRAN GEORGES","022129 D","R2","0,68","19050 – BILLARD CLUB SAUSSETOIS"]
["CL","GOUKASSIAN JACQUES","113216 M","R1","1,25","19050 – BILLARD CLUB SAUSSETOIS"]
["CL","GREGOIRE JEAN CLAUDE","149576 H","R2","0,74","19016 – BILLARD CLUB ORANGEOIS"]
["CL","GUERI ROBERT","135013 V","R2","0,66","19027 – ACADEMIE DE BILLARD DE BOLLENE"]
["CL","GUERINEAU BRUNO","144796 C","R2","0,94","19021 – BILLARD CLUB CAVAILLONNAIS"]
["CL","GUEZOU MATHIS","151649 L","R2","0,49","19012 – SALON BILLARD CLUB"]
["CL","GUIBERT JEAN MARIE","022137 L","R2","0,92","19009 – CLUB BILLARD ISTREEN"]
["CL","GUTIERREZ FRANCOIS","022138 M","R2","0,78","19017 – BILLARD CLUB PHOCEEN"]
["CL","HAHN DANIEL","011966 G","R2","0,9","19017 – BILLARD CLUB PHOCEEN"]
["CL","HAROUTUNIAN PIERRE","022141 P","R2","0,54","19050 – BILLARD CLUB SAUSSETOIS"]
["CL","HAZE PATRICK","137523 J","R2",1,"19021 – BILLARD CLUB CAVAILLONNAIS"]
["CL","HERBER DOMINIQUE","159610 P","R2","0,91","19027 – ACADEMIE DE BILLARD DE BOLLENE"]
["CL","HEURTAULT JACKY","137004 K","R2","0,78","19012 – SALON BILLARD CLUB"]
["CL","IDJERI GILBERT","172214 P","R2","0,97","19050 – BILLARD CLUB SAUSSETOIS"]
["CL","JUMEL RENE","162905 W","R2","0,6","19027 – ACADEMIE DE BILLARD DE BOLLENE"]
["CL","KOSKACH JEAN PAUL","022173 V","R1","1,33","19017 – BILLARD CLUB PHOCEEN"]
["CL","LACROIX JEAN MARC","168708 D","R2","0,67","19098 – BILLARD CLUB LA FARE"]
["CL","LANDE GERARD","016084 Q","R1","1,06","19014 – BILLARD CLUB AVIGNONNAIS"]
["CL","LANDERECTHE PASCAL","181199 F","R2","0,91","19090 – BILLARD CLUB ROGNAC"]
["CL","LE FAUCHEUR LAURENT","163278 B","R2","0,7","19098 – BILLARD CLUB LA FARE"]
["CL","LEBAR PATRICK","110799 N","R1","1,32","19090 – BILLARD CLUB ROGNAC"]
["CL","LECOQ ARNAUD","141504 M","R1","1,3","19012 – SALON BILLARD CLUB"]
["CL","LECOQ SYLVIE","151648 K","R2","0,25","19012 – SALON BILLARD CLUB"]
["CL","LEDU GERARD","135537 Z","R2","0,46","19006 – BILLARD CLUB CARPENTRASSIEN"]
["CL","LEMESLE FABRICE","022205 B","R2","0,72","19017 – BILLARD CLUB PHOCEEN"]
["CL","LETELLIER ALAIN","176350 K","R2","0,85","19090 – BILLARD CLUB ROGNAC"]
["CL","LEVEQUE DAVID","141067 R","R2","0,8","19007 – BILLARD CLUB BERROIS"]
["CL","LEVISTRE ALAIN","184858 H","R2","0,96","19014 – BILLARD CLUB AVIGNONNAIS"]
["CL","LISI ROGER","146375 V","R2","0,62","19007 – BILLARD CLUB BERROIS"]
["CL","LUCENET PAUL","162076 V","R1","1,25","19009 – CLUB BILLARD ISTREEN"]
["CL","LUVISON JEAN","022221 R","R2","0,47","19012 – SALON BILLARD CLUB"]
["CL","MARCHAND PHILIPPE","164047 M","R2","0,66","19001 – S. S. A. B. D AIX EN PROVENCE"]
["CL","MARTIN MICHEL","022239 J","R2","0,94","19090 – BILLARD CLUB ROGNAC"]
["CL","MARTIN THOMAS","137032 M","R2","0,86","19027 – ACADEMIE DE BILLARD DE BOLLENE"]
["CL","MASSIAS GUY","172680 W","R2","0,6","19001 – S. S. A. B. D AIX EN PROVENCE"]
["CL","MATHIEU CLAUDE","129498 S","R2","0,74","19098 – BILLARD CLUB LA FARE"]
["CL","MAUDUIT DIDIER","017615 N","R2","0,7","19009 – CLUB BILLARD ISTREEN"]
["CL","MELLET PIERRE","144802 I","R2","0,91","19027 – ACADEMIE DE BILLARD DE BOLLENE"]
["CL","METAIS ALBAN","152604 Z","R1","1,19","19006 – BILLARD CLUB CARPENTRASSIEN"]
["CL","MICHEL JACQUES","183513 W","R2","0,6","19006 – BILLARD CLUB CARPENTRASSIEN"]
["CL","MILANA NICOLAS","176968 G","R2","0,57","19098 – BILLARD CLUB LA FARE"]
["CL","MONTAY JEAN CLAUDE","014997 V","R2","1,04","19027 – ACADEMIE DE BILLARD DE BOLLENE"]
["CL","MONTESINOS GILLES","136279 N","R2","0,59","19012 – SALON BILLARD CLUB"]
["CL","MORPOURGO SIMON","022278 W","R2","0,65","19007 – BILLARD CLUB BERROIS"]
["CL","MUNOS JEAN","109063 T","R1","1,89","19050 – BILLARD CLUB SAUSSETOIS"]
["CL","MUNOZ CHRISTIAN","022284 C","R1","1,28","19098 – BILLARD CLUB LA FARE"]
["CL","NAPOLI SALVATORE","107150 E","R2","0,62","19006 – BILLARD CLUB CARPENTRASSIEN"]
["CL","N GUYEN VAN DUC MAX","141788 K","R2","0,71","19007 – BILLARD CLUB BERROIS"]
["CL","NABHANE EMILE","166329 S","R2","0,67","19006 – BILLARD CLUB CARPENTRASSIEN"]
["CL","OLLIVIER DANIEL","020258 E","R2","0,93","19009 – CLUB BILLARD ISTREEN"]
["CL","PACZESNY FABRICE","150400 D","R2","1,05","19098 – BILLARD CLUB LA FARE"]
["CL","PELLAT FRANCIS","141673 Z","R1","1,14","19009 – CLUB BILLARD ISTREEN"]
["CL","PEREZ CHRISTIAN","130773 T","R2","0,82","19009 – CLUB BILLARD ISTREEN"]
["CL","PERRIN BERNARD","015932 U","R2","0,92","19098 – BILLARD CLUB LA FARE"]
["CL","PETIT PHILIPPE","179183 P","R2","0,44","19014 – BILLARD CLUB AVIGNONNAIS"]
["CL","PICOLLET MANUEL","129330 G","R1","1,92","19090 – BILLARD CLUB ROGNAC"]
["CL","PINARD PATRICE","105404 A","R1","1,56","19012 – SALON BILLARD CLUB"]
["CL","PINNA VINCENT","148229 T","R2","0,47","19017 – BILLARD CLUB PHOCEEN"]
["CL","PIONE GUY","022335 B","R1","1,17","19007 – BILLARD CLUB BERROIS"]
["CL","PORA JEAN PAUL","170697 Q","R2","0,64","19009 – CLUB BILLARD ISTREEN"]
["CL","POUJOL JEAN PAUL","022347 N","R2","0,78","19014 – BILLARD CLUB AVIGNONNAIS"]
["CL","POULAIN FREDERIC","144719 D","R2","1,06","19016 – BILLARD CLUB ORANGEOIS"]
["CL","POZNANSKI JEAN MICHEL","022349 P","R1","1,57","19012 – SALON BILLARD CLUB"]
["CL","PUT MARCEL","022353 T","R2","0,35","19006 – BILLARD CLUB CARPENTRASSIEN"]
["CL","QUANTIN MICHEL","022354 U","R1","1,31","19098 – BILLARD CLUB LA FARE"]
["CL","QUEZEL ANDRE","136544 S","R2","0,62","19014 – BILLARD CLUB AVIGNONNAIS"]
["CL","RANC ALAIN","136205 R","R2","0,63","19027 – ACADEMIE DE BILLARD DE BOLLENE"]
["CL","RAUD DANIEL","161645 B","R2","1,03","19098 – BILLARD CLUB LA FARE"]
["CL","REVALOR MICHEL","119696 S","R1","1,11","19050 – BILLARD CLUB SAUSSETOIS"]
["CL","RICART ANDRE","133646 G","R1","1,1","19009 – CLUB BILLARD ISTREEN"]
["CL","RICHARD MATHIEU","137033 N","R2","0,34","19027 – ACADEMIE DE BILLARD DE BOLLENE"]
["CL","RIFFET BERNARD","125943 Z","R2","0,51","19014 – BILLARD CLUB AVIGNONNAIS"]
["CL","RIGNOLS PHILIPPE","022372 M","R1","1,33","19021 – BILLARD CLUB CAVAILLONNAIS"]
["CL","ROBBE RAYMOND","134183 X","R2","0,86","19009 – CLUB BILLARD ISTREEN"]
["CL","RODRIGUES STEVE","171160 T","R2","0,53","19090 – BILLARD CLUB ROGNAC"]
["CL","ROGER GERARD","134843 H","R2","0,68","19021 – BILLARD CLUB CAVAILLONNAIS"]
["CL","ROLLAND JACQUES","022380 U","R2","0,93","19009 – CLUB BILLARD ISTREEN"]
["CL","RONSAIN JEAN JACQUES","166175 A","R2","0,73","19012 – SALON BILLARD CLUB"]
["CL","ROUGON ROBERT","101518 O","R1","1,35","19090 – BILLARD CLUB ROGNAC"]
["CL","ROUX CLAUDE","022384 Y","R1","1,66","19050 – BILLARD CLUB SAUSSETOIS"]
["CL","RYCKELYNCK LAURENT","121397 D","R1","1,23","19006 – BILLARD CLUB CARPENTRASSIEN"]
["CL","SALAMA ALAIN","136546 U","R2","0,9","19021 – BILLARD CLUB CAVAILLONNAIS"]
["CL","SANTIAGO EMMANUEL","118693 D","R2","1,03","19021 – BILLARD CLUB CAVAILLONNAIS"]
["CL","SARRALDE LOUIS","014138 U","R2","0,59","19021 – BILLARD CLUB CAVAILLONNAIS"]
["CL","SAVOIA MICKAEL","122939 L","R2","0,85","19050 – BILLARD CLUB SAUSSETOIS"]
["CL","SAVOIA PATRICK","113222 S","R2","1,03","19050 – BILLARD CLUB SAUSSETOIS"]
["CL","SCHAEFER ERNEST ROBERT","149694 L","R2","0,7","19006 – BILLARD CLUB CARPENTRASSIEN"]
["CL","SIEGLER JEAN PIERRE","168834 Q","R1","1,74","19006 – BILLARD CLUB CARPENTRASSIEN"]
["CL","SIMON GERARD","010203 L","R1","1,36","19014 – BILLARD CLUB AVIGNONNAIS"]
["CL","SINANIAN JEAN PAUL","022412 A","R1","1,6","19017 – BILLARD CLUB PHOCEEN"]
["CL","SOUTEYRAND CHRISTIAN","149696 N","R2","0,45","19006 – BILLARD CLUB CARPENTRASSIEN"]
["CL","SPINNLER JEAN LUC","165931 K","R2","0,87","19027 – ACADEMIE DE BILLARD DE BOLLENE"]
["CL","STERCKX PIERRE","144720 E","R2","0,58","19016 – BILLARD CLUB ORANGEOIS"]
["CL","TARDIEUX LUC","022429 R","R1","1,44","19098 – BILLARD CLUB LA FARE"]
["CL","TARDY JEAN CLAUDE","133907 H","R2","0,48","19014 – BILLARD CLUB AVIGNONNAIS"]
["CL","TATTIS HENRI","118668 E","R2","0,77","19050 – BILLARD CLUB SAUSSETOIS"]
["CL","TERZIAN BERNARD","148464 Z","R1","1,11","19090 – BILLARD CLUB ROGNAC"]
["CL","TEYSSIER SERGE","132938 A","R1","1,22","19090 – BILLARD CLUB ROGNAC"]
["CL","TORCHIO GILBERT","184495 N","R2","0,59","19017 – BILLARD CLUB PHOCEEN"]
["CL","TORES JEAN LUC","135554 Q","R1","1,15","19009 – CLUB BILLARD ISTREEN"]
["CL","TRAN DINH VUONG","131929 F","R1","1,76","19002 – SPORT AMAT.DE BILLARD MARSEILLAIS"]
["CL","TURPIN JEAN","172679 V","R2","0,73","19001 – S. S. A. B. D AIX EN PROVENCE"]
["CL","VERRIER CLEMENT","139061 N","R2","0,45","19012 – SALON BILLARD CLUB"]
["CL","VIALATTE ANDRE","022466 C","R1","1,31","19021 – BILLARD CLUB CAVAILLONNAIS"]
["CL","VIDAL JEAN PIERRE","149593 B","R2","0,68","19014 – BILLARD CLUB AVIGNONNAIS"]
["CL","VILLARD PATRICE","164317 F","R2","0,57","19006 – BILLARD CLUB CARPENTRASSIEN"]
["CL","VIOU GERARD","147607 S","R1","1,43","19098 – BILLARD CLUB LA FARE"]
["CL","VISCONTI JEAN","138731 V","R2","0,65","19090 – BILLARD CLUB ROGNAC"]
["CL","VITALIEN PIERRE","119674 W","R1","1,28","19016 – BILLARD CLUB ORANGEOIS"]
["CL","WILLAME PHILIPPE","152534 Y","R2","0,6","19001 – S. S. A. B. D AIX EN PROVENCE"]
["CL","WILLETTE MARC","022483 T","R1","1,19","19009 – CLUB BILLARD ISTREEN"]
["CL","YVOZ ALAIN","184288 N","R2","1,25","19006 – BILLARD CLUB CARPENTRASSIEN"]
["CL","ZANDRINO ALAIN","134311 V","R1","1,14","19007 – BILLARD CLUB BERROIS"]

{"sheet":"CADRE","index":5,"n_rows":69,"n_cols":6,"rows_kept":69,"cut":false,"hidden":true,"merged":[[0,0,1,5]]}
["CADRE"]
[]
["NC-CL","NOM","N° LICENCE","CAT","MG","CLUB"]
["CL","ABAD YANNICK","106287 Z","R1","2,44","19002 – SPORT AMAT.DE BILLARD MARSEILLAIS"]
["CL","ANDRY JEAN FRANCOIS","021818 E","R1","1,74","19090 – BILLARD CLUB ROGNAC"]
["CL","BASSOUL JEAN MARIE","103568 K","R1","2,07","19006 – BILLARD CLUB CARPENTRASSIEN"]
["CL","BIDDAU FRANCOIS","125917 Z","R1","2,35","19009 – CLUB BILLARD ISTREEN"]
["CL","BONTEMPS PAUL","187537 V","R1","0,93","19001 – S. S. A. B. D AIX EN PROVENCE"]
["CL","BRAYER DENIS","016411 F","R1","4,17","19008 – BRITISH BILLARD CLUB AVIGNON"]
["CL","BRIAND ALAIN","113104 E","R1","2,46","19002 – SPORT AMAT.DE BILLARD MARSEILLAIS"]
["CL","BRUANT SYLVAIN","114733 V","R1","2,27","19016 – BILLARD CLUB ORANGEOIS"]
["CL","CALDERON LUC","021938 U","R1","1,9","19009 – CLUB BILLARD ISTREEN"]
["CL","CAO HUU TUOI","021944 A","R1","3,8","19098 – BILLARD CLUB LA FARE"]
["CL","CESARO JEAN CLAUDE","118684 U","R1","1,49","19007 – BILLARD CLUB BERROIS"]
["CL","CHABASSIERE DOMINIQUE","173622 V","R1","2,44","19050 – BILLARD CLUB SAUSSETOIS"]
["CL","CHASTAN GEORGES","012782 Q","R1","2,67","19006 – BILLARD CLUB CARPENTRASSIEN"]
["CL","CORTES JEAN LOUIS","187055 W","R1",2,"19009 – CLUB BILLARD ISTREEN"]
["CL","COURBOT LUDWIG","016838 Q","R1","4,1","19001 – S. S. A. B. D AIX EN PROVENCE"]
["CL","DELBEY JULIEN","112719 J","R1","3,76","19012 – SALON BILLARD CLUB"]
["CL","DOS SANTOS FRANCIS","022039 R","R1","3,54","19050 – BILLARD CLUB SAUSSETOIS"]
["CL","DUSSAULE PIERRE","102285 B","R1","1,77","19027 – ACADEMIE DE BILLARD DE BOLLENE"]
["CL","ELEOUET DANIEL","163467 G","R1","1,78","19006 – BILLARD CLUB CARPENTRASSIEN"]
["CL","FERRO PHILIPPE","122658 Q","R1","1,78","19009 – CLUB BILLARD ISTREEN"]
["CL","GANTOIS GILLES","022092 S","R1","3,8","19016 – BILLARD CLUB ORANGEOIS"]
["CL","GELAS BERNARD","163279 C","R1","1,18","19098 – BILLARD CLUB LA FARE"]
["CL","GHU GERARD","101282 M","R1","1,98","19016 – BILLARD CLUB ORANGEOIS"]
["CL","GIANNATTASIO LUCIEN","022108 I","R1","2,16","19009 – CLUB BILLARD ISTREEN"]
["CL","GIBARROUX CHRISTOPHE","118661 X","R1","3,96","19001 – S. S. A. B. D AIX EN PROVENCE"]
["CL","GODARD PASCAL","157852 D","R1","2,79","19006 – BILLARD CLUB CARPENTRASSIEN"]
["CL","HAHN DANIEL","011966 G","R1","1,81","19017 – BILLARD CLUB PHOCEEN"]
["CL","HAZE PATRICK","137523 J","R1","1,38","19021 – BILLARD CLUB CAVAILLONNAIS"]
["CL","JOULIN WILLIAM","169331 F","R1","2,73","19021 – BILLARD CLUB CAVAILLONNAIS"]
["CL","LANDERECTHE PASCAL","181199 F","R1","1,4","19090 – BILLARD CLUB ROGNAC"]
["CL","LE FAUCHEUR LAURENT","163278 B","R1","1,46","19098 – BILLARD CLUB LA FARE"]
["CL","LETELLIER ALAIN","176350 K","R1","1,11","19090 – BILLARD CLUB ROGNAC"]
["CL","LIEGEOIS DOMINIQUE","022209 F","R1","3,55","19027 – ACADEMIE DE BILLARD DE BOLLENE"]
["CL","LISI ROGER","146375 V","R1","0,99","19007 – BILLARD CLUB BERROIS"]
["CL","LUCENET PAUL","162076 V","R1","2,49","19009 – CLUB BILLARD ISTREEN"]
["CL","MATHIEU CLAUDE","129498 S","R1","1,48","19098 – BILLARD CLUB LA FARE"]
["CL","MAUDUIT DIDIER","017615 N","R1","1,14","19009 – CLUB BILLARD ISTREEN"]
["CL","MELLET PIERRE","144802 I","R1","1,2","19027 – ACADEMIE DE BILLARD DE BOLLENE"]
["CL","MONNET JEAN CLAUDE","022271 P","R1","2,98","19021 – BILLARD CLUB CAVAILLONNAIS"]
["CL","MUNOS JEAN","109063 T","R1","3,75","19050 – BILLARD CLUB SAUSSETOIS"]
["CL","MUNOS VINCENT","109708 O","R1","2,98","19007 – BILLARD CLUB BERROIS"]
["CL","N GUYEN VAN DUC MAX","141788 K","R1","1,08","19007 – BILLARD CLUB BERROIS"]
["CL","OLLIVIER DANIEL","020258 E","R1","1,81","19009 – CLUB BILLARD ISTREEN"]
["CL","PACZESNY FABRICE","150400 D","R1","1,78","19098 – BILLARD CLUB LA FARE"]
["CL","PELLAT FRANCIS","141673 Z","R1","2,22","19009 – CLUB BILLARD ISTREEN"]
["CL","PEREZ CHRISTIAN","130773 T","R1","1,41","19009 – CLUB BILLARD ISTREEN"]
["CL","PICOLLET MANUEL","129330 G","N3","4,21","19090 – BILLARD CLUB ROGNAC"]
["CL","POULAIN FREDERIC","144719 D","R1","1,89","19016 – BILLARD CLUB ORANGEOIS"]
["CL","REVALOR MICHEL","119696 S","R1","1,82","19050 – BILLARD CLUB SAUSSETOIS"]
["NC","RICCI PATRICK","190607 G","R1","1,65","19006 – BILLARD CLUB CARPENTRASSIEN"]
["CL","ROBBE RAYMOND","134183 X","R1","1,6","19009 – CLUB BILLARD ISTREEN"]
["CL","ROBERT DIDIER","022450 M","R1","3,85","19014 – BILLARD CLUB AVIGNONNAIS"]
["CL","ROUGON ROBERT","101518 O","R1","2,54","19090 – BILLARD CLUB ROGNAC"]
["CL","RYCKELYNCK LAURENT","121397 D","R1","2,97","19006 – BILLARD CLUB CARPENTRASSIEN"]
["NC","SIEBERT LOIC","022411 Z","R1","2,64","19016 – BILLARD CLUB ORANGEOIS"]
["CL","SIEGLER JEAN PIERRE","168834 Q","R1","4,47","19006 – BILLARD CLUB CARPENTRASSIEN"]
["CL","SIMON GERARD","010203 L","R1","2,1","19014 – BILLARD CLUB AVIGNONNAIS"]
["CL","SINANIAN JEAN PAUL","022412 A","R1","3,36","19017 – BILLARD CLUB PHOCEEN"]
["CL","TARDIEUX LUC","022429 R","R1","2,86","19098 – BILLARD CLUB LA FARE"]
["CL","TEYSSIER SERGE","132938 A","R1","2,28","19090 – BILLARD CLUB ROGNAC"]
["CL","TORES JEAN LUC","135554 Q","R1","2,2","19009 – CLUB BILLARD ISTREEN"]
["CL","VIOU GERARD","147607 S","R1","2,7","19098 – BILLARD CLUB LA FARE"]
["CL","VISCONTI JEAN","138731 V","R1","1,23","19090 – BILLARD CLUB ROGNAC"]
["CL","VITALIEN PIERRE","119674 W","R1","2,08","19016 – BILLARD CLUB ORANGEOIS"]
["CL","WILLAME PHILIPPE","152534 Y","R1","0,88","19001 – S. S. A. B. D AIX EN PROVENCE"]
["CL","ZANDRINO ALAIN","134311 V","R1","1,64","19007 – BILLARD CLUB BERROIS"]

{"sheet":"LIBRE","index":6,"n_rows":139,"n_cols":6,"rows_kept":139,"cut":false,"hidden":true,"merged":[[0,0,1,5]]}
["LIBRE"]
[]
["NC-CL","NOM","N° LICENCE","CAT","MG","CLUB"]
["CL","ALVISET GUY","152035 F","R3","1,57","19050 – BILLARD CLUB SAUSSETOIS"]
["NC","AMANS HERVE","177854 V","R4","0,43","19009 – CLUB BILLARD ISTREEN"]
["CL","ANDRY JEAN FRANCOIS","021818 E","R3","2,14","19090 – BILLARD CLUB ROGNAC"]
["CL","BARBANNEAU FREDERIC","109917 P","R2","3,64","19012 – SALON BILLARD CLUB"]
["CL","BASSOUL JEAN MARIE","103568 K","R2","2,89","19006 – BILLARD CLUB CARPENTRASSIEN"]
["CL","BENHAMOU ALEXIS","160341 J","R2","3,07","19001 – S. S. A. B. D AIX EN PROVENCE"]
["CL","BENOIT MICHEL","159790 K","R4","1,23","19027 – ACADEMIE DE BILLARD DE BOLLENE"]
["CL","BIARD ANDRE","159202 W","R4","0,81","19009 – CLUB BILLARD ISTREEN"]
["CL","BIDDAU FRANCOIS","125917 Z","R2","3,26","19009 – CLUB BILLARD ISTREEN"]
["CL","BILDIK MEHMET","141828 Y","R1","4,61","19006 – BILLARD CLUB CARPENTRASSIEN"]
["CL","BLANC SANTELLI ERIC","179744 Z","R4","0,6","19009 – CLUB BILLARD ISTREEN"]
["CL","BONELLO LUCIEN","021894 C","R3","1,32","19090 – BILLARD CLUB ROGNAC"]
["CL","BONNEMAISON DENIS","150422 C","R4","1,13","19009 – CLUB BILLARD ISTREEN"]
["CL","BONTEMPS PAUL","187537 V","R4","1,23","19001 – S. S. A. B. D AIX EN PROVENCE"]
["CL","BOSSOT JEAN","160000 N","R3","1,59","19027 – ACADEMIE DE BILLARD DE BOLLENE"]
["CL","BRAYER DENIS","016411 F","R1","4,61","19008 – BRITISH BILLARD CLUB AVIGNON"]
["CL","BRESSE JEAN LOUIS","021919 B","R3","1,34","19016 – BILLARD CLUB ORANGEOIS"]
["CL","BRIAND ALAIN","113104 E","R2","2,73","19002 – SPORT AMAT.DE BILLARD MARSEILLAIS"]
["CL","BRUANT SYLVAIN","114733 V","R3","2,35","19016 – BILLARD CLUB ORANGEOIS"]
["CL","BRUN ROGER","021929 L","R3","1,84","19017 – BILLARD CLUB PHOCEEN"]
["CL","CALDERON LUC","021938 U","R2","2,64","19009 – CLUB BILLARD ISTREEN"]
["CL","CALDERON MATHYS","173674 B","R4","0,56","19009 – CLUB BILLARD ISTREEN"]
["CL","CAO HUU TUOI","021944 A","R1","4,08","19098 – BILLARD CLUB LA FARE"]
["NC","CEDO MARC","190518 K","R4","1,12","19017 – BILLARD CLUB PHOCEEN"]
["CL","CESARO JEAN CLAUDE","118684 U","R3","1,69","19007 – BILLARD CLUB BERROIS"]
["CL","CHABASSIERE DOMINIQUE","173622 V","R2","2,63","19050 – BILLARD CLUB SAUSSETOIS"]
["CL","CHASTAN GEORGES","012782 Q","R2","3,22","19006 – BILLARD CLUB CARPENTRASSIEN"]
["CL","CHEMLA ELIE","137581 P","R2","4,91","19014 – BILLARD CLUB AVIGNONNAIS"]
["CL","CHEURF SELIMANE","187031 V","R4","0,98","19090 – BILLARD CLUB ROGNAC"]
["CL","CHICARD ALAIN","160332 Z","R4","0,92","19006 – BILLARD CLUB CARPENTRASSIEN"]
["CL","COLIN PHILIPPE","177991 T","R4","0,73","19017 – BILLARD CLUB PHOCEEN"]
["CL","COPPIN JEAN MICHEL","021985 P","R3","1,25","19027 – ACADEMIE DE BILLARD DE BOLLENE"]
["CL","CORTES JEAN LOUIS","187055 W","R3","2,6","19009 – CLUB BILLARD ISTREEN"]
["CL","COURBOT LUDWIG","016838 Q","R1","5,9","19001 – S. S. A. B. D AIX EN PROVENCE"]
["CL","DE CAMBOURG HELION","171181 R","R4","0,78","19014 – BILLARD CLUB AVIGNONNAIS"]
["CL","DELAPORTE YVES","160334 B","R3","1,63","19006 – BILLARD CLUB CARPENTRASSIEN"]
["CL","DELBEY JULIEN","112719 J","R1","4,04","19012 – SALON BILLARD CLUB"]
["CL","DEMERLIAC BRUNO","159076 J","R4","0,96","19007 – BILLARD CLUB BERROIS"]
["CL","DESMERO RAYMOND","142358 I","R4","1,04","19007 – BILLARD CLUB BERROIS"]
["CL","DOS SANTOS FRANCIS","022039 R","R2","3,72","19050 – BILLARD CLUB SAUSSETOIS"]
["NC","DRONET CHRYSTEL","134193 H","R3","2,14","19006 – BILLARD CLUB CARPENTRASSIEN"]
["CL","DUSSAULE PIERRE","102285 B","R3","1,79","19027 – ACADEMIE DE BILLARD DE BOLLENE"]
["CL","ELEOUET DANIEL","163467 G","R3","1,79","19006 – BILLARD CLUB CARPENTRASSIEN"]
["CL","FERRO PHILIPPE","122658 Q","R3","1,96","19009 – CLUB BILLARD ISTREEN"]
["CL","FLEURIOT PATRICK","173138 T","R4","0,88","19014 – BILLARD CLUB AVIGNONNAIS"]
["CL","FURNON ROGER","159060 R","R4","0,98","19014 – BILLARD CLUB AVIGNONNAIS"]
["CL","GANTOIS GILLES","022092 S","R1","6,85","19016 – BILLARD CLUB ORANGEOIS"]
["CL","GELAS BERNARD","163279 C","R4","1,24","19098 – BILLARD CLUB LA FARE"]
["CL","GHU GERARD","101282 M","R2","2,54","19016 – BILLARD CLUB ORANGEOIS"]
["CL","GIANNATTASIO LUCIEN","022108 I","R2","2,3","19009 – CLUB BILLARD ISTREEN"]
["NC","GIOVANNETTI DAMIEN","022115 P","R3","1,51","19050 – BILLARD CLUB SAUSSETOIS"]
["CL","GODARD PASCAL","157852 D","R2","3,11","19006 – BILLARD CLUB CARPENTRASSIEN"]
["CL","GOUIRAN GEORGES","022129 D","R3","1,39","19050 – BILLARD CLUB SAUSSETOIS"]
["CL","GOURSEAUD YVES","104054 C","R1","3,63","19016 – BILLARD CLUB ORANGEOIS"]
["CL","GRAVELLE JULIEN","157851 C","R3","1,31","19006 – BILLARD CLUB CARPENTRASSIEN"]
["CL","GUERI ROBERT","135013 V","R4","1,11","19027 – ACADEMIE DE BILLARD DE BOLLENE"]
["CL","GUIBERT JEAN MARIE","022137 L","R4","1,15","19009 – CLUB BILLARD ISTREEN"]
["CL","HAHN DANIEL","011966 G","R3","1,73","19017 – BILLARD CLUB PHOCEEN"]
["CL","HAZE PATRICK","137523 J","R3","1,48","19021 – BILLARD CLUB CAVAILLONNAIS"]
["NC","HERVE AMANS","177854 V","R4","0,39","19009 – CLUB BILLARD ISTREEN"]
["CL","IDJERI GILBERT","172214 P","R2","2,74","19050 – BILLARD CLUB SAUSSETOIS"]
["CL","ISRAEL ELIE","184059 P","R4","0,72","19017 – BILLARD CLUB PHOCEEN"]
["CL","LACOSSE JEAN PAUL","109977 X","R1","5,67","19019 – BILLARD CLUB DE LA BAIE"]
["CL","LANDERECTHE PASCAL","181199 F","R3","1,75","19090 – BILLARD CLUB ROGNAC"]
["CL","LE FAUCHEUR LAURENT","163278 B","R3","1,65","19098 – BILLARD CLUB LA FARE"]
["CL","LECOQ ARNAUD","141504 M","R3","2,41","19012 – SALON BILLARD CLUB"]
["CL","LEDUCQ MORGAN","105373 V","R2","4,15","19014 – BILLARD CLUB AVIGNONNAIS"]
["CL","LEMESLE FABRICE","022205 B","R4","0,92","19017 – BILLARD CLUB PHOCEEN"]
["CL","LETELLIER ALAIN","176350 K","R3","1,64","19090 – BILLARD CLUB ROGNAC"]
["CL","LEVISTRE ALAIN","184858 H","R3","1,76","19014 – BILLARD CLUB AVIGNONNAIS"]
["CL","LIEGEOIS DOMINIQUE","022209 F","R2","3,24","19027 – ACADEMIE DE BILLARD DE BOLLENE"]
["CL","LISI ROGER","146375 V","R4","1,15","19007 – BILLARD CLUB BERROIS"]
["CL","LLOBELL CLAIRE","170267 Y","R4","0,31","19017 – BILLARD CLUB PHOCEEN"]
["CL","LUCENET PAUL","162076 V","R2","2,66","19009 – CLUB BILLARD ISTREEN"]
["CL","MARCHAND PHILIPPE","164047 M","R4","1,26","19001 – S. S. A. B. D AIX EN PROVENCE"]
["CL","MASSIAS GUY","172680 W","R4","1,02","19001 – S. S. A. B. D AIX EN PROVENCE"]
["CL","MATHIEU CLAUDE","129498 S","R4","1,02","19098 – BILLARD CLUB LA FARE"]
["CL","MAUDUIT DIDIER","017615 N","R3","1,35","19009 – CLUB BILLARD ISTREEN"]
["NC","MEGUIN ERIC","128466 A","R2","2,1","19021 – BILLARD CLUB CAVAILLONNAIS"]
["CL","MELLET PIERRE","144802 I","R3","1,43","19027 – ACADEMIE DE BILLARD DE BOLLENE"]
["CL","METAIS ALBAN","152604 Z","R3","2,16","19006 – BILLARD CLUB CARPENTRASSIEN"]
["CL","MICHEL JACQUES","183513 W","R4","1,11","19006 – BILLARD CLUB CARPENTRASSIEN"]
["NC","MILANA NICOLAS","176968 G","R4","0,96","19098 – BILLARD CLUB LA FARE"]
["CL","MONNET JEAN CLAUDE","022271 P","R2","2,83","19021 – BILLARD CLUB CAVAILLONNAIS"]
["CL","MONTESINOS GILLES","136279 N","R4","0,98","19012 – SALON BILLARD CLUB"]
["CL","MUNOS JEAN","109063 T","R1","3,78","19050 – BILLARD CLUB SAUSSETOIS"]
["CL","MUNOS VINCENT","109708 O","R2","2,68","19007 – BILLARD CLUB BERROIS"]
["NC","MUNOZ CHRISTIAN","022284 C","R3","1,68","19098 – BILLARD CLUB LA FARE"]
["CL","NABHANE EMILE","166329 S","R4","1,06","19006 – BILLARD CLUB CARPENTRASSIEN"]
["CL","NAPOLI SALVATORE","107150 E","R4","1,19","19006 – BILLARD CLUB CARPENTRASSIEN"]
["CL","OLLIVIER DANIEL","020258 E","R2","2,31","19009 – CLUB BILLARD ISTREEN"]
["CL","PACZESNY FABRICE","150400 D","R2","2,87","19098 – BILLARD CLUB LA FARE"]
["CL","PELLAT FRANCIS","141673 Z","R2","2,61","19009 – CLUB BILLARD ISTREEN"]
["CL","PEREZ CHRISTIAN","130773 T","R3","1,33","19009 – CLUB BILLARD ISTREEN"]
["CL","PERTUZON NOLAN","179786 V","R4","0,36","19009 – CLUB BILLARD ISTREEN"]
["CL","PETIT PHILIPPE","179183 P","R4","0,67","19014 – BILLARD CLUB AVIGNONNAIS"]
["NC","PICARD FRANCK","189184 K","R2","2,16","19017 – BILLARD CLUB PHOCEEN"]
["CL","PICOLLET MANUEL","129330 G","N3","6,07","19090 – BILLARD CLUB ROGNAC"]
["CL","PORA JEAN PAUL","170697 Q","R4","1,11","19009 – CLUB BILLARD ISTREEN"]
["CL","POUJOL JEAN PAUL","022347 N","R3","1,32","19014 – BILLARD CLUB AVIGNONNAIS"]
["CL","POULAIN FREDERIC","144719 D","R2","2,23","19016 – BILLARD CLUB ORANGEOIS"]
["CL","QUEZEL ANDRE","136544 S","R3","1,4","19014 – BILLARD CLUB AVIGNONNAIS"]
["CL","RAUD DANIEL","161645 B","R3","1,81","19098 – BILLARD CLUB LA FARE"]
["CL","REVALOR MICHEL","119696 S","R2","2,24","19050 – BILLARD CLUB SAUSSETOIS"]
["NC","REVELLIN CHRISTIAN","183164 R","R3","1,58","19014 – BILLARD CLUB AVIGNONNAIS"]
["NC","RICCI PATRICK","190607 G","R2","1,69","19006 – BILLARD CLUB CARPENTRASSIEN"]
["CL","RIVIER PATRICE","170733 E","R4","0,98","19017 – BILLARD CLUB PHOCEEN"]
["CL","ROBBE RAYMOND","134183 X","R3","1,43","19009 – CLUB BILLARD ISTREEN"]
["CL","RODRIGUES STEVE","171160 T","R4","1,07","19090 – BILLARD CLUB ROGNAC"]
["CL","RONSAIN JEAN JACQUES","166175 A","R3","1,25","19012 – SALON BILLARD CLUB"]
["CL","ROUGON ROBERT","101518 O","R2","3,49","19090 – BILLARD CLUB ROGNAC"]
["CL","RYCKELYNCK LAURENT","121397 D","R2","3,39","19006 – BILLARD CLUB CARPENTRASSIEN"]
["CL","SARRALDE LOUIS","014138 U","R4","0,91","19021 – BILLARD CLUB CAVAILLONNAIS"]
["NC","SAUNIER DANIEL","187864 A","R4","0,84","19090 – BILLARD CLUB ROGNAC"]
["CL","SAVI OLIVIER","186195 L","R3","1,34","19050 – BILLARD CLUB SAUSSETOIS"]
["CL","SAVOIA PATRICK","113222 S","R3","1,34","19050 – BILLARD CLUB SAUSSETOIS"]
["CL","SCHAEFER ERNEST ROBERT","149694 L","R3","1,09","19006 – BILLARD CLUB CARPENTRASSIEN"]
["CL","SCHEMBRI BERNARD","187494 Y","R4",1,"19017 – BILLARD CLUB PHOCEEN"]
["CL","SIEGLER JEAN PIERRE","168834 Q","R1","5,97","19006 – BILLARD CLUB CARPENTRASSIEN"]
["CL","SIMON GERARD","010203 L","R3","2,13","19014 – BILLARD CLUB AVIGNONNAIS"]
["CL","SINANIAN JEAN PAUL","022412 A","R2","1,63","19017 – BILLARD CLUB PHOCEEN"]
["CL","SPINNLER JEAN LUC","165931 K","R3","1,21","19027 – ACADEMIE DE BILLARD DE BOLLENE"]
["CL","TARDIEUX LUC","022429 R","R2","3,87","19098 – BILLARD CLUB LA FARE"]
["NC","TAURINES CESSIO TOM","183512 V","R4","0,65","19090 – BILLARD CLUB ROGNAC"]
["CL","TEYSSIER SERGE","132938 A","R2","2,28","19090 – BILLARD CLUB ROGNAC"]
["CL","THIBOUT HERVE","186654 K","R4","1,04","19017 – BILLARD CLUB PHOCEEN"]
["CL","TORCHIO GILBERT","184495 N","R4","1,26","19017 – BILLARD CLUB PHOCEEN"]
["CL","TORES JEAN LUC","135554 Q","R1","3,05","19009 – CLUB BILLARD ISTREEN"]
["CL","TURPIN JEAN","172679 V","R3","1,25","19001 – S. S. A. B. D AIX EN PROVENCE"]
["CL","VIOU GERARD","147607 S","R2","2,97","19098 – BILLARD CLUB LA FARE"]
["CL","VISCONTI JEAN","138731 V","R3","1,48","19090 – BILLARD CLUB ROGNAC"]
["CL","VITALIEN PIERRE","119674 W","R2","2,61","19016 – BILLARD CLUB ORANGEOIS"]
["CL","WALLON PATRICK","176943 E","R4","0,66","19027 – ACADEMIE DE BILLARD DE BOLLENE"]
["CL","WILLAME PHILIPPE","152534 Y","R4","1,06","19001 – S. S. A. B. D AIX EN PROVENCE"]
["CL","YVOZ ALAIN","184288 N","R3","2,22","19006 – BILLARD CLUB CARPENTRASSIEN"]
["CL","ZANDRINO ALAIN","134311 V","R3","1,65","19007 – BILLARD CLUB BERROIS"]

{"sheet":"MACRO","index":7,"n_rows":28,"n_cols":2,"rows_kept":28,"cut":false,"hidden":false,"merged":[[32,2,32,4],[27,1,27,3]]}
[]
[]
[]
[]
[]
[]
[]
[]
[]
[]
[]
[]
[]
[]
[]
[]
[]
[]
[]
[]
[]
[]
[]
[]
[]
[]
[]
[null,{"$f":"\"@ Ferhat-Letellier-Perez\"","v":"@ Ferhat-Letellier-Perez"}]

{"sheet":"BOISSON_F","index":8,"n_rows":28,"n_cols":6,"rows_kept":28,"cut":false,"hidden":true,"merged":[[0,0,0,4]]}
["BOISSONS DU",null,null,null,null,{"$f":"'SaisieJoueurs Finale'!D5","v":"00:00:00"}]
["Nom - Prénom","EAU","BOISSONS","REPAS","TOTAL","CLUB"]
[{"$f":"'SaisieJoueurs Finale'!W18","v":0}]
[{"$f":"'SaisieJoueurs Finale'!W19","v":0}]
[{"$f":"'SaisieJoueurs Finale'!W20","v":0}]
[{"$f":"'SaisieJoueurs Finale'!W21","v":0}]
[{"$f":"'SaisieJoueurs Finale'!W22","v":0}]
[{"$f":"'SaisieJoueurs Finale'!W23","v":0}]
[{"$f":"'SaisieJoueurs Finale'!#REF!","v":{"$error":"#REF!"}}]
[{"$f":"'SaisieJoueurs Finale'!#REF!","v":{"$error":"#REF!"}}]
[{"$f":"'SaisieJoueurs Finale'!#REF!","v":{"$error":"#REF!"}}]
[{"$f":"'SaisieJoueurs Finale'!#REF!","v":{"$error":"#REF!"}}]
[{"$f":"'SaisieJoueurs Finale'!#REF!","v":{"$error":"#REF!"}}]
[{"$f":"'SaisieJoueurs Finale'!#REF!","v":{"$error":"#REF!"}}]
[{"$f":"'SaisieJoueurs Finale'!#REF!","v":{"$error":"#REF!"}}]
[{"$f":"'SaisieJoueurs Finale'!#REF!","v":{"$error":"#REF!"}}]
[{"$f":"'SaisieJoueurs Finale'!#REF!","v":{"$error":"#REF!"}}]
[{"$f":"'SaisieJoueurs Finale'!#REF!","v":{"$error":"#REF!"}}]
[{"$f":"'SaisieJoueurs Finale'!#REF!","v":{"$error":"#REF!"}}]
[{"$f":"'SaisieJoueurs Finale'!#REF!","v":{"$error":"#REF!"}}]
[{"$f":"'SaisieJoueurs Finale'!#REF!","v":{"$error":"#REF!"}}]
[{"$f":"'SaisieJoueurs Finale'!#REF!","v":{"$error":"#REF!"}}]
[{"$f":"'SaisieJoueurs Finale'!#REF!","v":{"$error":"#REF!"}}]
[{"$f":"'SaisieJoueurs Finale'!#REF!","v":{"$error":"#REF!"}}]
[{"$f":"'SaisieJoueurs Finale'!#REF!","v":{"$error":"#REF!"}}]
[{"$f":"'SaisieJoueurs Finale'!#REF!","v":{"$error":"#REF!"}}]
[{"$f":"'SaisieJoueurs Finale'!D24","v":0}]
[{"$f":"'SaisieJoueurs Finale'!D25","v":0}]

{"sheet":"DistNat","index":9,"n_rows":22,"n_cols":16,"rows_kept":22,"cut":false,"hidden":true,"merged":[[7,15,8,15],[3,2,5,2],[3,6,6,6],[3,10,5,10],[3,14,6,14],[7,3,8,3],[7,7,8,7],[7,11,8,11],[0,0,1,15],[2,0,2,2],[2,4,2,6],[2,8,2,10],[2,12,2,14],[13,0,14,15],[15,0,15,2],[15,4,15,6],[15,8,15,10],[15,12,15,14]]}
["DISTANCE REDUITE NATIONAL SUR LES TOURNOIS PAR POULE & DOUBLE KO LMB"]
[]
["LIBRE",null,null,null,"CADRE",null,null,null,"BANDE",null,null,null,"3BANDES"]
[null,"3.10M","25 REPRISES",null,null,"3.10M","25 REPRISES",null,null,"3.10M","30 REPRISES",null,null,"3.10M","50 REPRISES"]
["M",250,null,null,"M",200,null,null,"M",100,null,null,"M-N1",30]
["N1",250,null,null,"N1",150,null,null,"N1",80,null,null,"N2",25]
[null,null,null,null,"N2",100,null,null,null,null,null,null,"N3",15]
[null,null,"2.80M","25 REPRISES",null,null,"2.80M","25 REPRISES",null,null,"2.80M","30 REPRISES",null,null,"2.80M","50 REPRISES"]
[null,"N3",150,null,null,"N3",100,null,null,"N3",60,null,null,"N3",15]
[]
[]
[]
[]
["DISTANCE FINALE LIGUE JOUEURS NATIONAUX"]
[]
["LIBRE",null,null,null,"CADRE",null,null,null,"BANDE",null,null,null,"3BANDES"]
[null,"3.10M",null,null,null,"3.10M",null,null,null,"3.10M",null,null,null,"3.10M"]
["M",400,null,null,"M",250,null,null,"M",120,null,null,"M",40]
["N1",300,null,null,"N1",200,null,null,"N1",100,null,null,"N1",35]
[null,null,null,null,"N2",120,null,null,null,null,null,null,"N2",30]
[null,null,"2.80M",null,null,null,"2.80M",null,null,null,"2.80M",null,null,null,"2.80M"]
[null,"N3",200,null,null,"N3",120,null,null,"N3",80,null,null,"N3",25]

{"sheet":"DistDept","index":10,"n_rows":19,"n_cols":16,"rows_kept":19,"cut":false,"hidden":true,"merged":[[2,0,3,15],[4,0,4,2],[4,3,9,3],[4,4,4,6],[4,7,6,7],[4,8,4,10],[4,11,7,11],[4,12,4,14],[4,15,7,15],[11,0,12,15],[13,0,13,2],[13,4,13,6],[13,8,13,10],[13,12,13,14],[13,15,16,15]]}
[]
[]
["DISTANCE REDUITE 1 - JOUEURS REGIONAUX"]
[]
["LIBRE",null,null,"30 REPRISES","CADRE",null,null,"30 REPRISES","BANDE",null,null,"30 REPRISES","3BANDES",null,null,"50 REPRISES"]
[null,null,"2.80M",null,null,null,"2.80M",null,null,null,"2.80M",null,null,null,"2.80M"]
[null,"R1",120,null,null,"R1",60,null,null,"R1",50,null,null,"R1",15]
[null,"R2",80,null,null,null,null,null,null,"R2",30,null,null,"R2",11]
[null,"R3",60]
[null,"R4",40]
[]
["DISTANCE FINALE LIGUE  JOUEURS REGIONAUX"]
[]
["LIBRE",null,null,null,"CADRE",null,null,null,"BANDE",null,null,null,"3BANDES",null,null,"50 REPRISES"]
[null,null,"2.80M",null,null,null,"2.80M",null,null,null,"2.80M",null,null,null,"2.80M"]
[null,"R1",150,null,null,"R1",80,null,null,"R1",60,null,null,"R1",20]
[null,"R2",100,null,null,null,null,null,null,"R2",40,null,null,"R2",15]
[null,"R3",70]
[null,"R4",50]

{"sheet":"SaisieJoueurs Finale","index":11,"n_rows":23,"n_cols":21,"rows_kept":23,"cut":false,"hidden":true,"merged":[[14,2,14,6],[15,2,15,6],[0,2,1,6],[1,9,12,13],[2,2,2,6],[10,3,10,4],[12,2,12,6],[4,4,7,6],[8,5,8,6]]}
[null,null,"LIGUE MÉDITERRANÉENNE DE BILLARD"]
[null,"Liste de joueurs qualifiés pour la finale",null,null,null,null,null,null,null,"Après avoir enregistré les participants, \ncliquez sur le bouton de tri, \npuis dirigez-vous vers l'onglet : \nFinale 6 Joueurs ou Finale 2x3 Joueurs\n"]
[null,{"$f":"\"@ Alain LETELLIER\"","v":"@ Alain LETELLIER"},null,null,null,null,null,null,null,null,null,null,null,null,null,null,null,"LIBRE","LIBRE"]
[]
[null,null,"Date  (jj/mm/aa)",null,"FINALE DEPARTEMENTALE \nou FINALE DE LIGUE",null,null,null,null,null,null,null,null,null,null,null,null,"finale","finale"]
[]
[null,null,"N° de la compétition",null,null,null,null,null,null,null,null,null,null,null,null,null,null,"6Joueurs","6Joueurs"]
[]
[null,null,"Mode de jeu",null,null,"1 poule de 6 joueurs"]
[]
[null,null,"Club organisateur",null,null,"Directeur de jeu"]
[]
[]
[]
[null,null,"      Saisir dans la liste déroulante les NOMS des joueurs finalistes"]
[]
["N°","Liste déroulante NOM ","N° Licence","NOM PRENOM","Catégorie","Moyenne  3,10m","Club",null,null,"Licences","NOM PRENOM","Catégorie","Moyenne 2,80m","Club",null,null,"Licences","NOMS","Catégorie","Moyenne sur 2,80","Club"]
[{"$f":"ROW(A1)","v":1}]
[{"$f":"ROW(A2)","v":2}]
[3]
[4]
[5]
[6]

{"sheet":"Saisie des joueurs","index":12,"n_rows":41,"n_cols":24,"rows_kept":41,"cut":false,"hidden":true,"merged":[[37,8,40,8],[17,8,20,8],[21,8,24,8],[25,8,28,8],[29,8,32,8],[33,8,36,8],[42,0,42,1],[10,3,10,4],[12,2,12,6],[15,2,15,6],[4,0,4,1],[14,3,14,6],[14,9,14,13],[0,2,1,6],[2,2,2,6],[1,9,12,13],[4,4,7,6]]}
[null,null,"LIGUE MÉDITERRANÉENNE DE BILLARD"]
[null,null,null,null,null,null,null,null,null,"Après avoir enregistré les participants, \ncliquez sur le bouton de tri, \npuis dirigez-vous vers l'onglet : \n3 à 24 joueurs_Serpentin ou Moyenne... \n"]
[null,null,null,null,null,null,null,null,null,null,null,null,null,null,null,null,"Mode de jeu","BANDE","LIBRE"]
[]
[{"$f":"\"@C.PEREZ, A.FERHAT, A.LETELLIER\"","v":"@C.PEREZ, A.FERHAT, A.LETELLIER"},null,"Date  (jj/mm/aa)",null,"TOURNOI par poule\n de 3 à 20 JOUEURS ",null,null,null,null,null,null,null,null,null,null,null,"Tournoi ou finale","tournoi","tournoi"]
[]
[null,null,"N° de la compétition",null,null,null,null,null,null,null,null,null,null,null,null,null,"Mode de tri","serpentin","serpentin"]
[null,null,null,null,null,null,null,null,null,null,null,null,null,null,null,null,"DKO (Oui|Non)"]
[null,null,"Mode de jeu",null,null,"Tri par","serpentin",null,null,null,null,null,null,null,null,null,"Nombre de joueurs"]
[]
[null,null,"Club organisateur",null,null,"Directeur de jeu"]
[]
[]
[]
[null,null,null,"Dans cet onglet \"Saisir dans la liste déroulante les noms des joueurs de cette colonne\", \nl'ordre à saisir n'est pas important : ensuite cliquer sur le \" BOUTON TRI DES JOUEURS\""]
[]
["N°","Liste déroulante NOM ","N° Licence","NOM PRENOM","Catégorie","Moyenne  3,10m","Club",null,null,"Licences","NOM PRENOM","Catégorie","Moyenne 2,80m","Club",null,null,"Licences","NOMS","Catégorie","Moyenne sur 3,10","Club",null,null,"NOMS"]
[{"$f":"ROW(A1)","v":1},null,null,null,null,null,null,null,null,null,null,null,null,null,null,null,null,null,null,null,null,"19090 – BILLARD CLUB ROGNAC"]
[{"$f":"ROW(A2)","v":2},null,null,null,null,null,null,null,null,null,null,null,null,null,null,null,null,null,null,null,null,"19050 – BILLARD CLUB SAUSSETOIS"]
[3]
[4]
[5]
[6]
[7]
[8]
[9]
[10]
[11]
[12]
[13]
[14]
[15]
[16]
[17]
[18]
[19]
[20]
[21]
[22]
[23]
[24]

{"sheet":"FINALE 2x3 JOUEURS","index":13,"n_rows":59,"n_cols":60,"rows_kept":59,"cut":false,"hidden":true,"merged":[[58,33,60,33],[58,34,60,34],[58,35,60,35],[58,36,60,36],[58,37,60,37],[58,38,60,38],[58,39,60,39],[58,40,60,40],[58,41,60,41],[49,40,51,40],[49,41,51,41],[49,42,51,42],[49,35,51,35],[49,36,51,36],[49,38,51,38],[49,37,51,37],[49,39,51,39],[58,42,60,42],[53,33,53,34],[53,35,53,36],[53,37,53,38],[53,39,53,40],[53,42,54,42],[55,33,57,33],[55,34,57,34],[55,35,57,35],[55,36,57,36],[55,37,57,37],[55,38,57,38],[55,39,57,39],[55,40,57,40],[55,41,57,41],[55,42,57,42],[42,10,42,19],[42,22,42,31],[43,22,45,23],[43,24,45,26],[43,27,45,29],[43,30,45,31],[46,22,48,23],[46,24,48,26],[46,30,48,31],[43,10,45,11],[43,12,45,14],[43,15,45,17],[46,10,48,11],[46,12,48,14],[49,10,51,11],[49,15,51,17],[43,18,45,19],[46,18,48,19],[49,18,51,19],[49,22,51,23],[49,27,51,29],[49,33,51,33],[49,34,51,34],[44,33,44,34],[49,30,51,31],[44,35,44,36],[44,37,44,38],[44,39,44,40],[44,42,45,42],[46,33,48,33],[46,34,48,34],[46,35,48,35],[46,36,48,36],[46,37,48,37],[46,38,48,38],[46,39,48,39],[46,40,48,40],[46,41,48,41],[46,42,48,42],[8,3,9,7],[9,10,10,21],[2,3,3,4],[4,3,4,4],[4,7,6,7],[5,3,6,3],[5,4,6,4],[6,9,6,11],[6,13,6,14],[6,16,6,17],[6,21,6,22],[6,19,6,20],[1,0,3,1],[13,41,13,42],[7,9,7,11],[7,13,7,14],[7,16,7,17],[7,21,7,22],[7,19,7,20],[15,43,17,43],[1,9,4,26],[12,18,14,20],[12,21,23,21],[18,15,20,17],[21,18,23,20],[21,25,23,25],[21,42,23,42],[21,43,23,43],[15,39,17,39],[18,0,20,0],[18,1,19,1],[18,3,19,3],[18,6,19,6],[18,10,20,11],[15,34,17,34],[15,35,17,35],[13,44,14,44],[15,0,17,0],[15,1,16,1],[15,3,16,3],[15,6,16,6],[15,10,17,11],[15,12,17,14],[15,25,17,25],[15,33,17,33],[12,22,14,24],[12,25,14,25],[13,33,13,34],[13,35,13,36],[13,37,13,38],[13,39,13,40],[11,0,12,7],[12,10,14,11],[12,12,14,14],[12,15,14,17],[15,40,17,40],[15,41,17,41],[15,42,17,42],[15,44,17,44],[15,38,17,38],[15,36,17,36],[15,37,17,37],[18,44,20,44],[18,38,20,38],[18,39,20,39],[18,40,20,40],[18,41,20,41],[18,42,20,42],[18,43,20,43],[21,44,23,44],[27,0,28,7],[28,10,30,11],[28,12,30,14],[28,15,30,17],[28,18,30,20],[28,21,39,21],[21,35,23,35],[21,36,23,36],[21,37,23,37],[21,38,23,38],[21,39,23,39],[21,40,23,40],[29,41,29,42],[29,44,30,44],[31,0,33,0],[31,1,32,1],[21,0,23,0],[21,1,22,1],[21,3,22,3],[21,6,22,6],[21,10,23,11],[28,22,30,24],[28,25,30,25],[29,33,29,34],[18,34,20,34],[18,35,20,35],[18,36,20,36],[18,37,20,37],[21,41,23,41],[29,35,29,36],[29,37,29,38],[29,39,29,40],[21,33,23,33],[21,34,23,34],[31,42,33,42],[31,43,33,43],[31,44,33,44],[34,0,36,0],[34,1,35,1],[34,3,35,3],[34,6,35,6],[34,10,36,11],[31,34,33,34],[31,35,33,35],[31,36,33,36],[31,37,33,37],[31,38,33,38],[31,39,33,39],[31,3,32,3],[31,6,32,6],[31,10,33,11],[31,12,33,14],[31,25,33,25],[31,33,33,33],[31,40,33,40],[31,41,33,41],[37,0,39,0],[37,1,38,1],[37,3,38,3],[37,6,38,6],[37,10,39,11],[37,18,39,20],[37,25,39,25],[37,33,39,33],[34,37,36,37],[34,15,36,17],[34,25,36,25],[34,33,36,33],[34,34,36,34],[34,35,36,35],[34,36,36,36],[11,10,11,11],[54,10,54,11],[49,6,50,6],[37,40,39,40],[37,41,39,41],[37,42,39,42],[37,43,39,43],[37,44,39,44],[44,6,45,6],[37,34,39,34],[37,35,39,35],[37,36,39,36],[37,37,39,37],[37,38,39,38],[37,39,39,39],[34,43,36,43],[34,44,36,44],[34,38,36,38],[34,39,36,39],[34,40,36,40],[34,41,36,41],[34,42,36,42],[18,25,20,25],[18,33,20,33],[54,15,54,16],[55,10,56,11],[57,10,58,11],[55,12,56,12],[57,12,58,12],[55,13,58,13],[55,14,56,14],[57,14,58,14],[55,15,56,16],[57,15,58,16]]}
[]
["Liste des joueurs convoqués \npour la finale de la Ligue LMB.",null,null,null,null,null,null,null,null,"LIGUE MÉDITÉRRANÉE DE BILLARD"]
[null,null,null,"CLUB"]
[]
[1,{"$f":"'SaisieJoueurs Finale'!K18","v":0},null,"19009 – CLUB BILLARD ISTREEN",null,null,null,null,null,null,null,null,null,null,null,null,null,null,null,null,null,null,null,null,null,null,null,null,null,null,null,null,null,null,null,null,null,null,null,null,null,null,null,null,null,null,null,null,null,null,null,null,null,null,null,null,null,"POULE A",null,"POULE B"]
[2,{"$f":"'SaisieJoueurs Finale'!K19","v":0},null,"DIRECTEUR DE JEU","ghd",null,null,null,null,null,null,null,null,null,null,null,null,null,null,null,null,null,null,null,null,null,null,null,null,null,null,null,null,null,null,null,null,null,null,null,null,null,null,null,null,null,null,null,null,null,null,null,null,null,null,null,null,{"$f":"B16","v":0},null,{"$f":"B32","v":0}]
[3,{"$f":"'SaisieJoueurs Finale'!K20","v":0},null,null,null,null,null,null,null,"Compétition",null,null,null,"Mode de jeu",null,null,"CADRE",null,null,"Distance",null,null,null,null,null,null,null,null,null,null,null,null,null,null,null,null,null,null,null,null,null,null,null,null,null,null,null,null,null,null,null,null,null,null,null,null,null,{"$f":"B19","v":0},null,{"$f":"B35","v":0}]
[4,{"$f":"'SaisieJoueurs Finale'!K21","v":0},null,null,null,null,null,null,null,"FINALE CDB13",null,null,null,"LIBRE",null,null,"R4",null,null,50,null,null,null,null,null,null,null,null,null,null,null,null,null,null,null,null,null,null,null,null,null,null,null,null,null,null,null,null,null,null,null,null,null,null,null,null,null,{"$f":"B22","v":0},null,{"$f":"B38","v":0}]
[5,{"$f":"'SaisieJoueurs Finale'!K22","v":0},null,"SAISIE DES RESULTATS"]
[6,{"$f":"'SaisieJoueurs Finale'!K23","v":0},null,null,null,null,null,null,null,null,"6 JOUEURS SUR 2 BILLARDS"]
[]
["POULE A"]
[null,null,null,null,null,null,null,null,null,null,null,null,{"$f":"'SaisieJoueurs Finale'!D18","v":0},null,null,{"$f":"'SaisieJoueurs Finale'!D21","v":0},null,null,{"$f":"'SaisieJoueurs Finale'!D22","v":0},null,null,null,"TOTAUX",null,null,"CLASSEMENT"]
[null,null,null,null,null,null,null,null,null,null,null,null,null,null,null,null,null,null,null,null,null,null,null,null,null,null,null,null,null,null,null,null,null,"Classement",null,"Classement",null,"Classement",null,"Classement",null,"Classement",null,"GENERAL","RANG"]
[null,null,null,null,null,"Pts","Rep","Série",null,null,null,null,null,null,null,null,null,null,null,null,null,null,null,null,null,null,null,null,null,null,null,null,null,"PM","CLS-M","Moy-Gen","CLS-G","Moy-Part","CLS-P","M-Series","CLS-S","MGPS","CLS","CLS"]
[1,{"$f":"'SaisieJoueurs Finale'!D18","v":0},null,"Tour 1",{"$f":"B19","v":0},null,null,null,null,null,{"$f":"'SaisieJoueurs Finale'!D18","v":0},null,"L",null,null,{"$f":"F22","v":0},null,{"$f":"G22","v":0},{"$f":"F19","v":0},null,{"$f":"G19","v":0},null,{"$f":"P16+S16","v":0},null,{"$f":"R16+U16","v":0},{"$f":"AS16","v":{"$error":"#DIV/0!"}},null,null,null,null,null,null,null,{"$f":"X17","v":0.02},{"$f":"RANK(AH16,AH$16:AH$24,0)","v":1},{"$f":"Y18","v":{"$error":"#DIV/0!"}},{"$f":"RANK(AJ16,AJ$16:AJ$24,0)","v":{"$error":"#DIV/0!"}},{"$f":"MAX(R18,U18,)","v":{"$error":"#DIV/0!"}},{"$f":"RANK(AL16,AL$16:AL$24)","v":{"$error":"#DIV/0!"}},{"$f":"W18","v":0},{"$f":"RANK(AN16,AN$16:AN$24)","v":1},{"$f":"(AI16*1000)+(AK16*100)+(AM16*10)+(AO16*1)","v":{"$error":"#DIV/0!"}},{"$f":"AP16","v":{"$error":"#DIV/0!"}},{"$f":"RANK(AQ16,AQ$16:AQ$24,1)","v":{"$error":"#DIV/0!"}},{"$f":"RANK(AR16,AR$16:AR$24,1)","v":{"$error":"#DIV/0!"}}]
[null,null,null,null,{"$f":"B22","v":0},null,null,null,null,null,null,null,null,null,null,null,{"$f":"IF(R16<1,0.01,IF(P16>M19,2,IF(P16=M19,1,0)))","v":0.01},null,null,{"$f":"IF(U16<1,0.01,IF(S16>M22,2,IF(S16=M22,1,0)))","v":0.01},null,null,null,{"$f":"Q17+T17","v":0.02}]
[null,{"$f":"'SaisieJoueurs Finale'!G18","v":0},null,null,null,null,null,null,null,null,null,null,null,null,null,{"$f":"H22","v":0},null,{"$f":"P16/R16","v":{"$error":"#DIV/0!"}},{"$f":"H19","v":0},null,{"$f":"S16/U16","v":{"$error":"#DIV/0!"}},null,{"$f":"MAX(P18,S18,)","v":0},null,{"$f":"W16/Y16","v":{"$error":"#DIV/0!"}}]
[4,{"$f":"'SaisieJoueurs Finale'!D21","v":0},null,"Tour 2",{"$f":"B16","v":0},null,null,null,null,null,{"$f":"'SaisieJoueurs Finale'!D21","v":0},null,{"$f":"F23","v":0},null,{"$f":"G22","v":0},"M",null,null,{"$f":"F16","v":0},null,{"$f":"G16","v":0},null,{"$f":"M19+S19","v":0},null,{"$f":"O19+U19","v":0},{"$f":"AS19","v":{"$error":"#DIV/0!"}},null,null,null,null,null,null,null,{"$f":"X20","v":0.02},{"$f":"RANK(AH19,AH$16:AH$24,0)","v":1},{"$f":"Y21","v":{"$error":"#DIV/0!"}},{"$f":"RANK(AJ19,AJ$16:AJ$24,0)","v":{"$error":"#DIV/0!"}},{"$f":"MAX(R21,U21,)","v":{"$error":"#DIV/0!"}},{"$f":"RANK(AL19,AL$16:AL$24)","v":{"$error":"#DIV/0!"}},{"$f":"W21","v":0},{"$f":"RANK(AN19,AN$16:AN$24)","v":1},{"$f":"(AI19*1000)+(AK19*100)+(AM19*10)+(AO19*1)","v":{"$error":"#DIV/0!"}},{"$f":"AP19","v":{"$error":"#DIV/0!"}},{"$f":"RANK(AQ19,AQ$16:AQ$24,1)","v":{"$error":"#DIV/0!"}},{"$f":"RANK(AR19,AR$16:AR$24,1)","v":{"$error":"#DIV/0!"}}]
[null,null,null,null,{"$f":"B22","v":0},null,null,null,null,null,null,null,null,{"$f":"IF(R16>0,2-Q17,0.01)","v":0.01},null,null,null,null,null,{"$f":"IF(U19<1,0.01,IF(S19>P22,2,IF(S19=P22,1,0)))","v":0.01},null,null,null,{"$f":"N20+T20","v":0.02}]
[null,{"$f":"'SaisieJoueurs Finale'!G21","v":0},null,null,null,null,null,null,null,null,null,null,{"$f":"H23","v":0},null,{"$f":"M19/O19","v":{"$error":"#DIV/0!"}},null,null,null,{"$f":"H16","v":0},null,{"$f":"S19/U19","v":{"$error":"#DIV/0!"}},null,{"$f":"MAXA(M21,S21,)","v":0},null,{"$f":"W19/Y19","v":{"$error":"#DIV/0!"}}]
[5,{"$f":"'SaisieJoueurs Finale'!D22","v":0},null,"Tour 3",{"$f":"B16","v":0},null,null,null,null,null,{"$f":"'SaisieJoueurs Finale'!D22","v":0},null,{"$f":"F20","v":0},null,{"$f":"G19","v":0},{"$f":"F17","v":0},null,{"$f":"G16","v":0},"B",null,null,null,{"$f":"M22+P22","v":0},null,{"$f":"O22+R22","v":0},{"$f":"AS22","v":{"$error":"#DIV/0!"}},null,null,null,null,null,null,null,{"$f":"X23","v":0.02},{"$f":"RANK(AH22,AH$16:AH$24,0)","v":1},{"$f":"Y24","v":{"$error":"#DIV/0!"}},{"$f":"RANK(AJ22,AJ$16:AJ$24,0)","v":{"$error":"#DIV/0!"}},{"$f":"MAX(R24,U24,)","v":{"$error":"#DIV/0!"}},{"$f":"RANK(AL22,AL$16:AL$24)","v":{"$error":"#DIV/0!"}},{"$f":"W24","v":0},{"$f":"RANK(AN22,AN$16:AN$24)","v":1},{"$f":"(AI22*1000)+(AK22*100)+(AM22*10)+(AO22*1)","v":{"$error":"#DIV/0!"}},{"$f":"AP22","v":{"$error":"#DIV/0!"}},{"$f":"RANK(AQ22,AQ$16:AQ$24,1)","v":{"$error":"#DIV/0!"}},{"$f":"RANK(AR22,AR$16:AR$24,1)","v":{"$error":"#DIV/0!"}}]
[null,null,null,null,{"$f":"B19","v":0},null,null,null,null,null,null,null,null,{"$f":"IF(U16>0,2-T17,0.01)","v":0.01},null,null,{"$f":"IF(U19>0,2-T20,0.01)","v":0.01},null,null,null,null,null,null,{"$f":"N23+Q23","v":0.02}]
[null,{"$f":"'SaisieJoueurs Finale'!G22","v":0},null,null,null,null,null,null,null,null,null,null,{"$f":"H20","v":0},null,{"$f":"M22/O22","v":{"$error":"#DIV/0!"}},{"$f":"H17","v":0},null,{"$f":"P22/R22","v":{"$error":"#DIV/0!"}},null,null,null,null,{"$f":"MAXA(M24,P24,)","v":0},null,{"$f":"W22/Y22","v":{"$error":"#DIV/0!"}}]
[]
[]
[]
["POULE B"]
[null,null,null,null,null,null,null,null,null,null,null,null,{"$f":"B32","v":0},null,null,{"$f":"B35","v":0},null,null,{"$f":"B38","v":0},null,null,null,"TOTAUX",null,null,"CLASSEMENT"]
[null,null,null,null,null,null,null,null,null,null,null,null,null,null,null,null,null,null,null,null,null,null,null,null,null,null,null,null,null,null,null,null,null,"Classement",null,"Classement",null,"Classement",null,"Classement",null,"Classement",null,"GENERAL","RANG"]
[null,null,null,null,null,"Pts","Rep","Série",null,null,null,null,null,null,null,null,null,null,null,null,null,null,null,null,null,null,null,null,null,null,null,null,null,"PM","CLS-M","Moy-Gen","CLS-G","Moy-Part","CLS-P","M-Series","CLS-S","MGPS","CLS","CLS"]
[2,{"$f":"'SaisieJoueurs Finale'!D19","v":0},null,"Tour 1",{"$f":"B35","v":0},null,null,null,null,null,{"$f":"'SaisieJoueurs Finale'!D19","v":0},null,"L",null,null,{"$f":"F38","v":0},null,{"$f":"G38","v":0},{"$f":"F35","v":0},null,{"$f":"G35","v":0},null,{"$f":"P32+S32","v":0},null,{"$f":"R32+U32","v":0},{"$f":"AS32","v":{"$error":"#DIV/0!"}},null,null,null,null,null,null,null,{"$f":"X33","v":0.02},{"$f":"RANK(AH32,AH$32:AH$40,0)","v":1},{"$f":"Y34","v":{"$error":"#DIV/0!"}},{"$f":"RANK(AJ32,AJ$32:AJ$40,0)","v":{"$error":"#DIV/0!"}},{"$f":"MAX(R34,U34,)","v":{"$error":"#DIV/0!"}},{"$f":"RANK(AL32,AL$32:AL$40)","v":{"$error":"#DIV/0!"}},{"$f":"W34","v":0},{"$f":"RANK(AN32,AN$32:AN$40)","v":1},{"$f":"(AI32*1000)+(AK32*100)+(AM32*10)+(AO32*1)","v":{"$error":"#DIV/0!"}},{"$f":"AP32","v":{"$error":"#DIV/0!"}},{"$f":"RANK(AQ32,AQ$32:AQ$40,1)","v":{"$error":"#DIV/0!"}},{"$f":"RANK(AR32,AR$32:AR$40,1)","v":{"$error":"#DIV/0!"}}]
[null,null,null,null,{"$f":"B38","v":0},null,null,null,null,null,null,null,null,null,null,null,{"$f":"IF(R32<1,0.01,IF(P32>M35,2,IF(P32=M35,1,0)))","v":0.01},null,null,{"$f":"IF(U32<1,0.01,IF(S32>M38,2,IF(S32=M38,1,0)))","v":0.01},null,null,null,{"$f":"Q33+T33","v":0.02}]
[null,{"$f":"'SaisieJoueurs Finale'!G19","v":0},null,null,null,null,null,null,null,null,null,null,null,null,null,{"$f":"H38","v":0},null,{"$f":"P32/R32","v":{"$error":"#DIV/0!"}},{"$f":"H35","v":0},null,{"$f":"S32/U32","v":{"$error":"#DIV/0!"}},null,{"$f":"MAX(P34,S34,)","v":0},null,{"$f":"W32/Y32","v":{"$error":"#DIV/0!"}}]
[3,{"$f":"'SaisieJoueurs Finale'!D20","v":0},null,"Tour 2",{"$f":"B32","v":0},null,null,null,null,null,{"$f":"'SaisieJoueurs Finale'!D20","v":0},null,{"$f":"F39","v":0},null,{"$f":"G38","v":0},"M",null,null,{"$f":"F32","v":0},null,{"$f":"G32","v":0},null,{"$f":"M35+S35","v":0},null,{"$f":"O35+U35","v":0},{"$f":"AS35","v":{"$error":"#DIV/0!"}},null,null,null,null,null,null,null,{"$f":"X36","v":0.02},{"$f":"RANK(AH35,AH$32:AH$40,0)","v":1},{"$f":"Y37","v":{"$error":"#DIV/0!"}},{"$f":"RANK(AJ35,AJ$32:AJ$40,0)","v":{"$error":"#DIV/0!"}},{"$f":"MAX(R37,U37,)","v":{"$error":"#DIV/0!"}},{"$f":"RANK(AL35,AL$32:AL$40)","v":{"$error":"#DIV/0!"}},{"$f":"W37","v":0},{"$f":"RANK(AN35,AN$32:AN$40)","v":1},{"$f":"(AI35*1000)+(AK35*100)+(AM35*10)+(AO35*1)","v":{"$error":"#DIV/0!"}},{"$f":"AP35","v":{"$error":"#DIV/0!"}},{"$f":"RANK(AQ35,AQ$32:AQ$40,1)","v":{"$error":"#DIV/0!"}},{"$f":"RANK(AR35,AR$32:AR$40,1)","v":{"$error":"#DIV/0!"}}]
[null,null,null,null,{"$f":"B38","v":0},null,null,null,null,null,null,null,null,{"$f":"IF(R32>0,2-Q33,0.01)","v":0.01},null,null,null,null,null,{"$f":"IF(U35<1,0.01,IF(S35>P38,2,IF(S35=P38,1,0)))","v":0.01},null,null,null,{"$f":"N36+T36","v":0.02}]
[null,{"$f":"'SaisieJoueurs Finale'!G20","v":0},null,null,null,null,null,null,null,null,null,null,{"$f":"H39","v":0},null,{"$f":"M35/O35","v":{"$error":"#DIV/0!"}},null,null,null,{"$f":"H32","v":0},null,{"$f":"S35/U35","v":{"$error":"#DIV/0!"}},null,{"$f":"MAXA(M37,S37,)","v":0},null,{"$f":"W35/Y35","v":{"$error":"#DIV/0!"}}]
[6,{"$f":"'SaisieJoueurs Finale'!D23","v":0},null,"Tour 3",{"$f":"B32","v":0},null,null,null,null,null,{"$f":"'SaisieJoueurs Finale'!D23","v":0},null,{"$f":"F36","v":0},null,{"$f":"G35","v":0},{"$f":"F33","v":0},null,{"$f":"G32","v":0},"B",null,null,null,{"$f":"M38+P38","v":0},null,{"$f":"O38+R38","v":0},{"$f":"AS38","v":{"$error":"#DIV/0!"}},null,null,null,null,null,null,null,{"$f":"X39","v":0.02},{"$f":"RANK(AH38,AH$32:AH$40,0)","v":1},{"$f":"Y40","v":{"$error":"#DIV/0!"}},{"$f":"RANK(AJ38,AJ$32:AJ$40,0)","v":{"$error":"#DIV/0!"}},{"$f":"MAX(R40,U40,)","v":{"$error":"#DIV/0!"}},{"$f":"RANK(AL38,AL$32:AL$40)","v":{"$error":"#DIV/0!"}},{"$f":"W40","v":0},{"$f":"RANK(AN38,AN$32:AN$40)","v":1},{"$f":"(AI38*1000)+(AK38*100)+(AM38*10)+(AO38*1)","v":{"$error":"#DIV/0!"}},{"$f":"AP38","v":{"$error":"#DIV/0!"}},{"$f":"RANK(AQ38,AQ$32:AQ$40,1)","v":{"$error":"#DIV/0!"}},{"$f":"RANK(AR38,AR$32:AR$40,1)","v":{"$error":"#DIV/0!"}}]
[null,null,null,null,{"$f":"B35","v":0},null,null,null,null,null,null,null,null,{"$f":"IF(U32>0,2-T33,0.01)","v":0.01},null,null,{"$f":"IF(U35>0,2-T36,0.01)","v":0.01},null,null,null,null,null,null,{"$f":"N39+Q39","v":0.02}]
[null,{"$f":"'SaisieJoueurs Finale'!G23","v":0},null,null,null,null,null,null,null,null,null,null,{"$f":"H36","v":0},null,{"$f":"M38/O38","v":{"$error":"#DIV/0!"}},{"$f":"H33","v":0},null,{"$f":"P38/R38","v":{"$error":"#DIV/0!"}},null,null,null,null,{"$f":"MAXA(M40,P40,)","v":0},null,{"$f":"W38/Y38","v":{"$error":"#DIV/0!"}}]
[]
[]
[null,null,null,null,null,null,null,null,null,null,"Demi-finale 1",null,null,null,null,null,null,null,null,null,null,null,"Demi-finale 2"]
[null,null,null,null,"DEMI FINALE 1","Pts","Rep","Série",null,null,null,null,{"$f":"E45","v":{"$error":"#DIV/0!"}},null,null,{"$f":"E46","v":{"$error":"#DIV/0!"}},null,null,"CLASSEMENT",null,null,null,null,null,{"$f":"E50","v":{"$error":"#DIV/0!"}},null,null,{"$f":"E51","v":{"$error":"#DIV/0!"}},null,null,"CLASSEMENT"]
[null,null,null,"1er POULE - A",{"$f":"IF(Z16=1,K16,IF(Z19=1,K19,IF(Z22=1,K22,\"\")))","v":{"$error":"#DIV/0!"}},null,null,null,null,null,null,null,null,null,null,null,null,null,null,null,null,null,null,null,null,null,null,null,null,null,null,null,null,"Classement",null,"Classement",null,"Classement",null,"Classement",null,"GENERAL","RANG"]
[null,null,null,"2e POULE - B",{"$f":"IF(Z32=2,K32,IF(Z35=2,K35,IF(Z38=2,K38,\"\")))","v":{"$error":"#DIV/0!"}},null,null,null,null,null,null,null,null,null,null,null,null,null,null,null,null,null,null,null,null,null,null,null,null,null,null,null,null,"Point-Match","CLS-M","Moy-Gen","CLS-G","M-Series","CLS-S","MGPS","CLS","CLS"]
[null,null,null,null,null,null,null,null,null,null,{"$f":"E45","v":{"$error":"#DIV/0!"}},null,"L",null,null,{"$f":"F45","v":0},null,{"$f":"G45","v":0},{"$f":"AQ47","v":{"$error":"#DIV/0!"}},null,null,null,{"$f":"E50","v":{"$error":"#DIV/0!"}},null,"L",null,null,{"$f":"F50","v":0},null,{"$f":"G50","v":0},{"$f":"AQ56","v":{"$error":"#DIV/0!"}},null,null,{"$f":"Q48","v":0.01},{"$f":"RANK(AH47,AH$47:AH$52,0)","v":1},{"$f":"R49","v":{"$error":"#DIV/0!"}},{"$f":"RANK(AJ47,AJ$47:AJ$52,0)","v":{"$error":"#DIV/0!"}},{"$f":"P49","v":0},{"$f":"RANK(AL47,AL$47:AL$52)","v":1},{"$f":"(AI47*1000)+(AK47*100)+(AM47*10)","v":{"$error":"#DIV/0!"}},{"$f":"RANK(AN47,AN$47:AN$52)","v":{"$error":"#DIV/0!"}},{"$f":"AN47","v":{"$error":"#DIV/0!"}},{"$f":"RANK(AP47,AP$47:AP$52,1)","v":{"$error":"#DIV/0!"}}]
[null,null,null,null,null,null,null,null,null,null,null,null,null,null,null,null,{"$f":"IF(R47<1,0.01,IF(P47>M50,2,IF(P47=M50,1,0)))","v":0.01},null,null,null,null,null,null,null,null,null,null,null,{"$f":"IF(AD47<1,0.01,IF(AB47>Y50,2,IF(AB47=Y50,1,0)))","v":0.01}]
[null,null,null,null,"DEMI FINALE 2","Pts","Rep","Série",null,null,null,null,null,null,null,{"$f":"H45","v":0},null,{"$f":"P47/R47","v":{"$error":"#DIV/0!"}},null,null,null,null,null,null,null,null,null,{"$f":"H50","v":0},null,{"$f":"AB47/AD47","v":{"$error":"#DIV/0!"}}]
[null,null,null,"1er POULE - B",{"$f":"IF(Z32=1,K32,IF(Z35=1,K35,IF(Z38=1,K38,\"\")))","v":{"$error":"#DIV/0!"}},null,null,null,null,null,{"$f":"E46","v":{"$error":"#DIV/0!"}},null,{"$f":"F46","v":0},null,{"$f":"G45","v":0},"M",null,null,{"$f":"AQ50","v":{"$error":"#DIV/0!"}},null,null,null,{"$f":"E51","v":{"$error":"#DIV/0!"}},null,{"$f":"F51","v":0},null,{"$f":"G50","v":0},"M",null,null,{"$f":"AQ59","v":{"$error":"#DIV/0!"}},null,null,{"$f":"N51","v":0.01},{"$f":"RANK(AH50,AH$47:AH$52,0)","v":1},{"$f":"O52","v":{"$error":"#DIV/0!"}},{"$f":"RANK(AJ50,AJ$47:AJ$52,0)","v":{"$error":"#DIV/0!"}},{"$f":"M52","v":0},{"$f":"RANK(AL50,AL$47:AL$52)","v":1},{"$f":"(AI50*1000)+(AK50*100)+(AM50*10)","v":{"$error":"#DIV/0!"}},{"$f":"RANK(AN50,AN$47:AN$52)","v":{"$error":"#DIV/0!"}},{"$f":"AN50","v":{"$error":"#DIV/0!"}},{"$f":"RANK(AP50,AP$47:AP$52,1)","v":{"$error":"#DIV/0!"}}]
[null,null,null,"2e POULE - A",{"$f":"IF(Z16=2,K16,IF(Z19=2,K19,IF(Z22=2,K22,\"\")))","v":{"$error":"#DIV/0!"}},null,null,null,null,null,null,null,null,{"$f":"IF(R47>0,2-Q48,0.01)","v":0.01},null,null,null,null,null,null,null,null,null,null,null,{"$f":"IF(AD47>0,2-AC48,0.01)","v":0.01}]
[null,null,null,null,null,null,null,null,null,null,null,null,{"$f":"H46","v":0},null,{"$f":"M50/O50","v":{"$error":"#DIV/0!"}},null,null,null,null,null,null,null,null,null,{"$f":"H51","v":0},null,{"$f":"Y50/AA50","v":{"$error":"#DIV/0!"}}]
[null,"© - A.FERHAT"]
[null,null,null,null,null,null,null,null,null,null,null,null,null,null,null,null,null,null,null,null,null,null,null,null,null,null,null,null,null,null,null,null,null,"Classement",null,"Classement",null,"Classement",null,"Classement",null,"GENERAL","RANG"]
[null,null,null,null,null,null,null,null,null,null,"FINALE ",null,"Pts","Rep","Série","CLASSEMENT",null,null,null,null,null,null,null,null,null,null,null,null,null,null,null,null,null,"Point-Match","CLS-M","Moy-Gen","CLS-G","M-Series","CLS-S","MGPS","CLS","CLS"]
[null,null,null,null,null,null,null,null,null,null,{"$f":"IF(S47=1,K47,IF(S50=1,K50,))","v":{"$error":"#DIV/0!"}},null,null,null,null,{"$f":"IF(M56<>\"\",IF(M56>M58,1,2),\"\")","v":""},null,null,null,null,null,null,null,null,null,null,null,null,null,null,null,null,null,{"$f":"AC48","v":0.01},{"$f":"RANK(AH56,AH$56:AH$61,0)","v":1},{"$f":"AD49","v":{"$error":"#DIV/0!"}},{"$f":"RANK(AJ56,AJ$56:AJ$61,0)","v":{"$error":"#DIV/0!"}},{"$f":"AB49","v":0},{"$f":"RANK(AL56,AL$56:AL$61)","v":1},{"$f":"(AI56*1000)+(AK56*100)+(AM56*10)","v":{"$error":"#DIV/0!"}},{"$f":"RANK(AN56,AN$56:AN$61)","v":{"$error":"#DIV/0!"}},{"$f":"AN56","v":{"$error":"#DIV/0!"}},{"$f":"RANK(AP56,AP$56:AP$61,1)","v":{"$error":"#DIV/0!"}}]
[]
[null,null,null,null,null,null,null,null,null,null,{"$f":"IF(AE47=1,W47,IF(AE50=1,W50,))","v":{"$error":"#DIV/0!"}},null,null,null,null,{"$f":"IF(M58<>\"\",IF(M58>M56,1,2),\"\")","v":""}]
[null,null,null,null,null,null,null,null,null,null,null,null,null,null,null,null,null,null,null,null,null,null,null,null,null,null,null,null,null,null,null,null,null,{"$f":"Z51","v":0.01},{"$f":"RANK(AH59,AH$56:AH$61,0)","v":1},{"$f":"O52","v":{"$error":"#DIV/0!"}},{"$f":"RANK(AJ59,AJ$56:AJ$61,0)","v":{"$error":"#DIV/0!"}},{"$f":"M52","v":0},{"$f":"RANK(AL59,AL$56:AL$61)","v":1},{"$f":"(AI59*1000)+(AK59*100)+(AM59*10)","v":{"$error":"#DIV/0!"}},{"$f":"RANK(AN59,AN$56:AN$61)","v":{"$error":"#DIV/0!"}},{"$f":"AN59","v":{"$error":"#DIV/0!"}},{"$f":"RANK(AP59,AP$56:AP$61,1)","v":{"$error":"#DIV/0!"}}]

{"sheet":"FINALE 6 JOUEURS","index":14,"n_rows":39,"n_cols":61,"rows_kept":39,"cut":false,"hidden":true,"merged":[[5,21,5,22],[6,2,6,3],[6,12,6,14],[6,18,6,19],[6,21,6,22],[6,25,6,26],[1,1,3,3],[1,12,3,22],[2,5,3,10],[4,2,4,3],[4,5,4,10],[5,2,5,3],[5,5,6,7],[5,8,6,10],[5,12,5,14],[5,18,5,19],[9,2,9,3],[7,37,9,39],[7,40,9,42],[7,44,9,46],[7,47,9,47],[8,2,8,3],[8,5,9,14],[7,2,7,3],[7,23,9,24],[7,25,9,27],[7,28,9,30],[7,31,9,33],[7,34,9,36],[10,50,12,50],[10,51,12,51],[13,58,15,58],[13,59,15,59],[13,60,15,60],[13,49,15,49],[8,49,8,50],[8,51,8,52],[8,53,8,54],[8,55,8,56],[8,57,8,58],[13,55,15,55],[13,56,15,56],[13,57,15,57],[13,50,15,50],[13,51,15,51],[13,52,15,52],[13,53,15,53],[13,54,15,54],[14,2,15,2],[14,5,15,5],[14,8,15,8],[14,11,15,11],[14,14,15,14],[14,15,14,16],[10,58,12,58],[10,59,12,59],[10,60,12,60],[11,2,11,19],[13,2,13,3],[13,8,13,9],[13,23,15,24],[10,25,12,27],[13,47,15,47],[10,52,12,52],[10,53,12,53],[10,54,12,54],[10,55,12,55],[10,56,12,56],[10,57,12,57],[10,23,12,24],[10,47,12,47],[10,49,12,49],[14,18,15,18],[15,15,15,16],[16,23,18,24],[13,28,15,30],[16,47,18,47],[16,49,18,49],[17,15,17,16],[17,18,18,18],[18,15,18,16],[19,50,21,50],[19,51,21,51],[16,56,18,56],[16,57,18,57],[16,58,18,58],[16,59,18,59],[19,59,21,59],[16,60,18,60],[17,2,18,2],[17,5,18,5],[17,8,18,8],[17,11,18,11],[17,14,18,14],[16,50,18,50],[16,51,18,51],[16,52,18,52],[16,53,18,53],[16,54,18,54],[16,55,18,55],[16,31,18,33],[19,58,21,58],[25,50,27,50],[25,51,27,51],[22,57,24,57],[22,58,24,58],[27,15,27,16],[19,60,21,60],[20,2,21,2],[20,5,21,5],[20,8,21,8],[20,11,21,11],[20,14,21,14],[20,15,20,16],[20,18,21,18],[19,52,21,52],[19,53,21,53],[19,54,21,54],[19,55,21,55],[19,56,21,56],[19,57,21,57],[19,23,21,24],[21,15,21,16],[19,47,21,47],[19,49,21,49],[22,60,24,60],[23,2,24,2],[23,5,24,5],[23,8,24,8],[23,11,24,11],[23,14,24,14],[23,15,23,16],[22,51,24,51],[22,52,24,52],[22,53,24,53],[24,15,24,16],[22,54,24,54],[22,55,24,55],[22,56,24,56],[22,23,24,24],[22,37,24,39],[22,47,24,47],[22,49,24,49],[22,50,24,50],[23,18,24,18],[30,8,31,13],[13,14,13,16],[19,34,21,36],[25,58,27,58],[25,59,27,59],[25,60,27,60],[26,2,27,2],[26,5,27,5],[26,8,27,8],[26,11,27,11],[26,14,27,14],[26,15,26,16],[26,18,27,18],[25,52,27,52],[25,53,27,53],[25,54,27,54],[25,55,27,55],[25,56,27,56],[25,57,27,57],[25,23,27,24],[25,40,27,42],[25,47,27,47],[25,49,27,49],[22,59,24,59]]}
[]
[null,"Liste des joueurs qualifiés pour la finale",null,null,null,null,null,null,null,null,null,null,"LIGUE MÉDITÉRRANÉE DE BILLARD"]
[null,null,null,null,null,"CLUB"]
[]
[null,1,{"$f":"'SaisieJoueurs Finale'!K18","v":0},null,null,"19009 – CLUB BILLARD ISTREEN"]
[null,2,{"$f":"'SaisieJoueurs Finale'!K19","v":0},null,null,"DIRECTEUR DE JEU",null,null,"ghd",null,null,null,"Compétition",null,null,null,"Mode de jeu",null,"Catégorie",null,null,"Distance"]
[null,3,{"$f":"'SaisieJoueurs Finale'!K20","v":0},null,null,null,null,null,null,null,null,null,"FINALE CDB13",null,null,null,"LIBRE",null,"R4"]
[null,4,{"$f":"'SaisieJoueurs Finale'!K21","v":0},null,null,null,null,null,null,null,null,null,null,null,null,null,null,null,null,null,null,null,null,null,null,{"$f":"C5","v":0},null,null,{"$f":"C6","v":0},null,null,{"$f":"C7","v":0},null,null,{"$f":"C8","v":0},null,null,{"$f":"C9","v":0},null,null,{"$f":"C10","v":0},null,null,null,"TOTAUX",null,null,"CLASSEMENT"]
[null,5,{"$f":"'SaisieJoueurs Finale'!K22","v":0},null,null,"6 JOUEURS SUR 3 BILLARDS",null,null,null,null,null,null,null,null,null,null,null,null,null,null,null,null,null,null,null,null,null,null,null,null,null,null,null,null,null,null,null,null,null,null,null,null,null,null,null,null,null,null,null,"Classement",null,"Classement",null,"Classement",null,"Classement",null,"Classement",null,"GENERAL","RANG"]
[null,6,{"$f":"'SaisieJoueurs Finale'!K23","v":0},null,null,null,null,null,null,null,null,null,null,null,null,null,null,null,null,null,null,null,null,null,null,null,null,null,null,null,null,null,null,null,null,null,null,null,null,null,null,null,null,null,null,null,null,null,null,"Point-Match","CLS-M","Moy-Gen","CLS-G","Moy-Part","CLS-P","M-Series","CLS-S","MGPS","CLS","CLS"]
[null,null,null,null,null,null,null,null,null,null,null,null,null,null,null,null,null,null,null,null,null,null,null,{"$f":"C5","v":0},null,"L",null,null,{"$f":"E27","v":0},null,{"$f":"F27","v":0},{"$f":"K24","v":0},null,{"$f":"L24","v":0},{"$f":"K21","v":0},null,{"$f":"L21","v":0},{"$f":"E18","v":0},null,{"$f":"F18","v":0},{"$f":"R15","v":0},null,{"$f":"S15","v":0},null,{"$f":"AC11+AF11+AI11+AL11+AO11","v":0},null,{"$f":"AE11+AH11+AK11+AN11+AQ11","v":0},{"$f":"BI11","v":{"$error":"#DIV/0!"}},null,{"$f":"AT12","v":0.05},{"$f":"RANK(AX11,(AX$11:AX$28))","v":1},{"$f":"AU13","v":{"$error":"#DIV/0!"}},{"$f":"RANK(AZ11,(AZ$11:AZ$28))","v":{"$error":"#DIV/0!"}},{"$f":"MAX(AE13,AH13,AK13,AN13,AQ13)","v":{"$error":"#DIV/0!"}},{"$f":"RANK(BB11,(BB$11:BB$28))","v":{"$error":"#DIV/0!"}},{"$f":"AS13","v":0},{"$f":"RANK(BD11,(BD$11:BD$28))","v":1},{"$f":"AY11*1000+BA11*100+BC11*10+BE11","v":{"$error":"#DIV/0!"}},{"$f":"RANK(BF11,(BF$11:BF$28))","v":{"$error":"#DIV/0!"}},{"$f":"BF11","v":{"$error":"#DIV/0!"}},{"$f":"RANK(BH11,(BH$11:BH$28),1)","v":{"$error":"#DIV/0!"}}]
[null,null,"SAISIE DES RESULTATS",null,null,null,null,null,null,null,null,null,null,null,null,null,null,null,null,null,null,null,null,null,null,null,null,null,null,{"$f":"IF(AE11<1,0.01,IF(AC11>Z14,2,IF(AC11=Z14,1,0)))","v":0.01},null,null,{"$f":"IF(AH11<1,0.01,IF(AF11>Z17,2,IF(AF11=Z17,1,0)))","v":0.01},null,null,{"$f":"IF(AK11<1,0.01,IF(AI11>Z20,2,IF(AI11=Z20,1,0)))","v":0.01},null,null,{"$f":"IF(AN11<1,0.01,IF(AL11>Z23,2,IF(AL11=Z23,1,0)))","v":0.01},null,null,{"$f":"IF(AQ11<1,0.01,IF(AO11>Z26,2,IF(AO11=Z26,1,0)))","v":0.01},null,null,null,{"$f":"AD12+AG12+AJ12+AM12+AP12","v":0.05}]
[null,null,null,null,null,null,null,null,null,null,null,null,null,null,null,null,null,null,null,null,null,null,null,null,null,null,null,null,{"$f":"G27","v":0},null,{"$f":"AC11/AE11","v":{"$error":"#DIV/0!"}},{"$f":"M24","v":0},null,{"$f":"AF11/AH11","v":{"$error":"#DIV/0!"}},{"$f":"M21","v":0},null,{"$f":"AI11/AK11","v":{"$error":"#DIV/0!"}},{"$f":"G18","v":0},null,{"$f":"AL11/AN11","v":{"$error":"#DIV/0!"}},{"$f":"T15","v":0},null,{"$f":"AO11/AQ11","v":{"$error":"#DIV/0!"}},null,{"$f":"MAX(AC13,AF13,AI13,AL13,AO13)","v":0},null,{"$f":"AS11/AU11","v":{"$error":"#DIV/0!"}}]
[null,null,"BILLARD 1",null,"Pts","Rep","Série",null,"BILLARD 2",null,"Pts","Rep","Série",null,"BILLARD 3",null,null,"Pts","Rep","Série",null,null,null,{"$f":"C6","v":0},null,{"$f":"E28","v":0},null,{"$f":"F27","v":0},"M",null,null,{"$f":"K18","v":0},null,{"$f":"L18","v":0},{"$f":"E24","v":0},null,{"$f":"F24","v":0},{"$f":"K15","v":0},null,{"$f":"L15","v":0},{"$f":"R21","v":0},null,{"$f":"S21","v":0},null,{"$f":"Z14+AF14+AI14+AL14+AO14","v":0},null,{"$f":"AB14+AH14+AK14+AN14+AQ14","v":0},{"$f":"BI14","v":{"$error":"#DIV/0!"}},null,{"$f":"AT15","v":0.05},{"$f":"RANK(AX14,(AX$11:AX$28))","v":1},{"$f":"AU16","v":{"$error":"#DIV/0!"}},{"$f":"RANK(AZ14,(AZ$11:AZ$28))","v":{"$error":"#DIV/0!"}},{"$f":"MAX(AE16,AH16,AK16,AN16,AQ16)","v":{"$error":"#DIV/0!"}},{"$f":"RANK(BB14,(BB$11:BB$28))","v":{"$error":"#DIV/0!"}},{"$f":"AS16","v":0},{"$f":"RANK(BD14,(BD$11:BD$28))","v":1},{"$f":"AY14*1000+BA14*100+BC14*10+BE14","v":{"$error":"#DIV/0!"}},{"$f":"RANK(BF14,(BF$11:BF$28))","v":{"$error":"#DIV/0!"}},{"$f":"BF14","v":{"$error":"#DIV/0!"}},{"$f":"RANK(BH14,(BH$11:BH$28),1)","v":{"$error":"#DIV/0!"}}]
[null,null,"Tour 1",{"$f":"C7","v":0},null,null,null,null,"Tour 1",{"$f":"C6","v":0},null,null,null,null,"Tour 1",{"$f":"C5","v":0},null,null,null,null,null,null,null,null,null,null,{"$f":"IF(AB14<1,0.01,IF(Z14>AC11,2,IF(Z14=AC11,1,0)))","v":0.01},null,null,null,null,null,{"$f":"IF(AH14<1,0.01,IF(AF14>AC17,2,IF(AF14=AC17,1,0)))","v":0.01},null,null,{"$f":"IF(AK14<1,0.01,IF(AI14>AC20,2,IF(AI14=AC20,1,0)))","v":0.01},null,null,{"$f":"IF(AN14<1,0.01,IF(AL14>AC23,2,IF(AL14=AC23,1,0)))","v":0.01},null,null,{"$f":"IF(AQ14<1,0.01,IF(AO14>AC26,2,IF(AO14=AC26,1,0)))","v":0.01},null,null,null,{"$f":"AA15+AG15+AJ15+AM15+AP15","v":0.05}]
[null,null,null,{"$f":"C8","v":0},null,null,null,null,null,{"$f":"C9","v":0},null,null,null,null,null,{"$f":"C10","v":0},null,null,null,null,null,null,null,null,null,{"$f":"G28","v":0},null,{"$f":"Z14/AB14","v":{"$error":"#DIV/0!"}},null,null,null,{"$f":"G18","v":0},null,{"$f":"AF14/AH14","v":{"$error":"#DIV/0!"}},{"$f":"G24","v":0},null,{"$f":"AI14/AK14","v":{"$error":"#DIV/0!"}},{"$f":"M15","v":0},null,{"$f":"AL14/AN14","v":{"$error":"#DIV/0!"}},{"$f":"T21","v":0},null,{"$f":"AO14/AQ14","v":{"$error":"#DIV/0!"}},null,{"$f":"MAX(Z16,AF16,AI16,AL16,AO16)","v":0},null,{"$f":"AS14/AU14","v":{"$error":"#DIV/0!"}}]
[null,null,null,null,null,null,null,null,null,null,null,null,null,null,null,null,null,null,null,null,null,null,null,{"$f":"C7","v":0},null,{"$f":"K25","v":0},null,{"$f":"L24","v":0},{"$f":"K19","v":0},null,{"$f":"L18","v":0},"B",null,null,{"$f":"E15","v":0},null,{"$f":"F15","v":0},{"$f":"E21","v":0},null,{"$f":"F21","v":0},{"$f":"R27","v":0},null,{"$f":"S27","v":0},null,{"$f":"Z17+AC17+AI17+AL17+AO17","v":0},null,{"$f":"AB17+AE17+AK17+AN17+AQ17","v":0},{"$f":"BI17","v":{"$error":"#DIV/0!"}},null,{"$f":"AT18","v":0.05},{"$f":"RANK(AX17,(AX$11:AX$28))","v":1},{"$f":"AU19","v":{"$error":"#DIV/0!"}},{"$f":"RANK(AZ17,(AZ$11:AZ$28))","v":{"$error":"#DIV/0!"}},{"$f":"MAX(AE19,AH19,AK19,AN19,AQ19)","v":{"$error":"#DIV/0!"}},{"$f":"RANK(BB17,(BB$11:BB$28))","v":{"$error":"#DIV/0!"}},{"$f":"AS19","v":0},{"$f":"RANK(BD17,(BD$11:BD$28))","v":1},{"$f":"AY17*1000+BA17*100+BC17*10+BE17","v":{"$error":"#DIV/0!"}},{"$f":"RANK(BF17,(BF$11:BF$28))","v":{"$error":"#DIV/0!"}},{"$f":"BF17","v":{"$error":"#DIV/0!"}},{"$f":"RANK(BH17,(BH$11:BH$28),1)","v":{"$error":"#DIV/0!"}}]
[null,null,"Tour 2",{"$f":"C5","v":0},null,null,null,null,"Tour 2",{"$f":"C6","v":0},null,null,null,null,"Tour 2",{"$f":"C8","v":0},null,null,null,null,null,null,null,null,null,null,{"$f":"IF(AB17<1,0.01,IF(Z17>AF11,2,IF(Z17=AF11,1,0)))","v":0.01},null,null,{"$f":"IF(AE17<1,0.01,IF(AC17>AF14,2,IF(AC17=AF14,1,0)))","v":0.01},null,null,null,null,null,{"$f":"IF(AK17<1,0.01,IF(AI17>AF20,2,IF(AI17=AF20,1,0)))","v":0.01},null,null,{"$f":"IF(AN17<1,0.01,IF(AL17>AF23,2,IF(AL17=AF23,1,0)))","v":0.01},null,null,{"$f":"IF(AQ17<1,0.01,IF(AO17>AF26,2,IF(AO17=AF26,1,0)))","v":0.01},null,null,null,{"$f":"AA18+AD18+AJ18+AM18+AP18","v":0.05}]
[null,null,null,{"$f":"C9","v":0},null,null,null,null,null,{"$f":"C7","v":0},null,null,null,null,null,{"$f":"C10","v":0},null,null,null,null,null,null,null,null,null,{"$f":"M25","v":0},null,{"$f":"Z17/AB17","v":{"$error":"#DIV/0!"}},{"$f":"M19","v":0},null,{"$f":"AC17/AE17","v":{"$error":"#DIV/0!"}},null,null,null,{"$f":"G15","v":0},null,{"$f":"AI17/AK17","v":{"$error":"#DIV/0!"}},{"$f":"G21","v":0},null,{"$f":"AL17/AN17","v":{"$error":"#DIV/0!"}},{"$f":"T27","v":0},null,{"$f":"AO17/AQ17","v":{"$error":"#DIV/0!"}},null,{"$f":"MAX(Z19,AC19,AI19,AL19,AO19)","v":0},null,{"$f":"AS17/AU17","v":{"$error":"#DIV/0!"}}]
[null,null,null,null,null,null,null,null,null,null,null,null,null,null,null,null,null,null,null,null,null,null,null,{"$f":"C8","v":0},null,{"$f":"K22","v":0},null,{"$f":"L21","v":0},{"$f":"E25","v":0},null,{"$f":"F24","v":0},{"$f":"E16","v":0},null,{"$f":"F15","v":0},"L",null,null,{"$f":"K27","v":0},null,{"$f":"L27","v":0},{"$f":"R18","v":0},null,{"$f":"S18","v":0},null,{"$f":"Z20+AC20+AF20+AL20+AO20","v":0},null,{"$f":"AB20+AE20+AH20+AN20+AQ20","v":0},{"$f":"BI20","v":{"$error":"#DIV/0!"}},null,{"$f":"AT21","v":0.05},{"$f":"RANK(AX20,(AX$11:AX$28))","v":1},{"$f":"AU22","v":{"$error":"#DIV/0!"}},{"$f":"RANK(AZ20,(AZ$11:AZ$28))","v":{"$error":"#DIV/0!"}},{"$f":"MAX(AE22,AH22,AK22,AN22,AQ22)","v":{"$error":"#DIV/0!"}},{"$f":"RANK(BB20,(BB$11:BB$28))","v":{"$error":"#DIV/0!"}},{"$f":"AS22","v":0},{"$f":"RANK(BD20,(BD$11:BD$28))","v":1},{"$f":"AY20*1000+BA20*100+BC20*10+BE20","v":{"$error":"#DIV/0!"}},{"$f":"RANK(BF20,(BF$11:BF$28))","v":{"$error":"#DIV/0!"}},{"$f":"BF20","v":{"$error":"#DIV/0!"}},{"$f":"RANK(BH20,(BH$11:BH$28),1)","v":{"$error":"#DIV/0!"}}]
[null,null,"Tour 3",{"$f":"C7","v":0},null,null,null,null,"Tour 3",{"$f":"C5","v":0},null,null,null,null,"Tour 3",{"$f":"C6","v":0},null,null,null,null,null,null,null,null,null,null,{"$f":"IF(AK11>0,2-AJ12,0.01)","v":0.01},null,null,{"$f":"IF(AK14>0,2-AJ15,0.01)","v":0.01},null,null,{"$f":"IF(AH20<1,0.01,IF(AF20>AI17,2,IF(AF20=AI17,1,0)))","v":0.01},null,null,null,null,null,{"$f":"IF(AN20<1,0.01,IF(AL20>AI23,2,IF(AL20=AI23,1,0)))","v":0.01},null,null,{"$f":"IF(AQ20<1,0.01,IF(AO20>AI26,2,IF(AO20=AI26,1,0)))","v":0.01},null,null,null,{"$f":"AA21+AD21+AG21+AM21+AP21","v":0.05}]
[null,null,null,{"$f":"C9","v":0},null,null,null,null,null,{"$f":"C8","v":0},null,null,null,null,null,{"$f":"C10","v":0},null,null,null,null,null,null,null,null,null,{"$f":"M22","v":0},null,{"$f":"Z20/AB20","v":{"$error":"#DIV/0!"}},{"$f":"G25","v":0},null,{"$f":"AC20/AE20","v":{"$error":"#DIV/0!"}},{"$f":"G16","v":0},null,{"$f":"AF20/AH20","v":{"$error":"#DIV/0!"}},null,null,null,{"$f":"M27","v":0},null,{"$f":"AL20/AN20","v":{"$error":"#DIV/0!"}},{"$f":"T18","v":0},null,{"$f":"AO20/AQ20","v":{"$error":"#DIV/0!"}},null,{"$f":"MAX(Z22,AC22,AF22,AL22,AO22)","v":0},null,{"$f":"AS20/AU20","v":{"$error":"#DIV/0!"}}]
[null,null,null,null,null,null,null,null,null,null,null,null,null,null,null,null,null,null,null,null,null,null,null,{"$f":"C9","v":0},null,{"$f":"E19","v":0},null,{"$f":"F18","v":0},{"$f":"K16","v":0},null,{"$f":"L15","v":0},{"$f":"E22","v":0},null,{"$f":"F21","v":0},{"$f":"K28","v":0},null,{"$f":"L27","v":0},"M",null,null,{"$f":"R24","v":0},null,{"$f":"S24","v":0},null,{"$f":"Z23+AC23+AF23+AI23+AO23","v":0},null,{"$f":"AB23+AE23+AH23+AK23+AQ23","v":0},{"$f":"BI23","v":{"$error":"#DIV/0!"}},null,{"$f":"AT24","v":0.05},{"$f":"RANK(AX23,(AX$11:AX$28))","v":1},{"$f":"AU25","v":{"$error":"#DIV/0!"}},{"$f":"RANK(AZ23,(AZ$11:AZ$28))","v":{"$error":"#DIV/0!"}},{"$f":"MAX(AE25,AH25,AK25,AN25,AQ25)","v":{"$error":"#DIV/0!"}},{"$f":"RANK(BB23,(BB$11:BB$28))","v":{"$error":"#DIV/0!"}},{"$f":"AS25","v":0},{"$f":"RANK(BD23,(BD$11:BD$28))","v":1},{"$f":"AY23*1000+BA23*100+BC23*10+BE23","v":{"$error":"#DIV/0!"}},{"$f":"RANK(BF23,(BF$11:BF$28))","v":{"$error":"#DIV/0!"}},{"$f":"BF23","v":{"$error":"#DIV/0!"}},{"$f":"RANK(BH23,(BH$11:BH$28),1)","v":{"$error":"#DIV/0!"}}]
[null,null,"Tour 4",{"$f":"C6","v":0},null,null,null,null,"Tour 4",{"$f":"C5","v":0},null,null,null,null,"Tour 4",{"$f":"C9","v":0},null,null,null,null,null,null,null,null,null,null,{"$f":"IF(AN11>0,2-AM12,0.01)","v":0.01},null,null,{"$f":"IF(AN14>0,2-AM15,0.01)","v":0.01},null,null,{"$f":"IF(AN17>0,2-AM18,0.01)","v":0.01},null,null,{"$f":"IF(AK23<1,0.01,IF(AI23>AL20,2,IF(AI23=AL20,1,0)))","v":0.01},null,null,null,null,null,{"$f":"IF(AQ23<1,0.01,IF(AO23>AL26,2,IF(AO23=AL26,1,0)))","v":0.01},null,null,null,{"$f":"AA24+AD24+AG24+AJ24+AP24","v":0.05}]
[null,null,null,{"$f":"C8","v":0},null,null,null,null,null,{"$f":"C7","v":0},null,null,null,null,null,{"$f":"C10","v":0},null,null,null,null,null,null,null,null,null,{"$f":"G19","v":0},null,{"$f":"Z23/AB23","v":{"$error":"#DIV/0!"}},{"$f":"M16","v":0},null,{"$f":"AC23/AE23","v":{"$error":"#DIV/0!"}},{"$f":"G22","v":0},null,{"$f":"AF23/AH23","v":{"$error":"#DIV/0!"}},{"$f":"M28","v":0},null,{"$f":"AI23/AK23","v":{"$error":"#DIV/0!"}},null,null,null,{"$f":"T24","v":0},null,{"$f":"AO23/AQ23","v":{"$error":"#DIV/0!"}},null,{"$f":"MAX(Z25,AC25,AF25,AI25,AO25)","v":0},null,{"$f":"AS23/AU23","v":{"$error":"#DIV/0!"}}]
[null,null,null,null,null,null,null,null,null,null,null,null,null,null,null,null,null,null,null,null,null,null,null,{"$f":"C10","v":0},null,{"$f":"R16","v":0},null,{"$f":"S15","v":0},{"$f":"R22","v":0},null,{"$f":"S21","v":0},{"$f":"R28","v":0},null,{"$f":"S27","v":0},{"$f":"R19","v":0},null,{"$f":"S18","v":0},{"$f":"R25","v":0},null,{"$f":"S24","v":0},"B",null,null,null,{"$f":"Z26+AC26+AF26+AI26+AL26","v":0},null,{"$f":"AB26+AE26+AH26+AK26+AN26","v":0},{"$f":"BI26","v":{"$error":"#DIV/0!"}},null,{"$f":"AT27","v":0.05},{"$f":"RANK(AX26,(AX$11:AX$28))","v":1},{"$f":"AU28","v":{"$error":"#DIV/0!"}},{"$f":"RANK(AZ26,(AZ$11:AZ$28))","v":{"$error":"#DIV/0!"}},{"$f":"MAX(AE28,AH28,AK28,AN28,AQ28)","v":{"$error":"#DIV/0!"}},{"$f":"RANK(BB26,(BB$11:BB$28))","v":{"$error":"#DIV/0!"}},{"$f":"AS28","v":0},{"$f":"RANK(BD26,(BD$11:BD$28))","v":1},{"$f":"AY26*1000+BA26*100+BC26*10+BE26","v":{"$error":"#DIV/0!"}},{"$f":"RANK(BF26,(BF$11:BF$28))","v":{"$error":"#DIV/0!"}},{"$f":"BF26","v":{"$error":"#DIV/0!"}},{"$f":"RANK(BH26,(BH$11:BH$28),1)","v":{"$error":"#DIV/0!"}}]
[null,null,"Tour 5",{"$f":"C5","v":0},null,null,null,null,"Tour 5",{"$f":"C8","v":0},null,null,null,null,"Tour 5",{"$f":"C7","v":0},null,null,null,null,null,null,null,null,null,null,{"$f":"IF(AB26<1,0.01,IF(Z26>AO11,2,IF(Z26=AO11,1,0)))","v":0.01},null,null,{"$f":"IF(AE26<1,0.01,IF(AC26>AO14,2,IF(AC26=AO14,1,0)))","v":0.01},null,null,{"$f":"IF(AH26<1,0.01,IF(AF26>AO17,2,IF(AF26=AO17,1,0)))","v":0.01},null,null,{"$f":"IF(AK26<1,0.01,IF(AI26>AO20,2,IF(AI26=AO20,1,0)))","v":0.01},null,null,{"$f":"IF(AN26<1,0.01,IF(AL26>AO23,2,IF(AL26=AO23,1,0)))","v":0.01},null,null,null,null,null,null,{"$f":"AA27+AD27+AG27+AJ27+AM27","v":0.05}]
[null,null,null,{"$f":"C6","v":0},null,null,null,null,null,{"$f":"C9","v":0},null,null,null,null,null,{"$f":"C10","v":0},null,null,null,null,null,null,null,null,null,{"$f":"T16","v":0},null,{"$f":"Z26/AB26","v":{"$error":"#DIV/0!"}},{"$f":"T22","v":0},null,{"$f":"AC26/AE26","v":{"$error":"#DIV/0!"}},{"$f":"T28","v":0},null,{"$f":"AF26/AH26","v":{"$error":"#DIV/0!"}},{"$f":"T19","v":0},null,{"$f":"AI26/AK26","v":{"$error":"#DIV/0!"}},{"$f":"T25","v":0},null,{"$f":"AL26/AN26","v":{"$error":"#DIV/0!"}},null,null,null,null,{"$f":"MAX(Z28,AC28,AF28,AI28,AL28)","v":0},null,{"$f":"AS26/AU26","v":{"$error":"#DIV/0!"}}]
[]
[]
[null,null,null,null,null,null,null,null,"CLASSEMENT FINAL"]
[]
[null,null,null,null,null,null,null,null,"Clt","NOM","Pts","Rep","Moy","Serie"]
[null,null,null,null,null,null,null,null,1,{"$f":"IF(AV11=1,X11,IF(AV14=1,X14,IF(AV17=1,X17,IF(AV20=1,X20,IF(AV23=1,X23,IF(AV26=1,X26))))))","v":{"$error":"#DIV/0!"}},{"$f":"IF(AV11=1,AS11,IF(AV14=1,AS14,IF(AV17=1,AS17,IF(AV20=1,AS20,IF(AV23=1,AS23,IF(AV26=1,AS26))))))","v":{"$error":"#DIV/0!"}},{"$f":"IF(AV11=1,AU11,IF(AV14=1,AU14,IF(AV17=1,AU17,IF(AV20=1,AU20,IF(AV23=1,AU23,IF(AV26=1,AU26))))))","v":{"$error":"#DIV/0!"}},{"$f":"K34/L34","v":{"$error":"#DIV/0!"}},{"$f":"IF(AV11=1,AS13,IF(AV14=1,AS16,IF(AV17=1,AS19,IF(AV20=1,AS22,IF(AV23=1,AS25,IF(AV26=1,AS28))))))","v":{"$error":"#DIV/0!"}}]
[null,null,null,null,null,null,null,null,2,{"$f":"IF(AV11=2,X11,IF(AV14=2,X14,IF(AV17=2,X17,IF(AV20=2,X20,IF(AV23=2,X23,IF(AV26=2,X26))))))","v":{"$error":"#DIV/0!"}},{"$f":"IF(AV11=2,AS11,IF(AV14=2,AS14,IF(AV17=2,AS17,IF(AV20=2,AS20,IF(AV23=2,AS23,IF(AV26=2,AS26))))))","v":{"$error":"#DIV/0!"}},{"$f":"IF(AV11=2,AU11,IF(AV14=2,AU14,IF(AV17=2,AU17,IF(AV20=2,AU20,IF(AV23=2,AU23,IF(AV26=2,AU26))))))","v":{"$error":"#DIV/0!"}},{"$f":"K35/L35","v":{"$error":"#DIV/0!"}},{"$f":"IF(AV11=2,AS13,IF(AV14=2,AS16,IF(AV17=2,AS19,IF(AV20=2,AS22,IF(AV23=2,AS25,IF(AV26=2,AS28))))))","v":{"$error":"#DIV/0!"}}]
[null,null,null,null,null,null,null,null,3,{"$f":"IF(AV11=3,X11,IF(AV14=3,X14,IF(AV17=3,X17,IF(AV20=3,X20,IF(AV23=3,X23,IF(AV26=3,X26))))))","v":{"$error":"#DIV/0!"}},{"$f":"IF(AV11=3,AS11,IF(AV14=3,AS14,IF(AV17=3,AS17,IF(AV20=3,AS20,IF(AV23=3,AS23,IF(AV26=3,AS26))))))","v":{"$error":"#DIV/0!"}},{"$f":"IF(AV11=3,AU11,IF(AV14=3,AU14,IF(AV17=3,AU17,IF(AV20=3,AU20,IF(AV23=3,AU23,IF(AV26=3,AU26))))))","v":{"$error":"#DIV/0!"}},{"$f":"K36/L36","v":{"$error":"#DIV/0!"}},{"$f":"IF(AV11=3,AS13,IF(AV14=3,AS16,IF(AV17=3,AS19,IF(AV20=3,AS22,IF(AV23=3,AS25,IF(AV26=3,AS28))))))","v":{"$error":"#DIV/0!"}}]
[null,null,null,null,null,null,null,null,4,{"$f":"IF(AV11=4,X11,IF(AV14=4,X14,IF(AV17=4,X17,IF(AV20=4,X20,IF(AV23=4,X23,IF(AV26=4,X26))))))","v":{"$error":"#DIV/0!"}},{"$f":"IF(AV11=4,AS11,IF(AV14=4,AS14,IF(AV17=4,AS17,IF(AV20=4,AS20,IF(AV23=4,AS23,IF(AV26=4,AS26))))))","v":{"$error":"#DIV/0!"}},{"$f":"IF(AV11=4,AU11,IF(AV14=4,AU14,IF(AV17=4,AU17,IF(AV20=4,AU20,IF(AV23=4,AU23,IF(AV26=4,AU26))))))","v":{"$error":"#DIV/0!"}},{"$error":"#DIV/0!"},{"$f":"IF(AV11=4,AS13,IF(AV14=4,AS16,IF(AV17=4,AS19,IF(AV20=4,AS22,IF(AV23=4,AS25,IF(AV26=4,AS28))))))","v":{"$error":"#DIV/0!"}}]
[null,null,null,null,null,null,null,null,5,{"$f":"IF(AV11=5,X11,IF(AV14=5,X14,IF(AV17=5,X17,IF(AV20=5,X20,IF(AV23=5,X23,IF(AV26=5,X26))))))","v":{"$error":"#DIV/0!"}},{"$f":"IF(AV11=5,AS11,IF(AV14=5,AS14,IF(AV17=5,AS17,IF(AV20=5,AS20,IF(AV23=5,AS23,IF(AV26=5,AS26))))))","v":{"$error":"#DIV/0!"}},{"$f":"IF(AV11=5,AU11,IF(AV14=5,AU14,IF(AV17=5,AU17,IF(AV20=5,AU20,IF(AV23=5,AU23,IF(AV26=5,AU26))))))","v":{"$error":"#DIV/0!"}},{"$error":"#DIV/0!"},{"$f":"IF(AV11=5,AS13,IF(AV14=5,AS16,IF(AV17=5,AS19,IF(AV20=5,AS22,IF(AV23=5,AS25,IF(AV26=5,AS28))))))","v":{"$error":"#DIV/0!"}}]
[null,null,null,null,null,null,null,null,6,{"$f":"IF(AV11=6,X11,IF(AV14=6,X14,IF(AV17=6,X17,IF(AV20=6,X20,IF(AV23=6,X23,IF(AV26=6,X26))))))","v":{"$error":"#DIV/0!"}},{"$f":"IF(AV11=6,AS11,IF(AV14=6,AS14,IF(AV17=6,AS17,IF(AV20=6,AS20,IF(AV23=6,AS23,IF(AV26=6,AS26))))))","v":{"$error":"#DIV/0!"}},{"$f":"IF(AV11=6,AU11,IF(AV14=6,AU14,IF(AV17=6,AU17,IF(AV20=6,AU20,IF(AV23=6,AU23,IF(AV26=6,AU26))))))","v":{"$error":"#DIV/0!"}},{"$error":"#DIV/0!"},{"$f":"IF(AV11=6,AS13,IF(AV14=6,AS16,IF(AV17=6,AS19,IF(AV20=6,AS22,IF(AV23=6,AS25,IF(AV26=6,AS28))))))","v":{"$error":"#DIV/0!"}}]

{"sheet":"3JOUEURS_SERPENTIN","index":15,"n_rows":36,"n_cols":48,"rows_kept":36,"cut":false,"hidden":true,"merged":[[2,1,3,2],[2,3,3,9],[5,1,6,2],[5,3,6,9],[10,2,10,5],[8,2,8,5],[9,2,9,5],[7,23,7,25],[7,27,7,28],[15,1,16,2],[16,47,18,47],[19,47,21,47],[19,37,21,37],[19,46,21,46],[9,12,9,20],[12,12,15,14],[12,15,15,17],[12,18,15,20],[12,1,13,5],[13,10,15,11],[7,12,7,15],[7,17,7,18],[7,20,7,21],[22,47,24,47],[22,41,24,41],[12,31,15,33],[12,34,15,34],[14,36,14,37],[16,36,18,36],[16,37,18,37],[22,39,24,39],[22,40,24,40],[22,36,24,36],[22,37,24,37],[22,38,24,38],[19,40,21,40],[19,39,21,39],[19,36,21,36],[22,46,24,46],[22,45,24,45],[19,44,21,44],[22,44,24,44],[22,42,24,42],[22,43,24,43],[19,42,21,42],[19,45,21,45],[19,43,21,43],[1,12,4,35],[6,12,6,15],[6,17,6,18],[6,20,6,21],[6,23,6,25],[6,27,6,28],[34,1,35,1],[34,4,35,4],[31,1,32,1],[31,4,32,4],[28,1,29,1],[28,4,29,4],[16,10,18,11],[9,21,9,29],[12,21,15,23],[12,24,15,26],[12,27,15,29],[16,12,18,14],[14,38,14,39],[19,41,21,41],[16,38,18,38],[25,1,26,1],[25,4,26,4],[26,12,26,34],[19,4,20,4],[16,34,18,34],[19,34,21,34],[22,34,24,34],[19,15,21,17],[22,1,23,1],[22,4,23,4],[19,1,20,1],[19,10,21,11],[22,10,24,11],[14,46,15,46],[16,46,18,46],[16,45,18,45],[14,41,14,42],[16,41,18,41],[14,43,14,44],[16,44,18,44],[16,42,18,42],[16,43,18,43],[16,39,18,39],[16,40,18,40],[19,38,21,38],[22,18,24,20],[22,27,24,29],[16,21,18,23],[19,24,21,26]]}
[]
[null,null,null,null,null,null,null,null,null,null,null,null,"LIGUE MÉDITERRANÉENNE DE BILLARD"]
[null,"CLUB ORGANISATEUR",null,"19007 – BILLARD CLUB BERROIS"]
[]
[]
[null,"DIRECTEUR DE JEU :",null,"tutu"]
[null,null,null,null,null,null,null,null,null,null,null,null,"Compétition",null,null,null,null,"Mode de jeu",null,null,"Categorie",null,null,"Format billard",null,null,null,"Distance"]
[null,null,null,null,null,null,null,null,null,null,null,null,"TOURNOI N°6",null,null,null,null,"LIBRE",null,null,"R1"]
[null,"Joueur 1",{"$f":"'Saisie des joueurs'!K18","v":0}]
[null,"Joueur 2",{"$f":"'Saisie des joueurs'!K19","v":0},null,null,null,null,null,null,null,null,null,"MATCH ALLER",null,null,null,null,null,null,null,null,"MATCH RETOUR"]
[null,"Joueur 3",{"$f":"'Saisie des joueurs'!K20","v":0}]
[]
[null,"SAISIE DES RESULTATS",null,null,null,null,null,null,null,null,null,null,{"$f":"C9","v":0},null,null,{"$f":"C10","v":0},null,null,{"$f":"C11","v":0},null,null,{"$f":"C9","v":0},null,null,{"$f":"C10","v":0},null,null,{"$f":"C11","v":0},null,null,null,"TOTAUX",null,null,"CLASSEMENT"]
[]
[null,null,null,null,null,null,null,null,null,null,null,null,null,null,null,null,null,null,null,null,null,null,null,null,null,null,null,null,null,null,null,null,null,null,null,null,"Classement",null,"Classement",null,"Classement","Classement",null,"Classement",null,"GENERAL","RANG"]
[null,"POULE A",null,null,null,null,null,null,null,null,null,null,null,null,null,null,null,null,null,null,null,null,null,null,null,null,null,null,null,null,null,null,null,null,null,null,"Point-Match","CLS-M","Moy-Gen","CLS-G","Moy-Part","M-Series","CLS-S","MGPS","CLS","CLS"]
[null,null,null,null,null,null,null,null,null,null,{"$f":"C9","v":0},null,"L",null,null,{"$f":"D26","v":0},null,{"$f":"E26","v":0},{"$f":"D20","v":0},null,{"$f":"E20","v":0},"L",null,null,{"$f":"D35","v":0},null,{"$f":"E35","v":0},{"$f":"D29","v":0},null,{"$f":"E29","v":0},null,{"$f":"P17+S17+Y17+AB17","v":0},null,{"$f":"R17+U17+AA17+AD17","v":0},{"$f":"AU17","v":{"$error":"#DIV/0!"}},null,{"$f":"AG18","v":0.04},{"$f":"RANK(AK17,AK$17:AK$25,0)","v":1},{"$f":"AH19","v":{"$error":"#DIV/0!"}},{"$f":"RANK(AM17,AM$17:AM$25,0)","v":{"$error":"#DIV/0!"}},{"$f":"MAX(R19,U19,AA19,AD19)","v":{"$error":"#DIV/0!"}},{"$f":"RANK(AO17,AO$17:AO$25)","v":{"$error":"#DIV/0!"}},{"$f":"AF19","v":0},{"$f":"RANK(AQ17,AQ$17:AQ$25)","v":1},{"$f":"(AL17*1000)+(AN17*100)+(AP17*10)+(AR17*1)","v":{"$error":"#DIV/0!"}},{"$f":"AS17","v":{"$error":"#DIV/0!"}},{"$f":"RANK(AT17,AT$17:AT$25,1)","v":{"$error":"#DIV/0!"}},{"$f":"RANK(AU17,AU$17:AU$25,1)","v":{"$error":"#DIV/0!"}}]
[null,null,null,null,null,null,null,null,null,null,null,null,null,null,null,null,{"$f":"IF(R17<1,0.01,IF(P17>M20,2,IF(P17=M20,1,0)))","v":0.01},null,null,{"$f":"IF(U17<1,0.01,IF(S17>M23,2,IF(S17=M23,1,0)))","v":0.01},null,null,null,null,null,{"$f":"IF(AA17<1,0.01,IF(Y17>V20,2,IF(Y17=V20,1,0)))","v":0.01},null,null,{"$f":"IF(AD17<1,0.01,IF(AB17>V23,2,IF(AB17=V23,1,0)))","v":0.01},null,null,null,{"$f":"Q18+T18+Z18+AC18","v":0.04}]
[null,null,null,"Pts","Rep","Série",null,null,null,null,null,null,null,null,null,{"$f":"F26","v":0},null,{"$f":"P17/R17","v":{"$error":"#DIV/0!"}},{"$f":"F20","v":0},null,{"$f":"S17/U17","v":{"$error":"#DIV/0!"}},null,null,null,{"$f":"F35","v":0},null,{"$f":"Y17/AA17","v":{"$error":"#DIV/0!"}},{"$f":"F29","v":0},null,{"$f":"AB17/AD17","v":{"$error":"#DIV/0!"}},null,{"$f":"MAX(P19,S19,Y19,AB19)","v":0},null,{"$f":"AF17/AH17","v":{"$error":"#DIV/0!"}}]
[null,"Tour 1\nMatch aller",{"$f":"C9","v":0},null,null,null,null,null,null,null,{"$f":"C10","v":0},null,{"$f":"D27","v":0},null,{"$f":"E26","v":0},"M",null,null,{"$f":"D23","v":0},null,{"$f":"E23","v":0},{"$f":"D36","v":0},null,{"$f":"E35","v":0},"M",null,null,{"$f":"D32","v":0},null,{"$f":"E32","v":0},null,{"$f":"M20+S20+V20+AB20","v":0},null,{"$f":"O20+U20+X20+AD20","v":0},{"$f":"AU20","v":{"$error":"#DIV/0!"}},null,{"$f":"AG21","v":0.04},{"$f":"RANK(AK20,AK$17:AK$25,0)","v":1},{"$f":"AH22","v":{"$error":"#DIV/0!"}},{"$f":"RANK(AM20,AM$17:AM$25,0)","v":{"$error":"#DIV/0!"}},{"$f":"MAX(R22,U22,AA22,AD22)","v":{"$error":"#DIV/0!"}},{"$f":"RANK(AO20,AO$17:AO$25)","v":{"$error":"#DIV/0!"}},{"$f":"AF22","v":0},{"$f":"RANK(AQ20,AQ$17:AQ$25)","v":1},{"$f":"(AL20*1000)+(AN20*100)+(AP20*10)+(AR20*1)","v":{"$error":"#DIV/0!"}},{"$f":"AS20","v":{"$error":"#DIV/0!"}},{"$f":"RANK(AT20,AT$17:AT$25,1)","v":{"$error":"#DIV/0!"}},{"$f":"RANK(AU20,AU$17:AU$25,1)","v":{"$error":"#DIV/0!"}}]
[null,null,{"$f":"C11","v":0},null,null,null,null,null,null,null,null,null,null,{"$f":"IF(R17>0,2-Q18,0.01)","v":0.01},null,null,null,null,null,{"$f":"IF(U20<1,0.01,IF(S20>P23,2,IF(S20=P23,1,0)))","v":0.01},null,null,{"$f":"IF(AA17>0,2-Z18,0.01)","v":0.01},null,null,null,null,null,{"$f":"IF(AD20<1,0.01,IF(AB20>Y23,2,IF(AB20=Y23,1,0)))","v":0.01},null,null,null,{"$f":"N21+T21+W21+AC21","v":0.04}]
[null,null,null,null,null,null,null,null,null,null,null,null,{"$f":"F27","v":0},null,{"$f":"M20/O20","v":{"$error":"#DIV/0!"}},null,null,null,{"$f":"F23","v":0},null,{"$f":"S20/U20","v":{"$error":"#DIV/0!"}},{"$f":"F36","v":0},null,{"$f":"V20/X20","v":{"$error":"#DIV/0!"}},null,null,null,{"$f":"F32","v":0},null,{"$f":"AB20/AD20","v":{"$error":"#DIV/0!"}},null,{"$f":"MAXA(M22,S22,V22,AB22)","v":0},null,{"$f":"AF20/AH20","v":{"$error":"#DIV/0!"}}]
[null,"Tour 2\nMatch aller",{"$f":"C10","v":0},null,null,null,null,null,null,null,{"$f":"C11","v":0},null,{"$f":"D21","v":0},null,{"$f":"E20","v":0},{"$f":"D24","v":0},null,{"$f":"E23","v":0},"B",null,null,{"$f":"D30","v":0},null,{"$f":"E29","v":0},{"$f":"D33","v":0},null,{"$f":"E32","v":0},"B",null,null,null,{"$f":"M23+P23+V23+Y23","v":0},null,{"$f":"O23+R23+X23+AA23","v":0},{"$f":"AU23","v":{"$error":"#DIV/0!"}},null,{"$f":"AG24","v":0.04},{"$f":"RANK(AK23,AK$17:AK$25,0)","v":1},{"$f":"AH25","v":{"$error":"#DIV/0!"}},{"$f":"RANK(AM23,AM$17:AM$25,0)","v":{"$error":"#DIV/0!"}},{"$f":"MAX(R25,U25,AA25,AD25)","v":{"$error":"#DIV/0!"}},{"$f":"RANK(AO23,AO$17:AO$25)","v":{"$error":"#DIV/0!"}},{"$f":"AF25","v":0},{"$f":"RANK(AQ23,AQ$17:AQ$25)","v":1},{"$f":"(AL23*1000)+(AN23*100)+(AP23*10)+(AR23*1)","v":{"$error":"#DIV/0!"}},{"$f":"AS23","v":{"$error":"#DIV/0!"}},{"$f":"RANK(AT23,AT$17:AT$25,1)","v":{"$error":"#DIV/0!"}},{"$f":"RANK(AU23,AU$17:AU$25,1)","v":{"$error":"#DIV/0!"}}]
[null,null,{"$f":"C11","v":0},null,null,null,null,null,null,null,null,null,null,{"$f":"IF(U17>0,2-T18,0.01)","v":0.01},null,null,{"$f":"IF(U20>0,2-T21,0.01)","v":0.01},null,null,null,null,null,{"$f":"IF(AD17>0,2-AC18,0.01)","v":0.01},null,null,{"$f":"IF(AD20>0,2-AC21,0.01)","v":0.01},null,null,null,null,null,null,{"$f":"N24+Q24+W24+Z24","v":0.04}]
[null,null,null,null,null,null,null,null,null,null,null,null,{"$f":"F21","v":0},null,{"$f":"M23/O23","v":{"$error":"#DIV/0!"}},{"$f":"F24","v":0},null,{"$f":"P23/R23","v":{"$error":"#DIV/0!"}},null,null,null,{"$f":"F30","v":0},null,{"$f":"V23/X23","v":{"$error":"#DIV/0!"}},{"$f":"F33","v":0},null,{"$f":"Y23/AA23","v":{"$error":"#DIV/0!"}},null,null,null,null,{"$f":"MAXA(M25,P25,V25,Y25)","v":0},null,{"$f":"AF23/AH23","v":{"$error":"#DIV/0!"}}]
[null,"Tour 3\nMatch aller",{"$f":"C9","v":0}]
[null,null,{"$f":"C10","v":0},null,null,null,null,null,null,null,null,null,"Pas de prolongation en cas de match nul."]
[]
[null,"Tour 1\nMatch retour",{"$f":"C9","v":0}]
[null,null,{"$f":"C11","v":0}]
[]
[null,"Tour 2\nMatch retour",{"$f":"C10","v":0}]
[null,null,{"$f":"C11","v":0}]
[]
[null,"Tour 3\nMatch retour",{"$f":"C9","v":0}]
[null,null,{"$f":"C10","v":0}]

{"sheet":"2JOUEURS_SERPENTIN","index":16,"n_rows":27,"n_cols":47,"rows_kept":27,"cut":false,"hidden":true,"merged":[[1,12,4,35],[2,1,3,2],[2,3,3,9],[5,1,6,2],[5,3,6,9],[6,12,6,15],[6,17,6,18],[6,20,6,21],[6,23,6,25],[6,27,6,28],[7,12,7,15],[7,17,7,18],[7,20,7,21],[7,23,7,25],[7,27,7,28],[16,45,18,45],[9,2,9,5],[14,41,14,42],[14,43,14,44],[10,2,10,5],[12,1,13,5],[12,12,15,14],[12,15,15,17],[12,18,15,20],[16,18,18,20],[19,38,21,38],[14,46,15,46],[15,1,16,2],[16,10,18,11],[16,12,18,14],[19,21,21,23],[16,34,18,34],[16,36,18,36],[16,37,18,37],[12,27,15,29],[12,31,15,33],[12,34,15,34],[13,10,15,11],[14,36,14,37],[14,38,14,39],[16,44,18,44],[19,43,21,43],[16,46,18,46],[19,1,20,1],[19,4,20,4],[19,10,21,11],[19,15,21,17],[16,24,18,26],[19,34,21,34],[16,38,18,38],[16,39,18,39],[16,40,18,40],[16,41,18,41],[16,42,18,42],[16,43,18,43],[19,36,21,36],[19,37,21,37],[19,44,21,44],[19,45,21,45],[19,46,21,46],[25,1,26,1],[25,4,26,4],[26,12,26,34],[22,1,23,1],[22,4,23,4],[22,10,24,11],[22,18,24,20],[22,27,24,29],[22,34,24,34],[19,39,21,39],[19,40,21,40],[19,41,21,41],[19,42,21,42],[19,27,21,29],[9,12,9,17],[9,18,9,23],[9,24,9,29],[12,21,15,23],[12,24,15,26]]}
[]
[null,null,null,null,null,null,null,null,null,null,null,null,"LIGUE MÉDITERRANÉENNE DE BILLARD"]
[null,"CLUB ORGANISATEUR",null,"19007 – BILLARD CLUB BERROIS"]
[]
[]
[null,"DIRECTEUR DE JEU :",null,"tutu"]
[null,null,null,null,null,null,null,null,null,null,null,null,"Compétition",null,null,null,null,"Mode de jeu",null,null,"Categorie",null,null,"Format billard",null,null,null,"Distance"]
[null,null,null,null,null,null,null,null,null,null,null,null,"TOURNOI N°6",null,null,null,null,"LIBRE",null,null,"R1"]
[]
[null,"Joueur 1",{"$f":"'Saisie des joueurs'!K18","v":0},null,null,null,null,null,null,null,null,null,"MATCH ALLER",null,null,null,null,null,"MATCH RETOUR",null,null,null,null,null,"MATCH ALLER"]
[null,"Joueur 2",{"$f":"'Saisie des joueurs'!K19","v":0}]
[]
[null,"SAISIE DES RESULTATS",null,null,null,null,null,null,null,null,null,null,{"$f":"C10","v":0},null,null,{"$f":"C11","v":0},null,null,{"$f":"C10","v":0},null,null,{"$f":"C11","v":0},null,null,{"$f":"C10","v":0},null,null,{"$f":"C11","v":0},null,null,null,"TOTAUX",null,null,"CLASSEMENT"]
[]
[null,null,null,null,null,null,null,null,null,null,null,null,null,null,null,null,null,null,null,null,null,null,null,null,null,null,null,null,null,null,null,null,null,null,null,null,"Classement",null,"Classement",null,"Classement","Classement",null,"Classement",null,"GENERAL","RANG"]
[null,"POULE A",null,null,null,null,null,null,null,null,null,null,null,null,null,null,null,null,null,null,null,null,null,null,null,null,null,null,null,null,null,null,null,null,null,null,"Point-Match","CLS-M","Moy-Gen","CLS-G","Moy-Part","M-Series","CLS-S","MGPS","CLS","CLS"]
[null,null,null,null,null,null,null,null,null,null,{"$f":"C10","v":0},null,"L",null,null,{"$f":"D20","v":0},null,{"$f":"E20","v":0},"B",null,null,{"$f":"D23","v":0},null,{"$f":"E23","v":0},"M",null,null,{"$f":"D26","v":0},null,{"$f":"E26","v":0},null,{"$f":"P17+V17+AB17","v":0},null,{"$f":"R17+X17+AD17","v":0},{"$f":"AU17","v":{"$error":"#DIV/0!"}},null,{"$f":"AG18","v":0.02},{"$f":"RANK(AK17,AK$17:AK$22,0)","v":2},{"$f":"AH19","v":{"$error":"#DIV/0!"}},{"$f":"RANK(AM17,AM$17:AM$22,0)","v":{"$error":"#DIV/0!"}},{"$f":"MAX(R19,X19,AD19)","v":{"$error":"#DIV/0!"}},{"$f":"RANK(AO17,AO$17:AO$22)","v":{"$error":"#DIV/0!"}},{"$f":"AF19","v":0},{"$f":"RANK(AQ17,AQ$17:AQ$22)","v":1},{"$f":"(AL17*1000)+(AN17*100)+(AP17*10)+(AR17*1)","v":{"$error":"#DIV/0!"}},{"$f":"AS17","v":{"$error":"#DIV/0!"}},{"$f":"RANK(AT17,AT$17:AT$22,1)","v":{"$error":"#DIV/0!"}}]
[null,null,null,null,null,null,null,null,null,null,null,null,null,null,null,null,{"$f":"IF(R17<1,0.01,IF(P17>M20,2,IF(P17=M20,1,0)))","v":0.01},null,null,null,null,null,{"$f":"IF(X17<1,0.01,IF(V17>S20,2,IF(V17=S20,1,0)))","v":0.01},null,null,null,null,null,{"$f":"IF(AD17<1,0.01,IF(AB17>Y20,2,IF(AB17=Y20,1,0)))","v":0.01},null,null,null,{"$f":"Q18+T18+AC18","v":0.02}]
[null,null,null,"Pts","Rep","Série",null,null,null,null,null,null,null,null,null,{"$f":"F20","v":0},null,{"$f":"P17/R17","v":{"$error":"#DIV/0!"}},null,null,null,{"$f":"F23","v":0},null,{"$f":"V17/X17","v":{"$error":"#DIV/0!"}},null,null,null,{"$f":"F26","v":0},null,{"$f":"AB17/AD17","v":{"$error":"#DIV/0!"}},null,{"$f":"MAX(P19,V19,AB19)","v":0},null,{"$f":"AF17/AH17","v":{"$error":"#DIV/0!"}}]
[null,"Tour 1\nMatch aller",{"$f":"C10","v":0},null,null,null,null,null,null,null,{"$f":"C11","v":0},null,{"$f":"D21","v":0},null,{"$f":"E20","v":0},"M",null,null,{"$f":"D24","v":0},null,{"$f":"E23","v":0},"L",null,null,{"$f":"D27","v":0},null,{"$f":"E26","v":0},"B",null,null,null,{"$f":"M20+S20+Y20","v":0},null,{"$f":"O20+U20+AA20","v":0},{"$f":"AU20","v":{"$error":"#DIV/0!"}},null,{"$f":"AG21","v":0.03},{"$f":"RANK(AK20,AK$17:AK$22,0)","v":1},{"$f":"AH22","v":{"$error":"#DIV/0!"}},{"$f":"RANK(AM20,AM$17:AM$22,0)","v":{"$error":"#DIV/0!"}},{"$f":"MAX(O22,U22,AA22)","v":{"$error":"#DIV/0!"}},{"$f":"RANK(AO20,AO$17:AO$22)","v":{"$error":"#DIV/0!"}},{"$f":"AF22","v":0},{"$f":"RANK(AQ20,AQ$17:AQ$22)","v":1},{"$f":"(AL20*1000)+(AN20*100)+(AP20*10)+(AR20*1)","v":{"$error":"#DIV/0!"}},{"$f":"AS20","v":{"$error":"#DIV/0!"}},{"$f":"RANK(AT20,AT$17:AT$22,1)","v":{"$error":"#DIV/0!"}}]
[null,null,{"$f":"C11","v":0},null,null,null,null,null,null,null,null,null,null,{"$f":"IF(R17>0,2-Q18,0.01)","v":0.01},null,null,null,null,null,{"$f":"IF(X17>0,2-W18,0.01)","v":0.01},null,null,null,null,null,{"$f":"IF(AD17>0,2-AC18,0.01)","v":0.01},null,null,null,null,null,null,{"$f":"N21+T21+Z21","v":0.03}]
[null,null,null,null,null,null,null,null,null,null,null,null,{"$f":"F21","v":0},null,{"$f":"M20/O20","v":{"$error":"#DIV/0!"}},null,null,null,{"$f":"F24","v":0},null,{"$f":"S20/U20","v":{"$error":"#DIV/0!"}},null,null,null,{"$f":"F27","v":0},null,{"$f":"Y20/AA20","v":{"$error":"#DIV/0!"}},null,null,null,null,{"$f":"MAXA(M22,S22,Y22)","v":0},null,{"$f":"AF20/AH20","v":{"$error":"#DIV/0!"}}]
[null,"Tour 2\nMatch retour",{"$f":"C10","v":0}]
[null,null,{"$f":"C11","v":0}]
[]
[null,"Tour 3\nMatch aller",{"$f":"C10","v":0}]
[null,null,{"$f":"C11","v":0},null,null,null,null,null,null,null,null,null,"Pas de prolongation en cas de match nul."]

{"sheet":"4JOUEURS_SERPENTIN","index":17,"n_rows":37,"n_cols":42,"rows_kept":37,"cut":false,"hidden":true,"merged":[[32,1,33,1],[32,4,33,4],[35,1,36,1],[35,4,36,4],[26,37,28,37],[29,1,30,1],[29,4,30,4],[30,12,30,23],[26,31,28,31],[26,32,28,32],[26,1,27,1],[26,4,27,4],[26,10,28,11],[26,21,28,23],[26,28,28,28],[26,30,28,30],[23,32,25,32],[26,40,28,40],[26,41,28,41],[26,33,28,33],[26,34,28,34],[26,35,28,35],[23,38,25,38],[26,39,28,39],[26,36,28,36],[26,38,28,38],[20,40,22,40],[20,41,22,41],[23,1,24,1],[23,4,24,4],[23,10,25,11],[23,18,25,20],[23,28,25,28],[23,30,25,30],[23,31,25,31],[20,33,22,33],[23,33,25,33],[23,34,25,34],[23,35,25,35],[23,36,25,36],[23,37,25,37],[20,39,22,39],[23,39,25,39],[23,40,25,40],[23,41,25,41],[20,1,21,1],[20,4,21,4],[20,10,22,11],[20,15,22,17],[20,28,22,28],[20,36,22,36],[20,37,22,37],[20,38,22,38],[15,38,15,39],[15,32,15,33],[15,34,15,35],[15,36,15,37],[17,36,19,36],[17,37,19,37],[17,38,19,38],[17,39,19,39],[20,30,22,30],[20,31,22,31],[20,32,22,32],[17,34,19,34],[17,35,19,35],[20,34,22,34],[20,35,22,35],[16,1,17,2],[13,18,16,20],[13,10,16,11],[13,1,14,5],[13,12,16,14],[13,15,16,17],[17,10,19,11],[17,12,19,14],[17,40,19,40],[17,41,19,41],[13,25,16,27],[13,28,16,28],[13,21,16,23],[15,41,16,41],[17,32,19,32],[17,33,19,33],[15,30,15,31],[17,28,19,28],[17,30,19,30],[17,31,19,31],[7,23,7,25],[7,27,7,28],[2,1,3,2],[2,3,3,9],[11,2,11,5],[5,1,6,2],[5,3,6,9],[1,12,4,35],[6,12,6,15],[6,17,6,18],[6,20,6,21],[6,23,6,25],[6,27,6,28],[8,2,8,5],[7,12,7,15],[7,17,7,18],[7,20,7,21],[9,2,9,5],[10,2,10,5]]}
[]
[null,null,null,null,null,null,null,null,null,null,null,null,"LIGUE MÉDITERRANÉENNE DE BILLARD"]
[null,"CLUB ORGANISATEUR",null,"19090 – BILLARD CLUB ROGNAC"]
[]
[]
[null,"DIRECTEUR DE JEU :",null,"Alain LETELLIER"]
[null,null,null,null,null,null,null,null,null,null,null,null,"Compétition",null,null,null,null,"Mode de jeu",null,null,"Categorie",null,null,"Format billard",null,null,null,"Distance"]
[]
[null,"Joueur 1",{"$f":"'Saisie des joueurs'!K18","v":0}]
[null,"Joueur 2",{"$f":"'Saisie des joueurs'!K19","v":0}]
[null,"Joueur 3",{"$f":"'Saisie des joueurs'!K20","v":0}]
[null,"Joueur 4",{"$f":"'Saisie des joueurs'!K21","v":0}]
[]
[null,"SAISIE DES RESULTATS",null,null,null,null,null,null,null,null,null,null,{"$f":"C9","v":0},null,null,{"$f":"C10","v":0},null,null,{"$f":"C11","v":0},null,null,{"$f":"C12","v":0},null,null,null,"TOTAUX",null,null,"CLASSEMENT"]
[]
[null,null,null,null,null,null,null,null,null,null,null,null,null,null,null,null,null,null,null,null,null,null,null,null,null,null,null,null,null,null,"Classement",null,"Classement",null,"Classement",null,"Classement",null,"Classement",null,"GENERAL","RANG"]
[null,"POULE A",null,null,null,null,null,null,null,null,null,null,null,null,null,null,null,null,null,null,null,null,null,null,null,null,null,null,null,null,"Point-Match","CLS-M","Moy-Gen","CLS-G","Moy-Part","CLS-P","M-Series","CLS-S","MGPS","CLS","CLS"]
[null,null,null,null,null,null,null,null,null,null,{"$f":"C9","v":0},null,"L",null,null,{"$f":"D33","v":0},null,{"$f":"E33","v":0},{"$f":"D27","v":0},null,{"$f":"E27","v":0},{"$f":"D21","v":0},null,{"$f":"E21","v":0},null,{"$f":"P18+S18+V18","v":0},null,{"$f":"R18+U18+X18","v":0},{"$f":"AP18","v":{"$error":"#DIV/0!"}},null,{"$f":"AA19","v":0.03},{"$f":"RANK(AE18,AE$18:AE$29,0)","v":1},{"$f":"AB20","v":{"$error":"#DIV/0!"}},{"$f":"RANK(AG18,AG$18:AG$29,0)","v":{"$error":"#DIV/0!"}},{"$f":"MAX(R20,U20,X20)","v":{"$error":"#DIV/0!"}},{"$f":"RANK(AI18,AI$18:AI$29)","v":{"$error":"#DIV/0!"}},{"$f":"Z20","v":0},{"$f":"RANK(AK18,AK$18:AK$29)","v":1},{"$f":"(AF18*1000)+(AH18*100)+(AJ18*10)+(AL18*1)","v":{"$error":"#DIV/0!"}},{"$f":"AM18","v":{"$error":"#DIV/0!"}},{"$f":"RANK(AN18,AN$18:AN$29,1)","v":{"$error":"#DIV/0!"}},{"$f":"RANK(AO18,AO$18:AO$29,1)","v":{"$error":"#DIV/0!"}}]
[null,null,null,null,null,null,null,null,null,null,null,null,null,null,null,null,{"$f":"IF(R18<1,0.01,IF(P18>M21,2,IF(P18=M21,1,0)))","v":0.01},null,null,{"$f":"IF(U18<1,0.01,IF(S18>M24,2,IF(S18=M24,1,0)))","v":0.01},null,null,{"$f":"IF(X18<1,0.01,IF(V18>M27,2,IF(V18=M27,1,0)))","v":0.01},null,null,null,{"$f":"Q19+T19+W19","v":0.03}]
[null,null,null,"Pts","Rep","Série",null,null,null,null,null,null,null,null,null,{"$f":"F33","v":0},null,{"$f":"P18/R18","v":{"$error":"#DIV/0!"}},{"$f":"F27","v":0},null,{"$f":"S18/U18","v":{"$error":"#DIV/0!"}},{"$f":"F21","v":0},null,{"$f":"V18/X18","v":{"$error":"#DIV/0!"}},null,{"$f":"MAX(P20,S20,V20)","v":0},null,{"$f":"Z18/AB18","v":{"$error":"#DIV/0!"}}]
[null,"Tour 1",{"$f":"C9","v":0},null,null,null,null,null,null,null,{"$f":"C10","v":0},null,{"$f":"D34","v":0},null,{"$f":"E33","v":0},"M",null,null,{"$f":"D24","v":0},null,{"$f":"E24","v":0},{"$f":"D31","v":0},null,{"$f":"E30","v":0},null,{"$f":"M21+S21+V21","v":0},null,{"$f":"O21+U21+X21","v":0},{"$f":"AP21","v":{"$error":"#DIV/0!"}},null,{"$f":"AA22","v":0.03},{"$f":"RANK(AE21,AE$18:AE$29,0)","v":1},{"$f":"AB23","v":{"$error":"#DIV/0!"}},{"$f":"RANK(AG21,AG$18:AG$29,0)","v":{"$error":"#DIV/0!"}},{"$f":"MAX(O23,U23,X23)","v":{"$error":"#DIV/0!"}},{"$f":"RANK(AI21,AI$18:AI$29)","v":{"$error":"#DIV/0!"}},{"$f":"Z23","v":0},{"$f":"RANK(AK21,AK$18:AK$29)","v":1},{"$f":"(AF21*1000)+(AH21*100)+(AJ21*10)+(AL21*1)","v":{"$error":"#DIV/0!"}},{"$f":"AM21","v":{"$error":"#DIV/0!"}},{"$f":"RANK(AN21,AN$18:AN$29,1)","v":{"$error":"#DIV/0!"}},{"$f":"RANK(AO21,AO$18:AO$29,1)","v":{"$error":"#DIV/0!"}}]
[null,null,{"$f":"C12","v":0},null,null,null,null,null,null,null,null,null,null,{"$f":"IF(R18>0,2-Q19,0.01)","v":0.01},null,null,null,null,null,{"$f":"IF(U21<1,0.01,IF(S21>P24,2,IF(S21=P24,1,0)))","v":0.01},null,null,{"$f":"IF(X21<1,0.01,IF(V21>P27,2,IF(V21=P27,1,0)))","v":0.01},null,null,null,{"$f":"N22+T22+W22","v":0.03}]
[null,null,null,null,null,null,null,null,null,null,null,null,{"$f":"F34","v":0},null,{"$f":"M21/O21","v":{"$error":"#DIV/0!"}},null,null,null,{"$f":"F24","v":0},null,{"$f":"S21/U21","v":{"$error":"#DIV/0!"}},{"$f":"F31","v":0},null,{"$f":"V21/X21","v":{"$error":"#DIV/0!"}},null,{"$f":"MAXA(M23,S23,V23)","v":0},null,{"$f":"Z21/AB21","v":{"$error":"#DIV/0!"}}]
[null,"Tour 2",{"$f":"C10","v":0},null,null,null,null,null,null,null,{"$f":"C11","v":0},null,{"$f":"D28","v":0},null,{"$f":"E27","v":0},{"$f":"D25","v":0},null,{"$f":"E24","v":0},"B",null,null,{"$f":"D36","v":0},null,{"$f":"E36","v":0},null,{"$f":"M24+P24+V24","v":0},null,{"$f":"O24+R24+X24","v":0},{"$f":"AP24","v":{"$error":"#DIV/0!"}},null,{"$f":"AA25","v":0.03},{"$f":"RANK(AE24,AE$18:AE$29,0)","v":1},{"$f":"AB26","v":{"$error":"#DIV/0!"}},{"$f":"RANK(AG24,AG$18:AG$29,0)","v":{"$error":"#DIV/0!"}},{"$f":"MAX(O26,R26,X26)","v":{"$error":"#DIV/0!"}},{"$f":"RANK(AI24,AI$18:AI$29)","v":{"$error":"#DIV/0!"}},{"$f":"Z26","v":0},{"$f":"RANK(AK24,AK$18:AK$29)","v":1},{"$f":"(AF24*1000)+(AH24*100)+(AJ24*10)+(AL24*1)","v":{"$error":"#DIV/0!"}},{"$f":"AM24","v":{"$error":"#DIV/0!"}},{"$f":"RANK(AN24,AN$18:AN$29,1)","v":{"$error":"#DIV/0!"}},{"$f":"RANK(AO24,AO$18:AO$29,1)","v":{"$error":"#DIV/0!"}}]
[null,null,{"$f":"C11","v":0},null,null,null,null,null,null,null,null,null,null,{"$f":"IF(U18>0,2-T19,0.01)","v":0.01},null,null,{"$f":"IF(U21>0,2-T22,0.01)","v":0.01},null,null,null,null,null,{"$f":"IF(X24<1,0.01,IF(V24>S27,2,IF(V24=S27,1,0)))","v":0.01},null,null,null,{"$f":"N25+Q25+W25","v":0.03}]
[null,null,null,null,null,null,null,null,null,null,null,null,{"$f":"F28","v":0},null,{"$f":"M24/O24","v":{"$error":"#DIV/0!"}},{"$f":"F25","v":0},null,{"$f":"P24/R24","v":{"$error":"#DIV/0!"}},null,null,null,{"$f":"F36","v":0},null,{"$f":"V24/X24","v":{"$error":"#DIV/0!"}},null,{"$f":"MAXA(M26,P26,V26)","v":0},null,{"$f":"Z24/AB24","v":{"$error":"#DIV/0!"}}]
[null,"Tour 3",{"$f":"C9","v":0},null,null,null,null,null,null,null,{"$f":"C12","v":0},null,{"$f":"D22","v":0},null,{"$f":"E21","v":0},{"$f":"D30","v":0},null,{"$f":"E30","v":0},{"$f":"D37","v":0},null,{"$f":"E36","v":0},null,null,null,null,{"$f":"M27+P27+S27","v":0},null,{"$f":"O27+R27+U27","v":0},{"$f":"AP27","v":{"$error":"#DIV/0!"}},null,{"$f":"AA28","v":0.03},{"$f":"RANK(AE27,AE$18:AE$29,0)","v":1},{"$f":"AB29","v":{"$error":"#DIV/0!"}},{"$f":"RANK(AG27,AG$18:AG$29,0)","v":{"$error":"#DIV/0!"}},{"$f":"MAX(O29,R29,U29)","v":{"$error":"#DIV/0!"}},{"$f":"RANK(AI27,AI$18:AI$29)","v":{"$error":"#DIV/0!"}},{"$f":"Z29","v":0},{"$f":"RANK(AK27,AK$18:AK$29)","v":1},{"$f":"(AF27*1000)+(AH27*100)+(AJ27*10)+(AL27*1)","v":{"$error":"#DIV/0!"}},{"$f":"AM27","v":{"$error":"#DIV/0!"}},{"$f":"RANK(AN27,AN$18:AN$29,1)","v":{"$error":"#DIV/0!"}},{"$f":"RANK(AO27,AO$18:AO$29,1)","v":{"$error":"#DIV/0!"}}]
[null,null,{"$f":"C11","v":0},null,null,null,null,null,null,null,null,null,null,{"$f":"IF(X18>0,2-W19,0.01)","v":0.01},null,null,{"$f":"IF(X21>0,2-W22,0.01)","v":0.01},null,null,{"$f":"IF(X24>0,2-W25,0.01)","v":0.01},null,null,null,null,null,null,{"$f":"N28+Q28+T28","v":0.03}]
[null,null,null,null,null,null,null,null,null,null,null,null,{"$f":"F22","v":0},null,{"$f":"M27/O27","v":{"$error":"#DIV/0!"}},{"$f":"F30","v":0},null,{"$f":"P27/R27","v":{"$error":"#DIV/0!"}},{"$f":"F37","v":0},null,{"$f":"S27/U27","v":{"$error":"#DIV/0!"}},null,null,null,null,{"$f":"MAXA(M29,P29,S29)","v":0},null,{"$f":"Z27/AB27","v":{"$error":"#DIV/0!"}}]
[null,"Tour 4",{"$f":"C12","v":0}]
[null,null,{"$f":"C10","v":0},null,null,null,null,null,null,null,null,null,"Pas de prolongation en cas de match nul."]
[]
[null,"Tour 5",{"$f":"C9","v":0}]
[null,null,{"$f":"C10","v":0}]
[]
[null,"Tour 6",{"$f":"C11","v":0}]
[null,null,{"$f":"C12","v":0}]

{"sheet":"5JOUEURS_SERPENTIN","index":18,"n_rows":33,"n_cols":49,"rows_kept":33,"cut":false,"hidden":true,"merged":[[6,27,6,28],[7,12,7,15],[7,17,7,18],[7,20,7,21],[7,23,7,25],[7,27,7,28],[1,12,4,35],[2,1,3,2],[2,3,3,9],[6,12,6,15],[6,17,6,18],[6,20,6,21],[6,23,6,25],[5,3,6,9],[5,1,6,2],[10,1,11,10],[10,12,11,12],[10,14,11,30],[13,7,14,10],[13,14,15,15],[13,16,15,18],[13,19,15,21],[13,22,15,24],[13,25,15,27],[13,1,14,2],[14,41,14,42],[14,43,14,44],[14,45,14,46],[14,48,15,48],[16,12,18,12],[16,14,18,15],[16,16,18,18],[16,35,18,35],[16,37,18,37],[16,38,18,38],[13,28,15,30],[13,32,15,34],[13,35,15,35],[14,12,15,12],[14,37,14,38],[14,39,14,40],[16,45,18,45],[16,46,18,46],[16,47,18,47],[16,48,18,48],[17,1,18,1],[17,4,18,4],[17,9,18,9],[16,39,18,39],[16,40,18,40],[16,41,18,41],[16,42,18,42],[16,43,18,43],[16,44,18,44],[19,45,21,45],[19,46,21,46],[19,47,21,47],[19,48,21,48],[20,1,21,1],[20,4,21,4],[20,9,21,9],[19,39,21,39],[19,40,21,40],[19,41,21,41],[19,42,21,42],[19,43,21,43],[19,44,21,44],[19,12,21,12],[19,14,21,15],[19,19,21,21],[19,35,21,35],[19,37,21,37],[19,38,21,38],[22,45,24,45],[22,46,24,46],[22,47,24,47],[22,48,24,48],[23,1,24,1],[23,4,24,4],[23,9,24,9],[22,39,24,39],[22,40,24,40],[22,41,24,41],[22,42,24,42],[22,43,24,43],[22,44,24,44],[22,12,24,12],[22,14,24,15],[22,22,24,24],[22,35,24,35],[22,37,24,37],[22,38,24,38],[25,45,27,45],[25,46,27,46],[25,47,27,47],[25,48,27,48],[26,1,27,1],[26,4,27,4],[26,9,27,9],[25,39,27,39],[25,40,27,40],[25,41,27,41],[25,42,27,42],[25,43,27,43],[25,44,27,44],[25,12,27,12],[25,14,27,15],[25,25,27,27],[25,35,27,35],[25,37,27,37],[25,38,27,38],[32,1,33,12],[32,14,32,30],[34,1,36,12],[28,45,30,45],[28,46,30,46],[28,47,30,47],[28,48,30,48],[29,1,30,1],[29,4,30,4],[29,9,30,9],[28,39,30,39],[28,40,30,40],[28,41,30,41],[28,42,30,42],[28,43,30,43],[28,44,30,44],[28,12,30,12],[28,14,30,15],[28,28,30,30],[28,35,30,35],[28,37,30,37],[28,38,30,38]]}
[]
[null,null,null,null,null,null,null,null,null,null,null,null,"LIGUE MÉDITERRANÉENNE DE BILLARD"]
[null,"CLUB ORGANISATEUR",null,"19090 – BILLARD CLUB ROGNAC"]
[]
[]
[null,"DIRECTEUR DE JEU :",null,"Alain LETELLIER"]
[null,null,null,null,null,null,null,null,null,null,null,null,"Compétition",null,null,null,null,"Mode de jeu",null,null,"Categorie",null,null,"Format billard",null,null,null,"Distance"]
[]
[]
[]
[null,"SAISIE DES RESULTATS",null,null,null,null,null,null,null,null,null,null,null,null,"POULE UNIQUE LMB - 5 JOUEURS - SUR 2 BILLARDS - 1 EXEMPT"]
[]
[]
[null,"Billard 1",null,null,null,null,null,"Billard 2",null,null,null,null,null,null,null,null,{"$f":"'Saisie des joueurs'!K18","v":0},null,null,{"$f":"'Saisie des joueurs'!K19","v":0},null,null,{"$f":"'Saisie des joueurs'!K20","v":0},null,null,{"$f":"'Saisie des joueurs'!K21","v":0},null,null,{"$f":"'Saisie des joueurs'!K22","v":0},null,null,null,"TOTAUX",null,null,"CLASSEMENT"]
[null,null,null,null,null,null,null,null,null,null,null,null,"EXEMPT",null,null,null,null,null,null,null,null,null,null,null,null,null,null,null,null,null,null,null,null,null,null,null,null,"Classement",null,"Classement",null,"Classement",null,"Classement",null,"Classement",null,"GENERAL","RANG"]
[null,null,null,null,null,null,null,null,null,null,null,null,null,null,null,null,null,null,null,null,null,null,null,null,null,null,null,null,null,null,null,null,null,null,null,null,null,"Point-Match","CLS-M","Moy-Gen","CLS-G","Moy-Part","CLS-P","M-Series","CLS-S","MGPS","CLS","CLS"]
[null,null,null,"Pts","Rep","Série",null,null,"Pts","Rep","Série",null,{"$f":"O17","v":0},null,{"$f":"'Saisie des joueurs'!K18","v":0},null,null,null,null,{"$f":"D30","v":0},null,{"$f":"E30","v":0},{"$f":"I27","v":0},null,{"$f":"J27","v":0},{"$f":"I24","v":0},null,{"$f":"J24","v":0},{"$f":"D21","v":0},null,{"$f":"E21","v":0},null,{"$f":"T17+W17+Z17+AC17","v":0},null,{"$f":"V17+Y17+AB17+AE17","v":0},{"$f":"AW17","v":{"$error":"#DIV/0!"}},null,{"$f":"AH18","v":0.04},{"$f":"RANK(AL17,AL$17:AL$31,0)","v":1},{"$f":"AI19","v":{"$error":"#DIV/0!"}},{"$f":"RANK(AN17,AN$17:AN$31,0)","v":{"$error":"#DIV/0!"}},{"$f":"MAX(V19,Y19,AB19,AE19)","v":{"$error":"#DIV/0!"}},{"$f":"RANK(AP17,AP$17:AP$31)","v":{"$error":"#DIV/0!"}},{"$f":"AG19","v":0},{"$f":"RANK(AR17,AR$17:AR$31)","v":1},{"$f":"(AM17*1000)+(AO17*100)+(AQ17*10)+(AS17*1)","v":{"$error":"#DIV/0!"}},{"$f":"AT17","v":{"$error":"#DIV/0!"}},{"$f":"RANK(AU17,AU$17:AU$31,1)","v":{"$error":"#DIV/0!"}},{"$f":"RANK(AV17,AV$17:AV$31,1)","v":{"$error":"#DIV/0!"}}]
[null,"Tour 1",{"$f":"O23","v":0},null,null,null,null,{"$f":"O20","v":0},null,null,null,null,null,null,null,null,null,null,null,null,{"$f":"IF(V17<1,0.01,IF(T17>Q20,2,IF(T17=Q20,1,0)))","v":0.01},null,null,{"$f":"IF(Y17<1,0.01,IF(W17>Q23,2,IF(W17=Q23,1,0)))","v":0.01},null,null,{"$f":"IF(AB17<1,0.01,IF(Z17>Q26,2,IF(Z17=Q26,1,0)))","v":0.01},null,null,{"$f":"IF(AE17<1,0.01,IF(AC17>Q29,2,IF(AC17=Q29,1,0)))","v":0.01},null,null,null,{"$f":"U18+X18+AA18+AD18","v":0.04}]
[null,null,{"$f":"O26","v":0},null,null,null,null,{"$f":"O29","v":0},null,null,null,null,null,null,null,null,null,null,null,{"$f":"F30","v":0},null,{"$f":"T17/V17","v":{"$error":"#DIV/0!"}},{"$f":"K27","v":0},null,{"$f":"W17/Y17","v":{"$error":"#DIV/0!"}},{"$f":"K24","v":0},null,{"$f":"Z17/AB17","v":{"$error":"#DIV/0!"}},{"$f":"F21","v":0},null,{"$f":"AC17/AE17","v":{"$error":"#DIV/0!"}},null,{"$f":"MAX(T19,W19,Z19,AC19)","v":0},null,{"$f":"AG17/AI17","v":{"$error":"#DIV/0!"}}]
[null,null,null,null,null,null,null,null,null,null,null,null,{"$f":"O26","v":0},null,{"$f":"'Saisie des joueurs'!K19","v":0},null,{"$f":"D31","v":0},null,{"$f":"E30","v":0},"L",null,null,{"$f":"I21","v":0},null,{"$f":"J21","v":0},{"$f":"D27","v":0},null,{"$f":"E27","v":0},{"$f":"I18","v":0},null,{"$f":"J18","v":0},null,{"$f":"Q20+W20+Z20+AC20","v":0},null,{"$f":"S20+Y20+AB20+AE20","v":0},{"$f":"AW20","v":{"$error":"#DIV/0!"}},null,{"$f":"AH21","v":0.04},{"$f":"RANK(AL20,AL$17:AL$31,0)","v":1},{"$f":"AI22","v":{"$error":"#DIV/0!"}},{"$f":"RANK(AN20,AN$17:AN$31,0)","v":{"$error":"#DIV/0!"}},{"$f":"MAX(S22,Y22,AB22,AE22)","v":{"$error":"#DIV/0!"}},{"$f":"RANK(AP20,AP$17:AP$31)","v":{"$error":"#DIV/0!"}},{"$f":"AG22","v":0},{"$f":"RANK(AR20,AR$17:AR$31)","v":1},{"$f":"(AM20*1000)+(AO20*100)+(AQ20*10)+(AS20*1)","v":{"$error":"#DIV/0!"}},{"$f":"AT20","v":{"$error":"#DIV/0!"}},{"$f":"RANK(AU20,AU$17:AU$31,1)","v":{"$error":"#DIV/0!"}},{"$f":"RANK(AV20,AV$17:AV$31,1)","v":{"$error":"#DIV/0!"}}]
[null,"Tour 2",{"$f":"O17","v":0},null,null,null,null,{"$f":"O20","v":0},null,null,null,null,null,null,null,null,null,{"$f":"IF(V17>0,2-U18,0.01)","v":0.01},null,null,null,null,null,{"$f":"IF(Y20<1,0.01,IF(W20>T23,2,IF(W20=T23,1,0)))","v":0.01},null,null,{"$f":"IF(AB20<1,0.01,IF(Z20>T26,2,IF(Z20=T26,1,0)))","v":0.01},null,null,{"$f":"IF(AE20<1,0.01,IF(AC20>T29,2,IF(AC20=T29,1,0)))","v":0.01},null,null,null,{"$f":"R21+X21+AA21+AD21","v":0.04}]
[null,null,{"$f":"O29","v":0},null,null,null,null,{"$f":"O23","v":0},null,null,null,null,null,null,null,null,{"$f":"F31","v":0},null,{"$f":"Q20/S20","v":{"$error":"#DIV/0!"}},null,null,null,{"$f":"K21","v":0},null,{"$f":"W20/Y20","v":{"$error":"#DIV/0!"}},{"$f":"F27","v":0},null,{"$f":"Z20/AB20","v":{"$error":"#DIV/0!"}},{"$f":"F18","v":0},null,{"$f":"AC20/AE20","v":{"$error":"#DIV/0!"}},null,{"$f":"MAXA(Q22,W22,Z22,AC22)","v":0},null,{"$f":"AG20/AI20","v":{"$error":"#DIV/0!"}}]
[null,null,null,null,null,null,null,null,null,null,null,null,{"$f":"O20","v":0},null,{"$f":"'Saisie des joueurs'!K20","v":0},null,{"$f":"I28","v":0},null,{"$f":"J27","v":0},{"$f":"I22","v":0},null,{"$f":"J21","v":0},"M",null,null,{"$f":"D18","v":0},null,{"$f":"E18","v":0},{"$f":"D24","v":0},null,{"$f":"E24","v":0},null,{"$f":"Q23+T23+Z23+AC23","v":0},null,{"$f":"S23+V23+AB23+AE23","v":0},{"$f":"AW23","v":{"$error":"#DIV/0!"}},null,{"$f":"AH24","v":0.04},{"$f":"RANK(AL23,AL$17:AL$31,0)","v":1},{"$f":"AI25","v":{"$error":"#DIV/0!"}},{"$f":"RANK(AN23,AN$17:AN$31,0)","v":{"$error":"#DIV/0!"}},{"$f":"MAX(S25,V25,AB25,AE25)","v":{"$error":"#DIV/0!"}},{"$f":"RANK(AP23,AP$17:AP$31)","v":{"$error":"#DIV/0!"}},{"$f":"AG25","v":0},{"$f":"RANK(AR23,AR$17:AR$31)","v":1},{"$f":"(AM23*1000)+(AO23*100)+(AQ23*10)+(AS23*1)","v":{"$error":"#DIV/0!"}},{"$f":"AT23","v":{"$error":"#DIV/0!"}},{"$f":"RANK(AU23,AU$17:AU$31,1)","v":{"$error":"#DIV/0!"}},{"$f":"RANK(AV23,AV$17:AV$31,1)","v":{"$error":"#DIV/0!"}}]
[null,"Tour 3",{"$f":"O23","v":0},null,null,null,null,{"$f":"O17","v":0},null,null,null,null,null,null,null,null,null,{"$f":"IF(Y17>0,2-X18,0.01)","v":0.01},null,null,{"$f":"IF(Y20>0,2-X21,0.01)","v":0.01},null,null,null,null,null,{"$f":"IF(AB23<1,0.01,IF(Z23>W26,2,IF(Z23=W26,1,0)))","v":0.01},null,null,{"$f":"IF(AE23<1,0.01,IF(AC23>W29,2,IF(AC23=W29,1,0)))","v":0.01},null,null,null,{"$f":"R24+U24+AA24+AD24","v":0.04}]
[null,null,{"$f":"O29","v":0},null,null,null,null,{"$f":"O26","v":0},null,null,null,null,null,null,null,null,{"$f":"K28","v":0},null,{"$f":"Q23/S23","v":{"$error":"#DIV/0!"}},{"$f":"K22","v":0},null,{"$f":"T23/V23","v":{"$error":"#DIV/0!"}},null,null,null,{"$f":"F18","v":0},null,{"$f":"Z23/AB23","v":{"$error":"#DIV/0!"}},{"$f":"F24","v":0},null,{"$f":"AC23/AE23","v":{"$error":"#DIV/0!"}},null,{"$f":"MAXA(Q25,T25,Z25,AC25)","v":0},null,{"$f":"AG23/AI23","v":{"$error":"#DIV/0!"}}]
[null,null,null,null,null,null,null,null,null,null,null,null,{"$f":"O29","v":0},null,{"$f":"'Saisie des joueurs'!K22","v":0},null,{"$f":"I25","v":0},null,{"$f":"J24","v":0},{"$f":"D28","v":0},null,{"$f":"E27","v":0},{"$f":"D19","v":0},null,{"$f":"E18","v":0},"B",null,null,{"$f":"I30","v":0},null,{"$f":"J30","v":0},null,{"$f":"Q26+T26+W26+AC26","v":0},null,{"$f":"S26+V26+Y26+AE26","v":0},{"$f":"AW26","v":{"$error":"#DIV/0!"}},null,{"$f":"AH27","v":0.04},{"$f":"RANK(AL26,AL$17:AL$31,0)","v":1},{"$f":"AI28","v":{"$error":"#DIV/0!"}},{"$f":"RANK(AN26,AN$17:AN$31,0)","v":{"$error":"#DIV/0!"}},{"$f":"MAX(S28,V28,Y28)","v":{"$error":"#DIV/0!"}},{"$f":"RANK(AP26,AP$17:AP$31)","v":{"$error":"#DIV/0!"}},{"$f":"AG28","v":0},{"$f":"RANK(AR26,AR$17:AR$31)","v":1},{"$f":"(AM26*1000)+(AO26*100)+(AQ26*10)+(AS26*1)","v":{"$error":"#DIV/0!"}},{"$f":"AT26","v":{"$error":"#DIV/0!"}},{"$f":"RANK(AU26,AU$17:AU$31,1)","v":{"$error":"#DIV/0!"}},{"$f":"RANK(AV26,AV$17:AV$31,1)","v":{"$error":"#DIV/0!"}}]
[null,"Tour 4",{"$f":"O20","v":0},null,null,null,null,{"$f":"O17","v":0},null,null,null,null,null,null,null,null,null,{"$f":"IF(AB17>0,2-AA18,0.01)","v":0.01},null,null,{"$f":"IF(AB20>0,2-AA21,0.01)","v":0.01},null,null,{"$f":"IF(AB23>0,2-AA24,0.01)","v":0.01},null,null,null,null,null,{"$f":"IF(AE26<1,0.01,IF(AC26>Z29,2,IF(AC26=Z29,1,0)))","v":0.01},null,null,null,{"$f":"R27+U27+X27+AD27","v":0.04}]
[null,null,{"$f":"O26","v":0},null,null,null,null,{"$f":"O23","v":0},null,null,null,null,null,null,null,null,{"$f":"K25","v":0},null,{"$f":"Q26/S26","v":{"$error":"#DIV/0!"}},{"$f":"F28","v":0},null,{"$f":"T26/V26","v":{"$error":"#DIV/0!"}},{"$f":"F10","v":0},null,{"$f":"W26/Y26","v":{"$error":"#DIV/0!"}},null,null,null,{"$f":"K30","v":0},null,{"$f":"AC26/AE26","v":{"$error":"#DIV/0!"}},null,{"$f":"MAXA(Q28,T28,W28,AC28)","v":0},null,{"$f":"AG26/AI26","v":{"$error":"#DIV/0!"}}]
[null,null,null,null,null,null,null,null,null,null,null,null,{"$f":"O23","v":0},null,{"$f":"'Saisie des joueurs'!K23","v":0},null,{"$f":"D22","v":0},null,{"$f":"E21","v":0},{"$f":"I19","v":0},null,{"$f":"J18","v":0},{"$f":"D25","v":0},null,{"$f":"E24","v":0},{"$f":"I31","v":0},null,{"$f":"J30","v":0},null,null,null,null,{"$f":"Q29+T29+W29+Z29","v":0},null,{"$f":"S29+V29+Y29+AB29","v":0},{"$f":"AW29","v":{"$error":"#DIV/0!"}},null,{"$f":"AH30","v":0.04},{"$f":"RANK(AL29,AL$17:AL$31,0)","v":1},{"$f":"AI31","v":{"$error":"#DIV/0!"}},{"$f":"RANK(AN29,AN$17:AN$31,0)","v":{"$error":"#DIV/0!"}},{"$f":"MAX(S31,V31,Y31)","v":{"$error":"#DIV/0!"}},{"$f":"RANK(AP29,AP$17:AP$31)","v":{"$error":"#DIV/0!"}},{"$f":"AG31","v":0},{"$f":"RANK(AR29,AR$17:AR$31)","v":1},{"$f":"(AM29*1000)+(AO29*100)+(AQ29*10)+(AS29*1)","v":{"$error":"#DIV/0!"}},{"$f":"AT29","v":{"$error":"#DIV/0!"}},{"$f":"RANK(AU29,AU$17:AU$31,1)","v":{"$error":"#DIV/0!"}},{"$f":"RANK(AV29,AV$17:AV$31,1)","v":{"$error":"#DIV/0!"}}]
[null,"Tour 5",{"$f":"O17","v":0},null,null,null,null,{"$f":"O26","v":0},null,null,null,null,null,null,null,null,null,{"$f":"IF(AE17>0,2-AD18,0.01)","v":0.01},null,null,{"$f":"IF(AE20>0,2-AD21,0.01)","v":0.01},null,null,{"$f":"IF(AE23>0,2-AD24,0.01)","v":0.01},null,null,{"$f":"IF(AE26>0,2-AD27,0.01)","v":0.01},null,null,null,null,null,null,{"$f":"R30+U30+X30+AA30","v":0.04}]
[null,null,{"$f":"O20","v":0},null,null,null,null,{"$f":"O29","v":0},null,null,null,null,null,null,null,null,{"$f":"F22","v":0},null,{"$f":"Q29/S29","v":{"$error":"#DIV/0!"}},{"$f":"K19","v":0},null,{"$f":"T29/V29","v":{"$error":"#DIV/0!"}},{"$f":"F25","v":0},null,{"$f":"W29/Y29","v":{"$error":"#DIV/0!"}},{"$f":"K31","v":0},null,{"$f":"Z29/AB29","v":{"$error":"#DIV/0!"}},null,null,null,null,{"$f":"MAXA(Q31,T31,W31,Z31)","v":0},null,{"$f":"AG29/AI29","v":{"$error":"#DIV/0!"}}]
[]
[null,"OBSERVATIONS",null,null,null,null,null,null,null,null,null,null,null,null,"Pas de prolongation en cas de match nul."]

{"sheet":"6JOUEURS_SERPENTIN","index":19,"n_rows":66,"n_cols":48,"rows_kept":66,"cut":false,"hidden":true,"merged":[[2,1,3,2],[2,3,3,9],[5,1,6,2],[5,3,6,9],[1,12,4,35],[6,12,6,15],[6,17,6,18],[6,20,6,21],[6,23,6,25],[6,27,6,28],[8,2,8,5],[9,2,9,5],[10,2,10,5],[7,12,7,15],[7,17,7,18],[7,20,7,21],[7,23,7,25],[7,27,7,28],[12,31,15,33],[10,12,10,20],[10,21,10,29],[12,1,13,5],[12,12,15,14],[12,15,15,17],[12,18,15,20],[12,21,15,23],[12,24,15,26],[12,27,15,29],[15,1,16,2],[12,34,15,34],[13,10,15,11],[14,36,14,37],[14,38,14,39],[14,41,14,42],[14,43,14,44],[14,46,15,46],[16,10,18,11],[16,12,18,14],[16,21,18,23],[16,34,18,34],[16,36,18,36],[16,37,18,37],[16,38,18,38],[19,43,21,43],[19,44,21,44],[19,45,21,45],[19,46,21,46],[19,47,21,47],[19,41,21,41],[19,42,21,42],[16,39,18,39],[16,40,18,40],[16,41,18,41],[16,42,18,42],[16,43,18,43],[16,44,18,44],[16,45,18,45],[16,46,18,46],[16,47,18,47],[19,38,21,38],[19,39,21,39],[19,40,21,40],[31,1,32,1],[31,4,32,4],[34,1,35,1],[34,4,35,4],[22,1,23,1],[22,4,23,4],[22,10,24,11],[22,18,24,20],[22,27,24,29],[19,37,21,37],[19,1,20,1],[19,4,20,4],[19,10,21,11],[19,15,21,17],[19,24,21,26],[19,34,21,34],[19,36,21,36],[37,2,37,5],[38,2,38,5],[22,47,24,47],[25,1,26,1],[25,4,26,4],[26,12,26,34],[28,1,29,1],[28,4,29,4],[22,41,24,41],[22,42,24,42],[22,43,24,43],[22,44,24,44],[22,45,24,45],[22,46,24,46],[22,34,24,34],[22,36,24,36],[22,37,24,37],[22,38,24,38],[22,39,24,39],[22,40,24,40],[39,2,39,5],[40,12,40,20],[40,21,40,29],[42,1,43,5],[42,12,45,14],[42,15,45,17],[42,18,45,20],[42,21,45,23],[42,24,45,26],[45,1,46,2],[46,47,48,47],[49,1,50,1],[49,4,50,4],[49,10,51,11],[49,15,51,17],[49,24,51,26],[49,34,51,34],[42,27,45,29],[42,31,45,33],[42,34,45,34],[43,10,45,11],[44,36,44,37],[44,38,44,39],[44,41,44,42],[44,43,44,44],[44,46,45,46],[46,10,48,11],[46,12,48,14],[46,21,48,23],[46,34,48,34],[46,36,48,36],[46,37,48,37],[46,38,48,38],[46,39,48,39],[46,40,48,40],[46,41,48,41],[46,42,48,42],[46,43,48,43],[46,44,48,44],[46,45,48,45],[46,46,48,46],[52,1,53,1],[52,4,53,4],[52,10,54,11],[52,18,54,20],[52,27,54,29],[52,34,54,34],[49,45,51,45],[49,46,51,46],[49,47,51,47],[49,36,51,36],[49,37,51,37],[49,38,51,38],[49,39,51,39],[49,40,51,40],[49,41,51,41],[49,42,51,42],[52,46,54,46],[52,47,54,47],[52,36,54,36],[52,37,54,37],[52,38,54,38],[52,39,54,39],[52,40,54,40],[52,41,54,41],[49,43,51,43],[49,44,51,44],[52,42,54,42],[52,43,54,43],[52,44,54,44],[52,45,54,45],[64,1,65,1],[64,4,65,4],[55,1,56,1],[55,4,56,4],[56,12,56,34],[58,1,59,1],[58,4,59,4],[61,1,62,1],[61,4,62,4]]}
[]
[null,null,null,null,null,null,null,null,null,null,null,null,"LIGUE MÉDITERRANÉENNE DE BILLARD"]
[null,"CLUB ORGANISATEUR"]
[]
[]
[null,"DIRECTEUR DE JEU :"]
[null,null,null,null,null,null,null,null,null,null,null,null,"Compétition",null,null,null,null,"Mode de jeu",null,null,"Categorie",null,null,"Format billard",null,null,null,"Distance"]
[]
[null,"Joueur 1",{"$f":"'Saisie des joueurs'!K18","v":0}]
[null,"Joueur 2",{"$f":"'Saisie des joueurs'!K19","v":0}]
[null,"Joueur 3",{"$f":"'Saisie des joueurs'!K20","v":0},null,null,null,null,null,null,null,null,null,"MATCH ALLER",null,null,null,null,null,null,null,null,"MATCH RETOUR"]
[]
[null,"SAISIE DES RESULTATS",null,null,null,null,null,null,null,null,null,null,{"$f":"C9","v":0},null,null,{"$f":"C10","v":0},null,null,{"$f":"C11","v":0},null,null,{"$f":"C9","v":0},null,null,{"$f":"C10","v":0},null,null,{"$f":"C11","v":0},null,null,null,"TOTAUX",null,null,"CLASSEMENT"]
[]
[null,null,null,null,null,null,null,null,null,null,null,null,null,null,null,null,null,null,null,null,null,null,null,null,null,null,null,null,null,null,null,null,null,null,null,null,"Classement",null,"Classement",null,"Classement","Classement",null,"Classement",null,"GENERAL","RANG"]
[null,"POULE A",null,null,null,null,null,null,null,null,null,null,null,null,null,null,null,null,null,null,null,null,null,null,null,null,null,null,null,null,null,null,null,null,null,null,"Point-Match","CLS-M","Moy-Gen","CLS-G","Moy-Part","M-Series","CLS-S","MGPS","CLS","CLS"]
[null,null,null,null,null,null,null,null,null,null,{"$f":"C9","v":0},null,"L",null,null,{"$f":"D26","v":0},null,{"$f":"E26","v":0},{"$f":"D20","v":0},null,{"$f":"E20","v":0},"L",null,null,{"$f":"D35","v":0},null,{"$f":"E35","v":0},{"$f":"D29","v":0},null,{"$f":"E29","v":0},null,{"$f":"P17+S17+Y17+AB17","v":0},null,{"$f":"R17+U17+AA17+AD17","v":0},{"$f":"AU17","v":{"$error":"#DIV/0!"}},null,{"$f":"AG18","v":0.04},{"$f":"RANK(AK17,AK$17:AK$25,0)","v":1},{"$f":"AH19","v":{"$error":"#DIV/0!"}},{"$f":"RANK(AM17,AM$17:AM$25,0)","v":{"$error":"#DIV/0!"}},{"$f":"MAX(R19,U19,AA19,AD19)","v":{"$error":"#DIV/0!"}},{"$f":"RANK(AO17,AO$17:AO$25)","v":{"$error":"#DIV/0!"}},{"$f":"AF19","v":0},{"$f":"RANK(AQ17,AQ$17:AQ$25)","v":1},{"$f":"(AL17*1000)+(AN17*100)+(AP17*10)+(AR17*1)","v":{"$error":"#DIV/0!"}},{"$f":"AS17","v":{"$error":"#DIV/0!"}},{"$f":"RANK(AT17,AT$17:AT$25,1)","v":{"$error":"#DIV/0!"}},{"$f":"RANK(AU17,AU$17:AU$25,1)","v":{"$error":"#DIV/0!"}}]
[null,null,null,null,null,null,null,null,null,null,null,null,null,null,null,null,{"$f":"IF(R17<1,0.01,IF(P17>M20,2,IF(P17=M20,1,0)))","v":0.01},null,null,{"$f":"IF(U17<1,0.01,IF(S17>M23,2,IF(S17=M23,1,0)))","v":0.01},null,null,null,null,null,{"$f":"IF(AA17<1,0.01,IF(Y17>V20,2,IF(Y17=V20,1,0)))","v":0.01},null,null,{"$f":"IF(AD17<1,0.01,IF(AB17>V23,2,IF(AB17=V23,1,0)))","v":0.01},null,null,null,{"$f":"Q18+T18+Z18+AC18","v":0.04}]
[null,null,null,"Pts","Rep","Série",null,null,null,null,null,null,null,null,null,{"$f":"F26","v":0},null,{"$f":"P17/R17","v":{"$error":"#DIV/0!"}},{"$f":"F20","v":0},null,{"$f":"S17/U17","v":{"$error":"#DIV/0!"}},null,null,null,{"$f":"F35","v":0},null,{"$f":"Y17/AA17","v":{"$error":"#DIV/0!"}},{"$f":"F29","v":0},null,{"$f":"AB17/AD17","v":{"$error":"#DIV/0!"}},null,{"$f":"MAX(P19,S19,Y19,AB19)","v":0},null,{"$f":"AF17/AH17","v":{"$error":"#DIV/0!"}}]
[null,"Tour 1\nMatch aller",{"$f":"C9","v":0},null,null,null,null,null,null,null,{"$f":"C10","v":0},null,{"$f":"D27","v":0},null,{"$f":"E26","v":0},"M",null,null,{"$f":"D23","v":0},null,{"$f":"E23","v":0},{"$f":"D36","v":0},null,{"$f":"E35","v":0},"M",null,null,{"$f":"D32","v":0},null,{"$f":"E32","v":0},null,{"$f":"M20+S20+V20+AB20","v":0},null,{"$f":"O20+U20+X20+AD20","v":0},{"$f":"AU20","v":{"$error":"#DIV/0!"}},null,{"$f":"AG21","v":0.04},{"$f":"RANK(AK20,AK$17:AK$25,0)","v":1},{"$f":"AH22","v":{"$error":"#DIV/0!"}},{"$f":"RANK(AM20,AM$17:AM$25,0)","v":{"$error":"#DIV/0!"}},{"$f":"MAX(R22,U22,AA22,AD22)","v":{"$error":"#DIV/0!"}},{"$f":"RANK(AO20,AO$17:AO$25)","v":{"$error":"#DIV/0!"}},{"$f":"AF22","v":0},{"$f":"RANK(AQ20,AQ$17:AQ$25)","v":1},{"$f":"(AL20*1000)+(AN20*100)+(AP20*10)+(AR20*1)","v":{"$error":"#DIV/0!"}},{"$f":"AS20","v":{"$error":"#DIV/0!"}},{"$f":"RANK(AT20,AT$17:AT$25,1)","v":{"$error":"#DIV/0!"}},{"$f":"RANK(AU20,AU$17:AU$25,1)","v":{"$error":"#DIV/0!"}}]
[null,null,{"$f":"C11","v":0},null,null,null,null,null,null,null,null,null,null,{"$f":"IF(R17>0,2-Q18,0.01)","v":0.01},null,null,null,null,null,{"$f":"IF(U20<1,0.01,IF(S20>P23,2,IF(S20=P23,1,0)))","v":0.01},null,null,{"$f":"IF(AA17>0,2-Z18,0.01)","v":0.01},null,null,null,null,null,{"$f":"IF(AD20<1,0.01,IF(AB20>Y23,2,IF(AB20=Y23,1,0)))","v":0.01},null,null,null,{"$f":"N21+T21+W21+AC21","v":0.04}]
[null,null,null,null,null,null,null,null,null,null,null,null,{"$f":"F27","v":0},null,{"$f":"M20/O20","v":{"$error":"#DIV/0!"}},null,null,null,{"$f":"F23","v":0},null,{"$f":"S20/U20","v":{"$error":"#DIV/0!"}},{"$f":"F36","v":0},null,{"$f":"V20/X20","v":{"$error":"#DIV/0!"}},null,null,null,{"$f":"F32","v":0},null,{"$f":"AB20/AD20","v":{"$error":"#DIV/0!"}},null,{"$f":"MAXA(M22,S22,V22,AB22)","v":0},null,{"$f":"AF20/AH20","v":{"$error":"#DIV/0!"}}]
[null,"Tour 2\nMatch aller",{"$f":"C10","v":0},null,null,null,null,null,null,null,{"$f":"C11","v":0},null,{"$f":"D21","v":0},null,{"$f":"E20","v":0},{"$f":"D24","v":0},null,{"$f":"E23","v":0},"B",null,null,{"$f":"D30","v":0},null,{"$f":"E29","v":0},{"$f":"D33","v":0},null,{"$f":"E32","v":0},"B",null,null,null,{"$f":"M23+P23+V23+Y23","v":0},null,{"$f":"O23+R23+X23+AA23","v":0},{"$f":"AU23","v":{"$error":"#DIV/0!"}},null,{"$f":"AG24","v":0.04},{"$f":"RANK(AK23,AK$17:AK$25,0)","v":1},{"$f":"AH25","v":{"$error":"#DIV/0!"}},{"$f":"RANK(AM23,AM$17:AM$25,0)","v":{"$error":"#DIV/0!"}},{"$f":"MAX(R25,U25,AA25,AD25)","v":{"$error":"#DIV/0!"}},{"$f":"RANK(AO23,AO$17:AO$25)","v":{"$error":"#DIV/0!"}},{"$f":"AF25","v":0},{"$f":"RANK(AQ23,AQ$17:AQ$25)","v":1},{"$f":"(AL23*1000)+(AN23*100)+(AP23*10)+(AR23*1)","v":{"$error":"#DIV/0!"}},{"$f":"AS23","v":{"$error":"#DIV/0!"}},{"$f":"RANK(AT23,AT$17:AT$25,1)","v":{"$error":"#DIV/0!"}},{"$f":"RANK(AU23,AU$17:AU$25,1)","v":{"$error":"#DIV/0!"}}]
[null,null,{"$f":"C11","v":0},null,null,null,null,null,null,null,null,null,null,{"$f":"IF(U17>0,2-T18,0.01)","v":0.01},null,null,{"$f":"IF(U20>0,2-T21,0.01)","v":0.01},null,null,null,null,null,{"$f":"IF(AD17>0,2-AC18,0.01)","v":0.01},null,null,{"$f":"IF(AD20>0,2-AC21,0.01)","v":0.01},null,null,null,null,null,null,{"$f":"N24+Q24+W24+Z24","v":0.04}]
[null,null,null,null,null,null,null,null,null,null,null,null,{"$f":"F21","v":0},null,{"$f":"M23/O23","v":{"$error":"#DIV/0!"}},{"$f":"F24","v":0},null,{"$f":"P23/R23","v":{"$error":"#DIV/0!"}},null,null,null,{"$f":"F30","v":0},null,{"$f":"V23/X23","v":{"$error":"#DIV/0!"}},{"$f":"F33","v":0},null,{"$f":"Y23/AA23","v":{"$error":"#DIV/0!"}},null,null,null,null,{"$f":"MAXA(M25,P25,V25,Y25)","v":0},null,{"$f":"AF23/AH23","v":{"$error":"#DIV/0!"}}]
[null,"Tour 3\nMatch aller",{"$f":"C9","v":0}]
[null,null,{"$f":"C10","v":0},null,null,null,null,null,null,null,null,null,"Pas de prolongation en cas de match nul."]
[]
[null,"Tour 1\nMatch retour",{"$f":"C9","v":0}]
[null,null,{"$f":"C11","v":0}]
[]
[null,"Tour 2\nMatch retour",{"$f":"C10","v":0}]
[null,null,{"$f":"C11","v":0}]
[]
[null,"Tour 3\nMatch retour",{"$f":"C9","v":0}]
[null,null,{"$f":"C10","v":0}]
[]
[null,"Joueur 1",{"$f":"'Saisie des joueurs'!K22","v":0}]
[null,"Joueur 2",{"$f":"'Saisie des joueurs'!K23","v":0}]
[null,"Joueur 3",{"$f":"'Saisie des joueurs'!K24","v":0}]
[null,null,null,null,null,null,null,null,null,null,null,null,"MATCH ALLER",null,null,null,null,null,null,null,null,"MATCH RETOUR"]
[]
[null,"SAISIE DES RESULTATS",null,null,null,null,null,null,null,null,null,null,{"$f":"C38","v":0},null,null,{"$f":"C39","v":0},null,null,{"$f":"C40","v":0},null,null,{"$f":"C38","v":0},null,null,{"$f":"C39","v":0},null,null,{"$f":"C40","v":0},null,null,null,"TOTAUX",null,null,"CLASSEMENT"]
[]
[null,null,null,null,null,null,null,null,null,null,null,null,null,null,null,null,null,null,null,null,null,null,null,null,null,null,null,null,null,null,null,null,null,null,null,null,"Classement",null,"Classement",null,"Classement","Classement",null,"Classement",null,"GENERAL","RANG"]
[null,"POULE B",null,null,null,null,null,null,null,null,null,null,null,null,null,null,null,null,null,null,null,null,null,null,null,null,null,null,null,null,null,null,null,null,null,null,"Point-Match","CLS-M","Moy-Gen","CLS-G","Moy-Part","M-Series","CLS-S","MGPS","CLS","CLS"]
[null,null,null,null,null,null,null,null,null,null,{"$f":"C38","v":0},null,"L",null,null,{"$f":"D56","v":0},null,{"$f":"E56","v":0},{"$f":"D50","v":0},null,{"$f":"E50","v":0},"L",null,null,{"$f":"D65","v":0},null,{"$f":"E65","v":0},{"$f":"D59","v":0},null,{"$f":"E59","v":0},null,{"$f":"P47+S47+Y47+AB47","v":0},null,{"$f":"R47+U47+AA47+AD47","v":0},{"$f":"AU47","v":{"$error":"#DIV/0!"}},null,{"$f":"AG48","v":0.04},{"$f":"RANK(AK47,AK$47:AK$55,0)","v":1},{"$f":"AH49","v":{"$error":"#DIV/0!"}},{"$f":"RANK(AM47,AM$47:AM$55,0)","v":{"$error":"#DIV/0!"}},{"$f":"MAX(R49,U49,AA49,AD49)","v":{"$error":"#DIV/0!"}},{"$f":"RANK(AO47,AO$47:AO$55)","v":{"$error":"#DIV/0!"}},{"$f":"AF49","v":0},{"$f":"RANK(AQ47,AQ$47:AQ$55)","v":1},{"$f":"(AL47*1000)+(AN47*100)+(AP47*10)+(AR47*1)","v":{"$error":"#DIV/0!"}},{"$f":"AS47","v":{"$error":"#DIV/0!"}},{"$f":"RANK(AT47,AT$47:AT$55,1)","v":{"$error":"#DIV/0!"}},{"$f":"RANK(AU47,AU$47:AU$55,1)","v":{"$error":"#DIV/0!"}}]
[null,null,null,null,null,null,null,null,null,null,null,null,null,null,null,null,{"$f":"IF(R47<1,0.01,IF(P47>M50,2,IF(P47=M50,1,0)))","v":0.01},null,null,{"$f":"IF(U47<1,0.01,IF(S47>M53,2,IF(S47=M53,1,0)))","v":0.01},null,null,null,null,null,{"$f":"IF(AA47<1,0.01,IF(Y47>V50,2,IF(Y47=V50,1,0)))","v":0.01},null,null,{"$f":"IF(AD47<1,0.01,IF(AB47>V53,2,IF(AB47=V53,1,0)))","v":0.01},null,null,null,{"$f":"Q48+T48+Z48+AC48","v":0.04}]
[null,null,null,"Pts","Rep","Série",null,null,null,null,null,null,null,null,null,{"$f":"F56","v":0},null,{"$f":"P47/R47","v":{"$error":"#DIV/0!"}},{"$f":"F50","v":0},null,{"$f":"S47/U47","v":{"$error":"#DIV/0!"}},null,null,null,{"$f":"F65","v":0},null,{"$f":"Y47/AA47","v":{"$error":"#DIV/0!"}},{"$f":"F59","v":0},null,{"$f":"AB47/AD47","v":{"$error":"#DIV/0!"}},null,{"$f":"MAX(P49,S49,Y49,AB49)","v":0},null,{"$f":"AF47/AH47","v":{"$error":"#DIV/0!"}}]
[null,"Tour 1\nMatch aller",{"$f":"C38","v":0},null,null,null,null,null,null,null,{"$f":"C39","v":0},null,{"$f":"D57","v":0},null,{"$f":"E56","v":0},"M",null,null,{"$f":"D53","v":0},null,{"$f":"E53","v":0},{"$f":"D66","v":0},null,{"$f":"E65","v":0},"M",null,null,{"$f":"D62","v":0},null,{"$f":"E62","v":0},null,{"$f":"M50+S50+V50+AB50","v":0},null,{"$f":"O50+U50+X50+AD50","v":0},{"$f":"AU50","v":{"$error":"#DIV/0!"}},null,{"$f":"AG51","v":0.04},{"$f":"RANK(AK50,AK$47:AK$55,0)","v":1},{"$f":"AH52","v":{"$error":"#DIV/0!"}},{"$f":"RANK(AM50,AM$47:AM$55,0)","v":{"$error":"#DIV/0!"}},{"$f":"MAX(O52,U52,X52,AD52)","v":{"$error":"#DIV/0!"}},{"$f":"RANK(AO50,AO$47:AO$55)","v":{"$error":"#DIV/0!"}},{"$f":"AF52","v":0},{"$f":"RANK(AQ50,AQ$47:AQ$55)","v":1},{"$f":"(AL50*1000)+(AN50*100)+(AP50*10)+(AR50*1)","v":{"$error":"#DIV/0!"}},{"$f":"AS50","v":{"$error":"#DIV/0!"}},{"$f":"RANK(AT50,AT$47:AT$55,1)","v":{"$error":"#DIV/0!"}},{"$f":"RANK(AU50,AU$47:AU$55,1)","v":{"$error":"#DIV/0!"}}]
[null,null,{"$f":"C40","v":0},null,null,null,null,null,null,null,null,null,null,{"$f":"IF(R47>0,2-Q48,0.01)","v":0.01},null,null,null,null,null,{"$f":"IF(U50<1,0.01,IF(S50>P53,2,IF(S50=P53,1,0)))","v":0.01},null,null,{"$f":"IF(AA47>0,2-Z48,0.01)","v":0.01},null,null,null,null,null,{"$f":"IF(AD50<1,0.01,IF(AB50>Y53,2,IF(AB50=Y53,1,0)))","v":0.01},null,null,null,{"$f":"N51+T51+W51+AC51","v":0.04}]
[null,null,null,null,null,null,null,null,null,null,null,null,{"$f":"F57","v":0},null,{"$f":"M50/O50","v":{"$error":"#DIV/0!"}},null,null,null,{"$f":"F53","v":0},null,{"$f":"S50/U50","v":{"$error":"#DIV/0!"}},{"$f":"F66","v":0},null,{"$f":"V50/X50","v":{"$error":"#DIV/0!"}},null,null,null,{"$f":"F62","v":0},null,{"$f":"AB50/AD50","v":{"$error":"#DIV/0!"}},null,{"$f":"MAXA(M52,S52,V52,AB52)","v":0},null,{"$f":"AF50/AH50","v":{"$error":"#DIV/0!"}}]
[null,"Tour 2\nMatch aller",{"$f":"C39","v":0},null,null,null,null,null,null,null,{"$f":"C40","v":0},null,{"$f":"D51","v":0},null,{"$f":"E50","v":0},{"$f":"D54","v":0},null,{"$f":"E53","v":0},"B",null,null,{"$f":"D60","v":0},null,{"$f":"E59","v":0},{"$f":"D63","v":0},null,{"$f":"E62","v":0},"B",null,null,null,{"$f":"M53+P53+V53+Y53","v":0},null,{"$f":"O53+R53+X53+AA53","v":0},{"$f":"AU53","v":{"$error":"#DIV/0!"}},null,{"$f":"AG54","v":0.04},{"$f":"RANK(AK53,AK$47:AK$55,0)","v":1},{"$f":"AH55","v":{"$error":"#DIV/0!"}},{"$f":"RANK(AM53,AM$47:AM$55,0)","v":{"$error":"#DIV/0!"}},{"$f":"MAX(O55,R55,X55,AA55)","v":{"$error":"#DIV/0!"}},{"$f":"RANK(AO53,AO$47:AO$55)","v":{"$error":"#DIV/0!"}},{"$f":"AF55","v":0},{"$f":"RANK(AQ53,AQ$47:AQ$55)","v":1},{"$f":"(AL53*1000)+(AN53*100)+(AP53*10)+(AR53*1)","v":{"$error":"#DIV/0!"}},{"$f":"AS53","v":{"$error":"#DIV/0!"}},{"$f":"RANK(AT53,AT$47:AT$55,1)","v":{"$error":"#DIV/0!"}},{"$f":"RANK(AU53,AU$47:AU$55,1)","v":{"$error":"#DIV/0!"}}]
[null,null,{"$f":"C40","v":0},null,null,null,null,null,null,null,null,null,null,{"$f":"IF(U47>0,2-T48,0.01)","v":0.01},null,null,{"$f":"IF(U50>0,2-T51,0.01)","v":0.01},null,null,null,null,null,{"$f":"IF(AD47>0,2-AC48,0.01)","v":0.01},null,null,{"$f":"IF(AD50>0,2-AC51,0.01)","v":0.01},null,null,null,null,null,null,{"$f":"N54+Q54+W54+Z54","v":0.04}]
[null,null,null,null,null,null,null,null,null,null,null,null,{"$f":"F51","v":0},null,{"$f":"M53/O53","v":{"$error":"#DIV/0!"}},{"$f":"F54","v":0},null,{"$f":"P53/R53","v":{"$error":"#DIV/0!"}},null,null,null,{"$f":"F60","v":0},null,{"$f":"V53/X53","v":{"$error":"#DIV/0!"}},{"$f":"F63","v":0},null,{"$f":"Y53/AA53","v":{"$error":"#DIV/0!"}},null,null,null,null,{"$f":"MAXA(M55,P55,V55,Y55)","v":0},null,{"$f":"AF53/AH53","v":{"$error":"#DIV/0!"}}]
[null,"Tour 3\nMatch aller",{"$f":"C38","v":0}]
[null,null,{"$f":"C39","v":0},null,null,null,null,null,null,null,null,null,"Pas de prolongation en cas de match nul."]
[]
[null,"Tour 1\nMatch retour",{"$f":"C38","v":0}]
[null,null,{"$f":"C40","v":0}]
[]
[null,"Tour 2\nMatch retour",{"$f":"C39","v":0}]
[null,null,{"$f":"C40","v":0}]
[]
[null,"Tour 3\nMatch retour",{"$f":"C38","v":0}]
[null,null,{"$f":"C39","v":0}]

{"sheet":"7JOUEURS_SERPENTIN","index":20,"n_rows":66,"n_cols":48,"rows_kept":66,"cut":false,"hidden":true,"merged":[[7,12,7,15],[7,17,7,18],[7,20,7,21],[7,23,7,25],[7,27,7,28],[15,1,16,2],[45,1,46,2],[10,2,10,5],[42,28,45,30],[46,28,48,30],[8,2,8,5],[9,2,9,5],[10,12,10,20],[39,2,39,5],[40,2,40,5],[42,1,43,5],[42,10,45,11],[42,12,45,14],[42,15,45,17],[31,1,32,1],[31,4,32,4],[34,1,35,1],[34,4,35,4],[37,2,37,5],[19,40,21,40],[10,21,10,29],[12,1,13,5],[12,12,15,14],[12,15,15,17],[12,18,15,20],[12,21,15,23],[12,24,15,26],[12,27,15,29],[2,1,3,2],[2,3,3,9],[5,1,6,2],[5,3,6,9],[1,12,4,35],[6,12,6,15],[6,17,6,18],[6,20,6,21],[6,23,6,25],[6,27,6,28],[14,43,14,44],[14,46,15,46],[16,10,18,11],[16,12,18,14],[16,21,18,23],[16,34,18,34],[16,36,18,36],[16,37,18,37],[16,38,18,38],[12,31,15,33],[12,34,15,34],[13,10,15,11],[14,36,14,37],[14,38,14,39],[14,41,14,42],[16,45,18,45],[16,46,18,46],[16,47,18,47],[19,1,20,1],[19,4,20,4],[19,10,21,11],[19,15,21,17],[19,24,21,26],[19,34,21,34],[19,36,21,36],[16,39,18,39],[16,40,18,40],[16,41,18,41],[16,42,18,42],[16,43,18,43],[16,44,18,44],[19,43,21,43],[19,44,21,44],[19,45,21,45],[19,46,21,46],[19,47,21,47],[19,41,21,41],[19,42,21,42],[19,37,21,37],[19,38,21,38],[19,39,21,39],[22,47,24,47],[25,1,26,1],[25,4,26,4],[26,12,26,34],[28,1,29,1],[28,4,29,4],[22,41,24,41],[22,42,24,42],[22,43,24,43],[22,44,24,44],[22,45,24,45],[22,46,24,46],[22,34,24,34],[22,36,24,36],[22,37,24,37],[22,38,24,38],[22,39,24,39],[22,40,24,40],[22,1,23,1],[22,4,23,4],[22,10,24,11],[22,18,24,20],[22,27,24,29],[38,2,38,5],[44,40,44,41],[44,42,44,43],[44,44,44,45],[44,47,45,47],[46,10,48,11],[46,12,48,14],[46,36,48,36],[46,37,48,37],[42,18,45,20],[42,21,45,23],[42,25,45,27],[44,36,44,37],[44,38,44,39],[46,44,48,44],[46,45,48,45],[46,46,48,46],[46,47,48,47],[46,41,48,41],[46,42,48,42],[46,43,48,43],[49,1,50,1],[49,4,50,4],[49,10,51,11],[49,15,51,17],[49,36,51,36],[46,38,48,38],[46,39,48,39],[46,40,48,40],[49,28,51,30],[49,43,51,43],[49,44,51,44],[49,45,51,45],[49,46,51,46],[49,47,51,47],[52,1,53,1],[52,4,53,4],[52,10,54,11],[52,18,54,20],[49,37,51,37],[49,38,51,38],[49,39,51,39],[49,40,51,40],[49,41,51,41],[49,42,51,42],[52,42,54,42],[52,43,54,43],[52,44,54,44],[52,45,54,45],[52,46,54,46],[52,47,54,47],[52,36,54,36],[52,37,54,37],[52,38,54,38],[52,39,54,39],[52,40,54,40],[52,41,54,41],[61,1,62,1],[61,4,62,4],[64,1,65,1],[64,4,65,4],[55,43,57,43],[52,28,54,30],[55,28,57,30],[59,12,59,30],[55,44,57,44],[55,45,57,45],[55,46,57,46],[55,47,57,47],[58,1,59,1],[58,4,59,4],[55,37,57,37],[55,38,57,38],[55,39,57,39],[55,40,57,40],[55,41,57,41],[55,42,57,42],[55,1,56,1],[55,4,56,4],[55,10,57,11],[55,21,57,23],[55,36,57,36]]}
[]
[null,null,null,null,null,null,null,null,null,null,null,null,"LIGUE MÉDITERRANÉENNE DE BILLARD"]
[null,"CLUB ORGANISATEUR"]
[]
[]
[null,"DIRECTEUR DE JEU :"]
[null,null,null,null,null,null,null,null,null,null,null,null,"Compétition",null,null,null,null,"Mode de jeu",null,null,"Categorie",null,null,"Format billard",null,null,null,"Distance"]
[]
[null,"Joueur 1",{"$f":"'Saisie des joueurs'!K18","v":0}]
[null,"Joueur 2",{"$f":"'Saisie des joueurs'!K19","v":0}]
[null,"Joueur 3",{"$f":"'Saisie des joueurs'!K20","v":0},null,null,null,null,null,null,null,null,null,"MATCH ALLER",null,null,null,null,null,null,null,null,"MATCH RETOUR"]
[]
[null,"SAISIE DES RESULTATS",null,null,null,null,null,null,null,null,null,null,{"$f":"C9","v":0},null,null,{"$f":"C10","v":0},null,null,{"$f":"C11","v":0},null,null,{"$f":"C9","v":0},null,null,{"$f":"C10","v":0},null,null,{"$f":"C11","v":0},null,null,null,"TOTAUX",null,null,"CLASSEMENT"]
[]
[null,null,null,null,null,null,null,null,null,null,null,null,null,null,null,null,null,null,null,null,null,null,null,null,null,null,null,null,null,null,null,null,null,null,null,null,"Classement",null,"Classement",null,"Classement","Classement",null,"Classement",null,"GENERAL","RANG"]
[null,"POULE A",null,null,null,null,null,null,null,null,null,null,null,null,null,null,null,null,null,null,null,null,null,null,null,null,null,null,null,null,null,null,null,null,null,null,"Point-Match","CLS-M","Moy-Gen","CLS-G","Moy-Part","M-Series","CLS-S","MGPS","CLS","CLS"]
[null,null,null,null,null,null,null,null,null,null,{"$f":"C9","v":0},null,"L",null,null,{"$f":"D26","v":0},null,{"$f":"E26","v":0},{"$f":"D20","v":0},null,{"$f":"E20","v":0},"L",null,null,{"$f":"D35","v":0},null,{"$f":"E35","v":0},{"$f":"D29","v":0},null,{"$f":"E29","v":0},null,{"$f":"P17+S17+Y17+AB17","v":0},null,{"$f":"R17+U17+AA17+AD17","v":0},{"$f":"AU17","v":{"$error":"#DIV/0!"}},null,{"$f":"AG18","v":0.04},{"$f":"RANK(AK17,AK$17:AK$25,0)","v":1},{"$f":"AH19","v":{"$error":"#DIV/0!"}},{"$f":"RANK(AM17,AM$17:AM$25,0)","v":{"$error":"#DIV/0!"}},{"$f":"MAX(R19,U19,AA19,AD19)","v":{"$error":"#DIV/0!"}},{"$f":"RANK(AO17,AO$17:AO$25)","v":{"$error":"#DIV/0!"}},{"$f":"AF19","v":0},{"$f":"RANK(AQ17,AQ$17:AQ$25)","v":1},{"$f":"(AL17*1000)+(AN17*100)+(AP17*10)+(AR17*1)","v":{"$error":"#DIV/0!"}},{"$f":"AS17","v":{"$error":"#DIV/0!"}},{"$f":"RANK(AT17,AT$17:AT$25,1)","v":{"$error":"#DIV/0!"}},{"$f":"RANK(AU17,AU$17:AU$25,1)","v":{"$error":"#DIV/0!"}}]
[null,null,null,null,null,null,null,null,null,null,null,null,null,null,null,null,{"$f":"IF(R17<1,0.01,IF(P17>M20,2,IF(P17=M20,1,0)))","v":0.01},null,null,{"$f":"IF(U17<1,0.01,IF(S17>M23,2,IF(S17=M23,1,0)))","v":0.01},null,null,null,null,null,{"$f":"IF(AA17<1,0.01,IF(Y17>V20,2,IF(Y17=V20,1,0)))","v":0.01},null,null,{"$f":"IF(AD17<1,0.01,IF(AB17>V23,2,IF(AB17=V23,1,0)))","v":0.01},null,null,null,{"$f":"Q18+T18+Z18+AC18","v":0.04}]
[null,null,null,"Pts","Rep","Série",null,null,null,null,null,null,null,null,null,{"$f":"F26","v":0},null,{"$f":"P17/R17","v":{"$error":"#DIV/0!"}},{"$f":"F20","v":0},null,{"$f":"S17/U17","v":{"$error":"#DIV/0!"}},null,null,null,{"$f":"F35","v":0},null,{"$f":"Y17/AA17","v":{"$error":"#DIV/0!"}},{"$f":"F29","v":0},null,{"$f":"AB17/AD17","v":{"$error":"#DIV/0!"}},null,{"$f":"MAX(P19,S19,Y19,AB19)","v":0},null,{"$f":"AF17/AH17","v":{"$error":"#DIV/0!"}}]
[null,"Tour 1\nMatch aller",{"$f":"C9","v":0},null,null,null,null,null,null,null,{"$f":"C10","v":0},null,{"$f":"D27","v":0},null,{"$f":"E26","v":0},"M",null,null,{"$f":"D23","v":0},null,{"$f":"E23","v":0},{"$f":"D36","v":0},null,{"$f":"E35","v":0},"M",null,null,{"$f":"D32","v":0},null,{"$f":"E32","v":0},null,{"$f":"M20+S20+V20+AB20","v":0},null,{"$f":"O20+U20+X20+AD20","v":0},{"$f":"AU20","v":{"$error":"#DIV/0!"}},null,{"$f":"AG21","v":0.04},{"$f":"RANK(AK20,AK$17:AK$25,0)","v":1},{"$f":"AH22","v":{"$error":"#DIV/0!"}},{"$f":"RANK(AM20,AM$17:AM$25,0)","v":{"$error":"#DIV/0!"}},{"$f":"MAX(R22,U22,AA22,AD22)","v":{"$error":"#DIV/0!"}},{"$f":"RANK(AO20,AO$17:AO$25)","v":{"$error":"#DIV/0!"}},{"$f":"AF22","v":0},{"$f":"RANK(AQ20,AQ$17:AQ$25)","v":1},{"$f":"(AL20*1000)+(AN20*100)+(AP20*10)+(AR20*1)","v":{"$error":"#DIV/0!"}},{"$f":"AS20","v":{"$error":"#DIV/0!"}},{"$f":"RANK(AT20,AT$17:AT$25,1)","v":{"$error":"#DIV/0!"}},{"$f":"RANK(AU20,AU$17:AU$25,1)","v":{"$error":"#DIV/0!"}}]
[null,null,{"$f":"C11","v":0},null,null,null,null,null,null,null,null,null,null,{"$f":"IF(R17>0,2-Q18,0.01)","v":0.01},null,null,null,null,null,{"$f":"IF(U20<1,0.01,IF(S20>P23,2,IF(S20=P23,1,0)))","v":0.01},null,null,{"$f":"IF(AA17>0,2-Z18,0.01)","v":0.01},null,null,null,null,null,{"$f":"IF(AD20<1,0.01,IF(AB20>Y23,2,IF(AB20=Y23,1,0)))","v":0.01},null,null,null,{"$f":"N21+T21+W21+AC21","v":0.04}]
[null,null,null,null,null,null,null,null,null,null,null,null,{"$f":"F27","v":0},null,{"$f":"M20/O20","v":{"$error":"#DIV/0!"}},null,null,null,{"$f":"F23","v":0},null,{"$f":"S20/U20","v":{"$error":"#DIV/0!"}},{"$f":"F36","v":0},null,{"$f":"V20/X20","v":{"$error":"#DIV/0!"}},null,null,null,{"$f":"F32","v":0},null,{"$f":"AB20/AD20","v":{"$error":"#DIV/0!"}},null,{"$f":"MAXA(M22,S22,V22,AB22)","v":0},null,{"$f":"AF20/AH20","v":{"$error":"#DIV/0!"}}]
[null,"Tour 2\nMatch aller",{"$f":"C10","v":0},null,null,null,null,null,null,null,{"$f":"C11","v":0},null,{"$f":"D21","v":0},null,{"$f":"E20","v":0},{"$f":"D24","v":0},null,{"$f":"E23","v":0},"B",null,null,{"$f":"D30","v":0},null,{"$f":"E29","v":0},{"$f":"D33","v":0},null,{"$f":"E32","v":0},"B",null,null,null,{"$f":"M23+P23+V23+Y23","v":0},null,{"$f":"O23+R23+X23+AA23","v":0},{"$f":"AU23","v":{"$error":"#DIV/0!"}},null,{"$f":"AG24","v":0.04},{"$f":"RANK(AK23,AK$17:AK$25,0)","v":1},{"$f":"AH25","v":{"$error":"#DIV/0!"}},{"$f":"RANK(AM23,AM$17:AM$25,0)","v":{"$error":"#DIV/0!"}},{"$f":"MAX(R25,U25,AA25,AD25)","v":{"$error":"#DIV/0!"}},{"$f":"RANK(AO23,AO$17:AO$25)","v":{"$error":"#DIV/0!"}},{"$f":"AF25","v":0},{"$f":"RANK(AQ23,AQ$17:AQ$25)","v":1},{"$f":"(AL23*1000)+(AN23*100)+(AP23*10)+(AR23*1)","v":{"$error":"#DIV/0!"}},{"$f":"AS23","v":{"$error":"#DIV/0!"}},{"$f":"RANK(AT23,AT$17:AT$25,1)","v":{"$error":"#DIV/0!"}},{"$f":"RANK(AU23,AU$17:AU$25,1)","v":{"$error":"#DIV/0!"}}]
[null,null,{"$f":"C11","v":0},null,null,null,null,null,null,null,null,null,null,{"$f":"IF(U17>0,2-T18,0.01)","v":0.01},null,null,{"$f":"IF(U20>0,2-T21,0.01)","v":0.01},null,null,null,null,null,{"$f":"IF(AD17>0,2-AC18,0.01)","v":0.01},null,null,{"$f":"IF(AD20>0,2-AC21,0.01)","v":0.01},null,null,null,null,null,null,{"$f":"N24+Q24+W24+Z24","v":0.04}]
[null,null,null,null,null,null,null,null,null,null,null,null,{"$f":"F21","v":0},null,{"$f":"M23/O23","v":{"$error":"#DIV/0!"}},{"$f":"F24","v":0},null,{"$f":"P23/R23","v":{"$error":"#DIV/0!"}},null,null,null,{"$f":"F30","v":0},null,{"$f":"V23/X23","v":{"$error":"#DIV/0!"}},{"$f":"F33","v":0},null,{"$f":"Y23/AA23","v":{"$error":"#DIV/0!"}},null,null,null,null,{"$f":"MAXA(M25,P25,V25,Y25)","v":0},null,{"$f":"AF23/AH23","v":{"$error":"#DIV/0!"}}]
[null,"Tour 3\nMatch aller",{"$f":"C9","v":0}]
[null,null,{"$f":"C10","v":0},null,null,null,null,null,null,null,null,null,"Pas de prolongation en cas de match nul."]
[]
[null,"Tour 1\nMatch retour",{"$f":"C9","v":0}]
[null,null,{"$f":"C11","v":0}]
[]
[null,"Tour 2\nMatch retour",{"$f":"C10","v":0}]
[null,null,{"$f":"C11","v":0}]
[]
[null,"Tour 3\nMatch retour",{"$f":"C9","v":0}]
[null,null,{"$f":"C10","v":0}]
[]
[null,"Joueur 1",{"$f":"'Saisie des joueurs'!K22","v":0}]
[null,"Joueur 2",{"$f":"'Saisie des joueurs'!K23","v":0}]
[null,"Joueur 3",{"$f":"'Saisie des joueurs'!K24","v":0}]
[null,"Joueur 4",{"$f":"'Saisie des joueurs'!K25","v":0}]
[]
[null,"SAISIE DES RESULTATS",null,null,null,null,null,null,null,null,null,null,{"$f":"C38","v":0},null,null,{"$f":"C39","v":0},null,null,{"$f":"C40","v":0},null,null,{"$f":"C41","v":0},null,null,null,"TOTAUX",null,null,"CLASSEMENT"]
[]
[null,null,null,null,null,null,null,null,null,null,null,null,null,null,null,null,null,null,null,null,null,null,null,null,null,null,null,null,null,null,null,null,null,null,null,null,"Classement",null,"Classement",null,"Classement",null,"Classement",null,"Classement",null,"GENERAL","RANG"]
[null,"POULE B",null,null,null,null,null,null,null,null,null,null,null,null,null,null,null,null,null,null,null,null,null,null,null,null,null,null,null,null,null,null,null,null,null,null,"Point-Match","CLS-M","Moy-Gen","CLS-G","Moy-Part","CLS-P","M-Series","CLS-S","MGPS","CLS","CLS"]
[null,null,null,null,null,null,null,null,null,null,{"$f":"C38","v":0},null,"L",null,null,{"$f":"D62","v":0},null,{"$f":"E62","v":0},{"$f":"D56","v":0},null,{"$f":"E56","v":0},{"$f":"D50","v":0},null,{"$f":"E50","v":0},null,{"$f":"P47+S47+V47","v":0},null,{"$f":"R47+U47+X47","v":0},{"$f":"AV47","v":{"$error":"#DIV/0!"}},null,null,null,null,null,null,null,{"$f":"AA48","v":0.03},{"$f":"RANK(AK47,AK$47:AK$58,0)","v":1},{"$f":"AB49","v":{"$error":"#DIV/0!"}},{"$f":"RANK(AM47,AM$47:AM$58,0)","v":{"$error":"#DIV/0!"}},{"$f":"MAX(R49,U49,X49)","v":{"$error":"#DIV/0!"}},{"$f":"RANK(AO47,AO$47:AO$58)","v":{"$error":"#DIV/0!"}},{"$f":"Z49","v":0},{"$f":"RANK(AQ47,AQ$47:AQ$58)","v":1},{"$f":"(AL47*1000)+(AN47*100)+(AP47*10)+(AR47*1)","v":{"$error":"#DIV/0!"}},{"$f":"AS47","v":{"$error":"#DIV/0!"}},{"$f":"RANK(AT47,AT$47:AT$58,1)","v":{"$error":"#DIV/0!"}},{"$f":"RANK(AU47,AU$47:AU$58,1)","v":{"$error":"#DIV/0!"}}]
[null,null,null,null,null,null,null,null,null,null,null,null,null,null,null,null,{"$f":"IF(R47<1,0.01,IF(P47>M50,2,IF(P47=M50,1,0)))","v":0.01},null,null,{"$f":"IF(U47<1,0.01,IF(S47>M53,2,IF(S47=M53,1,0)))","v":0.01},null,null,{"$f":"IF(X47<1,0.01,IF(V47>M56,2,IF(V47=M56,1,0)))","v":0.01},null,null,null,{"$f":"W48+T48+Q48","v":0.03}]
[null,null,null,"Pts","Rep","Série",null,null,null,null,null,null,null,null,null,{"$f":"F62","v":0},null,{"$f":"P47/R47","v":{"$error":"#DIV/0!"}},{"$f":"F56","v":0},null,{"$f":"S47/U47","v":{"$error":"#DIV/0!"}},{"$f":"F50","v":0},null,{"$f":"V47/X47","v":{"$error":"#DIV/0!"}},null,{"$f":"MAX(V49,S49,P49)","v":0},null,{"$f":"Z47/AB47","v":{"$error":"#DIV/0!"}}]
[null,"Tour 1",{"$f":"C38","v":0},null,null,null,null,null,null,null,{"$f":"C39","v":0},null,{"$f":"D63","v":0},null,{"$f":"E62","v":0},"M",null,null,{"$f":"D53","v":0},null,{"$f":"E53","v":0},{"$f":"D60","v":0},null,{"$f":"E59","v":0},null,{"$f":"M50+S50+V50","v":0},null,{"$f":"O50+U50+X50","v":0},{"$f":"AV50","v":{"$error":"#DIV/0!"}},null,null,null,null,null,null,null,{"$f":"AA51","v":0.03},{"$f":"RANK(AK50,AK$47:AK$58,0)","v":1},{"$f":"AB52","v":{"$error":"#DIV/0!"}},{"$f":"RANK(AM50,AM$47:AM$58,0)","v":{"$error":"#DIV/0!"}},{"$f":"MAX(R52,U52,X52)","v":{"$error":"#DIV/0!"}},{"$f":"RANK(AO50,AO$47:AO$58)","v":{"$error":"#DIV/0!"}},{"$f":"Z52","v":0},{"$f":"RANK(AQ50,AQ$47:AQ$58)","v":1},{"$f":"(AL50*1000)+(AN50*100)+(AP50*10)+(AR50*1)","v":{"$error":"#DIV/0!"}},{"$f":"AS50","v":{"$error":"#DIV/0!"}},{"$f":"RANK(AT50,AT$47:AT$58,1)","v":{"$error":"#DIV/0!"}},{"$f":"RANK(AU50,AU$47:AU$58,1)","v":{"$error":"#DIV/0!"}}]
[null,null,{"$f":"C41","v":0},null,null,null,null,null,null,null,null,null,null,{"$f":"IF(R47>0,2-Q48,0.01)","v":0.01},null,null,null,null,null,{"$f":"IF(U50<1,0.01,IF(S50>P53,2,IF(S50=P53,1,0)))","v":0.01},null,null,{"$f":"IF(X50<1,0.01,IF(V50>P56,2,IF(V50=P56,1,0)))","v":0.01},null,null,null,{"$f":"N51+T51+W51","v":0.03}]
[null,null,null,null,null,null,null,null,null,null,null,null,{"$f":"F63","v":0},null,{"$f":"M50/O50","v":{"$error":"#DIV/0!"}},null,null,null,{"$f":"F53","v":0},null,{"$f":"S50/U50","v":{"$error":"#DIV/0!"}},{"$f":"F60","v":0},null,{"$f":"V50/X50","v":{"$error":"#DIV/0!"}},null,{"$f":"MAXA(S52,V52,M52)","v":0},null,{"$f":"Z50/AB50","v":{"$error":"#DIV/0!"}}]
[null,"Tour 2",{"$f":"C39","v":0},null,null,null,null,null,null,null,{"$f":"C40","v":0},null,{"$f":"D57","v":0},null,{"$f":"E56","v":0},{"$f":"D54","v":0},null,{"$f":"E53","v":0},"B",null,null,{"$f":"D65","v":0},null,{"$f":"E65","v":0},null,{"$f":"M53+P53+V53","v":0},null,{"$f":"O53+R53+X53","v":0},{"$f":"AV53","v":{"$error":"#DIV/0!"}},null,null,null,null,null,null,null,{"$f":"AA54","v":0.02},{"$f":"RANK(AK53,AK$47:AK$58,0)","v":4},{"$f":"AB55","v":{"$error":"#DIV/0!"}},{"$f":"RANK(AM53,AM$47:AM$58,0)","v":{"$error":"#DIV/0!"}},{"$f":"MAX(R55,U55,X55)","v":{"$error":"#DIV/0!"}},{"$f":"RANK(AO53,AO$47:AO$58)","v":{"$error":"#DIV/0!"}},{"$f":"Z55","v":0},{"$f":"RANK(AQ53,AQ$47:AQ$58)","v":1},{"$f":"(AL53*1000)+(AN53*100)+(AP53*10)+(AR53*1)","v":{"$error":"#DIV/0!"}},{"$f":"AS53","v":{"$error":"#DIV/0!"}},{"$f":"RANK(AT53,AT$47:AT$58,1)","v":{"$error":"#DIV/0!"}},{"$f":"RANK(AU53,AU$47:AU$58,1)","v":{"$error":"#DIV/0!"}}]
[null,null,{"$f":"C40","v":0},null,null,null,null,null,null,null,null,null,null,{"$f":"IF(U47>0,2-T48,0.01)","v":0.01},null,null,{"$f":"IF(U50>0,2-T51,0.01)","v":0.01},null,null,null,null,null,{"$f":"IF(X53<1,0.01,IF(V53>S56,2,IF(V53=S56,1,0)))","v":0.01},null,null,null,{"$f":"N54+T54+W54","v":0.02}]
[null,null,null,null,null,null,null,null,null,null,null,null,{"$f":"F57","v":0},null,{"$f":"M53/O53","v":{"$error":"#DIV/0!"}},{"$f":"F54","v":0},null,{"$f":"P53/R53","v":{"$error":"#DIV/0!"}},null,null,null,{"$f":"F65","v":0},null,{"$f":"V53/X53","v":{"$error":"#DIV/0!"}},null,{"$f":"MAXA(V55,P55,M55)","v":0},null,{"$f":"Z53/AB53","v":{"$error":"#DIV/0!"}}]
[null,"Tour 3",{"$f":"C38","v":0},null,null,null,null,null,null,null,{"$f":"C41","v":0},null,{"$f":"D51","v":0},null,{"$f":"E50","v":0},{"$f":"D59","v":0},null,{"$f":"E59","v":0},{"$f":"D66","v":0},null,{"$f":"E65","v":0},null,null,null,null,{"$f":"M56+P56+S56","v":0},null,{"$f":"U56+R56+O56","v":0},{"$f":"AV56","v":{"$error":"#DIV/0!"}},null,null,null,null,null,null,null,{"$f":"AA57","v":0.03},{"$f":"RANK(AK56,AK$47:AK$58,0)","v":1},{"$f":"AB58","v":{"$error":"#DIV/0!"}},{"$f":"RANK(AM56,AM$47:AM$58,0)","v":{"$error":"#DIV/0!"}},{"$f":"MAX(R58,U58,X58)","v":{"$error":"#DIV/0!"}},{"$f":"RANK(AO56,AO$47:AO$58)","v":{"$error":"#DIV/0!"}},{"$f":"Z58","v":0},{"$f":"RANK(AQ56,AQ$47:AQ$58)","v":1},{"$f":"(AL56*1000)+(AN56*100)+(AP56*10)+(AR56*1)","v":{"$error":"#DIV/0!"}},{"$f":"AS56","v":{"$error":"#DIV/0!"}},{"$f":"RANK(AT56,AT$47:AT$58,1)","v":{"$error":"#DIV/0!"}},{"$f":"RANK(AU56,AU$47:AU$58,1)","v":{"$error":"#DIV/0!"}}]
[null,null,{"$f":"C40","v":0},null,null,null,null,null,null,null,null,null,null,{"$f":"IF(X47>0,2-W48,0.01)","v":0.01},null,null,{"$f":"IF(X50>0,2-W51,0.01)","v":0.01},null,null,{"$f":"IF(X53>0,2-W54,0.01)","v":0.01},null,null,null,null,null,null,{"$f":"N57+Q57+T57","v":0.03}]
[null,null,null,null,null,null,null,null,null,null,null,null,{"$f":"F51","v":0},null,{"$f":"M56/O56","v":{"$error":"#DIV/0!"}},{"$f":"F59","v":0},null,{"$f":"P56/R56","v":{"$error":"#DIV/0!"}},{"$f":"F66","v":0},null,{"$f":"S56/U56","v":{"$error":"#DIV/0!"}},null,null,null,null,{"$f":"MAXA(M58,P58,S58)","v":0},null,{"$f":"Z56/AB56","v":{"$error":"#DIV/0!"}}]
[null,"Tour 4",{"$f":"C41","v":0}]
[null,null,{"$f":"C39","v":0},null,null,null,null,null,null,null,null,null,"Pas de prolongation en cas de match nul."]
[]
[null,"Tour 5",{"$f":"C38","v":0}]
[null,null,{"$f":"C39","v":0}]
[]
[null,"Tour 6",{"$f":"C40","v":0}]
[null,null,{"$f":"C41","v":0}]

{"sheet":"8JOUEURS_SERPENTIN","index":21,"n_rows":67,"n_cols":42,"rows_kept":67,"cut":false,"hidden":true,"merged":[[50,39,52,39],[50,34,52,34],[56,40,58,40],[50,15,52,17],[50,28,52,28],[53,32,55,32],[53,30,55,30],[53,31,55,31],[50,40,52,40],[56,41,58,41],[56,31,58,31],[56,32,58,32],[56,33,58,33],[56,37,58,37],[56,34,58,34],[50,30,52,30],[9,2,9,5],[10,2,10,5],[11,2,11,5],[13,1,14,5],[56,35,58,35],[56,36,58,36],[56,38,58,38],[56,39,58,39],[53,1,54,1],[53,4,54,4],[53,10,55,11],[53,18,55,20],[32,1,33,1],[32,4,33,4],[35,1,36,1],[35,4,36,4],[50,10,52,11],[50,41,52,41],[53,39,55,39],[50,33,52,33],[47,41,49,41],[47,39,49,39],[47,40,49,40],[45,41,46,41],[65,1,66,1],[65,4,66,4],[62,1,63,1],[62,4,63,4],[56,1,57,1],[56,4,57,4],[56,10,58,11],[56,21,58,23],[56,28,58,28],[59,1,60,1],[59,4,60,4],[60,12,60,23],[53,40,55,40],[53,41,55,41],[53,36,55,36],[53,34,55,34],[56,30,58,30],[50,1,51,1],[50,4,51,4],[53,35,55,35],[53,37,55,37],[53,38,55,38],[47,10,49,11],[47,12,49,14],[47,28,49,28],[47,30,49,30],[47,31,49,31],[47,32,49,32],[53,33,55,33],[47,35,49,35],[47,36,49,36],[47,37,49,37],[47,33,49,33],[47,34,49,34],[50,35,52,35],[50,36,52,36],[50,31,52,31],[50,32,52,32],[53,28,55,28],[50,37,52,37],[50,38,52,38],[43,18,46,20],[44,28,46,28],[45,30,45,31],[45,32,45,33],[47,38,49,38],[46,1,47,2],[45,38,45,39],[26,37,28,37],[26,38,28,38],[26,39,28,39],[38,2,38,5],[39,2,39,5],[40,2,40,5],[43,21,46,23],[44,10,46,11],[44,25,46,27],[45,34,45,35],[45,36,45,37],[41,2,41,5],[43,1,44,5],[43,12,46,14],[43,15,46,17],[26,40,28,40],[26,41,28,41],[29,1,30,1],[29,4,30,4],[30,12,30,23],[26,31,28,31],[26,32,28,32],[26,33,28,33],[26,34,28,34],[26,35,28,35],[26,36,28,36],[26,1,27,1],[26,4,27,4],[26,10,28,11],[26,21,28,23],[26,28,28,28],[26,30,28,30],[23,38,25,38],[23,39,25,39],[23,40,25,40],[23,41,25,41],[23,35,25,35],[23,36,25,36],[23,37,25,37],[20,33,22,33],[20,34,22,34],[20,35,22,35],[20,36,22,36],[20,37,22,37],[20,38,22,38],[20,39,22,39],[20,40,22,40],[20,41,22,41],[23,32,25,32],[23,33,25,33],[23,34,25,34],[17,34,19,34],[20,1,21,1],[20,4,21,4],[20,10,22,11],[20,15,22,17],[20,28,22,28],[20,30,22,30],[23,1,24,1],[23,4,24,4],[23,10,25,11],[23,18,25,20],[23,28,25,28],[23,30,25,30],[23,31,25,31],[17,10,19,11],[17,12,19,14],[17,28,19,28],[17,30,19,30],[17,31,19,31],[17,32,19,32],[17,33,19,33],[14,10,16,11],[16,1,17,2],[1,12,4,28],[14,25,16,27],[14,28,16,28],[20,31,22,31],[20,32,22,32],[17,40,19,40],[17,41,19,41],[17,35,19,35],[17,36,19,36],[17,37,19,37],[17,38,19,38],[17,39,19,39],[6,12,6,15],[6,17,6,18],[6,20,6,21],[6,23,6,25],[6,27,6,28],[2,1,3,2],[2,3,3,9],[5,1,6,2],[5,3,6,9],[8,2,8,5],[15,30,15,31],[15,32,15,33],[15,34,15,35],[15,36,15,37],[15,38,15,39],[15,41,16,41],[7,12,7,15],[7,17,7,18],[7,20,7,21],[7,23,7,25],[7,27,7,28],[13,12,16,14],[13,15,16,17],[13,18,16,20],[13,21,16,23]]}
[]
[null,null,null,null,null,null,null,null,null,null,null,null,"LIGUE MÉDITERRANÉENNE DE BILLARD"]
[null,"CLUB ORGANISATEUR"]
[]
[]
[null,"DIRECTEUR DE JEU :"]
[null,null,null,null,null,null,null,null,null,null,null,null,"Compétition",null,null,null,null,"Mode de jeu",null,null,"Categorie",null,null,"Format billard",null,null,null,"Distance"]
[]
[null,"Joueur 1",{"$f":"'Saisie des joueurs'!K18","v":0}]
[null,"Joueur 2",{"$f":"'Saisie des joueurs'!K19","v":0}]
[null,"Joueur 3",{"$f":"'Saisie des joueurs'!K20","v":0}]
[null,"Joueur 4",{"$f":"'Saisie des joueurs'!K21","v":0}]
[]
[null,"SAISIE DES RESULTATS",null,null,null,null,null,null,null,null,null,null,{"$f":"C9","v":0},null,null,{"$f":"C10","v":0},null,null,{"$f":"C11","v":0},null,null,{"$f":"C12","v":0}]
[null,null,null,null,null,null,null,null,null,null,null,null,null,null,null,null,null,null,null,null,null,null,null,null,null,"TOTAUX",null,null,"CLASSEMENT"]
[null,null,null,null,null,null,null,null,null,null,null,null,null,null,null,null,null,null,null,null,null,null,null,null,null,null,null,null,null,null,"Classement",null,"Classement",null,"Classement",null,"Classement",null,"Classement",null,"GENERAL","RANG"]
[null,"POULE A",null,null,null,null,null,null,null,null,null,null,null,null,null,null,null,null,null,null,null,null,null,null,null,null,null,null,null,null,"Point-Match","CLS-M","Moy-Gen","CLS-G","Moy-Part","CLS-P","M-Series","CLS-S","MGPS","CLS","CLS"]
[null,null,null,null,null,null,null,null,null,null,{"$f":"C9","v":0},null,"L",null,null,{"$f":"D33","v":0},null,{"$f":"E33","v":0},{"$f":"D27","v":0},null,{"$f":"E27","v":0},{"$f":"D21","v":0},null,{"$f":"E21","v":0},null,{"$f":"P18+S18+V18","v":0},null,{"$f":"R18+U18+X18","v":0},{"$f":"AP18","v":{"$error":"#DIV/0!"}},null,{"$f":"AA19","v":0.03},{"$f":"RANK(AE18,AE$18:AE$29,0)","v":1},{"$f":"AB20","v":{"$error":"#DIV/0!"}},{"$f":"RANK(AG18,AG$18:AG$29,0)","v":{"$error":"#DIV/0!"}},{"$f":"MAX(R20,U20,X20)","v":{"$error":"#DIV/0!"}},{"$f":"RANK(AI18,AI$18:AI$29)","v":{"$error":"#DIV/0!"}},{"$f":"Z20","v":0},{"$f":"RANK(AK18,AK$18:AK$29)","v":1},{"$f":"(AF18*1000)+(AH18*100)+(AJ18*10)+(AL18*1)","v":{"$error":"#DIV/0!"}},{"$f":"AM18","v":{"$error":"#DIV/0!"}},{"$f":"RANK(AN18,AN$18:AN$29,1)","v":{"$error":"#DIV/0!"}},{"$f":"RANK(AO18,AO$18:AO$29,1)","v":{"$error":"#DIV/0!"}}]
[null,null,null,null,null,null,null,null,null,null,null,null,null,null,null,null,{"$f":"IF(R18<1,0.01,IF(P18>M21,2,IF(P18=M21,1,0)))","v":0.01},null,null,{"$f":"IF(U18<1,0.01,IF(S18>M24,2,IF(S18=M24,1,0)))","v":0.01},null,null,{"$f":"IF(X18<1,0.01,IF(V18>M27,2,IF(V18=M27,1,0)))","v":0.01},null,null,null,{"$f":"Q19+T19+W19","v":0.03}]
[null,null,null,null,null,null,null,null,null,null,null,null,null,null,null,{"$f":"F33","v":0},null,{"$f":"P18/R18","v":{"$error":"#DIV/0!"}},{"$f":"F27","v":0},null,{"$f":"S18/U18","v":{"$error":"#DIV/0!"}},{"$f":"F21","v":0},null,{"$f":"V18/X18","v":{"$error":"#DIV/0!"}},null,{"$f":"MAX(P20,S20,V20)","v":0},null,{"$f":"Z18/AB18","v":{"$error":"#DIV/0!"}}]
[null,"Tour 1",{"$f":"C9","v":0},null,null,null,null,null,null,null,{"$f":"C10","v":0},null,{"$f":"D34","v":0},null,{"$f":"E33","v":0},"M",null,null,{"$f":"D24","v":0},null,{"$f":"E24","v":0},{"$f":"D31","v":0},null,{"$f":"E30","v":0},null,{"$f":"M21+S21+V21","v":0},null,{"$f":"O21+U21+X21","v":0},{"$f":"AP21","v":{"$error":"#DIV/0!"}},null,{"$f":"AA22","v":0.03},{"$f":"RANK(AE21,AE$18:AE$29,0)","v":1},{"$f":"AB23","v":{"$error":"#DIV/0!"}},{"$f":"RANK(AG21,AG$18:AG$29,0)","v":{"$error":"#DIV/0!"}},{"$f":"MAX(O23,U23,X23)","v":{"$error":"#DIV/0!"}},{"$f":"RANK(AI21,AI$18:AI$29)","v":{"$error":"#DIV/0!"}},{"$f":"Z23","v":0},{"$f":"RANK(AK21,AK$18:AK$29)","v":1},{"$f":"(AF21*1000)+(AH21*100)+(AJ21*10)+(AL21*1)","v":{"$error":"#DIV/0!"}},{"$f":"AM21","v":{"$error":"#DIV/0!"}},{"$f":"RANK(AN21,AN$18:AN$29,1)","v":{"$error":"#DIV/0!"}},{"$f":"RANK(AO21,AO$18:AO$29,1)","v":{"$error":"#DIV/0!"}}]
[null,null,{"$f":"C12","v":0},null,null,null,null,null,null,null,null,null,null,{"$f":"IF(R18>0,2-Q19,0.01)","v":0.01},null,null,null,null,null,{"$f":"IF(U21<1,0.01,IF(S21>P24,2,IF(S21=P24,1,0)))","v":0.01},null,null,{"$f":"IF(X21<1,0.01,IF(V21>P27,2,IF(V21=P27,1,0)))","v":0.01},null,null,null,{"$f":"N22+T22+W22","v":0.03}]
[null,null,null,null,null,null,null,null,null,null,null,null,{"$f":"F34","v":0},null,{"$f":"M21/O21","v":{"$error":"#DIV/0!"}},null,null,null,{"$f":"F24","v":0},null,{"$f":"S21/U21","v":{"$error":"#DIV/0!"}},{"$f":"F31","v":0},null,{"$f":"V21/X21","v":{"$error":"#DIV/0!"}},null,{"$f":"MAXA(M23,S23,V23)","v":0},null,{"$f":"Z21/AB21","v":{"$error":"#DIV/0!"}}]
[null,"Tour 2",{"$f":"C10","v":0},null,null,null,null,null,null,null,{"$f":"C11","v":0},null,{"$f":"D28","v":0},null,{"$f":"E27","v":0},{"$f":"D25","v":0},null,{"$f":"E24","v":0},"B",null,null,{"$f":"D36","v":0},null,{"$f":"E36","v":0},null,{"$f":"M24+P24+V24","v":0},null,{"$f":"O24+R24+X24","v":0},{"$f":"AP24","v":{"$error":"#DIV/0!"}},null,{"$f":"AA25","v":0.03},{"$f":"RANK(AE24,AE$18:AE$29,0)","v":1},{"$f":"AB26","v":{"$error":"#DIV/0!"}},{"$f":"RANK(AG24,AG$18:AG$29,0)","v":{"$error":"#DIV/0!"}},{"$f":"MAX(O26,R26,X26)","v":{"$error":"#DIV/0!"}},{"$f":"RANK(AI24,AI$18:AI$29)","v":{"$error":"#DIV/0!"}},{"$f":"Z26","v":0},{"$f":"RANK(AK24,AK$18:AK$29)","v":1},{"$f":"(AF24*1000)+(AH24*100)+(AJ24*10)+(AL24*1)","v":{"$error":"#DIV/0!"}},{"$f":"AM24","v":{"$error":"#DIV/0!"}},{"$f":"RANK(AN24,AN$18:AN$29,1)","v":{"$error":"#DIV/0!"}},{"$f":"RANK(AO24,AO$18:AO$29,1)","v":{"$error":"#DIV/0!"}}]
[null,null,{"$f":"C11","v":0},null,null,null,null,null,null,null,null,null,null,{"$f":"IF(U18>0,2-T19,0.01)","v":0.01},null,null,{"$f":"IF(U21>0,2-T22,0.01)","v":0.01},null,null,null,null,null,{"$f":"IF(X24<1,0.01,IF(V24>S27,2,IF(V24=S27,1,0)))","v":0.01},null,null,null,{"$f":"N25+Q25+W25","v":0.03}]
[null,null,null,null,null,null,null,null,null,null,null,null,{"$f":"F28","v":0},null,{"$f":"M24/O24","v":{"$error":"#DIV/0!"}},{"$f":"F25","v":0},null,{"$f":"P24/R24","v":{"$error":"#DIV/0!"}},null,null,null,{"$f":"F36","v":0},null,{"$f":"V24/X24","v":{"$error":"#DIV/0!"}},null,{"$f":"MAXA(M26,P26,V26)","v":0},null,{"$f":"Z24/AB24","v":{"$error":"#DIV/0!"}}]
[null,"Tour 3",{"$f":"C9","v":0},null,null,null,null,null,null,null,{"$f":"C12","v":0},null,{"$f":"D22","v":0},null,{"$f":"E21","v":0},{"$f":"D30","v":0},null,{"$f":"E30","v":0},{"$f":"D37","v":0},null,{"$f":"E36","v":0},null,null,null,null,{"$f":"M27+P27+S27","v":0},null,{"$f":"O27+R27+U27","v":0},{"$f":"AP27","v":{"$error":"#DIV/0!"}},null,{"$f":"AA28","v":0.03},{"$f":"RANK(AE27,AE$18:AE$29,0)","v":1},{"$f":"AB29","v":{"$error":"#DIV/0!"}},{"$f":"RANK(AG27,AG$18:AG$29,0)","v":{"$error":"#DIV/0!"}},{"$f":"MAX(O29,R29,U29)","v":{"$error":"#DIV/0!"}},{"$f":"RANK(AI27,AI$18:AI$29)","v":{"$error":"#DIV/0!"}},{"$f":"Z29","v":0},{"$f":"RANK(AK27,AK$18:AK$29)","v":1},{"$f":"(AF27*1000)+(AH27*100)+(AJ27*10)+(AL27*1)","v":{"$error":"#DIV/0!"}},{"$f":"AM27","v":{"$error":"#DIV/0!"}},{"$f":"RANK(AN27,AN$18:AN$29,1)","v":{"$error":"#DIV/0!"}},{"$f":"RANK(AO27,AO$18:AO$29,1)","v":{"$error":"#DIV/0!"}}]
[null,null,{"$f":"C11","v":0},null,null,null,null,null,null,null,null,null,null,{"$f":"IF(X18>0,2-W19,0.01)","v":0.01},null,null,{"$f":"IF(X21>0,2-W22,0.01)","v":0.01},null,null,{"$f":"IF(X24>0,2-W25,0.01)","v":0.01},null,null,null,null,null,null,{"$f":"N28+Q28+T28","v":0.03}]
[null,null,null,null,null,null,null,null,null,null,null,null,{"$f":"F22","v":0},null,{"$f":"M27/O27","v":{"$error":"#DIV/0!"}},{"$f":"F30","v":0},null,{"$f":"P27/R27","v":{"$error":"#DIV/0!"}},{"$f":"F37","v":0},null,{"$f":"S27/U27","v":{"$error":"#DIV/0!"}},null,null,null,null,{"$f":"MAXA(M29,P29,S29)","v":0},null,{"$f":"Z27/AB27","v":{"$error":"#DIV/0!"}}]
[null,"Tour 4",{"$f":"C12","v":0}]
[null,null,{"$f":"C10","v":0},null,null,null,null,null,null,null,null,null,"Pas de prolongation en cas de match nul."]
[]
[null,"Tour 5",{"$f":"C9","v":0}]
[null,null,{"$f":"C10","v":0}]
[]
[null,"Tour 6",{"$f":"C11","v":0}]
[null,null,{"$f":"C12","v":0}]
[]
[null,"Joueur 1",{"$f":"'Saisie des joueurs'!K22","v":0}]
[null,"Joueur 2",{"$f":"'Saisie des joueurs'!K23","v":0}]
[null,"Joueur 3",{"$f":"'Saisie des joueurs'!K24","v":0}]
[null,"Joueur 4",{"$f":"'Saisie des joueurs'!K25","v":0}]
[]
[null,"SAISIE DES RESULTATS",null,null,null,null,null,null,null,null,null,null,{"$f":"C39","v":0},null,null,{"$f":"C40","v":0},null,null,{"$f":"C41","v":0},null,null,{"$f":"C42","v":0}]
[null,null,null,null,null,null,null,null,null,null,null,null,null,null,null,null,null,null,null,null,null,null,null,null,null,"TOTAUX",null,null,"CLASSEMENT"]
[null,null,null,null,null,null,null,null,null,null,null,null,null,null,null,null,null,null,null,null,null,null,null,null,null,null,null,null,null,null,"Classement",null,"Classement",null,"Classement",null,"Classement",null,"Classement",null,"GENERAL","RANG"]
[null,"POULE B",null,null,null,null,null,null,null,null,null,null,null,null,null,null,null,null,null,null,null,null,null,null,null,null,null,null,null,null,"Point-Match","CLS-M","Moy-Gen","CLS-G","Moy-Part","CLS-P","M-Series","CLS-S","MGPS","CLS","CLS"]
[null,null,null,null,null,null,null,null,null,null,{"$f":"C39","v":0},null,"L",null,null,{"$f":"D63","v":0},null,{"$f":"E63","v":0},{"$f":"D57","v":0},null,{"$f":"E57","v":0},{"$f":"D51","v":0},null,{"$f":"E51","v":0},null,{"$f":"P48+S48+V48","v":0},null,{"$f":"R48+U48+X48","v":0},{"$f":"AP48","v":{"$error":"#DIV/0!"}},null,{"$f":"AA49","v":0.03},{"$f":"RANK(AE48,AE$48:AE$59,0)","v":1},{"$f":"AB50","v":{"$error":"#DIV/0!"}},{"$f":"RANK(AG48,AG$48:AG$59,0)","v":{"$error":"#DIV/0!"}},{"$f":"MAX(R50,U50,X50)","v":{"$error":"#DIV/0!"}},{"$f":"RANK(AI48,AI$48:AI$59)","v":{"$error":"#DIV/0!"}},{"$f":"Z50","v":0},{"$f":"RANK(AK48,AK$48:AK$59)","v":1},{"$f":"(AF48*1000)+(AH48*100)+(AJ48*10)+(AL48*1)","v":{"$error":"#DIV/0!"}},{"$f":"AM48","v":{"$error":"#DIV/0!"}},{"$f":"RANK(AN48,AN$48:AN$59,1)","v":{"$error":"#DIV/0!"}},{"$f":"RANK(AO48,AO$48:AO$59,1)","v":{"$error":"#DIV/0!"}}]
[null,null,null,null,null,null,null,null,null,null,null,null,null,null,null,null,{"$f":"IF(R48<1,0.01,IF(P48>M51,2,IF(P48=M51,1,0)))","v":0.01},null,null,{"$f":"IF(U48<1,0.01,IF(S48>M54,2,IF(S48=M54,1,0)))","v":0.01},null,null,{"$f":"IF(X48<1,0.01,IF(V48>M57,2,IF(V48=M57,1,0)))","v":0.01},null,null,null,{"$f":"Q49+T49+W49","v":0.03}]
[null,null,null,"Pts","Rep","Série",null,null,null,null,null,null,null,null,null,{"$f":"F63","v":0},null,{"$f":"P48/R48","v":{"$error":"#DIV/0!"}},{"$f":"F57","v":0},null,{"$f":"S48/U48","v":{"$error":"#DIV/0!"}},{"$f":"F51","v":0},null,{"$f":"V48/X48","v":{"$error":"#DIV/0!"}},null,{"$f":"MAX(P50,S50,V50)","v":0},null,{"$f":"Z48/AB48","v":{"$error":"#DIV/0!"}}]
[null,"Tour 1",{"$f":"C39","v":0},null,null,null,null,null,null,null,{"$f":"C40","v":0},null,{"$f":"D64","v":0},null,{"$f":"E63","v":0},"M",null,null,{"$f":"D54","v":0},null,{"$f":"E54","v":0},{"$f":"D61","v":0},null,{"$f":"E60","v":0},null,{"$f":"M51+S51+V51","v":0},null,{"$f":"O51+U51+X51","v":0},{"$f":"AP51","v":{"$error":"#DIV/0!"}},null,{"$f":"AA52","v":0.03},{"$f":"RANK(AE51,AE$48:AE$59,0)","v":1},{"$f":"AB53","v":{"$error":"#DIV/0!"}},{"$f":"RANK(AG51,AG$48:AG$59,0)","v":{"$error":"#DIV/0!"}},{"$f":"MAX(O53,U53,X53)","v":{"$error":"#DIV/0!"}},{"$f":"RANK(AI51,AI$48:AI$59)","v":{"$error":"#DIV/0!"}},{"$f":"Z53","v":0},{"$f":"RANK(AK51,AK$48:AK$59)","v":1},{"$f":"(AF51*1000)+(AH51*100)+(AJ51*10)+(AL51*1)","v":{"$error":"#DIV/0!"}},{"$f":"AM51","v":{"$error":"#DIV/0!"}},{"$f":"RANK(AN51,AN$48:AN$59,1)","v":{"$error":"#DIV/0!"}},{"$f":"RANK(AO51,AO$48:AO$59,1)","v":{"$error":"#DIV/0!"}}]
[null,null,{"$f":"C42","v":0},null,null,null,null,null,null,null,null,null,null,{"$f":"IF(R48>0,2-Q49,0.01)","v":0.01},null,null,null,null,null,{"$f":"IF(U51<1,0.01,IF(S51>P54,2,IF(S51=P54,1,0)))","v":0.01},null,null,{"$f":"IF(X51<1,0.01,IF(V51>P57,2,IF(V51=P57,1,0)))","v":0.01},null,null,null,{"$f":"N52+T52+W52","v":0.03}]
[null,null,null,null,null,null,null,null,null,null,null,null,{"$f":"F64","v":0},null,{"$f":"M51/O51","v":{"$error":"#DIV/0!"}},null,null,null,{"$f":"F54","v":0},null,{"$f":"S51/U51","v":{"$error":"#DIV/0!"}},{"$f":"F61","v":0},null,{"$f":"V51/X51","v":{"$error":"#DIV/0!"}},null,{"$f":"MAXA(M53,S53,V53)","v":0},null,{"$f":"Z51/AB51","v":{"$error":"#DIV/0!"}}]
[null,"Tour 2",{"$f":"C40","v":0},null,null,null,null,null,null,null,{"$f":"C41","v":0},null,{"$f":"D58","v":0},null,{"$f":"E57","v":0},{"$f":"D55","v":0},null,{"$f":"E54","v":0},"B",null,null,{"$f":"D66","v":0},null,{"$f":"E66","v":0},null,{"$f":"M54+P54+V54","v":0},null,{"$f":"O54+R54+X54","v":0},{"$f":"AP54","v":{"$error":"#DIV/0!"}},null,{"$f":"AA55","v":0.03},{"$f":"RANK(AE54,AE$48:AE$59,0)","v":1},{"$f":"AB56","v":{"$error":"#DIV/0!"}},{"$f":"RANK(AG54,AG$48:AG$59,0)","v":{"$error":"#DIV/0!"}},{"$f":"MAX(O56,R56,X56)","v":{"$error":"#DIV/0!"}},{"$f":"RANK(AI54,AI$48:AI$59)","v":{"$error":"#DIV/0!"}},{"$f":"Z56","v":0},{"$f":"RANK(AK54,AK$48:AK$59)","v":1},{"$f":"(AF54*1000)+(AH54*100)+(AJ54*10)+(AL54*1)","v":{"$error":"#DIV/0!"}},{"$f":"AM54","v":{"$error":"#DIV/0!"}},{"$f":"RANK(AN54,AN$48:AN$59,1)","v":{"$error":"#DIV/0!"}},{"$f":"RANK(AO54,AO$48:AO$59,1)","v":{"$error":"#DIV/0!"}}]
[null,null,{"$f":"C41","v":0},null,null,null,null,null,null,null,null,null,null,{"$f":"IF(U48>0,2-T49,0.01)","v":0.01},null,null,{"$f":"IF(U51>0,2-T52,0.01)","v":0.01},null,null,null,null,null,{"$f":"IF(X54<1,0.01,IF(V54>S57,2,IF(V54=S57,1,0)))","v":0.01},null,null,null,{"$f":"N55+Q55+W55","v":0.03}]
[null,null,null,null,null,null,null,null,null,null,null,null,{"$f":"F58","v":0},null,{"$f":"M54/O54","v":{"$error":"#DIV/0!"}},{"$f":"F55","v":0},null,{"$f":"P54/R54","v":{"$error":"#DIV/0!"}},null,null,null,{"$f":"F66","v":0},null,{"$f":"V54/X54","v":{"$error":"#DIV/0!"}},null,{"$f":"MAXA(M56,P56,V56)","v":0},null,{"$f":"Z54/AB54","v":{"$error":"#DIV/0!"}}]
[null,"Tour 3",{"$f":"C39","v":0},null,null,null,null,null,null,null,{"$f":"C42","v":0},null,{"$f":"D52","v":0},null,{"$f":"E51","v":0},{"$f":"D60","v":0},null,{"$f":"E60","v":0},{"$f":"D67","v":0},null,{"$f":"E66","v":0},null,null,null,null,{"$f":"M57+P57+S57","v":0},null,{"$f":"O57+R57+U57","v":0},{"$f":"AP57","v":{"$error":"#DIV/0!"}},null,{"$f":"AA58","v":0.03},{"$f":"RANK(AE57,AE$48:AE$59,0)","v":1},{"$f":"AB59","v":{"$error":"#DIV/0!"}},{"$f":"RANK(AG57,AG$48:AG$59,0)","v":{"$error":"#DIV/0!"}},{"$f":"MAX(O59,R59,U59)","v":{"$error":"#DIV/0!"}},{"$f":"RANK(AI57,AI$48:AI$59)","v":{"$error":"#DIV/0!"}},{"$f":"Z59","v":0},{"$f":"RANK(AK57,AK$48:AK$59)","v":1},{"$f":"(AF57*1000)+(AH57*100)+(AJ57*10)+(AL57*1)","v":{"$error":"#DIV/0!"}},{"$f":"AM57","v":{"$error":"#DIV/0!"}},{"$f":"RANK(AN57,AN$48:AN$59,1)","v":{"$error":"#DIV/0!"}},{"$f":"RANK(AO57,AO$48:AO$59,1)","v":{"$error":"#DIV/0!"}}]
[null,null,{"$f":"C41","v":0},null,null,null,null,null,null,null,null,null,null,{"$f":"IF(X48>0,2-W49,0.01)","v":0.01},null,null,{"$f":"IF(X51>0,2-W52,0.01)","v":0.01},null,null,{"$f":"IF(X54>0,2-W55,0.01)","v":0.01},null,null,null,null,null,null,{"$f":"N58+Q58+T58","v":0.03}]
[null,null,null,null,null,null,null,null,null,null,null,null,{"$f":"F52","v":0},null,{"$f":"M57/O57","v":{"$error":"#DIV/0!"}},{"$f":"F60","v":0},null,{"$f":"P57/R57","v":{"$error":"#DIV/0!"}},{"$f":"F67","v":0},null,{"$f":"S57/U57","v":{"$error":"#DIV/0!"}},null,null,null,null,{"$f":"MAXA(M59,P59,S59)","v":0},null,{"$f":"Z57/AB57","v":{"$error":"#DIV/0!"}}]
[null,"Tour 4",{"$f":"C42","v":0}]
[null,null,{"$f":"C40","v":0},null,null,null,null,null,null,null,null,null,"Pas de prolongation en cas de match nul."]
[]
[null,"Tour 5",{"$f":"C39","v":0}]
[null,null,{"$f":"C40","v":0}]
[]
[null,"Tour 6",{"$f":"C41","v":0}]
[null,null,{"$f":"C42","v":0}]

{"sheet":"9JOUEURS_SERPENTIN","index":22,"n_rows":97,"n_cols":48,"rows_kept":97,"cut":false,"hidden":true,"merged":[[8,2,8,5],[9,2,9,5],[10,12,10,20],[10,21,10,29],[12,1,13,5],[12,12,15,14],[12,15,15,17],[12,18,15,20],[12,21,15,23],[12,24,15,26],[12,27,15,29],[15,1,16,2],[10,2,10,5],[12,31,15,33],[12,34,15,34],[13,10,15,11],[14,36,14,37],[14,38,14,39],[14,41,14,42],[14,43,14,44],[14,46,15,46],[16,10,18,11],[16,12,18,14],[16,21,18,23],[16,34,18,34],[16,36,18,36],[16,37,18,37],[16,38,18,38],[19,43,21,43],[19,44,21,44],[19,45,21,45],[19,46,21,46],[19,47,21,47],[19,41,21,41],[19,42,21,42],[16,39,18,39],[16,40,18,40],[16,41,18,41],[16,42,18,42],[16,43,18,43],[16,44,18,44],[16,45,18,45],[16,46,18,46],[16,47,18,47],[19,38,21,38],[19,39,21,39],[19,40,21,40],[31,1,32,1],[31,4,32,4],[34,1,35,1],[34,4,35,4],[22,1,23,1],[22,4,23,4],[22,10,24,11],[22,18,24,20],[22,27,24,29],[19,37,21,37],[19,1,20,1],[19,4,20,4],[19,10,21,11],[19,15,21,17],[19,24,21,26],[19,34,21,34],[19,36,21,36],[38,2,38,5],[22,47,24,47],[25,1,26,1],[25,4,26,4],[26,12,26,34],[28,1,29,1],[28,4,29,4],[22,41,24,41],[22,42,24,42],[22,43,24,43],[22,44,24,44],[22,45,24,45],[22,46,24,46],[22,34,24,34],[22,36,24,36],[22,37,24,37],[22,38,24,38],[22,39,24,39],[22,40,24,40],[39,2,39,5],[40,2,40,5],[40,12,40,20],[40,21,40,29],[42,1,43,5],[42,12,45,14],[42,15,45,17],[42,18,45,20],[42,21,45,23],[42,24,45,26],[45,1,46,2],[46,47,48,47],[49,1,50,1],[49,4,50,4],[49,10,51,11],[49,15,51,17],[49,24,51,26],[49,34,51,34],[42,27,45,29],[42,31,45,33],[42,34,45,34],[43,10,45,11],[44,36,44,37],[44,38,44,39],[44,41,44,42],[44,43,44,44],[44,46,45,46],[46,10,48,11],[46,12,48,14],[46,21,48,23],[46,34,48,34],[46,36,48,36],[46,37,48,37],[46,38,48,38],[46,39,48,39],[46,40,48,40],[46,41,48,41],[46,42,48,42],[46,43,48,43],[46,44,48,44],[46,45,48,45],[46,46,48,46],[49,46,51,46],[52,1,53,1],[52,4,53,4],[52,10,54,11],[52,18,54,20],[52,27,54,29],[52,34,54,34],[52,46,54,46],[49,47,51,47],[49,36,51,36],[49,37,51,37],[49,38,51,38],[49,39,51,39],[49,40,51,40],[49,41,51,41],[49,42,51,42],[49,43,51,43],[49,44,51,44],[49,45,51,45],[52,47,54,47],[52,36,54,36],[52,37,54,37],[52,38,54,38],[52,39,54,39],[52,40,54,40],[52,41,54,41],[70,12,70,20],[70,21,70,29],[52,42,54,42],[52,43,54,43],[52,44,54,44],[52,45,54,45],[73,1,74,5],[76,1,77,2],[75,41,75,42],[75,43,75,44],[55,1,56,1],[55,4,56,4],[56,12,56,34],[58,1,59,1],[58,4,59,4],[61,1,62,1],[61,4,62,4],[64,1,65,1],[64,4,65,4],[68,2,68,5],[69,2,69,5],[70,2,70,5],[75,46,76,46],[77,10,79,11],[77,12,79,14],[77,21,79,23],[77,34,79,34],[77,36,79,36],[77,37,79,37],[77,38,79,38],[77,46,79,46],[73,12,76,14],[73,15,76,17],[73,18,76,20],[73,21,76,23],[73,24,76,26],[73,27,76,29],[77,39,79,39],[77,40,79,40],[73,31,76,33],[73,34,76,34],[74,10,76,11],[75,36,75,37],[75,38,75,39],[80,1,81,1],[80,4,81,4],[80,10,82,11],[83,39,85,39],[83,40,85,40],[83,1,84,1],[83,4,84,4],[77,47,79,47],[77,41,79,41],[77,42,79,42],[77,43,79,43],[77,44,79,44],[80,43,82,43],[80,44,82,44],[80,45,82,45],[77,45,79,45],[80,46,82,46],[80,47,82,47],[80,41,82,41],[80,42,82,42],[80,15,82,17],[80,24,82,26],[80,34,82,34],[80,36,82,36],[80,40,82,40],[83,10,85,11],[83,18,85,20],[83,27,85,29],[80,37,82,37],[80,38,82,38],[80,39,82,39],[83,34,85,34],[83,36,85,36],[83,37,85,37],[83,38,85,38],[95,1,96,1],[95,4,96,4],[83,47,85,47],[86,1,87,1],[86,4,87,4],[87,12,87,34],[89,1,90,1],[89,4,90,4],[83,41,85,41],[83,42,85,42],[92,1,93,1],[92,4,93,4],[83,43,85,43],[83,44,85,44],[83,45,85,45],[83,46,85,46],[7,12,7,15],[7,17,7,18],[7,20,7,21],[7,23,7,25],[7,27,7,28],[2,1,3,2],[2,3,3,9],[5,1,6,2],[5,3,6,9],[1,12,4,35],[6,12,6,15],[6,17,6,18],[6,20,6,21],[6,23,6,25],[6,27,6,28]]}
[]
[null,null,null,null,null,null,null,null,null,null,null,null,"LIGUE MÉDITERRANÉENNE DE BILLARD"]
[null,"CLUB ORGANISATEUR"]
[]
[]
[null,"DIRECTEUR DE JEU :"]
[null,null,null,null,null,null,null,null,null,null,null,null,"Compétition",null,null,null,null,"Mode de jeu",null,null,"Categorie",null,null,"Format billard",null,null,null,"Distance"]
[]
[null,"Joueur 1",{"$f":"'Saisie des joueurs'!K18","v":0}]
[null,"Joueur 2",{"$f":"'Saisie des joueurs'!K19","v":0}]
[null,"Joueur 3",{"$f":"'Saisie des joueurs'!K20","v":0},null,null,null,null,null,null,null,null,null,"MATCH ALLER",null,null,null,null,null,null,null,null,"MATCH RETOUR"]
[]
[null,"SAISIE DES RESULTATS",null,null,null,null,null,null,null,null,null,null,{"$f":"C9","v":0},null,null,{"$f":"C10","v":0},null,null,{"$f":"C11","v":0},null,null,{"$f":"C9","v":0},null,null,{"$f":"C10","v":0},null,null,{"$f":"C11","v":0},null,null,null,"TOTAUX",null,null,"CLASSEMENT"]
[]
[null,null,null,null,null,null,null,null,null,null,null,null,null,null,null,null,null,null,null,null,null,null,null,null,null,null,null,null,null,null,null,null,null,null,null,null,"Classement",null,"Classement",null,"Classement","Classement",null,"Classement",null,"GENERAL","RANG"]
[null,"POULE A",null,null,null,null,null,null,null,null,null,null,null,null,null,null,null,null,null,null,null,null,null,null,null,null,null,null,null,null,null,null,null,null,null,null,"Point-Match","CLS-M","Moy-Gen","CLS-G","Moy-Part","M-Series","CLS-S","MGPS","CLS","CLS"]
[null,null,null,null,null,null,null,null,null,null,{"$f":"C9","v":0},null,"L",null,null,{"$f":"D26","v":0},null,{"$f":"E26","v":0},{"$f":"D20","v":0},null,{"$f":"E20","v":0},"L",null,null,{"$f":"D35","v":0},null,{"$f":"E35","v":0},{"$f":"D29","v":0},null,{"$f":"E29","v":0},null,{"$f":"P17+S17+Y17+AB17","v":0},null,{"$f":"R17+U17+AA17+AD17","v":0},{"$f":"AU17","v":{"$error":"#DIV/0!"}},null,{"$f":"AG18","v":0.04},{"$f":"RANK(AK17,AK$17:AK$25,0)","v":1},{"$f":"AH19","v":{"$error":"#DIV/0!"}},{"$f":"RANK(AM17,AM$17:AM$25,0)","v":{"$error":"#DIV/0!"}},{"$f":"MAX(R19,U19,AA19,AD19)","v":{"$error":"#DIV/0!"}},{"$f":"RANK(AO17,AO$17:AO$25)","v":{"$error":"#DIV/0!"}},{"$f":"AF19","v":0},{"$f":"RANK(AQ17,AQ$17:AQ$25)","v":1},{"$f":"(AL17*1000)+(AN17*100)+(AP17*10)+(AR17*1)","v":{"$error":"#DIV/0!"}},{"$f":"AS17","v":{"$error":"#DIV/0!"}},{"$f":"RANK(AT17,AT$17:AT$25,1)","v":{"$error":"#DIV/0!"}},{"$f":"RANK(AU17,AU$17:AU$25,1)","v":{"$error":"#DIV/0!"}}]
[null,null,null,null,null,null,null,null,null,null,null,null,null,null,null,null,{"$f":"IF(R17<1,0.01,IF(P17>M20,2,IF(P17=M20,1,0)))","v":0.01},null,null,{"$f":"IF(U17<1,0.01,IF(S17>M23,2,IF(S17=M23,1,0)))","v":0.01},null,null,null,null,null,{"$f":"IF(AA17<1,0.01,IF(Y17>V20,2,IF(Y17=V20,1,0)))","v":0.01},null,null,{"$f":"IF(AD17<1,0.01,IF(AB17>V23,2,IF(AB17=V23,1,0)))","v":0.01},null,null,null,{"$f":"Q18+T18+Z18+AC18","v":0.04}]
[null,null,null,"Pts","Rep","Série",null,null,null,null,null,null,null,null,null,{"$f":"F26","v":0},null,{"$f":"P17/R17","v":{"$error":"#DIV/0!"}},{"$f":"F20","v":0},null,{"$f":"S17/U17","v":{"$error":"#DIV/0!"}},null,null,null,{"$f":"F35","v":0},null,{"$f":"Y17/AA17","v":{"$error":"#DIV/0!"}},{"$f":"F29","v":0},null,{"$f":"AB17/AD17","v":{"$error":"#DIV/0!"}},null,{"$f":"MAX(P19,S19,Y19,AB19)","v":0},null,{"$f":"AF17/AH17","v":{"$error":"#DIV/0!"}}]
[null,"Tour 1\nMatch aller",{"$f":"C9","v":0},null,null,null,null,null,null,null,{"$f":"C10","v":0},null,{"$f":"D27","v":0},null,{"$f":"E26","v":0},"M",null,null,{"$f":"D23","v":0},null,{"$f":"E23","v":0},{"$f":"D36","v":0},null,{"$f":"E35","v":0},"M",null,null,{"$f":"D32","v":0},null,{"$f":"E32","v":0},null,{"$f":"M20+S20+V20+AB20","v":0},null,{"$f":"O20+U20+X20+AD20","v":0},{"$f":"AU20","v":{"$error":"#DIV/0!"}},null,{"$f":"AG21","v":0.04},{"$f":"RANK(AK20,AK$17:AK$25,0)","v":1},{"$f":"AH22","v":{"$error":"#DIV/0!"}},{"$f":"RANK(AM20,AM$17:AM$25,0)","v":{"$error":"#DIV/0!"}},{"$f":"MAX(R22,U22,AA22,AD22)","v":{"$error":"#DIV/0!"}},{"$f":"RANK(AO20,AO$17:AO$25)","v":{"$error":"#DIV/0!"}},{"$f":"AF22","v":0},{"$f":"RANK(AQ20,AQ$17:AQ$25)","v":1},{"$f":"(AL20*1000)+(AN20*100)+(AP20*10)+(AR20*1)","v":{"$error":"#DIV/0!"}},{"$f":"AS20","v":{"$error":"#DIV/0!"}},{"$f":"RANK(AT20,AT$17:AT$25,1)","v":{"$error":"#DIV/0!"}},{"$f":"RANK(AU20,AU$17:AU$25,1)","v":{"$error":"#DIV/0!"}}]
[null,null,{"$f":"C11","v":0},null,null,null,null,null,null,null,null,null,null,{"$f":"IF(R17>0,2-Q18,0.01)","v":0.01},null,null,null,null,null,{"$f":"IF(U20<1,0.01,IF(S20>P23,2,IF(S20=P23,1,0)))","v":0.01},null,null,{"$f":"IF(AA17>0,2-Z18,0.01)","v":0.01},null,null,null,null,null,{"$f":"IF(AD20<1,0.01,IF(AB20>Y23,2,IF(AB20=Y23,1,0)))","v":0.01},null,null,null,{"$f":"N21+T21+W21+AC21","v":0.04}]
[null,null,null,null,null,null,null,null,null,null,null,null,{"$f":"F27","v":0},null,{"$f":"M20/O20","v":{"$error":"#DIV/0!"}},null,null,null,{"$f":"F23","v":0},null,{"$f":"S20/U20","v":{"$error":"#DIV/0!"}},{"$f":"F36","v":0},null,{"$f":"V20/X20","v":{"$error":"#DIV/0!"}},null,null,null,{"$f":"F32","v":0},null,{"$f":"AB20/AD20","v":{"$error":"#DIV/0!"}},null,{"$f":"MAXA(M22,S22,V22,AB22)","v":0},null,{"$f":"AF20/AH20","v":{"$error":"#DIV/0!"}}]
[null,"Tour 2\nMatch aller",{"$f":"C10","v":0},null,null,null,null,null,null,null,{"$f":"C11","v":0},null,{"$f":"D21","v":0},null,{"$f":"E20","v":0},{"$f":"D24","v":0},null,{"$f":"E23","v":0},"B",null,null,{"$f":"D30","v":0},null,{"$f":"E29","v":0},{"$f":"D33","v":0},null,{"$f":"E32","v":0},"B",null,null,null,{"$f":"M23+P23+V23+Y23","v":0},null,{"$f":"O23+R23+X23+AA23","v":0},{"$f":"AU23","v":{"$error":"#DIV/0!"}},null,{"$f":"AG24","v":0.04},{"$f":"RANK(AK23,AK$17:AK$25,0)","v":1},{"$f":"AH25","v":{"$error":"#DIV/0!"}},{"$f":"RANK(AM23,AM$17:AM$25,0)","v":{"$error":"#DIV/0!"}},{"$f":"MAX(R25,U25,AA25,AD25)","v":{"$error":"#DIV/0!"}},{"$f":"RANK(AO23,AO$17:AO$25)","v":{"$error":"#DIV/0!"}},{"$f":"AF25","v":0},{"$f":"RANK(AQ23,AQ$17:AQ$25)","v":1},{"$f":"(AL23*1000)+(AN23*100)+(AP23*10)+(AR23*1)","v":{"$error":"#DIV/0!"}},{"$f":"AS23","v":{"$error":"#DIV/0!"}},{"$f":"RANK(AT23,AT$17:AT$25,1)","v":{"$error":"#DIV/0!"}},{"$f":"RANK(AU23,AU$17:AU$25,1)","v":{"$error":"#DIV/0!"}}]
[null,null,{"$f":"C11","v":0},null,null,null,null,null,null,null,null,null,null,{"$f":"IF(U17>0,2-T18,0.01)","v":0.01},null,null,{"$f":"IF(U20>0,2-T21,0.01)","v":0.01},null,null,null,null,null,{"$f":"IF(AD17>0,2-AC18,0.01)","v":0.01},null,null,{"$f":"IF(AD20>0,2-AC21,0.01)","v":0.01},null,null,null,null,null,null,{"$f":"N24+Q24+W24+Z24","v":0.04}]
[null,null,null,null,null,null,null,null,null,null,null,null,{"$f":"F21","v":0},null,{"$f":"M23/O23","v":{"$error":"#DIV/0!"}},{"$f":"F24","v":0},null,{"$f":"P23/R23","v":{"$error":"#DIV/0!"}},null,null,null,{"$f":"F30","v":0},null,{"$f":"V23/X23","v":{"$error":"#DIV/0!"}},{"$f":"F33","v":0},null,{"$f":"Y23/AA23","v":{"$error":"#DIV/0!"}},null,null,null,null,{"$f":"MAXA(M25,P25,V25,Y25)","v":0},null,{"$f":"AF23/AH23","v":{"$error":"#DIV/0!"}}]
[null,"Tour 3\nMatch aller",{"$f":"C9","v":0}]
[null,null,{"$f":"C10","v":0},null,null,null,null,null,null,null,null,null,"Pas de prolongation en cas de match nul."]
[]
[null,"Tour 1\nMatch retour",{"$f":"C9","v":0}]
[null,null,{"$f":"C11","v":0}]
[]
[null,"Tour 2\nMatch retour",{"$f":"C10","v":0}]
[null,null,{"$f":"C11","v":0}]
[]
[null,"Tour 3\nMatch retour",{"$f":"C9","v":0}]
[null,null,{"$f":"C10","v":0}]
[]
[]
[null,"Joueur 1",{"$f":"'Saisie des joueurs'!K22","v":0}]
[null,"Joueur 2",{"$f":"'Saisie des joueurs'!K23","v":0}]
[null,"Joueur 3",{"$f":"'Saisie des joueurs'!K24","v":0},null,null,null,null,null,null,null,null,null,"MATCH ALLER",null,null,null,null,null,null,null,null,"MATCH RETOUR"]
[]
[null,"SAISIE DES RESULTATS",null,null,null,null,null,null,null,null,null,null,{"$f":"C39","v":0},null,null,{"$f":"C40","v":0},null,null,{"$f":"C41","v":0},null,null,{"$f":"C39","v":0},null,null,{"$f":"C40","v":0},null,null,{"$f":"C41","v":0},null,null,null,"TOTAUX",null,null,"CLASSEMENT"]
[]
[null,null,null,null,null,null,null,null,null,null,null,null,null,null,null,null,null,null,null,null,null,null,null,null,null,null,null,null,null,null,null,null,null,null,null,null,"Classement",null,"Classement",null,"Classement","Classement",null,"Classement",null,"GENERAL","RANG"]
[null,"POULE B",null,null,null,null,null,null,null,null,null,null,null,null,null,null,null,null,null,null,null,null,null,null,null,null,null,null,null,null,null,null,null,null,null,null,"Point-Match","CLS-M","Moy-Gen","CLS-G","Moy-Part","M-Series","CLS-S","MGPS","CLS","CLS"]
[null,null,null,null,null,null,null,null,null,null,{"$f":"C39","v":0},null,"L",null,null,{"$f":"D56","v":0},null,{"$f":"E56","v":0},{"$f":"D50","v":0},null,{"$f":"E50","v":0},"L",null,null,{"$f":"D65","v":0},null,{"$f":"E65","v":0},{"$f":"D59","v":0},null,{"$f":"E59","v":0},null,{"$f":"P47+S47+Y47+AB47","v":0},null,{"$f":"R47+U47+AA47+AD47","v":0},{"$f":"AU47","v":{"$error":"#DIV/0!"}},null,{"$f":"AG48","v":0.04},{"$f":"RANK(AK47,AK$47:AK$55,0)","v":1},{"$f":"AH49","v":{"$error":"#DIV/0!"}},{"$f":"RANK(AM47,AM$47:AM$55,0)","v":{"$error":"#DIV/0!"}},{"$f":"MAX(R49,U49,AA49,AD49)","v":{"$error":"#DIV/0!"}},{"$f":"RANK(AO47,AO$47:AO$55)","v":{"$error":"#DIV/0!"}},{"$f":"AF49","v":0},{"$f":"RANK(AQ47,AQ$47:AQ$55)","v":1},{"$f":"(AL47*1000)+(AN47*100)+(AP47*10)+(AR47*1)","v":{"$error":"#DIV/0!"}},{"$f":"AS47","v":{"$error":"#DIV/0!"}},{"$f":"RANK(AT47,AT$47:AT$55,1)","v":{"$error":"#DIV/0!"}},{"$f":"RANK(AU47,AU$47:AU$55,1)","v":{"$error":"#DIV/0!"}}]
[null,null,null,null,null,null,null,null,null,null,null,null,null,null,null,null,{"$f":"IF(R47<1,0.01,IF(P47>M50,2,IF(P47=M50,1,0)))","v":0.01},null,null,{"$f":"IF(U47<1,0.01,IF(S47>M53,2,IF(S47=M53,1,0)))","v":0.01},null,null,null,null,null,{"$f":"IF(AA47<1,0.01,IF(Y47>V50,2,IF(Y47=V50,1,0)))","v":0.01},null,null,{"$f":"IF(AD47<1,0.01,IF(AB47>V53,2,IF(AB47=V53,1,0)))","v":0.01},null,null,null,{"$f":"Q48+T48+Z48+AC48","v":0.04}]
[null,null,null,"Pts","Rep","Série",null,null,null,null,null,null,null,null,null,{"$f":"F56","v":0},null,{"$f":"P47/R47","v":{"$error":"#DIV/0!"}},{"$f":"F50","v":0},null,{"$f":"S47/U47","v":{"$error":"#DIV/0!"}},null,null,null,{"$f":"F65","v":0},null,{"$f":"Y47/AA47","v":{"$error":"#DIV/0!"}},{"$f":"F59","v":0},null,{"$f":"AB47/AD47","v":{"$error":"#DIV/0!"}},null,{"$f":"MAX(P49,S49,Y49,AB49)","v":0},null,{"$f":"AF47/AH47","v":{"$error":"#DIV/0!"}}]
[null,"Tour 1\nMatch aller",{"$f":"C39","v":0},null,null,null,null,null,null,null,{"$f":"C40","v":0},null,{"$f":"D57","v":0},null,{"$f":"E56","v":0},"M",null,null,{"$f":"D53","v":0},null,{"$f":"E53","v":0},{"$f":"D66","v":0},null,{"$f":"E65","v":0},"M",null,null,{"$f":"D62","v":0},null,{"$f":"E62","v":0},null,{"$f":"M50+S50+V50+AB50","v":0},null,{"$f":"O50+U50+X50+AD50","v":0},{"$f":"AU50","v":{"$error":"#DIV/0!"}},null,{"$f":"AG51","v":0.04},{"$f":"RANK(AK50,AK$47:AK$55,0)","v":1},{"$f":"AH52","v":{"$error":"#DIV/0!"}},{"$f":"RANK(AM50,AM$47:AM$55,0)","v":{"$error":"#DIV/0!"}},{"$f":"MAX(O52,U52,X52,AD52)","v":{"$error":"#DIV/0!"}},{"$f":"RANK(AO50,AO$47:AO$55)","v":{"$error":"#DIV/0!"}},{"$f":"AF52","v":0},{"$f":"RANK(AQ50,AQ$47:AQ$55)","v":1},{"$f":"(AL50*1000)+(AN50*100)+(AP50*10)+(AR50*1)","v":{"$error":"#DIV/0!"}},{"$f":"AS50","v":{"$error":"#DIV/0!"}},{"$f":"RANK(AT50,AT$47:AT$55,1)","v":{"$error":"#DIV/0!"}},{"$f":"RANK(AU50,AU$47:AU$55,1)","v":{"$error":"#DIV/0!"}}]
[null,null,{"$f":"C41","v":0},null,null,null,null,null,null,null,null,null,null,{"$f":"IF(R47>0,2-Q48,0.01)","v":0.01},null,null,null,null,null,{"$f":"IF(U50<1,0.01,IF(S50>P53,2,IF(S50=P53,1,0)))","v":0.01},null,null,{"$f":"IF(AA47>0,2-Z48,0.01)","v":0.01},null,null,null,null,null,{"$f":"IF(AD50<1,0.01,IF(AB50>Y53,2,IF(AB50=Y53,1,0)))","v":0.01},null,null,null,{"$f":"N51+T51+W51+AC51","v":0.04}]
[null,null,null,null,null,null,null,null,null,null,null,null,{"$f":"F57","v":0},null,{"$f":"M50/O50","v":{"$error":"#DIV/0!"}},null,null,null,{"$f":"F53","v":0},null,{"$f":"S50/U50","v":{"$error":"#DIV/0!"}},{"$f":"F66","v":0},null,{"$f":"V50/X50","v":{"$error":"#DIV/0!"}},null,null,null,{"$f":"F62","v":0},null,{"$f":"AB50/AD50","v":{"$error":"#DIV/0!"}},null,{"$f":"MAXA(M52,S52,V52,AB52)","v":0},null,{"$f":"AF50/AH50","v":{"$error":"#DIV/0!"}}]
[null,"Tour 2\nMatch aller",{"$f":"C40","v":0},null,null,null,null,null,null,null,{"$f":"C41","v":0},null,{"$f":"D51","v":0},null,{"$f":"E50","v":0},{"$f":"D54","v":0},null,{"$f":"E53","v":0},"B",null,null,{"$f":"D60","v":0},null,{"$f":"E59","v":0},{"$f":"D63","v":0},null,{"$f":"E62","v":0},"B",null,null,null,{"$f":"M53+P53+V53+Y53","v":0},null,{"$f":"O53+R53+X53+AA53","v":0},{"$f":"AU53","v":{"$error":"#DIV/0!"}},null,{"$f":"AG54","v":0.04},{"$f":"RANK(AK53,AK$47:AK$55,0)","v":1},{"$f":"AH55","v":{"$error":"#DIV/0!"}},{"$f":"RANK(AM53,AM$47:AM$55,0)","v":{"$error":"#DIV/0!"}},{"$f":"MAX(O55,R55,X55,AA55)","v":{"$error":"#DIV/0!"}},{"$f":"RANK(AO53,AO$47:AO$55)","v":{"$error":"#DIV/0!"}},{"$f":"AF55","v":0},{"$f":"RANK(AQ53,AQ$47:AQ$55)","v":1},{"$f":"(AL53*1000)+(AN53*100)+(AP53*10)+(AR53*1)","v":{"$error":"#DIV/0!"}},{"$f":"AS53","v":{"$error":"#DIV/0!"}},{"$f":"RANK(AT53,AT$47:AT$55,1)","v":{"$error":"#DIV/0!"}},{"$f":"RANK(AU53,AU$47:AU$55,1)","v":{"$error":"#DIV/0!"}}]
[null,null,{"$f":"C41","v":0},null,null,null,null,null,null,null,null,null,null,{"$f":"IF(U47>0,2-T48,0.01)","v":0.01},null,null,{"$f":"IF(U50>0,2-T51,0.01)","v":0.01},null,null,null,null,null,{"$f":"IF(AD47>0,2-AC48,0.01)","v":0.01},null,null,{"$f":"IF(AD50>0,2-AC51,0.01)","v":0.01},null,null,null,null,null,null,{"$f":"N54+Q54+W54+Z54","v":0.04}]
[null,null,null,null,null,null,null,null,null,null,null,null,{"$f":"F51","v":0},null,{"$f":"M53/O53","v":{"$error":"#DIV/0!"}},{"$f":"F54","v":0},null,{"$f":"P53/R53","v":{"$error":"#DIV/0!"}},null,null,null,{"$f":"F60","v":0},null,{"$f":"V53/X53","v":{"$error":"#DIV/0!"}},{"$f":"F63","v":0},null,{"$f":"Y53/AA53","v":{"$error":"#DIV/0!"}},null,null,null,null,{"$f":"MAXA(M55,P55,V55,Y55)","v":0},null,{"$f":"AF53/AH53","v":{"$error":"#DIV/0!"}}]
[null,"Tour 3\nMatch aller",{"$f":"C39","v":0}]
[null,null,{"$f":"C40","v":0},null,null,null,null,null,null,null,null,null,"Pas de prolongation en cas de match nul."]
[]
[null,"Tour 1\nMatch retour",{"$f":"C39","v":0}]
[null,null,{"$f":"C41","v":0}]
[]
[null,"Tour 2\nMatch retour",{"$f":"C40","v":0}]
[null,null,{"$f":"C41","v":0}]
[]
[null,"Tour 3\nMatch retour",{"$f":"C39","v":0}]
[null,null,{"$f":"C40","v":0}]
[]
[]
[null,"Joueur 1",{"$f":"'Saisie des joueurs'!K26","v":0}]
[null,"Joueur 2",{"$f":"'Saisie des joueurs'!K27","v":0}]
[null,"Joueur 3",{"$f":"'Saisie des joueurs'!K28","v":0},null,null,null,null,null,null,null,null,null,"MATCH ALLER",null,null,null,null,null,null,null,null,"MATCH RETOUR"]
[]
[]
[null,"SAISIE DES RESULTATS",null,null,null,null,null,null,null,null,null,null,{"$f":"C69","v":0},null,null,{"$f":"C70","v":0},null,null,{"$f":"C71","v":0},null,null,{"$f":"C69","v":0},null,null,{"$f":"C70","v":0},null,null,{"$f":"C71","v":0},null,null,null,"TOTAUX",null,null,"CLASSEMENT"]
[]
[null,null,null,null,null,null,null,null,null,null,null,null,null,null,null,null,null,null,null,null,null,null,null,null,null,null,null,null,null,null,null,null,null,null,null,null,"Classement",null,"Classement",null,"Classement","Classement",null,"Classement",null,"GENERAL","RANG"]
[null,"POULE C",null,null,null,null,null,null,null,null,null,null,null,null,null,null,null,null,null,null,null,null,null,null,null,null,null,null,null,null,null,null,null,null,null,null,"Point-Match","CLS-M","Moy-Gen","CLS-G","Moy-Part","M-Series","CLS-S","MGPS","CLS","CLS"]
[null,null,null,null,null,null,null,null,null,null,{"$f":"C69","v":0},null,"L",null,null,{"$f":"D87","v":0},null,{"$f":"E87","v":0},{"$f":"D81","v":0},null,{"$f":"E81","v":0},"L",null,null,{"$f":"D96","v":0},null,{"$f":"E96","v":0},{"$f":"D90","v":0},null,{"$f":"E90","v":0},null,{"$f":"P78+S78+Y78+AB78","v":0},null,{"$f":"R78+U78+AA78+AD78","v":0},{"$f":"AU78","v":{"$error":"#DIV/0!"}},null,{"$f":"AG79","v":0.04},{"$f":"RANK(AK78,AK$78:AK$86,0)","v":1},{"$f":"AH80","v":{"$error":"#DIV/0!"}},{"$f":"RANK(AM78,AM$78:AM$86,0)","v":{"$error":"#DIV/0!"}},{"$f":"MAX(R80,U80,AA80,AD80)","v":{"$error":"#DIV/0!"}},{"$f":"RANK(AO78,AO$78:AO$86)","v":{"$error":"#DIV/0!"}},{"$f":"AF80","v":0},{"$f":"RANK(AQ78,AQ$78:AQ$86)","v":1},{"$f":"(AL78*1000)+(AN78*100)+(AP78*10)+(AR78*1)","v":{"$error":"#DIV/0!"}},{"$f":"AS78","v":{"$error":"#DIV/0!"}},{"$f":"RANK(AT78,AT78:AT$86,1)","v":{"$error":"#DIV/0!"}},{"$f":"RANK(AU78,AU$78:AU$86,1)","v":{"$error":"#DIV/0!"}}]
[null,null,null,null,null,null,null,null,null,null,null,null,null,null,null,null,{"$f":"IF(R78<1,0.01,IF(P78>M81,2,IF(P78=M81,1,0)))","v":0.01},null,null,{"$f":"IF(U78<1,0.01,IF(S78>M84,2,IF(S78=M84,1,0)))","v":0.01},null,null,null,null,null,{"$f":"IF(AA78<1,0.01,IF(Y78>V81,2,IF(Y78=V81,1,0)))","v":0.01},null,null,{"$f":"IF(AD78<1,0.01,IF(AB78>V84,2,IF(AB78=V84,1,0)))","v":0.01},null,null,null,{"$f":"Q79+T79+Z79+AC79","v":0.04}]
[null,null,null,"Pts","Rep","Série",null,null,null,null,null,null,null,null,null,{"$f":"F87","v":0},null,{"$f":"P78/R78","v":{"$error":"#DIV/0!"}},{"$f":"F81","v":0},null,{"$f":"S78/U78","v":{"$error":"#DIV/0!"}},null,null,null,{"$f":"F96","v":0},null,{"$f":"Y78/AA78","v":{"$error":"#DIV/0!"}},{"$f":"F90","v":0},null,{"$f":"AB78/AD78","v":{"$error":"#DIV/0!"}},null,{"$f":"MAX(P80,S80,Y80,AB80)","v":0},null,{"$f":"AF78/AH78","v":{"$error":"#DIV/0!"}}]
[null,"Tour 1\nMatch aller",{"$f":"C69","v":0},null,null,null,null,null,null,null,{"$f":"C70","v":0},null,{"$f":"D88","v":0},null,{"$f":"E87","v":0},"M",null,null,{"$f":"D84","v":0},null,{"$f":"E84","v":0},{"$f":"D97","v":0},null,{"$f":"E96","v":0},"M",null,null,{"$f":"D93","v":0},null,{"$f":"E93","v":0},null,{"$f":"M81+S81+V81+AB81","v":0},null,{"$f":"O81+U81+X81+AD81","v":0},{"$f":"AU81","v":{"$error":"#DIV/0!"}},null,{"$f":"AG82","v":0.04},{"$f":"RANK(AK81,AK$78:AK$86,0)","v":1},{"$f":"AH83","v":{"$error":"#DIV/0!"}},{"$f":"RANK(AM81,AM$78:AM$86,0)","v":{"$error":"#DIV/0!"}},{"$f":"MAX(O83,U83,X83,AD83)","v":{"$error":"#DIV/0!"}},{"$f":"RANK(AO81,AO$78:AO$86)","v":{"$error":"#DIV/0!"}},{"$f":"AF83","v":0},{"$f":"RANK(AQ81,AQ$78:AQ$86)","v":1},{"$f":"(AL81*1000)+(AN81*100)+(AP81*10)+(AR81*1)","v":{"$error":"#DIV/0!"}},{"$f":"AS81","v":{"$error":"#DIV/0!"}},{"$f":"RANK(AT81,AT81:AT$86,1)","v":{"$error":"#DIV/0!"}},{"$f":"RANK(AU81,AU$78:AU$86,1)","v":{"$error":"#DIV/0!"}}]
[null,null,{"$f":"C71","v":0},null,null,null,null,null,null,null,null,null,null,{"$f":"IF(R78>0,2-Q79,0.01)","v":0.01},null,null,null,null,null,{"$f":"IF(U81<1,0.01,IF(S81>P84,2,IF(S81=P84,1,0)))","v":0.01},null,null,{"$f":"IF(AA78>0,2-Z79,0.01)","v":0.01},null,null,null,null,null,{"$f":"IF(AD81<1,0.01,IF(AB81>Y84,2,IF(AB81=Y84,1,0)))","v":0.01},null,null,null,{"$f":"N82+T82+W82+AC82","v":0.04}]
[null,null,null,null,null,null,null,null,null,null,null,null,{"$f":"F88","v":0},null,{"$f":"M81/O81","v":{"$error":"#DIV/0!"}},null,null,null,{"$f":"F84","v":0},null,{"$f":"S81/U81","v":{"$error":"#DIV/0!"}},{"$f":"F97","v":0},null,{"$f":"V81/X81","v":{"$error":"#DIV/0!"}},null,null,null,{"$f":"F93","v":0},null,{"$f":"AB81/AD81","v":{"$error":"#DIV/0!"}},null,{"$f":"MAXA(M83,S83,V83,AB83)","v":0},null,{"$f":"AF81/AH81","v":{"$error":"#DIV/0!"}}]
[null,"Tour 2\nMatch aller",{"$f":"C70","v":0},null,null,null,null,null,null,null,{"$f":"C71","v":0},null,{"$f":"D82","v":0},null,{"$f":"E81","v":0},{"$f":"D85","v":0},null,{"$f":"E84","v":0},"B",null,null,{"$f":"D91","v":0},null,{"$f":"E90","v":0},{"$f":"D94","v":0},null,{"$f":"E93","v":0},"B",null,null,null,{"$f":"M84+P84+V84+Y84","v":0},null,{"$f":"O84+R84+X84+AA84","v":0},{"$f":"AU84","v":{"$error":"#DIV/0!"}},null,{"$f":"AG85","v":0.04},{"$f":"RANK(AK84,AK$78:AK$86,0)","v":1},{"$f":"AH86","v":{"$error":"#DIV/0!"}},{"$f":"RANK(AM84,AM$78:AM$86,0)","v":{"$error":"#DIV/0!"}},{"$f":"MAX(O86,R86,X86,AA86)","v":{"$error":"#DIV/0!"}},{"$f":"RANK(AO84,AO$78:AO$86)","v":{"$error":"#DIV/0!"}},{"$f":"AF86","v":0},{"$f":"RANK(AQ84,AQ$78:AQ$86)","v":1},{"$f":"(AL84*1000)+(AN84*100)+(AP84*10)+(AR84*1)","v":{"$error":"#DIV/0!"}},{"$f":"AS84","v":{"$error":"#DIV/0!"}},{"$f":"RANK(AT84,AT84:AT$86,1)","v":{"$error":"#DIV/0!"}},{"$f":"RANK(AU84,AU$78:AU$86,1)","v":{"$error":"#DIV/0!"}}]
[null,null,{"$f":"C71","v":0},null,null,null,null,null,null,null,null,null,null,{"$f":"IF(U78>0,2-T79,0.01)","v":0.01},null,null,{"$f":"IF(U81>0,2-T82,0.01)","v":0.01},null,null,null,null,null,{"$f":"IF(AD78>0,2-AC79,0.01)","v":0.01},null,null,{"$f":"IF(AD81>0,2-AC82,0.01)","v":0.01},null,null,null,null,null,null,{"$f":"N85+Q85+W85+Z85","v":0.04}]
[null,null,null,null,null,null,null,null,null,null,null,null,{"$f":"F82","v":0},null,{"$f":"M84/O84","v":{"$error":"#DIV/0!"}},{"$f":"F85","v":0},null,{"$f":"P84/R84","v":{"$error":"#DIV/0!"}},null,null,null,{"$f":"F91","v":0},null,{"$f":"V84/X84","v":{"$error":"#DIV/0!"}},{"$f":"F94","v":0},null,{"$f":"Y84/AA84","v":{"$error":"#DIV/0!"}},null,null,null,null,{"$f":"MAXA(M86,P86,V86,Y86)","v":0},null,{"$f":"AF84/AH84","v":{"$error":"#DIV/0!"}}]
[null,"Tour 3\nMatch aller",{"$f":"C69","v":0}]
[null,null,{"$f":"C70","v":0},null,null,null,null,null,null,null,null,null,"Pas de prolongation en cas de match nul."]
[]
[null,"Tour 1\nMatch retour",{"$f":"C69","v":0}]
[null,null,{"$f":"C71","v":0}]
[]
[null,"Tour 2\nMatch retour",{"$f":"C70","v":0}]
[null,null,{"$f":"C71","v":0}]
[]
[null,"Tour 3\nMatch retour",{"$f":"C69","v":0}]
[null,null,{"$f":"C70","v":0}]

{"sheet":"10JOUEURS_SERPENTIN","index":23,"n_rows":97,"n_cols":48,"rows_kept":97,"cut":false,"hidden":true,"merged":[[6,20,6,21],[6,23,6,25],[6,27,6,28],[7,12,7,15],[7,17,7,18],[7,20,7,21],[7,23,7,25],[7,27,7,28],[15,1,16,2],[10,21,10,29],[8,2,8,5],[9,2,9,5],[10,2,10,5],[10,12,10,20],[92,1,93,1],[92,4,93,4],[95,1,96,1],[95,4,96,4],[80,1,81,1],[80,4,81,4],[80,10,82,11],[80,15,82,17],[80,42,82,42],[86,10,88,11],[86,21,88,23],[80,41,82,41],[80,36,82,36],[90,12,90,29],[86,45,88,45],[86,46,88,46],[83,36,85,36],[83,37,85,37],[83,38,85,38],[83,39,85,39],[80,28,82,29],[83,43,85,43],[83,44,85,44],[83,45,85,45],[83,46,85,46],[80,39,82,39],[80,40,82,40],[80,37,82,37],[80,38,82,38],[75,44,75,45],[75,47,76,47],[80,45,82,45],[80,46,82,46],[80,47,82,47],[77,47,79,47],[80,43,82,43],[80,44,82,44],[77,43,79,43],[77,44,79,44],[77,45,79,45],[77,46,79,46],[83,47,85,47],[86,1,87,1],[86,4,87,4],[89,1,90,1],[89,4,90,4],[86,38,88,38],[86,39,88,39],[86,40,88,40],[86,41,88,41],[83,41,85,41],[86,47,88,47],[83,40,85,40],[86,42,88,42],[86,43,88,43],[86,44,88,44],[83,1,84,1],[83,4,84,4],[83,10,85,11],[83,18,85,20],[83,42,85,42],[83,28,85,29],[86,28,88,29],[86,36,88,36],[86,37,88,37],[77,40,79,40],[77,41,79,41],[75,36,75,37],[75,38,75,39],[73,28,76,29],[75,40,75,41],[75,42,75,43],[73,1,74,5],[73,12,76,14],[73,15,76,17],[73,18,76,20],[73,21,76,23],[77,42,79,42],[76,1,77,2],[77,10,79,11],[77,12,79,14],[77,36,79,36],[77,37,79,37],[77,38,79,38],[77,28,79,29],[77,39,79,39],[55,1,56,1],[55,4,56,4],[56,12,56,34],[58,1,59,1],[58,4,59,4],[61,1,62,1],[61,4,62,4],[73,10,76,11],[73,25,76,27],[64,1,65,1],[64,4,65,4],[68,2,68,5],[69,2,69,5],[70,2,70,5],[71,2,71,5],[52,1,53,1],[52,4,53,4],[52,10,54,11],[52,18,54,20],[52,27,54,29],[52,34,54,34],[49,45,51,45],[49,46,51,46],[49,47,51,47],[52,45,54,45],[52,46,54,46],[52,47,54,47],[52,36,54,36],[52,37,54,37],[52,38,54,38],[52,39,54,39],[52,40,54,40],[52,41,54,41],[52,42,54,42],[52,43,54,43],[52,44,54,44],[46,47,48,47],[49,1,50,1],[49,4,50,4],[49,10,51,11],[49,15,51,17],[49,24,51,26],[49,34,51,34],[46,38,48,38],[46,39,48,39],[46,40,48,40],[49,42,51,42],[49,43,51,43],[49,44,51,44],[49,36,51,36],[49,37,51,37],[49,38,51,38],[49,39,51,39],[49,40,51,40],[49,41,51,41],[46,41,48,41],[46,42,48,42],[46,43,48,43],[42,31,45,33],[42,34,45,34],[43,10,45,11],[44,36,44,37],[44,38,44,39],[44,41,44,42],[44,43,44,44],[44,46,45,46],[46,44,48,44],[46,45,48,45],[46,46,48,46],[46,10,48,11],[46,12,48,14],[46,21,48,23],[46,34,48,34],[46,36,48,36],[46,37,48,37],[38,2,38,5],[39,2,39,5],[40,12,40,20],[40,21,40,29],[42,1,43,5],[42,12,45,14],[42,15,45,17],[42,18,45,20],[42,21,45,23],[42,24,45,26],[42,27,45,29],[40,2,40,5],[45,1,46,2],[28,1,29,1],[28,4,29,4],[22,41,24,41],[22,42,24,42],[22,43,24,43],[22,44,24,44],[31,1,32,1],[31,4,32,4],[34,1,35,1],[34,4,35,4],[22,34,24,34],[22,36,24,36],[22,37,24,37],[22,38,24,38],[22,39,24,39],[22,40,24,40],[25,1,26,1],[25,4,26,4],[26,12,26,34],[22,1,23,1],[22,4,23,4],[22,10,24,11],[22,18,24,20],[22,27,24,29],[22,45,24,45],[16,47,18,47],[19,47,21,47],[16,39,18,39],[16,40,18,40],[16,41,18,41],[16,42,18,42],[16,43,18,43],[16,44,18,44],[22,47,24,47],[22,46,24,46],[19,45,21,45],[19,46,21,46],[19,41,21,41],[19,42,21,42],[19,1,20,1],[19,4,20,4],[19,10,21,11],[19,15,21,17],[19,24,21,26],[19,43,21,43],[19,44,21,44],[2,1,3,2],[2,3,3,9],[5,1,6,2],[5,3,6,9],[1,12,4,35],[6,12,6,15],[6,17,6,18],[19,37,21,37],[19,34,21,34],[19,36,21,36],[19,38,21,38],[19,39,21,39],[19,40,21,40],[12,31,15,33],[12,34,15,34],[13,10,15,11],[14,36,14,37],[14,46,15,46],[16,10,18,11],[16,12,18,14],[16,21,18,23],[16,34,18,34],[16,36,18,36],[16,37,18,37],[12,1,13,5],[12,12,15,14],[12,15,15,17],[12,18,15,20],[12,21,15,23],[12,24,15,26],[16,46,18,46],[14,41,14,42],[16,45,18,45],[16,38,18,38],[14,43,14,44],[14,38,14,39],[12,27,15,29]]}
[]
[null,null,null,null,null,null,null,null,null,null,null,null,"LIGUE MÉDITERRANÉENNE DE BILLARD"]
[null,"CLUB ORGANISATEUR"]
[]
[]
[null,"DIRECTEUR DE JEU :"]
[null,null,null,null,null,null,null,null,null,null,null,null,"Compétition",null,null,null,null,"Mode de jeu",null,null,"Categorie",null,null,"Format billard",null,null,null,"Distance"]
[]
[null,"Joueur 1",{"$f":"'Saisie des joueurs'!K18","v":0}]
[null,"Joueur 2",{"$f":"'Saisie des joueurs'!K19","v":0}]
[null,"Joueur 3",{"$f":"'Saisie des joueurs'!K20","v":0},null,null,null,null,null,null,null,null,null,"MATCH ALLER",null,null,null,null,null,null,null,null,"MATCH RETOUR"]
[]
[null,"SAISIE DES RESULTATS",null,null,null,null,null,null,null,null,null,null,{"$f":"C9","v":0},null,null,{"$f":"C10","v":0},null,null,{"$f":"C11","v":0},null,null,{"$f":"C9","v":0},null,null,{"$f":"C10","v":0},null,null,{"$f":"C11","v":0},null,null,null,"TOTAUX",null,null,"CLASSEMENT"]
[]
[null,null,null,null,null,null,null,null,null,null,null,null,null,null,null,null,null,null,null,null,null,null,null,null,null,null,null,null,null,null,null,null,null,null,null,null,"Classement",null,"Classement",null,"Classement","Classement",null,"Classement",null,"GENERAL","RANG"]
[null,"POULE A",null,null,null,null,null,null,null,null,null,null,null,null,null,null,null,null,null,null,null,null,null,null,null,null,null,null,null,null,null,null,null,null,null,null,"Point-Match","CLS-M","Moy-Gen","CLS-G","Moy-Part","M-Series","CLS-S","MGPS","CLS","CLS"]
[null,null,null,null,null,null,null,null,null,null,{"$f":"C9","v":0},null,"L",null,null,{"$f":"D26","v":0},null,{"$f":"E26","v":0},{"$f":"D20","v":0},null,{"$f":"E20","v":0},"L",null,null,{"$f":"D35","v":0},null,{"$f":"E35","v":0},{"$f":"D29","v":0},null,{"$f":"E29","v":0},null,{"$f":"P17+S17+Y17+AB17","v":0},null,{"$f":"R17+U17+AA17+AD17","v":0},{"$f":"AU17","v":{"$error":"#DIV/0!"}},null,{"$f":"AG18","v":0.04},{"$f":"RANK(AK17,AK$17:AK$25,0)","v":1},{"$f":"AH19","v":{"$error":"#DIV/0!"}},{"$f":"RANK(AM17,AM$17:AM$25,0)","v":{"$error":"#DIV/0!"}},{"$f":"MAX(R19,U19,AA19,AD19)","v":{"$error":"#DIV/0!"}},{"$f":"RANK(AO17,AO$17:AO$25)","v":{"$error":"#DIV/0!"}},{"$f":"AF19","v":0},{"$f":"RANK(AQ17,AQ$17:AQ$25)","v":1},{"$f":"(AL17*1000)+(AN17*100)+(AP17*10)+(AR17*1)","v":{"$error":"#DIV/0!"}},{"$f":"AS17","v":{"$error":"#DIV/0!"}},{"$f":"RANK(AT17,AT$17:AT$25,1)","v":{"$error":"#DIV/0!"}},{"$f":"RANK(AU17,AU$17:AU$25,1)","v":{"$error":"#DIV/0!"}}]
[null,null,null,null,null,null,null,null,null,null,null,null,null,null,null,null,{"$f":"IF(R17<1,0.01,IF(P17>M20,2,IF(P17=M20,1,0)))","v":0.01},null,null,{"$f":"IF(U17<1,0.01,IF(S17>M23,2,IF(S17=M23,1,0)))","v":0.01},null,null,null,null,null,{"$f":"IF(AA17<1,0.01,IF(Y17>V20,2,IF(Y17=V20,1,0)))","v":0.01},null,null,{"$f":"IF(AD17<1,0.01,IF(AB17>V23,2,IF(AB17=V23,1,0)))","v":0.01},null,null,null,{"$f":"Q18+T18+Z18+AC18","v":0.04}]
[null,null,null,null,null,null,null,null,null,null,null,null,null,null,null,{"$f":"F26","v":0},null,{"$f":"P17/R17","v":{"$error":"#DIV/0!"}},{"$f":"F20","v":0},null,{"$f":"S17/U17","v":{"$error":"#DIV/0!"}},null,null,null,{"$f":"F35","v":0},null,{"$f":"Y17/AA17","v":{"$error":"#DIV/0!"}},{"$f":"F29","v":0},null,{"$f":"AB17/AD17","v":{"$error":"#DIV/0!"}},null,{"$f":"MAX(P19,S19,Y19,AB19)","v":0},null,{"$f":"AF17/AH17","v":{"$error":"#DIV/0!"}}]
[null,"Tour 1\nMatch aller",{"$f":"C9","v":0},null,null,null,null,null,null,null,{"$f":"C10","v":0},null,{"$f":"D27","v":0},null,{"$f":"E26","v":0},"M",null,null,{"$f":"D23","v":0},null,{"$f":"E23","v":0},{"$f":"D36","v":0},null,{"$f":"E35","v":0},"M",null,null,{"$f":"D32","v":0},null,{"$f":"E32","v":0},null,{"$f":"M20+S20+V20+AB20","v":0},null,{"$f":"O20+U20+X20+AD20","v":0},{"$f":"AU20","v":{"$error":"#DIV/0!"}},null,{"$f":"AG21","v":0.04},{"$f":"RANK(AK20,AK$17:AK$25,0)","v":1},{"$f":"AH22","v":{"$error":"#DIV/0!"}},{"$f":"RANK(AM20,AM$17:AM$25,0)","v":{"$error":"#DIV/0!"}},{"$f":"MAX(R22,U22,AA22,AD22)","v":{"$error":"#DIV/0!"}},{"$f":"RANK(AO20,AO$17:AO$25)","v":{"$error":"#DIV/0!"}},{"$f":"AF22","v":0},{"$f":"RANK(AQ20,AQ$17:AQ$25)","v":1},{"$f":"(AL20*1000)+(AN20*100)+(AP20*10)+(AR20*1)","v":{"$error":"#DIV/0!"}},{"$f":"AS20","v":{"$error":"#DIV/0!"}},{"$f":"RANK(AT20,AT$17:AT$25,1)","v":{"$error":"#DIV/0!"}},{"$f":"RANK(AU20,AU$17:AU$25,1)","v":{"$error":"#DIV/0!"}}]
[null,null,{"$f":"C11","v":0},null,null,null,null,null,null,null,null,null,null,{"$f":"IF(R17>0,2-Q18,0.01)","v":0.01},null,null,null,null,null,{"$f":"IF(U20<1,0.01,IF(S20>P23,2,IF(S20=P23,1,0)))","v":0.01},null,null,{"$f":"IF(AA17>0,2-Z18,0.01)","v":0.01},null,null,null,null,null,{"$f":"IF(AD20<1,0.01,IF(AB20>Y23,2,IF(AB20=Y23,1,0)))","v":0.01},null,null,null,{"$f":"N21+T21+W21+AC21","v":0.04}]
[null,null,null,null,null,null,null,null,null,null,null,null,{"$f":"F27","v":0},null,{"$f":"M20/O20","v":{"$error":"#DIV/0!"}},null,null,null,{"$f":"F23","v":0},null,{"$f":"S20/U20","v":{"$error":"#DIV/0!"}},{"$f":"F36","v":0},null,{"$f":"V20/X20","v":{"$error":"#DIV/0!"}},null,null,null,{"$f":"F32","v":0},null,{"$f":"AB20/AD20","v":{"$error":"#DIV/0!"}},null,{"$f":"MAXA(M22,S22,V22,AB22)","v":0},null,{"$f":"AF20/AH20","v":{"$error":"#DIV/0!"}}]
[null,"Tour 2\nMatch aller",{"$f":"C10","v":0},null,null,null,null,null,null,null,{"$f":"C11","v":0},null,{"$f":"D21","v":0},null,{"$f":"E20","v":0},{"$f":"D24","v":0},null,{"$f":"E23","v":0},"B",null,null,{"$f":"D30","v":0},null,{"$f":"E29","v":0},{"$f":"D33","v":0},null,{"$f":"E32","v":0},"B",null,null,null,{"$f":"M23+P23+V23+Y23","v":0},null,{"$f":"O23+R23+X23+AA23","v":0},{"$f":"AU23","v":{"$error":"#DIV/0!"}},null,{"$f":"AG24","v":0.04},{"$f":"RANK(AK23,AK$17:AK$25,0)","v":1},{"$f":"AH25","v":{"$error":"#DIV/0!"}},{"$f":"RANK(AM23,AM$17:AM$25,0)","v":{"$error":"#DIV/0!"}},{"$f":"MAX(R25,U25,AA25,AD25)","v":{"$error":"#DIV/0!"}},{"$f":"RANK(AO23,AO$17:AO$25)","v":{"$error":"#DIV/0!"}},{"$f":"AF25","v":0},{"$f":"RANK(AQ23,AQ$17:AQ$25)","v":1},{"$f":"(AL23*1000)+(AN23*100)+(AP23*10)+(AR23*1)","v":{"$error":"#DIV/0!"}},{"$f":"AS23","v":{"$error":"#DIV/0!"}},{"$f":"RANK(AT23,AT$17:AT$25,1)","v":{"$error":"#DIV/0!"}},{"$f":"RANK(AU23,AU$17:AU$25,1)","v":{"$error":"#DIV/0!"}}]
[null,null,{"$f":"C11","v":0},null,null,null,null,null,null,null,null,null,null,{"$f":"IF(U17>0,2-T18,0.01)","v":0.01},null,null,{"$f":"IF(U20>0,2-T21,0.01)","v":0.01},null,null,null,null,null,{"$f":"IF(AD17>0,2-AC18,0.01)","v":0.01},null,null,{"$f":"IF(AD20>0,2-AC21,0.01)","v":0.01},null,null,null,null,null,null,{"$f":"N24+Q24+W24+Z24","v":0.04}]
[null,null,null,null,null,null,null,null,null,null,null,null,{"$f":"F21","v":0},null,{"$f":"M23/O23","v":{"$error":"#DIV/0!"}},{"$f":"F24","v":0},null,{"$f":"P23/R23","v":{"$error":"#DIV/0!"}},null,null,null,{"$f":"F30","v":0},null,{"$f":"V23/X23","v":{"$error":"#DIV/0!"}},{"$f":"F33","v":0},null,{"$f":"Y23/AA23","v":{"$error":"#DIV/0!"}},null,null,null,null,{"$f":"MAXA(M25,P25,V25,Y25)","v":0},null,{"$f":"AF23/AH23","v":{"$error":"#DIV/0!"}}]
[null,"Tour 3\nMatch aller",{"$f":"C9","v":0}]
[null,null,{"$f":"C10","v":0},null,null,null,null,null,null,null,null,null,"Pas de prolongation en cas de match nul."]
[]
[null,"Tour 1\nMatch retour",{"$f":"C9","v":0}]
[null,null,{"$f":"C11","v":0}]
[]
[null,"Tour 2\nMatch retour",{"$f":"C10","v":0}]
[null,null,{"$f":"C11","v":0}]
[]
[null,"Tour 3\nMatch retour",{"$f":"C9","v":0}]
[null,null,{"$f":"C10","v":0}]
[]
[]
[null,"Joueur 1",{"$f":"'Saisie des joueurs'!K22","v":0}]
[null,"Joueur 2",{"$f":"'Saisie des joueurs'!K23","v":0}]
[null,"Joueur 3",{"$f":"'Saisie des joueurs'!K24","v":0},null,null,null,null,null,null,null,null,null,"MATCH ALLER",null,null,null,null,null,null,null,null,"MATCH RETOUR"]
[]
[null,"SAISIE DES RESULTATS",null,null,null,null,null,null,null,null,null,null,{"$f":"C39","v":0},null,null,{"$f":"C40","v":0},null,null,{"$f":"C41","v":0},null,null,{"$f":"C39","v":0},null,null,{"$f":"C40","v":0},null,null,{"$f":"C41","v":0},null,null,null,"TOTAUX",null,null,"CLASSEMENT"]
[]
[null,null,null,null,null,null,null,null,null,null,null,null,null,null,null,null,null,null,null,null,null,null,null,null,null,null,null,null,null,null,null,null,null,null,null,null,"Classement",null,"Classement",null,"Classement","Classement",null,"Classement",null,"GENERAL","RANG"]
[null,"POULE B",null,null,null,null,null,null,null,null,null,null,null,null,null,null,null,null,null,null,null,null,null,null,null,null,null,null,null,null,null,null,null,null,null,null,"Point-Match","CLS-M","Moy-Gen","CLS-G","Moy-Part","M-Series","CLS-S","MGPS","CLS","CLS"]
[null,null,null,null,null,null,null,null,null,null,{"$f":"C39","v":0},null,"L",null,null,{"$f":"D56","v":0},null,{"$f":"E56","v":0},{"$f":"D50","v":0},null,{"$f":"E50","v":0},"L",null,null,{"$f":"D65","v":0},null,{"$f":"E65","v":0},{"$f":"D59","v":0},null,{"$f":"E59","v":0},null,{"$f":"P47+S47+Y47+AB47","v":0},null,{"$f":"R47+U47+AA47+AD47","v":0},{"$f":"AU47","v":{"$error":"#DIV/0!"}},null,{"$f":"AG48","v":0.04},{"$f":"RANK(AK47,AK$47:AK$55,0)","v":1},{"$f":"AH49","v":{"$error":"#DIV/0!"}},{"$f":"RANK(AM47,AM$47:AM$55,0)","v":{"$error":"#DIV/0!"}},{"$f":"MAX(R49,U49,AA49,AD49)","v":{"$error":"#DIV/0!"}},{"$f":"RANK(AO47,AO$47:AO$55)","v":{"$error":"#DIV/0!"}},{"$f":"AF49","v":0},{"$f":"RANK(AQ47,AQ$47:AQ$55)","v":1},{"$f":"(AL47*1000)+(AN47*100)+(AP47*10)+(AR47*1)","v":{"$error":"#DIV/0!"}},{"$f":"AS47","v":{"$error":"#DIV/0!"}},{"$f":"RANK(AT47,AT$47:AT$55,1)","v":{"$error":"#DIV/0!"}},{"$f":"RANK(AU47,AU$47:AU$55,1)","v":{"$error":"#DIV/0!"}}]
[null,null,null,null,null,null,null,null,null,null,null,null,null,null,null,null,{"$f":"IF(R47<1,0.01,IF(P47>M50,2,IF(P47=M50,1,0)))","v":0.01},null,null,{"$f":"IF(U47<1,0.01,IF(S47>M53,2,IF(S47=M53,1,0)))","v":0.01},null,null,null,null,null,{"$f":"IF(AA47<1,0.01,IF(Y47>V50,2,IF(Y47=V50,1,0)))","v":0.01},null,null,{"$f":"IF(AD47<1,0.01,IF(AB47>V53,2,IF(AB47=V53,1,0)))","v":0.01},null,null,null,{"$f":"Q48+T48+Z48+AC48","v":0.04}]
[null,null,null,"Pts","Rep","Série",null,null,null,null,null,null,null,null,null,{"$f":"F56","v":0},null,{"$f":"P47/R47","v":{"$error":"#DIV/0!"}},{"$f":"F50","v":0},null,{"$f":"S47/U47","v":{"$error":"#DIV/0!"}},null,null,null,{"$f":"F65","v":0},null,{"$f":"Y47/AA47","v":{"$error":"#DIV/0!"}},{"$f":"F59","v":0},null,{"$f":"AB47/AD47","v":{"$error":"#DIV/0!"}},null,{"$f":"MAX(P49,S49,Y49,AB49)","v":0},null,{"$f":"AF47/AH47","v":{"$error":"#DIV/0!"}}]
[null,"Tour 1\nMatch aller",{"$f":"C39","v":0},null,null,null,null,null,null,null,{"$f":"C40","v":0},null,{"$f":"D57","v":0},null,{"$f":"E56","v":0},"M",null,null,{"$f":"D53","v":0},null,{"$f":"E53","v":0},{"$f":"D66","v":0},null,{"$f":"E65","v":0},"M",null,null,{"$f":"D62","v":0},null,{"$f":"E62","v":0},null,{"$f":"M50+S50+V50+AB50","v":0},null,{"$f":"O50+U50+X50+AD50","v":0},{"$f":"AU50","v":{"$error":"#DIV/0!"}},null,{"$f":"AG51","v":0.04},{"$f":"RANK(AK50,AK$47:AK$55,0)","v":1},{"$f":"AH52","v":{"$error":"#DIV/0!"}},{"$f":"RANK(AM50,AM$47:AM$55,0)","v":{"$error":"#DIV/0!"}},{"$f":"MAX(O52,U52,X52,AD52)","v":{"$error":"#DIV/0!"}},{"$f":"RANK(AO50,AO$47:AO$55)","v":{"$error":"#DIV/0!"}},{"$f":"AF52","v":0},{"$f":"RANK(AQ50,AQ$47:AQ$55)","v":1},{"$f":"(AL50*1000)+(AN50*100)+(AP50*10)+(AR50*1)","v":{"$error":"#DIV/0!"}},{"$f":"AS50","v":{"$error":"#DIV/0!"}},{"$f":"RANK(AT50,AT$47:AT$55,1)","v":{"$error":"#DIV/0!"}},{"$f":"RANK(AU50,AU$47:AU$55,1)","v":{"$error":"#DIV/0!"}}]
[null,null,{"$f":"C41","v":0},null,null,null,null,null,null,null,null,null,null,{"$f":"IF(R47>0,2-Q48,0.01)","v":0.01},null,null,null,null,null,{"$f":"IF(U50<1,0.01,IF(S50>P53,2,IF(S50=P53,1,0)))","v":0.01},null,null,{"$f":"IF(AA47>0,2-Z48,0.01)","v":0.01},null,null,null,null,null,{"$f":"IF(AD50<1,0.01,IF(AB50>Y53,2,IF(AB50=Y53,1,0)))","v":0.01},null,null,null,{"$f":"N51+T51+W51+AC51","v":0.04}]
[null,null,null,null,null,null,null,null,null,null,null,null,{"$f":"F57","v":0},null,{"$f":"M50/O50","v":{"$error":"#DIV/0!"}},null,null,null,{"$f":"F53","v":0},null,{"$f":"S50/U50","v":{"$error":"#DIV/0!"}},{"$f":"F66","v":0},null,{"$f":"V50/X50","v":{"$error":"#DIV/0!"}},null,null,null,{"$f":"F62","v":0},null,{"$f":"AB50/AD50","v":{"$error":"#DIV/0!"}},null,{"$f":"MAXA(M52,S52,V52,AB52)","v":0},null,{"$f":"AF50/AH50","v":{"$error":"#DIV/0!"}}]
[null,"Tour 2\nMatch aller",{"$f":"C40","v":0},null,null,null,null,null,null,null,{"$f":"C41","v":0},null,{"$f":"D51","v":0},null,{"$f":"E50","v":0},{"$f":"D54","v":0},null,{"$f":"E53","v":0},"B",null,null,{"$f":"D60","v":0},null,{"$f":"E59","v":0},{"$f":"D63","v":0},null,{"$f":"E62","v":0},"B",null,null,null,{"$f":"M53+P53+V53+Y53","v":0},null,{"$f":"O53+R53+X53+AA53","v":0},{"$f":"AU53","v":{"$error":"#DIV/0!"}},null,{"$f":"AG54","v":0.04},{"$f":"RANK(AK53,AK$47:AK$55,0)","v":1},{"$f":"AH55","v":{"$error":"#DIV/0!"}},{"$f":"RANK(AM53,AM$47:AM$55,0)","v":{"$error":"#DIV/0!"}},{"$f":"MAX(O55,R55,X55,AA55)","v":{"$error":"#DIV/0!"}},{"$f":"RANK(AO53,AO$47:AO$55)","v":{"$error":"#DIV/0!"}},{"$f":"AF55","v":0},{"$f":"RANK(AQ53,AQ$47:AQ$55)","v":1},{"$f":"(AL53*1000)+(AN53*100)+(AP53*10)+(AR53*1)","v":{"$error":"#DIV/0!"}},{"$f":"AS53","v":{"$error":"#DIV/0!"}},{"$f":"RANK(AT53,AT$47:AT$55,1)","v":{"$error":"#DIV/0!"}},{"$f":"RANK(AU53,AU$47:AU$55,1)","v":{"$error":"#DIV/0!"}}]
[null,null,{"$f":"C41","v":0},null,null,null,null,null,null,null,null,null,null,{"$f":"IF(U47>0,2-T48,0.01)","v":0.01},null,null,{"$f":"IF(U50>0,2-T51,0.01)","v":0.01},null,null,null,null,null,{"$f":"IF(AD47>0,2-AC48,0.01)","v":0.01},null,null,{"$f":"IF(AD50>0,2-AC51,0.01)","v":0.01},null,null,null,null,null,null,{"$f":"N54+Q54+W54+Z54","v":0.04}]
[null,null,null,null,null,null,null,null,null,null,null,null,{"$f":"F51","v":0},null,{"$f":"M53/O53","v":{"$error":"#DIV/0!"}},{"$f":"F54","v":0},null,{"$f":"P53/R53","v":{"$error":"#DIV/0!"}},null,null,null,{"$f":"F60","v":0},null,{"$f":"V53/X53","v":{"$error":"#DIV/0!"}},{"$f":"F63","v":0},null,{"$f":"Y53/AA53","v":{"$error":"#DIV/0!"}},null,null,null,null,{"$f":"MAXA(M55,P55,V55,Y55)","v":0},null,{"$f":"AF53/AH53","v":{"$error":"#DIV/0!"}}]
[null,"Tour 3\nMatch aller",{"$f":"C39","v":0}]
[null,null,{"$f":"C40","v":0},null,null,null,null,null,null,null,null,null,"Pas de prolongation en cas de match nul."]
[]
[null,"Tour 1\nMatch retour",{"$f":"C39","v":0}]
[null,null,{"$f":"C41","v":0}]
[]
[null,"Tour 2\nMatch retour",{"$f":"C40","v":0}]
[null,null,{"$f":"C41","v":0}]
[]
[null,"Tour 3\nMatch retour",{"$f":"C39","v":0}]
[null,null,{"$f":"C40","v":0}]
[]
[]
[null,"Joueur 1",{"$f":"'Saisie des joueurs'!K26","v":0}]
[null,"Joueur 2",{"$f":"'Saisie des joueurs'!K27","v":0}]
[null,"Joueur 3",{"$f":"'Saisie des joueurs'!K28","v":0}]
[null,"Joueur 4",{"$f":"'Saisie des joueurs'!K29","v":0}]
[]
[null,"SAISIE DES RESULTATS",null,null,null,null,null,null,null,null,null,null,{"$f":"C69","v":0},null,null,{"$f":"C70","v":0},null,null,{"$f":"C71","v":0},null,null,{"$f":"C72","v":0},null,null,null,"TOTAUX",null,null,"CLASSEMENT"]
[]
[null,null,null,null,null,null,null,null,null,null,null,null,null,null,null,null,null,null,null,null,null,null,null,null,null,null,null,null,null,null,null,null,null,null,null,null,"Classement",null,"Classement",null,"Classement",null,"Classement",null,"Classement",null,"GENERAL","RANG"]
[null,"POULE C",null,null,null,null,null,null,null,null,null,null,null,null,null,null,null,null,null,null,null,null,null,null,null,null,null,null,null,null,null,null,null,null,null,null,"Point-Match","CLS-M","Moy-Gen","CLS-G","Moy-Part","CLS-P","M-Series","CLS-S","MGPS","CLS","CLS"]
[null,null,null,null,null,null,null,null,null,null,{"$f":"C69","v":0},null,"L",null,null,{"$f":"D93","v":0},null,{"$f":"E93","v":0},{"$f":"D87","v":0},null,{"$f":"E87","v":0},{"$f":"D81","v":0},null,{"$f":"E81","v":0},null,{"$f":"P78+S78+V78","v":0},null,{"$f":"R78+U78+X78","v":0},{"$f":"AV78","v":{"$error":"#DIV/0!"}},null,null,null,null,null,null,null,{"$f":"AA79","v":0.03},{"$f":"RANK(AK78,AK$78:AK$89,0)","v":1},{"$f":"AB80","v":{"$error":"#DIV/0!"}},{"$f":"RANK(AM78,AM$78:AM$89,0)","v":{"$error":"#DIV/0!"}},{"$f":"MAX(R80,U80,X80)","v":{"$error":"#DIV/0!"}},{"$f":"RANK(AO78,AO$78:AO$89)","v":{"$error":"#DIV/0!"}},{"$f":"Z80","v":0},{"$f":"RANK(AQ78,AQ$78:AQ$89)","v":1},{"$f":"(AL78*1000)+(AN78*100)+(AP78*10)+(AR78*1)","v":{"$error":"#DIV/0!"}},{"$f":"AS78","v":{"$error":"#DIV/0!"}},{"$f":"RANK(AT78,AT$78:AT$89,1)","v":{"$error":"#DIV/0!"}},{"$f":"RANK(AU78,AU$78:AU$89,1)","v":{"$error":"#DIV/0!"}}]
[null,null,null,null,null,null,null,null,null,null,null,null,null,null,null,null,{"$f":"IF(R78<1,0.01,IF(P78>M81,2,IF(P78=M81,1,0)))","v":0.01},null,null,{"$f":"IF(U78<1,0.01,IF(S78>M84,2,IF(S78=M84,1,0)))","v":0.01},null,null,{"$f":"IF(X78<1,0.01,IF(V78>M87,2,IF(V78=M87,1,0)))","v":0.01},null,null,null,{"$f":"W79+T79+Q79","v":0.03}]
[null,null,null,"Pts","Rep","Série",null,null,null,null,null,null,null,null,null,{"$f":"F93","v":0},null,{"$f":"P78/R78","v":{"$error":"#DIV/0!"}},{"$f":"F87","v":0},null,{"$f":"S78/U78","v":{"$error":"#DIV/0!"}},{"$f":"F81","v":0},null,{"$f":"V78/X78","v":{"$error":"#DIV/0!"}},null,{"$f":"MAX(V80,S80,P80)","v":0},null,{"$f":"Z78/AB78","v":{"$error":"#DIV/0!"}}]
[null,"Tour 1",{"$f":"C69","v":0},null,null,null,null,null,null,null,{"$f":"C70","v":0},null,{"$f":"D94","v":0},null,{"$f":"E93","v":0},"M",null,null,{"$f":"D84","v":0},null,{"$f":"E84","v":0},{"$f":"D91","v":0},null,{"$f":"E90","v":0},null,{"$f":"M81+S81+V81","v":0},null,{"$f":"O81+U81+X81","v":0},{"$f":"AV81","v":{"$error":"#DIV/0!"}},null,null,null,null,null,null,null,{"$f":"AA82","v":0.03},{"$f":"RANK(AK81,AK$78:AK$89,0)","v":1},{"$f":"AB83","v":{"$error":"#DIV/0!"}},{"$f":"RANK(AM81,AM$78:AM$89,0)","v":{"$error":"#DIV/0!"}},{"$f":"MAX(R83,U83,X83)","v":{"$error":"#DIV/0!"}},{"$f":"RANK(AO81,AO$78:AO$89)","v":{"$error":"#DIV/0!"}},{"$f":"Z83","v":0},{"$f":"RANK(AQ81,AQ$78:AQ$89)","v":1},{"$f":"(AL81*1000)+(AN81*100)+(AP81*10)+(AR81*1)","v":{"$error":"#DIV/0!"}},{"$f":"AS81","v":{"$error":"#DIV/0!"}},{"$f":"RANK(AT81,AT$78:AT$89,1)","v":{"$error":"#DIV/0!"}},{"$f":"RANK(AU81,AU$78:AU$89,1)","v":{"$error":"#DIV/0!"}}]
[null,null,{"$f":"C72","v":0},null,null,null,null,null,null,null,null,null,null,{"$f":"IF(R78>0,2-Q79,0.01)","v":0.01},null,null,null,null,null,{"$f":"IF(U81<1,0.01,IF(S81>P84,2,IF(S81=P84,1,0)))","v":0.01},null,null,{"$f":"IF(X81<1,0.01,IF(V81>P87,2,IF(V81=P87,1,0)))","v":0.01},null,null,null,{"$f":"N82+T82+W82","v":0.03}]
[null,null,null,null,null,null,null,null,null,null,null,null,{"$f":"F94","v":0},null,{"$f":"M81/O81","v":{"$error":"#DIV/0!"}},null,null,null,{"$f":"F84","v":0},null,{"$f":"S81/U81","v":{"$error":"#DIV/0!"}},{"$f":"F91","v":0},null,{"$f":"V81/X81","v":{"$error":"#DIV/0!"}},null,{"$f":"MAXA(S83,V83,M83)","v":0},null,{"$f":"Z81/AB81","v":{"$error":"#DIV/0!"}}]
[null,"Tour 2",{"$f":"C70","v":0},null,null,null,null,null,null,null,{"$f":"C71","v":0},null,{"$f":"D88","v":0},null,{"$f":"E87","v":0},{"$f":"D85","v":0},null,{"$f":"E84","v":0},"B",null,null,{"$f":"D96","v":0},null,{"$f":"E96","v":0},null,{"$f":"M84+P84+V84","v":0},null,{"$f":"O84+U84+X84","v":0},{"$f":"AV84","v":{"$error":"#DIV/0!"}},null,null,null,null,null,null,null,{"$f":"AA85","v":0.02},{"$f":"RANK(AK84,AK$78:AK$89,0)","v":4},{"$f":"AB86","v":{"$error":"#DIV/0!"}},{"$f":"RANK(AM84,AM$78:AM$89,0)","v":{"$error":"#DIV/0!"}},{"$f":"MAX(R86,U86,X86)","v":{"$error":"#DIV/0!"}},{"$f":"RANK(AO84,AO$78:AO$89)","v":{"$error":"#DIV/0!"}},{"$f":"Z86","v":0},{"$f":"RANK(AQ84,AQ$78:AQ$89)","v":1},{"$f":"(AL84*1000)+(AN84*100)+(AP84*10)+(AR84*1)","v":{"$error":"#DIV/0!"}},{"$f":"AS84","v":{"$error":"#DIV/0!"}},{"$f":"RANK(AT84,AT$78:AT$89,1)","v":{"$error":"#DIV/0!"}},{"$f":"RANK(AU84,AU$78:AU$89,1)","v":{"$error":"#DIV/0!"}}]
[null,null,{"$f":"C71","v":0},null,null,null,null,null,null,null,null,null,null,{"$f":"IF(U78>0,2-T79,0.01)","v":0.01},null,null,{"$f":"IF(U81>0,2-T82,0.01)","v":0.01},null,null,null,null,null,{"$f":"IF(X84<1,0.01,IF(V84>S87,2,IF(V84=S87,1,0)))","v":0.01},null,null,null,{"$f":"N85+T85+W85","v":0.02}]
[null,null,null,null,null,null,null,null,null,null,null,null,{"$f":"F88","v":0},null,{"$f":"M84/O84","v":{"$error":"#DIV/0!"}},{"$f":"F85","v":0},null,{"$f":"P84/R84","v":{"$error":"#DIV/0!"}},null,null,null,{"$f":"F96","v":0},null,{"$f":"V84/X84","v":{"$error":"#DIV/0!"}},null,{"$f":"MAXA(V86,P86,M86)","v":0},null,{"$f":"Z84/AB84","v":{"$error":"#DIV/0!"}}]
[null,"Tour 3",{"$f":"C69","v":0},null,null,null,null,null,null,null,{"$f":"C72","v":0},null,{"$f":"D82","v":0},null,{"$f":"E81","v":0},{"$f":"D90","v":0},null,{"$f":"E90","v":0},{"$f":"D97","v":0},null,{"$f":"E96","v":0},null,null,null,null,{"$f":"M87+P87+S87","v":0},null,{"$f":"U87+R87+O87","v":0},{"$f":"AV87","v":{"$error":"#DIV/0!"}},null,null,null,null,null,null,null,{"$f":"AA88","v":0.03},{"$f":"RANK(AK87,AK$78:AK$89,0)","v":1},{"$f":"AB89","v":{"$error":"#DIV/0!"}},{"$f":"RANK(AM87,AM$78:AM$89,0)","v":{"$error":"#DIV/0!"}},{"$f":"MAX(R89,U89,X89)","v":{"$error":"#DIV/0!"}},{"$f":"RANK(AO87,AO$78:AO$89)","v":{"$error":"#DIV/0!"}},{"$f":"Z89","v":0},{"$f":"RANK(AQ87,AQ$78:AQ$89)","v":1},{"$f":"(AL87*1000)+(AN87*100)+(AP87*10)+(AR87*1)","v":{"$error":"#DIV/0!"}},{"$f":"AS87","v":{"$error":"#DIV/0!"}},{"$f":"RANK(AT87,AT$78:AT$89,1)","v":{"$error":"#DIV/0!"}},{"$f":"RANK(AU87,AU$78:AU$89,1)","v":{"$error":"#DIV/0!"}}]
[null,null,{"$f":"C71","v":0},null,null,null,null,null,null,null,null,null,null,{"$f":"IF(X78>0,2-W79,0.01)","v":0.01},null,null,{"$f":"IF(X81>0,2-W82,0.01)","v":0.01},null,null,{"$f":"IF(X84>0,2-W85,0.01)","v":0.01},null,null,null,null,null,null,{"$f":"N88+Q88+T88","v":0.03}]
[null,null,null,null,null,null,null,null,null,null,null,null,{"$f":"F82","v":0},null,{"$f":"M87/O87","v":{"$error":"#DIV/0!"}},{"$f":"F90","v":0},null,{"$f":"P87/R87","v":{"$error":"#DIV/0!"}},{"$f":"F97","v":0},null,{"$f":"S87/U87","v":{"$error":"#DIV/0!"}},null,null,null,null,{"$f":"MAXA(M89,P89,S89)","v":0},null,{"$f":"Z87/AB87","v":{"$error":"#DIV/0!"}}]
[null,"Tour 4",{"$f":"C72","v":0}]
[null,null,{"$f":"C70","v":0},null,null,null,null,null,null,null,null,null,"Pas de prolongation en cas de match nul."]
[]
[null,"Tour 5",{"$f":"C69","v":0}]
[null,null,{"$f":"C70","v":0}]
[]
[null,"Tour 6",{"$f":"C71","v":0}]
[null,null,{"$f":"C72","v":0}]

{"sheet":"11JOUEURS_SERPENTIN","index":24,"n_rows":97,"n_cols":48,"rows_kept":97,"cut":false,"hidden":true,"merged":[[56,47,58,47],[59,1,60,1],[59,4,60,4],[56,37,58,37],[56,38,58,38],[56,39,58,39],[56,40,58,40],[56,41,58,41],[56,42,58,42],[56,44,58,44],[56,45,58,45],[56,46,58,46],[56,1,57,1],[56,4,57,4],[56,10,58,11],[56,21,58,23],[56,28,58,29],[56,36,58,36],[56,43,58,43],[50,42,52,42],[50,43,52,43],[50,45,52,45],[50,46,52,46],[50,47,52,47],[47,43,49,43],[53,39,55,39],[53,40,55,40],[45,44,45,45],[53,44,55,44],[53,45,55,45],[53,46,55,46],[53,47,55,47],[53,41,55,41],[53,42,55,42],[47,41,49,41],[47,42,49,42],[50,39,52,39],[50,40,52,40],[50,41,52,41],[53,37,55,37],[53,18,55,20],[53,28,55,29],[53,43,55,43],[53,38,55,38],[45,47,46,47],[47,10,49,11],[47,12,49,14],[47,28,49,29],[47,36,49,36],[50,15,52,17],[50,28,52,29],[50,36,52,36],[50,37,52,37],[50,38,52,38],[47,40,49,40],[47,37,49,37],[47,38,49,38],[47,39,49,39],[50,44,52,44],[47,44,49,44],[47,45,49,45],[47,46,49,46],[47,47,49,47],[28,1,29,1],[28,4,29,4],[22,41,24,41],[22,42,24,42],[22,43,24,43],[22,44,24,44],[22,45,24,45],[22,46,24,46],[43,1,44,5],[43,10,46,11],[43,12,46,14],[43,15,46,17],[43,18,46,20],[43,21,46,23],[43,25,46,27],[43,28,46,29],[45,36,45,37],[45,38,45,39],[45,40,45,41],[45,42,45,43],[22,1,23,1],[22,4,23,4],[22,10,24,11],[22,18,24,20],[22,47,24,47],[16,46,18,46],[19,24,21,26],[19,34,21,34],[19,36,21,36],[16,39,18,39],[16,40,18,40],[16,41,18,41],[22,27,24,29],[19,41,21,41],[19,42,21,42],[16,47,18,47],[22,34,24,34],[22,36,24,36],[22,37,24,37],[22,38,24,38],[22,39,24,39],[22,40,24,40],[19,45,21,45],[19,46,21,46],[19,47,21,47],[19,37,21,37],[19,38,21,38],[19,39,21,39],[19,40,21,40],[16,42,18,42],[16,43,18,43],[16,44,18,44],[19,43,21,43],[19,44,21,44],[14,36,14,37],[14,38,14,39],[14,41,14,42],[10,2,10,5],[10,12,10,20],[16,45,18,45],[14,43,14,44],[14,46,15,46],[16,10,18,11],[16,12,18,14],[16,21,18,23],[16,34,18,34],[16,36,18,36],[16,37,18,37],[16,38,18,38],[12,31,15,33],[12,1,13,5],[12,12,15,14],[12,15,15,17],[12,18,15,20],[12,21,15,23],[12,24,15,26],[12,27,15,29],[12,34,15,34],[13,10,15,11],[77,43,79,43],[50,10,52,11],[70,2,70,5],[73,1,74,5],[73,10,76,11],[73,12,76,14],[73,15,76,17],[34,4,35,4],[38,2,38,5],[39,2,39,5],[40,2,40,5],[50,1,51,1],[50,4,51,4],[68,2,68,5],[69,2,69,5],[53,1,54,1],[53,4,54,4],[53,10,55,11],[62,1,63,1],[62,4,63,4],[65,1,66,1],[65,4,66,4],[34,1,35,1],[53,36,55,36],[77,38,79,38],[77,39,79,39],[77,40,79,40],[75,40,75,41],[75,42,75,43],[75,44,75,45],[75,47,76,47],[77,10,79,11],[77,12,79,14],[77,28,79,29],[77,36,79,36],[77,37,79,37],[73,18,76,20],[73,21,76,23],[73,25,76,27],[73,28,76,29],[75,36,75,37],[75,38,75,39],[77,44,79,44],[77,45,79,45],[77,46,79,46],[77,47,79,47],[77,41,79,41],[77,42,79,42],[83,40,85,40],[83,41,85,41],[80,43,82,43],[80,44,82,44],[80,45,82,45],[80,46,82,46],[80,47,82,47],[83,1,84,1],[83,4,84,4],[83,10,85,11],[83,18,85,20],[83,28,85,29],[80,37,82,37],[80,38,82,38],[80,39,82,39],[80,40,82,40],[80,41,82,41],[80,42,82,42],[80,1,81,1],[80,4,81,4],[80,10,82,11],[80,15,82,17],[80,28,82,29],[80,36,82,36],[92,1,93,1],[92,4,93,4],[95,1,96,1],[95,4,96,4],[83,47,85,47],[86,1,87,1],[86,4,87,4],[86,10,88,11],[86,21,88,23],[86,28,88,29],[83,42,85,42],[83,43,85,43],[83,44,85,44],[83,45,85,45],[83,46,85,46],[89,1,90,1],[89,4,90,4],[86,36,88,36],[86,37,88,37],[86,38,88,38],[83,36,85,36],[83,37,85,37],[83,38,85,38],[83,39,85,39],[86,45,88,45],[86,46,88,46],[86,47,88,47],[86,39,88,39],[86,40,88,40],[86,41,88,41],[86,42,88,42],[86,43,88,43],[86,44,88,44],[2,1,3,2],[2,3,3,9],[5,1,6,2],[5,3,6,9],[1,12,4,35],[6,12,6,15],[6,17,6,18],[6,20,6,21],[6,23,6,25],[6,27,6,28],[76,1,77,2],[60,12,60,29],[90,12,90,29],[7,12,7,15],[7,17,7,18],[7,20,7,21],[7,23,7,25],[7,27,7,28],[15,1,16,2],[41,2,41,5],[46,1,47,2],[71,2,71,5],[8,2,8,5],[9,2,9,5],[25,1,26,1],[25,4,26,4],[26,12,26,34],[31,1,32,1],[31,4,32,4],[19,1,20,1],[19,4,20,4],[19,10,21,11],[19,15,21,17],[10,21,10,29]]}
[]
[null,null,null,null,null,null,null,null,null,null,null,null,"LIGUE MÉDITERRANÉENNE DE BILLARD"]
[null,"CLUB ORGANISATEUR"]
[]
[]
[null,"DIRECTEUR DE JEU :"]
[null,null,null,null,null,null,null,null,null,null,null,null,"Compétition",null,null,null,null,"Mode de jeu",null,null,"Categorie",null,null,"Format billard",null,null,null,"Distance"]
[]
[null,"Joueur 1",{"$f":"'Saisie des joueurs'!K18","v":0}]
[null,"Joueur 2",{"$f":"'Saisie des joueurs'!K19","v":0}]
[null,"Joueur 3",{"$f":"'Saisie des joueurs'!K20","v":0},null,null,null,null,null,null,null,null,null,"MATCH ALLER",null,null,null,null,null,null,null,null,"MATCH RETOUR"]
[]
[null,"SAISIE DES RESULTATS",null,null,null,null,null,null,null,null,null,null,{"$f":"C9","v":0},null,null,{"$f":"C10","v":0},null,null,{"$f":"C11","v":0},null,null,{"$f":"C9","v":0},null,null,{"$f":"C10","v":0},null,null,{"$f":"C11","v":0},null,null,null,"TOTAUX",null,null,"CLASSEMENT"]
[]
[null,null,null,null,null,null,null,null,null,null,null,null,null,null,null,null,null,null,null,null,null,null,null,null,null,null,null,null,null,null,null,null,null,null,null,null,"Classement",null,"Classement",null,"Classement","Classement",null,"Classement",null,"GENERAL","RANG"]
[null,"POULE A",null,null,null,null,null,null,null,null,null,null,null,null,null,null,null,null,null,null,null,null,null,null,null,null,null,null,null,null,null,null,null,null,null,null,"Point-Match","CLS-M","Moy-Gen","CLS-G","Moy-Part","M-Series","CLS-S","MGPS","CLS","CLS"]
[null,null,null,null,null,null,null,null,null,null,{"$f":"C9","v":0},null,"L",null,null,{"$f":"D26","v":0},null,{"$f":"E26","v":0},{"$f":"D20","v":0},null,{"$f":"E20","v":0},"L",null,null,{"$f":"D35","v":0},null,{"$f":"E35","v":0},{"$f":"D29","v":0},null,{"$f":"E29","v":0},null,{"$f":"P17+S17+Y17+AB17","v":0},null,{"$f":"R17+U17+AA17+AD17","v":0},{"$f":"AU17","v":{"$error":"#DIV/0!"}},null,{"$f":"AG18","v":0.04},{"$f":"RANK(AK17,AK$17:AK$25,0)","v":1},{"$f":"AH19","v":{"$error":"#DIV/0!"}},{"$f":"RANK(AM17,AM$17:AM$25,0)","v":{"$error":"#DIV/0!"}},{"$f":"MAX(R19,U19,AA19,AD19)","v":{"$error":"#DIV/0!"}},{"$f":"RANK(AO17,AO$17:AO$25)","v":{"$error":"#DIV/0!"}},{"$f":"AF19","v":0},{"$f":"RANK(AQ17,AQ$17:AQ$25)","v":1},{"$f":"(AL17*1000)+(AN17*100)+(AP17*10)+(AR17*1)","v":{"$error":"#DIV/0!"}},{"$f":"AS17","v":{"$error":"#DIV/0!"}},{"$f":"RANK(AT17,AT$17:AT$25,1)","v":{"$error":"#DIV/0!"}},{"$f":"RANK(AU17,AU$17:AU$25,1)","v":{"$error":"#DIV/0!"}}]
[null,null,null,null,null,null,null,null,null,null,null,null,null,null,null,null,{"$f":"IF(R17<1,0.01,IF(P17>M20,2,IF(P17=M20,1,0)))","v":0.01},null,null,{"$f":"IF(U17<1,0.01,IF(S17>M23,2,IF(S17=M23,1,0)))","v":0.01},null,null,null,null,null,{"$f":"IF(AA17<1,0.01,IF(Y17>V20,2,IF(Y17=V20,1,0)))","v":0.01},null,null,{"$f":"IF(AD17<1,0.01,IF(AB17>V23,2,IF(AB17=V23,1,0)))","v":0.01},null,null,null,{"$f":"Q18+T18+Z18+AC18","v":0.04}]
[null,null,null,"Pts","Rep","Série",null,null,null,null,null,null,null,null,null,{"$f":"F26","v":0},null,{"$f":"P17/R17","v":{"$error":"#DIV/0!"}},{"$f":"F20","v":0},null,{"$f":"S17/U17","v":{"$error":"#DIV/0!"}},null,null,null,{"$f":"F35","v":0},null,{"$f":"Y17/AA17","v":{"$error":"#DIV/0!"}},{"$f":"F29","v":0},null,{"$f":"AB17/AD17","v":{"$error":"#DIV/0!"}},null,{"$f":"MAX(P19,S19,Y19,AB19)","v":0},null,{"$f":"AF17/AH17","v":{"$error":"#DIV/0!"}}]
[null,"Tour 1\nMatch aller",{"$f":"C9","v":0},null,null,null,null,null,null,null,{"$f":"C10","v":0},null,{"$f":"D27","v":0},null,{"$f":"E26","v":0},"M",null,null,{"$f":"D23","v":0},null,{"$f":"E23","v":0},{"$f":"D36","v":0},null,{"$f":"E35","v":0},"M",null,null,{"$f":"D32","v":0},null,{"$f":"E32","v":0},null,{"$f":"M20+S20+V20+AB20","v":0},null,{"$f":"O20+U20+X20+AD20","v":0},{"$f":"AU20","v":{"$error":"#DIV/0!"}},null,{"$f":"AG21","v":0.04},{"$f":"RANK(AK20,AK$17:AK$25,0)","v":1},{"$f":"AH22","v":{"$error":"#DIV/0!"}},{"$f":"RANK(AM20,AM$17:AM$25,0)","v":{"$error":"#DIV/0!"}},{"$f":"MAX(R22,U22,AA22,AD22)","v":{"$error":"#DIV/0!"}},{"$f":"RANK(AO20,AO$17:AO$25)","v":{"$error":"#DIV/0!"}},{"$f":"AF22","v":0},{"$f":"RANK(AQ20,AQ$17:AQ$25)","v":1},{"$f":"(AL20*1000)+(AN20*100)+(AP20*10)+(AR20*1)","v":{"$error":"#DIV/0!"}},{"$f":"AS20","v":{"$error":"#DIV/0!"}},{"$f":"RANK(AT20,AT$17:AT$25,1)","v":{"$error":"#DIV/0!"}},{"$f":"RANK(AU20,AU$17:AU$25,1)","v":{"$error":"#DIV/0!"}}]
[null,null,{"$f":"C11","v":0},null,null,null,null,null,null,null,null,null,null,{"$f":"IF(R17>0,2-Q18,0.01)","v":0.01},null,null,null,null,null,{"$f":"IF(U20<1,0.01,IF(S20>P23,2,IF(S20=P23,1,0)))","v":0.01},null,null,{"$f":"IF(AA17>0,2-Z18,0.01)","v":0.01},null,null,null,null,null,{"$f":"IF(AD20<1,0.01,IF(AB20>Y23,2,IF(AB20=Y23,1,0)))","v":0.01},null,null,null,{"$f":"N21+T21+W21+AC21","v":0.04}]
[null,null,null,null,null,null,null,null,null,null,null,null,{"$f":"F27","v":0},null,{"$f":"M20/O20","v":{"$error":"#DIV/0!"}},null,null,null,{"$f":"F23","v":0},null,{"$f":"S20/U20","v":{"$error":"#DIV/0!"}},{"$f":"F36","v":0},null,{"$f":"V20/X20","v":{"$error":"#DIV/0!"}},null,null,null,{"$f":"F32","v":0},null,{"$f":"AB20/AD20","v":{"$error":"#DIV/0!"}},null,{"$f":"MAXA(M22,S22,V22,AB22)","v":0},null,{"$f":"AF20/AH20","v":{"$error":"#DIV/0!"}}]
[null,"Tour 2\nMatch aller",{"$f":"C10","v":0},null,null,null,null,null,null,null,{"$f":"C11","v":0},null,{"$f":"D21","v":0},null,{"$f":"E20","v":0},{"$f":"D24","v":0},null,{"$f":"E23","v":0},"B",null,null,{"$f":"D30","v":0},null,{"$f":"E29","v":0},{"$f":"D33","v":0},null,{"$f":"E32","v":0},"B",null,null,null,{"$f":"M23+P23+V23+Y23","v":0},null,{"$f":"O23+R23+X23+AA23","v":0},{"$f":"AU23","v":{"$error":"#DIV/0!"}},null,{"$f":"AG24","v":0.04},{"$f":"RANK(AK23,AK$17:AK$25,0)","v":1},{"$f":"AH25","v":{"$error":"#DIV/0!"}},{"$f":"RANK(AM23,AM$17:AM$25,0)","v":{"$error":"#DIV/0!"}},{"$f":"MAX(R25,U25,AA25,AD25)","v":{"$error":"#DIV/0!"}},{"$f":"RANK(AO23,AO$17:AO$25)","v":{"$error":"#DIV/0!"}},{"$f":"AF25","v":0},{"$f":"RANK(AQ23,AQ$17:AQ$25)","v":1},{"$f":"(AL23*1000)+(AN23*100)+(AP23*10)+(AR23*1)","v":{"$error":"#DIV/0!"}},{"$f":"AS23","v":{"$error":"#DIV/0!"}},{"$f":"RANK(AT23,AT$17:AT$25,1)","v":{"$error":"#DIV/0!"}},{"$f":"RANK(AU23,AU$17:AU$25,1)","v":{"$error":"#DIV/0!"}}]
[null,null,{"$f":"C11","v":0},null,null,null,null,null,null,null,null,null,null,{"$f":"IF(U17>0,2-T18,0.01)","v":0.01},null,null,{"$f":"IF(U20>0,2-T21,0.01)","v":0.01},null,null,null,null,null,{"$f":"IF(AD17>0,2-AC18,0.01)","v":0.01},null,null,{"$f":"IF(AD20>0,2-AC21,0.01)","v":0.01},null,null,null,null,null,null,{"$f":"N24+Q24+W24+Z24","v":0.04}]
[null,null,null,null,null,null,null,null,null,null,null,null,{"$f":"F21","v":0},null,{"$f":"M23/O23","v":{"$error":"#DIV/0!"}},{"$f":"F24","v":0},null,{"$f":"P23/R23","v":{"$error":"#DIV/0!"}},null,null,null,{"$f":"F30","v":0},null,{"$f":"V23/X23","v":{"$error":"#DIV/0!"}},{"$f":"F33","v":0},null,{"$f":"Y23/AA23","v":{"$error":"#DIV/0!"}},null,null,null,null,{"$f":"MAXA(M25,P25,V25,Y25)","v":0},null,{"$f":"AF23/AH23","v":{"$error":"#DIV/0!"}}]
[null,"Tour 3\nMatch aller",{"$f":"C9","v":0}]
[null,null,{"$f":"C10","v":0},null,null,null,null,null,null,null,null,null,"Pas de prolongation en cas de match nul."]
[]
[null,"Tour 1\nMatch retour",{"$f":"C9","v":0}]
[null,null,{"$f":"C11","v":0}]
[]
[null,"Tour 2\nMatch retour",{"$f":"C10","v":0}]
[null,null,{"$f":"C11","v":0}]
[]
[null,"Tour 3\nMatch retour",{"$f":"C9","v":0}]
[null,null,{"$f":"C10","v":0}]
[]
[]
[null,"Joueur 1",{"$f":"'Saisie des joueurs'!K22","v":0}]
[null,"Joueur 2",{"$f":"'Saisie des joueurs'!K23","v":0}]
[null,"Joueur 3",{"$f":"'Saisie des joueurs'!K24","v":0}]
[null,"Joueur 4",{"$f":"'Saisie des joueurs'!K25","v":0}]
[]
[null,"SAISIE DES RESULTATS",null,null,null,null,null,null,null,null,null,null,{"$f":"C39","v":0},null,null,{"$f":"C40","v":0},null,null,{"$f":"C41","v":0},null,null,{"$f":"C42","v":0},null,null,null,"TOTAUX",null,null,"CLASSEMENT"]
[]
[null,null,null,null,null,null,null,null,null,null,null,null,null,null,null,null,null,null,null,null,null,null,null,null,null,null,null,null,null,null,null,null,null,null,null,null,"Classement",null,"Classement",null,"Classement",null,"Classement",null,"Classement",null,"GENERAL","RANG"]
[null,"POULE B",null,null,null,null,null,null,null,null,null,null,null,null,null,null,null,null,null,null,null,null,null,null,null,null,null,null,null,null,null,null,null,null,null,null,"Point-Match","CLS-M","Moy-Gen","CLS-G","Moy-Part","CLS-P","M-Series","CLS-S","MGPS","CLS","CLS"]
[null,null,null,null,null,null,null,null,null,null,{"$f":"C39","v":0},null,"L",null,null,{"$f":"D63","v":0},null,{"$f":"E63","v":0},{"$f":"D57","v":0},null,{"$f":"E57","v":0},{"$f":"D51","v":0},null,{"$f":"E51","v":0},null,{"$f":"P48+S48+V48","v":0},null,{"$f":"R48+U48+X48","v":0},{"$f":"AV48","v":{"$error":"#DIV/0!"}},null,null,null,null,null,null,null,{"$f":"AA49","v":0.03},{"$f":"RANK(AK48,AK$48:AK$59,0)","v":1},{"$f":"AB50","v":{"$error":"#DIV/0!"}},{"$f":"RANK(AM48,AM$48:AM$59,0)","v":{"$error":"#DIV/0!"}},{"$f":"MAX(R50,U50,X50)","v":{"$error":"#DIV/0!"}},{"$f":"RANK(AO48,AO$48:AO$59)","v":{"$error":"#DIV/0!"}},{"$f":"Z50","v":0},{"$f":"RANK(AQ48,AQ$48:AQ$59)","v":1},{"$f":"(AL48*1000)+(AN48*100)+(AP48*10)+(AR48*1)","v":{"$error":"#DIV/0!"}},{"$f":"AS48","v":{"$error":"#DIV/0!"}},{"$f":"RANK(AT48,AT$48:AT$59,1)","v":{"$error":"#DIV/0!"}},{"$f":"RANK(AU48,AU$48:AU$59,1)","v":{"$error":"#DIV/0!"}}]
[null,null,null,null,null,null,null,null,null,null,null,null,null,null,null,null,{"$f":"IF(R48<1,0.01,IF(P48>M51,2,IF(P48=M51,1,0)))","v":0.01},null,null,{"$f":"IF(U48<1,0.01,IF(S48>M54,2,IF(S48=M54,1,0)))","v":0.01},null,null,{"$f":"IF(X48<1,0.01,IF(V48>M57,2,IF(V48=M57,1,0)))","v":0.01},null,null,null,{"$f":"Q49+T49+W49","v":0.03}]
[null,null,null,"Pts","Rep","Série",null,null,null,null,null,null,null,null,null,{"$f":"F63","v":0},null,{"$f":"P48/R48","v":{"$error":"#DIV/0!"}},{"$f":"F57","v":0},null,{"$f":"S48/U48","v":{"$error":"#DIV/0!"}},{"$f":"F51","v":0},null,{"$f":"V48/X48","v":{"$error":"#DIV/0!"}},null,{"$f":"MAX(P50,S50,V50)","v":0},null,{"$f":"Z48/AB48","v":{"$error":"#DIV/0!"}}]
[null,"Tour 1",{"$f":"C39","v":0},null,null,null,null,null,null,null,{"$f":"C40","v":0},null,{"$f":"D64","v":0},null,{"$f":"E63","v":0},"M",null,null,{"$f":"D54","v":0},null,{"$f":"E54","v":0},{"$f":"D61","v":0},null,{"$f":"E60","v":0},null,{"$f":"M51+S51+V51","v":0},null,{"$f":"O51+U51+X51","v":0},{"$f":"AV51","v":{"$error":"#DIV/0!"}},null,null,null,null,null,null,null,{"$f":"AA52","v":0.03},{"$f":"RANK(AK51,AK$48:AK$59,0)","v":1},{"$f":"AB53","v":{"$error":"#DIV/0!"}},{"$f":"RANK(AM51,AM$48:AM$59,0)","v":{"$error":"#DIV/0!"}},{"$f":"MAX(O53,U53,X53)","v":{"$error":"#DIV/0!"}},{"$f":"RANK(AO51,AO$48:AO$59)","v":{"$error":"#DIV/0!"}},{"$f":"Z53","v":0},{"$f":"RANK(AQ51,AQ$48:AQ$59)","v":1},{"$f":"(AL51*1000)+(AN51*100)+(AP51*10)+(AR51*1)","v":{"$error":"#DIV/0!"}},{"$f":"AS51","v":{"$error":"#DIV/0!"}},{"$f":"RANK(AT51,AT$48:AT$59,1)","v":{"$error":"#DIV/0!"}},{"$f":"RANK(AU51,AU$48:AU$59,1)","v":{"$error":"#DIV/0!"}}]
[null,null,{"$f":"C42","v":0},null,null,null,null,null,null,null,null,null,null,{"$f":"IF(R48>0,2-Q49,0.01)","v":0.01},null,null,null,null,null,{"$f":"IF(U51<1,0.01,IF(S51>P54,2,IF(S51=P54,1,0)))","v":0.01},null,null,{"$f":"IF(X51<1,0.01,IF(V51>P57,2,IF(V51=P57,1,0)))","v":0.01},null,null,null,{"$f":"N52+T52+W52","v":0.03}]
[null,null,null,null,null,null,null,null,null,null,null,null,{"$f":"F64","v":0},null,{"$f":"M51/O51","v":{"$error":"#DIV/0!"}},null,null,null,{"$f":"F54","v":0},null,{"$f":"S51/U51","v":{"$error":"#DIV/0!"}},{"$f":"F61","v":0},null,{"$f":"V51/X51","v":{"$error":"#DIV/0!"}},null,{"$f":"MAXA(M53,S53,V53)","v":0},null,{"$f":"Z51/AB51","v":{"$error":"#DIV/0!"}}]
[null,"Tour 2",{"$f":"C40","v":0},null,null,null,null,null,null,null,{"$f":"C41","v":0},null,{"$f":"D58","v":0},null,{"$f":"E57","v":0},{"$f":"D55","v":0},null,{"$f":"E54","v":0},"B",null,null,{"$f":"D66","v":0},null,{"$f":"E66","v":0},null,{"$f":"M54+P54+V54","v":0},null,{"$f":"O54+R54+X54","v":0},{"$f":"AV54","v":{"$error":"#DIV/0!"}},null,null,null,null,null,null,null,{"$f":"AA55","v":0.03},{"$f":"RANK(AK54,AK$48:AK$59,0)","v":1},{"$f":"AB56","v":{"$error":"#DIV/0!"}},{"$f":"RANK(AM54,AM$48:AM$59,0)","v":{"$error":"#DIV/0!"}},{"$f":"MAX(O56,R56,X56)","v":{"$error":"#DIV/0!"}},{"$f":"RANK(AO54,AO$48:AO$59)","v":{"$error":"#DIV/0!"}},{"$f":"Z56","v":0},{"$f":"RANK(AQ54,AQ$48:AQ$59)","v":1},{"$f":"(AL54*1000)+(AN54*100)+(AP54*10)+(AR54*1)","v":{"$error":"#DIV/0!"}},{"$f":"AS54","v":{"$error":"#DIV/0!"}},{"$f":"RANK(AT54,AT$48:AT$59,1)","v":{"$error":"#DIV/0!"}},{"$f":"RANK(AU54,AU$48:AU$59,1)","v":{"$error":"#DIV/0!"}}]
[null,null,{"$f":"C41","v":0},null,null,null,null,null,null,null,null,null,null,{"$f":"IF(U48>0,2-T49,0.01)","v":0.01},null,null,{"$f":"IF(U51>0,2-T52,0.01)","v":0.01},null,null,null,null,null,{"$f":"IF(X54<1,0.01,IF(V54>S57,2,IF(V54=S57,1,0)))","v":0.01},null,null,null,{"$f":"N55+Q55+W55","v":0.03}]
[null,null,null,null,null,null,null,null,null,null,null,null,{"$f":"F58","v":0},null,{"$f":"M54/O54","v":{"$error":"#DIV/0!"}},{"$f":"F55","v":0},null,{"$f":"P54/R54","v":{"$error":"#DIV/0!"}},null,null,null,{"$f":"F66","v":0},null,{"$f":"V54/X54","v":{"$error":"#DIV/0!"}},null,{"$f":"MAXA(M56,P56,V56)","v":0},null,{"$f":"Z54/AB54","v":{"$error":"#DIV/0!"}}]
[null,"Tour 3",{"$f":"C39","v":0},null,null,null,null,null,null,null,{"$f":"C42","v":0},null,{"$f":"D52","v":0},null,{"$f":"E51","v":0},{"$f":"D60","v":0},null,{"$f":"E60","v":0},{"$f":"D67","v":0},null,{"$f":"E66","v":0},null,null,null,null,{"$f":"M57+P57+S57","v":0},null,{"$f":"O57+R57+U57","v":0},{"$f":"AV57","v":{"$error":"#DIV/0!"}},null,null,null,null,null,null,null,{"$f":"AA58","v":0.03},{"$f":"RANK(AK57,AK$48:AK$59,0)","v":1},{"$f":"AB59","v":{"$error":"#DIV/0!"}},{"$f":"RANK(AM57,AM$48:AM$59,0)","v":{"$error":"#DIV/0!"}},{"$f":"MAX(O59,R59,U59)","v":{"$error":"#DIV/0!"}},{"$f":"RANK(AO57,AO$48:AO$59)","v":{"$error":"#DIV/0!"}},{"$f":"Z59","v":0},{"$f":"RANK(AQ57,AQ$48:AQ$59)","v":1},{"$f":"(AL57*1000)+(AN57*100)+(AP57*10)+(AR57*1)","v":{"$error":"#DIV/0!"}},{"$f":"AS57","v":{"$error":"#DIV/0!"}},{"$f":"RANK(AT57,AT$48:AT$59,1)","v":{"$error":"#DIV/0!"}},{"$f":"RANK(AU57,AU$48:AU$59,1)","v":{"$error":"#DIV/0!"}}]
[null,null,{"$f":"C41","v":0},null,null,null,null,null,null,null,null,null,null,{"$f":"IF(X48>0,2-W49,0.01)","v":0.01},null,null,{"$f":"IF(X51>0,2-W52,0.01)","v":0.01},null,null,{"$f":"IF(X54>0,2-W55,0.01)","v":0.01},null,null,null,null,null,null,{"$f":"N58+Q58+T58","v":0.03}]
[null,null,null,null,null,null,null,null,null,null,null,null,{"$f":"F52","v":0},null,{"$f":"M57/O57","v":{"$error":"#DIV/0!"}},{"$f":"F60","v":0},null,{"$f":"P57/R57","v":{"$error":"#DIV/0!"}},{"$f":"F67","v":0},null,{"$f":"S57/U57","v":{"$error":"#DIV/0!"}},null,null,null,null,{"$f":"MAXA(M59,P59,S59)","v":0},null,{"$f":"Z57/AB57","v":{"$error":"#DIV/0!"}}]
[null,"Tour 4",{"$f":"C42","v":0}]
[null,null,{"$f":"C40","v":0},null,null,null,null,null,null,null,null,null,"Pas de prolongation en cas de match nul."]
[]
[null,"Tour 5",{"$f":"C39","v":0}]
[null,null,{"$f":"C40","v":0}]
[]
[null,"Tour 6",{"$f":"C41","v":0}]
[null,null,{"$f":"C42","v":0}]
[]
[null,"Joueur 1",{"$f":"'Saisie des joueurs'!K26","v":0}]
[null,"Joueur 2",{"$f":"'Saisie des joueurs'!K27","v":0}]
[null,"Joueur 3",{"$f":"'Saisie des joueurs'!K28","v":0}]
[null,"Joueur 4",{"$f":"'Saisie des joueurs'!K29","v":0}]
[]
[null,"SAISIE DES RESULTATS",null,null,null,null,null,null,null,null,null,null,{"$f":"C69","v":0},null,null,{"$f":"C70","v":0},null,null,{"$f":"C71","v":0},null,null,{"$f":"C72","v":0},null,null,null,"TOTAUX",null,null,"CLASSEMENT"]
[]
[null,null,null,null,null,null,null,null,null,null,null,null,null,null,null,null,null,null,null,null,null,null,null,null,null,null,null,null,null,null,null,null,null,null,null,null,"Classement",null,"Classement",null,"Classement",null,"Classement",null,"Classement",null,"GENERAL","RANG"]
[null,"POULE C",null,null,null,null,null,null,null,null,null,null,null,null,null,null,null,null,null,null,null,null,null,null,null,null,null,null,null,null,null,null,null,null,null,null,"Point-Match","CLS-M","Moy-Gen","CLS-G","Moy-Part","CLS-P","M-Series","CLS-S","MGPS","CLS","CLS"]
[null,null,null,null,null,null,null,null,null,null,{"$f":"C69","v":0},null,"L",null,null,{"$f":"D93","v":0},null,{"$f":"E93","v":0},{"$f":"D87","v":0},null,{"$f":"E87","v":0},{"$f":"D81","v":0},null,{"$f":"E81","v":0},null,{"$f":"P78+S78+V78","v":0},null,{"$f":"R78+U78+X78","v":0},{"$f":"AV78","v":{"$error":"#DIV/0!"}},null,null,null,null,null,null,null,{"$f":"AA79","v":0.03},{"$f":"RANK(AK78,AK$78:AK$89,0)","v":1},{"$f":"AB80","v":{"$error":"#DIV/0!"}},{"$f":"RANK(AM78,AM$78:AM$89,0)","v":{"$error":"#DIV/0!"}},{"$f":"MAX(R80,U80,X80)","v":{"$error":"#DIV/0!"}},{"$f":"RANK(AO78,AO$78:AO$89)","v":{"$error":"#DIV/0!"}},{"$f":"Z80","v":0},{"$f":"RANK(AQ78,AQ$78:AQ$89)","v":1},{"$f":"(AL78*1000)+(AN78*100)+(AP78*10)+(AR78*1)","v":{"$error":"#DIV/0!"}},{"$f":"AS78","v":{"$error":"#DIV/0!"}},{"$f":"RANK(AT78,AT$78:AT$89,1)","v":{"$error":"#DIV/0!"}},{"$f":"RANK(AU78,AU$78:AU$89,1)","v":{"$error":"#DIV/0!"}}]
[null,null,null,null,null,null,null,null,null,null,null,null,null,null,null,null,{"$f":"IF(R78<1,0.01,IF(P78>M81,2,IF(P78=M81,1,0)))","v":0.01},null,null,{"$f":"IF(U78<1,0.01,IF(S78>M84,2,IF(S78=M84,1,0)))","v":0.01},null,null,{"$f":"IF(X78<1,0.01,IF(V78>M87,2,IF(V78=M87,1,0)))","v":0.01},null,null,null,{"$f":"Q79+T79+W79","v":0.03}]
[null,null,null,"Pts","Rep","Série",null,null,null,null,null,null,null,null,null,{"$f":"F93","v":0},null,{"$f":"P78/R78","v":{"$error":"#DIV/0!"}},{"$f":"F87","v":0},null,{"$f":"S78/U78","v":{"$error":"#DIV/0!"}},{"$f":"F81","v":0},null,{"$f":"V78/X78","v":{"$error":"#DIV/0!"}},null,{"$f":"MAX(P80,S80,V80)","v":0},null,{"$f":"Z78/AB78","v":{"$error":"#DIV/0!"}}]
[null,"Tour 1",{"$f":"C69","v":0},null,null,null,null,null,null,null,{"$f":"C70","v":0},null,{"$f":"D94","v":0},null,{"$f":"E93","v":0},"M",null,null,{"$f":"D84","v":0},null,{"$f":"E84","v":0},{"$f":"D91","v":0},null,{"$f":"E90","v":0},null,{"$f":"M81+S81+V81","v":0},null,{"$f":"O81+U81+X81","v":0},{"$f":"AV81","v":{"$error":"#DIV/0!"}},null,null,null,null,null,null,null,{"$f":"AA82","v":0.03},{"$f":"RANK(AK81,AK$78:AK$89,0)","v":1},{"$f":"AB83","v":{"$error":"#DIV/0!"}},{"$f":"RANK(AM81,AM$78:AM$89,0)","v":{"$error":"#DIV/0!"}},{"$f":"MAX(O83,U83,X83)","v":{"$error":"#DIV/0!"}},{"$f":"RANK(AO81,AO$78:AO$89)","v":{"$error":"#DIV/0!"}},{"$f":"Z83","v":0},{"$f":"RANK(AQ81,AQ$78:AQ$89)","v":1},{"$f":"(AL81*1000)+(AN81*100)+(AP81*10)+(AR81*1)","v":{"$error":"#DIV/0!"}},{"$f":"AS81","v":{"$error":"#DIV/0!"}},{"$f":"RANK(AT81,AT$78:AT$89,1)","v":{"$error":"#DIV/0!"}},{"$f":"RANK(AU81,AU$78:AU$89,1)","v":{"$error":"#DIV/0!"}}]
[null,null,{"$f":"C72","v":0},null,null,null,null,null,null,null,null,null,null,{"$f":"IF(R78>0,2-Q79,0.01)","v":0.01},null,null,null,null,null,{"$f":"IF(U81<1,0.01,IF(S81>P84,2,IF(S81=P84,1,0)))","v":0.01},null,null,{"$f":"IF(X81<1,0.01,IF(V81>P87,2,IF(V81=P87,1,0)))","v":0.01},null,null,null,{"$f":"N82+T82+W82","v":0.03}]
[null,null,null,null,null,null,null,null,null,null,null,null,{"$f":"F94","v":0},null,{"$f":"M81/O81","v":{"$error":"#DIV/0!"}},null,null,null,{"$f":"F84","v":0},null,{"$f":"S81/U81","v":{"$error":"#DIV/0!"}},{"$f":"F91","v":0},null,{"$f":"V81/X81","v":{"$error":"#DIV/0!"}},null,{"$f":"MAXA(M83,S83,V83)","v":0},null,{"$f":"Z81/AB81","v":{"$error":"#DIV/0!"}}]
[null,"Tour 2",{"$f":"C70","v":0},null,null,null,null,null,null,null,{"$f":"C71","v":0},null,{"$f":"D88","v":0},null,{"$f":"E87","v":0},{"$f":"D85","v":0},null,{"$f":"E84","v":0},"B",null,null,{"$f":"D96","v":0},null,{"$f":"E96","v":0},null,{"$f":"M84+P84+V84","v":0},null,{"$f":"O84+R84+X84","v":0},{"$f":"AV84","v":{"$error":"#DIV/0!"}},null,null,null,null,null,null,null,{"$f":"AA85","v":0.03},{"$f":"RANK(AK84,AK$78:AK$89,0)","v":1},{"$f":"AB86","v":{"$error":"#DIV/0!"}},{"$f":"RANK(AM84,AM$78:AM$89,0)","v":{"$error":"#DIV/0!"}},{"$f":"MAX(O86,R86,X86)","v":{"$error":"#DIV/0!"}},{"$f":"RANK(AO84,AO$78:AO$89)","v":{"$error":"#DIV/0!"}},{"$f":"Z86","v":0},{"$f":"RANK(AQ84,AQ$78:AQ$89)","v":1},{"$f":"(AL84*1000)+(AN84*100)+(AP84*10)+(AR84*1)","v":{"$error":"#DIV/0!"}},{"$f":"AS84","v":{"$error":"#DIV/0!"}},{"$f":"RANK(AT84,AT$78:AT$89,1)","v":{"$error":"#DIV/0!"}},{"$f":"RANK(AU84,AU$78:AU$89,1)","v":{"$error":"#DIV/0!"}}]
[null,null,{"$f":"C71","v":0},null,null,null,null,null,null,null,null,null,null,{"$f":"IF(U78>0,2-T79,0.01)","v":0.01},null,null,{"$f":"IF(U81>0,2-T82,0.01)","v":0.01},null,null,null,null,null,{"$f":"IF(X84<1,0.01,IF(V84>S87,2,IF(V84=S87,1,0)))","v":0.01},null,null,null,{"$f":"N85+Q85+W85","v":0.03}]
[null,null,null,null,null,null,null,null,null,null,null,null,{"$f":"F88","v":0},null,{"$f":"M84/O84","v":{"$error":"#DIV/0!"}},{"$f":"F85","v":0},null,{"$f":"P84/R84","v":{"$error":"#DIV/0!"}},null,null,null,{"$f":"F96","v":0},null,{"$f":"V84/X84","v":{"$error":"#DIV/0!"}},null,{"$f":"MAXA(M86,P86,V86)","v":0},null,{"$f":"Z84/AB84","v":{"$error":"#DIV/0!"}}]
[null,"Tour 3",{"$f":"C69","v":0},null,null,null,null,null,null,null,{"$f":"C72","v":0},null,{"$f":"D82","v":0},null,{"$f":"E81","v":0},{"$f":"D90","v":0},null,{"$f":"E90","v":0},{"$f":"D97","v":0},null,{"$f":"E96","v":0},null,null,null,null,{"$f":"M87+P87+S87","v":0},null,{"$f":"O87+R87+U87","v":0},{"$f":"AV87","v":{"$error":"#DIV/0!"}},null,null,null,null,null,null,null,{"$f":"AA88","v":0.03},{"$f":"RANK(AK87,AK$78:AK$89,0)","v":1},{"$f":"AB89","v":{"$error":"#DIV/0!"}},{"$f":"RANK(AM87,AM$78:AM$89,0)","v":{"$error":"#DIV/0!"}},{"$f":"MAX(O89,R89,U89)","v":{"$error":"#DIV/0!"}},{"$f":"RANK(AO87,AO$78:AO$89)","v":{"$error":"#DIV/0!"}},{"$f":"Z89","v":0},{"$f":"RANK(AQ87,AQ$78:AQ$89)","v":1},{"$f":"(AL87*1000)+(AN87*100)+(AP87*10)+(AR87*1)","v":{"$error":"#DIV/0!"}},{"$f":"AS87","v":{"$error":"#DIV/0!"}},{"$f":"RANK(AT87,AT$78:AT$89,1)","v":{"$error":"#DIV/0!"}},{"$f":"RANK(AU87,AU$78:AU$89,1)","v":{"$error":"#DIV/0!"}}]
[null,null,{"$f":"C71","v":0},null,null,null,null,null,null,null,null,null,null,{"$f":"IF(X78>0,2-W79,0.01)","v":0.01},null,null,{"$f":"IF(X81>0,2-W82,0.01)","v":0.01},null,null,{"$f":"IF(X84>0,2-W85,0.01)","v":0.01},null,null,null,null,null,null,{"$f":"N88+Q88+T88","v":0.03}]
[null,null,null,null,null,null,null,null,null,null,null,null,{"$f":"F82","v":0},null,{"$f":"M87/O87","v":{"$error":"#DIV/0!"}},{"$f":"F90","v":0},null,{"$f":"P87/R87","v":{"$error":"#DIV/0!"}},{"$f":"F97","v":0},null,{"$f":"S87/U87","v":{"$error":"#DIV/0!"}},null,null,null,null,{"$f":"MAXA(M89,P89,S89)","v":0},null,{"$f":"Z87/AB87","v":{"$error":"#DIV/0!"}}]
[null,"Tour 4",{"$f":"C72","v":0}]
[null,null,{"$f":"C70","v":0},null,null,null,null,null,null,null,null,null,"Pas de prolongation en cas de match nul."]
[]
[null,"Tour 5",{"$f":"C69","v":0}]
[null,null,{"$f":"C70","v":0}]
[]
[null,"Tour 6",{"$f":"C71","v":0}]
[null,null,{"$f":"C72","v":0}]

{"sheet":"12JOUEURS_SERPENTIN","index":25,"n_rows":97,"n_cols":42,"rows_kept":97,"cut":false,"hidden":true,"merged":[[7,12,7,15],[7,17,7,18],[7,20,7,21],[7,23,7,25],[7,27,7,28],[16,1,17,2],[46,1,47,2],[76,1,77,2],[2,1,3,2],[2,3,3,9],[5,1,6,2],[5,3,6,9],[1,12,4,35],[6,12,6,15],[6,17,6,18],[6,20,6,21],[6,23,6,25],[6,27,6,28],[68,2,68,5],[69,2,69,5],[59,1,60,1],[59,4,60,4],[60,12,60,23],[56,31,58,31],[86,30,88,30],[86,38,88,38],[86,39,88,39],[86,40,88,40],[86,41,88,41],[89,1,90,1],[89,4,90,4],[90,12,90,23],[86,31,88,31],[86,32,88,32],[86,33,88,33],[95,1,96,1],[95,4,96,4],[86,37,88,37],[80,37,82,37],[80,38,82,38],[80,39,82,39],[80,34,82,34],[80,35,82,35],[80,36,82,36],[83,36,85,36],[83,32,85,32],[83,33,85,33],[83,34,85,34],[83,35,85,35],[92,1,93,1],[92,4,93,4],[86,34,88,34],[86,35,88,35],[86,36,88,36],[86,1,87,1],[86,4,87,4],[86,10,88,11],[86,21,88,23],[86,28,88,28],[83,40,85,40],[83,41,85,41],[83,30,85,30],[83,31,85,31],[80,40,82,40],[80,41,82,41],[83,10,85,11],[83,18,85,20],[83,28,85,28],[80,31,82,31],[80,32,82,32],[80,33,82,33],[80,1,81,1],[80,4,81,4],[80,10,82,11],[80,15,82,17],[80,28,82,28],[80,30,82,30],[83,37,85,37],[83,38,85,38],[83,39,85,39],[83,1,84,1],[83,4,84,4],[70,2,70,5],[71,2,71,5],[73,1,74,5],[73,12,76,14],[73,15,76,17],[73,18,76,20],[74,28,76,28],[75,30,75,31],[75,32,75,33],[74,10,76,11],[74,25,76,27],[77,39,79,39],[77,40,79,40],[75,41,76,41],[77,10,79,11],[77,12,79,14],[77,28,79,28],[77,30,79,30],[75,38,75,39],[77,31,79,31],[73,21,76,23],[77,32,79,32],[77,33,79,33],[77,34,79,34],[75,34,75,35],[75,36,75,37],[77,41,79,41],[77,35,79,35],[77,36,79,36],[77,37,79,37],[77,38,79,38],[62,1,63,1],[62,4,63,4],[65,1,66,1],[65,4,66,4],[56,41,58,41],[50,37,52,37],[50,38,52,38],[50,39,52,39],[50,40,52,40],[50,41,52,41],[53,37,55,37],[53,38,55,38],[53,32,55,32],[53,33,55,33],[53,34,55,34],[53,35,55,35],[56,37,58,37],[56,38,58,38],[56,34,58,34],[56,35,58,35],[56,36,58,36],[53,1,54,1],[53,4,54,4],[53,10,55,11],[53,18,55,20],[53,28,55,28],[50,31,52,31],[50,30,52,30],[56,39,58,39],[56,40,58,40],[56,1,57,1],[56,4,57,4],[56,10,58,11],[56,21,58,23],[56,28,58,28],[56,30,58,30],[50,1,51,1],[50,4,51,4],[50,10,52,11],[50,15,52,17],[50,28,52,28],[50,32,52,32],[50,33,52,33],[50,34,52,34],[50,35,52,35],[56,32,58,32],[56,33,58,33],[47,34,49,34],[45,34,45,35],[45,36,45,37],[45,38,45,39],[53,39,55,39],[53,40,55,40],[53,41,55,41],[53,30,55,30],[53,31,55,31],[50,36,52,36],[53,36,55,36],[47,12,49,14],[47,28,49,28],[47,30,49,30],[47,31,49,31],[43,21,46,23],[44,10,46,11],[44,25,46,27],[47,32,49,32],[47,33,49,33],[32,1,33,1],[32,4,33,4],[35,1,36,1],[35,4,36,4],[38,2,38,5],[39,2,39,5],[47,41,49,41],[47,35,49,35],[47,36,49,36],[47,37,49,37],[40,2,40,5],[41,2,41,5],[43,1,44,5],[43,12,46,14],[43,15,46,17],[43,18,46,20],[44,28,46,28],[45,30,45,31],[45,32,45,33],[47,38,49,38],[47,39,49,39],[47,40,49,40],[45,41,46,41],[47,10,49,11],[26,37,28,37],[26,38,28,38],[26,39,28,39],[26,40,28,40],[26,41,28,41],[29,1,30,1],[29,4,30,4],[30,12,30,23],[26,31,28,31],[26,32,28,32],[26,33,28,33],[26,34,28,34],[26,35,28,35],[26,36,28,36],[26,1,27,1],[26,4,27,4],[26,10,28,11],[26,21,28,23],[26,28,28,28],[26,30,28,30],[23,38,25,38],[23,39,25,39],[23,40,25,40],[23,41,25,41],[23,35,25,35],[23,36,25,36],[23,37,25,37],[20,33,22,33],[20,34,22,34],[20,35,22,35],[20,36,22,36],[20,37,22,37],[20,38,22,38],[20,39,22,39],[20,40,22,40],[20,41,22,41],[23,32,25,32],[23,33,25,33],[23,34,25,34],[17,34,19,34],[20,1,21,1],[20,4,21,4],[20,10,22,11],[20,15,22,17],[20,28,22,28],[20,30,22,30],[23,1,24,1],[23,4,24,4],[23,10,25,11],[23,18,25,20],[23,28,25,28],[23,30,25,30],[23,31,25,31],[17,10,19,11],[17,12,19,14],[17,28,19,28],[17,30,19,30],[17,31,19,31],[17,32,19,32],[17,33,19,33],[20,31,22,31],[20,32,22,32],[17,40,19,40],[17,41,19,41],[17,35,19,35],[17,36,19,36],[17,37,19,37],[17,38,19,38],[17,39,19,39],[14,25,16,27],[14,28,16,28],[15,30,15,31],[15,32,15,33],[15,34,15,35],[15,36,15,37],[15,38,15,39],[15,41,16,41],[8,2,8,5],[9,2,9,5],[10,2,10,5],[11,2,11,5],[13,1,14,5],[13,12,16,14],[13,15,16,17],[13,18,16,20],[13,21,16,23],[14,10,16,11]]}
[]
[null,null,null,null,null,null,null,null,null,null,null,null,"LIGUE MÉDITERRANÉENNE DE BILLARD"]
[null,"CLUB ORGANISATEUR"]
[]
[]
[null,"DIRECTEUR DE JEU :"]
[null,null,null,null,null,null,null,null,null,null,null,null,"Compétition",null,null,null,null,"Mode de jeu",null,null,"Categorie",null,null,"Format billard",null,null,null,"Distance"]
[]
[null,"Joueur 1",{"$f":"'Saisie des joueurs'!K18","v":0}]
[null,"Joueur 2",{"$f":"'Saisie des joueurs'!K19","v":0}]
[null,"Joueur 3",{"$f":"'Saisie des joueurs'!K20","v":0}]
[null,"Joueur 4",{"$f":"'Saisie des joueurs'!K21","v":0}]
[]
[null,"SAISIE DES RESULTATS",null,null,null,null,null,null,null,null,null,null,{"$f":"C9","v":0},null,null,{"$f":"C10","v":0},null,null,{"$f":"C11","v":0},null,null,{"$f":"C12","v":0}]
[null,null,null,null,null,null,null,null,null,null,null,null,null,null,null,null,null,null,null,null,null,null,null,null,null,"TOTAUX",null,null,"CLASSEMENT"]
[null,null,null,null,null,null,null,null,null,null,null,null,null,null,null,null,null,null,null,null,null,null,null,null,null,null,null,null,null,null,"Classement",null,"Classement",null,"Classement",null,"Classement",null,"Classement",null,"GENERAL","RANG"]
[null,"POULE A",null,null,null,null,null,null,null,null,null,null,null,null,null,null,null,null,null,null,null,null,null,null,null,null,null,null,null,null,"Point-Match","CLS-M","Moy-Gen","CLS-G","Moy-Part","CLS-P","M-Series","CLS-S","MGPS","CLS","CLS"]
[null,null,null,null,null,null,null,null,null,null,{"$f":"C9","v":0},null,"L",null,null,{"$f":"D33","v":0},null,{"$f":"E33","v":0},{"$f":"D27","v":0},null,{"$f":"E27","v":0},{"$f":"D21","v":0},null,{"$f":"E21","v":0},null,{"$f":"P18+S18+V18","v":0},null,{"$f":"R18+U18+X18","v":0},{"$f":"AP18","v":{"$error":"#DIV/0!"}},null,{"$f":"AA19","v":0.03},{"$f":"RANK(AE18,AE$18:AE$29,0)","v":1},{"$f":"AB20","v":{"$error":"#DIV/0!"}},{"$f":"RANK(AG18,AG$18:AG$29,0)","v":{"$error":"#DIV/0!"}},{"$f":"MAX(R20,U20,X20)","v":{"$error":"#DIV/0!"}},{"$f":"RANK(AI18,AI$18:AI$29)","v":{"$error":"#DIV/0!"}},{"$f":"Z20","v":0},{"$f":"RANK(AK18,AK$18:AK$29)","v":1},{"$f":"(AF18*1000)+(AH18*100)+(AJ18*10)+(AL18*1)","v":{"$error":"#DIV/0!"}},{"$f":"AM18","v":{"$error":"#DIV/0!"}},{"$f":"RANK(AN18,AN$18:AN$29,1)","v":{"$error":"#DIV/0!"}},{"$f":"RANK(AO18,AO$18:AO$29,1)","v":{"$error":"#DIV/0!"}}]
[null,null,null,null,null,null,null,null,null,null,null,null,null,null,null,null,{"$f":"IF(R18<1,0.01,IF(P18>M21,2,IF(P18=M21,1,0)))","v":0.01},null,null,{"$f":"IF(U18<1,0.01,IF(S18>M24,2,IF(S18=M24,1,0)))","v":0.01},null,null,{"$f":"IF(X18<1,0.01,IF(V18>M27,2,IF(V18=M27,1,0)))","v":0.01},null,null,null,{"$f":"Q19+T19+W19","v":0.03}]
[null,null,null,"Pts","Rep","Série",null,null,null,null,null,null,null,null,null,{"$f":"F33","v":0},null,{"$f":"P18/R18","v":{"$error":"#DIV/0!"}},{"$f":"F27","v":0},null,{"$f":"S18/U18","v":{"$error":"#DIV/0!"}},{"$f":"F21","v":0},null,{"$f":"V18/X18","v":{"$error":"#DIV/0!"}},null,{"$f":"MAX(P20,S20,V20)","v":0},null,{"$f":"Z18/AB18","v":{"$error":"#DIV/0!"}}]
[null,"Tour 1",{"$f":"C9","v":0},null,null,null,null,null,null,null,{"$f":"C10","v":0},null,{"$f":"D34","v":0},null,{"$f":"E33","v":0},"M",null,null,{"$f":"D24","v":0},null,{"$f":"E24","v":0},{"$f":"D31","v":0},null,{"$f":"E30","v":0},null,{"$f":"M21+S21+V21","v":0},null,{"$f":"O21+U21+X21","v":0},{"$f":"AP21","v":{"$error":"#DIV/0!"}},null,{"$f":"AA22","v":0.03},{"$f":"RANK(AE21,AE$18:AE$29,0)","v":1},{"$f":"AB23","v":{"$error":"#DIV/0!"}},{"$f":"RANK(AG21,AG$18:AG$29,0)","v":{"$error":"#DIV/0!"}},{"$f":"MAX(O23,U23,X23)","v":{"$error":"#DIV/0!"}},{"$f":"RANK(AI21,AI$18:AI$29)","v":{"$error":"#DIV/0!"}},{"$f":"Z23","v":0},{"$f":"RANK(AK21,AK$18:AK$29)","v":1},{"$f":"(AF21*1000)+(AH21*100)+(AJ21*10)+(AL21*1)","v":{"$error":"#DIV/0!"}},{"$f":"AM21","v":{"$error":"#DIV/0!"}},{"$f":"RANK(AN21,AN$18:AN$29,1)","v":{"$error":"#DIV/0!"}},{"$f":"RANK(AO21,AO$18:AO$29,1)","v":{"$error":"#DIV/0!"}}]
[null,null,{"$f":"C12","v":0},null,null,null,null,null,null,null,null,null,null,{"$f":"IF(R18>0,2-Q19,0.01)","v":0.01},null,null,null,null,null,{"$f":"IF(U21<1,0.01,IF(S21>P24,2,IF(S21=P24,1,0)))","v":0.01},null,null,{"$f":"IF(X21<1,0.01,IF(V21>P27,2,IF(V21=P27,1,0)))","v":0.01},null,null,null,{"$f":"N22+T22+W22","v":0.03}]
[null,null,null,null,null,null,null,null,null,null,null,null,{"$f":"F34","v":0},null,{"$f":"M21/O21","v":{"$error":"#DIV/0!"}},null,null,null,{"$f":"F24","v":0},null,{"$f":"S21/U21","v":{"$error":"#DIV/0!"}},{"$f":"F31","v":0},null,{"$f":"V21/X21","v":{"$error":"#DIV/0!"}},null,{"$f":"MAXA(M23,S23,V23)","v":0},null,{"$f":"Z21/AB21","v":{"$error":"#DIV/0!"}}]
[null,"Tour 2",{"$f":"C10","v":0},null,null,null,null,null,null,null,{"$f":"C11","v":0},null,{"$f":"D28","v":0},null,{"$f":"E27","v":0},{"$f":"D25","v":0},null,{"$f":"E24","v":0},"B",null,null,{"$f":"D36","v":0},null,{"$f":"E36","v":0},null,{"$f":"M24+P24+V24","v":0},null,{"$f":"O24+R24+X24","v":0},{"$f":"AP24","v":{"$error":"#DIV/0!"}},null,{"$f":"AA25","v":0.03},{"$f":"RANK(AE24,AE$18:AE$29,0)","v":1},{"$f":"AB26","v":{"$error":"#DIV/0!"}},{"$f":"RANK(AG24,AG$18:AG$29,0)","v":{"$error":"#DIV/0!"}},{"$f":"MAX(O26,R26,X26)","v":{"$error":"#DIV/0!"}},{"$f":"RANK(AI24,AI$18:AI$29)","v":{"$error":"#DIV/0!"}},{"$f":"Z26","v":0},{"$f":"RANK(AK24,AK$18:AK$29)","v":1},{"$f":"(AF24*1000)+(AH24*100)+(AJ24*10)+(AL24*1)","v":{"$error":"#DIV/0!"}},{"$f":"AM24","v":{"$error":"#DIV/0!"}},{"$f":"RANK(AN24,AN$18:AN$29,1)","v":{"$error":"#DIV/0!"}},{"$f":"RANK(AO24,AO$18:AO$29,1)","v":{"$error":"#DIV/0!"}}]
[null,null,{"$f":"C11","v":0},null,null,null,null,null,null,null,null,null,null,{"$f":"IF(U18>0,2-T19,0.01)","v":0.01},null,null,{"$f":"IF(U21>0,2-T22,0.01)","v":0.01},null,null,null,null,null,{"$f":"IF(X24<1,0.01,IF(V24>S27,2,IF(V24=S27,1,0)))","v":0.01},null,null,null,{"$f":"N25+Q25+W25","v":0.03}]
[null,null,null,null,null,null,null,null,null,null,null,null,{"$f":"F28","v":0},null,{"$f":"M24/O24","v":{"$error":"#DIV/0!"}},{"$f":"F25","v":0},null,{"$f":"P24/R24","v":{"$error":"#DIV/0!"}},null,null,null,{"$f":"F36","v":0},null,{"$f":"V24/X24","v":{"$error":"#DIV/0!"}},null,{"$f":"MAXA(M26,P26,V26)","v":0},null,{"$f":"Z24/AB24","v":{"$error":"#DIV/0!"}}]
[null,"Tour 3",{"$f":"C9","v":0},null,null,null,null,null,null,null,{"$f":"C12","v":0},null,{"$f":"D22","v":0},null,{"$f":"E21","v":0},{"$f":"D30","v":0},null,{"$f":"E30","v":0},{"$f":"D37","v":0},null,{"$f":"E36","v":0},null,null,null,null,{"$f":"M27+P27+S27","v":0},null,{"$f":"O27+R27+U27","v":0},{"$f":"AP27","v":{"$error":"#DIV/0!"}},null,{"$f":"AA28","v":0.03},{"$f":"RANK(AE27,AE$18:AE$29,0)","v":1},{"$f":"AB29","v":{"$error":"#DIV/0!"}},{"$f":"RANK(AG27,AG$18:AG$29,0)","v":{"$error":"#DIV/0!"}},{"$f":"MAX(O29,R29,U29)","v":{"$error":"#DIV/0!"}},{"$f":"RANK(AI27,AI$18:AI$29)","v":{"$error":"#DIV/0!"}},{"$f":"Z29","v":0},{"$f":"RANK(AK27,AK$18:AK$29)","v":1},{"$f":"(AF27*1000)+(AH27*100)+(AJ27*10)+(AL27*1)","v":{"$error":"#DIV/0!"}},{"$f":"AM27","v":{"$error":"#DIV/0!"}},{"$f":"RANK(AN27,AN$18:AN$29,1)","v":{"$error":"#DIV/0!"}},{"$f":"RANK(AO27,AO$18:AO$29,1)","v":{"$error":"#DIV/0!"}}]
[null,null,{"$f":"C11","v":0},null,null,null,null,null,null,null,null,null,null,{"$f":"IF(X18>0,2-W19,0.01)","v":0.01},null,null,{"$f":"IF(X21>0,2-W22,0.01)","v":0.01},null,null,{"$f":"IF(X24>0,2-W25,0.01)","v":0.01},null,null,null,null,null,null,{"$f":"N28+Q28+T28","v":0.03}]
[null,null,null,null,null,null,null,null,null,null,null,null,{"$f":"F22","v":0},null,{"$f":"M27/O27","v":{"$error":"#DIV/0!"}},{"$f":"F30","v":0},null,{"$f":"P27/R27","v":{"$error":"#DIV/0!"}},{"$f":"F37","v":0},null,{"$f":"S27/U27","v":{"$error":"#DIV/0!"}},null,null,null,null,{"$f":"MAXA(M29,P29,S29)","v":0},null,{"$f":"Z27/AB27","v":{"$error":"#DIV/0!"}}]
[null,"Tour 4",{"$f":"C12","v":0}]
[null,null,{"$f":"C10","v":0},null,null,null,null,null,null,null,null,null,"Pas de prolongation en cas de match nul."]
[]
[null,"Tour 5",{"$f":"C9","v":0}]
[null,null,{"$f":"C10","v":0}]
[]
[null,"Tour 6",{"$f":"C11","v":0}]
[null,null,{"$f":"C12","v":0}]
[]
[null,"Joueur 1",{"$f":"'Saisie des joueurs'!K22","v":0}]
[null,"Joueur 2",{"$f":"'Saisie des joueurs'!K23","v":0}]
[null,"Joueur 3",{"$f":"'Saisie des joueurs'!K24","v":0}]
[null,"Joueur 4",{"$f":"'Saisie des joueurs'!K25","v":0}]
[]
[null,"SAISIE DES RESULTATS",null,null,null,null,null,null,null,null,null,null,{"$f":"C39","v":0},null,null,{"$f":"C40","v":0},null,null,{"$f":"C41","v":0},null,null,{"$f":"C42","v":0}]
[null,null,null,null,null,null,null,null,null,null,null,null,null,null,null,null,null,null,null,null,null,null,null,null,null,"TOTAUX",null,null,"CLASSEMENT"]
[null,null,null,null,null,null,null,null,null,null,null,null,null,null,null,null,null,null,null,null,null,null,null,null,null,null,null,null,null,null,"Classement",null,"Classement",null,"Classement",null,"Classement",null,"Classement",null,"GENERAL","RANG"]
[null,"POULE B",null,null,null,null,null,null,null,null,null,null,null,null,null,null,null,null,null,null,null,null,null,null,null,null,null,null,null,null,"Point-Match","CLS-M","Moy-Gen","CLS-G","Moy-Part","CLS-P","M-Series","CLS-S","MGPS","CLS","CLS"]
[null,null,null,null,null,null,null,null,null,null,{"$f":"C39","v":0},null,"L",null,null,{"$f":"D63","v":0},null,{"$f":"E63","v":0},{"$f":"D57","v":0},null,{"$f":"E57","v":0},{"$f":"D51","v":0},null,{"$f":"E51","v":0},null,{"$f":"P48+S48+V48","v":0},null,{"$f":"R48+U48+X48","v":0},{"$f":"AP48","v":{"$error":"#DIV/0!"}},null,{"$f":"AA49","v":0.03},{"$f":"RANK(AE48,AE$48:AE$59,0)","v":1},{"$f":"AB50","v":{"$error":"#DIV/0!"}},{"$f":"RANK(AG48,AG$48:AG$59,0)","v":{"$error":"#DIV/0!"}},{"$f":"MAX(R50,U50,X50)","v":{"$error":"#DIV/0!"}},{"$f":"RANK(AI48,AI$48:AI$59)","v":{"$error":"#DIV/0!"}},{"$f":"Z50","v":0},{"$f":"RANK(AK48,AK$48:AK$59)","v":1},{"$f":"(AF48*1000)+(AH48*100)+(AJ48*10)+(AL48*1)","v":{"$error":"#DIV/0!"}},{"$f":"AM48","v":{"$error":"#DIV/0!"}},{"$f":"RANK(AN48,AN$48:AN$59,1)","v":{"$error":"#DIV/0!"}},{"$f":"RANK(AO48,AO$48:AO$59,1)","v":{"$error":"#DIV/0!"}}]
[null,null,null,null,null,null,null,null,null,null,null,null,null,null,null,null,{"$f":"IF(R48<1,0.01,IF(P48>M51,2,IF(P48=M51,1,0)))","v":0.01},null,null,{"$f":"IF(U48<1,0.01,IF(S48>M54,2,IF(S48=M54,1,0)))","v":0.01},null,null,{"$f":"IF(X48<1,0.01,IF(V48>M57,2,IF(V48=M57,1,0)))","v":0.01},null,null,null,{"$f":"Q49+T49+W49","v":0.03}]
[null,null,null,"Pts","Rep","Série",null,null,null,null,null,null,null,null,null,{"$f":"F63","v":0},null,{"$f":"P48/R48","v":{"$error":"#DIV/0!"}},{"$f":"F57","v":0},null,{"$f":"S48/U48","v":{"$error":"#DIV/0!"}},{"$f":"F51","v":0},null,{"$f":"V48/X48","v":{"$error":"#DIV/0!"}},null,{"$f":"MAX(P50,S50,V50)","v":0},null,{"$f":"Z48/AB48","v":{"$error":"#DIV/0!"}}]
[null,"Tour 1",{"$f":"C39","v":0},null,null,null,null,null,null,null,{"$f":"C40","v":0},null,{"$f":"D64","v":0},null,{"$f":"E63","v":0},"M",null,null,{"$f":"D54","v":0},null,{"$f":"E54","v":0},{"$f":"D61","v":0},null,{"$f":"E60","v":0},null,{"$f":"M51+S51+V51","v":0},null,{"$f":"O51+U51+X51","v":0},{"$f":"AP51","v":{"$error":"#DIV/0!"}},null,{"$f":"AA52","v":0.03},{"$f":"RANK(AE51,AE$48:AE$59,0)","v":1},{"$f":"AB53","v":{"$error":"#DIV/0!"}},{"$f":"RANK(AG51,AG$48:AG$59,0)","v":{"$error":"#DIV/0!"}},{"$f":"MAX(O53,U53,X53)","v":{"$error":"#DIV/0!"}},{"$f":"RANK(AI51,AI$48:AI$59)","v":{"$error":"#DIV/0!"}},{"$f":"Z53","v":0},{"$f":"RANK(AK51,AK$48:AK$59)","v":1},{"$f":"(AF51*1000)+(AH51*100)+(AJ51*10)+(AL51*1)","v":{"$error":"#DIV/0!"}},{"$f":"AM51","v":{"$error":"#DIV/0!"}},{"$f":"RANK(AN51,AN$48:AN$59,1)","v":{"$error":"#DIV/0!"}},{"$f":"RANK(AO51,AO$48:AO$59,1)","v":{"$error":"#DIV/0!"}}]
[null,null,{"$f":"C42","v":0},null,null,null,null,null,null,null,null,null,null,{"$f":"IF(R48>0,2-Q49,0.01)","v":0.01},null,null,null,null,null,{"$f":"IF(U51<1,0.01,IF(S51>P54,2,IF(S51=P54,1,0)))","v":0.01},null,null,{"$f":"IF(X51<1,0.01,IF(V51>P57,2,IF(V51=P57,1,0)))","v":0.01},null,null,null,{"$f":"N52+T52+W52","v":0.03}]
[null,null,null,null,null,null,null,null,null,null,null,null,{"$f":"F64","v":0},null,{"$f":"M51/O51","v":{"$error":"#DIV/0!"}},null,null,null,{"$f":"F54","v":0},null,{"$f":"S51/U51","v":{"$error":"#DIV/0!"}},{"$f":"F61","v":0},null,{"$f":"V51/X51","v":{"$error":"#DIV/0!"}},null,{"$f":"MAXA(M53,S53,V53)","v":0},null,{"$f":"Z51/AB51","v":{"$error":"#DIV/0!"}}]
[null,"Tour 2",{"$f":"C40","v":0},null,null,null,null,null,null,null,{"$f":"C41","v":0},null,{"$f":"D58","v":0},null,{"$f":"E57","v":0},{"$f":"D55","v":0},null,{"$f":"E54","v":0},"B",null,null,{"$f":"D66","v":0},null,{"$f":"E66","v":0},null,{"$f":"M54+P54+V54","v":0},null,{"$f":"O54+R54+X54","v":0},{"$f":"AP54","v":{"$error":"#DIV/0!"}},null,{"$f":"AA55","v":0.03},{"$f":"RANK(AE54,AE$48:AE$59,0)","v":1},{"$f":"AB56","v":{"$error":"#DIV/0!"}},{"$f":"RANK(AG54,AG$48:AG$59,0)","v":{"$error":"#DIV/0!"}},{"$f":"MAX(O56,R56,X56)","v":{"$error":"#DIV/0!"}},{"$f":"RANK(AI54,AI$48:AI$59)","v":{"$error":"#DIV/0!"}},{"$f":"Z56","v":0},{"$f":"RANK(AK54,AK$48:AK$59)","v":1},{"$f":"(AF54*1000)+(AH54*100)+(AJ54*10)+(AL54*1)","v":{"$error":"#DIV/0!"}},{"$f":"AM54","v":{"$error":"#DIV/0!"}},{"$f":"RANK(AN54,AN$48:AN$59,1)","v":{"$error":"#DIV/0!"}},{"$f":"RANK(AO54,AO$48:AO$59,1)","v":{"$error":"#DIV/0!"}}]
[null,null,{"$f":"C41","v":0},null,null,null,null,null,null,null,null,null,null,{"$f":"IF(U48>0,2-T49,0.01)","v":0.01},null,null,{"$f":"IF(U51>0,2-T52,0.01)","v":0.01},null,null,null,null,null,{"$f":"IF(X54<1,0.01,IF(V54>S57,2,IF(V54=S57,1,0)))","v":0.01},null,null,null,{"$f":"N55+Q55+W55","v":0.03}]
[null,null,null,null,null,null,null,null,null,null,null,null,{"$f":"F58","v":0},null,{"$f":"M54/O54","v":{"$error":"#DIV/0!"}},{"$f":"F55","v":0},null,{"$f":"P54/R54","v":{"$error":"#DIV/0!"}},null,null,null,{"$f":"F66","v":0},null,{"$f":"V54/X54","v":{"$error":"#DIV/0!"}},null,{"$f":"MAXA(M56,P56,V56)","v":0},null,{"$f":"Z54/AB54","v":{"$error":"#DIV/0!"}}]
[null,"Tour 3",{"$f":"C39","v":0},null,null,null,null,null,null,null,{"$f":"C42","v":0},null,{"$f":"D52","v":0},null,{"$f":"E51","v":0},{"$f":"D60","v":0},null,{"$f":"E60","v":0},{"$f":"D67","v":0},null,{"$f":"E66","v":0},null,null,null,null,{"$f":"M57+P57+S57","v":0},null,{"$f":"O57+R57+U57","v":0},{"$f":"AP57","v":{"$error":"#DIV/0!"}},null,{"$f":"AA58","v":0.03},{"$f":"RANK(AE57,AE$48:AE$59,0)","v":1},{"$f":"AB59","v":{"$error":"#DIV/0!"}},{"$f":"RANK(AG57,AG$48:AG$59,0)","v":{"$error":"#DIV/0!"}},{"$f":"MAX(O59,R59,U59)","v":{"$error":"#DIV/0!"}},{"$f":"RANK(AI57,AI$48:AI$59)","v":{"$error":"#DIV/0!"}},{"$f":"Z59","v":0},{"$f":"RANK(AK57,AK$48:AK$59)","v":1},{"$f":"(AF57*1000)+(AH57*100)+(AJ57*10)+(AL57*1)","v":{"$error":"#DIV/0!"}},{"$f":"AM57","v":{"$error":"#DIV/0!"}},{"$f":"RANK(AN57,AN$48:AN$59,1)","v":{"$error":"#DIV/0!"}},{"$f":"RANK(AO57,AO$48:AO$59,1)","v":{"$error":"#DIV/0!"}}]
[null,null,{"$f":"C41","v":0},null,null,null,null,null,null,null,null,null,null,{"$f":"IF(X48>0,2-W49,0.01)","v":0.01},null,null,{"$f":"IF(X51>0,2-W52,0.01)","v":0.01},null,null,{"$f":"IF(X54>0,2-W55,0.01)","v":0.01},null,null,null,null,null,null,{"$f":"N58+Q58+T58","v":0.03}]
[null,null,null,null,null,null,null,null,null,null,null,null,{"$f":"F52","v":0},null,{"$f":"M57/O57","v":{"$error":"#DIV/0!"}},{"$f":"F60","v":0},null,{"$f":"P57/R57","v":{"$error":"#DIV/0!"}},{"$f":"F67","v":0},null,{"$f":"S57/U57","v":{"$error":"#DIV/0!"}},null,null,null,null,{"$f":"MAXA(M59,P59,S59)","v":0},null,{"$f":"Z57/AB57","v":{"$error":"#DIV/0!"}}]
[null,"Tour 4",{"$f":"C42","v":0}]
[null,null,{"$f":"C40","v":0},null,null,null,null,null,null,null,null,null,"Pas de prolongation en cas de match nul."]
[]
[null,"Tour 5",{"$f":"C39","v":0}]
[null,null,{"$f":"C40","v":0}]
[]
[null,"Tour 6",{"$f":"C41","v":0}]
[null,null,{"$f":"C42","v":0}]
[]
[null,"Joueur 1",{"$f":"'Saisie des joueurs'!K26","v":0}]
[null,"Joueur 2",{"$f":"'Saisie des joueurs'!K27","v":0}]
[null,"Joueur 3",{"$f":"'Saisie des joueurs'!K28","v":0}]
[null,"Joueur 4",{"$f":"'Saisie des joueurs'!K29","v":0}]
[]
[null,"SAISIE DES RESULTATS",null,null,null,null,null,null,null,null,null,null,{"$f":"C69","v":0},null,null,{"$f":"C70","v":0},null,null,{"$f":"C71","v":0},null,null,{"$f":"C72","v":0}]
[null,null,null,null,null,null,null,null,null,null,null,null,null,null,null,null,null,null,null,null,null,null,null,null,null,"TOTAUX",null,null,"CLASSEMENT"]
[null,null,null,null,null,null,null,null,null,null,null,null,null,null,null,null,null,null,null,null,null,null,null,null,null,null,null,null,null,null,"Classement",null,"Classement",null,"Classement",null,"Classement",null,"Classement",null,"GENERAL","RANG"]
[null,"POULE C",null,null,null,null,null,null,null,null,null,null,null,null,null,null,null,null,null,null,null,null,null,null,null,null,null,null,null,null,"Point-Match","CLS-M","Moy-Gen","CLS-G","Moy-Part","CLS-P","M-Series","CLS-S","MGPS","CLS","CLS"]
[null,null,null,null,null,null,null,null,null,null,{"$f":"C69","v":0},null,"L",null,null,{"$f":"D93","v":0},null,{"$f":"E93","v":0},{"$f":"D87","v":0},null,{"$f":"E87","v":0},{"$f":"D81","v":0},null,{"$f":"E81","v":0},null,{"$f":"P78+S78+V78","v":0},null,{"$f":"R78+U78+X78","v":0},{"$f":"AP78","v":{"$error":"#DIV/0!"}},null,{"$f":"AA79","v":0.03},{"$f":"RANK(AE78,AE$78:AE$89,0)","v":1},{"$f":"AB80","v":{"$error":"#DIV/0!"}},{"$f":"RANK(AG78,AG$78:AG$89,0)","v":{"$error":"#DIV/0!"}},{"$f":"MAX(R80,U80,X80)","v":{"$error":"#DIV/0!"}},{"$f":"RANK(AI78,AI$78:AI$89)","v":{"$error":"#DIV/0!"}},{"$f":"Z80","v":0},{"$f":"RANK(AK78,AK$48:AK$59)","v":1},{"$f":"(AF78*1000)+(AH78*100)+(AJ78*10)+(AL78*1)","v":{"$error":"#DIV/0!"}},{"$f":"AM78","v":{"$error":"#DIV/0!"}},{"$f":"RANK(AN78,AN$78:AN$89,1)","v":{"$error":"#DIV/0!"}},{"$f":"RANK(AO78,AO$78:AO$89,1)","v":{"$error":"#DIV/0!"}}]
[null,null,null,null,null,null,null,null,null,null,null,null,null,null,null,null,{"$f":"IF(R78<1,0.01,IF(P78>M81,2,IF(P78=M81,1,0)))","v":0.01},null,null,{"$f":"IF(U78<1,0.01,IF(S78>M84,2,IF(S78=M84,1,0)))","v":0.01},null,null,{"$f":"IF(X78<1,0.01,IF(V78>M87,2,IF(V78=M87,1,0)))","v":0.01},null,null,null,{"$f":"Q79+T79+W79","v":0.03}]
[null,null,null,null,null,null,null,null,null,null,null,null,null,null,null,{"$f":"F93","v":0},null,{"$f":"P78/R78","v":{"$error":"#DIV/0!"}},{"$f":"F87","v":0},null,{"$f":"S78/U78","v":{"$error":"#DIV/0!"}},{"$f":"F81","v":0},null,{"$f":"V78/X78","v":{"$error":"#DIV/0!"}},null,{"$f":"MAX(P80,S80,V80)","v":0},null,{"$f":"Z78/AB78","v":{"$error":"#DIV/0!"}}]
[null,"Tour 1",{"$f":"C69","v":0},null,null,null,null,null,null,null,{"$f":"C70","v":0},null,{"$f":"D94","v":0},null,{"$f":"E93","v":0},"M",null,null,{"$f":"D84","v":0},null,{"$f":"E84","v":0},{"$f":"D91","v":0},null,{"$f":"E90","v":0},null,{"$f":"M81+S81+V81","v":0},null,{"$f":"O81+U81+X81","v":0},{"$f":"AP81","v":{"$error":"#DIV/0!"}},null,{"$f":"AA82","v":0.03},{"$f":"RANK(AE81,AE$78:AE$89,0)","v":1},{"$f":"AB83","v":{"$error":"#DIV/0!"}},{"$f":"RANK(AG81,AG$78:AG$89,0)","v":{"$error":"#DIV/0!"}},{"$f":"MAX(O83,U83,X83)","v":{"$error":"#DIV/0!"}},{"$f":"RANK(AI81,AI$78:AI$89)","v":{"$error":"#DIV/0!"}},{"$f":"Z83","v":0},{"$f":"RANK(AK81,AK$48:AK$59)","v":1},{"$f":"(AF81*1000)+(AH81*100)+(AJ81*10)+(AL81*1)","v":{"$error":"#DIV/0!"}},{"$f":"AM81","v":{"$error":"#DIV/0!"}},{"$f":"RANK(AN81,AN$78:AN$89,1)","v":{"$error":"#DIV/0!"}},{"$f":"RANK(AO81,AO$78:AO$89,1)","v":{"$error":"#DIV/0!"}}]
[null,null,{"$f":"C72","v":0},null,null,null,null,null,null,null,null,null,null,{"$f":"IF(R78>0,2-Q79,0.01)","v":0.01},null,null,null,null,null,{"$f":"IF(U81<1,0.01,IF(S81>P84,2,IF(S81=P84,1,0)))","v":0.01},null,null,{"$f":"IF(X81<1,0.01,IF(V81>P87,2,IF(V81=P87,1,0)))","v":0.01},null,null,null,{"$f":"N82+T82+W82","v":0.03}]
[null,null,null,null,null,null,null,null,null,null,null,null,{"$f":"F94","v":0},null,{"$f":"M81/O81","v":{"$error":"#DIV/0!"}},null,null,null,{"$f":"F84","v":0},null,{"$f":"S81/U81","v":{"$error":"#DIV/0!"}},{"$f":"F91","v":0},null,{"$f":"V81/X81","v":{"$error":"#DIV/0!"}},null,{"$f":"MAXA(M83,S83,V83)","v":0},null,{"$f":"Z81/AB81","v":{"$error":"#DIV/0!"}}]
[null,"Tour 2",{"$f":"C70","v":0},null,null,null,null,null,null,null,{"$f":"C71","v":0},null,{"$f":"D88","v":0},null,{"$f":"E87","v":0},{"$f":"D85","v":0},null,{"$f":"E84","v":0},"B",null,null,{"$f":"D96","v":0},null,{"$f":"E96","v":0},null,{"$f":"M84+P84+V84","v":0},null,{"$f":"O84+R84+X84","v":0},{"$f":"AP84","v":{"$error":"#DIV/0!"}},null,{"$f":"AA85","v":0.03},{"$f":"RANK(AE84,AE$78:AE$89,0)","v":1},{"$f":"AB86","v":{"$error":"#DIV/0!"}},{"$f":"RANK(AG84,AG$78:AG$89,0)","v":{"$error":"#DIV/0!"}},{"$f":"MAX(O86,R86,X86)","v":{"$error":"#DIV/0!"}},{"$f":"RANK(AI84,AI$78:AI$89)","v":{"$error":"#DIV/0!"}},{"$f":"Z86","v":0},{"$f":"RANK(AK84,AK$48:AK$59)","v":1},{"$f":"(AF84*1000)+(AH84*100)+(AJ84*10)+(AL84*1)","v":{"$error":"#DIV/0!"}},{"$f":"AM84","v":{"$error":"#DIV/0!"}},{"$f":"RANK(AN84,AN$78:AN$89,1)","v":{"$error":"#DIV/0!"}},{"$f":"RANK(AO84,AO$78:AO$89,1)","v":{"$error":"#DIV/0!"}}]
[null,null,{"$f":"C71","v":0},null,null,null,null,null,null,null,null,null,null,{"$f":"IF(U78>0,2-T79,0.01)","v":0.01},null,null,{"$f":"IF(U81>0,2-T82,0.01)","v":0.01},null,null,null,null,null,{"$f":"IF(X84<1,0.01,IF(V84>S87,2,IF(V84=S87,1,0)))","v":0.01},null,null,null,{"$f":"N85+Q85+W85","v":0.03}]
[null,null,null,null,null,null,null,null,null,null,null,null,{"$f":"F88","v":0},null,{"$f":"M84/O84","v":{"$error":"#DIV/0!"}},{"$f":"F85","v":0},null,{"$f":"P84/R84","v":{"$error":"#DIV/0!"}},null,null,null,{"$f":"F96","v":0},null,{"$f":"V84/X84","v":{"$error":"#DIV/0!"}},null,{"$f":"MAXA(M86,P86,V86)","v":0},null,{"$f":"Z84/AB84","v":{"$error":"#DIV/0!"}}]
[null,"Tour 3",{"$f":"C69","v":0},null,null,null,null,null,null,null,{"$f":"C72","v":0},null,{"$f":"D82","v":0},null,{"$f":"E81","v":0},{"$f":"D90","v":0},null,{"$f":"E90","v":0},{"$f":"D97","v":0},null,{"$f":"E96","v":0},null,null,null,null,{"$f":"M87+P87+S87","v":0},null,{"$f":"O87+R87+U87","v":0},{"$f":"AP87","v":{"$error":"#DIV/0!"}},null,{"$f":"AA88","v":0.03},{"$f":"RANK(AE87,AE$78:AE$89,0)","v":1},{"$f":"AB89","v":{"$error":"#DIV/0!"}},{"$f":"RANK(AG87,AG$78:AG$89,0)","v":{"$error":"#DIV/0!"}},{"$f":"MAX(O89,R89,U89)","v":{"$error":"#DIV/0!"}},{"$f":"RANK(AI87,AI$78:AI$89)","v":{"$error":"#DIV/0!"}},{"$f":"Z89","v":0},{"$f":"RANK(AK87,AK$48:AK$59)","v":1},{"$f":"(AF87*1000)+(AH87*100)+(AJ87*10)+(AL87*1)","v":{"$error":"#DIV/0!"}},{"$f":"AM87","v":{"$error":"#DIV/0!"}},{"$f":"RANK(AN87,AN$78:AN$89,1)","v":{"$error":"#DIV/0!"}},{"$f":"RANK(AO87,AO$78:AO$89,1)","v":{"$error":"#DIV/0!"}}]
[null,null,{"$f":"C71","v":0},null,null,null,null,null,null,null,null,null,null,{"$f":"IF(X78>0,2-W79,0.01)","v":0.01},null,null,{"$f":"IF(X81>0,2-W82,0.01)","v":0.01},null,null,{"$f":"IF(X84>0,2-W85,0.01)","v":0.01},null,null,null,null,null,null,{"$f":"N88+Q88+T88","v":0.03}]
[null,null,null,null,null,null,null,null,null,null,null,null,{"$f":"F82","v":0},null,{"$f":"M87/O87","v":{"$error":"#DIV/0!"}},{"$f":"F90","v":0},null,{"$f":"P87/R87","v":{"$error":"#DIV/0!"}},{"$f":"F97","v":0},null,{"$f":"S87/U87","v":{"$error":"#DIV/0!"}},null,null,null,null,{"$f":"MAXA(M89,P89,S89)","v":0},null,{"$f":"Z87/AB87","v":{"$error":"#DIV/0!"}}]
[null,"Tour 4",{"$f":"C72","v":0}]
[null,null,{"$f":"C70","v":0},null,null,null,null,null,null,null,null,null,"Pas de prolongation en cas de match nul."]
[]
[null,"Tour 5",{"$f":"C69","v":0}]
[null,null,{"$f":"C70","v":0}]
[]
[null,"Tour 6",{"$f":"C71","v":0}]
[null,null,{"$f":"C72","v":0}]

{"sheet":"13JOUEURS_SERPENTIN","index":26,"n_rows":127,"n_cols":48,"rows_kept":127,"cut":false,"hidden":true,"merged":[[13,1,14,5],[13,12,16,14],[13,15,16,17],[13,18,16,20],[13,21,16,23],[13,24,16,26],[13,27,16,29],[46,1,47,2],[76,1,77,2],[38,2,38,5],[39,2,39,5],[40,2,40,5],[41,12,41,20],[41,21,41,29],[43,1,44,5],[43,12,46,14],[43,15,46,17],[43,18,46,20],[43,21,46,23],[43,24,46,26],[71,12,71,20],[71,21,71,29],[56,1,57,1],[50,1,51,1],[15,36,15,37],[15,38,15,39],[15,41,15,42],[15,43,15,44],[15,46,16,46],[17,10,19,11],[17,12,19,14],[17,21,19,23],[17,34,19,34],[17,36,19,36],[17,37,19,37],[17,38,19,38],[20,43,22,43],[20,44,22,44],[20,45,22,45],[20,46,22,46],[20,47,22,47],[20,41,22,41],[20,42,22,42],[17,39,19,39],[17,40,19,40],[17,41,19,41],[17,42,19,42],[17,43,19,43],[17,44,19,44],[17,45,19,45],[17,46,19,46],[17,47,19,47],[20,38,22,38],[20,39,22,39],[20,40,22,40],[32,1,33,1],[32,4,33,4],[35,1,36,1],[35,4,36,4],[23,1,24,1],[23,4,24,4],[23,10,25,11],[23,18,25,20],[23,27,25,29],[20,37,22,37],[20,1,21,1],[20,4,21,4],[20,10,22,11],[20,15,22,17],[20,24,22,26],[20,34,22,34],[20,36,22,36],[23,47,25,47],[26,1,27,1],[26,4,27,4],[27,12,27,34],[29,1,30,1],[29,4,30,4],[23,41,25,41],[23,42,25,42],[23,43,25,43],[23,44,25,44],[23,45,25,45],[23,46,25,46],[23,34,25,34],[23,36,25,36],[23,37,25,37],[23,38,25,38],[23,39,25,39],[23,40,25,40],[45,36,45,37],[45,38,45,39],[45,41,45,42],[45,43,45,44],[45,46,46,46],[47,10,49,11],[47,12,49,14],[47,21,49,23],[47,34,49,34],[47,36,49,36],[47,37,49,37],[47,38,49,38],[47,39,49,39],[47,40,49,40],[47,41,49,41],[47,42,49,42],[47,43,49,43],[47,44,49,44],[47,45,49,45],[47,46,49,46],[50,4,51,4],[50,10,52,11],[50,15,52,17],[50,24,52,26],[50,34,52,34],[43,27,46,29],[43,31,46,33],[43,34,46,34],[44,10,46,11],[50,46,52,46],[50,47,52,47],[50,45,52,45],[47,47,49,47],[50,36,52,36],[50,37,52,37],[50,38,52,38],[50,39,52,39],[50,40,52,40],[50,41,52,41],[50,42,52,42],[50,43,52,43],[50,44,52,44],[53,46,55,46],[53,47,55,47],[53,36,55,36],[53,37,55,37],[53,38,55,38],[53,39,55,39],[53,40,55,40],[53,41,55,41],[53,1,54,1],[53,4,54,4],[53,10,55,11],[53,18,55,20],[53,27,55,29],[53,34,55,34],[53,42,55,42],[53,43,55,43],[53,44,55,44],[53,45,55,45],[56,4,57,4],[57,12,57,34],[59,1,60,1],[59,4,60,4],[62,1,63,1],[62,4,63,4],[65,1,66,1],[65,4,66,4],[68,2,68,5],[69,2,69,5],[70,2,70,5],[75,43,75,44],[75,46,76,46],[77,10,79,11],[77,12,79,14],[77,21,79,23],[77,34,79,34],[77,36,79,36],[75,41,75,42],[77,45,79,45],[77,46,79,46],[73,1,74,5],[73,12,76,14],[73,15,76,17],[73,18,76,20],[73,21,76,23],[73,24,76,26],[73,27,76,29],[77,37,79,37],[77,38,79,38],[73,31,76,33],[73,34,76,34],[74,10,76,11],[75,36,75,37],[75,38,75,39],[77,39,79,39],[80,37,82,37],[80,38,82,38],[77,47,79,47],[80,1,81,1],[80,4,81,4],[80,10,82,11],[80,15,82,17],[80,24,82,26],[80,34,82,34],[80,36,82,36],[80,45,82,45],[80,46,82,46],[80,47,82,47],[80,41,82,41],[80,42,82,42],[80,39,82,39],[80,40,82,40],[77,40,79,40],[77,41,79,41],[77,42,79,42],[77,43,79,43],[77,44,79,44],[80,43,82,43],[80,44,82,44],[83,47,85,47],[86,1,87,1],[86,4,87,4],[87,12,87,34],[89,1,90,1],[89,4,90,4],[83,41,85,41],[83,42,85,42],[83,43,85,43],[83,44,85,44],[83,27,85,29],[100,2,100,5],[99,2,99,5],[83,45,85,45],[83,46,85,46],[83,34,85,34],[83,36,85,36],[83,37,85,37],[83,38,85,38],[83,39,85,39],[83,40,85,40],[92,1,93,1],[92,4,93,4],[95,1,96,1],[95,4,96,4],[98,2,98,5],[83,1,84,1],[83,4,84,4],[83,10,85,11],[83,18,85,20],[107,10,109,11],[107,12,109,14],[107,28,109,29],[107,36,109,36],[107,37,109,37],[101,2,101,5],[103,1,104,5],[103,10,106,11],[103,12,106,14],[103,15,106,17],[106,1,107,2],[107,46,109,46],[107,47,109,47],[107,41,109,41],[107,42,109,42],[107,43,109,43],[103,18,106,20],[103,21,106,23],[103,25,106,27],[103,28,106,29],[105,36,105,37],[105,38,105,39],[105,40,105,41],[105,42,105,43],[105,44,105,45],[105,47,106,47],[107,38,109,38],[107,39,109,39],[107,40,109,40],[110,43,112,43],[110,44,112,44],[110,45,112,45],[110,40,112,40],[110,41,112,41],[110,42,112,42],[107,44,109,44],[107,45,109,45],[113,45,115,45],[113,42,115,42],[113,43,115,43],[113,44,115,44],[113,46,115,46],[113,47,115,47],[110,46,112,46],[110,47,112,47],[113,1,114,1],[113,4,114,4],[113,10,115,11],[113,18,115,20],[113,28,115,29],[110,37,112,37],[110,38,112,38],[110,39,112,39],[110,1,111,1],[110,4,111,4],[110,10,112,11],[110,15,112,17],[110,28,112,29],[110,36,112,36],[113,36,115,36],[113,37,115,37],[113,38,115,38],[113,39,115,39],[113,40,115,40],[113,41,115,41],[122,1,123,1],[122,4,123,4],[125,1,126,1],[125,4,126,4],[116,43,118,43],[116,44,118,44],[116,42,118,42],[116,1,117,1],[116,4,117,4],[116,10,118,11],[116,21,118,23],[116,28,118,29],[116,36,118,36],[116,45,118,45],[116,46,118,46],[116,47,118,47],[119,1,120,1],[119,4,120,4],[116,37,118,37],[116,38,118,38],[116,39,118,39],[116,40,118,40],[116,41,118,41],[7,12,7,15],[7,17,7,18],[7,20,7,21],[7,23,7,25],[7,27,7,28],[16,1,17,2],[2,1,3,2],[2,3,3,9],[5,1,6,2],[5,3,6,9],[1,12,4,35],[6,12,6,15],[6,17,6,18],[6,20,6,21],[6,23,6,25],[6,27,6,28],[13,31,16,33],[13,34,16,34],[14,10,16,11],[8,2,8,5],[9,2,9,5],[10,2,10,5],[11,12,11,20],[11,21,11,29]]}
[]
[null,null,null,null,null,null,null,null,null,null,null,null,"LIGUE MÉDITERRANÉENNE DE BILLARD"]
[null,"CLUB ORGANISATEUR"]
[]
[]
[null,"DIRECTEUR DE JEU :"]
[null,null,null,null,null,null,null,null,null,null,null,null,"Compétition",null,null,null,null,"Mode de jeu",null,null,"Categorie",null,null,"Format billard",null,null,null,"Distance"]
[]
[null,"Joueur 1",{"$f":"'Saisie des joueurs'!K18","v":0}]
[null,"Joueur 2",{"$f":"'Saisie des joueurs'!K19","v":0}]
[null,"Joueur 3",{"$f":"'Saisie des joueurs'!K20","v":0}]
[null,null,null,null,null,null,null,null,null,null,null,null,"MATCH ALLER",null,null,null,null,null,null,null,null,"MATCH RETOUR"]
[]
[null,"SAISIE DES RESULTATS",null,null,null,null,null,null,null,null,null,null,{"$f":"C9","v":0},null,null,{"$f":"C10","v":0},null,null,{"$f":"C11","v":0},null,null,{"$f":"C9","v":0},null,null,{"$f":"C10","v":0},null,null,{"$f":"C11","v":0},null,null,null,"TOTAUX",null,null,"CLASSEMENT"]
[]
[null,null,null,null,null,null,null,null,null,null,null,null,null,null,null,null,null,null,null,null,null,null,null,null,null,null,null,null,null,null,null,null,null,null,null,null,"Classement",null,"Classement",null,"Classement","Classement",null,"Classement",null,"GENERAL","RANG"]
[null,"POULE A",null,null,null,null,null,null,null,null,null,null,null,null,null,null,null,null,null,null,null,null,null,null,null,null,null,null,null,null,null,null,null,null,null,null,"Point-Match","CLS-M","Moy-Gen","CLS-G","Moy-Part","M-Series","CLS-S","MGPS","CLS","CLS"]
[null,null,null,null,null,null,null,null,null,null,{"$f":"C9","v":0},null,"L",null,null,{"$f":"D27","v":0},null,{"$f":"E27","v":0},{"$f":"D21","v":0},null,{"$f":"E21","v":0},"L",null,null,{"$f":"D36","v":0},null,{"$f":"E36","v":0},{"$f":"D30","v":0},null,{"$f":"E30","v":0},null,{"$f":"P18+S18+Y18+AB18","v":0},null,{"$f":"R18+U18+AA18+AD18","v":0},{"$f":"AU18","v":{"$error":"#DIV/0!"}},null,{"$f":"AG19","v":0.04},{"$f":"RANK(AK18,AK$18:AK$26,0)","v":1},{"$f":"AH20","v":{"$error":"#DIV/0!"}},{"$f":"RANK(AM18,AM$18:AM$26,0)","v":{"$error":"#DIV/0!"}},{"$f":"MAX(R20,U20,AA20,AD20)","v":{"$error":"#DIV/0!"}},{"$f":"RANK(AO18,AO$18:AO$26)","v":{"$error":"#DIV/0!"}},{"$f":"AF20","v":0},{"$f":"RANK(AQ18,AQ$18:AQ$26)","v":1},{"$f":"(AL18*1000)+(AN18*100)+(AP18*10)+(AR18*1)","v":{"$error":"#DIV/0!"}},{"$f":"AS18","v":{"$error":"#DIV/0!"}},{"$f":"RANK(AT18,AT$18:AT$26,1)","v":{"$error":"#DIV/0!"}},{"$f":"RANK(AU18,AU$18:AU$26,1)","v":{"$error":"#DIV/0!"}}]
[null,null,null,null,null,null,null,null,null,null,null,null,null,null,null,null,{"$f":"IF(R18<1,0.01,IF(P18>M21,2,IF(P18=M21,1,0)))","v":0.01},null,null,{"$f":"IF(U18<1,0.01,IF(S18>M24,2,IF(S18=M24,1,0)))","v":0.01},null,null,null,null,null,{"$f":"IF(AA18<1,0.01,IF(Y18>V21,2,IF(Y18=V21,1,0)))","v":0.01},null,null,{"$f":"IF(AD18<1,0.01,IF(AB18>V24,2,IF(AB18=V24,1,0)))","v":0.01},null,null,null,{"$f":"Q19+T19+Z19+AC19","v":0.04}]
[null,null,null,null,null,null,null,null,null,null,null,null,null,null,null,{"$f":"F27","v":0},null,{"$f":"P18/R18","v":{"$error":"#DIV/0!"}},{"$f":"F21","v":0},null,{"$f":"S18/U18","v":{"$error":"#DIV/0!"}},null,null,null,{"$f":"F36","v":0},null,{"$f":"Y18/AA18","v":{"$error":"#DIV/0!"}},{"$f":"F30","v":0},null,{"$f":"AB18/AD18","v":{"$error":"#DIV/0!"}},null,{"$f":"MAX(P20,S20,Y20,AB20)","v":0},null,{"$f":"AF18/AH18","v":{"$error":"#DIV/0!"}}]
[null,"Tour 1\nMatch aller",{"$f":"C9","v":0},null,null,null,null,null,null,null,{"$f":"C10","v":0},null,{"$f":"D28","v":0},null,{"$f":"E27","v":0},"M",null,null,{"$f":"D24","v":0},null,{"$f":"E24","v":0},{"$f":"D37","v":0},null,{"$f":"E36","v":0},"M",null,null,{"$f":"D33","v":0},null,{"$f":"E33","v":0},null,{"$f":"M21+S21+V21+AB21","v":0},null,{"$f":"O21+U21+X21+AD21","v":0},{"$f":"AU21","v":{"$error":"#DIV/0!"}},null,{"$f":"AG22","v":0.04},{"$f":"RANK(AK21,AK$18:AK$26,0)","v":1},{"$f":"AH23","v":{"$error":"#DIV/0!"}},{"$f":"RANK(AM21,AM$18:AM$26,0)","v":{"$error":"#DIV/0!"}},{"$f":"MAX(R23,U23,AA23,AD23)","v":{"$error":"#DIV/0!"}},{"$f":"RANK(AO21,AO$18:AO$26)","v":{"$error":"#DIV/0!"}},{"$f":"AF23","v":0},{"$f":"RANK(AQ21,AQ$18:AQ$26)","v":1},{"$f":"(AL21*1000)+(AN21*100)+(AP21*10)+(AR21*1)","v":{"$error":"#DIV/0!"}},{"$f":"AS21","v":{"$error":"#DIV/0!"}},{"$f":"RANK(AT21,AT$18:AT$26,1)","v":{"$error":"#DIV/0!"}},{"$f":"RANK(AU21,AU$18:AU$26,1)","v":{"$error":"#DIV/0!"}}]
[null,null,{"$f":"C11","v":0},null,null,null,null,null,null,null,null,null,null,{"$f":"IF(R18>0,2-Q19,0.01)","v":0.01},null,null,null,null,null,{"$f":"IF(U21<1,0.01,IF(S21>P24,2,IF(S21=P24,1,0)))","v":0.01},null,null,{"$f":"IF(AA18>0,2-Z19,0.01)","v":0.01},null,null,null,null,null,{"$f":"IF(AD21<1,0.01,IF(AB21>Y24,2,IF(AB21=Y24,1,0)))","v":0.01},null,null,null,{"$f":"N22+T22+W22+AC22","v":0.04}]
[null,null,null,null,null,null,null,null,null,null,null,null,{"$f":"F28","v":0},null,{"$f":"M21/O21","v":{"$error":"#DIV/0!"}},null,null,null,{"$f":"F24","v":0},null,{"$f":"S21/U21","v":{"$error":"#DIV/0!"}},{"$f":"F37","v":0},null,{"$f":"V21/X21","v":{"$error":"#DIV/0!"}},null,null,null,{"$f":"F33","v":0},null,{"$f":"AB21/AD21","v":{"$error":"#DIV/0!"}},null,{"$f":"MAXA(M23,S23,V23,AB23)","v":0},null,{"$f":"AF21/AH21","v":{"$error":"#DIV/0!"}}]
[null,"Tour 2\nMatch aller",{"$f":"C10","v":0},null,null,null,null,null,null,null,{"$f":"C11","v":0},null,{"$f":"D22","v":0},null,{"$f":"E21","v":0},{"$f":"D25","v":0},null,{"$f":"E24","v":0},"B",null,null,{"$f":"D31","v":0},null,{"$f":"E30","v":0},{"$f":"D34","v":0},null,{"$f":"E33","v":0},"B",null,null,null,{"$f":"M24+P24+V24+Y24","v":0},null,{"$f":"O24+R24+X24+AA24","v":0},{"$f":"AU24","v":{"$error":"#DIV/0!"}},null,{"$f":"AG25","v":0.04},{"$f":"RANK(AK24,AK$18:AK$26,0)","v":1},{"$f":"AH26","v":{"$error":"#DIV/0!"}},{"$f":"RANK(AM24,AM$18:AM$26,0)","v":{"$error":"#DIV/0!"}},{"$f":"MAX(R26,U26,AA26,AD26)","v":{"$error":"#DIV/0!"}},{"$f":"RANK(AO24,AO$18:AO$26)","v":{"$error":"#DIV/0!"}},{"$f":"AF26","v":0},{"$f":"RANK(AQ24,AQ$18:AQ$26)","v":1},{"$f":"(AL24*1000)+(AN24*100)+(AP24*10)+(AR24*1)","v":{"$error":"#DIV/0!"}},{"$f":"AS24","v":{"$error":"#DIV/0!"}},{"$f":"RANK(AT24,AT$18:AT$26,1)","v":{"$error":"#DIV/0!"}},{"$f":"RANK(AU24,AU$18:AU$26,1)","v":{"$error":"#DIV/0!"}}]
[null,null,{"$f":"C11","v":0},null,null,null,null,null,null,null,null,null,null,{"$f":"IF(U18>0,2-T19,0.01)","v":0.01},null,null,{"$f":"IF(U21>0,2-T22,0.01)","v":0.01},null,null,null,null,null,{"$f":"IF(AD18>0,2-AC19,0.01)","v":0.01},null,null,{"$f":"IF(AD21>0,2-AC22,0.01)","v":0.01},null,null,null,null,null,null,{"$f":"N25+Q25+W25+Z25","v":0.04}]
[null,null,null,null,null,null,null,null,null,null,null,null,{"$f":"F22","v":0},null,{"$f":"M24/O24","v":{"$error":"#DIV/0!"}},{"$f":"F25","v":0},null,{"$f":"P24/R24","v":{"$error":"#DIV/0!"}},null,null,null,{"$f":"F31","v":0},null,{"$f":"V24/X24","v":{"$error":"#DIV/0!"}},{"$f":"F34","v":0},null,{"$f":"Y24/AA24","v":{"$error":"#DIV/0!"}},null,null,null,null,{"$f":"MAXA(M26,P26,V26,Y26)","v":0},null,{"$f":"AF24/AH24","v":{"$error":"#DIV/0!"}}]
[null,"Tour 3\nMatch aller",{"$f":"C9","v":0}]
[null,null,{"$f":"C10","v":0},null,null,null,null,null,null,null,null,null,"Pas de prolongation en cas de match nul."]
[]
[null,"Tour 1\nMatch retour",{"$f":"C9","v":0}]
[null,null,{"$f":"C11","v":0}]
[]
[null,"Tour 2\nMatch retour",{"$f":"C10","v":0}]
[null,null,{"$f":"C11","v":0}]
[]
[null,"Tour 3\nMatch retour",{"$f":"C9","v":0}]
[null,null,{"$f":"C10","v":0}]
[]
[null,"Joueur 1",{"$f":"'Saisie des joueurs'!K22","v":0}]
[null,"Joueur 2",{"$f":"'Saisie des joueurs'!K23","v":0}]
[null,"Joueur 3",{"$f":"'Saisie des joueurs'!K24","v":0}]
[null,null,null,null,null,null,null,null,null,null,null,null,"MATCH ALLER",null,null,null,null,null,null,null,null,"MATCH RETOUR"]
[]
[null,"SAISIE DES RESULTATS",null,null,null,null,null,null,null,null,null,null,{"$f":"C39","v":0},null,null,{"$f":"C40","v":0},null,null,{"$f":"C41","v":0},null,null,{"$f":"C39","v":0},null,null,{"$f":"C40","v":0},null,null,{"$f":"C41","v":0},null,null,null,"TOTAUX",null,null,"CLASSEMENT"]
[]
[null,null,null,null,null,null,null,null,null,null,null,null,null,null,null,null,null,null,null,null,null,null,null,null,null,null,null,null,null,null,null,null,null,null,null,null,"Classement",null,"Classement",null,"Classement","Classement",null,"Classement",null,"GENERAL","RANG"]
[null,"POULE B",null,null,null,null,null,null,null,null,null,null,null,null,null,null,null,null,null,null,null,null,null,null,null,null,null,null,null,null,null,null,null,null,null,null,"Point-Match","CLS-M","Moy-Gen","CLS-G","Moy-Part","M-Series","CLS-S","MGPS","CLS","CLS"]
[null,null,null,null,null,null,null,null,null,null,{"$f":"C39","v":0},null,"L",null,null,{"$f":"D57","v":0},null,{"$f":"E57","v":0},{"$f":"D51","v":0},null,{"$f":"E51","v":0},"L",null,null,{"$f":"D66","v":0},null,{"$f":"E66","v":0},{"$f":"D60","v":0},null,{"$f":"E60","v":0},null,{"$f":"P48+S48+Y48+AB48","v":0},null,{"$f":"R48+U48+AA48+AD48","v":0},{"$f":"AU48","v":{"$error":"#DIV/0!"}},null,{"$f":"AG49","v":0.04},{"$f":"RANK(AK48,AK$48:AK$56,0)","v":1},{"$f":"AH50","v":{"$error":"#DIV/0!"}},{"$f":"RANK(AM48,AM$48:AM$56,0)","v":{"$error":"#DIV/0!"}},{"$f":"MAX(R50,U50,AA50,AD50)","v":{"$error":"#DIV/0!"}},{"$f":"RANK(AO48,AO$48:AO$56)","v":{"$error":"#DIV/0!"}},{"$f":"AF50","v":0},{"$f":"RANK(AQ48,AQ$48:AQ$56)","v":1},{"$f":"(AL48*1000)+(AN48*100)+(AP48*10)+(AR48*1)","v":{"$error":"#DIV/0!"}},{"$f":"AS48","v":{"$error":"#DIV/0!"}},{"$f":"RANK(AT48,AT$48:AT$56,1)","v":{"$error":"#DIV/0!"}},{"$f":"RANK(AU48,AU$48:AU$56,1)","v":{"$error":"#DIV/0!"}}]
[null,null,null,null,null,null,null,null,null,null,null,null,null,null,null,null,{"$f":"IF(R48<1,0.01,IF(P48>M51,2,IF(P48=M51,1,0)))","v":0.01},null,null,{"$f":"IF(U48<1,0.01,IF(S48>M54,2,IF(S48=M54,1,0)))","v":0.01},null,null,null,null,null,{"$f":"IF(AA48<1,0.01,IF(Y48>V51,2,IF(Y48=V51,1,0)))","v":0.01},null,null,{"$f":"IF(AD48<1,0.01,IF(AB48>V54,2,IF(AB48=V54,1,0)))","v":0.01},null,null,null,{"$f":"Q49+T49+Z49+AC49","v":0.04}]
[null,null,null,null,null,null,null,null,null,null,null,null,null,null,null,{"$f":"F57","v":0},null,{"$f":"P48/R48","v":{"$error":"#DIV/0!"}},{"$f":"F51","v":0},null,{"$f":"S48/U48","v":{"$error":"#DIV/0!"}},null,null,null,{"$f":"F66","v":0},null,{"$f":"Y48/AA48","v":{"$error":"#DIV/0!"}},{"$f":"F60","v":0},null,{"$f":"AB48/AD48","v":{"$error":"#DIV/0!"}},null,{"$f":"MAX(P50,S50,Y50,AB50)","v":0},null,{"$f":"AF48/AH48","v":{"$error":"#DIV/0!"}}]
[null,"Tour 1\nMatch aller",{"$f":"C39","v":0},null,null,null,null,null,null,null,{"$f":"C40","v":0},null,{"$f":"D58","v":0},null,{"$f":"E57","v":0},"M",null,null,{"$f":"D54","v":0},null,{"$f":"E54","v":0},{"$f":"D67","v":0},null,{"$f":"E66","v":0},"M",null,null,{"$f":"D63","v":0},null,{"$f":"E63","v":0},null,{"$f":"M51+S51+V51+AB51","v":0},null,{"$f":"O51+U51+X51+AD51","v":0},{"$f":"AU51","v":{"$error":"#DIV/0!"}},null,{"$f":"AG52","v":0.04},{"$f":"RANK(AK51,AK$48:AK$56,0)","v":1},{"$f":"AH53","v":{"$error":"#DIV/0!"}},{"$f":"RANK(AM51,AM$48:AM$56,0)","v":{"$error":"#DIV/0!"}},{"$f":"MAX(O53,U53,X53,AD53)","v":{"$error":"#DIV/0!"}},{"$f":"RANK(AO51,AO$48:AO$56)","v":{"$error":"#DIV/0!"}},{"$f":"AF53","v":0},{"$f":"RANK(AQ51,AQ$48:AQ$56)","v":1},{"$f":"(AL51*1000)+(AN51*100)+(AP51*10)+(AR51*1)","v":{"$error":"#DIV/0!"}},{"$f":"AS51","v":{"$error":"#DIV/0!"}},{"$f":"RANK(AT51,AT$48:AT$56,1)","v":{"$error":"#DIV/0!"}},{"$f":"RANK(AU51,AU$48:AU$56,1)","v":{"$error":"#DIV/0!"}}]
[null,null,{"$f":"C41","v":0},null,null,null,null,null,null,null,null,null,null,{"$f":"IF(R48>0,2-Q49,0.01)","v":0.01},null,null,null,null,null,{"$f":"IF(U51<1,0.01,IF(S51>P54,2,IF(S51=P54,1,0)))","v":0.01},null,null,{"$f":"IF(AA48>0,2-Z49,0.01)","v":0.01},null,null,null,null,null,{"$f":"IF(AD51<1,0.01,IF(AB51>Y54,2,IF(AB51=Y54,1,0)))","v":0.01},null,null,null,{"$f":"N52+T52+W52+AC52","v":0.04}]
[null,null,null,null,null,null,null,null,null,null,null,null,{"$f":"F58","v":0},null,{"$f":"M51/O51","v":{"$error":"#DIV/0!"}},null,null,null,{"$f":"F54","v":0},null,{"$f":"S51/U51","v":{"$error":"#DIV/0!"}},{"$f":"F67","v":0},null,{"$f":"V51/X51","v":{"$error":"#DIV/0!"}},null,null,null,{"$f":"F63","v":0},null,{"$f":"AB51/AD51","v":{"$error":"#DIV/0!"}},null,{"$f":"MAXA(M53,S53,V53,AB53)","v":0},null,{"$f":"AF51/AH51","v":{"$error":"#DIV/0!"}}]
[null,"Tour 2\nMatch aller",{"$f":"C40","v":0},null,null,null,null,null,null,null,{"$f":"C41","v":0},null,{"$f":"D52","v":0},null,{"$f":"E51","v":0},{"$f":"D55","v":0},null,{"$f":"E54","v":0},"B",null,null,{"$f":"D61","v":0},null,{"$f":"E60","v":0},{"$f":"D64","v":0},null,{"$f":"E63","v":0},"B",null,null,null,{"$f":"M54+P54+V54+Y54","v":0},null,{"$f":"O54+R54+X54+AA54","v":0},{"$f":"AU54","v":{"$error":"#DIV/0!"}},null,{"$f":"AG55","v":0.04},{"$f":"RANK(AK54,AK$48:AK$56,0)","v":1},{"$f":"AH56","v":{"$error":"#DIV/0!"}},{"$f":"RANK(AM54,AM$48:AM$56,0)","v":{"$error":"#DIV/0!"}},{"$f":"MAX(O56,R56,X56,AA56)","v":{"$error":"#DIV/0!"}},{"$f":"RANK(AO54,AO$48:AO$56)","v":{"$error":"#DIV/0!"}},{"$f":"AF56","v":0},{"$f":"RANK(AQ54,AQ$48:AQ$56)","v":1},{"$f":"(AL54*1000)+(AN54*100)+(AP54*10)+(AR54*1)","v":{"$error":"#DIV/0!"}},{"$f":"AS54","v":{"$error":"#DIV/0!"}},{"$f":"RANK(AT54,AT$48:AT$56,1)","v":{"$error":"#DIV/0!"}},{"$f":"RANK(AU54,AU$48:AU$56,1)","v":{"$error":"#DIV/0!"}}]
[null,null,{"$f":"C41","v":0},null,null,null,null,null,null,null,null,null,null,{"$f":"IF(U48>0,2-T49,0.01)","v":0.01},null,null,{"$f":"IF(U51>0,2-T52,0.01)","v":0.01},null,null,null,null,null,{"$f":"IF(AD48>0,2-AC49,0.01)","v":0.01},null,null,{"$f":"IF(AD51>0,2-AC52,0.01)","v":0.01},null,null,null,null,null,null,{"$f":"N55+Q55+W55+Z55","v":0.04}]
[null,null,null,null,null,null,null,null,null,null,null,null,{"$f":"F52","v":0},null,{"$f":"M54/O54","v":{"$error":"#DIV/0!"}},{"$f":"F55","v":0},null,{"$f":"P54/R54","v":{"$error":"#DIV/0!"}},null,null,null,{"$f":"F61","v":0},null,{"$f":"V54/X54","v":{"$error":"#DIV/0!"}},{"$f":"F64","v":0},null,{"$f":"Y54/AA54","v":{"$error":"#DIV/0!"}},null,null,null,null,{"$f":"MAXA(M56,P56,V56,Y56)","v":0},null,{"$f":"AF54/AH54","v":{"$error":"#DIV/0!"}}]
[null,"Tour 3\nMatch aller",{"$f":"C39","v":0}]
[null,null,{"$f":"C40","v":0},null,null,null,null,null,null,null,null,null,"Pas de prolongation en cas de match nul."]
[]
[null,"Tour 1\nMatch retour",{"$f":"C39","v":0}]
[null,null,{"$f":"C41","v":0}]
[]
[null,"Tour 2\nMatch retour",{"$f":"C40","v":0}]
[null,null,{"$f":"C41","v":0}]
[]
[null,"Tour 3\nMatch retour",{"$f":"C39","v":0}]
[null,null,{"$f":"C40","v":0}]
[]
[null,"Joueur 1",{"$f":"'Saisie des joueurs'!K26","v":0}]
[null,"Joueur 2",{"$f":"'Saisie des joueurs'!K27","v":0}]
[null,"Joueur 3",{"$f":"'Saisie des joueurs'!K28","v":0}]
[null,null,null,null,null,null,null,null,null,null,null,null,"MATCH ALLER",null,null,null,null,null,null,null,null,"MATCH RETOUR"]
[]
[null,"SAISIE DES RESULTATS",null,null,null,null,null,null,null,null,null,null,{"$f":"C69","v":0},null,null,{"$f":"C70","v":0},null,null,{"$f":"C71","v":0},null,null,{"$f":"C69","v":0},null,null,{"$f":"C70","v":0},null,null,{"$f":"C71","v":0},null,null,null,"TOTAUX",null,null,"CLASSEMENT"]
[]
[null,null,null,null,null,null,null,null,null,null,null,null,null,null,null,null,null,null,null,null,null,null,null,null,null,null,null,null,null,null,null,null,null,null,null,null,"Classement",null,"Classement",null,"Classement","Classement",null,"Classement",null,"GENERAL","RANG"]
[null,"POULE C",null,null,null,null,null,null,null,null,null,null,null,null,null,null,null,null,null,null,null,null,null,null,null,null,null,null,null,null,null,null,null,null,null,null,"Point-Match","CLS-M","Moy-Gen","CLS-G","Moy-Part","M-Series","CLS-S","MGPS","CLS","CLS"]
[null,null,null,null,null,null,null,null,null,null,{"$f":"C69","v":0},null,"L",null,null,{"$f":"D87","v":0},null,{"$f":"E87","v":0},{"$f":"D81","v":0},null,{"$f":"E81","v":0},"L",null,null,{"$f":"D96","v":0},null,{"$f":"E96","v":0},{"$f":"D90","v":0},null,{"$f":"E90","v":0},null,{"$f":"P78+S78+Y78+AB78","v":0},null,{"$f":"R78+U78+AA78+AD78","v":0},{"$f":"AU78","v":{"$error":"#DIV/0!"}},null,{"$f":"AG79","v":0.04},{"$f":"RANK(AK78,AK$78:AK$86,0)","v":1},{"$f":"AH80","v":{"$error":"#DIV/0!"}},{"$f":"RANK(AM78,AM$78:AM$86,0)","v":{"$error":"#DIV/0!"}},{"$f":"MAX(R80,U80,AA80,AD80)","v":{"$error":"#DIV/0!"}},{"$f":"RANK(AO78,AO$78:AO$86)","v":{"$error":"#DIV/0!"}},{"$f":"AF80","v":0},{"$f":"RANK(AQ78,AQ$78:AQ$86)","v":1},{"$f":"(AL78*1000)+(AN78*100)+(AP78*10)+(AR78*1)","v":{"$error":"#DIV/0!"}},{"$f":"AS78","v":{"$error":"#DIV/0!"}},{"$f":"RANK(AT78,AT78:AT$86,1)","v":{"$error":"#DIV/0!"}},{"$f":"RANK(AU78,AU$78:AU$86,1)","v":{"$error":"#DIV/0!"}}]
[null,null,null,null,null,null,null,null,null,null,null,null,null,null,null,null,{"$f":"IF(R78<1,0.01,IF(P78>M81,2,IF(P78=M81,1,0)))","v":0.01},null,null,{"$f":"IF(U78<1,0.01,IF(S78>M84,2,IF(S78=M84,1,0)))","v":0.01},null,null,null,null,null,{"$f":"IF(AA78<1,0.01,IF(Y78>V81,2,IF(Y78=V81,1,0)))","v":0.01},null,null,{"$f":"IF(AD78<1,0.01,IF(AB78>V84,2,IF(AB78=V84,1,0)))","v":0.01},null,null,null,{"$f":"Q79+T79+Z79+AC79","v":0.04}]
[null,null,null,null,null,null,null,null,null,null,null,null,null,null,null,{"$f":"F87","v":0},null,{"$f":"P78/R78","v":{"$error":"#DIV/0!"}},{"$f":"F81","v":0},null,{"$f":"S78/U78","v":{"$error":"#DIV/0!"}},null,null,null,{"$f":"F96","v":0},null,{"$f":"Y78/AA78","v":{"$error":"#DIV/0!"}},{"$f":"F90","v":0},null,{"$f":"AB78/AD78","v":{"$error":"#DIV/0!"}},null,{"$f":"MAX(P80,S80,Y80,AB80)","v":0},null,{"$f":"AF78/AH78","v":{"$error":"#DIV/0!"}}]
[null,"Tour 1\nMatch aller",{"$f":"C69","v":0},null,null,null,null,null,null,null,{"$f":"C70","v":0},null,{"$f":"D88","v":0},null,{"$f":"E87","v":0},"M",null,null,{"$f":"D84","v":0},null,{"$f":"E84","v":0},{"$f":"D97","v":0},null,{"$f":"E96","v":0},"M",null,null,{"$f":"D93","v":0},null,{"$f":"E93","v":0},null,{"$f":"M81+S81+V81+AB81","v":0},null,{"$f":"O81+U81+X81+AD81","v":0},{"$f":"AU81","v":{"$error":"#DIV/0!"}},null,{"$f":"AG82","v":0.04},{"$f":"RANK(AK81,AK$78:AK$86,0)","v":1},{"$f":"AH83","v":{"$error":"#DIV/0!"}},{"$f":"RANK(AM81,AM$78:AM$86,0)","v":{"$error":"#DIV/0!"}},{"$f":"MAX(O83,U83,X83,AD83)","v":{"$error":"#DIV/0!"}},{"$f":"RANK(AO81,AO$78:AO$86)","v":{"$error":"#DIV/0!"}},{"$f":"AF83","v":0},{"$f":"RANK(AQ81,AQ$78:AQ$86)","v":1},{"$f":"(AL81*1000)+(AN81*100)+(AP81*10)+(AR81*1)","v":{"$error":"#DIV/0!"}},{"$f":"AS81","v":{"$error":"#DIV/0!"}},{"$f":"RANK(AT81,AT81:AT$86,1)","v":{"$error":"#DIV/0!"}},{"$f":"RANK(AU81,AU$78:AU$86,1)","v":{"$error":"#DIV/0!"}}]
[null,null,{"$f":"C71","v":0},null,null,null,null,null,null,null,null,null,null,{"$f":"IF(R78>0,2-Q79,0.01)","v":0.01},null,null,null,null,null,{"$f":"IF(U81<1,0.01,IF(S81>P84,2,IF(S81=P84,1,0)))","v":0.01},null,null,{"$f":"IF(AA78>0,2-Z79,0.01)","v":0.01},null,null,null,null,null,{"$f":"IF(AD81<1,0.01,IF(AB81>Y84,2,IF(AB81=Y84,1,0)))","v":0.01},null,null,null,{"$f":"N82+T82+W82+AC82","v":0.04}]
[null,null,null,null,null,null,null,null,null,null,null,null,{"$f":"F88","v":0},null,{"$f":"M81/O81","v":{"$error":"#DIV/0!"}},null,null,null,{"$f":"F84","v":0},null,{"$f":"S81/U81","v":{"$error":"#DIV/0!"}},{"$f":"F97","v":0},null,{"$f":"V81/X81","v":{"$error":"#DIV/0!"}},null,null,null,{"$f":"F93","v":0},null,{"$f":"AB81/AD81","v":{"$error":"#DIV/0!"}},null,{"$f":"MAXA(M83,S83,V83,AB83)","v":0},null,{"$f":"AF81/AH81","v":{"$error":"#DIV/0!"}}]
[null,"Tour 2\nMatch aller",{"$f":"C70","v":0},null,null,null,null,null,null,null,{"$f":"C71","v":0},null,{"$f":"D82","v":0},null,{"$f":"E81","v":0},{"$f":"D85","v":0},null,{"$f":"E84","v":0},"B",null,null,{"$f":"D91","v":0},null,{"$f":"E90","v":0},{"$f":"D94","v":0},null,{"$f":"E93","v":0},"B",null,null,null,{"$f":"M84+P84+V84+Y84","v":0},null,{"$f":"O84+R84+X84+AA84","v":0},{"$f":"AU84","v":{"$error":"#DIV/0!"}},null,{"$f":"AG85","v":0.04},{"$f":"RANK(AK84,AK$78:AK$86,0)","v":1},{"$f":"AH86","v":{"$error":"#DIV/0!"}},{"$f":"RANK(AM84,AM$78:AM$86,0)","v":{"$error":"#DIV/0!"}},{"$f":"MAX(O86,R86,X86,AA86)","v":{"$error":"#DIV/0!"}},{"$f":"RANK(AO84,AO$78:AO$86)","v":{"$error":"#DIV/0!"}},{"$f":"AF86","v":0},{"$f":"RANK(AQ84,AQ$78:AQ$86)","v":1},{"$f":"(AL84*1000)+(AN84*100)+(AP84*10)+(AR84*1)","v":{"$error":"#DIV/0!"}},{"$f":"AS84","v":{"$error":"#DIV/0!"}},{"$f":"RANK(AT84,AT84:AT$86,1)","v":{"$error":"#DIV/0!"}},{"$f":"RANK(AU84,AU$78:AU$86,1)","v":{"$error":"#DIV/0!"}}]
[null,null,{"$f":"C71","v":0},null,null,null,null,null,null,null,null,null,null,{"$f":"IF(U78>0,2-T79,0.01)","v":0.01},null,null,{"$f":"IF(U81>0,2-T82,0.01)","v":0.01},null,null,null,null,null,{"$f":"IF(AD78>0,2-AC79,0.01)","v":0.01},null,null,{"$f":"IF(AD81>0,2-AC82,0.01)","v":0.01},null,null,null,null,null,null,{"$f":"N85+Q85+W85+Z85","v":0.04}]
[null,null,null,null,null,null,null,null,null,null,null,null,{"$f":"F82","v":0},null,{"$f":"M84/O84","v":{"$error":"#DIV/0!"}},{"$f":"F85","v":0},null,{"$f":"P84/R84","v":{"$error":"#DIV/0!"}},null,null,null,{"$f":"F91","v":0},null,{"$f":"V84/X84","v":{"$error":"#DIV/0!"}},{"$f":"F94","v":0},null,{"$f":"Y84/AA84","v":{"$error":"#DIV/0!"}},null,null,null,null,{"$f":"MAXA(M86,P86,V86,Y86)","v":0},null,{"$f":"AF84/AH84","v":{"$error":"#DIV/0!"}}]
[null,"Tour 3\nMatch aller",{"$f":"C69","v":0}]
[null,null,{"$f":"C70","v":0},null,null,null,null,null,null,null,null,null,"Pas de prolongation en cas de match nul."]
[]
[null,"Tour 1\nMatch retour",{"$f":"C69","v":0}]
[null,null,{"$f":"C71","v":0}]
[]
[null,"Tour 2\nMatch retour",{"$f":"C70","v":0}]
[null,null,{"$f":"C71","v":0}]
[]
[null,"Tour 3\nMatch retour",{"$f":"C69","v":0}]
[null,null,{"$f":"C70","v":0}]
[]
[null,"Joueur 1",{"$f":"'Saisie des joueurs'!K30","v":0}]
[null,"Joueur 2",{"$f":"'Saisie des joueurs'!K31","v":0}]
[null,"Joueur 3",{"$f":"'Saisie des joueurs'!K32","v":0}]
[null,"Joueur 4",{"$f":"'Saisie des joueurs'!K33","v":0}]
[]
[null,"SAISIE DES RESULTATS",null,null,null,null,null,null,null,null,null,null,{"$f":"C99","v":0},null,null,{"$f":"C100","v":0},null,null,{"$f":"C101","v":0},null,null,{"$f":"C102","v":0},null,null,null,"TOTAUX",null,null,"CLASSEMENT"]
[]
[null,null,null,null,null,null,null,null,null,null,null,null,null,null,null,null,null,null,null,null,null,null,null,null,null,null,null,null,null,null,null,null,null,null,null,null,"Classement",null,"Classement",null,"Classement",null,"Classement",null,"Classement",null,"GENERAL","RANG"]
[null,"POULE D",null,null,null,null,null,null,null,null,null,null,null,null,null,null,null,null,null,null,null,null,null,null,null,null,null,null,null,null,null,null,null,null,null,null,"Point-Match","CLS-M","Moy-Gen","CLS-G","Moy-Part","CLS-P","M-Series","CLS-S","MGPS","CLS","CLS"]
[null,null,null,null,null,null,null,null,null,null,{"$f":"C99","v":0},null,"L",null,null,{"$f":"D123","v":0},null,{"$f":"E123","v":0},{"$f":"D117","v":0},null,{"$f":"E117","v":0},{"$f":"D111","v":0},null,{"$f":"E111","v":0},null,{"$f":"P108+S108+V108","v":0},null,{"$f":"R108+U108+X108","v":0},{"$f":"AV108","v":{"$error":"#DIV/0!"}},null,null,null,null,null,null,null,{"$f":"AA109","v":0.03},{"$f":"RANK(AK108,AK$108:AK$119,0)","v":1},{"$f":"AB110","v":{"$error":"#DIV/0!"}},{"$f":"RANK(AM108,AM$108:AM$119,0)","v":{"$error":"#DIV/0!"}},{"$f":"MAX(R110,U110,X110)","v":{"$error":"#DIV/0!"}},{"$f":"RANK(AO108,AO$108:AO$119)","v":{"$error":"#DIV/0!"}},{"$f":"Z110","v":0},{"$f":"RANK(AQ108,AQ$108:AQ$119)","v":1},{"$f":"(AL108*1000)+(AN108*100)+(AP108*10)+(AR108*1)","v":{"$error":"#DIV/0!"}},{"$f":"AS108","v":{"$error":"#DIV/0!"}},{"$f":"RANK(AT108,AT$108:AT$119,1)","v":{"$error":"#DIV/0!"}},{"$f":"RANK(AU108,AU$108:AU$119,1)","v":{"$error":"#DIV/0!"}}]
[null,null,null,null,null,null,null,null,null,null,null,null,null,null,null,null,{"$f":"IF(R108<1,0.01,IF(P108>M111,2,IF(P108=M111,1,0)))","v":0.01},null,null,{"$f":"IF(U108<1,0.01,IF(S108>M114,2,IF(S108=M114,1,0)))","v":0.01},null,null,{"$f":"IF(X108<1,0.01,IF(V108>M117,2,IF(V108=M117,1,0)))","v":0.01},null,null,null,{"$f":"W109+T109+Q109","v":0.03}]
[null,null,null,null,null,null,null,null,null,null,null,null,null,null,null,{"$f":"F123","v":0},null,{"$f":"P108/R108","v":{"$error":"#DIV/0!"}},{"$f":"F117","v":0},null,{"$f":"S108/U108","v":{"$error":"#DIV/0!"}},{"$f":"F111","v":0},null,{"$f":"V108/X108","v":{"$error":"#DIV/0!"}},null,{"$f":"MAX(V110,S110,P110)","v":0},null,{"$f":"Z108/AB108","v":{"$error":"#DIV/0!"}}]
[null,"Tour 1",{"$f":"C99","v":0},null,null,null,null,null,null,null,{"$f":"C100","v":0},null,{"$f":"D124","v":0},null,{"$f":"E123","v":0},"M",null,null,{"$f":"D114","v":0},null,{"$f":"E114","v":0},{"$f":"D121","v":0},null,{"$f":"E120","v":0},null,{"$f":"M111+S111+V111","v":0},null,{"$f":"O111+U111+X111","v":0},{"$f":"AV111","v":{"$error":"#DIV/0!"}},null,null,null,null,null,null,null,{"$f":"AA112","v":0.03},{"$f":"RANK(AK111,AK$108:AK$119,0)","v":1},{"$f":"AB113","v":{"$error":"#DIV/0!"}},{"$f":"RANK(AM111,AM$108:AM$119,0)","v":{"$error":"#DIV/0!"}},{"$f":"MAX(R113,U113,X113)","v":{"$error":"#DIV/0!"}},{"$f":"RANK(AO111,AO$108:AO$119)","v":{"$error":"#DIV/0!"}},{"$f":"Z113","v":0},{"$f":"RANK(AQ111,AQ$108:AQ$119)","v":1},{"$f":"(AL111*1000)+(AN111*100)+(AP111*10)+(AR111*1)","v":{"$error":"#DIV/0!"}},{"$f":"AS111","v":{"$error":"#DIV/0!"}},{"$f":"RANK(AT111,AT$108:AT$119,1)","v":{"$error":"#DIV/0!"}},{"$f":"RANK(AU111,AU$108:AU$119,1)","v":{"$error":"#DIV/0!"}}]
[null,null,{"$f":"C102","v":0},null,null,null,null,null,null,null,null,null,null,{"$f":"IF(R108>0,2-Q109,0.01)","v":0.01},null,null,null,null,null,{"$f":"IF(U111<1,0.01,IF(S111>P114,2,IF(S111=P114,1,0)))","v":0.01},null,null,{"$f":"IF(X111<1,0.01,IF(V111>P117,2,IF(V111=P117,1,0)))","v":0.01},null,null,null,{"$f":"N112+T112+W112","v":0.03}]
[null,null,null,null,null,null,null,null,null,null,null,null,{"$f":"F124","v":0},null,{"$f":"M111/O111","v":{"$error":"#DIV/0!"}},null,null,null,{"$f":"F114","v":0},null,{"$f":"S111/U111","v":{"$error":"#DIV/0!"}},{"$f":"F121","v":0},null,{"$f":"V111/X111","v":{"$error":"#DIV/0!"}},null,{"$f":"MAXA(S113,V113,M113)","v":0},null,{"$f":"Z111/AB111","v":{"$error":"#DIV/0!"}}]
[null,"Tour 2",{"$f":"C100","v":0},null,null,null,null,null,null,null,{"$f":"C101","v":0},null,{"$f":"D118","v":0},null,{"$f":"E117","v":0},{"$f":"D115","v":0},null,{"$f":"E114","v":0},"B",null,null,{"$f":"D126","v":0},null,{"$f":"E126","v":0},null,{"$f":"M114+P114+V114","v":0},null,{"$f":"O114+U114+X114","v":0},{"$f":"AV114","v":{"$error":"#DIV/0!"}},null,null,null,null,null,null,null,{"$f":"AA115","v":0.02},{"$f":"RANK(AK114,AK$108:AK$119,0)","v":4},{"$f":"AB116","v":{"$error":"#DIV/0!"}},{"$f":"RANK(AM114,AM$108:AM$119,0)","v":{"$error":"#DIV/0!"}},{"$f":"MAX(R116,U116,X116)","v":{"$error":"#DIV/0!"}},{"$f":"RANK(AO114,AO$108:AO$119)","v":{"$error":"#DIV/0!"}},{"$f":"Z116","v":0},{"$f":"RANK(AQ114,AQ$108:AQ$119)","v":1},{"$f":"(AL114*1000)+(AN114*100)+(AP114*10)+(AR114*1)","v":{"$error":"#DIV/0!"}},{"$f":"AS114","v":{"$error":"#DIV/0!"}},{"$f":"RANK(AT114,AT$108:AT$119,1)","v":{"$error":"#DIV/0!"}},{"$f":"RANK(AU114,AU$108:AU$119,1)","v":{"$error":"#DIV/0!"}}]
[null,null,{"$f":"C101","v":0},null,null,null,null,null,null,null,null,null,null,{"$f":"IF(U108>0,2-T109,0.01)","v":0.01},null,null,{"$f":"IF(U111>0,2-T112,0.01)","v":0.01},null,null,null,null,null,{"$f":"IF(X114<1,0.01,IF(V114>S117,2,IF(V114=S117,1,0)))","v":0.01},null,null,null,{"$f":"N115+T115+W115","v":0.02}]
[null,null,null,null,null,null,null,null,null,null,null,null,{"$f":"F118","v":0},null,{"$f":"M114/O114","v":{"$error":"#DIV/0!"}},{"$f":"F115","v":0},null,{"$f":"P114/R114","v":{"$error":"#DIV/0!"}},null,null,null,{"$f":"F126","v":0},null,{"$f":"V114/X114","v":{"$error":"#DIV/0!"}},null,{"$f":"MAXA(V116,P116,M116)","v":0},null,{"$f":"Z114/AB114","v":{"$error":"#DIV/0!"}}]
[null,"Tour 3",{"$f":"C99","v":0},null,null,null,null,null,null,null,{"$f":"C102","v":0},null,{"$f":"D112","v":0},null,{"$f":"E111","v":0},{"$f":"D120","v":0},null,{"$f":"E120","v":0},{"$f":"D127","v":0},null,{"$f":"E126","v":0},null,null,null,null,{"$f":"S117+V117+Y117","v":0},null,{"$f":"U117+R117+O117","v":0},{"$f":"AV117","v":{"$error":"#DIV/0!"}},null,null,null,null,null,null,null,{"$f":"AA118","v":0.03},{"$f":"RANK(AK117,AK$108:AK$119,0)","v":1},{"$f":"AB119","v":{"$error":"#DIV/0!"}},{"$f":"RANK(AM117,AM$108:AM$119,0)","v":{"$error":"#DIV/0!"}},{"$f":"MAX(R119,U119,X119)","v":{"$error":"#DIV/0!"}},{"$f":"RANK(AO117,AO$108:AO$119)","v":{"$error":"#DIV/0!"}},{"$f":"Z119","v":0},{"$f":"RANK(AQ117,AQ$108:AQ$119)","v":1},{"$f":"(AL117*1000)+(AN117*100)+(AP117*10)+(AR117*1)","v":{"$error":"#DIV/0!"}},{"$f":"AS117","v":{"$error":"#DIV/0!"}},{"$f":"RANK(AT117,AT$108:AT$119,1)","v":{"$error":"#DIV/0!"}},{"$f":"RANK(AU117,AU$108:AU$119,1)","v":{"$error":"#DIV/0!"}}]
[null,null,{"$f":"C101","v":0},null,null,null,null,null,null,null,null,null,null,{"$f":"IF(X108>0,2-W109,0.01)","v":0.01},null,null,{"$f":"IF(X111>0,2-W112,0.01)","v":0.01},null,null,{"$f":"IF(X114>0,2-W115,0.01)","v":0.01},null,null,null,null,null,null,{"$f":"N118+Q118+T118","v":0.03}]
[null,null,null,null,null,null,null,null,null,null,null,null,{"$f":"F112","v":0},null,{"$f":"M117/O117","v":{"$error":"#DIV/0!"}},{"$f":"F120","v":0},null,{"$f":"P117/R117","v":{"$error":"#DIV/0!"}},{"$f":"F127","v":0},null,{"$f":"S117/U117","v":{"$error":"#DIV/0!"}},null,null,null,null,{"$f":"MAXA(S119,V119,Y119)","v":0},null,{"$f":"Z117/AB117","v":{"$error":"#DIV/0!"}}]
[null,"Tour 4",{"$f":"C102","v":0}]
[null,null,{"$f":"C100","v":0}]
[]
[null,"Tour 5",{"$f":"C99","v":0}]
[null,null,{"$f":"C100","v":0}]
[]
[null,"Tour 6",{"$f":"C101","v":0}]
[null,null,{"$f":"C102","v":0}]

{"sheet":"14JOUEURS_SERPENTIN","index":27,"n_rows":127,"n_cols":48,"rows_kept":127,"cut":false,"hidden":true,"merged":[[7,12,7,15],[7,17,7,18],[7,20,7,21],[7,23,7,25],[7,27,7,28],[15,1,16,2],[10,2,10,5],[2,1,3,2],[2,3,3,9],[5,1,6,2],[5,3,6,9],[1,12,4,35],[6,12,6,15],[6,17,6,18],[6,20,6,21],[6,23,6,25],[6,27,6,28],[12,27,15,29],[8,2,8,5],[9,2,9,5],[10,21,10,29],[10,12,10,20],[12,1,13,5],[12,12,15,14],[110,47,112,47],[113,36,115,36],[113,37,115,37],[110,39,112,39],[110,1,111,1],[110,4,111,4],[116,47,118,47],[119,1,120,1],[119,4,120,4],[116,38,118,38],[116,39,118,39],[116,40,118,40],[116,41,118,41],[116,42,118,42],[113,38,115,38],[113,47,115,47],[113,41,115,41],[113,42,115,42],[113,43,115,43],[113,44,115,44],[110,10,112,11],[110,15,112,17],[110,28,112,29],[110,36,112,36],[122,1,123,1],[113,46,115,46],[122,4,123,4],[113,39,115,39],[113,40,115,40],[116,45,118,45],[116,46,118,46],[125,1,126,1],[125,4,126,4],[116,44,118,44],[116,1,117,1],[116,4,117,4],[116,10,118,11],[116,21,118,23],[116,28,118,29],[116,36,118,36],[116,37,118,37],[116,43,118,43],[113,45,115,45],[113,1,114,1],[113,4,114,4],[113,10,115,11],[113,18,115,20],[113,28,115,29],[110,37,112,37],[110,38,112,38],[110,41,112,41],[110,40,112,40],[110,46,112,46],[110,42,112,42],[110,43,112,43],[110,44,112,44],[110,45,112,45],[105,47,106,47],[107,10,109,11],[107,12,109,14],[107,28,109,29],[107,36,109,36],[107,37,109,37],[107,38,109,38],[107,39,109,39],[107,47,109,47],[107,41,109,41],[107,40,109,40],[107,42,109,42],[107,43,109,43],[107,44,109,44],[107,45,109,45],[107,46,109,46],[98,2,98,5],[99,2,99,5],[100,2,100,5],[101,2,101,5],[103,1,104,5],[105,44,105,45],[103,10,106,11],[103,12,106,14],[103,15,106,17],[103,18,106,20],[103,21,106,23],[103,25,106,27],[103,28,106,29],[105,36,105,37],[105,38,105,39],[105,40,105,41],[105,42,105,43],[106,1,107,2],[86,40,88,40],[86,41,88,41],[86,42,88,42],[92,1,93,1],[92,4,93,4],[95,1,96,1],[95,4,96,4],[89,1,90,1],[89,4,90,4],[86,1,87,1],[86,4,87,4],[86,10,88,11],[86,21,88,23],[86,28,88,29],[86,36,88,36],[86,37,88,37],[86,38,88,38],[86,39,88,39],[86,45,88,45],[86,46,88,46],[86,47,88,47],[80,43,82,43],[80,44,82,44],[80,45,82,45],[80,46,82,46],[80,47,82,47],[83,43,85,43],[83,44,85,44],[86,43,88,43],[86,44,88,44],[83,46,85,46],[83,47,85,47],[83,1,84,1],[83,4,84,4],[83,10,85,11],[83,18,85,20],[83,28,85,29],[80,37,82,37],[80,36,82,36],[83,38,85,38],[83,39,85,39],[83,36,85,36],[83,37,85,37],[80,1,81,1],[80,4,81,4],[80,10,82,11],[80,15,82,17],[80,28,82,29],[80,38,82,38],[80,39,82,39],[73,25,76,27],[77,38,79,38],[77,39,79,39],[77,40,79,40],[75,40,75,41],[75,42,75,43],[75,44,75,45],[83,45,85,45],[83,40,85,40],[83,41,85,41],[80,40,82,40],[80,41,82,41],[80,42,82,42],[83,42,85,42],[77,47,79,47],[77,41,79,41],[77,42,79,42],[77,43,79,43],[70,2,70,5],[71,2,71,5],[73,1,74,5],[73,10,76,11],[73,12,76,14],[73,15,76,17],[73,28,76,29],[75,36,75,37],[75,38,75,39],[77,44,79,44],[77,45,79,45],[77,46,79,46],[75,47,76,47],[77,10,79,11],[77,12,79,14],[77,28,79,29],[77,36,79,36],[77,37,79,37],[73,18,76,20],[73,21,76,23],[62,1,63,1],[62,4,63,4],[53,42,55,42],[68,2,68,5],[69,2,69,5],[65,1,66,1],[65,4,66,4],[56,1,57,1],[56,4,57,4],[53,1,54,1],[53,4,54,4],[53,10,55,11],[53,18,55,20],[53,27,55,29],[53,34,55,34],[53,41,55,41],[57,12,57,34],[59,1,60,1],[59,4,60,4],[53,44,55,44],[53,45,55,45],[53,46,55,46],[53,47,55,47],[53,36,55,36],[53,37,55,37],[53,38,55,38],[53,39,55,39],[53,40,55,40],[53,43,55,43],[50,1,51,1],[50,4,51,4],[50,10,52,11],[50,15,52,17],[50,24,52,26],[50,34,52,34],[47,38,49,38],[47,39,49,39],[47,40,49,40],[47,10,49,11],[47,12,49,14],[47,21,49,23],[47,34,49,34],[47,36,49,36],[47,37,49,37],[46,1,47,2],[43,31,46,33],[43,34,46,34],[45,36,45,37],[45,38,45,39],[50,45,52,45],[50,46,52,46],[50,47,52,47],[50,36,52,36],[50,37,52,37],[50,38,52,38],[50,39,52,39],[50,40,52,40],[47,41,49,41],[47,42,49,42],[47,43,49,43],[50,42,52,42],[50,43,52,43],[50,44,52,44],[47,44,49,44],[47,47,49,47],[50,41,52,41],[47,45,49,45],[47,46,49,46],[45,41,45,42],[45,43,45,44],[45,46,46,46],[25,4,26,4],[26,12,26,34],[22,1,23,1],[22,4,23,4],[22,10,24,11],[22,18,24,20],[22,27,24,29],[38,2,38,5],[39,2,39,5],[40,2,40,5],[41,12,41,20],[41,21,41,29],[43,1,44,5],[43,12,46,14],[43,15,46,17],[43,18,46,20],[43,27,46,29],[44,10,46,11],[43,21,46,23],[43,24,46,26],[16,47,18,47],[19,47,21,47],[16,39,18,39],[16,40,18,40],[16,41,18,41],[16,42,18,42],[16,43,18,43],[16,44,18,44],[22,47,24,47],[22,46,24,46],[19,46,21,46],[19,41,21,41],[19,42,21,42],[19,40,21,40],[16,45,18,45],[22,41,24,41],[22,42,24,42],[22,43,24,43],[22,44,24,44],[22,39,24,39],[22,40,24,40],[12,24,15,26],[16,46,18,46],[14,41,14,42],[13,10,15,11],[76,1,77,2],[90,12,90,29],[16,38,18,38],[12,31,15,33],[12,34,15,34],[19,43,21,43],[19,44,21,44],[19,45,21,45],[14,43,14,44],[14,36,14,37],[14,38,14,39],[19,38,21,38],[19,39,21,39],[34,1,35,1],[34,4,35,4],[22,34,24,34],[22,36,24,36],[22,37,24,37],[22,38,24,38],[25,1,26,1],[120,12,120,29],[14,46,15,46],[16,10,18,11],[16,12,18,14],[16,21,18,23],[16,34,18,34],[16,36,18,36],[16,37,18,37],[19,1,20,1],[19,4,20,4],[19,10,21,11],[19,15,21,17],[19,24,21,26],[19,37,21,37],[19,34,21,34],[19,36,21,36],[22,45,24,45],[28,1,29,1],[28,4,29,4],[31,1,32,1],[31,4,32,4],[12,15,15,17],[12,18,15,20],[12,21,15,23]]}
[]
[null,null,null,null,null,null,null,null,null,null,null,null,"LIGUE MÉDITERRANÉENNE DE BILLARD"]
[null,"CLUB ORGANISATEUR"]
[]
[]
[null,"DIRECTEUR DE JEU :"]
[null,null,null,null,null,null,null,null,null,null,null,null,"Compétition",null,null,null,null,"Mode de jeu",null,null,"Categorie",null,null,"Format billard",null,null,null,"Distance"]
[]
[null,"Joueur 1",{"$f":"'Saisie des joueurs'!K18","v":0}]
[null,"Joueur 2",{"$f":"'Saisie des joueurs'!K19","v":0}]
[null,"Joueur 3",{"$f":"'Saisie des joueurs'!K20","v":0},null,null,null,null,null,null,null,null,null,"MATCH ALLER",null,null,null,null,null,null,null,null,"MATCH RETOUR"]
[]
[null,"SAISIE DES RESULTATS",null,null,null,null,null,null,null,null,null,null,{"$f":"C9","v":0},null,null,{"$f":"C10","v":0},null,null,{"$f":"C11","v":0},null,null,{"$f":"C9","v":0},null,null,{"$f":"C10","v":0},null,null,{"$f":"C11","v":0},null,null,null,"TOTAUX",null,null,"CLASSEMENT"]
[]
[null,null,null,null,null,null,null,null,null,null,null,null,null,null,null,null,null,null,null,null,null,null,null,null,null,null,null,null,null,null,null,null,null,null,null,null,"Classement",null,"Classement",null,"Classement","Classement",null,"Classement",null,"GENERAL","RANG"]
[null,"POULE A",null,null,null,null,null,null,null,null,null,null,null,null,null,null,null,null,null,null,null,null,null,null,null,null,null,null,null,null,null,null,null,null,null,null,"Point-Match","CLS-M","Moy-Gen","CLS-G","Moy-Part","M-Series","CLS-S","MGPS","CLS","CLS"]
[null,null,null,null,null,null,null,null,null,null,{"$f":"C9","v":0},null,"L",null,null,{"$f":"D26","v":0},null,{"$f":"E26","v":0},{"$f":"D20","v":0},null,{"$f":"E20","v":0},"L",null,null,{"$f":"D35","v":0},null,{"$f":"E35","v":0},{"$f":"D29","v":0},null,{"$f":"E29","v":0},null,{"$f":"P17+S17+Y17+AB17","v":0},null,{"$f":"R17+U17+AA17+AD17","v":0},{"$f":"AU17","v":{"$error":"#DIV/0!"}},null,{"$f":"AG18","v":0.04},{"$f":"RANK(AK17,AK$17:AK$25,0)","v":1},{"$f":"AH19","v":{"$error":"#DIV/0!"}},{"$f":"RANK(AM17,AM$17:AM$25,0)","v":{"$error":"#DIV/0!"}},{"$f":"MAX(R19,U19,AA19,AD19)","v":{"$error":"#DIV/0!"}},{"$f":"RANK(AO17,AO$17:AO$25)","v":{"$error":"#DIV/0!"}},{"$f":"AF19","v":0},{"$f":"RANK(AQ17,AQ$17:AQ$25)","v":1},{"$f":"(AL17*1000)+(AN17*100)+(AP17*10)+(AR17*1)","v":{"$error":"#DIV/0!"}},{"$f":"AS17","v":{"$error":"#DIV/0!"}},{"$f":"RANK(AT17,AT$17:AT$25,1)","v":{"$error":"#DIV/0!"}},{"$f":"RANK(AU17,AU$17:AU$25,1)","v":{"$error":"#DIV/0!"}}]
[null,null,null,null,null,null,null,null,null,null,null,null,null,null,null,null,{"$f":"IF(R17<1,0.01,IF(P17>M20,2,IF(P17=M20,1,0)))","v":0.01},null,null,{"$f":"IF(U17<1,0.01,IF(S17>M23,2,IF(S17=M23,1,0)))","v":0.01},null,null,null,null,null,{"$f":"IF(AA17<1,0.01,IF(Y17>V20,2,IF(Y17=V20,1,0)))","v":0.01},null,null,{"$f":"IF(AD17<1,0.01,IF(AB17>V23,2,IF(AB17=V23,1,0)))","v":0.01},null,null,null,{"$f":"Q18+T18+Z18+AC18","v":0.04}]
[null,null,null,"Pts","Rep","Série",null,null,null,null,null,null,null,null,null,{"$f":"F26","v":0},null,{"$f":"P17/R17","v":{"$error":"#DIV/0!"}},{"$f":"F20","v":0},null,{"$f":"S17/U17","v":{"$error":"#DIV/0!"}},null,null,null,{"$f":"F35","v":0},null,{"$f":"Y17/AA17","v":{"$error":"#DIV/0!"}},{"$f":"F29","v":0},null,{"$f":"AB17/AD17","v":{"$error":"#DIV/0!"}},null,{"$f":"MAX(P19,S19,Y19,AB19)","v":0},null,{"$f":"AF17/AH17","v":{"$error":"#DIV/0!"}}]
[null,"Tour 1\nMatch aller",{"$f":"C9","v":0},null,null,null,null,null,null,null,{"$f":"C10","v":0},null,{"$f":"D27","v":0},null,{"$f":"E26","v":0},"M",null,null,{"$f":"D23","v":0},null,{"$f":"E23","v":0},{"$f":"D36","v":0},null,{"$f":"E35","v":0},"M",null,null,{"$f":"D32","v":0},null,{"$f":"E32","v":0},null,{"$f":"M20+S20+V20+AB20","v":0},null,{"$f":"O20+U20+X20+AD20","v":0},{"$f":"AU20","v":{"$error":"#DIV/0!"}},null,{"$f":"AG21","v":0.04},{"$f":"RANK(AK20,AK$17:AK$25,0)","v":1},{"$f":"AH22","v":{"$error":"#DIV/0!"}},{"$f":"RANK(AM20,AM$17:AM$25,0)","v":{"$error":"#DIV/0!"}},{"$f":"MAX(R22,U22,AA22,AD22)","v":{"$error":"#DIV/0!"}},{"$f":"RANK(AO20,AO$17:AO$25)","v":{"$error":"#DIV/0!"}},{"$f":"AF22","v":0},{"$f":"RANK(AQ20,AQ$17:AQ$25)","v":1},{"$f":"(AL20*1000)+(AN20*100)+(AP20*10)+(AR20*1)","v":{"$error":"#DIV/0!"}},{"$f":"AS20","v":{"$error":"#DIV/0!"}},{"$f":"RANK(AT20,AT$17:AT$25,1)","v":{"$error":"#DIV/0!"}},{"$f":"RANK(AU20,AU$17:AU$25,1)","v":{"$error":"#DIV/0!"}}]
[null,null,{"$f":"C11","v":0},null,null,null,null,null,null,null,null,null,null,{"$f":"IF(R17>0,2-Q18,0.01)","v":0.01},null,null,null,null,null,{"$f":"IF(U20<1,0.01,IF(S20>P23,2,IF(S20=P23,1,0)))","v":0.01},null,null,{"$f":"IF(AA17>0,2-Z18,0.01)","v":0.01},null,null,null,null,null,{"$f":"IF(AD20<1,0.01,IF(AB20>Y23,2,IF(AB20=Y23,1,0)))","v":0.01},null,null,null,{"$f":"N21+T21+W21+AC21","v":0.04}]
[null,null,null,null,null,null,null,null,null,null,null,null,{"$f":"F27","v":0},null,{"$f":"M20/O20","v":{"$error":"#DIV/0!"}},null,null,null,{"$f":"F23","v":0},null,{"$f":"S20/U20","v":{"$error":"#DIV/0!"}},{"$f":"F36","v":0},null,{"$f":"V20/X20","v":{"$error":"#DIV/0!"}},null,null,null,{"$f":"F32","v":0},null,{"$f":"AB20/AD20","v":{"$error":"#DIV/0!"}},null,{"$f":"MAXA(M22,S22,V22,AB22)","v":0},null,{"$f":"AF20/AH20","v":{"$error":"#DIV/0!"}}]
[null,"Tour 2\nMatch aller",{"$f":"C10","v":0},null,null,null,null,null,null,null,{"$f":"C11","v":0},null,{"$f":"D21","v":0},null,{"$f":"E20","v":0},{"$f":"D24","v":0},null,{"$f":"E23","v":0},"B",null,null,{"$f":"D30","v":0},null,{"$f":"E29","v":0},{"$f":"D33","v":0},null,{"$f":"E32","v":0},"B",null,null,null,{"$f":"M23+P23+V23+Y23","v":0},null,{"$f":"O23+R23+X23+AA23","v":0},{"$f":"AU23","v":{"$error":"#DIV/0!"}},null,{"$f":"AG24","v":0.04},{"$f":"RANK(AK23,AK$17:AK$25,0)","v":1},{"$f":"AH25","v":{"$error":"#DIV/0!"}},{"$f":"RANK(AM23,AM$17:AM$25,0)","v":{"$error":"#DIV/0!"}},{"$f":"MAX(R25,U25,AA25,AD25)","v":{"$error":"#DIV/0!"}},{"$f":"RANK(AO23,AO$17:AO$25)","v":{"$error":"#DIV/0!"}},{"$f":"AF25","v":0},{"$f":"RANK(AQ23,AQ$17:AQ$25)","v":1},{"$f":"(AL23*1000)+(AN23*100)+(AP23*10)+(AR23*1)","v":{"$error":"#DIV/0!"}},{"$f":"AS23","v":{"$error":"#DIV/0!"}},{"$f":"RANK(AT23,AT$17:AT$25,1)","v":{"$error":"#DIV/0!"}},{"$f":"RANK(AU23,AU$17:AU$25,1)","v":{"$error":"#DIV/0!"}}]
[null,null,{"$f":"C11","v":0},null,null,null,null,null,null,null,null,null,null,{"$f":"IF(U17>0,2-T18,0.01)","v":0.01},null,null,{"$f":"IF(U20>0,2-T21,0.01)","v":0.01},null,null,null,null,null,{"$f":"IF(AD17>0,2-AC18,0.01)","v":0.01},null,null,{"$f":"IF(AD20>0,2-AC21,0.01)","v":0.01},null,null,null,null,null,null,{"$f":"N24+Q24+W24+Z24","v":0.04}]
[null,null,null,null,null,null,null,null,null,null,null,null,{"$f":"F21","v":0},null,{"$f":"M23/O23","v":{"$error":"#DIV/0!"}},{"$f":"F24","v":0},null,{"$f":"P23/R23","v":{"$error":"#DIV/0!"}},null,null,null,{"$f":"F30","v":0},null,{"$f":"V23/X23","v":{"$error":"#DIV/0!"}},{"$f":"F33","v":0},null,{"$f":"Y23/AA23","v":{"$error":"#DIV/0!"}},null,null,null,null,{"$f":"MAXA(M25,P25,V25,Y25)","v":0},null,{"$f":"AF23/AH23","v":{"$error":"#DIV/0!"}}]
[null,"Tour 3\nMatch aller",{"$f":"C9","v":0}]
[null,null,{"$f":"C10","v":0},null,null,null,null,null,null,null,null,null,"Pas de prolongation en cas de match nul."]
[]
[null,"Tour 1\nMatch retour",{"$f":"C9","v":0}]
[null,null,{"$f":"C11","v":0}]
[]
[null,"Tour 2\nMatch retour",{"$f":"C10","v":0}]
[null,null,{"$f":"C11","v":0}]
[]
[null,"Tour 3\nMatch retour",{"$f":"C9","v":0}]
[null,null,{"$f":"C10","v":0}]
[]
[]
[null,"Joueur 1",{"$f":"'Saisie des joueurs'!K22","v":0}]
[null,"Joueur 2",{"$f":"'Saisie des joueurs'!K23","v":0}]
[null,"Joueur 3",{"$f":"'Saisie des joueurs'!K24","v":0}]
[null,null,null,null,null,null,null,null,null,null,null,null,"MATCH ALLER",null,null,null,null,null,null,null,null,"MATCH RETOUR"]
[]
[null,"SAISIE DES RESULTATS",null,null,null,null,null,null,null,null,null,null,{"$f":"C39","v":0},null,null,{"$f":"C40","v":0},null,null,{"$f":"C41","v":0},null,null,{"$f":"C39","v":0},null,null,{"$f":"C40","v":0},null,null,{"$f":"C41","v":0},null,null,null,"TOTAUX",null,null,"CLASSEMENT"]
[]
[null,null,null,null,null,null,null,null,null,null,null,null,null,null,null,null,null,null,null,null,null,null,null,null,null,null,null,null,null,null,null,null,null,null,null,null,"Classement",null,"Classement",null,"Classement","Classement",null,"Classement",null,"GENERAL","RANG"]
[null,"POULE B",null,null,null,null,null,null,null,null,null,null,null,null,null,null,null,null,null,null,null,null,null,null,null,null,null,null,null,null,null,null,null,null,null,null,"Point-Match","CLS-M","Moy-Gen","CLS-G","Moy-Part","M-Series","CLS-S","MGPS","CLS","CLS"]
[null,null,null,null,null,null,null,null,null,null,{"$f":"C39","v":0},null,"L",null,null,{"$f":"D57","v":0},null,{"$f":"E57","v":0},{"$f":"D51","v":0},null,{"$f":"E51","v":0},"L",null,null,{"$f":"D66","v":0},null,{"$f":"E66","v":0},{"$f":"D60","v":0},null,{"$f":"E60","v":0},null,{"$f":"P48+S48+Y48+AB48","v":0},null,{"$f":"R48+U48+AA48+AD48","v":0},{"$f":"AU48","v":{"$error":"#DIV/0!"}},null,{"$f":"AG49","v":0.04},{"$f":"RANK(AK48,AK$48:AK$56,0)","v":1},{"$f":"AH50","v":{"$error":"#DIV/0!"}},{"$f":"RANK(AM48,AM$48:AM$56,0)","v":{"$error":"#DIV/0!"}},{"$f":"MAX(R50,U50,AA50,AD50)","v":{"$error":"#DIV/0!"}},{"$f":"RANK(AO48,AO$48:AO$56)","v":{"$error":"#DIV/0!"}},{"$f":"AF50","v":0},{"$f":"RANK(AQ48,AQ$48:AQ$56)","v":1},{"$f":"(AL48*1000)+(AN48*100)+(AP48*10)+(AR48*1)","v":{"$error":"#DIV/0!"}},{"$f":"AS48","v":{"$error":"#DIV/0!"}},{"$f":"RANK(AT48,AT$48:AT$56,1)","v":{"$error":"#DIV/0!"}},{"$f":"RANK(AU48,AU$48:AU$56,1)","v":{"$error":"#DIV/0!"}}]
[null,null,null,null,null,null,null,null,null,null,null,null,null,null,null,null,{"$f":"IF(R48<1,0.01,IF(P48>M51,2,IF(P48=M51,1,0)))","v":0.01},null,null,{"$f":"IF(U48<1,0.01,IF(S48>M54,2,IF(S48=M54,1,0)))","v":0.01},null,null,null,null,null,{"$f":"IF(AA48<1,0.01,IF(Y48>V51,2,IF(Y48=V51,1,0)))","v":0.01},null,null,{"$f":"IF(AD48<1,0.01,IF(AB48>V54,2,IF(AB48=V54,1,0)))","v":0.01},null,null,null,{"$f":"Q49+T49+Z49+AC49","v":0.04}]
[null,null,null,"Pts","Rep","Série",null,null,null,null,null,null,null,null,null,{"$f":"F57","v":0},null,{"$f":"P48/R48","v":{"$error":"#DIV/0!"}},{"$f":"F51","v":0},null,{"$f":"S48/U48","v":{"$error":"#DIV/0!"}},null,null,null,{"$f":"F66","v":0},null,{"$f":"Y48/AA48","v":{"$error":"#DIV/0!"}},{"$f":"F60","v":0},null,{"$f":"AB48/AD48","v":{"$error":"#DIV/0!"}},null,{"$f":"MAX(P50,S50,Y50,AB50)","v":0},null,{"$f":"AF48/AH48","v":{"$error":"#DIV/0!"}}]
[null,"Tour 1\nMatch aller",{"$f":"C39","v":0},null,null,null,null,null,null,null,{"$f":"C40","v":0},null,{"$f":"D58","v":0},null,{"$f":"E57","v":0},"M",null,null,{"$f":"D54","v":0},null,{"$f":"E54","v":0},{"$f":"D67","v":0},null,{"$f":"E66","v":0},"M",null,null,{"$f":"D63","v":0},null,{"$f":"E63","v":0},null,{"$f":"M51+S51+V51+AB51","v":0},null,{"$f":"O51+U51+X51+AD51","v":0},{"$f":"AU51","v":{"$error":"#DIV/0!"}},null,{"$f":"AG52","v":0.04},{"$f":"RANK(AK51,AK$48:AK$56,0)","v":1},{"$f":"AH53","v":{"$error":"#DIV/0!"}},{"$f":"RANK(AM51,AM$48:AM$56,0)","v":{"$error":"#DIV/0!"}},{"$f":"MAX(O53,U53,X53,AD53)","v":{"$error":"#DIV/0!"}},{"$f":"RANK(AO51,AO$48:AO$56)","v":{"$error":"#DIV/0!"}},{"$f":"AF53","v":0},{"$f":"RANK(AQ51,AQ$48:AQ$56)","v":1},{"$f":"(AL51*1000)+(AN51*100)+(AP51*10)+(AR51*1)","v":{"$error":"#DIV/0!"}},{"$f":"AS51","v":{"$error":"#DIV/0!"}},{"$f":"RANK(AT51,AT$48:AT$56,1)","v":{"$error":"#DIV/0!"}},{"$f":"RANK(AU51,AU$48:AU$56,1)","v":{"$error":"#DIV/0!"}}]
[null,null,{"$f":"C41","v":0},null,null,null,null,null,null,null,null,null,null,{"$f":"IF(R48>0,2-Q49,0.01)","v":0.01},null,null,null,null,null,{"$f":"IF(U51<1,0.01,IF(S51>P54,2,IF(S51=P54,1,0)))","v":0.01},null,null,{"$f":"IF(AA48>0,2-Z49,0.01)","v":0.01},null,null,null,null,null,{"$f":"IF(AD51<1,0.01,IF(AB51>Y54,2,IF(AB51=Y54,1,0)))","v":0.01},null,null,null,{"$f":"N52+T52+W52+AC52","v":0.04}]
[null,null,null,null,null,null,null,null,null,null,null,null,{"$f":"F58","v":0},null,{"$f":"M51/O51","v":{"$error":"#DIV/0!"}},null,null,null,{"$f":"F54","v":0},null,{"$f":"S51/U51","v":{"$error":"#DIV/0!"}},{"$f":"F67","v":0},null,{"$f":"V51/X51","v":{"$error":"#DIV/0!"}},null,null,null,{"$f":"F63","v":0},null,{"$f":"AB51/AD51","v":{"$error":"#DIV/0!"}},null,{"$f":"MAXA(M53,S53,V53,AB53)","v":0},null,{"$f":"AF51/AH51","v":{"$error":"#DIV/0!"}}]
[null,"Tour 2\nMatch aller",{"$f":"C40","v":0},null,null,null,null,null,null,null,{"$f":"C41","v":0},null,{"$f":"D52","v":0},null,{"$f":"E51","v":0},{"$f":"D55","v":0},null,{"$f":"E54","v":0},"B",null,null,{"$f":"D61","v":0},null,{"$f":"E60","v":0},{"$f":"D64","v":0},null,{"$f":"E63","v":0},"B",null,null,null,{"$f":"M54+P54+V54+Y54","v":0},null,{"$f":"O54+R54+X54+AA54","v":0},{"$f":"AU54","v":{"$error":"#DIV/0!"}},null,{"$f":"AG55","v":0.04},{"$f":"RANK(AK54,AK$48:AK$56,0)","v":1},{"$f":"AH56","v":{"$error":"#DIV/0!"}},{"$f":"RANK(AM54,AM$48:AM$56,0)","v":{"$error":"#DIV/0!"}},{"$f":"MAX(O56,R56,X56,AA56)","v":{"$error":"#DIV/0!"}},{"$f":"RANK(AO54,AO$48:AO$56)","v":{"$error":"#DIV/0!"}},{"$f":"AF56","v":0},{"$f":"RANK(AQ54,AQ$48:AQ$56)","v":1},{"$f":"(AL54*1000)+(AN54*100)+(AP54*10)+(AR54*1)","v":{"$error":"#DIV/0!"}},{"$f":"AS54","v":{"$error":"#DIV/0!"}},{"$f":"RANK(AT54,AT$48:AT$56,1)","v":{"$error":"#DIV/0!"}},{"$f":"RANK(AU54,AU$48:AU$56,1)","v":{"$error":"#DIV/0!"}}]
[null,null,{"$f":"C41","v":0},null,null,null,null,null,null,null,null,null,null,{"$f":"IF(U48>0,2-T49,0.01)","v":0.01},null,null,{"$f":"IF(U51>0,2-T52,0.01)","v":0.01},null,null,null,null,null,{"$f":"IF(AD48>0,2-AC49,0.01)","v":0.01},null,null,{"$f":"IF(AD51>0,2-AC52,0.01)","v":0.01},null,null,null,null,null,null,{"$f":"N55+Q55+W55+Z55","v":0.04}]
[null,null,null,null,null,null,null,null,null,null,null,null,{"$f":"F52","v":0},null,{"$f":"M54/O54","v":{"$error":"#DIV/0!"}},{"$f":"F55","v":0},null,{"$f":"P54/R54","v":{"$error":"#DIV/0!"}},null,null,null,{"$f":"F61","v":0},null,{"$f":"V54/X54","v":{"$error":"#DIV/0!"}},{"$f":"F64","v":0},null,{"$f":"Y54/AA54","v":{"$error":"#DIV/0!"}},null,null,null,null,{"$f":"MAXA(M56,P56,V56,Y56)","v":0},null,{"$f":"AF54/AH54","v":{"$error":"#DIV/0!"}}]
[null,"Tour 3\nMatch aller",{"$f":"C39","v":0}]
[null,null,{"$f":"C40","v":0},null,null,null,null,null,null,null,null,null,"Pas de prolongation en cas de match nul."]
[]
[null,"Tour 1\nMatch retour",{"$f":"C39","v":0}]
[null,null,{"$f":"C41","v":0}]
[]
[null,"Tour 2\nMatch retour",{"$f":"C40","v":0}]
[null,null,{"$f":"C41","v":0}]
[]
[null,"Tour 3\nMatch retour",{"$f":"C39","v":0}]
[null,null,{"$f":"C40","v":0}]
[]
[null,"Joueur 1",{"$f":"'Saisie des joueurs'!K26","v":0}]
[null,"Joueur 2",{"$f":"'Saisie des joueurs'!K27","v":0}]
[null,"Joueur 3",{"$f":"'Saisie des joueurs'!K28","v":0}]
[null,"Joueur 4",{"$f":"'Saisie des joueurs'!K29","v":0}]
[]
[null,"SAISIE DES RESULTATS",null,null,null,null,null,null,null,null,null,null,{"$f":"C69","v":0},null,null,{"$f":"C70","v":0},null,null,{"$f":"C71","v":0},null,null,{"$f":"C72","v":0},null,null,null,"TOTAUX",null,null,"CLASSEMENT"]
[]
[null,null,null,null,null,null,null,null,null,null,null,null,null,null,null,null,null,null,null,null,null,null,null,null,null,null,null,null,null,null,null,null,null,null,null,null,"Classement",null,"Classement",null,"Classement",null,"Classement",null,"Classement",null,"GENERAL","RANG"]
[null,"POULE C",null,null,null,null,null,null,null,null,null,null,null,null,null,null,null,null,null,null,null,null,null,null,null,null,null,null,null,null,null,null,null,null,null,null,"Point-Match","CLS-M","Moy-Gen","CLS-G","Moy-Part","CLS-P","M-Series","CLS-S","MGPS","CLS","CLS"]
[null,null,null,null,null,null,null,null,null,null,{"$f":"C69","v":0},null,"L",null,null,{"$f":"D93","v":0},null,{"$f":"E93","v":0},{"$f":"D87","v":0},null,{"$f":"E87","v":0},{"$f":"D81","v":0},null,{"$f":"E81","v":0},null,{"$f":"P78+S78+V78","v":0},null,{"$f":"R78+U78+X78","v":0},{"$f":"AV78","v":{"$error":"#DIV/0!"}},null,null,null,null,null,null,null,{"$f":"AA79","v":0.03},{"$f":"RANK(AK78,AK$78:AK$89,0)","v":1},{"$f":"AB80","v":{"$error":"#DIV/0!"}},{"$f":"RANK(AM78,AM$78:AM$89,0)","v":{"$error":"#DIV/0!"}},{"$f":"MAX(R80,U80,X80)","v":{"$error":"#DIV/0!"}},{"$f":"RANK(AO78,AO$78:AO$89)","v":{"$error":"#DIV/0!"}},{"$f":"Z80","v":0},{"$f":"RANK(AQ78,AQ$78:AQ$89)","v":1},{"$f":"(AL78*1000)+(AN78*100)+(AP78*10)+(AR78*1)","v":{"$error":"#DIV/0!"}},{"$f":"AS78","v":{"$error":"#DIV/0!"}},{"$f":"RANK(AT78,AT$78:AT$89,1)","v":{"$error":"#DIV/0!"}},{"$f":"RANK(AU78,AU$78:AU$89,1)","v":{"$error":"#DIV/0!"}}]
[null,null,null,null,null,null,null,null,null,null,null,null,null,null,null,null,{"$f":"IF(R78<1,0.01,IF(P78>M81,2,IF(P78=M81,1,0)))","v":0.01},null,null,{"$f":"IF(U78<1,0.01,IF(S78>M84,2,IF(S78=M84,1,0)))","v":0.01},null,null,{"$f":"IF(X78<1,0.01,IF(V78>M87,2,IF(V78=M87,1,0)))","v":0.01},null,null,null,{"$f":"W79+T79+Q79","v":0.03}]
[null,null,null,"Pts","Rep","Série",null,null,null,null,null,null,null,null,null,{"$f":"F93","v":0},null,{"$f":"P78/R78","v":{"$error":"#DIV/0!"}},{"$f":"F87","v":0},null,{"$f":"S78/U78","v":{"$error":"#DIV/0!"}},{"$f":"F81","v":0},null,{"$f":"V78/X78","v":{"$error":"#DIV/0!"}},null,{"$f":"MAX(V80,S80,P80)","v":0},null,{"$f":"Z78/AB78","v":{"$error":"#DIV/0!"}}]
[null,"Tour 1",{"$f":"C69","v":0},null,null,null,null,null,null,null,{"$f":"C70","v":0},null,{"$f":"D94","v":0},null,{"$f":"E93","v":0},"M",null,null,{"$f":"D84","v":0},null,{"$f":"E84","v":0},{"$f":"D91","v":0},null,{"$f":"E90","v":0},null,{"$f":"M81+S81+V81","v":0},null,{"$f":"O81+U81+X81","v":0},{"$f":"AV81","v":{"$error":"#DIV/0!"}},null,null,null,null,null,null,null,{"$f":"AA82","v":0.03},{"$f":"RANK(AK81,AK$78:AK$89,0)","v":1},{"$f":"AB83","v":{"$error":"#DIV/0!"}},{"$f":"RANK(AM81,AM$78:AM$89,0)","v":{"$error":"#DIV/0!"}},{"$f":"MAX(R83,U83,X83)","v":{"$error":"#DIV/0!"}},{"$f":"RANK(AO81,AO$78:AO$89)","v":{"$error":"#DIV/0!"}},{"$f":"Z83","v":0},{"$f":"RANK(AQ81,AQ$78:AQ$89)","v":1},{"$f":"(AL81*1000)+(AN81*100)+(AP81*10)+(AR81*1)","v":{"$error":"#DIV/0!"}},{"$f":"AS81","v":{"$error":"#DIV/0!"}},{"$f":"RANK(AT81,AT$78:AT$89,1)","v":{"$error":"#DIV/0!"}},{"$f":"RANK(AU81,AU$78:AU$89,1)","v":{"$error":"#DIV/0!"}}]
[null,null,{"$f":"C72","v":0},null,null,null,null,null,null,null,null,null,null,{"$f":"IF(R78>0,2-Q79,0.01)","v":0.01},null,null,null,null,null,{"$f":"IF(U81<1,0.01,IF(S81>P84,2,IF(S81=P84,1,0)))","v":0.01},null,null,{"$f":"IF(X81<1,0.01,IF(V81>P87,2,IF(V81=P87,1,0)))","v":0.01},null,null,null,{"$f":"N82+T82+W82","v":0.03}]
[null,null,null,null,null,null,null,null,null,null,null,null,{"$f":"F94","v":0},null,{"$f":"M81/O81","v":{"$error":"#DIV/0!"}},null,null,null,{"$f":"F84","v":0},null,{"$f":"S81/U81","v":{"$error":"#DIV/0!"}},{"$f":"F91","v":0},null,{"$f":"V81/X81","v":{"$error":"#DIV/0!"}},null,{"$f":"MAXA(S83,V83,M83)","v":0},null,{"$f":"Z81/AB81","v":{"$error":"#DIV/0!"}}]
[null,"Tour 2",{"$f":"C70","v":0},null,null,null,null,null,null,null,{"$f":"C71","v":0},null,{"$f":"D88","v":0},null,{"$f":"E87","v":0},{"$f":"D85","v":0},null,{"$f":"E84","v":0},"B",null,null,{"$f":"D96","v":0},null,{"$f":"E96","v":0},null,{"$f":"M84+P84+V84","v":0},null,{"$f":"O84+U84+X84","v":0},{"$f":"AV84","v":{"$error":"#DIV/0!"}},null,null,null,null,null,null,null,{"$f":"AA85","v":0.02},{"$f":"RANK(AK84,AK$78:AK$89,0)","v":4},{"$f":"AB86","v":{"$error":"#DIV/0!"}},{"$f":"RANK(AM84,AM$78:AM$89,0)","v":{"$error":"#DIV/0!"}},{"$f":"MAX(R86,U86,X86)","v":{"$error":"#DIV/0!"}},{"$f":"RANK(AO84,AO$78:AO$89)","v":{"$error":"#DIV/0!"}},{"$f":"Z86","v":0},{"$f":"RANK(AQ84,AQ$78:AQ$89)","v":1},{"$f":"(AL84*1000)+(AN84*100)+(AP84*10)+(AR84*1)","v":{"$error":"#DIV/0!"}},{"$f":"AS84","v":{"$error":"#DIV/0!"}},{"$f":"RANK(AT84,AT$78:AT$89,1)","v":{"$error":"#DIV/0!"}},{"$f":"RANK(AU84,AU$78:AU$89,1)","v":{"$error":"#DIV/0!"}}]
[null,null,{"$f":"C71","v":0},null,null,null,null,null,null,null,null,null,null,{"$f":"IF(U78>0,2-T79,0.01)","v":0.01},null,null,{"$f":"IF(U81>0,2-T82,0.01)","v":0.01},null,null,null,null,null,{"$f":"IF(X84<1,0.01,IF(V84>S87,2,IF(V84=S87,1,0)))","v":0.01},null,null,null,{"$f":"N85+T85+W85","v":0.02}]
[null,null,null,null,null,null,null,null,null,null,null,null,{"$f":"F88","v":0},null,{"$f":"M84/O84","v":{"$error":"#DIV/0!"}},{"$f":"F85","v":0},null,{"$f":"P84/R84","v":{"$error":"#DIV/0!"}},null,null,null,{"$f":"F96","v":0},null,{"$f":"V84/X84","v":{"$error":"#DIV/0!"}},null,{"$f":"MAXA(V86,P86,M86)","v":0},null,{"$f":"Z84/AB84","v":{"$error":"#DIV/0!"}}]
[null,"Tour 3",{"$f":"C69","v":0},null,null,null,null,null,null,null,{"$f":"C72","v":0},null,{"$f":"D82","v":0},null,{"$f":"E81","v":0},{"$f":"D90","v":0},null,{"$f":"E90","v":0},{"$f":"D97","v":0},null,{"$f":"E96","v":0},null,null,null,null,{"$f":"S87+V87+Y87","v":0},null,{"$f":"U87+R87+O87","v":0},{"$f":"AV87","v":{"$error":"#DIV/0!"}},null,null,null,null,null,null,null,{"$f":"AA88","v":0.03},{"$f":"RANK(AK87,AK$78:AK$89,0)","v":1},{"$f":"AB89","v":{"$error":"#DIV/0!"}},{"$f":"RANK(AM87,AM$78:AM$89,0)","v":{"$error":"#DIV/0!"}},{"$f":"MAX(R89,U89,X89)","v":{"$error":"#DIV/0!"}},{"$f":"RANK(AO87,AO$78:AO$89)","v":{"$error":"#DIV/0!"}},{"$f":"Z89","v":0},{"$f":"RANK(AQ87,AQ$78:AQ$89)","v":1},{"$f":"(AL87*1000)+(AN87*100)+(AP87*10)+(AR87*1)","v":{"$error":"#DIV/0!"}},{"$f":"AS87","v":{"$error":"#DIV/0!"}},{"$f":"RANK(AT87,AT$78:AT$89,1)","v":{"$error":"#DIV/0!"}},{"$f":"RANK(AU87,AU$78:AU$89,1)","v":{"$error":"#DIV/0!"}}]
[null,null,{"$f":"C71","v":0},null,null,null,null,null,null,null,null,null,null,{"$f":"IF(X78>0,2-W79,0.01)","v":0.01},null,null,{"$f":"IF(X81>0,2-W82,0.01)","v":0.01},null,null,{"$f":"IF(X84>0,2-W85,0.01)","v":0.01},null,null,null,null,null,null,{"$f":"N88+Q88+T88","v":0.03}]
[null,null,null,null,null,null,null,null,null,null,null,null,{"$f":"F82","v":0},null,{"$f":"M87/O87","v":{"$error":"#DIV/0!"}},{"$f":"F90","v":0},null,{"$f":"P87/R87","v":{"$error":"#DIV/0!"}},{"$f":"F97","v":0},null,{"$f":"S87/U87","v":{"$error":"#DIV/0!"}},null,null,null,null,{"$f":"MAXA(S89,V89,Y89)","v":0},null,{"$f":"Z87/AB87","v":{"$error":"#DIV/0!"}}]
[null,"Tour 4",{"$f":"C72","v":0}]
[null,null,{"$f":"C70","v":0},null,null,null,null,null,null,null,null,null,"Pas de prolongation en cas de match nul."]
[]
[null,"Tour 5",{"$f":"C69","v":0}]
[null,null,{"$f":"C70","v":0}]
[]
[null,"Tour 6",{"$f":"C71","v":0}]
[null,null,{"$f":"C72","v":0}]
[]
[null,"Joueur 1",{"$f":"'Saisie des joueurs'!K30","v":0}]
[null,"Joueur 2",{"$f":"'Saisie des joueurs'!K31","v":0}]
[null,"Joueur 3",{"$f":"'Saisie des joueurs'!K32","v":0}]
[null,"Joueur 4",{"$f":"'Saisie des joueurs'!K33","v":0}]
[]
[null,"SAISIE DES RESULTATS",null,null,null,null,null,null,null,null,null,null,{"$f":"C99","v":0},null,null,{"$f":"C100","v":0},null,null,{"$f":"C101","v":0},null,null,{"$f":"C102","v":0},null,null,null,"TOTAUX",null,null,"CLASSEMENT"]
[]
[null,null,null,null,null,null,null,null,null,null,null,null,null,null,null,null,null,null,null,null,null,null,null,null,null,null,null,null,null,null,null,null,null,null,null,null,"Classement",null,"Classement",null,"Classement",null,"Classement",null,"Classement",null,"GENERAL","RANG"]
[null,"POULE D",null,null,null,null,null,null,null,null,null,null,null,null,null,null,null,null,null,null,null,null,null,null,null,null,null,null,null,null,null,null,null,null,null,null,"Point-Match","CLS-M","Moy-Gen","CLS-G","Moy-Part","CLS-P","M-Series","CLS-S","MGPS","CLS","CLS"]
[null,null,null,null,null,null,null,null,null,null,{"$f":"C99","v":0},null,"L",null,null,{"$f":"D123","v":0},null,{"$f":"E123","v":0},{"$f":"D117","v":0},null,{"$f":"E117","v":0},{"$f":"D111","v":0},null,{"$f":"E111","v":0},null,{"$f":"P108+S108+V108","v":0},null,{"$f":"R108+U108+X108","v":0},{"$f":"AV108","v":{"$error":"#DIV/0!"}},null,null,null,null,null,null,null,{"$f":"AA109","v":0.03},{"$f":"RANK(AK108,AK$108:AK$119,0)","v":1},{"$f":"AB110","v":{"$error":"#DIV/0!"}},{"$f":"RANK(AM108,AM$78:AM$89,0)","v":{"$error":"#DIV/0!"}},{"$f":"MAX(R110,U110,X110)","v":{"$error":"#DIV/0!"}},{"$f":"RANK(AO108,AO$108:AO$119)","v":{"$error":"#DIV/0!"}},{"$f":"Z110","v":0},{"$f":"RANK(AQ108,AQ$108:AQ$119)","v":1},{"$f":"(AL108*1000)+(AN108*100)+(AP108*10)+(AR108*1)","v":{"$error":"#DIV/0!"}},{"$f":"AS108","v":{"$error":"#DIV/0!"}},{"$f":"RANK(AT108,AT$108:AT$119,1)","v":{"$error":"#DIV/0!"}},{"$f":"RANK(AU108,AU$108:AU$119,1)","v":{"$error":"#DIV/0!"}}]
[null,null,null,null,null,null,null,null,null,null,null,null,null,null,null,null,{"$f":"IF(R108<1,0.01,IF(P108>M111,2,IF(P108=M111,1,0)))","v":0.01},null,null,{"$f":"IF(U108<1,0.01,IF(S108>M114,2,IF(S108=M114,1,0)))","v":0.01},null,null,{"$f":"IF(X108<1,0.01,IF(V108>M117,2,IF(V108=M117,1,0)))","v":0.01},null,null,null,{"$f":"W109+T109+Q109","v":0.03}]
[null,null,null,"Pts","Rep","Série",null,null,null,null,null,null,null,null,null,{"$f":"F123","v":0},null,{"$f":"P108/R108","v":{"$error":"#DIV/0!"}},{"$f":"F117","v":0},null,{"$f":"S108/U108","v":{"$error":"#DIV/0!"}},{"$f":"F111","v":0},null,{"$f":"V108/X108","v":{"$error":"#DIV/0!"}},null,{"$f":"MAX(V110,S110,P110)","v":0},null,{"$f":"Z108/AB108","v":{"$error":"#DIV/0!"}}]
[null,"Tour 1",{"$f":"C99","v":0},null,null,null,null,null,null,null,{"$f":"C100","v":0},null,{"$f":"D124","v":0},null,{"$f":"E123","v":0},"M",null,null,{"$f":"D114","v":0},null,{"$f":"E114","v":0},{"$f":"D121","v":0},null,{"$f":"E120","v":0},null,{"$f":"M111+S111+V111","v":0},null,{"$f":"O111+U111+X111","v":0},{"$f":"AV111","v":{"$error":"#DIV/0!"}},null,null,null,null,null,null,null,{"$f":"AA112","v":0.03},{"$f":"RANK(AK111,AK$108:AK$119,0)","v":1},{"$f":"AB113","v":{"$error":"#DIV/0!"}},{"$f":"RANK(AM111,AM$78:AM$89,0)","v":{"$error":"#DIV/0!"}},{"$f":"MAX(R113,U113,X113)","v":{"$error":"#DIV/0!"}},{"$f":"RANK(AO111,AO$108:AO$119)","v":{"$error":"#DIV/0!"}},{"$f":"Z113","v":0},{"$f":"RANK(AQ111,AQ$108:AQ$119)","v":1},{"$f":"(AL111*1000)+(AN111*100)+(AP111*10)+(AR111*1)","v":{"$error":"#DIV/0!"}},{"$f":"AS111","v":{"$error":"#DIV/0!"}},{"$f":"RANK(AT111,AT$108:AT$119,1)","v":{"$error":"#DIV/0!"}},{"$f":"RANK(AU111,AU$108:AU$119,1)","v":{"$error":"#DIV/0!"}}]
[null,null,{"$f":"C102","v":0},null,null,null,null,null,null,null,null,null,null,{"$f":"IF(R108>0,2-Q109,0.01)","v":0.01},null,null,null,null,null,{"$f":"IF(U111<1,0.01,IF(S111>P114,2,IF(S111=P114,1,0)))","v":0.01},null,null,{"$f":"IF(X111<1,0.01,IF(V111>P117,2,IF(V111=P117,1,0)))","v":0.01},null,null,null,{"$f":"N112+T112+W112","v":0.03}]
[null,null,null,null,null,null,null,null,null,null,null,null,{"$f":"F124","v":0},null,{"$f":"M111/O111","v":{"$error":"#DIV/0!"}},null,null,null,{"$f":"F114","v":0},null,{"$f":"S111/U111","v":{"$error":"#DIV/0!"}},{"$f":"F121","v":0},null,{"$f":"V111/X111","v":{"$error":"#DIV/0!"}},null,{"$f":"MAXA(S113,V113,M113)","v":0},null,{"$f":"Z111/AB111","v":{"$error":"#DIV/0!"}}]
[null,"Tour 2",{"$f":"C100","v":0},null,null,null,null,null,null,null,{"$f":"C101","v":0},null,{"$f":"D118","v":0},null,{"$f":"E117","v":0},{"$f":"D115","v":0},null,{"$f":"E114","v":0},"B",null,null,{"$f":"D126","v":0},null,{"$f":"E126","v":0},null,{"$f":"M114+P114+V114","v":0},null,{"$f":"O114+U114+X114","v":0},{"$f":"AV114","v":{"$error":"#DIV/0!"}},null,null,null,null,null,null,null,{"$f":"AA115","v":0.02},{"$f":"RANK(AK114,AK$108:AK$119,0)","v":4},{"$f":"AB116","v":{"$error":"#DIV/0!"}},{"$f":"RANK(AM114,AM$78:AM$89,0)","v":{"$error":"#DIV/0!"}},{"$f":"MAX(R116,U116,X116)","v":{"$error":"#DIV/0!"}},{"$f":"RANK(AO114,AO$108:AO$119)","v":{"$error":"#DIV/0!"}},{"$f":"Z116","v":0},{"$f":"RANK(AQ114,AQ$108:AQ$119)","v":1},{"$f":"(AL114*1000)+(AN114*100)+(AP114*10)+(AR114*1)","v":{"$error":"#DIV/0!"}},{"$f":"AS114","v":{"$error":"#DIV/0!"}},{"$f":"RANK(AT114,AT$108:AT$119,1)","v":{"$error":"#DIV/0!"}},{"$f":"RANK(AU114,AU$108:AU$119,1)","v":{"$error":"#DIV/0!"}}]
[null,null,{"$f":"C101","v":0},null,null,null,null,null,null,null,null,null,null,{"$f":"IF(U108>0,2-T109,0.01)","v":0.01},null,null,{"$f":"IF(U111>0,2-T112,0.01)","v":0.01},null,null,null,null,null,{"$f":"IF(X114<1,0.01,IF(V114>S117,2,IF(V114=S117,1,0)))","v":0.01},null,null,null,{"$f":"N115+T115+W115","v":0.02}]
[null,null,null,null,null,null,null,null,null,null,null,null,{"$f":"F118","v":0},null,{"$f":"M114/O114","v":{"$error":"#DIV/0!"}},{"$f":"F115","v":0},null,{"$f":"P114/R114","v":{"$error":"#DIV/0!"}},null,null,null,{"$f":"F126","v":0},null,{"$f":"V114/X114","v":{"$error":"#DIV/0!"}},null,{"$f":"MAXA(V116,P116,M116)","v":0},null,{"$f":"Z114/AB114","v":{"$error":"#DIV/0!"}}]
[null,"Tour 3",{"$f":"C99","v":0},null,null,null,null,null,null,null,{"$f":"C102","v":0},null,{"$f":"D112","v":0},null,{"$f":"E111","v":0},{"$f":"D120","v":0},null,{"$f":"E120","v":0},{"$f":"D127","v":0},null,{"$f":"E126","v":0},null,null,null,null,{"$f":"S117+V117+Y117","v":0},null,{"$f":"U117+R117+O117","v":0},{"$f":"AV117","v":{"$error":"#DIV/0!"}},null,null,null,null,null,null,null,{"$f":"AA118","v":0.03},{"$f":"RANK(AK117,AK$108:AK$119,0)","v":1},{"$f":"AB119","v":{"$error":"#DIV/0!"}},{"$f":"RANK(AM117,AM$78:AM$89,0)","v":{"$error":"#DIV/0!"}},{"$f":"MAX(R119,U119,X119)","v":{"$error":"#DIV/0!"}},{"$f":"RANK(AO117,AO$108:AO$119)","v":{"$error":"#DIV/0!"}},{"$f":"Z119","v":0},{"$f":"RANK(AQ117,AQ$108:AQ$119)","v":1},{"$f":"(AL117*1000)+(AN117*100)+(AP117*10)+(AR117*1)","v":{"$error":"#DIV/0!"}},{"$f":"AS117","v":{"$error":"#DIV/0!"}},{"$f":"RANK(AT117,AT$108:AT$119,1)","v":{"$error":"#DIV/0!"}},{"$f":"RANK(AU117,AU$108:AU$119,1)","v":{"$error":"#DIV/0!"}}]
[null,null,{"$f":"C101","v":0},null,null,null,null,null,null,null,null,null,null,{"$f":"IF(X108>0,2-W109,0.01)","v":0.01},null,null,{"$f":"IF(X111>0,2-W112,0.01)","v":0.01},null,null,{"$f":"IF(X114>0,2-W115,0.01)","v":0.01},null,null,null,null,null,null,{"$f":"N118+Q118+T118","v":0.03}]
[null,null,null,null,null,null,null,null,null,null,null,null,{"$f":"F112","v":0},null,{"$f":"M117/O117","v":{"$error":"#DIV/0!"}},{"$f":"F120","v":0},null,{"$f":"P117/R117","v":{"$error":"#DIV/0!"}},{"$f":"F127","v":0},null,{"$f":"S117/U117","v":{"$error":"#DIV/0!"}},null,null,null,null,{"$f":"MAXA(S119,V119,Y119)","v":0},null,{"$f":"Z117/AB117","v":{"$error":"#DIV/0!"}}]
[null,"Tour 4",{"$f":"C102","v":0}]
[null,null,{"$f":"C100","v":0},null,null,null,null,null,null,null,null,null,"Pas de prolongation en cas de match nul."]
[]
[null,"Tour 5",{"$f":"C99","v":0}]
[null,null,{"$f":"C100","v":0}]
[]
[null,"Tour 6",{"$f":"C101","v":0}]
[null,null,{"$f":"C102","v":0}]

{"sheet":"15JOUEURS_SERPENTIN","index":28,"n_rows":127,"n_cols":48,"rows_kept":127,"cut":false,"hidden":true,"merged":[[106,1,107,2],[120,12,120,29],[7,12,7,15],[7,17,7,18],[7,20,7,21],[7,23,7,25],[7,27,7,28],[46,1,47,2],[60,12,60,29],[76,1,77,2],[92,1,93,1],[92,4,93,4],[95,1,96,1],[95,4,96,4],[98,2,98,5],[99,2,99,5],[100,2,100,5],[101,2,101,5],[103,1,104,5],[83,1,84,1],[83,4,84,4],[83,10,85,11],[83,18,85,20],[83,28,85,29],[2,1,3,2],[2,3,3,9],[5,1,6,2],[5,3,6,9],[1,12,4,35],[6,12,6,15],[6,17,6,18],[6,20,6,21],[6,23,6,25],[6,27,6,28],[113,45,115,45],[116,46,118,46],[116,47,118,47],[119,1,120,1],[119,4,120,4],[116,37,118,37],[116,38,118,38],[116,39,118,39],[116,40,118,40],[116,43,118,43],[116,41,118,41],[116,42,118,42],[116,44,118,44],[116,45,118,45],[113,1,114,1],[113,4,114,4],[113,10,115,11],[113,18,115,20],[113,28,115,29],[113,46,115,46],[113,47,115,47],[113,42,115,42],[113,40,115,40],[113,41,115,41],[116,36,118,36],[110,1,111,1],[110,4,111,4],[110,10,112,11],[110,15,112,17],[110,28,112,29],[113,38,115,38],[113,36,115,36],[113,37,115,37],[125,1,126,1],[125,4,126,4],[122,1,123,1],[122,4,123,4],[116,1,117,1],[116,4,117,4],[116,10,118,11],[116,21,118,23],[116,28,118,29],[110,46,112,46],[110,47,112,47],[107,39,109,39],[107,40,109,40],[105,40,105,41],[105,42,105,43],[105,44,105,45],[110,36,112,36],[110,43,112,43],[110,44,112,44],[110,45,112,45],[110,40,112,40],[110,41,112,41],[110,42,112,42],[110,37,112,37],[110,38,112,38],[110,39,112,39],[107,47,109,47],[107,45,109,45],[107,46,109,46],[105,47,106,47],[113,43,115,43],[113,44,115,44],[107,10,109,11],[107,12,109,14],[107,28,109,29],[107,36,109,36],[107,37,109,37],[103,18,106,20],[103,21,106,23],[103,25,106,27],[107,38,109,38],[113,39,115,39],[107,41,109,41],[107,42,109,42],[107,43,109,43],[103,10,106,11],[103,12,106,14],[103,15,106,17],[103,28,106,29],[105,36,105,37],[105,38,105,39],[107,44,109,44],[86,41,88,41],[86,42,88,42],[86,1,87,1],[86,4,87,4],[86,10,88,11],[86,21,88,23],[86,28,88,29],[86,36,88,36],[89,1,90,1],[89,4,90,4],[86,37,88,37],[86,38,88,38],[86,39,88,39],[86,40,88,40],[90,12,90,29],[86,45,88,45],[86,46,88,46],[86,47,88,47],[80,43,82,43],[80,44,82,44],[80,45,82,45],[80,46,82,46],[80,47,82,47],[83,43,85,43],[83,44,85,44],[86,43,88,43],[86,44,88,44],[83,47,85,47],[80,37,82,37],[80,36,82,36],[83,38,85,38],[83,39,85,39],[83,36,85,36],[83,37,85,37],[80,1,81,1],[80,4,81,4],[80,10,82,11],[80,15,82,17],[80,28,82,29],[80,38,82,38],[80,39,82,39],[77,38,79,38],[77,39,79,39],[77,40,79,40],[75,40,75,41],[75,42,75,43],[75,44,75,45],[83,45,85,45],[83,46,85,46],[83,41,85,41],[80,40,82,40],[80,41,82,41],[80,42,82,42],[83,42,85,42],[83,40,85,40],[77,47,79,47],[77,41,79,41],[77,42,79,42],[77,43,79,43],[71,2,71,5],[73,1,74,5],[73,10,76,11],[73,12,76,14],[73,15,76,17],[73,28,76,29],[75,36,75,37],[75,38,75,39],[77,44,79,44],[77,45,79,45],[77,46,79,46],[75,47,76,47],[77,10,79,11],[77,12,79,14],[77,28,79,29],[77,36,79,36],[77,37,79,37],[73,18,76,20],[73,21,76,23],[73,25,76,27],[70,2,70,5],[53,47,55,47],[56,1,57,1],[56,4,57,4],[56,10,58,11],[56,21,58,23],[56,28,58,29],[56,36,58,36],[59,1,60,1],[59,4,60,4],[56,37,58,37],[56,38,58,38],[56,39,58,39],[56,40,58,40],[62,1,63,1],[62,4,63,4],[65,1,66,1],[65,4,66,4],[68,2,68,5],[69,2,69,5],[53,37,55,37],[56,43,58,43],[56,44,58,44],[56,45,58,45],[56,46,58,46],[56,47,58,47],[47,41,49,41],[47,42,49,42],[47,43,49,43],[47,44,49,44],[47,45,49,45],[53,38,55,38],[53,39,55,39],[53,40,55,40],[53,41,55,41],[53,42,55,42],[53,43,55,43],[56,41,58,41],[56,42,58,42],[53,44,55,44],[53,45,55,45],[53,46,55,46],[50,41,52,41],[50,42,52,42],[50,43,52,43],[50,44,52,44],[50,45,52,45],[50,46,52,46],[53,1,54,1],[53,4,54,4],[53,10,55,11],[53,18,55,20],[53,28,55,29],[53,36,55,36],[43,25,46,27],[43,28,46,29],[45,36,45,37],[50,1,51,1],[50,4,51,4],[50,10,52,11],[50,15,52,17],[50,28,52,29],[50,36,52,36],[50,37,52,37],[50,38,52,38],[47,40,49,40],[45,44,45,45],[45,47,46,47],[47,10,49,11],[47,12,49,14],[47,28,49,29],[47,36,49,36],[47,37,49,37],[50,47,52,47],[50,39,52,39],[50,40,52,40],[22,47,24,47],[25,1,26,1],[25,4,26,4],[26,12,26,34],[28,1,29,1],[28,4,29,4],[47,46,49,46],[47,47,49,47],[38,2,38,5],[39,2,39,5],[40,2,40,5],[41,2,41,5],[45,40,45,41],[45,42,45,43],[43,1,44,5],[43,10,46,11],[43,12,46,14],[43,15,46,17],[43,18,46,20],[43,21,46,23],[47,38,49,38],[47,39,49,39],[45,38,45,39],[22,39,24,39],[34,1,35,1],[34,4,35,4],[31,1,32,1],[31,4,32,4],[22,1,23,1],[22,4,23,4],[22,10,24,11],[22,18,24,20],[22,27,24,29],[16,47,18,47],[19,1,20,1],[19,4,20,4],[19,10,21,11],[19,15,21,17],[19,24,21,26],[19,34,21,34],[19,36,21,36],[16,39,18,39],[19,37,21,37],[19,38,21,38],[19,39,21,39],[19,40,21,40],[19,41,21,41],[19,42,21,42],[19,43,21,43],[19,44,21,44],[16,46,18,46],[19,45,21,45],[19,46,21,46],[16,36,18,36],[16,40,18,40],[16,41,18,41],[16,12,18,14],[16,42,18,42],[16,43,18,43],[16,44,18,44],[12,12,15,14],[12,15,15,17],[12,18,15,20],[12,21,15,23],[22,45,24,45],[22,46,24,46],[22,37,24,37],[22,38,24,38],[22,40,24,40],[22,41,24,41],[22,42,24,42],[22,43,24,43],[22,44,24,44],[22,34,24,34],[22,36,24,36],[19,47,21,47],[15,1,16,2],[14,46,15,46],[16,10,18,11],[10,21,10,29],[14,41,14,42],[16,45,18,45],[8,2,8,5],[9,2,9,5],[14,43,14,44],[12,1,13,5],[10,2,10,5],[10,12,10,20],[16,37,18,37],[16,38,18,38],[12,31,15,33],[12,34,15,34],[13,10,15,11],[14,36,14,37],[14,38,14,39],[12,24,15,26],[12,27,15,29],[16,21,18,23],[16,34,18,34]]}
[]
[null,null,null,null,null,null,null,null,null,null,null,null,"LIGUE MÉDITERRANÉENNE DE BILLARD"]
[null,"CLUB ORGANISATEUR"]
[]
[]
[null,"DIRECTEUR DE JEU :"]
[null,null,null,null,null,null,null,null,null,null,null,null,"Compétition",null,null,null,null,"Mode de jeu",null,null,"Categorie",null,null,"Format billard",null,null,null,"Distance"]
[]
[null,"Joueur 1",{"$f":"'Saisie des joueurs'!K18","v":0}]
[null,"Joueur 2",{"$f":"'Saisie des joueurs'!K19","v":0}]
[null,"Joueur 3",{"$f":"'Saisie des joueurs'!K20","v":0},null,null,null,null,null,null,null,null,null,"MATCH ALLER",null,null,null,null,null,null,null,null,"MATCH RETOUR"]
[]
[null,"SAISIE DES RESULTATS",null,null,null,null,null,null,null,null,null,null,{"$f":"C9","v":0},null,null,{"$f":"C10","v":0},null,null,{"$f":"C11","v":0},null,null,{"$f":"C9","v":0},null,null,{"$f":"C10","v":0},null,null,{"$f":"C11","v":0},null,null,null,"TOTAUX",null,null,"CLASSEMENT"]
[]
[null,null,null,null,null,null,null,null,null,null,null,null,null,null,null,null,null,null,null,null,null,null,null,null,null,null,null,null,null,null,null,null,null,null,null,null,"Classement",null,"Classement",null,"Classement","Classement",null,"Classement",null,"GENERAL","RANG"]
[null,"POULE A",null,null,null,null,null,null,null,null,null,null,null,null,null,null,null,null,null,null,null,null,null,null,null,null,null,null,null,null,null,null,null,null,null,null,"Point-Match","CLS-M","Moy-Gen","CLS-G","Moy-Part","M-Series","CLS-S","MGPS","CLS","CLS"]
[null,null,null,null,null,null,null,null,null,null,{"$f":"C9","v":0},null,"L",null,null,{"$f":"D26","v":0},null,{"$f":"E26","v":0},{"$f":"D20","v":0},null,{"$f":"E20","v":0},"L",null,null,{"$f":"D35","v":0},null,{"$f":"E35","v":0},{"$f":"D29","v":0},null,{"$f":"E29","v":0},null,{"$f":"P17+S17+Y17+AB17","v":0},null,{"$f":"R17+U17+AA17+AD17","v":0},{"$f":"AU17","v":{"$error":"#DIV/0!"}},null,{"$f":"AG18","v":0.04},{"$f":"RANK(AK17,AK$17:AK$25,0)","v":1},{"$f":"AH19","v":{"$error":"#DIV/0!"}},{"$f":"RANK(AM17,AM$17:AM$25,0)","v":{"$error":"#DIV/0!"}},{"$f":"MAX(R19,U19,AA19,AD19)","v":{"$error":"#DIV/0!"}},{"$f":"RANK(AO17,AO$17:AO$25)","v":{"$error":"#DIV/0!"}},{"$f":"AF19","v":0},{"$f":"RANK(AQ17,AQ$17:AQ$25)","v":1},{"$f":"(AL17*1000)+(AN17*100)+(AP17*10)+(AR17*1)","v":{"$error":"#DIV/0!"}},{"$f":"AS17","v":{"$error":"#DIV/0!"}},{"$f":"RANK(AT17,AT$17:AT$25,1)","v":{"$error":"#DIV/0!"}},{"$f":"RANK(AU17,AU$17:AU$25,1)","v":{"$error":"#DIV/0!"}}]
[null,null,null,null,null,null,null,null,null,null,null,null,null,null,null,null,{"$f":"IF(R17<1,0.01,IF(P17>M20,2,IF(P17=M20,1,0)))","v":0.01},null,null,{"$f":"IF(U17<1,0.01,IF(S17>M23,2,IF(S17=M23,1,0)))","v":0.01},null,null,null,null,null,{"$f":"IF(AA17<1,0.01,IF(Y17>V20,2,IF(Y17=V20,1,0)))","v":0.01},null,null,{"$f":"IF(AD17<1,0.01,IF(AB17>V23,2,IF(AB17=V23,1,0)))","v":0.01},null,null,null,{"$f":"Q18+T18+Z18+AC18","v":0.04}]
[null,null,null,"Pts","Rep","Série",null,null,null,null,null,null,null,null,null,{"$f":"F26","v":0},null,{"$f":"P17/R17","v":{"$error":"#DIV/0!"}},{"$f":"F20","v":0},null,{"$f":"S17/U17","v":{"$error":"#DIV/0!"}},null,null,null,{"$f":"F35","v":0},null,{"$f":"Y17/AA17","v":{"$error":"#DIV/0!"}},{"$f":"F29","v":0},null,{"$f":"AB17/AD17","v":{"$error":"#DIV/0!"}},null,{"$f":"MAX(P19,S19,Y19,AB19)","v":0},null,{"$f":"AF17/AH17","v":{"$error":"#DIV/0!"}}]
[null,"Tour 1\nMatch aller",{"$f":"C9","v":0},null,null,null,null,null,null,null,{"$f":"C10","v":0},null,{"$f":"D27","v":0},null,{"$f":"E26","v":0},"M",null,null,{"$f":"D23","v":0},null,{"$f":"E23","v":0},{"$f":"D36","v":0},null,{"$f":"E35","v":0},"M",null,null,{"$f":"D32","v":0},null,{"$f":"E32","v":0},null,{"$f":"M20+S20+V20+AB20","v":0},null,{"$f":"O20+U20+X20+AD20","v":0},{"$f":"AU20","v":{"$error":"#DIV/0!"}},null,{"$f":"AG21","v":0.04},{"$f":"RANK(AK20,AK$17:AK$25,0)","v":1},{"$f":"AH22","v":{"$error":"#DIV/0!"}},{"$f":"RANK(AM20,AM$17:AM$25,0)","v":{"$error":"#DIV/0!"}},{"$f":"MAX(R22,U22,AA22,AD22)","v":{"$error":"#DIV/0!"}},{"$f":"RANK(AO20,AO$17:AO$25)","v":{"$error":"#DIV/0!"}},{"$f":"AF22","v":0},{"$f":"RANK(AQ20,AQ$17:AQ$25)","v":1},{"$f":"(AL20*1000)+(AN20*100)+(AP20*10)+(AR20*1)","v":{"$error":"#DIV/0!"}},{"$f":"AS20","v":{"$error":"#DIV/0!"}},{"$f":"RANK(AT20,AT$17:AT$25,1)","v":{"$error":"#DIV/0!"}},{"$f":"RANK(AU20,AU$17:AU$25,1)","v":{"$error":"#DIV/0!"}}]
[null,null,{"$f":"C11","v":0},null,null,null,null,null,null,null,null,null,null,{"$f":"IF(R17>0,2-Q18,0.01)","v":0.01},null,null,null,null,null,{"$f":"IF(U20<1,0.01,IF(S20>P23,2,IF(S20=P23,1,0)))","v":0.01},null,null,{"$f":"IF(AA17>0,2-Z18,0.01)","v":0.01},null,null,null,null,null,{"$f":"IF(AD20<1,0.01,IF(AB20>Y23,2,IF(AB20=Y23,1,0)))","v":0.01},null,null,null,{"$f":"N21+T21+W21+AC21","v":0.04}]
[null,null,null,null,null,null,null,null,null,null,null,null,{"$f":"F27","v":0},null,{"$f":"M20/O20","v":{"$error":"#DIV/0!"}},null,null,null,{"$f":"F23","v":0},null,{"$f":"S20/U20","v":{"$error":"#DIV/0!"}},{"$f":"F36","v":0},null,{"$f":"V20/X20","v":{"$error":"#DIV/0!"}},null,null,null,{"$f":"F32","v":0},null,{"$f":"AB20/AD20","v":{"$error":"#DIV/0!"}},null,{"$f":"MAXA(M22,S22,V22,AB22)","v":0},null,{"$f":"AF20/AH20","v":{"$error":"#DIV/0!"}}]
[null,"Tour 2\nMatch aller",{"$f":"C10","v":0},null,null,null,null,null,null,null,{"$f":"C11","v":0},null,{"$f":"D21","v":0},null,{"$f":"E20","v":0},{"$f":"D24","v":0},null,{"$f":"E23","v":0},"B",null,null,{"$f":"D30","v":0},null,{"$f":"E29","v":0},{"$f":"D33","v":0},null,{"$f":"E32","v":0},"B",null,null,null,{"$f":"M23+P23+V23+Y23","v":0},null,{"$f":"O23+R23+X23+AA23","v":0},{"$f":"AU23","v":{"$error":"#DIV/0!"}},null,{"$f":"AG24","v":0.04},{"$f":"RANK(AK23,AK$17:AK$25,0)","v":1},{"$f":"AH25","v":{"$error":"#DIV/0!"}},{"$f":"RANK(AM23,AM$17:AM$25,0)","v":{"$error":"#DIV/0!"}},{"$f":"MAX(R25,U25,AA25,AD25)","v":{"$error":"#DIV/0!"}},{"$f":"RANK(AO23,AO$17:AO$25)","v":{"$error":"#DIV/0!"}},{"$f":"AF25","v":0},{"$f":"RANK(AQ23,AQ$17:AQ$25)","v":1},{"$f":"(AL23*1000)+(AN23*100)+(AP23*10)+(AR23*1)","v":{"$error":"#DIV/0!"}},{"$f":"AS23","v":{"$error":"#DIV/0!"}},{"$f":"RANK(AT23,AT$17:AT$25,1)","v":{"$error":"#DIV/0!"}},{"$f":"RANK(AU23,AU$17:AU$25,1)","v":{"$error":"#DIV/0!"}}]
[null,null,{"$f":"C11","v":0},null,null,null,null,null,null,null,null,null,null,{"$f":"IF(U17>0,2-T18,0.01)","v":0.01},null,null,{"$f":"IF(U20>0,2-T21,0.01)","v":0.01},null,null,null,null,null,{"$f":"IF(AD17>0,2-AC18,0.01)","v":0.01},null,null,{"$f":"IF(AD20>0,2-AC21,0.01)","v":0.01},null,null,null,null,null,null,{"$f":"N24+Q24+W24+Z24","v":0.04}]
[null,null,null,null,null,null,null,null,null,null,null,null,{"$f":"F21","v":0},null,{"$f":"M23/O23","v":{"$error":"#DIV/0!"}},{"$f":"F24","v":0},null,{"$f":"P23/R23","v":{"$error":"#DIV/0!"}},null,null,null,{"$f":"F30","v":0},null,{"$f":"V23/X23","v":{"$error":"#DIV/0!"}},{"$f":"F33","v":0},null,{"$f":"Y23/AA23","v":{"$error":"#DIV/0!"}},null,null,null,null,{"$f":"MAXA(M25,P25,V25,Y25)","v":0},null,{"$f":"AF23/AH23","v":{"$error":"#DIV/0!"}}]
[null,"Tour 3\nMatch aller",{"$f":"C9","v":0}]
[null,null,{"$f":"C10","v":0},null,null,null,null,null,null,null,null,null,"Pas de prolongation en cas de match nul."]
[]
[null,"Tour 1\nMatch retour",{"$f":"C9","v":0}]
[null,null,{"$f":"C11","v":0}]
[]
[null,"Tour 2\nMatch retour",{"$f":"C10","v":0}]
[null,null,{"$f":"C11","v":0}]
[]
[null,"Tour 3\nMatch retour",{"$f":"C9","v":0}]
[null,null,{"$f":"C10","v":0}]
[]
[]
[null,"Joueur 1",{"$f":"'Saisie des joueurs'!K22","v":0}]
[null,"Joueur 2",{"$f":"'Saisie des joueurs'!K23","v":0}]
[null,"Joueur 3",{"$f":"'Saisie des joueurs'!K24","v":0}]
[null,"Joueur 4",{"$f":"'Saisie des joueurs'!K25","v":0}]
[]
[null,"SAISIE DES RESULTATS",null,null,null,null,null,null,null,null,null,null,{"$f":"C39","v":0},null,null,{"$f":"C40","v":0},null,null,{"$f":"C41","v":0},null,null,{"$f":"C42","v":0},null,null,null,"TOTAUX",null,null,"CLASSEMENT"]
[]
[null,null,null,null,null,null,null,null,null,null,null,null,null,null,null,null,null,null,null,null,null,null,null,null,null,null,null,null,null,null,null,null,null,null,null,null,"Classement",null,"Classement",null,"Classement",null,"Classement",null,"Classement",null,"GENERAL","RANG"]
[null,"POULE B",null,null,null,null,null,null,null,null,null,null,null,null,null,null,null,null,null,null,null,null,null,null,null,null,null,null,null,null,null,null,null,null,null,null,"Point-Match","CLS-M","Moy-Gen","CLS-G","Moy-Part","CLS-P","M-Series","CLS-S","MGPS","CLS","CLS"]
[null,null,null,null,null,null,null,null,null,null,{"$f":"C39","v":0},null,"L",null,null,{"$f":"D63","v":0},null,{"$f":"E63","v":0},{"$f":"D57","v":0},null,{"$f":"E57","v":0},{"$f":"D51","v":0},null,{"$f":"E51","v":0},null,{"$f":"P48+S48+V48","v":0},null,{"$f":"R48+U48+X48","v":0},{"$f":"AV48","v":{"$error":"#DIV/0!"}},null,null,null,null,null,null,null,{"$f":"AA49","v":0.03},{"$f":"RANK(AK48,AK$48:AK$59,0)","v":1},{"$f":"AB50","v":{"$error":"#DIV/0!"}},{"$f":"RANK(AM48,AM$48:AM$59,0)","v":{"$error":"#DIV/0!"}},{"$f":"MAX(R50,U50,X50)","v":{"$error":"#DIV/0!"}},{"$f":"RANK(AO48,AO$48:AO$59)","v":{"$error":"#DIV/0!"}},{"$f":"Z50","v":0},{"$f":"RANK(AQ48,AQ$48:AQ$59)","v":1},{"$f":"(AL48*1000)+(AN48*100)+(AP48*10)+(AR48*1)","v":{"$error":"#DIV/0!"}},{"$f":"AS48","v":{"$error":"#DIV/0!"}},{"$f":"RANK(AT48,AT$48:AT$59,1)","v":{"$error":"#DIV/0!"}},{"$f":"RANK(AU48,AU$48:AU$59,1)","v":{"$error":"#DIV/0!"}}]
[null,null,null,null,null,null,null,null,null,null,null,null,null,null,null,null,{"$f":"IF(R48<1,0.01,IF(P48>M51,2,IF(P48=M51,1,0)))","v":0.01},null,null,{"$f":"IF(U48<1,0.01,IF(S48>M54,2,IF(S48=M54,1,0)))","v":0.01},null,null,{"$f":"IF(X48<1,0.01,IF(V48>M57,2,IF(V48=M57,1,0)))","v":0.01},null,null,null,{"$f":"W49+T49+Q49","v":0.03}]
[null,null,null,"Pts","Rep","Série",null,null,null,null,null,null,null,null,null,{"$f":"F63","v":0},null,{"$f":"P48/R48","v":{"$error":"#DIV/0!"}},{"$f":"F57","v":0},null,{"$f":"S48/U48","v":{"$error":"#DIV/0!"}},{"$f":"F51","v":0},null,{"$f":"V48/X48","v":{"$error":"#DIV/0!"}},null,{"$f":"MAX(V50,S50,P50)","v":0},null,{"$f":"Z48/AB48","v":{"$error":"#DIV/0!"}}]
[null,"Tour 1",{"$f":"C39","v":0},null,null,null,null,null,null,null,{"$f":"C40","v":0},null,{"$f":"D64","v":0},null,{"$f":"E63","v":0},"M",null,null,{"$f":"D54","v":0},null,{"$f":"E54","v":0},{"$f":"D61","v":0},null,{"$f":"E60","v":0},null,{"$f":"M51+S51+V51","v":0},null,{"$f":"O51+U51+X51","v":0},{"$f":"AV51","v":{"$error":"#DIV/0!"}},null,null,null,null,null,null,null,{"$f":"AA52","v":0.03},{"$f":"RANK(AK51,AK$48:AK$59,0)","v":1},{"$f":"AB53","v":{"$error":"#DIV/0!"}},{"$f":"RANK(AM51,AM$48:AM$59,0)","v":{"$error":"#DIV/0!"}},{"$f":"MAX(R53,U53,X53)","v":{"$error":"#DIV/0!"}},{"$f":"RANK(AO51,AO$48:AO$59)","v":{"$error":"#DIV/0!"}},{"$f":"Z53","v":0},{"$f":"RANK(AQ51,AQ$48:AQ$59)","v":1},{"$f":"(AL51*1000)+(AN51*100)+(AP51*10)+(AR51*1)","v":{"$error":"#DIV/0!"}},{"$f":"AS51","v":{"$error":"#DIV/0!"}},{"$f":"RANK(AT51,AT$48:AT$59,1)","v":{"$error":"#DIV/0!"}},{"$f":"RANK(AU51,AU$48:AU$59,1)","v":{"$error":"#DIV/0!"}}]
[null,null,{"$f":"C42","v":0},null,null,null,null,null,null,null,null,null,null,{"$f":"IF(R48>0,2-Q49,0.01)","v":0.01},null,null,null,null,null,{"$f":"IF(U51<1,0.01,IF(S51>P54,2,IF(S51=P54,1,0)))","v":0.01},null,null,{"$f":"IF(X51<1,0.01,IF(V51>P57,2,IF(V51=P57,1,0)))","v":0.01},null,null,null,{"$f":"N52+T52+W52","v":0.03}]
[null,null,null,null,null,null,null,null,null,null,null,null,{"$f":"F64","v":0},null,{"$f":"M51/O51","v":{"$error":"#DIV/0!"}},null,null,null,{"$f":"F54","v":0},null,{"$f":"S51/U51","v":{"$error":"#DIV/0!"}},{"$f":"F61","v":0},null,{"$f":"V51/X51","v":{"$error":"#DIV/0!"}},null,{"$f":"MAXA(S53,V53,M53)","v":0},null,{"$f":"Z51/AB51","v":{"$error":"#DIV/0!"}}]
[null,"Tour 2",{"$f":"C40","v":0},null,null,null,null,null,null,null,{"$f":"C41","v":0},null,{"$f":"D58","v":0},null,{"$f":"E57","v":0},{"$f":"D55","v":0},null,{"$f":"E54","v":0},"B",null,null,{"$f":"D66","v":0},null,{"$f":"E66","v":0},null,{"$f":"M54+P54+V54","v":0},null,{"$f":"O54+U54+X54","v":0},{"$f":"AV54","v":{"$error":"#DIV/0!"}},null,null,null,null,null,null,null,{"$f":"AA55","v":0.02},{"$f":"RANK(AK54,AK$48:AK$59,0)","v":4},{"$f":"AB56","v":{"$error":"#DIV/0!"}},{"$f":"RANK(AM54,AM$48:AM$59,0)","v":{"$error":"#DIV/0!"}},{"$f":"MAX(R56,U56,X56)","v":{"$error":"#DIV/0!"}},{"$f":"RANK(AO54,AO$48:AO$59)","v":{"$error":"#DIV/0!"}},{"$f":"Z56","v":0},{"$f":"RANK(AQ54,AQ$48:AQ$59)","v":1},{"$f":"(AL54*1000)+(AN54*100)+(AP54*10)+(AR54*1)","v":{"$error":"#DIV/0!"}},{"$f":"AS54","v":{"$error":"#DIV/0!"}},{"$f":"RANK(AT54,AT$48:AT$59,1)","v":{"$error":"#DIV/0!"}},{"$f":"RANK(AU54,AU$48:AU$59,1)","v":{"$error":"#DIV/0!"}}]
[null,null,{"$f":"C41","v":0},null,null,null,null,null,null,null,null,null,null,{"$f":"IF(U48>0,2-T49,0.01)","v":0.01},null,null,{"$f":"IF(U51>0,2-T52,0.01)","v":0.01},null,null,null,null,null,{"$f":"IF(X54<1,0.01,IF(V54>S57,2,IF(V54=S57,1,0)))","v":0.01},null,null,null,{"$f":"N55+T55+W55","v":0.02}]
[null,null,null,null,null,null,null,null,null,null,null,null,{"$f":"F58","v":0},null,{"$f":"M54/O54","v":{"$error":"#DIV/0!"}},{"$f":"F55","v":0},null,{"$f":"P54/R54","v":{"$error":"#DIV/0!"}},null,null,null,{"$f":"F66","v":0},null,{"$f":"V54/X54","v":{"$error":"#DIV/0!"}},null,{"$f":"MAXA(V56,P56,M56)","v":0},null,{"$f":"Z54/AB54","v":{"$error":"#DIV/0!"}}]
[null,"Tour 3",{"$f":"C39","v":0},null,null,null,null,null,null,null,{"$f":"C42","v":0},null,{"$f":"D52","v":0},null,{"$f":"E51","v":0},{"$f":"D60","v":0},null,{"$f":"E60","v":0},{"$f":"D67","v":0},null,{"$f":"E66","v":0},null,null,null,null,{"$f":"S57+V57+Y57","v":0},null,{"$f":"U57+R57+O57","v":0},{"$f":"AV57","v":{"$error":"#DIV/0!"}},null,null,null,null,null,null,null,{"$f":"AA58","v":0.03},{"$f":"RANK(AK57,AK$48:AK$59,0)","v":1},{"$f":"AB59","v":{"$error":"#DIV/0!"}},{"$f":"RANK(AM57,AM$48:AM$59,0)","v":{"$error":"#DIV/0!"}},{"$f":"MAX(R59,U59,X59)","v":{"$error":"#DIV/0!"}},{"$f":"RANK(AO57,AO$48:AO$59)","v":{"$error":"#DIV/0!"}},{"$f":"Z59","v":0},{"$f":"RANK(AQ57,AQ$48:AQ$59)","v":1},{"$f":"(AL57*1000)+(AN57*100)+(AP57*10)+(AR57*1)","v":{"$error":"#DIV/0!"}},{"$f":"AS57","v":{"$error":"#DIV/0!"}},{"$f":"RANK(AT57,AT$48:AT$59,1)","v":{"$error":"#DIV/0!"}},{"$f":"RANK(AU57,AU$48:AU$59,1)","v":{"$error":"#DIV/0!"}}]
[null,null,{"$f":"C41","v":0},null,null,null,null,null,null,null,null,null,null,{"$f":"IF(X48>0,2-W49,0.01)","v":0.01},null,null,{"$f":"IF(X51>0,2-W52,0.01)","v":0.01},null,null,{"$f":"IF(X54>0,2-W55,0.01)","v":0.01},null,null,null,null,null,null,{"$f":"N58+Q58+T58","v":0.03}]
[null,null,null,null,null,null,null,null,null,null,null,null,{"$f":"F52","v":0},null,{"$f":"M57/O57","v":{"$error":"#DIV/0!"}},{"$f":"F60","v":0},null,{"$f":"P57/R57","v":{"$error":"#DIV/0!"}},{"$f":"F67","v":0},null,{"$f":"S57/U57","v":{"$error":"#DIV/0!"}},null,null,null,null,{"$f":"MAXA(S59,V59,Y59)","v":0},null,{"$f":"Z57/AB57","v":{"$error":"#DIV/0!"}}]
[null,"Tour 4",{"$f":"C42","v":0}]
[null,null,{"$f":"C40","v":0},null,null,null,null,null,null,null,null,null,"Pas de prolongation en cas de match nul."]
[]
[null,"Tour 5",{"$f":"C39","v":0}]
[null,null,{"$f":"C40","v":0}]
[]
[null,"Tour 6",{"$f":"C41","v":0}]
[null,null,{"$f":"C42","v":0}]
[]
[null,"Joueur 1",{"$f":"'Saisie des joueurs'!K26","v":0}]
[null,"Joueur 2",{"$f":"'Saisie des joueurs'!K27","v":0}]
[null,"Joueur 3",{"$f":"'Saisie des joueurs'!K28","v":0}]
[null,"Joueur 4",{"$f":"'Saisie des joueurs'!K29","v":0}]
[]
[null,"SAISIE DES RESULTATS",null,null,null,null,null,null,null,null,null,null,{"$f":"C69","v":0},null,null,{"$f":"C70","v":0},null,null,{"$f":"C71","v":0},null,null,{"$f":"C72","v":0},null,null,null,"TOTAUX",null,null,"CLASSEMENT"]
[]
[null,null,null,null,null,null,null,null,null,null,null,null,null,null,null,null,null,null,null,null,null,null,null,null,null,null,null,null,null,null,null,null,null,null,null,null,"Classement",null,"Classement",null,"Classement",null,"Classement",null,"Classement",null,"GENERAL","RANG"]
[null,"POULE C",null,null,null,null,null,null,null,null,null,null,null,null,null,null,null,null,null,null,null,null,null,null,null,null,null,null,null,null,null,null,null,null,null,null,"Point-Match","CLS-M","Moy-Gen","CLS-G","Moy-Part","CLS-P","M-Series","CLS-S","MGPS","CLS","CLS"]
[null,null,null,null,null,null,null,null,null,null,{"$f":"C69","v":0},null,"L",null,null,{"$f":"D93","v":0},null,{"$f":"E93","v":0},{"$f":"D87","v":0},null,{"$f":"E87","v":0},{"$f":"D81","v":0},null,{"$f":"E81","v":0},null,{"$f":"P78+S78+V78","v":0},null,{"$f":"R78+U78+X78","v":0},{"$f":"AV78","v":{"$error":"#DIV/0!"}},null,null,null,null,null,null,null,{"$f":"AA79","v":0.03},{"$f":"RANK(AK78,AK$78:AK$89,0)","v":1},{"$f":"AB80","v":{"$error":"#DIV/0!"}},{"$f":"RANK(AM78,AM$78:AM$89,0)","v":{"$error":"#DIV/0!"}},{"$f":"MAX(R80,U80,X80)","v":{"$error":"#DIV/0!"}},{"$f":"RANK(AO78,AO$78:AO$89)","v":{"$error":"#DIV/0!"}},{"$f":"Z80","v":0},{"$f":"RANK(AQ78,AQ$78:AQ$89)","v":1},{"$f":"(AL78*1000)+(AN78*100)+(AP78*10)+(AR78*1)","v":{"$error":"#DIV/0!"}},{"$f":"AS78","v":{"$error":"#DIV/0!"}},{"$f":"RANK(AT78,AT$78:AT$89,1)","v":{"$error":"#DIV/0!"}},{"$f":"RANK(AU78,AU$78:AU$89,1)","v":{"$error":"#DIV/0!"}}]
[null,null,null,null,null,null,null,null,null,null,null,null,null,null,null,null,{"$f":"IF(R78<1,0.01,IF(P78>M81,2,IF(P78=M81,1,0)))","v":0.01},null,null,{"$f":"IF(U78<1,0.01,IF(S78>M84,2,IF(S78=M84,1,0)))","v":0.01},null,null,{"$f":"IF(X78<1,0.01,IF(V78>M87,2,IF(V78=M87,1,0)))","v":0.01},null,null,null,{"$f":"W79+T79+Q79","v":0.03}]
[null,null,null,"Pts","Rep","Série",null,null,null,null,null,null,null,null,null,{"$f":"F93","v":0},null,{"$f":"P78/R78","v":{"$error":"#DIV/0!"}},{"$f":"F87","v":0},null,{"$f":"S78/U78","v":{"$error":"#DIV/0!"}},{"$f":"F81","v":0},null,{"$f":"V78/X78","v":{"$error":"#DIV/0!"}},null,{"$f":"MAX(V80,S80,P80)","v":0},null,{"$f":"Z78/AB78","v":{"$error":"#DIV/0!"}}]
[null,"Tour 1",{"$f":"C69","v":0},null,null,null,null,null,null,null,{"$f":"C70","v":0},null,{"$f":"D94","v":0},null,{"$f":"E93","v":0},"M",null,null,{"$f":"D84","v":0},null,{"$f":"E84","v":0},{"$f":"D91","v":0},null,{"$f":"E90","v":0},null,{"$f":"M81+S81+V81","v":0},null,{"$f":"O81+U81+X81","v":0},{"$f":"AV81","v":{"$error":"#DIV/0!"}},null,null,null,null,null,null,null,{"$f":"AA82","v":0.03},{"$f":"RANK(AK81,AK$78:AK$89,0)","v":1},{"$f":"AB83","v":{"$error":"#DIV/0!"}},{"$f":"RANK(AM81,AM$81:AM$89,0)","v":{"$error":"#DIV/0!"}},{"$f":"MAX(R83,U83,X83)","v":{"$error":"#DIV/0!"}},{"$f":"RANK(AO81,AO$78:AO$89)","v":{"$error":"#DIV/0!"}},{"$f":"Z83","v":0},{"$f":"RANK(AQ81,AQ$78:AQ$89)","v":1},{"$f":"(AL81*1000)+(AN81*100)+(AP81*10)+(AR81*1)","v":{"$error":"#DIV/0!"}},{"$f":"AS81","v":{"$error":"#DIV/0!"}},{"$f":"RANK(AT81,AT$78:AT$89,1)","v":{"$error":"#DIV/0!"}},{"$f":"RANK(AU81,AU$78:AU$89,1)","v":{"$error":"#DIV/0!"}}]
[null,null,{"$f":"C72","v":0},null,null,null,null,null,null,null,null,null,null,{"$f":"IF(R78>0,2-Q79,0.01)","v":0.01},null,null,null,null,null,{"$f":"IF(U81<1,0.01,IF(S81>P84,2,IF(S81=P84,1,0)))","v":0.01},null,null,{"$f":"IF(X81<1,0.01,IF(V81>P87,2,IF(V81=P87,1,0)))","v":0.01},null,null,null,{"$f":"N82+T82+W82","v":0.03}]
[null,null,null,null,null,null,null,null,null,null,null,null,{"$f":"F94","v":0},null,{"$f":"M81/O81","v":{"$error":"#DIV/0!"}},null,null,null,{"$f":"F84","v":0},null,{"$f":"S81/U81","v":{"$error":"#DIV/0!"}},{"$f":"F91","v":0},null,{"$f":"V81/X81","v":{"$error":"#DIV/0!"}},null,{"$f":"MAXA(S83,V83,M83)","v":0},null,{"$f":"Z81/AB81","v":{"$error":"#DIV/0!"}}]
[null,"Tour 2",{"$f":"C70","v":0},null,null,null,null,null,null,null,{"$f":"C71","v":0},null,{"$f":"D88","v":0},null,{"$f":"E87","v":0},{"$f":"D85","v":0},null,{"$f":"E84","v":0},"B",null,null,{"$f":"D96","v":0},null,{"$f":"E96","v":0},null,{"$f":"M84+P84+V84","v":0},null,{"$f":"O84+U84+X84","v":0},{"$f":"AV84","v":{"$error":"#DIV/0!"}},null,null,null,null,null,null,null,{"$f":"AA85","v":0.02},{"$f":"RANK(AK84,AK$78:AK$89,0)","v":4},{"$f":"AB86","v":{"$error":"#DIV/0!"}},{"$f":"RANK(AM84,AM$84:AM$89,0)","v":{"$error":"#DIV/0!"}},{"$f":"MAX(R86,U86,X86)","v":{"$error":"#DIV/0!"}},{"$f":"RANK(AO84,AO$78:AO$89)","v":{"$error":"#DIV/0!"}},{"$f":"Z86","v":0},{"$f":"RANK(AQ84,AQ$78:AQ$89)","v":1},{"$f":"(AL84*1000)+(AN84*100)+(AP84*10)+(AR84*1)","v":{"$error":"#DIV/0!"}},{"$f":"AS84","v":{"$error":"#DIV/0!"}},{"$f":"RANK(AT84,AT$78:AT$89,1)","v":{"$error":"#DIV/0!"}},{"$f":"RANK(AU84,AU$78:AU$89,1)","v":{"$error":"#DIV/0!"}}]
[null,null,{"$f":"C71","v":0},null,null,null,null,null,null,null,null,null,null,{"$f":"IF(U78>0,2-T79,0.01)","v":0.01},null,null,{"$f":"IF(U81>0,2-T82,0.01)","v":0.01},null,null,null,null,null,{"$f":"IF(X84<1,0.01,IF(V84>S87,2,IF(V84=S87,1,0)))","v":0.01},null,null,null,{"$f":"N85+T85+W85","v":0.02}]
[null,null,null,null,null,null,null,null,null,null,null,null,{"$f":"F88","v":0},null,{"$f":"M84/O84","v":{"$error":"#DIV/0!"}},{"$f":"F85","v":0},null,{"$f":"P84/R84","v":{"$error":"#DIV/0!"}},null,null,null,{"$f":"F96","v":0},null,{"$f":"V84/X84","v":{"$error":"#DIV/0!"}},null,{"$f":"MAXA(V86,P86,M86)","v":0},null,{"$f":"Z84/AB84","v":{"$error":"#DIV/0!"}}]
[null,"Tour 3",{"$f":"C69","v":0},null,null,null,null,null,null,null,{"$f":"C72","v":0},null,{"$f":"D82","v":0},null,{"$f":"E81","v":0},{"$f":"D90","v":0},null,{"$f":"E90","v":0},{"$f":"D97","v":0},null,{"$f":"E96","v":0},null,null,null,null,{"$f":"S87+V87+Y87","v":0},null,{"$f":"U87+R87+O87","v":0},{"$f":"AV87","v":{"$error":"#DIV/0!"}},null,null,null,null,null,null,null,{"$f":"AA88","v":0.03},{"$f":"RANK(AK87,AK$78:AK$89,0)","v":1},{"$f":"AB89","v":{"$error":"#DIV/0!"}},{"$f":"RANK(AM87,AM$87:AM$89,0)","v":{"$error":"#DIV/0!"}},{"$f":"MAX(R89,U89,X89)","v":{"$error":"#DIV/0!"}},{"$f":"RANK(AO87,AO$78:AO$89)","v":{"$error":"#DIV/0!"}},{"$f":"Z89","v":0},{"$f":"RANK(AQ87,AQ$78:AQ$89)","v":1},{"$f":"(AL87*1000)+(AN87*100)+(AP87*10)+(AR87*1)","v":{"$error":"#DIV/0!"}},{"$f":"AS87","v":{"$error":"#DIV/0!"}},{"$f":"RANK(AT87,AT$78:AT$89,1)","v":{"$error":"#DIV/0!"}},{"$f":"RANK(AU87,AU$78:AU$89,1)","v":{"$error":"#DIV/0!"}}]
[null,null,{"$f":"C71","v":0},null,null,null,null,null,null,null,null,null,null,{"$f":"IF(X78>0,2-W79,0.01)","v":0.01},null,null,{"$f":"IF(X81>0,2-W82,0.01)","v":0.01},null,null,{"$f":"IF(X84>0,2-W85,0.01)","v":0.01},null,null,null,null,null,null,{"$f":"N88+Q88+T88","v":0.03}]
[null,null,null,null,null,null,null,null,null,null,null,null,{"$f":"F82","v":0},null,{"$f":"M87/O87","v":{"$error":"#DIV/0!"}},{"$f":"F90","v":0},null,{"$f":"P87/R87","v":{"$error":"#DIV/0!"}},{"$f":"F97","v":0},null,{"$f":"S87/U87","v":{"$error":"#DIV/0!"}},null,null,null,null,{"$f":"MAXA(S89,V89,Y89)","v":0},null,{"$f":"Z87/AB87","v":{"$error":"#DIV/0!"}}]
[null,"Tour 4",{"$f":"C72","v":0}]
[null,null,{"$f":"C70","v":0},null,null,null,null,null,null,null,null,null,"Pas de prolongation en cas de match nul."]
[]
[null,"Tour 5",{"$f":"C69","v":0}]
[null,null,{"$f":"C70","v":0}]
[]
[null,"Tour 6",{"$f":"C71","v":0}]
[null,null,{"$f":"C72","v":0}]
[]
[null,"Joueur 1",{"$f":"'Saisie des joueurs'!K30","v":0}]
[null,"Joueur 2",{"$f":"'Saisie des joueurs'!K31","v":0}]
[null,"Joueur 3",{"$f":"'Saisie des joueurs'!K32","v":0}]
[null,"Joueur 4",{"$f":"'Saisie des joueurs'!K33","v":0}]
[]
[null,"SAISIE DES RESULTATS",null,null,null,null,null,null,null,null,null,null,{"$f":"C99","v":0},null,null,{"$f":"C100","v":0},null,null,{"$f":"C101","v":0},null,null,{"$f":"C102","v":0},null,null,null,"TOTAUX",null,null,"CLASSEMENT"]
[]
[null,null,null,null,null,null,null,null,null,null,null,null,null,null,null,null,null,null,null,null,null,null,null,null,null,null,null,null,null,null,null,null,null,null,null,null,"Classement",null,"Classement",null,"Classement",null,"Classement",null,"Classement",null,"GENERAL","RANG"]
[null,"POULE D",null,null,null,null,null,null,null,null,null,null,null,null,null,null,null,null,null,null,null,null,null,null,null,null,null,null,null,null,null,null,null,null,null,null,"Point-Match","CLS-M","Moy-Gen","CLS-G","Moy-Part","CLS-P","M-Series","CLS-S","MGPS","CLS","CLS"]
[null,null,null,null,null,null,null,null,null,null,{"$f":"C99","v":0},null,"L",null,null,{"$f":"D123","v":0},null,{"$f":"E123","v":0},{"$f":"D117","v":0},null,{"$f":"E117","v":0},{"$f":"D111","v":0},null,{"$f":"E111","v":0},null,{"$f":"P108+S108+V108","v":0},null,{"$f":"R108+U108+X108","v":0},{"$f":"AV108","v":{"$error":"#DIV/0!"}},null,null,null,null,null,null,null,{"$f":"AA109","v":0.03},{"$f":"RANK(AK108,AK$108:AK$119,0)","v":1},{"$f":"AB110","v":{"$error":"#DIV/0!"}},{"$f":"RANK(AM108,AM$108:AM$119,0)","v":{"$error":"#DIV/0!"}},{"$f":"MAX(R110,U110,X110)","v":{"$error":"#DIV/0!"}},{"$f":"RANK(AO108,AO$108:AO$119)","v":{"$error":"#DIV/0!"}},{"$f":"Z110","v":0},{"$f":"RANK(AQ108,AQ$108:AQ$119)","v":1},{"$f":"(AL108*1000)+(AN108*100)+(AP108*10)+(AR108*1)","v":{"$error":"#DIV/0!"}},{"$f":"AS108","v":{"$error":"#DIV/0!"}},{"$f":"RANK(AT108,AT$108:AT$119,1)","v":{"$error":"#DIV/0!"}},{"$f":"RANK(AU108,AU$108:AU$119,1)","v":{"$error":"#DIV/0!"}}]
[null,null,null,null,null,null,null,null,null,null,null,null,null,null,null,null,{"$f":"IF(R108<1,0.01,IF(P108>M111,2,IF(P108=M111,1,0)))","v":0.01},null,null,{"$f":"IF(U108<1,0.01,IF(S108>M114,2,IF(S108=M114,1,0)))","v":0.01},null,null,{"$f":"IF(X108<1,0.01,IF(V108>M117,2,IF(V108=M117,1,0)))","v":0.01},null,null,null,{"$f":"W109+T109+Q109","v":0.03}]
[null,null,null,"Pts","Rep","Série",null,null,null,null,null,null,null,null,null,{"$f":"F123","v":0},null,{"$f":"P108/R108","v":{"$error":"#DIV/0!"}},{"$f":"F117","v":0},null,{"$f":"S108/U108","v":{"$error":"#DIV/0!"}},{"$f":"F111","v":0},null,{"$f":"V108/X108","v":{"$error":"#DIV/0!"}},null,{"$f":"MAX(V110,S110,P110)","v":0},null,{"$f":"Z108/AB108","v":{"$error":"#DIV/0!"}}]
[null,"Tour 1",{"$f":"C99","v":0},null,null,null,null,null,null,null,{"$f":"C100","v":0},null,{"$f":"D124","v":0},null,{"$f":"E123","v":0},"M",null,null,{"$f":"D114","v":0},null,{"$f":"E114","v":0},{"$f":"D121","v":0},null,{"$f":"E120","v":0},null,{"$f":"M111+S111+V111","v":0},null,{"$f":"O111+U111+X111","v":0},{"$f":"AV111","v":{"$error":"#DIV/0!"}},null,null,null,null,null,null,null,{"$f":"AA112","v":0.03},{"$f":"RANK(AK111,AK$108:AK$119,0)","v":1},{"$f":"AB113","v":{"$error":"#DIV/0!"}},{"$f":"RANK(AM111,AM$108:AM$119,0)","v":{"$error":"#DIV/0!"}},{"$f":"MAX(R113,U113,X113)","v":{"$error":"#DIV/0!"}},{"$f":"RANK(AO111,AO$108:AO$119)","v":{"$error":"#DIV/0!"}},{"$f":"Z113","v":0},{"$f":"RANK(AQ111,AQ$108:AQ$119)","v":1},{"$f":"(AL111*1000)+(AN111*100)+(AP111*10)+(AR111*1)","v":{"$error":"#DIV/0!"}},{"$f":"AS111","v":{"$error":"#DIV/0!"}},{"$f":"RANK(AT111,AT$108:AT$119,1)","v":{"$error":"#DIV/0!"}},{"$f":"RANK(AU111,AU$108:AU$119,1)","v":{"$error":"#DIV/0!"}}]
[null,null,{"$f":"C102","v":0},null,null,null,null,null,null,null,null,null,null,{"$f":"IF(R108>0,2-Q109,0.01)","v":0.01},null,null,null,null,null,{"$f":"IF(U111<1,0.01,IF(S111>P114,2,IF(S111=P114,1,0)))","v":0.01},null,null,{"$f":"IF(X111<1,0.01,IF(V111>P117,2,IF(V111=P117,1,0)))","v":0.01},null,null,null,{"$f":"N112+T112+W112","v":0.03}]
[null,null,null,null,null,null,null,null,null,null,null,null,{"$f":"F124","v":0},null,{"$f":"M111/O111","v":{"$error":"#DIV/0!"}},null,null,null,{"$f":"F114","v":0},null,{"$f":"S111/U111","v":{"$error":"#DIV/0!"}},{"$f":"F121","v":0},null,{"$f":"V111/X111","v":{"$error":"#DIV/0!"}},null,{"$f":"MAXA(S113,V113,M113)","v":0},null,{"$f":"Z111/AB111","v":{"$error":"#DIV/0!"}}]
[null,"Tour 2",{"$f":"C100","v":0},null,null,null,null,null,null,null,{"$f":"C101","v":0},null,{"$f":"D118","v":0},null,{"$f":"E117","v":0},{"$f":"D115","v":0},null,{"$f":"E114","v":0},"B",null,null,{"$f":"D126","v":0},null,{"$f":"E126","v":0},null,{"$f":"M114+P114+V114","v":0},null,{"$f":"O114+U114+X114","v":0},{"$f":"AV114","v":{"$error":"#DIV/0!"}},null,null,null,null,null,null,null,{"$f":"AA115","v":0.02},{"$f":"RANK(AK114,AK$108:AK$119,0)","v":4},{"$f":"AB116","v":{"$error":"#DIV/0!"}},{"$f":"RANK(AM114,AM$108:AM$119,0)","v":{"$error":"#DIV/0!"}},{"$f":"MAX(R116,U116,X116)","v":{"$error":"#DIV/0!"}},{"$f":"RANK(AO114,AO$108:AO$119)","v":{"$error":"#DIV/0!"}},{"$f":"Z116","v":0},{"$f":"RANK(AQ114,AQ$108:AQ$119)","v":1},{"$f":"(AL114*1000)+(AN114*100)+(AP114*10)+(AR114*1)","v":{"$error":"#DIV/0!"}},{"$f":"AS114","v":{"$error":"#DIV/0!"}},{"$f":"RANK(AT114,AT$108:AT$119,1)","v":{"$error":"#DIV/0!"}},{"$f":"RANK(AU114,AU$108:AU$119,1)","v":{"$error":"#DIV/0!"}}]
[null,null,{"$f":"C101","v":0},null,null,null,null,null,null,null,null,null,null,{"$f":"IF(U108>0,2-T109,0.01)","v":0.01},null,null,{"$f":"IF(U111>0,2-T112,0.01)","v":0.01},null,null,null,null,null,{"$f":"IF(X114<1,0.01,IF(V114>S117,2,IF(V114=S117,1,0)))","v":0.01},null,null,null,{"$f":"N115+T115+W115","v":0.02}]
[null,null,null,null,null,null,null,null,null,null,null,null,{"$f":"F118","v":0},null,{"$f":"M114/O114","v":{"$error":"#DIV/0!"}},{"$f":"F115","v":0},null,{"$f":"P114/R114","v":{"$error":"#DIV/0!"}},null,null,null,{"$f":"F126","v":0},null,{"$f":"V114/X114","v":{"$error":"#DIV/0!"}},null,{"$f":"MAXA(V116,P116,M116)","v":0},null,{"$f":"Z114/AB114","v":{"$error":"#DIV/0!"}}]
[null,"Tour 3",{"$f":"C99","v":0},null,null,null,null,null,null,null,{"$f":"C102","v":0},null,{"$f":"D112","v":0},null,{"$f":"E111","v":0},{"$f":"D120","v":0},null,{"$f":"E120","v":0},{"$f":"D127","v":0},null,{"$f":"E126","v":0},null,null,null,null,{"$f":"S117+V117+Y117","v":0},null,{"$f":"U117+R117+O117","v":0},{"$f":"AV117","v":{"$error":"#DIV/0!"}},null,null,null,null,null,null,null,{"$f":"AA118","v":0.03},{"$f":"RANK(AK117,AK$108:AK$119,0)","v":1},{"$f":"AB119","v":{"$error":"#DIV/0!"}},{"$f":"RANK(AM117,AM$108:AM$119,0)","v":{"$error":"#DIV/0!"}},{"$f":"MAX(R119,U119,X119)","v":{"$error":"#DIV/0!"}},{"$f":"RANK(AO117,AO$108:AO$119)","v":{"$error":"#DIV/0!"}},{"$f":"Z119","v":0},{"$f":"RANK(AQ117,AQ$108:AQ$119)","v":1},{"$f":"(AL117*1000)+(AN117*100)+(AP117*10)+(AR117*1)","v":{"$error":"#DIV/0!"}},{"$f":"AS117","v":{"$error":"#DIV/0!"}},{"$f":"RANK(AT117,AT$108:AT$119,1)","v":{"$error":"#DIV/0!"}},{"$f":"RANK(AU117,AU$108:AU$119,1)","v":{"$error":"#DIV/0!"}}]
[null,null,{"$f":"C101","v":0},null,null,null,null,null,null,null,null,null,null,{"$f":"IF(X108>0,2-W109,0.01)","v":0.01},null,null,{"$f":"IF(X111>0,2-W112,0.01)","v":0.01},null,null,{"$f":"IF(X114>0,2-W115,0.01)","v":0.01},null,null,null,null,null,null,{"$f":"N118+Q118+T118","v":0.03}]
[null,null,null,null,null,null,null,null,null,null,null,null,{"$f":"F112","v":0},null,{"$f":"M117/O117","v":{"$error":"#DIV/0!"}},{"$f":"F120","v":0},null,{"$f":"P117/R117","v":{"$error":"#DIV/0!"}},{"$f":"F127","v":0},null,{"$f":"S117/U117","v":{"$error":"#DIV/0!"}},null,null,null,null,{"$f":"MAXA(S119,V119,Y119)","v":0},null,{"$f":"Z117/AB117","v":{"$error":"#DIV/0!"}}]
[null,"Tour 4",{"$f":"C102","v":0}]
[null,null,{"$f":"C100","v":0},null,null,null,null,null,null,null,null,null,"Pas de prolongation en cas de match nul."]
[]
[null,"Tour 5",{"$f":"C99","v":0}]
[null,null,{"$f":"C100","v":0}]
[]
[null,"Tour 6",{"$f":"C101","v":0}]
[null,null,{"$f":"C102","v":0}]

{"sheet":"16JOUEURS_SERPENTIN","index":29,"n_rows":127,"n_cols":42,"rows_kept":127,"cut":false,"hidden":true,"merged":[[122,1,123,1],[122,4,123,4],[125,1,126,1],[125,4,126,4],[116,37,118,37],[116,38,118,38],[116,35,118,35],[116,36,118,36],[116,1,117,1],[116,4,117,4],[116,39,118,39],[116,40,118,40],[116,41,118,41],[119,1,120,1],[119,4,120,4],[120,12,120,23],[116,31,118,31],[116,32,118,32],[116,33,118,33],[116,34,118,34],[116,10,118,11],[116,21,118,23],[116,28,118,28],[116,30,118,30],[113,39,115,39],[113,40,115,40],[113,41,115,41],[113,34,115,34],[113,35,115,35],[113,36,115,36],[110,40,112,40],[110,41,112,41],[110,39,112,39],[113,1,114,1],[113,4,114,4],[113,10,115,11],[113,18,115,20],[113,28,115,28],[113,30,115,30],[113,37,115,37],[113,38,115,38],[110,38,112,38],[110,37,112,37],[110,36,112,36],[113,31,115,31],[113,32,115,32],[113,33,115,33],[110,31,112,31],[110,10,112,11],[110,15,112,17],[110,28,112,28],[110,30,112,30],[105,41,106,41],[103,15,106,17],[103,18,106,20],[103,21,106,23],[107,40,109,40],[107,41,109,41],[105,34,105,35],[105,36,105,37],[105,38,105,39],[107,35,109,35],[107,36,109,36],[107,37,109,37],[107,38,109,38],[107,39,109,39],[107,33,109,33],[107,34,109,34],[98,2,98,5],[99,2,99,5],[100,2,100,5],[101,2,101,5],[103,1,104,5],[110,33,112,33],[110,34,112,34],[110,35,112,35],[110,1,111,1],[110,4,111,4],[103,12,106,14],[104,10,106,11],[104,25,106,27],[104,28,106,28],[105,30,105,31],[105,32,105,33],[110,32,112,32],[107,10,109,11],[107,12,109,14],[107,28,109,28],[107,30,109,30],[107,31,109,31],[107,32,109,32],[92,1,93,1],[92,4,93,4],[95,1,96,1],[95,4,96,4],[83,32,85,32],[83,33,85,33],[83,1,84,1],[83,4,84,4],[83,10,85,11],[83,18,85,20],[86,1,87,1],[86,4,87,4],[86,10,88,11],[86,21,88,23],[86,28,88,28],[86,30,88,30],[89,1,90,1],[89,4,90,4],[90,12,90,23],[86,31,88,31],[86,32,88,32],[86,33,88,33],[83,28,85,28],[86,41,88,41],[80,37,82,37],[80,38,82,38],[80,39,82,39],[80,40,82,40],[80,41,82,41],[83,41,85,41],[83,34,85,34],[83,35,85,35],[86,37,88,37],[86,38,88,38],[86,39,88,39],[86,40,88,40],[86,34,88,34],[86,35,88,35],[86,36,88,36],[83,40,85,40],[80,31,82,31],[80,32,82,32],[80,33,82,33],[80,34,82,34],[80,35,82,35],[83,30,85,30],[83,31,85,31],[75,38,75,39],[80,1,81,1],[80,4,81,4],[80,10,82,11],[80,15,82,17],[80,28,82,28],[80,30,82,30],[80,36,82,36],[83,36,85,36],[83,37,85,37],[83,38,85,38],[83,39,85,39],[77,31,79,31],[73,21,76,23],[74,10,76,11],[74,25,76,27],[77,32,79,32],[77,33,79,33],[77,34,79,34],[75,34,75,35],[75,36,75,37],[68,2,68,5],[69,2,69,5],[77,41,79,41],[77,35,79,35],[77,36,79,36],[77,37,79,37],[70,2,70,5],[71,2,71,5],[73,1,74,5],[73,12,76,14],[73,15,76,17],[73,18,76,20],[74,28,76,28],[75,30,75,31],[75,32,75,33],[77,38,79,38],[77,39,79,39],[77,40,79,40],[75,41,76,41],[77,10,79,11],[77,12,79,14],[77,28,79,28],[77,30,79,30],[59,1,60,1],[59,4,60,4],[60,12,60,23],[56,31,58,31],[56,32,58,32],[62,1,63,1],[62,4,63,4],[65,1,66,1],[65,4,66,4],[56,1,57,1],[56,4,57,4],[56,10,58,11],[56,21,58,23],[56,28,58,28],[56,30,58,30],[56,41,58,41],[50,37,52,37],[50,38,52,38],[50,39,52,39],[50,40,52,40],[50,41,52,41],[53,37,55,37],[53,38,55,38],[53,32,55,32],[53,33,55,33],[53,34,55,34],[53,35,55,35],[56,37,58,37],[56,38,58,38],[56,34,58,34],[56,35,58,35],[56,36,58,36],[56,33,58,33],[56,39,58,39],[56,40,58,40],[50,1,51,1],[50,4,51,4],[50,10,52,11],[50,15,52,17],[50,28,52,28],[50,32,52,32],[50,33,52,33],[50,34,52,34],[50,35,52,35],[45,38,45,39],[53,39,55,39],[53,40,55,40],[53,41,55,41],[53,30,55,30],[53,31,55,31],[50,36,52,36],[53,36,55,36],[53,1,54,1],[53,4,54,4],[53,10,55,11],[53,18,55,20],[53,28,55,28],[50,31,52,31],[50,30,52,30],[47,31,49,31],[43,21,46,23],[44,10,46,11],[44,25,46,27],[47,32,49,32],[47,33,49,33],[47,34,49,34],[45,34,45,35],[45,36,45,37],[35,4,36,4],[38,2,38,5],[39,2,39,5],[47,41,49,41],[47,35,49,35],[47,36,49,36],[47,37,49,37],[40,2,40,5],[41,2,41,5],[43,1,44,5],[43,12,46,14],[43,15,46,17],[43,18,46,20],[44,28,46,28],[45,30,45,31],[45,32,45,33],[47,38,49,38],[47,39,49,39],[47,40,49,40],[45,41,46,41],[47,10,49,11],[47,12,49,14],[47,28,49,28],[47,30,49,30],[26,37,28,37],[26,38,28,38],[26,39,28,39],[26,40,28,40],[26,41,28,41],[29,1,30,1],[29,4,30,4],[30,12,30,23],[26,31,28,31],[26,32,28,32],[26,33,28,33],[26,34,28,34],[26,35,28,35],[26,36,28,36],[26,1,27,1],[26,4,27,4],[26,10,28,11],[26,21,28,23],[26,28,28,28],[26,30,28,30],[23,38,25,38],[23,39,25,39],[23,40,25,40],[23,41,25,41],[23,35,25,35],[23,36,25,36],[23,37,25,37],[20,33,22,33],[20,34,22,34],[20,35,22,35],[20,36,22,36],[20,37,22,37],[20,38,22,38],[20,39,22,39],[20,40,22,40],[20,41,22,41],[20,31,22,31],[20,32,22,32],[23,32,25,32],[23,33,25,33],[23,34,25,34],[17,34,19,34],[20,1,21,1],[20,4,21,4],[20,10,22,11],[20,15,22,17],[20,28,22,28],[20,30,22,30],[23,1,24,1],[23,4,24,4],[23,10,25,11],[23,18,25,20],[23,28,25,28],[23,30,25,30],[23,31,25,31],[17,40,19,40],[17,41,19,41],[17,35,19,35],[17,36,19,36],[17,37,19,37],[17,38,19,38],[17,39,19,39],[14,25,16,27],[14,28,16,28],[15,30,15,31],[15,32,15,33],[15,34,15,35],[15,36,15,37],[15,38,15,39],[15,41,16,41],[17,28,19,28],[17,30,19,30],[17,31,19,31],[17,32,19,32],[17,33,19,33],[2,1,3,2],[2,3,3,9],[5,1,6,2],[5,3,6,9],[1,12,4,35],[6,12,6,15],[6,17,6,18],[6,20,6,21],[6,23,6,25],[6,27,6,28],[7,12,7,15],[7,17,7,18],[7,20,7,21],[7,23,7,25],[7,27,7,28],[16,1,17,2],[46,1,47,2],[76,1,77,2],[106,1,107,2],[8,2,8,5],[9,2,9,5],[10,2,10,5],[11,2,11,5],[13,1,14,5],[13,12,16,14],[13,15,16,17],[13,18,16,20],[13,21,16,23],[14,10,16,11],[17,10,19,11],[17,12,19,14],[32,1,33,1],[32,4,33,4],[35,1,36,1]]}
[]
[null,null,null,null,null,null,null,null,null,null,null,null,"LIGUE MÉDITERRANÉENNE DE BILLARD"]
[null,"CLUB ORGANISATEUR"]
[]
[]
[null,"DIRECTEUR DE JEU :"]
[null,null,null,null,null,null,null,null,null,null,null,null,"Compétition",null,null,null,null,"Mode de jeu",null,null,"Categorie",null,null,"Format billard",null,null,null,"Distance"]
[]
[null,"Joueur 1",{"$f":"'Saisie des joueurs'!K18","v":0}]
[null,"Joueur 2",{"$f":"'Saisie des joueurs'!K19","v":0}]
[null,"Joueur 3",{"$f":"'Saisie des joueurs'!K20","v":0}]
[null,"Joueur 4",{"$f":"'Saisie des joueurs'!K21","v":0}]
[]
[null,"SAISIE DES RESULTATS",null,null,null,null,null,null,null,null,null,null,{"$f":"C9","v":0},null,null,{"$f":"C10","v":0},null,null,{"$f":"C11","v":0},null,null,{"$f":"C12","v":0}]
[null,null,null,null,null,null,null,null,null,null,null,null,null,null,null,null,null,null,null,null,null,null,null,null,null,"TOTAUX",null,null,"CLASSEMENT"]
[null,null,null,null,null,null,null,null,null,null,null,null,null,null,null,null,null,null,null,null,null,null,null,null,null,null,null,null,null,null,"Classement",null,"Classement",null,"Classement",null,"Classement",null,"Classement",null,"GENERAL","RANG"]
[null,"POULE A",null,null,null,null,null,null,null,null,null,null,null,null,null,null,null,null,null,null,null,null,null,null,null,null,null,null,null,null,"Point-Match","CLS-M","Moy-Gen","CLS-G","Moy-Part","CLS-P","M-Series","CLS-S","MGPS","CLS","CLS"]
[null,null,null,null,null,null,null,null,null,null,{"$f":"C9","v":0},null,"L",null,null,{"$f":"D33","v":0},null,{"$f":"E33","v":0},{"$f":"D27","v":0},null,{"$f":"E27","v":0},{"$f":"D21","v":0},null,{"$f":"E21","v":0},null,{"$f":"P18+S18+V18","v":0},null,{"$f":"R18+U18+X18","v":0},{"$f":"AP18","v":{"$error":"#DIV/0!"}},null,{"$f":"AA19","v":0.03},{"$f":"RANK(AE18,AE$18:AE$29,0)","v":1},{"$f":"AB20","v":{"$error":"#DIV/0!"}},{"$f":"RANK(AG18,AG$18:AG$29,0)","v":{"$error":"#DIV/0!"}},{"$f":"MAX(R20,U20,X20)","v":{"$error":"#DIV/0!"}},{"$f":"RANK(AI18,AI$18:AI$29)","v":{"$error":"#DIV/0!"}},{"$f":"Z20","v":0},{"$f":"RANK(AK18,AK$18:AK$29)","v":1},{"$f":"(AF18*1000)+(AH18*100)+(AJ18*10)+(AL18*1)","v":{"$error":"#DIV/0!"}},{"$f":"AM18","v":{"$error":"#DIV/0!"}},{"$f":"RANK(AN18,AN$18:AN$29,1)","v":{"$error":"#DIV/0!"}},{"$f":"RANK(AO18,AO$18:AO$29,1)","v":{"$error":"#DIV/0!"}}]
[null,null,null,null,null,null,null,null,null,null,null,null,null,null,null,null,{"$f":"IF(R18<1,0.01,IF(P18>M21,2,IF(P18=M21,1,0)))","v":0.01},null,null,{"$f":"IF(U18<1,0.01,IF(S18>M24,2,IF(S18=M24,1,0)))","v":0.01},null,null,{"$f":"IF(X18<1,0.01,IF(V18>M27,2,IF(V18=M27,1,0)))","v":0.01},null,null,null,{"$f":"Q19+T19+W19","v":0.03}]
[null,null,null,"Pts","Rep","Série",null,null,null,null,null,null,null,null,null,{"$f":"F33","v":0},null,{"$f":"P18/R18","v":{"$error":"#DIV/0!"}},{"$f":"F27","v":0},null,{"$f":"S18/U18","v":{"$error":"#DIV/0!"}},{"$f":"F21","v":0},null,{"$f":"V18/X18","v":{"$error":"#DIV/0!"}},null,{"$f":"MAX(P20,S20,V20)","v":0},null,{"$f":"Z18/AB18","v":{"$error":"#DIV/0!"}}]
[null,"Tour 1",{"$f":"C9","v":0},null,null,null,null,null,null,null,{"$f":"C10","v":0},null,{"$f":"D34","v":0},null,{"$f":"E33","v":0},"M",null,null,{"$f":"D24","v":0},null,{"$f":"E24","v":0},{"$f":"D31","v":0},null,{"$f":"E30","v":0},null,{"$f":"M21+S21+V21","v":0},null,{"$f":"O21+U21+X21","v":0},{"$f":"AP21","v":{"$error":"#DIV/0!"}},null,{"$f":"AA22","v":0.03},{"$f":"RANK(AE21,AE$18:AE$29,0)","v":1},{"$f":"AB23","v":{"$error":"#DIV/0!"}},{"$f":"RANK(AG21,AG$18:AG$29,0)","v":{"$error":"#DIV/0!"}},{"$f":"MAX(O23,U23,X23)","v":{"$error":"#DIV/0!"}},{"$f":"RANK(AI21,AI$18:AI$29)","v":{"$error":"#DIV/0!"}},{"$f":"Z23","v":0},{"$f":"RANK(AK21,AK$18:AK$29)","v":1},{"$f":"(AF21*1000)+(AH21*100)+(AJ21*10)+(AL21*1)","v":{"$error":"#DIV/0!"}},{"$f":"AM21","v":{"$error":"#DIV/0!"}},{"$f":"RANK(AN21,AN$18:AN$29,1)","v":{"$error":"#DIV/0!"}},{"$f":"RANK(AO21,AO$18:AO$29,1)","v":{"$error":"#DIV/0!"}}]
[null,null,{"$f":"C12","v":0},null,null,null,null,null,null,null,null,null,null,{"$f":"IF(R18>0,2-Q19,0.01)","v":0.01},null,null,null,null,null,{"$f":"IF(U21<1,0.01,IF(S21>P24,2,IF(S21=P24,1,0)))","v":0.01},null,null,{"$f":"IF(X21<1,0.01,IF(V21>P27,2,IF(V21=P27,1,0)))","v":0.01},null,null,null,{"$f":"N22+T22+W22","v":0.03}]
[null,null,null,null,null,null,null,null,null,null,null,null,{"$f":"F34","v":0},null,{"$f":"M21/O21","v":{"$error":"#DIV/0!"}},null,null,null,{"$f":"F24","v":0},null,{"$f":"S21/U21","v":{"$error":"#DIV/0!"}},{"$f":"F31","v":0},null,{"$f":"V21/X21","v":{"$error":"#DIV/0!"}},null,{"$f":"MAXA(M23,S23,V23)","v":0},null,{"$f":"Z21/AB21","v":{"$error":"#DIV/0!"}}]
[null,"Tour 2",{"$f":"C10","v":0},null,null,null,null,null,null,null,{"$f":"C11","v":0},null,{"$f":"D28","v":0},null,{"$f":"E27","v":0},{"$f":"D25","v":0},null,{"$f":"E24","v":0},"B",null,null,{"$f":"D36","v":0},null,{"$f":"E36","v":0},null,{"$f":"M24+P24+V24","v":0},null,{"$f":"O24+R24+X24","v":0},{"$f":"AP24","v":{"$error":"#DIV/0!"}},null,{"$f":"AA25","v":0.03},{"$f":"RANK(AE24,AE$18:AE$29,0)","v":1},{"$f":"AB26","v":{"$error":"#DIV/0!"}},{"$f":"RANK(AG24,AG$18:AG$29,0)","v":{"$error":"#DIV/0!"}},{"$f":"MAX(O26,R26,X26)","v":{"$error":"#DIV/0!"}},{"$f":"RANK(AI24,AI$18:AI$29)","v":{"$error":"#DIV/0!"}},{"$f":"Z26","v":0},{"$f":"RANK(AK24,AK$18:AK$29)","v":1},{"$f":"(AF24*1000)+(AH24*100)+(AJ24*10)+(AL24*1)","v":{"$error":"#DIV/0!"}},{"$f":"AM24","v":{"$error":"#DIV/0!"}},{"$f":"RANK(AN24,AN$18:AN$29,1)","v":{"$error":"#DIV/0!"}},{"$f":"RANK(AO24,AO$18:AO$29,1)","v":{"$error":"#DIV/0!"}}]
[null,null,{"$f":"C11","v":0},null,null,null,null,null,null,null,null,null,null,{"$f":"IF(U18>0,2-T19,0.01)","v":0.01},null,null,{"$f":"IF(U21>0,2-T22,0.01)","v":0.01},null,null,null,null,null,{"$f":"IF(X24<1,0.01,IF(V24>S27,2,IF(V24=S27,1,0)))","v":0.01},null,null,null,{"$f":"N25+Q25+W25","v":0.03}]
[null,null,null,null,null,null,null,null,null,null,null,null,{"$f":"F28","v":0},null,{"$f":"M24/O24","v":{"$error":"#DIV/0!"}},{"$f":"F25","v":0},null,{"$f":"P24/R24","v":{"$error":"#DIV/0!"}},null,null,null,{"$f":"F36","v":0},null,{"$f":"V24/X24","v":{"$error":"#DIV/0!"}},null,{"$f":"MAXA(M26,P26,V26)","v":0},null,{"$f":"Z24/AB24","v":{"$error":"#DIV/0!"}}]
[null,"Tour 3",{"$f":"C9","v":0},null,null,null,null,null,null,null,{"$f":"C12","v":0},null,{"$f":"D22","v":0},null,{"$f":"E21","v":0},{"$f":"D30","v":0},null,{"$f":"E30","v":0},{"$f":"D37","v":0},null,{"$f":"E36","v":0},null,null,null,null,{"$f":"M27+P27+S27","v":0},null,{"$f":"O27+R27+U27","v":0},{"$f":"AP27","v":{"$error":"#DIV/0!"}},null,{"$f":"AA28","v":0.03},{"$f":"RANK(AE27,AE$18:AE$29,0)","v":1},{"$f":"AB29","v":{"$error":"#DIV/0!"}},{"$f":"RANK(AG27,AG$18:AG$29,0)","v":{"$error":"#DIV/0!"}},{"$f":"MAX(O29,R29,U29)","v":{"$error":"#DIV/0!"}},{"$f":"RANK(AI27,AI$18:AI$29)","v":{"$error":"#DIV/0!"}},{"$f":"Z29","v":0},{"$f":"RANK(AK27,AK$18:AK$29)","v":1},{"$f":"(AF27*1000)+(AH27*100)+(AJ27*10)+(AL27*1)","v":{"$error":"#DIV/0!"}},{"$f":"AM27","v":{"$error":"#DIV/0!"}},{"$f":"RANK(AN27,AN$18:AN$29,1)","v":{"$error":"#DIV/0!"}},{"$f":"RANK(AO27,AO$18:AO$29,1)","v":{"$error":"#DIV/0!"}}]
[null,null,{"$f":"C11","v":0},null,null,null,null,null,null,null,null,null,null,{"$f":"IF(X18>0,2-W19,0.01)","v":0.01},null,null,{"$f":"IF(X21>0,2-W22,0.01)","v":0.01},null,null,{"$f":"IF(X24>0,2-W25,0.01)","v":0.01},null,null,null,null,null,null,{"$f":"N28+Q28+T28","v":0.03}]
[null,null,null,null,null,null,null,null,null,null,null,null,{"$f":"F22","v":0},null,{"$f":"M27/O27","v":{"$error":"#DIV/0!"}},{"$f":"F30","v":0},null,{"$f":"P27/R27","v":{"$error":"#DIV/0!"}},{"$f":"F37","v":0},null,{"$f":"S27/U27","v":{"$error":"#DIV/0!"}},null,null,null,null,{"$f":"MAXA(M29,P29,S29)","v":0},null,{"$f":"Z27/AB27","v":{"$error":"#DIV/0!"}}]
[null,"Tour 4",{"$f":"C12","v":0}]
[null,null,{"$f":"C10","v":0},null,null,null,null,null,null,null,null,null,"Pas de prolongation en cas de match nul."]
[]
[null,"Tour 5",{"$f":"C9","v":0}]
[null,null,{"$f":"C10","v":0}]
[]
[null,"Tour 6",{"$f":"C11","v":0}]
[null,null,{"$f":"C12","v":0}]
[]
[null,"Joueur 1",{"$f":"'Saisie des joueurs'!K22","v":0}]
[null,"Joueur 2",{"$f":"'Saisie des joueurs'!K23","v":0}]
[null,"Joueur 3",{"$f":"'Saisie des joueurs'!K24","v":0}]
[null,"Joueur 4",{"$f":"'Saisie des joueurs'!K25","v":0}]
[]
[null,"SAISIE DES RESULTATS",null,null,null,null,null,null,null,null,null,null,{"$f":"C39","v":0},null,null,{"$f":"C40","v":0},null,null,{"$f":"C41","v":0},null,null,{"$f":"C42","v":0}]
[null,null,null,null,null,null,null,null,null,null,null,null,null,null,null,null,null,null,null,null,null,null,null,null,null,"TOTAUX",null,null,"CLASSEMENT"]
[null,null,null,null,null,null,null,null,null,null,null,null,null,null,null,null,null,null,null,null,null,null,null,null,null,null,null,null,null,null,"Classement",null,"Classement",null,"Classement",null,"Classement",null,"Classement",null,"GENERAL","RANG"]
[null,"POULE B",null,null,null,null,null,null,null,null,null,null,null,null,null,null,null,null,null,null,null,null,null,null,null,null,null,null,null,null,"Point-Match","CLS-M","Moy-Gen","CLS-G","Moy-Part","CLS-P","M-Series","CLS-S","MGPS","CLS","CLS"]
[null,null,null,null,null,null,null,null,null,null,{"$f":"C39","v":0},null,"L",null,null,{"$f":"D63","v":0},null,{"$f":"E63","v":0},{"$f":"D57","v":0},null,{"$f":"E57","v":0},{"$f":"D51","v":0},null,{"$f":"E51","v":0},null,{"$f":"P48+S48+V48","v":0},null,{"$f":"R48+U48+X48","v":0},{"$f":"AP48","v":{"$error":"#DIV/0!"}},null,{"$f":"AA49","v":0.03},{"$f":"RANK(AE48,AE$48:AE$59,0)","v":1},{"$f":"AB50","v":{"$error":"#DIV/0!"}},{"$f":"RANK(AG48,AG$48:AG$59,0)","v":{"$error":"#DIV/0!"}},{"$f":"MAX(R50,U50,X50)","v":{"$error":"#DIV/0!"}},{"$f":"RANK(AI48,AI$48:AI$59)","v":{"$error":"#DIV/0!"}},{"$f":"Z50","v":0},{"$f":"RANK(AK48,AK$48:AK$59)","v":1},{"$f":"(AF48*1000)+(AH48*100)+(AJ48*10)+(AL48*1)","v":{"$error":"#DIV/0!"}},{"$f":"AM48","v":{"$error":"#DIV/0!"}},{"$f":"RANK(AN48,AN$48:AN$59,1)","v":{"$error":"#DIV/0!"}},{"$f":"RANK(AO48,AO$48:AO$59,1)","v":{"$error":"#DIV/0!"}}]
[null,null,null,null,null,null,null,null,null,null,null,null,null,null,null,null,{"$f":"IF(R48<1,0.01,IF(P48>M51,2,IF(P48=M51,1,0)))","v":0.01},null,null,{"$f":"IF(U48<1,0.01,IF(S48>M54,2,IF(S48=M54,1,0)))","v":0.01},null,null,{"$f":"IF(X48<1,0.01,IF(V48>M57,2,IF(V48=M57,1,0)))","v":0.01},null,null,null,{"$f":"Q49+T49+W49","v":0.03}]
[null,null,null,"Pts","Rep","Série",null,null,null,null,null,null,null,null,null,{"$f":"F63","v":0},null,{"$f":"P48/R48","v":{"$error":"#DIV/0!"}},{"$f":"F57","v":0},null,{"$f":"S48/U48","v":{"$error":"#DIV/0!"}},{"$f":"F51","v":0},null,{"$f":"V48/X48","v":{"$error":"#DIV/0!"}},null,{"$f":"MAX(P50,S50,V50)","v":0},null,{"$f":"Z48/AB48","v":{"$error":"#DIV/0!"}}]
[null,"Tour 1",{"$f":"C39","v":0},null,null,null,null,null,null,null,{"$f":"C40","v":0},null,{"$f":"D64","v":0},null,{"$f":"E63","v":0},"M",null,null,{"$f":"D54","v":0},null,{"$f":"E54","v":0},{"$f":"D61","v":0},null,{"$f":"E60","v":0},null,{"$f":"M51+S51+V51","v":0},null,{"$f":"O51+U51+X51","v":0},{"$f":"AP51","v":{"$error":"#DIV/0!"}},null,{"$f":"AA52","v":0.03},{"$f":"RANK(AE51,AE$48:AE$59,0)","v":1},{"$f":"AB53","v":{"$error":"#DIV/0!"}},{"$f":"RANK(AG51,AG$48:AG$59,0)","v":{"$error":"#DIV/0!"}},{"$f":"MAX(O53,U53,X53)","v":{"$error":"#DIV/0!"}},{"$f":"RANK(AI51,AI$48:AI$59)","v":{"$error":"#DIV/0!"}},{"$f":"Z53","v":0},{"$f":"RANK(AK51,AK$48:AK$59)","v":1},{"$f":"(AF51*1000)+(AH51*100)+(AJ51*10)+(AL51*1)","v":{"$error":"#DIV/0!"}},{"$f":"AM51","v":{"$error":"#DIV/0!"}},{"$f":"RANK(AN51,AN$48:AN$59,1)","v":{"$error":"#DIV/0!"}},{"$f":"RANK(AO51,AO$48:AO$59,1)","v":{"$error":"#DIV/0!"}}]
[null,null,{"$f":"C42","v":0},null,null,null,null,null,null,null,null,null,null,{"$f":"IF(R48>0,2-Q49,0.01)","v":0.01},null,null,null,null,null,{"$f":"IF(U51<1,0.01,IF(S51>P54,2,IF(S51=P54,1,0)))","v":0.01},null,null,{"$f":"IF(X51<1,0.01,IF(V51>P57,2,IF(V51=P57,1,0)))","v":0.01},null,null,null,{"$f":"N52+T52+W52","v":0.03}]
[null,null,null,null,null,null,null,null,null,null,null,null,{"$f":"F64","v":0},null,{"$f":"M51/O51","v":{"$error":"#DIV/0!"}},null,null,null,{"$f":"F54","v":0},null,{"$f":"S51/U51","v":{"$error":"#DIV/0!"}},{"$f":"F61","v":0},null,{"$f":"V51/X51","v":{"$error":"#DIV/0!"}},null,{"$f":"MAXA(M53,S53,V53)","v":0},null,{"$f":"Z51/AB51","v":{"$error":"#DIV/0!"}}]
[null,"Tour 2",{"$f":"C40","v":0},null,null,null,null,null,null,null,{"$f":"C41","v":0},null,{"$f":"D58","v":0},null,{"$f":"E57","v":0},{"$f":"D55","v":0},null,{"$f":"E54","v":0},"B",null,null,{"$f":"D66","v":0},null,{"$f":"E66","v":0},null,{"$f":"M54+P54+V54","v":0},null,{"$f":"O54+R54+X54","v":0},{"$f":"AP54","v":{"$error":"#DIV/0!"}},null,{"$f":"AA55","v":0.03},{"$f":"RANK(AE54,AE$48:AE$59,0)","v":1},{"$f":"AB56","v":{"$error":"#DIV/0!"}},{"$f":"RANK(AG54,AG$48:AG$59,0)","v":{"$error":"#DIV/0!"}},{"$f":"MAX(O56,R56,X56)","v":{"$error":"#DIV/0!"}},{"$f":"RANK(AI54,AI$48:AI$59)","v":{"$error":"#DIV/0!"}},{"$f":"Z56","v":0},{"$f":"RANK(AK54,AK$48:AK$59)","v":1},{"$f":"(AF54*1000)+(AH54*100)+(AJ54*10)+(AL54*1)","v":{"$error":"#DIV/0!"}},{"$f":"AM54","v":{"$error":"#DIV/0!"}},{"$f":"RANK(AN54,AN$48:AN$59,1)","v":{"$error":"#DIV/0!"}},{"$f":"RANK(AO54,AO$48:AO$59,1)","v":{"$error":"#DIV/0!"}}]
[null,null,{"$f":"C41","v":0},null,null,null,null,null,null,null,null,null,null,{"$f":"IF(U48>0,2-T49,0.01)","v":0.01},null,null,{"$f":"IF(U51>0,2-T52,0.01)","v":0.01},null,null,null,null,null,{"$f":"IF(X54<1,0.01,IF(V54>S57,2,IF(V54=S57,1,0)))","v":0.01},null,null,null,{"$f":"N55+Q55+W55","v":0.03}]
[null,null,null,null,null,null,null,null,null,null,null,null,{"$f":"F58","v":0},null,{"$f":"M54/O54","v":{"$error":"#DIV/0!"}},{"$f":"F55","v":0},null,{"$f":"P54/R54","v":{"$error":"#DIV/0!"}},null,null,null,{"$f":"F66","v":0},null,{"$f":"V54/X54","v":{"$error":"#DIV/0!"}},null,{"$f":"MAXA(M56,P56,V56)","v":0},null,{"$f":"Z54/AB54","v":{"$error":"#DIV/0!"}}]
[null,"Tour 3",{"$f":"C39","v":0},null,null,null,null,null,null,null,{"$f":"C42","v":0},null,{"$f":"D52","v":0},null,{"$f":"E51","v":0},{"$f":"D60","v":0},null,{"$f":"E60","v":0},{"$f":"D67","v":0},null,{"$f":"E66","v":0},null,null,null,null,{"$f":"M57+P57+S57","v":0},null,{"$f":"O57+R57+U57","v":0},{"$f":"AP57","v":{"$error":"#DIV/0!"}},null,{"$f":"AA58","v":0.03},{"$f":"RANK(AE57,AE$48:AE$59,0)","v":1},{"$f":"AB59","v":{"$error":"#DIV/0!"}},{"$f":"RANK(AG57,AG$48:AG$59,0)","v":{"$error":"#DIV/0!"}},{"$f":"MAX(O59,R59,U59)","v":{"$error":"#DIV/0!"}},{"$f":"RANK(AI57,AI$48:AI$59)","v":{"$error":"#DIV/0!"}},{"$f":"Z59","v":0},{"$f":"RANK(AK57,AK$48:AK$59)","v":1},{"$f":"(AF57*1000)+(AH57*100)+(AJ57*10)+(AL57*1)","v":{"$error":"#DIV/0!"}},{"$f":"AM57","v":{"$error":"#DIV/0!"}},{"$f":"RANK(AN57,AN$48:AN$59,1)","v":{"$error":"#DIV/0!"}},{"$f":"RANK(AO57,AO$48:AO$59,1)","v":{"$error":"#DIV/0!"}}]
[null,null,{"$f":"C41","v":0},null,null,null,null,null,null,null,null,null,null,{"$f":"IF(X48>0,2-W49,0.01)","v":0.01},null,null,{"$f":"IF(X51>0,2-W52,0.01)","v":0.01},null,null,{"$f":"IF(X54>0,2-W55,0.01)","v":0.01},null,null,null,null,null,null,{"$f":"N58+Q58+T58","v":0.03}]
[null,null,null,null,null,null,null,null,null,null,null,null,{"$f":"F52","v":0},null,{"$f":"M57/O57","v":{"$error":"#DIV/0!"}},{"$f":"F60","v":0},null,{"$f":"P57/R57","v":{"$error":"#DIV/0!"}},{"$f":"F67","v":0},null,{"$f":"S57/U57","v":{"$error":"#DIV/0!"}},null,null,null,null,{"$f":"MAXA(M59,P59,S59)","v":0},null,{"$f":"Z57/AB57","v":{"$error":"#DIV/0!"}}]
[null,"Tour 4",{"$f":"C42","v":0}]
[null,null,{"$f":"C40","v":0},null,null,null,null,null,null,null,null,null,"Pas de prolongation en cas de match nul."]
[]
[null,"Tour 5",{"$f":"C39","v":0}]
[null,null,{"$f":"C40","v":0}]
[]
[null,"Tour 6",{"$f":"C41","v":0}]
[null,null,{"$f":"C42","v":0}]
[]
[null,"Joueur 1",{"$f":"'Saisie des joueurs'!K26","v":0}]
[null,"Joueur 2",{"$f":"'Saisie des joueurs'!K27","v":0}]
[null,"Joueur 3",{"$f":"'Saisie des joueurs'!K28","v":0}]
[null,"Joueur 4",{"$f":"'Saisie des joueurs'!K29","v":0}]
[]
[null,"SAISIE DES RESULTATS",null,null,null,null,null,null,null,null,null,null,{"$f":"C69","v":0},null,null,{"$f":"C70","v":0},null,null,{"$f":"C71","v":0},null,null,{"$f":"C72","v":0}]
[null,null,null,null,null,null,null,null,null,null,null,null,null,null,null,null,null,null,null,null,null,null,null,null,null,"TOTAUX",null,null,"CLASSEMENT"]
[null,null,null,null,null,null,null,null,null,null,null,null,null,null,null,null,null,null,null,null,null,null,null,null,null,null,null,null,null,null,"Classement",null,"Classement",null,"Classement",null,"Classement",null,"Classement",null,"GENERAL","RANG"]
[null,"POULE C",null,null,null,null,null,null,null,null,null,null,null,null,null,null,null,null,null,null,null,null,null,null,null,null,null,null,null,null,"Point-Match","CLS-M","Moy-Gen","CLS-G","Moy-Part","CLS-P","M-Series","CLS-S","MGPS","CLS","CLS"]
[null,null,null,null,null,null,null,null,null,null,{"$f":"C69","v":0},null,"L",null,null,{"$f":"D93","v":0},null,{"$f":"E93","v":0},{"$f":"D87","v":0},null,{"$f":"E87","v":0},{"$f":"D81","v":0},null,{"$f":"E81","v":0},null,{"$f":"P78+S78+V78","v":0},null,{"$f":"R78+U78+X78","v":0},{"$f":"AP78","v":{"$error":"#DIV/0!"}},null,{"$f":"AA79","v":0.03},{"$f":"RANK(AE78,AE$78:AE$89,0)","v":1},{"$f":"AB80","v":{"$error":"#DIV/0!"}},{"$f":"RANK(AG78,AG$78:AG$89,0)","v":{"$error":"#DIV/0!"}},{"$f":"MAX(R80,U80,X80)","v":{"$error":"#DIV/0!"}},{"$f":"RANK(AI78,AI$78:AI$89)","v":{"$error":"#DIV/0!"}},{"$f":"Z80","v":0},{"$f":"RANK(AK78,AK$78:AK$89)","v":1},{"$f":"(AF78*1000)+(AH78*100)+(AJ78*10)+(AL78*1)","v":{"$error":"#DIV/0!"}},{"$f":"AM78","v":{"$error":"#DIV/0!"}},{"$f":"RANK(AN78,AN$78:AN$89,1)","v":{"$error":"#DIV/0!"}},{"$f":"RANK(AO78,AO$78:AO$89,1)","v":{"$error":"#DIV/0!"}}]
[null,null,null,null,null,null,null,null,null,null,null,null,null,null,null,null,{"$f":"IF(R78<1,0.01,IF(P78>M81,2,IF(P78=M81,1,0)))","v":0.01},null,null,{"$f":"IF(U78<1,0.01,IF(S78>M84,2,IF(S78=M84,1,0)))","v":0.01},null,null,{"$f":"IF(X78<1,0.01,IF(V78>M87,2,IF(V78=M87,1,0)))","v":0.01},null,null,null,{"$f":"Q79+T79+W79","v":0.03}]
[null,null,null,"Pts","Rep","Série",null,null,null,null,null,null,null,null,null,{"$f":"F93","v":0},null,{"$f":"P78/R78","v":{"$error":"#DIV/0!"}},{"$f":"F87","v":0},null,{"$f":"S78/U78","v":{"$error":"#DIV/0!"}},{"$f":"F81","v":0},null,{"$f":"V78/X78","v":{"$error":"#DIV/0!"}},null,{"$f":"MAX(P80,S80,V80)","v":0},null,{"$f":"Z78/AB78","v":{"$error":"#DIV/0!"}}]
[null,"Tour 1",{"$f":"C69","v":0},null,null,null,null,null,null,null,{"$f":"C70","v":0},null,{"$f":"D94","v":0},null,{"$f":"E93","v":0},"M",null,null,{"$f":"D84","v":0},null,{"$f":"E84","v":0},{"$f":"D91","v":0},null,{"$f":"E90","v":0},null,{"$f":"M81+S81+V81","v":0},null,{"$f":"O81+U81+X81","v":0},{"$f":"AP81","v":{"$error":"#DIV/0!"}},null,{"$f":"AA82","v":0.03},{"$f":"RANK(AE81,AE$78:AE$89,0)","v":1},{"$f":"AB83","v":{"$error":"#DIV/0!"}},{"$f":"RANK(AG81,AG$78:AG$89,0)","v":{"$error":"#DIV/0!"}},{"$f":"MAX(O83,U83,X83)","v":{"$error":"#DIV/0!"}},{"$f":"RANK(AI81,AI$78:AI$89)","v":{"$error":"#DIV/0!"}},{"$f":"Z83","v":0},{"$f":"RANK(AK81,AK$78:AK$89)","v":1},{"$f":"(AF81*1000)+(AH81*100)+(AJ81*10)+(AL81*1)","v":{"$error":"#DIV/0!"}},{"$f":"AM81","v":{"$error":"#DIV/0!"}},{"$f":"RANK(AN81,AN$78:AN$89,1)","v":{"$error":"#DIV/0!"}},{"$f":"RANK(AO81,AO$78:AO$89,1)","v":{"$error":"#DIV/0!"}}]
[null,null,{"$f":"C72","v":0},null,null,null,null,null,null,null,null,null,null,{"$f":"IF(R78>0,2-Q79,0.01)","v":0.01},null,null,null,null,null,{"$f":"IF(U81<1,0.01,IF(S81>P84,2,IF(S81=P84,1,0)))","v":0.01},null,null,{"$f":"IF(X81<1,0.01,IF(V81>P87,2,IF(V81=P87,1,0)))","v":0.01},null,null,null,{"$f":"N82+T82+W82","v":0.03}]
[null,null,null,null,null,null,null,null,null,null,null,null,{"$f":"F94","v":0},null,{"$f":"M81/O81","v":{"$error":"#DIV/0!"}},null,null,null,{"$f":"F84","v":0},null,{"$f":"S81/U81","v":{"$error":"#DIV/0!"}},{"$f":"F91","v":0},null,{"$f":"V81/X81","v":{"$error":"#DIV/0!"}},null,{"$f":"MAXA(M83,S83,V83)","v":0},null,{"$f":"Z81/AB81","v":{"$error":"#DIV/0!"}}]
[null,"Tour 2",{"$f":"C70","v":0},null,null,null,null,null,null,null,{"$f":"C71","v":0},null,{"$f":"D88","v":0},null,{"$f":"E87","v":0},{"$f":"D85","v":0},null,{"$f":"E84","v":0},"B",null,null,{"$f":"D96","v":0},null,{"$f":"E96","v":0},null,{"$f":"M84+P84+V84","v":0},null,{"$f":"O84+R84+X84","v":0},{"$f":"AP84","v":{"$error":"#DIV/0!"}},null,{"$f":"AA85","v":0.03},{"$f":"RANK(AE84,AE$78:AE$89,0)","v":1},{"$f":"AB86","v":{"$error":"#DIV/0!"}},{"$f":"RANK(AG84,AG$78:AG$89,0)","v":{"$error":"#DIV/0!"}},{"$f":"MAX(O86,R86,X86)","v":{"$error":"#DIV/0!"}},{"$f":"RANK(AI84,AI$78:AI$89)","v":{"$error":"#DIV/0!"}},{"$f":"Z86","v":0},{"$f":"RANK(AK84,AK$78:AK$89)","v":1},{"$f":"(AF84*1000)+(AH84*100)+(AJ84*10)+(AL84*1)","v":{"$error":"#DIV/0!"}},{"$f":"AM84","v":{"$error":"#DIV/0!"}},{"$f":"RANK(AN84,AN$78:AN$89,1)","v":{"$error":"#DIV/0!"}},{"$f":"RANK(AO84,AO$78:AO$89,1)","v":{"$error":"#DIV/0!"}}]
[null,null,{"$f":"C71","v":0},null,null,null,null,null,null,null,null,null,null,{"$f":"IF(U78>0,2-T79,0.01)","v":0.01},null,null,{"$f":"IF(U81>0,2-T82,0.01)","v":0.01},null,null,null,null,null,{"$f":"IF(X84<1,0.01,IF(V84>S87,2,IF(V84=S87,1,0)))","v":0.01},null,null,null,{"$f":"N85+Q85+W85","v":0.03}]
[null,null,null,null,null,null,null,null,null,null,null,null,{"$f":"F88","v":0},null,{"$f":"M84/O84","v":{"$error":"#DIV/0!"}},{"$f":"F85","v":0},null,{"$f":"P84/R84","v":{"$error":"#DIV/0!"}},null,null,null,{"$f":"F96","v":0},null,{"$f":"V84/X84","v":{"$error":"#DIV/0!"}},null,{"$f":"MAXA(M86,P86,V86)","v":0},null,{"$f":"Z84/AB84","v":{"$error":"#DIV/0!"}}]
[null,"Tour 3",{"$f":"C69","v":0},null,null,null,null,null,null,null,{"$f":"C72","v":0},null,{"$f":"D82","v":0},null,{"$f":"E81","v":0},{"$f":"D90","v":0},null,{"$f":"E90","v":0},{"$f":"D97","v":0},null,{"$f":"E96","v":0},null,null,null,null,{"$f":"M87+P87+S87","v":0},null,{"$f":"O87+R87+U87","v":0},{"$f":"AP87","v":{"$error":"#DIV/0!"}},null,{"$f":"AA88","v":0.03},{"$f":"RANK(AE87,AE$78:AE$89,0)","v":1},{"$f":"AB89","v":{"$error":"#DIV/0!"}},{"$f":"RANK(AG87,AG$78:AG$89,0)","v":{"$error":"#DIV/0!"}},{"$f":"MAX(O89,R89,U89)","v":{"$error":"#DIV/0!"}},{"$f":"RANK(AI87,AI$78:AI$89)","v":{"$error":"#DIV/0!"}},{"$f":"Z89","v":0},{"$f":"RANK(AK87,AK$78:AK$89)","v":1},{"$f":"(AF87*1000)+(AH87*100)+(AJ87*10)+(AL87*1)","v":{"$error":"#DIV/0!"}},{"$f":"AM87","v":{"$error":"#DIV/0!"}},{"$f":"RANK(AN87,AN$78:AN$89,1)","v":{"$error":"#DIV/0!"}},{"$f":"RANK(AO87,AO$78:AO$89,1)","v":{"$error":"#DIV/0!"}}]
[null,null,{"$f":"C71","v":0},null,null,null,null,null,null,null,null,null,null,{"$f":"IF(X78>0,2-W79,0.01)","v":0.01},null,null,{"$f":"IF(X81>0,2-W82,0.01)","v":0.01},null,null,{"$f":"IF(X84>0,2-W85,0.01)","v":0.01},null,null,null,null,null,null,{"$f":"N88+Q88+T88","v":0.03}]
[null,null,null,null,null,null,null,null,null,null,null,null,{"$f":"F82","v":0},null,{"$f":"M87/O87","v":{"$error":"#DIV/0!"}},{"$f":"F90","v":0},null,{"$f":"P87/R87","v":{"$error":"#DIV/0!"}},{"$f":"F97","v":0},null,{"$f":"S87/U87","v":{"$error":"#DIV/0!"}},null,null,null,null,{"$f":"MAXA(M89,P89,S89)","v":0},null,{"$f":"Z87/AB87","v":{"$error":"#DIV/0!"}}]
[null,"Tour 4",{"$f":"C72","v":0}]
[null,null,{"$f":"C70","v":0},null,null,null,null,null,null,null,null,null,"Pas de prolongation en cas de match nul."]
[]
[null,"Tour 5",{"$f":"C69","v":0}]
[null,null,{"$f":"C70","v":0}]
[]
[null,"Tour 6",{"$f":"C71","v":0}]
[null,null,{"$f":"C72","v":0}]
[]
[null,"Joueur 1",{"$f":"'Saisie des joueurs'!K30","v":0}]
[null,"Joueur 2",{"$f":"'Saisie des joueurs'!K31","v":0}]
[null,"Joueur 3",{"$f":"'Saisie des joueurs'!K32","v":0}]
[null,"Joueur 4",{"$f":"'Saisie des joueurs'!K33","v":0}]
[]
[null,"SAISIE DES RESULTATS",null,null,null,null,null,null,null,null,null,null,{"$f":"C99","v":0},null,null,{"$f":"C100","v":0},null,null,{"$f":"C101","v":0},null,null,{"$f":"C102","v":0}]
[null,null,null,null,null,null,null,null,null,null,null,null,null,null,null,null,null,null,null,null,null,null,null,null,null,"TOTAUX",null,null,"CLASSEMENT"]
[null,null,null,null,null,null,null,null,null,null,null,null,null,null,null,null,null,null,null,null,null,null,null,null,null,null,null,null,null,null,"Classement",null,"Classement",null,"Classement",null,"Classement",null,"Classement",null,"GENERAL","RANG"]
[null,"POULE D",null,null,null,null,null,null,null,null,null,null,null,null,null,null,null,null,null,null,null,null,null,null,null,null,null,null,null,null,"Point-Match","CLS-M","Moy-Gen","CLS-G","Moy-Part","CLS-P","M-Series","CLS-S","MGPS","CLS","CLS"]
[null,null,null,null,null,null,null,null,null,null,{"$f":"C99","v":0},null,"L",null,null,{"$f":"D123","v":0},null,{"$f":"E123","v":0},{"$f":"D117","v":0},null,{"$f":"E117","v":0},{"$f":"D111","v":0},null,{"$f":"E111","v":0},null,{"$f":"P108+S108+V108","v":0},null,{"$f":"R108+U108+X108","v":0},{"$f":"AP108","v":{"$error":"#DIV/0!"}},null,{"$f":"AA109","v":0.03},{"$f":"RANK(AE108,AE$108:AE$119,0)","v":1},{"$f":"AB110","v":{"$error":"#DIV/0!"}},{"$f":"RANK(AG108,AG$108:AG$119,0)","v":{"$error":"#DIV/0!"}},{"$f":"MAX(R110,U110,X110)","v":{"$error":"#DIV/0!"}},{"$f":"RANK(AI108,AI$108:AI$119)","v":{"$error":"#DIV/0!"}},{"$f":"Z110","v":0},{"$f":"RANK(AK108,AK$108:AK$119)","v":1},{"$f":"(AF108*1000)+(AH108*100)+(AJ108*10)+(AL108*1)","v":{"$error":"#DIV/0!"}},{"$f":"AM108","v":{"$error":"#DIV/0!"}},{"$f":"RANK(AN108,AN$108:AN$119,1)","v":{"$error":"#DIV/0!"}},{"$f":"RANK(AO108,AO$108:AO$119,1)","v":{"$error":"#DIV/0!"}}]
[null,null,null,null,null,null,null,null,null,null,null,null,null,null,null,null,{"$f":"IF(R108<1,0.01,IF(P108>M111,2,IF(P108=M111,1,0)))","v":0.01},null,null,{"$f":"IF(U108<1,0.01,IF(S108>M114,2,IF(S108=M114,1,0)))","v":0.01},null,null,{"$f":"IF(X108<1,0.01,IF(V108>M117,2,IF(V108=M117,1,0)))","v":0.01},null,null,null,{"$f":"Q109+T109+W109","v":0.03}]
[null,null,null,"Pts","Rep","Série",null,null,null,null,null,null,null,null,null,{"$f":"F123","v":0},null,{"$f":"P108/R108","v":{"$error":"#DIV/0!"}},{"$f":"F117","v":0},null,{"$f":"S108/U108","v":{"$error":"#DIV/0!"}},{"$f":"F111","v":0},null,{"$f":"V108/X108","v":{"$error":"#DIV/0!"}},null,{"$f":"MAX(P110,S110,V110)","v":0},null,{"$f":"Z108/AB108","v":{"$error":"#DIV/0!"}}]
[null,"Tour 1",{"$f":"C99","v":0},null,null,null,null,null,null,null,{"$f":"C100","v":0},null,{"$f":"D124","v":"tar"},null,{"$f":"E123","v":0},"M",null,null,{"$f":"D114","v":0},null,{"$f":"E114","v":0},{"$f":"D121","v":0},null,{"$f":"E120","v":0},null,{"$f":"M111+S111+V111","v":{"$error":"#VALUE!"}},null,{"$f":"O111+U111+X111","v":0},{"$f":"AP111","v":{"$error":"#VALUE!"}},null,{"$f":"AA112","v":0.03},{"$f":"RANK(AE111,AE$108:AE$119,0)","v":1},{"$f":"AB113","v":{"$error":"#VALUE!"}},{"$f":"RANK(AG111,AG$108:AG$119,0)","v":{"$error":"#VALUE!"}},{"$f":"MAX(R113,U113,X113)","v":{"$error":"#DIV/0!"}},{"$f":"RANK(AI111,AI$108:AI$119)","v":{"$error":"#DIV/0!"}},{"$f":"Z113","v":0},{"$f":"RANK(AK111,AK$108:AK$119)","v":1},{"$f":"(AF111*1000)+(AH111*100)+(AJ111*10)+(AL111*1)","v":{"$error":"#VALUE!"}},{"$f":"AM111","v":{"$error":"#VALUE!"}},{"$f":"RANK(AN111,AN$108:AN$119,1)","v":{"$error":"#VALUE!"}},{"$f":"RANK(AO111,AO$108:AO$119,1)","v":{"$error":"#VALUE!"}}]
[null,null,{"$f":"C102","v":0},null,null,null,null,null,null,null,null,null,null,{"$f":"IF(R108>0,2-Q109,0.01)","v":0.01},null,null,null,null,null,{"$f":"IF(U111<1,0.01,IF(S111>P114,2,IF(S111=P114,1,0)))","v":0.01},null,null,{"$f":"IF(X111<1,0.01,IF(V111>P117,2,IF(V111=P117,1,0)))","v":0.01},null,null,null,{"$f":"N112+T112+W112","v":0.03}]
[null,null,null,null,null,null,null,null,null,null,null,null,{"$f":"F124","v":0},null,{"$f":"M111/O111","v":{"$error":"#VALUE!"}},null,null,null,{"$f":"F114","v":0},null,{"$f":"S111/U111","v":{"$error":"#DIV/0!"}},{"$f":"F121","v":0},null,{"$f":"V111/X111","v":{"$error":"#DIV/0!"}},null,{"$f":"MAXA(M113,S113,V113)","v":0},null,{"$f":"Z111/AB111","v":{"$error":"#VALUE!"}}]
[null,"Tour 2",{"$f":"C100","v":0},null,null,null,null,null,null,null,{"$f":"C101","v":0},null,{"$f":"D118","v":0},null,{"$f":"E117","v":0},{"$f":"D115","v":0},null,{"$f":"E114","v":0},"B",null,null,{"$f":"D126","v":0},null,{"$f":"E126","v":0},null,{"$f":"M114+P114+V114","v":0},null,{"$f":"O114+R114+X114","v":0},{"$f":"AP114","v":{"$error":"#DIV/0!"}},null,{"$f":"AA115","v":0.03},{"$f":"RANK(AE114,AE$108:AE$119,0)","v":1},{"$f":"AB116","v":{"$error":"#DIV/0!"}},{"$f":"RANK(AG114,AG$108:AG$119,0)","v":{"$error":"#DIV/0!"}},{"$f":"MAX(R116,U116,X116)","v":{"$error":"#DIV/0!"}},{"$f":"RANK(AI114,AI$108:AI$119)","v":{"$error":"#DIV/0!"}},{"$f":"Z116","v":0},{"$f":"RANK(AK114,AK$108:AK$119)","v":1},{"$f":"(AF114*1000)+(AH114*100)+(AJ114*10)+(AL114*1)","v":{"$error":"#DIV/0!"}},{"$f":"AM114","v":{"$error":"#DIV/0!"}},{"$f":"RANK(AN114,AN$108:AN$119,1)","v":{"$error":"#DIV/0!"}},{"$f":"RANK(AO114,AO$108:AO$119,1)","v":{"$error":"#DIV/0!"}}]
[null,null,{"$f":"C101","v":0},null,null,null,null,null,null,null,null,null,null,{"$f":"IF(U108>0,2-T109,0.01)","v":0.01},null,null,{"$f":"IF(U111>0,2-T112,0.01)","v":0.01},null,null,null,null,null,{"$f":"IF(X114<1,0.01,IF(V114>S117,2,IF(V114=S117,1,0)))","v":0.01},null,null,null,{"$f":"N115+Q115+W115","v":0.03}]
[null,null,null,null,null,null,null,null,null,null,null,null,{"$f":"F118","v":0},null,{"$f":"M114/O114","v":{"$error":"#DIV/0!"}},{"$f":"F115","v":0},null,{"$f":"P114/R114","v":{"$error":"#DIV/0!"}},null,null,null,{"$f":"F126","v":0},null,{"$f":"V114/X114","v":{"$error":"#DIV/0!"}},null,{"$f":"MAXA(M116,P116,V116)","v":0},null,{"$f":"Z114/AB114","v":{"$error":"#DIV/0!"}}]
[null,"Tour 3",{"$f":"C99","v":0},null,null,null,null,null,null,null,{"$f":"C102","v":0},null,{"$f":"D112","v":0},null,{"$f":"E111","v":0},{"$f":"D120","v":0},null,{"$f":"E120","v":0},{"$f":"D127","v":0},null,{"$f":"E126","v":0},null,null,null,null,{"$f":"M117+P117+S117","v":0},null,{"$f":"O117+R117+U117","v":0},{"$f":"AP117","v":{"$error":"#DIV/0!"}},null,{"$f":"AA118","v":0.03},{"$f":"RANK(AE117,AE$108:AE$119,0)","v":1},{"$f":"AB119","v":{"$error":"#DIV/0!"}},{"$f":"RANK(AG117,AG$108:AG$119,0)","v":{"$error":"#DIV/0!"}},{"$f":"MAX(R119,U119,X119)","v":{"$error":"#DIV/0!"}},{"$f":"RANK(AI117,AI$108:AI$119)","v":{"$error":"#DIV/0!"}},{"$f":"Z119","v":0},{"$f":"RANK(AK117,AK$108:AK$119)","v":1},{"$f":"(AF117*1000)+(AH117*100)+(AJ117*10)+(AL117*1)","v":{"$error":"#DIV/0!"}},{"$f":"AM117","v":{"$error":"#DIV/0!"}},{"$f":"RANK(AN117,AN$108:AN$119,1)","v":{"$error":"#DIV/0!"}},{"$f":"RANK(AO117,AO$108:AO$119,1)","v":{"$error":"#DIV/0!"}}]
[null,null,{"$f":"C101","v":0},null,null,null,null,null,null,null,null,null,null,{"$f":"IF(X108>0,2-W109,0.01)","v":0.01},null,null,{"$f":"IF(X111>0,2-W112,0.01)","v":0.01},null,null,{"$f":"IF(X114>0,2-W115,0.01)","v":0.01},null,null,null,null,null,null,{"$f":"N118+Q118+T118","v":0.03}]
[null,null,null,null,null,null,null,null,null,null,null,null,{"$f":"F112","v":0},null,{"$f":"M117/O117","v":{"$error":"#DIV/0!"}},{"$f":"F120","v":0},null,{"$f":"P117/R117","v":{"$error":"#DIV/0!"}},{"$f":"F127","v":0},null,{"$f":"S117/U117","v":{"$error":"#DIV/0!"}},null,null,null,null,{"$f":"MAXA(M119,P119,S119)","v":0},null,{"$f":"Z117/AB117","v":{"$error":"#DIV/0!"}}]
[null,"Tour 4",{"$f":"C102","v":0}]
[null,null,{"$f":"C100","v":0},null,null,null,null,null,null,null,null,null,"Pas de prolongation en cas de match nul."]
[]
[null,"Tour 5",{"$f":"C99","v":0}]
[null,null,{"$f":"C100","v":0},"tar"]
[]
[null,"Tour 6",{"$f":"C101","v":0}]
[null,null,{"$f":"C102","v":0}]

{"sheet":"17JOUEURS_SERPENTIN","index":30,"n_rows":158,"n_cols":48,"rows_kept":158,"cut":false,"hidden":true,"merged":[[6,27,6,28],[8,2,8,5],[2,1,3,2],[2,3,3,9],[5,1,6,2],[5,3,6,9],[6,12,6,15],[6,17,6,18],[6,20,6,21],[6,23,6,25],[1,12,4,34],[9,2,9,5],[10,2,10,5],[10,12,10,20],[10,21,10,29],[12,1,13,5],[12,12,15,14],[12,15,15,17],[12,18,15,20],[12,21,15,23],[12,24,15,26],[14,46,15,46],[15,1,16,2],[16,10,18,11],[16,12,18,14],[16,21,18,23],[16,34,18,34],[16,36,18,36],[16,37,18,37],[12,27,15,29],[12,31,15,33],[12,34,15,34],[13,10,15,11],[14,36,14,37],[14,38,14,39],[16,44,18,44],[16,45,18,45],[16,46,18,46],[16,47,18,47],[19,1,20,1],[19,4,20,4],[19,10,21,11],[19,15,21,17],[19,24,21,26],[19,34,21,34],[16,38,18,38],[16,39,18,39],[16,40,18,40],[16,41,18,41],[16,42,18,42],[16,43,18,43],[19,45,21,45],[19,46,21,46],[19,47,21,47],[19,36,21,36],[19,37,21,37],[19,38,21,38],[19,39,21,39],[19,40,21,40],[19,41,21,41],[22,46,24,46],[22,47,24,47],[22,36,24,36],[22,37,24,37],[22,38,24,38],[22,39,24,39],[22,40,24,40],[22,41,24,41],[22,1,23,1],[22,4,23,4],[22,10,24,11],[22,18,24,20],[22,27,24,29],[22,34,24,34],[22,42,24,42],[22,43,24,43],[22,44,24,44],[34,1,35,1],[34,4,35,4],[38,2,38,5],[39,2,39,5],[40,2,40,5],[40,12,40,20],[25,1,26,1],[25,4,26,4],[26,12,26,34],[28,1,29,1],[28,4,29,4],[31,1,32,1],[31,4,32,4],[44,46,45,46],[45,1,46,2],[46,10,48,11],[46,12,48,14],[46,21,48,23],[46,34,48,34],[46,36,48,36],[46,37,48,37],[46,38,48,38],[42,31,45,33],[42,34,45,34],[43,10,45,11],[44,36,44,37],[44,38,44,39],[44,41,44,42],[42,1,43,5],[42,12,45,14],[42,15,45,17],[42,18,45,20],[42,21,45,23],[42,24,45,26],[42,27,45,29],[46,45,48,45],[46,46,48,46],[46,47,48,47],[49,1,50,1],[49,4,50,4],[49,10,51,11],[49,15,51,17],[49,24,51,26],[49,34,51,34],[49,36,51,36],[46,39,48,39],[46,40,48,40],[46,41,48,41],[46,42,48,42],[46,43,48,43],[46,44,48,44],[49,43,51,43],[49,44,51,44],[49,45,51,45],[49,46,51,46],[49,47,51,47],[49,41,51,41],[49,42,51,42],[52,1,53,1],[52,4,53,4],[52,10,54,11],[52,18,54,20],[52,27,54,29],[49,37,51,37],[49,38,51,38],[49,39,51,39],[49,40,51,40],[61,1,62,1],[61,4,62,4],[64,1,65,1],[64,4,65,4],[68,2,68,5],[69,2,69,5],[52,47,54,47],[55,1,56,1],[55,4,56,4],[56,12,56,34],[58,1,59,1],[58,4,59,4],[52,41,54,41],[52,42,54,42],[52,43,54,43],[52,44,54,44],[52,45,54,45],[52,46,54,46],[52,34,54,34],[52,36,54,36],[52,37,54,37],[52,38,54,38],[52,39,54,39],[52,40,54,40],[70,2,70,5],[70,12,70,20],[70,21,70,29],[73,1,74,5],[73,12,76,14],[73,15,76,17],[73,18,76,20],[73,21,76,23],[73,24,76,26],[73,27,76,29],[75,46,76,46],[76,1,77,2],[77,10,79,11],[77,12,79,14],[77,21,79,23],[77,34,79,34],[77,36,79,36],[77,37,79,37],[77,38,79,38],[73,31,76,33],[73,34,76,34],[74,10,76,11],[75,36,75,37],[75,38,75,39],[75,41,75,42],[77,45,79,45],[77,46,79,46],[77,47,79,47],[80,1,81,1],[80,4,81,4],[80,10,82,11],[80,15,82,17],[80,24,82,26],[80,34,82,34],[80,36,82,36],[77,39,79,39],[77,40,79,40],[77,41,79,41],[77,42,79,42],[77,43,79,43],[77,44,79,44],[80,43,82,43],[80,44,82,44],[80,45,82,45],[80,46,82,46],[80,47,82,47],[80,41,82,41],[80,42,82,42],[83,47,85,47],[86,1,87,1],[86,4,87,4],[87,12,87,34],[89,1,90,1],[89,4,90,4],[83,41,85,41],[83,42,85,42],[83,43,85,43],[83,44,85,44],[83,45,85,45],[83,46,85,46],[83,34,85,34],[83,36,85,36],[83,37,85,37],[83,38,85,38],[83,39,85,39],[83,40,85,40],[83,1,84,1],[83,4,84,4],[83,10,85,11],[83,18,85,20],[83,27,85,29],[101,2,101,5],[102,2,102,5],[104,1,105,5],[104,12,107,14],[104,15,107,17],[104,18,107,20],[92,1,93,1],[92,4,93,4],[95,1,96,1],[95,4,96,4],[99,2,99,5],[100,2,100,5],[106,47,107,47],[107,1,108,2],[108,10,110,11],[108,12,110,14],[108,28,110,28],[104,21,107,23],[105,10,107,11],[105,25,107,27],[105,28,107,28],[108,44,110,44],[108,45,110,45],[108,46,110,46],[108,47,110,47],[111,1,112,1],[111,4,112,4],[111,10,113,11],[111,15,113,17],[111,28,113,28],[108,42,110,42],[108,43,110,43],[114,42,116,42],[114,43,116,43],[111,42,113,42],[114,36,116,36],[114,37,116,37],[114,38,116,38],[114,39,116,39],[114,40,116,40],[114,41,116,41],[108,38,110,38],[108,39,110,39],[108,40,110,40],[108,41,110,41],[111,36,113,36],[111,37,113,37],[111,38,113,38],[111,39,113,39],[114,44,116,44],[114,45,116,45],[114,46,116,46],[114,47,116,47],[111,43,113,43],[111,44,113,44],[111,45,113,45],[111,46,113,46],[111,47,113,47],[117,43,119,43],[117,44,119,44],[117,45,119,45],[117,46,119,46],[117,47,119,47],[120,1,121,1],[120,4,121,4],[121,12,121,23],[117,36,119,36],[117,37,119,37],[117,42,119,42],[117,1,118,1],[117,4,118,4],[117,10,119,11],[117,21,119,23],[117,28,119,28],[117,38,119,38],[117,39,119,39],[117,40,119,40],[117,41,119,41],[136,42,136,43],[136,44,136,45],[136,47,137,47],[137,1,138,2],[138,10,140,11],[138,12,140,14],[138,28,140,28],[138,36,140,36],[138,37,140,37],[134,21,137,23],[135,10,137,11],[135,25,137,27],[135,28,137,28],[136,36,136,37],[136,38,136,39],[134,1,135,5],[134,12,137,14],[134,15,137,17],[134,18,137,20],[138,44,140,44],[138,45,140,45],[138,46,140,46],[138,47,140,47],[138,42,140,42],[141,1,142,1],[141,4,142,4],[141,10,143,11],[141,15,143,17],[141,28,143,28],[141,36,143,36],[138,38,140,38],[138,41,140,41],[138,40,140,40],[138,43,140,43],[141,43,143,43],[141,44,143,44],[141,45,143,45],[141,46,143,46],[141,47,143,47],[144,1,145,1],[144,4,145,4],[144,10,146,11],[144,18,146,20],[144,28,146,28],[141,37,143,37],[141,38,143,38],[141,39,143,39],[141,40,143,40],[141,41,143,41],[141,42,143,42],[144,42,146,42],[144,43,146,43],[144,44,146,44],[144,45,146,45],[144,46,146,46],[144,47,146,47],[144,36,146,36],[144,37,146,37],[144,38,146,38],[144,39,146,39],[144,40,146,40],[144,41,146,41],[147,43,149,43],[147,44,149,44],[147,45,149,45],[147,46,149,46],[147,47,149,47],[150,1,151,1],[150,4,151,4],[151,12,151,23],[147,37,149,37],[147,38,149,38],[147,39,149,39],[147,40,149,40],[147,41,149,41],[147,42,149,42],[147,1,148,1],[147,4,148,4],[147,10,149,11],[147,21,149,23],[147,28,149,28],[147,36,149,36],[153,1,154,1],[153,4,154,4],[156,1,157,1],[156,4,157,4],[138,39,140,39],[106,36,106,37],[106,38,106,39],[106,40,106,41],[108,36,110,36],[108,37,110,37],[136,40,136,41],[131,2,131,5],[132,2,132,5],[123,1,124,1],[123,4,124,4],[126,1,127,1],[126,4,127,4],[129,2,129,5],[130,2,130,5],[114,1,115,1],[114,4,115,4],[114,10,116,11],[114,18,116,20],[114,28,116,28],[111,40,113,40],[111,41,113,41],[40,21,40,29],[14,41,14,42],[7,12,7,15],[7,17,7,18],[7,20,7,21],[7,23,7,25],[7,27,7,28],[106,42,106,43],[80,37,82,37],[80,38,82,38],[80,39,82,39],[80,40,82,40],[75,43,75,44],[44,43,44,44],[14,43,14,44],[106,44,106,45],[22,45,24,45],[19,42,21,42],[19,43,21,43],[19,44,21,44]]}
[]
[null,null,null,null,null,null,null,null,null,null,null,null,"LIGUE MÉDITERRANÉENNE DE BILLARD"]
[null,"CLUB ORGANISATEUR"]
[]
[]
[null,"DIRECTEUR DE JEU :"]
[null,null,null,null,null,null,null,null,null,null,null,null,"Compétition",null,null,null,null,"Mode de jeu",null,null,"Categorie",null,null,"Format billard",null,null,null,"Distance"]
[]
[null,"Joueur 1",{"$f":"'Saisie des joueurs'!K18","v":0}]
[null,"Joueur 2",{"$f":"'Saisie des joueurs'!K19","v":0}]
[null,"Joueur 3",{"$f":"'Saisie des joueurs'!K20","v":0},null,null,null,null,null,null,null,null,null,"MATCH ALLER",null,null,null,null,null,null,null,null,"MATCH RETOUR"]
[]
[null,"SAISIE DES RESULTATS",null,null,null,null,null,null,null,null,null,null,{"$f":"C9","v":0},null,null,{"$f":"C10","v":0},null,null,{"$f":"C11","v":0},null,null,{"$f":"C9","v":0},null,null,{"$f":"C10","v":0},null,null,{"$f":"C11","v":0},null,null,null,"TOTAUX",null,null,"CLASSEMENT"]
[]
[null,null,null,null,null,null,null,null,null,null,null,null,null,null,null,null,null,null,null,null,null,null,null,null,null,null,null,null,null,null,null,null,null,null,null,null,"Classement",null,"Classement",null,"Classement","Classement",null,"Classement",null,"GENERAL","RANG"]
[null,"POULE A",null,null,null,null,null,null,null,null,null,null,null,null,null,null,null,null,null,null,null,null,null,null,null,null,null,null,null,null,null,null,null,null,null,null,"Point-Match","CLS-M","Moy-Gen","CLS-G","Moy-Part","M-Series","CLS-S","MGPS","CLS","CLS"]
[null,null,null,null,null,null,null,null,null,null,{"$f":"C9","v":0},null,"L",null,null,{"$f":"D26","v":0},null,{"$f":"E26","v":0},{"$f":"D20","v":0},null,{"$f":"E20","v":0},"L",null,null,{"$f":"D35","v":0},null,{"$f":"E35","v":0},{"$f":"D29","v":0},null,{"$f":"E29","v":0},null,{"$f":"P17+S17+Y17+AB17","v":0},null,{"$f":"R17+U17+AA17+AD17","v":0},{"$f":"AU17","v":{"$error":"#DIV/0!"}},null,{"$f":"AG18","v":0.04},{"$f":"RANK(AK17,AK$17:AK$25,0)","v":1},{"$f":"AH19","v":{"$error":"#DIV/0!"}},{"$f":"RANK(AM17,AM$17:AM$25,0)","v":{"$error":"#DIV/0!"}},{"$f":"MAX(R19,U19,AA19,AD19)","v":{"$error":"#DIV/0!"}},{"$f":"RANK(AO17,AO$17:AO$25)","v":{"$error":"#DIV/0!"}},{"$f":"AF19","v":0},{"$f":"RANK(AQ17,AQ$17:AQ$25)","v":1},{"$f":"(AL17*1000)+(AN17*100)+(AP17*10)+(AR17*1)","v":{"$error":"#DIV/0!"}},{"$f":"AS17","v":{"$error":"#DIV/0!"}},{"$f":"RANK(AT17,AT$17:AT$25,1)","v":{"$error":"#DIV/0!"}},{"$f":"RANK(AU17,AU$17:AU$25,1)","v":{"$error":"#DIV/0!"}}]
[null,null,null,null,null,null,null,null,null,null,null,null,null,null,null,null,{"$f":"IF(R17<1,0.01,IF(P17>M20,2,IF(P17=M20,1,0)))","v":0.01},null,null,{"$f":"IF(U17<1,0.01,IF(S17>M23,2,IF(S17=M23,1,0)))","v":0.01},null,null,null,null,null,{"$f":"IF(AA17<1,0.01,IF(Y17>V20,2,IF(Y17=V20,1,0)))","v":0.01},null,null,{"$f":"IF(AD17<1,0.01,IF(AB17>V23,2,IF(AB17=V23,1,0)))","v":0.01},null,null,null,{"$f":"Q18+T18+Z18+AC18","v":0.04}]
[null,null,null,"Pts","Rep","Série",null,null,null,null,null,null,null,null,null,{"$f":"F26","v":0},null,{"$f":"P17/R17","v":{"$error":"#DIV/0!"}},{"$f":"F20","v":0},null,{"$f":"S17/U17","v":{"$error":"#DIV/0!"}},null,null,null,{"$f":"F35","v":0},null,{"$f":"Y17/AA17","v":{"$error":"#DIV/0!"}},{"$f":"F29","v":0},null,{"$f":"AB17/AD17","v":{"$error":"#DIV/0!"}},null,{"$f":"MAX(P19,S19,Y19,AB19)","v":0},null,{"$f":"AF17/AH17","v":{"$error":"#DIV/0!"}}]
[null,"Tour 1\nMatch aller",{"$f":"C9","v":0},null,null,null,null,null,null,null,{"$f":"C10","v":0},null,{"$f":"D27","v":0},null,{"$f":"E26","v":0},"M",null,null,{"$f":"D23","v":0},null,{"$f":"E23","v":0},{"$f":"D36","v":0},null,{"$f":"E35","v":0},"M",null,null,{"$f":"D32","v":0},null,{"$f":"E32","v":0},null,{"$f":"M20+S20+V20+AB20","v":0},null,{"$f":"O20+U20+X20+AD20","v":0},{"$f":"AU20","v":{"$error":"#DIV/0!"}},null,{"$f":"AG21","v":0.04},{"$f":"RANK(AK20,AK$17:AK$25,0)","v":1},{"$f":"AH22","v":{"$error":"#DIV/0!"}},{"$f":"RANK(AM20,AM$17:AM$25,0)","v":{"$error":"#DIV/0!"}},{"$f":"MAX(R22,U22,AA22,AD22)","v":{"$error":"#DIV/0!"}},{"$f":"RANK(AO20,AO$17:AO$25)","v":{"$error":"#DIV/0!"}},{"$f":"AF22","v":0},{"$f":"RANK(AQ20,AQ$17:AQ$25)","v":1},{"$f":"(AL20*1000)+(AN20*100)+(AP20*10)+(AR20*1)","v":{"$error":"#DIV/0!"}},{"$f":"AS20","v":{"$error":"#DIV/0!"}},{"$f":"RANK(AT20,AT$17:AT$25,1)","v":{"$error":"#DIV/0!"}},{"$f":"RANK(AU20,AU$17:AU$25,1)","v":{"$error":"#DIV/0!"}}]
[null,null,{"$f":"C11","v":0},null,null,null,null,null,null,null,null,null,null,{"$f":"IF(R17>0,2-Q18,0.01)","v":0.01},null,null,null,null,null,{"$f":"IF(U20<1,0.01,IF(S20>P23,2,IF(S20=P23,1,0)))","v":0.01},null,null,{"$f":"IF(AA17>0,2-Z18,0.01)","v":0.01},null,null,null,null,null,{"$f":"IF(AD20<1,0.01,IF(AB20>Y23,2,IF(AB20=Y23,1,0)))","v":0.01},null,null,null,{"$f":"N21+T21+W21+AC21","v":0.04}]
[null,null,null,null,null,null,null,null,null,null,null,null,{"$f":"F27","v":0},null,{"$f":"M20/O20","v":{"$error":"#DIV/0!"}},null,null,null,{"$f":"F23","v":0},null,{"$f":"S20/U20","v":{"$error":"#DIV/0!"}},{"$f":"F36","v":0},null,{"$f":"V20/X20","v":{"$error":"#DIV/0!"}},null,null,null,{"$f":"F32","v":0},null,{"$f":"AB20/AD20","v":{"$error":"#DIV/0!"}},null,{"$f":"MAXA(M22,S22,V22,AB22)","v":0},null,{"$f":"AF20/AH20","v":{"$error":"#DIV/0!"}}]
[null,"Tour 2\nMatch aller",{"$f":"C10","v":0},null,null,null,null,null,null,null,{"$f":"C11","v":0},null,{"$f":"D21","v":0},null,{"$f":"E20","v":0},{"$f":"D24","v":0},null,{"$f":"E23","v":0},"B",null,null,{"$f":"D30","v":0},null,{"$f":"E29","v":0},{"$f":"D33","v":0},null,{"$f":"E32","v":0},"B",null,null,null,{"$f":"M23+P23+V23+Y23","v":0},null,{"$f":"O23+R23+X23+AA23","v":0},{"$f":"AU23","v":{"$error":"#DIV/0!"}},null,{"$f":"AG24","v":0.04},{"$f":"RANK(AK23,AK$17:AK$25,0)","v":1},{"$f":"AH25","v":{"$error":"#DIV/0!"}},{"$f":"RANK(AM23,AM$17:AM$25,0)","v":{"$error":"#DIV/0!"}},{"$f":"MAX(R25,U25,AA25,AD25)","v":{"$error":"#DIV/0!"}},{"$f":"RANK(AO23,AO$17:AO$25)","v":{"$error":"#DIV/0!"}},{"$f":"AF25","v":0},{"$f":"RANK(AQ23,AQ$17:AQ$25)","v":1},{"$f":"(AL23*1000)+(AN23*100)+(AP23*10)+(AR23*1)","v":{"$error":"#DIV/0!"}},{"$f":"AS23","v":{"$error":"#DIV/0!"}},{"$f":"RANK(AT23,AT$17:AT$25,1)","v":{"$error":"#DIV/0!"}},{"$f":"RANK(AU23,AU$17:AU$25,1)","v":{"$error":"#DIV/0!"}}]
[null,null,{"$f":"C11","v":0},null,null,null,null,null,null,null,null,null,null,{"$f":"IF(U17>0,2-T18,0.01)","v":0.01},null,null,{"$f":"IF(U20>0,2-T21,0.01)","v":0.01},null,null,null,null,null,{"$f":"IF(AD17>0,2-AC18,0.01)","v":0.01},null,null,{"$f":"IF(AD20>0,2-AC21,0.01)","v":0.01},null,null,null,null,null,null,{"$f":"N24+Q24+W24+Z24","v":0.04}]
[null,null,null,null,null,null,null,null,null,null,null,null,{"$f":"F21","v":0},null,{"$f":"M23/O23","v":{"$error":"#DIV/0!"}},{"$f":"F24","v":0},null,{"$f":"P23/R23","v":{"$error":"#DIV/0!"}},null,null,null,{"$f":"F30","v":0},null,{"$f":"V23/X23","v":{"$error":"#DIV/0!"}},{"$f":"F33","v":0},null,{"$f":"Y23/AA23","v":{"$error":"#DIV/0!"}},null,null,null,null,{"$f":"MAXA(M25,P25,V25,Y25)","v":0},null,{"$f":"AF23/AH23","v":{"$error":"#DIV/0!"}}]
[null,"Tour 3\nMatch aller",{"$f":"C9","v":0}]
[null,null,{"$f":"C10","v":0},null,null,null,null,null,null,null,null,null,"Pas de prolongation en cas de match nul."]
[]
[null,"Tour 1\nMatch retour",{"$f":"C9","v":0}]
[null,null,{"$f":"C11","v":0}]
[]
[null,"Tour 2\nMatch retour",{"$f":"C10","v":0}]
[null,null,{"$f":"C11","v":0}]
[]
[null,"Tour 3\nMatch retour",{"$f":"C9","v":0}]
[null,null,{"$f":"C10","v":0}]
[]
[]
[null,"Joueur 1",{"$f":"'Saisie des joueurs'!K22","v":0}]
[null,"Joueur 2",{"$f":"'Saisie des joueurs'!K23","v":0}]
[null,"Joueur 3",{"$f":"'Saisie des joueurs'!K24","v":0},null,null,null,null,null,null,null,null,null,"MATCH ALLER",null,null,null,null,null,null,null,null,"MATCH RETOUR"]
[]
[null,"SAISIE DES RESULTATS",null,null,null,null,null,null,null,null,null,null,{"$f":"C39","v":0},null,null,{"$f":"C40","v":0},null,null,{"$f":"C41","v":0},null,null,{"$f":"C39","v":0},null,null,{"$f":"C40","v":0},null,null,{"$f":"C41","v":0},null,null,null,"TOTAUX",null,null,"CLASSEMENT"]
[]
[null,null,null,null,null,null,null,null,null,null,null,null,null,null,null,null,null,null,null,null,null,null,null,null,null,null,null,null,null,null,null,null,null,null,null,null,"Classement",null,"Classement",null,"Classement","Classement",null,"Classement",null,"GENERAL","RANG"]
[null,"POULE B",null,null,null,null,null,null,null,null,null,null,null,null,null,null,null,null,null,null,null,null,null,null,null,null,null,null,null,null,null,null,null,null,null,null,"Point-Match","CLS-M","Moy-Gen","CLS-G","Moy-Part","M-Series","CLS-S","MGPS","CLS","CLS"]
[null,null,null,null,null,null,null,null,null,null,{"$f":"C39","v":0},null,"L",null,null,{"$f":"D56","v":0},null,{"$f":"E56","v":0},{"$f":"D50","v":0},null,{"$f":"E50","v":0},"L",null,null,{"$f":"D65","v":0},null,{"$f":"E65","v":0},{"$f":"D59","v":0},null,{"$f":"E59","v":0},null,{"$f":"P47+S47+Y47+AB47","v":0},null,{"$f":"R47+U47+AA47+AD47","v":0},{"$f":"AU47","v":{"$error":"#DIV/0!"}},null,{"$f":"AG48","v":0.04},{"$f":"RANK(AK47,AK$47:AK$55,0)","v":1},{"$f":"AH49","v":{"$error":"#DIV/0!"}},{"$f":"RANK(AM47,AM$47:AM$55,0)","v":{"$error":"#DIV/0!"}},{"$f":"MAX(R49,U49,AA49,AD49)","v":{"$error":"#DIV/0!"}},{"$f":"RANK(AO47,AO$47:AO$55)","v":{"$error":"#DIV/0!"}},{"$f":"AF49","v":0},{"$f":"RANK(AQ47,AQ$47:AQ$55)","v":1},{"$f":"(AL47*1000)+(AN47*100)+(AP47*10)+(AR47*1)","v":{"$error":"#DIV/0!"}},{"$f":"AS47","v":{"$error":"#DIV/0!"}},{"$f":"RANK(AT47,AT$47:AT$55,1)","v":{"$error":"#DIV/0!"}},{"$f":"RANK(AU47,AU$47:AU$55,1)","v":{"$error":"#DIV/0!"}}]
[null,null,null,null,null,null,null,null,null,null,null,null,null,null,null,null,{"$f":"IF(R47<1,0.01,IF(P47>M50,2,IF(P47=M50,1,0)))","v":0.01},null,null,{"$f":"IF(U47<1,0.01,IF(S47>M53,2,IF(S47=M53,1,0)))","v":0.01},null,null,null,null,null,{"$f":"IF(AA47<1,0.01,IF(Y47>V50,2,IF(Y47=V50,1,0)))","v":0.01},null,null,{"$f":"IF(AD47<1,0.01,IF(AB47>V53,2,IF(AB47=V53,1,0)))","v":0.01},null,null,null,{"$f":"Q48+T48+Z48+AC48","v":0.04}]
[null,null,null,"Pts","Rep","Série",null,null,null,null,null,null,null,null,null,{"$f":"F56","v":0},null,{"$f":"P47/R47","v":{"$error":"#DIV/0!"}},{"$f":"F50","v":0},null,{"$f":"S47/U47","v":{"$error":"#DIV/0!"}},null,null,null,{"$f":"F65","v":0},null,{"$f":"Y47/AA47","v":{"$error":"#DIV/0!"}},{"$f":"F59","v":0},null,{"$f":"AB47/AD47","v":{"$error":"#DIV/0!"}},null,{"$f":"MAX(P49,S49,Y49,AB49)","v":0},null,{"$f":"AF47/AH47","v":{"$error":"#DIV/0!"}}]
[null,"Tour 1\nMatch aller",{"$f":"C39","v":0},null,null,null,null,null,null,null,{"$f":"C40","v":0},null,{"$f":"D57","v":0},null,{"$f":"E56","v":0},"M",null,null,{"$f":"D53","v":0},null,{"$f":"E53","v":0},{"$f":"D66","v":0},null,{"$f":"E65","v":0},"M",null,null,{"$f":"D62","v":0},null,{"$f":"E62","v":0},null,{"$f":"M50+S50+V50+AB50","v":0},null,{"$f":"O50+U50+X50+AD50","v":0},{"$f":"AU50","v":{"$error":"#DIV/0!"}},null,{"$f":"AG51","v":0.04},{"$f":"RANK(AK50,AK$47:AK$55,0)","v":1},{"$f":"AH52","v":{"$error":"#DIV/0!"}},{"$f":"RANK(AM50,AM$47:AM$55,0)","v":{"$error":"#DIV/0!"}},{"$f":"MAX(O52,U52,X52,AD52)","v":{"$error":"#DIV/0!"}},{"$f":"RANK(AO50,AO$47:AO$55)","v":{"$error":"#DIV/0!"}},{"$f":"AF52","v":0},{"$f":"RANK(AQ50,AQ$47:AQ$55)","v":1},{"$f":"(AL50*1000)+(AN50*100)+(AP50*10)+(AR50*1)","v":{"$error":"#DIV/0!"}},{"$f":"AS50","v":{"$error":"#DIV/0!"}},{"$f":"RANK(AT50,AT$47:AT$55,1)","v":{"$error":"#DIV/0!"}},{"$f":"RANK(AU50,AU$47:AU$55,1)","v":{"$error":"#DIV/0!"}}]
[null,null,{"$f":"C41","v":0},null,null,null,null,null,null,null,null,null,null,{"$f":"IF(R47>0,2-Q48,0.01)","v":0.01},null,null,null,null,null,{"$f":"IF(U50<1,0.01,IF(S50>P53,2,IF(S50=P53,1,0)))","v":0.01},null,null,{"$f":"IF(AA47>0,2-Z48,0.01)","v":0.01},null,null,null,null,null,{"$f":"IF(AD50<1,0.01,IF(AB50>Y53,2,IF(AB50=Y53,1,0)))","v":0.01},null,null,null,{"$f":"N51+T51+W51+AC51","v":0.04}]
[null,null,null,null,null,null,null,null,null,null,null,null,{"$f":"F57","v":0},null,{"$f":"M50/O50","v":{"$error":"#DIV/0!"}},null,null,null,{"$f":"F53","v":0},null,{"$f":"S50/U50","v":{"$error":"#DIV/0!"}},{"$f":"F66","v":0},null,{"$f":"V50/X50","v":{"$error":"#DIV/0!"}},null,null,null,{"$f":"F62","v":0},null,{"$f":"AB50/AD50","v":{"$error":"#DIV/0!"}},null,{"$f":"MAXA(M52,S52,V52,AB52)","v":0},null,{"$f":"AF50/AH50","v":{"$error":"#DIV/0!"}}]
[null,"Tour 2\nMatch aller",{"$f":"C40","v":0},null,null,null,null,null,null,null,{"$f":"C41","v":0},null,{"$f":"D51","v":0},null,{"$f":"E50","v":0},{"$f":"D54","v":0},null,{"$f":"E53","v":0},"B",null,null,{"$f":"D60","v":0},null,{"$f":"E59","v":0},{"$f":"D63","v":0},null,{"$f":"E62","v":0},"B",null,null,null,{"$f":"M53+P53+V53+Y53","v":0},null,{"$f":"O53+R53+X53+AA53","v":0},{"$f":"AU53","v":{"$error":"#DIV/0!"}},null,{"$f":"AG54","v":0.04},{"$f":"RANK(AK53,AK$47:AK$55,0)","v":1},{"$f":"AH55","v":{"$error":"#DIV/0!"}},{"$f":"RANK(AM53,AM$47:AM$55,0)","v":{"$error":"#DIV/0!"}},{"$f":"MAX(O55,R55,X55,AA55)","v":{"$error":"#DIV/0!"}},{"$f":"RANK(AO53,AO$47:AO$55)","v":{"$error":"#DIV/0!"}},{"$f":"AF55","v":0},{"$f":"RANK(AQ53,AQ$47:AQ$55)","v":1},{"$f":"(AL53*1000)+(AN53*100)+(AP53*10)+(AR53*1)","v":{"$error":"#DIV/0!"}},{"$f":"AS53","v":{"$error":"#DIV/0!"}},{"$f":"RANK(AT53,AT$47:AT$55,1)","v":{"$error":"#DIV/0!"}},{"$f":"RANK(AU53,AU$47:AU$55,1)","v":{"$error":"#DIV/0!"}}]
[null,null,{"$f":"C41","v":0},null,null,null,null,null,null,null,null,null,null,{"$f":"IF(U47>0,2-T48,0.01)","v":0.01},null,null,{"$f":"IF(U50>0,2-T51,0.01)","v":0.01},null,null,null,null,null,{"$f":"IF(AD47>0,2-AC48,0.01)","v":0.01},null,null,{"$f":"IF(AD50>0,2-AC51,0.01)","v":0.01},null,null,null,null,null,null,{"$f":"N54+Q54+W54+Z54","v":0.04}]
[null,null,null,null,null,null,null,null,null,null,null,null,{"$f":"F51","v":0},null,{"$f":"M53/O53","v":{"$error":"#DIV/0!"}},{"$f":"F54","v":0},null,{"$f":"P53/R53","v":{"$error":"#DIV/0!"}},null,null,null,{"$f":"F60","v":0},null,{"$f":"V53/X53","v":{"$error":"#DIV/0!"}},{"$f":"F63","v":0},null,{"$f":"Y53/AA53","v":{"$error":"#DIV/0!"}},null,null,null,null,{"$f":"MAXA(M55,P55,V55,Y55)","v":0},null,{"$f":"AF53/AH53","v":{"$error":"#DIV/0!"}}]
[null,"Tour 3\nMatch aller",{"$f":"C39","v":0}]
[null,null,{"$f":"C40","v":0},null,null,null,null,null,null,null,null,null,"Pas de prolongation en cas de match nul."]
[]
[null,"Tour 1\nMatch retour",{"$f":"C39","v":0}]
[null,null,{"$f":"C41","v":0}]
[]
[null,"Tour 2\nMatch retour",{"$f":"C40","v":0}]
[null,null,{"$f":"C41","v":0}]
[]
[null,"Tour 3\nMatch retour",{"$f":"C39","v":0}]
[null,null,{"$f":"C40","v":0}]
[]
[]
[null,"Joueur 1",{"$f":"'Saisie des joueurs'!K26","v":0}]
[null,"Joueur 2",{"$f":"'Saisie des joueurs'!K27","v":0}]
[null,"Joueur 3",{"$f":"'Saisie des joueurs'!K28","v":0},null,null,null,null,null,null,null,null,null,"MATCH ALLER",null,null,null,null,null,null,null,null,"MATCH RETOUR"]
[]
[]
[null,"SAISIE DES RESULTATS",null,null,null,null,null,null,null,null,null,null,{"$f":"C69","v":0},null,null,{"$f":"C70","v":0},null,null,{"$f":"C71","v":0},null,null,{"$f":"C69","v":0},null,null,{"$f":"C70","v":0},null,null,{"$f":"C71","v":0},null,null,null,"TOTAUX",null,null,"CLASSEMENT"]
[]
[null,null,null,null,null,null,null,null,null,null,null,null,null,null,null,null,null,null,null,null,null,null,null,null,null,null,null,null,null,null,null,null,null,null,null,null,"Classement",null,"Classement",null,"Classement","Classement",null,"Classement",null,"GENERAL","RANG"]
[null,"POULE C",null,null,null,null,null,null,null,null,null,null,null,null,null,null,null,null,null,null,null,null,null,null,null,null,null,null,null,null,null,null,null,null,null,null,"Point-Match","CLS-M","Moy-Gen","CLS-G","Moy-Part","M-Series","CLS-S","MGPS","CLS","CLS"]
[null,null,null,null,null,null,null,null,null,null,{"$f":"C69","v":0},null,"L",null,null,{"$f":"D87","v":0},null,{"$f":"E87","v":0},{"$f":"D81","v":0},null,{"$f":"E81","v":0},"L",null,null,{"$f":"D96","v":0},null,{"$f":"E96","v":0},{"$f":"D90","v":0},null,{"$f":"E90","v":0},null,{"$f":"P78+S78+Y78+AB78","v":0},null,{"$f":"R78+U78+AA78+AD78","v":0},{"$f":"AU78","v":{"$error":"#DIV/0!"}},null,{"$f":"AG79","v":0.04},{"$f":"RANK(AK78,AK$78:AK$86,0)","v":1},{"$f":"AH80","v":{"$error":"#DIV/0!"}},{"$f":"RANK(AM78,AM$78:AM$86,0)","v":{"$error":"#DIV/0!"}},{"$f":"MAX(R80,U80,AA80,AD80)","v":{"$error":"#DIV/0!"}},{"$f":"RANK(AO78,AO$78:AO$86)","v":{"$error":"#DIV/0!"}},{"$f":"AF80","v":0},{"$f":"RANK(AQ78,AQ$78:AQ$86)","v":1},{"$f":"(AL78*1000)+(AN78*100)+(AP78*10)+(AR78*1)","v":{"$error":"#DIV/0!"}},{"$f":"AS78","v":{"$error":"#DIV/0!"}},{"$f":"RANK(AT78,AT78:AT$86,1)","v":{"$error":"#DIV/0!"}},{"$f":"RANK(AU78,AU$78:AU$86,1)","v":{"$error":"#DIV/0!"}}]
[null,null,null,null,null,null,null,null,null,null,null,null,null,null,null,null,{"$f":"IF(R78<1,0.01,IF(P78>M81,2,IF(P78=M81,1,0)))","v":0.01},null,null,{"$f":"IF(U78<1,0.01,IF(S78>M84,2,IF(S78=M84,1,0)))","v":0.01},null,null,null,null,null,{"$f":"IF(AA78<1,0.01,IF(Y78>V81,2,IF(Y78=V81,1,0)))","v":0.01},null,null,{"$f":"IF(AD78<1,0.01,IF(AB78>V84,2,IF(AB78=V84,1,0)))","v":0.01},null,null,null,{"$f":"Q79+T79+Z79+AC79","v":0.04}]
[null,null,null,"Pts","Rep","Série",null,null,null,null,null,null,null,null,null,{"$f":"F87","v":0},null,{"$f":"P78/R78","v":{"$error":"#DIV/0!"}},{"$f":"F81","v":0},null,{"$f":"S78/U78","v":{"$error":"#DIV/0!"}},null,null,null,{"$f":"F96","v":0},null,{"$f":"Y78/AA78","v":{"$error":"#DIV/0!"}},{"$f":"F90","v":0},null,{"$f":"AB78/AD78","v":{"$error":"#DIV/0!"}},null,{"$f":"MAX(P80,S80,Y80,AB80)","v":0},null,{"$f":"AF78/AH78","v":{"$error":"#DIV/0!"}}]
[null,"Tour 1\nMatch aller",{"$f":"C69","v":0},null,null,null,null,null,null,null,{"$f":"C70","v":0},null,{"$f":"D88","v":0},null,{"$f":"E87","v":0},"M",null,null,{"$f":"D84","v":0},null,{"$f":"E84","v":0},{"$f":"D97","v":0},null,{"$f":"E96","v":0},"M",null,null,{"$f":"D93","v":0},null,{"$f":"E93","v":0},null,{"$f":"M81+S81+V81+AB81","v":0},null,{"$f":"O81+U81+X81+AD81","v":0},{"$f":"AU81","v":{"$error":"#DIV/0!"}},null,{"$f":"AG82","v":0.04},{"$f":"RANK(AK81,AK$78:AK$86,0)","v":1},{"$f":"AH83","v":{"$error":"#DIV/0!"}},{"$f":"RANK(AM81,AM$78:AM$86,0)","v":{"$error":"#DIV/0!"}},{"$f":"MAX(O83,U83,X83,AD83)","v":{"$error":"#DIV/0!"}},{"$f":"RANK(AO81,AO$78:AO$86)","v":{"$error":"#DIV/0!"}},{"$f":"AF83","v":0},{"$f":"RANK(AQ81,AQ$78:AQ$86)","v":1},{"$f":"(AL81*1000)+(AN81*100)+(AP81*10)+(AR81*1)","v":{"$error":"#DIV/0!"}},{"$f":"AS81","v":{"$error":"#DIV/0!"}},{"$f":"RANK(AT81,AT81:AT$86,1)","v":{"$error":"#DIV/0!"}},{"$f":"RANK(AU81,AU$78:AU$86,1)","v":{"$error":"#DIV/0!"}}]
[null,null,{"$f":"C71","v":0},null,null,null,null,null,null,null,null,null,null,{"$f":"IF(R78>0,2-Q79,0.01)","v":0.01},null,null,null,null,null,{"$f":"IF(U81<1,0.01,IF(S81>P84,2,IF(S81=P84,1,0)))","v":0.01},null,null,{"$f":"IF(AA78>0,2-Z79,0.01)","v":0.01},null,null,null,null,null,{"$f":"IF(AD81<1,0.01,IF(AB81>Y84,2,IF(AB81=Y84,1,0)))","v":0.01},null,null,null,{"$f":"N82+T82+W82+AC82","v":0.04}]
[null,null,null,null,null,null,null,null,null,null,null,null,{"$f":"F88","v":0},null,{"$f":"M81/O81","v":{"$error":"#DIV/0!"}},null,null,null,{"$f":"F84","v":0},null,{"$f":"S81/U81","v":{"$error":"#DIV/0!"}},{"$f":"F97","v":0},null,{"$f":"V81/X81","v":{"$error":"#DIV/0!"}},null,null,null,{"$f":"F93","v":0},null,{"$f":"AB81/AD81","v":{"$error":"#DIV/0!"}},null,{"$f":"MAXA(M83,S83,V83,AB83)","v":0},null,{"$f":"AF81/AH81","v":{"$error":"#DIV/0!"}}]
[null,"Tour 2\nMatch aller",{"$f":"C70","v":0},null,null,null,null,null,null,null,{"$f":"C71","v":0},null,{"$f":"D82","v":0},null,{"$f":"E81","v":0},{"$f":"D85","v":0},null,{"$f":"E84","v":0},"B",null,null,{"$f":"D91","v":0},null,{"$f":"E90","v":0},{"$f":"D94","v":0},null,{"$f":"E93","v":0},"B",null,null,null,{"$f":"M84+P84+V84+Y84","v":0},null,{"$f":"O84+R84+X84+AA84","v":0},{"$f":"AU84","v":{"$error":"#DIV/0!"}},null,{"$f":"AG85","v":0.04},{"$f":"RANK(AK84,AK$78:AK$86,0)","v":1},{"$f":"AH86","v":{"$error":"#DIV/0!"}},{"$f":"RANK(AM84,AM$78:AM$86,0)","v":{"$error":"#DIV/0!"}},{"$f":"MAX(O86,R86,X86,AA86)","v":{"$error":"#DIV/0!"}},{"$f":"RANK(AO84,AO$78:AO$86)","v":{"$error":"#DIV/0!"}},{"$f":"AF86","v":0},{"$f":"RANK(AQ84,AQ$78:AQ$86)","v":1},{"$f":"(AL84*1000)+(AN84*100)+(AP84*10)+(AR84*1)","v":{"$error":"#DIV/0!"}},{"$f":"AS84","v":{"$error":"#DIV/0!"}},{"$f":"RANK(AT84,AT84:AT$86,1)","v":{"$error":"#DIV/0!"}},{"$f":"RANK(AU84,AU$78:AU$86,1)","v":{"$error":"#DIV/0!"}}]
[null,null,{"$f":"C71","v":0},null,null,null,null,null,null,null,null,null,null,{"$f":"IF(U78>0,2-T79,0.01)","v":0.01},null,null,{"$f":"IF(U81>0,2-T82,0.01)","v":0.01},null,null,null,null,null,{"$f":"IF(AD78>0,2-AC79,0.01)","v":0.01},null,null,{"$f":"IF(AD81>0,2-AC82,0.01)","v":0.01},null,null,null,null,null,null,{"$f":"N85+Q85+W85+Z85","v":0.04}]
[null,null,null,null,null,null,null,null,null,null,null,null,{"$f":"F82","v":0},null,{"$f":"M84/O84","v":{"$error":"#DIV/0!"}},{"$f":"F85","v":0},null,{"$f":"P84/R84","v":{"$error":"#DIV/0!"}},null,null,null,{"$f":"F91","v":0},null,{"$f":"V84/X84","v":{"$error":"#DIV/0!"}},{"$f":"F94","v":0},null,{"$f":"Y84/AA84","v":{"$error":"#DIV/0!"}},null,null,null,null,{"$f":"MAXA(M86,P86,V86,Y86)","v":0},null,{"$f":"AF84/AH84","v":{"$error":"#DIV/0!"}}]
[null,"Tour 3\nMatch aller",{"$f":"C69","v":0}]
[null,null,{"$f":"C70","v":0},null,null,null,null,null,null,null,null,null,"Pas de prolongation en cas de match nul."]
[]
[null,"Tour 1\nMatch retour",{"$f":"C69","v":0}]
[null,null,{"$f":"C71","v":0}]
[]
[null,"Tour 2\nMatch retour",{"$f":"C70","v":0}]
[null,null,{"$f":"C71","v":0}]
[]
[null,"Tour 3\nMatch retour",{"$f":"C69","v":0}]
[null,null,{"$f":"C70","v":0}]
[]
[]
[null,"Joueur 1",{"$f":"'Saisie des joueurs'!K30","v":0}]
[null,"Joueur 2",{"$f":"'Saisie des joueurs'!K31","v":0}]
[null,"Joueur 3",{"$f":"'Saisie des joueurs'!K32","v":0}]
[null,"Joueur 4",{"$f":"'Saisie des joueurs'!K33","v":0}]
[]
[null,"SAISIE DES RESULTATS",null,null,null,null,null,null,null,null,null,null,{"$f":"C100","v":0},null,null,{"$f":"C101","v":0},null,null,{"$f":"C102","v":0},null,null,{"$f":"C103","v":0}]
[null,null,null,null,null,null,null,null,null,null,null,null,null,null,null,null,null,null,null,null,null,null,null,null,null,"TOTAUX",null,null,"CLASSEMENT"]
[null,null,null,null,null,null,null,null,null,null,null,null,null,null,null,null,null,null,null,null,null,null,null,null,null,null,null,null,null,null,null,null,null,null,null,null,"Classement",null,"Classement",null,"Classement",null,"Classement",null,"Classement",null,"GENERAL","RANG"]
[null,"POULE D",null,null,null,null,null,null,null,null,null,null,null,null,null,null,null,null,null,null,null,null,null,null,null,null,null,null,null,null,null,null,null,null,null,null,"Point-Match","CLS-M","Moy-Gen","CLS-G","Moy-Part","CLS-P","M-Series","CLS-S","MGPS","CLS","CLS"]
[null,null,null,null,null,null,null,null,null,null,{"$f":"C100","v":0},null,"L",null,null,{"$f":"D124","v":0},null,{"$f":"E124","v":0},{"$f":"D118","v":0},null,{"$f":"E118","v":0},{"$f":"D112","v":0},null,{"$f":"E112","v":0},null,{"$f":"P109+S109+V109","v":0},null,{"$f":"R109+U109+X109","v":0},{"$f":"AV109","v":{"$error":"#DIV/0!"}},null,null,null,null,null,null,null,{"$f":"AA110","v":0.03},{"$f":"RANK(AK109,AK$109:AK$120,0)","v":1},{"$f":"AB111","v":{"$error":"#DIV/0!"}},{"$f":"RANK(AM109,AM$109:AM$120,0)","v":{"$error":"#DIV/0!"}},{"$f":"MAX(R111,U111,X111)","v":{"$error":"#DIV/0!"}},{"$f":"RANK(AO109,AO$109:AO$120,0)","v":{"$error":"#DIV/0!"}},{"$f":"Z111","v":0},{"$f":"RANK(AQ109,AQ$109:AQ$120)","v":1},{"$f":"(AL109*1000)+(AN109*100)+(AP109*10)+(AR109*1)","v":{"$error":"#DIV/0!"}},{"$f":"AS109","v":{"$error":"#DIV/0!"}},{"$f":"RANK(AT109,AT$109:AT$120,1)","v":{"$error":"#DIV/0!"}},{"$f":"RANK(AU109,AU$109:AU$120,1)","v":{"$error":"#DIV/0!"}}]
[null,null,null,null,null,null,null,null,null,null,null,null,null,null,null,null,{"$f":"IF(R109<1,0.01,IF(P109>M112,2,IF(P109=M112,1,0)))","v":0.01},null,null,{"$f":"IF(U109<1,0.01,IF(S109>M115,2,IF(S109=M115,1,0)))","v":0.01},null,null,{"$f":"IF(X109<1,0.01,IF(V109>M118,2,IF(V109=M118,1,0)))","v":0.01},null,null,null,{"$f":"Q110+T110+W110","v":0.03}]
[null,null,null,null,null,null,null,null,null,null,null,null,null,null,null,{"$f":"F124","v":0},null,{"$f":"P109/R109","v":{"$error":"#DIV/0!"}},{"$f":"F118","v":0},null,{"$f":"S109/U109","v":{"$error":"#DIV/0!"}},{"$f":"F112","v":0},null,{"$f":"V109/X109","v":{"$error":"#DIV/0!"}},null,{"$f":"MAX(P111,S111,V111)","v":0},null,{"$f":"Z109/AB109","v":{"$error":"#DIV/0!"}}]
[null,"Tour 1",{"$f":"C100","v":0},null,null,null,null,null,null,null,{"$f":"C101","v":0},null,{"$f":"D125","v":0},null,{"$f":"E124","v":0},"M",null,null,{"$f":"D115","v":0},null,{"$f":"E115","v":0},{"$f":"D122","v":0},null,{"$f":"E121","v":0},null,{"$f":"M112+S112+V112","v":0},null,{"$f":"O112+U112+X112","v":0},{"$f":"AV112","v":{"$error":"#DIV/0!"}},null,null,null,null,null,null,null,{"$f":"AA113","v":0.03},{"$f":"RANK(AK112,AK$109:AK$120,0)","v":1},{"$f":"AB114","v":{"$error":"#DIV/0!"}},{"$f":"RANK(AM112,AM$109:AM$120,0)","v":{"$error":"#DIV/0!"}},{"$f":"MAX(R114,U114,X114)","v":{"$error":"#DIV/0!"}},{"$f":"RANK(AO112,AO$109:AO$120,0)","v":{"$error":"#DIV/0!"}},{"$f":"Z114","v":0},{"$f":"RANK(AQ112,AQ$109:AQ$120)","v":1},{"$f":"(AL112*1000)+(AN112*100)+(AP112*10)+(AR112*1)","v":{"$error":"#DIV/0!"}},{"$f":"AS112","v":{"$error":"#DIV/0!"}},{"$f":"RANK(AT112,AT$109:AT$120,1)","v":{"$error":"#DIV/0!"}},{"$f":"RANK(AU112,AU$109:AU$120,1)","v":{"$error":"#DIV/0!"}}]
[null,null,{"$f":"C103","v":0},null,null,null,null,null,null,null,null,null,null,{"$f":"IF(R109>0,2-Q110,0.01)","v":0.01},null,null,null,null,null,{"$f":"IF(U112<1,0.01,IF(S112>P115,2,IF(S112=P115,1,0)))","v":0.01},null,null,{"$f":"IF(X112<1,0.01,IF(V112>P118,2,IF(V112=P118,1,0)))","v":0.01},null,null,null,{"$f":"N113+T113+W113","v":0.03}]
[null,null,null,null,null,null,null,null,null,null,null,null,{"$f":"F125","v":0},null,{"$f":"M112/O112","v":{"$error":"#DIV/0!"}},null,null,null,{"$f":"F115","v":0},null,{"$f":"S112/U112","v":{"$error":"#DIV/0!"}},{"$f":"F122","v":0},null,{"$f":"V112/X112","v":{"$error":"#DIV/0!"}},null,{"$f":"MAXA(M114,S114,V114)","v":0},null,{"$f":"Z112/AB112","v":{"$error":"#DIV/0!"}}]
[null,"Tour 2",{"$f":"C101","v":0},null,null,null,null,null,null,null,{"$f":"C102","v":0},null,{"$f":"D119","v":0},null,{"$f":"E118","v":0},{"$f":"D116","v":0},null,{"$f":"E115","v":0},"B",null,null,{"$f":"D127","v":0},null,{"$f":"E127","v":0},null,{"$f":"M115+P115+V115","v":0},null,{"$f":"O115+R115+X115","v":0},{"$f":"AV115","v":{"$error":"#DIV/0!"}},null,null,null,null,null,null,null,{"$f":"AA116","v":0.03},{"$f":"RANK(AK115,AK$109:AK$120,0)","v":1},{"$f":"AB117","v":{"$error":"#DIV/0!"}},{"$f":"RANK(AM115,AM$109:AM$120,0)","v":{"$error":"#DIV/0!"}},{"$f":"MAX(R117,U117,X117)","v":{"$error":"#DIV/0!"}},{"$f":"RANK(AO115,AO$109:AO$120,0)","v":{"$error":"#DIV/0!"}},{"$f":"Z117","v":0},{"$f":"RANK(AQ115,AQ$109:AQ$120)","v":1},{"$f":"(AL115*1000)+(AN115*100)+(AP115*10)+(AR115*1)","v":{"$error":"#DIV/0!"}},{"$f":"AS115","v":{"$error":"#DIV/0!"}},{"$f":"RANK(AT115,AT$109:AT$120,1)","v":{"$error":"#DIV/0!"}},{"$f":"RANK(AU115,AU$109:AU$120,1)","v":{"$error":"#DIV/0!"}}]
[null,null,{"$f":"C102","v":0},null,null,null,null,null,null,null,null,null,null,{"$f":"IF(U109>0,2-T110,0.01)","v":0.01},null,null,{"$f":"IF(U112>0,2-T113,0.01)","v":0.01},null,null,null,null,null,{"$f":"IF(X115<1,0.01,IF(V115>S118,2,IF(V115=S118,1,0)))","v":0.01},null,null,null,{"$f":"N116+Q116+W116","v":0.03}]
[null,null,null,null,null,null,null,null,null,null,null,null,{"$f":"F119","v":0},null,{"$f":"M115/O115","v":{"$error":"#DIV/0!"}},{"$f":"F116","v":0},null,{"$f":"P115/R115","v":{"$error":"#DIV/0!"}},null,null,null,{"$f":"F127","v":0},null,{"$f":"V115/X115","v":{"$error":"#DIV/0!"}},null,{"$f":"MAXA(M117,P117,V117)","v":0},null,{"$f":"Z115/AB115","v":{"$error":"#DIV/0!"}}]
[null,"Tour 3",{"$f":"C100","v":0},null,null,null,null,null,null,null,{"$f":"C103","v":0},null,{"$f":"D113","v":0},null,{"$f":"E112","v":0},{"$f":"D121","v":0},null,{"$f":"E121","v":0},{"$f":"D128","v":0},null,{"$f":"E127","v":0},null,null,null,null,{"$f":"M118+P118+S118","v":0},null,{"$f":"O118+R118+U118","v":0},{"$f":"AV118","v":{"$error":"#DIV/0!"}},null,null,null,null,null,null,null,{"$f":"AA119","v":0.03},{"$f":"RANK(AK118,AK$109:AK$120,0)","v":1},{"$f":"AB120","v":{"$error":"#DIV/0!"}},{"$f":"RANK(AM118,AM$109:AM$120,0)","v":{"$error":"#DIV/0!"}},{"$f":"MAX(R120,U120,X120)","v":{"$error":"#DIV/0!"}},{"$f":"RANK(AO118,AO$109:AO$120,0)","v":{"$error":"#DIV/0!"}},{"$f":"Z120","v":0},{"$f":"RANK(AQ118,AQ$109:AQ$120)","v":1},{"$f":"(AL118*1000)+(AN118*100)+(AP118*10)+(AR118*1)","v":{"$error":"#DIV/0!"}},{"$f":"AS118","v":{"$error":"#DIV/0!"}},{"$f":"RANK(AT118,AT$109:AT$120,1)","v":{"$error":"#DIV/0!"}},{"$f":"RANK(AU118,AU$109:AU$120,1)","v":{"$error":"#DIV/0!"}}]
[null,null,{"$f":"C102","v":0},null,null,null,null,null,null,null,null,null,null,{"$f":"IF(X109>0,2-W110,0.01)","v":0.01},null,null,{"$f":"IF(X112>0,2-W113,0.01)","v":0.01},null,null,{"$f":"IF(X115>0,2-W116,0.01)","v":0.01},null,null,null,null,null,null,{"$f":"N119+Q119+T119","v":0.03}]
[null,null,null,null,null,null,null,null,null,null,null,null,{"$f":"F113","v":0},null,{"$f":"M118/O118","v":{"$error":"#DIV/0!"}},{"$f":"F121","v":0},null,{"$f":"P118/R118","v":{"$error":"#DIV/0!"}},{"$f":"F128","v":0},null,{"$f":"S118/U118","v":{"$error":"#DIV/0!"}},null,null,null,null,{"$f":"MAXA(M120,P120,S120)","v":0},null,{"$f":"Z118/AB118","v":{"$error":"#DIV/0!"}}]
[null,"Tour 4",{"$f":"C103","v":0}]
[null,null,{"$f":"C101","v":0},null,null,null,null,null,null,null,null,null,"Pas de prolongation en cas de match nul."]
[]
[null,"Tour 5",{"$f":"C100","v":0}]
[null,null,{"$f":"C101","v":0}]
[]
[null,"Tour 6",{"$f":"C102","v":0}]
[null,null,{"$f":"C103","v":0}]
[]
[null,"Joueur 1",{"$f":"'Saisie des joueurs'!K34","v":0}]
[null,"Joueur 2",{"$f":"'Saisie des joueurs'!K35","v":0}]
[null,"Joueur 3",{"$f":"'Saisie des joueurs'!K36","v":0}]
[null,"Joueur 4",{"$f":"'Saisie des joueurs'!K37","v":0}]
[]
[null,"SAISIE DES RESULTATS",null,null,null,null,null,null,null,null,null,null,{"$f":"C130","v":0},null,null,{"$f":"C131","v":0},null,null,{"$f":"C132","v":0},null,null,{"$f":"C133","v":0}]
[null,null,null,null,null,null,null,null,null,null,null,null,null,null,null,null,null,null,null,null,null,null,null,null,null,"TOTAUX",null,null,"CLASSEMENT"]
[null,null,null,null,null,null,null,null,null,null,null,null,null,null,null,null,null,null,null,null,null,null,null,null,null,null,null,null,null,null,null,null,null,null,null,null,"Classement",null,"Classement",null,"Classement",null,"Classement",null,"Classement",null,"GENERAL","RANG"]
[null,"POULE E",null,null,null,null,null,null,null,null,null,null,null,null,null,null,null,null,null,null,null,null,null,null,null,null,null,null,null,null,null,null,null,null,null,null,"Point-Match","CLS-M","Moy-Gen","CLS-G","Moy-Part","CLS-P","M-Series","CLS-S","MGPS","CLS","CLS"]
[null,null,null,null,null,null,null,null,null,null,{"$f":"C130","v":0},null,"L",null,null,{"$f":"D154","v":0},null,{"$f":"E154","v":0},{"$f":"D148","v":0},null,{"$f":"E148","v":0},{"$f":"D142","v":0},null,{"$f":"E142","v":0},null,{"$f":"P139+S139+V139","v":0},null,{"$f":"R139+U139+X139","v":0},{"$f":"AV139","v":{"$error":"#DIV/0!"}},null,null,null,null,null,null,null,{"$f":"AA140","v":0.03},{"$f":"RANK(AK139,AK$139:AK$150,0)","v":1},{"$f":"AB141","v":{"$error":"#DIV/0!"}},{"$f":"RANK(AM139,AM$139:AM$150,0)","v":{"$error":"#DIV/0!"}},{"$f":"MAX(R141,U141,X141)","v":{"$error":"#DIV/0!"}},{"$f":"RANK(AO139,AO$139:AO$150,0)","v":{"$error":"#DIV/0!"}},{"$f":"Z141","v":0},{"$f":"RANK(AQ139,AQ$139:AQ$150)","v":1},{"$f":"(AL139*1000)+(AN139*100)+(AP139*10)+(AR139*1)","v":{"$error":"#DIV/0!"}},{"$f":"AS139","v":{"$error":"#DIV/0!"}},{"$f":"RANK(AT139,AT$139:AT$150,1)","v":{"$error":"#DIV/0!"}},{"$f":"RANK(AU139,AU$139:AU$150,1)","v":{"$error":"#DIV/0!"}}]
[null,null,null,null,null,null,null,null,null,null,null,null,null,null,null,null,{"$f":"IF(R139<1,0.01,IF(P139>M142,2,IF(P139=M142,1,0)))","v":0.01},null,null,{"$f":"IF(U139<1,0.01,IF(S139>M145,2,IF(S139=M145,1,0)))","v":0.01},null,null,{"$f":"IF(X139<1,0.01,IF(V139>M148,2,IF(V139=M148,1,0)))","v":0.01},null,null,null,{"$f":"Q140+T140+W140","v":0.03}]
[null,null,null,"Pts","Rep","Série",null,null,null,null,null,null,null,null,null,{"$f":"F154","v":0},null,{"$f":"P139/R139","v":{"$error":"#DIV/0!"}},{"$f":"F148","v":0},null,{"$f":"S139/U139","v":{"$error":"#DIV/0!"}},{"$f":"F142","v":0},null,{"$f":"V139/X139","v":{"$error":"#DIV/0!"}},null,{"$f":"MAX(P141,S141,V141)","v":0},null,{"$f":"Z139/AB139","v":{"$error":"#DIV/0!"}}]
[null,"Tour 1",{"$f":"C130","v":0},null,null,null,null,null,null,null,{"$f":"C131","v":0},null,{"$f":"D155","v":0},null,{"$f":"E154","v":0},"M",null,null,{"$f":"D145","v":0},null,{"$f":"E145","v":0},{"$f":"D152","v":0},null,{"$f":"E151","v":0},null,{"$f":"M142+S142+V142","v":0},null,{"$f":"O142+U142+X142","v":0},{"$f":"AV142","v":{"$error":"#DIV/0!"}},null,null,null,null,null,null,null,{"$f":"AA143","v":0.03},{"$f":"RANK(AK142,AK$139:AK$150,0)","v":1},{"$f":"AB144","v":{"$error":"#DIV/0!"}},{"$f":"RANK(AM142,AM$139:AM$150,0)","v":{"$error":"#DIV/0!"}},{"$f":"MAX(O144,U144,X144)","v":{"$error":"#DIV/0!"}},{"$f":"RANK(AO142,AO$139:AO$150,0)","v":{"$error":"#DIV/0!"}},{"$f":"Z144","v":0},{"$f":"RANK(AQ142,AQ$139:AQ$150)","v":1},{"$f":"(AL142*1000)+(AN142*100)+(AP142*10)+(AR142*1)","v":{"$error":"#DIV/0!"}},{"$f":"AS142","v":{"$error":"#DIV/0!"}},{"$f":"RANK(AT142,AT$139:AT$150,1)","v":{"$error":"#DIV/0!"}},{"$f":"RANK(AU142,AU$139:AU$150,1)","v":{"$error":"#DIV/0!"}}]
[null,null,{"$f":"C133","v":0},null,null,null,null,null,null,null,null,null,null,{"$f":"IF(R139>0,2-Q140,0.01)","v":0.01},null,null,null,null,null,{"$f":"IF(U142<1,0.01,IF(S142>P145,2,IF(S142=P145,1,0)))","v":0.01},null,null,{"$f":"IF(X142<1,0.01,IF(V142>P148,2,IF(V142=P148,1,0)))","v":0.01},null,null,null,{"$f":"N143+T143+W143","v":0.03}]
[null,null,null,null,null,null,null,null,null,null,null,null,{"$f":"F155","v":0},null,{"$f":"M142/O142","v":{"$error":"#DIV/0!"}},null,null,null,{"$f":"F145","v":0},null,{"$f":"S142/U142","v":{"$error":"#DIV/0!"}},{"$f":"F152","v":0},null,{"$f":"V142/X142","v":{"$error":"#DIV/0!"}},null,{"$f":"MAXA(M144,S144,V144)","v":0},null,{"$f":"Z142/AB142","v":{"$error":"#DIV/0!"}}]
[null,"Tour 2",{"$f":"C131","v":0},null,null,null,null,null,null,null,{"$f":"C132","v":0},null,{"$f":"D149","v":0},null,{"$f":"E148","v":0},{"$f":"D146","v":0},null,{"$f":"E145","v":0},"B",null,null,{"$f":"D157","v":0},null,{"$f":"E157","v":0},null,{"$f":"M145+P145+V145","v":0},null,{"$f":"O145+R145+X145","v":0},{"$f":"AV145","v":{"$error":"#DIV/0!"}},null,null,null,null,null,null,null,{"$f":"AA146","v":0.03},{"$f":"RANK(AK145,AK$139:AK$150,0)","v":1},{"$f":"AB147","v":{"$error":"#DIV/0!"}},{"$f":"RANK(AM145,AM$139:AM$150,0)","v":{"$error":"#DIV/0!"}},{"$f":"MAX(O147,R147,X147)","v":{"$error":"#DIV/0!"}},{"$f":"RANK(AO145,AO$139:AO$150,0)","v":{"$error":"#DIV/0!"}},{"$f":"Z147","v":0},{"$f":"RANK(AQ145,AQ$139:AQ$150)","v":1},{"$f":"(AL145*1000)+(AN145*100)+(AP145*10)+(AR145*1)","v":{"$error":"#DIV/0!"}},{"$f":"AS145","v":{"$error":"#DIV/0!"}},{"$f":"RANK(AT145,AT$139:AT$150,1)","v":{"$error":"#DIV/0!"}},{"$f":"RANK(AU145,AU$139:AU$150,1)","v":{"$error":"#DIV/0!"}}]
[null,null,{"$f":"C132","v":0},null,null,null,null,null,null,null,null,null,null,{"$f":"IF(U139>0,2-T140,0.01)","v":0.01},null,null,{"$f":"IF(U142>0,2-T143,0.01)","v":0.01},null,null,null,null,null,{"$f":"IF(X145<1,0.01,IF(V145>S148,2,IF(V145=S148,1,0)))","v":0.01},null,null,null,{"$f":"N146+Q146+W146","v":0.03}]
[null,null,null,null,null,null,null,null,null,null,null,null,{"$f":"F149","v":0},null,{"$f":"M145/O145","v":{"$error":"#DIV/0!"}},{"$f":"F146","v":0},null,{"$f":"P145/R145","v":{"$error":"#DIV/0!"}},null,null,null,{"$f":"F157","v":0},null,{"$f":"V145/X145","v":{"$error":"#DIV/0!"}},null,{"$f":"MAXA(M147,P147,V147)","v":0},null,{"$f":"Z145/AB145","v":{"$error":"#DIV/0!"}}]
[null,"Tour 3",{"$f":"C130","v":0},null,null,null,null,null,null,null,{"$f":"C133","v":0},null,{"$f":"D143","v":0},null,{"$f":"E142","v":0},{"$f":"D151","v":0},null,{"$f":"E151","v":0},{"$f":"D158","v":0},null,{"$f":"E157","v":0},null,null,null,null,{"$f":"M148+P148+S148","v":0},null,{"$f":"O148+R148+U148","v":0},{"$f":"AV148","v":{"$error":"#DIV/0!"}},null,null,null,null,null,null,null,{"$f":"AA149","v":0.03},{"$f":"RANK(AK148,AK$139:AK$150,0)","v":1},{"$f":"AB150","v":{"$error":"#DIV/0!"}},{"$f":"RANK(AM148,AM$139:AM$150,0)","v":{"$error":"#DIV/0!"}},{"$f":"MAX(O150,R150,U150)","v":{"$error":"#DIV/0!"}},{"$f":"RANK(AO148,AO$139:AO$150,0)","v":{"$error":"#DIV/0!"}},{"$f":"Z150","v":0},{"$f":"RANK(AQ148,AQ$139:AQ$150)","v":1},{"$f":"(AL148*1000)+(AN148*100)+(AP148*10)+(AR148*1)","v":{"$error":"#DIV/0!"}},{"$f":"AS148","v":{"$error":"#DIV/0!"}},{"$f":"RANK(AT148,AT$139:AT$150,1)","v":{"$error":"#DIV/0!"}},{"$f":"RANK(AU148,AU$139:AU$150,1)","v":{"$error":"#DIV/0!"}}]
[null,null,{"$f":"C132","v":0},null,null,null,null,null,null,null,null,null,null,{"$f":"IF(X139>0,2-W140,0.01)","v":0.01},null,null,{"$f":"IF(X142>0,2-W143,0.01)","v":0.01},null,null,{"$f":"IF(X145>0,2-W146,0.01)","v":0.01},null,null,null,null,null,null,{"$f":"N149+Q149+T149","v":0.03}]
[null,null,null,null,null,null,null,null,null,null,null,null,{"$f":"F143","v":0},null,{"$f":"M148/O148","v":{"$error":"#DIV/0!"}},{"$f":"F151","v":0},null,{"$f":"P148/R148","v":{"$error":"#DIV/0!"}},{"$f":"F158","v":0},null,{"$f":"S148/U148","v":{"$error":"#DIV/0!"}},null,null,null,null,{"$f":"MAXA(M150,P150,S150)","v":0},null,{"$f":"Z148/AB148","v":{"$error":"#DIV/0!"}}]
[null,"Tour 4",{"$f":"C133","v":0}]
[null,null,{"$f":"C131","v":0},null,null,null,null,null,null,null,null,null,"Pas de prolongation en cas de match nul."]
[]
[null,"Tour 5",{"$f":"C130","v":0}]
[null,null,{"$f":"C131","v":0}]
[]
[null,"Tour 6",{"$f":"C132","v":0}]
[null,null,{"$f":"C133","v":0}]

{"sheet":"18JOUEURS_SERPENTIN","index":31,"n_rows":158,"n_cols":48,"rows_kept":158,"cut":false,"hidden":true,"merged":[[7,12,7,15],[7,17,7,18],[7,20,7,21],[7,23,7,25],[7,27,7,28],[8,2,8,5],[2,1,3,2],[2,3,3,9],[5,1,6,2],[5,3,6,9],[6,12,6,15],[6,17,6,18],[6,20,6,21],[6,23,6,25],[6,27,6,28],[9,2,9,5],[10,2,10,5],[10,12,10,20],[10,21,10,29],[12,1,13,5],[12,12,15,14],[12,15,15,17],[12,18,15,20],[12,21,15,23],[12,24,15,26],[14,41,14,42],[14,43,14,44],[14,46,15,46],[15,1,16,2],[16,10,18,11],[16,12,18,14],[16,21,18,23],[16,34,18,34],[16,36,18,36],[16,37,18,37],[12,27,15,29],[12,31,15,33],[12,34,15,34],[13,10,15,11],[14,36,14,37],[14,38,14,39],[16,44,18,44],[16,45,18,45],[16,46,18,46],[16,47,18,47],[19,1,20,1],[19,4,20,4],[19,10,21,11],[19,15,21,17],[19,24,21,26],[19,34,21,34],[16,38,18,38],[16,39,18,39],[16,40,18,40],[16,41,18,41],[16,42,18,42],[16,43,18,43],[19,42,21,42],[19,43,21,43],[19,44,21,44],[19,45,21,45],[19,46,21,46],[19,47,21,47],[19,36,21,36],[19,37,21,37],[19,38,21,38],[19,39,21,39],[19,40,21,40],[22,44,24,44],[22,45,24,45],[22,46,24,46],[22,47,24,47],[22,36,24,36],[22,37,24,37],[22,38,24,38],[22,39,24,39],[22,40,24,40],[22,41,24,41],[22,42,24,42],[22,43,24,43],[22,1,23,1],[22,4,23,4],[22,10,24,11],[22,18,24,20],[22,27,24,29],[22,34,24,34],[19,41,21,41],[34,1,35,1],[34,4,35,4],[37,2,37,5],[38,2,38,5],[39,2,39,5],[40,12,40,20],[25,1,26,1],[25,4,26,4],[26,12,26,34],[28,1,29,1],[28,4,29,4],[31,1,32,1],[31,4,32,4],[49,40,51,40],[40,21,40,29],[42,1,43,5],[42,12,45,14],[42,15,45,17],[42,18,45,20],[42,21,45,23],[42,24,45,26],[42,27,45,29],[44,43,44,44],[44,46,45,46],[45,1,46,2],[46,10,48,11],[46,12,48,14],[46,21,48,23],[46,34,48,34],[46,36,48,36],[46,37,48,37],[46,38,48,38],[42,31,45,33],[42,34,45,34],[43,10,45,11],[44,36,44,37],[44,38,44,39],[44,41,44,42],[46,45,48,45],[46,46,48,46],[46,47,48,47],[49,1,50,1],[49,4,50,4],[49,10,51,11],[49,15,51,17],[49,24,51,26],[49,34,51,34],[49,36,51,36],[46,39,48,39],[46,40,48,40],[46,41,48,41],[46,42,48,42],[46,43,48,43],[46,44,48,44],[49,43,51,43],[49,44,51,44],[49,45,51,45],[49,46,51,46],[49,47,51,47],[49,41,51,41],[49,42,51,42],[49,37,51,37],[49,38,51,38],[49,39,51,39],[52,47,54,47],[55,1,56,1],[55,4,56,4],[56,12,56,34],[58,1,59,1],[58,4,59,4],[52,41,54,41],[52,42,54,42],[52,43,54,43],[52,44,54,44],[52,45,54,45],[52,46,54,46],[52,34,54,34],[52,36,54,36],[52,37,54,37],[52,38,54,38],[52,39,54,39],[52,40,54,40],[52,1,53,1],[52,4,53,4],[52,10,54,11],[52,18,54,20],[52,27,54,29],[70,2,70,5],[71,2,71,5],[73,1,74,5],[73,12,76,14],[73,15,76,17],[73,18,76,20],[61,1,62,1],[61,4,62,4],[64,1,65,1],[64,4,65,4],[68,2,68,5],[69,2,69,5],[75,40,75,41],[75,42,75,43],[75,44,75,45],[75,47,76,47],[76,1,77,2],[77,10,79,11],[77,12,79,14],[77,28,79,28],[77,36,79,36],[77,37,79,37],[73,21,76,23],[74,10,76,11],[74,25,76,27],[74,28,76,28],[75,36,75,37],[75,38,75,39],[77,44,79,44],[77,45,79,45],[77,46,79,46],[77,47,79,47],[77,41,79,41],[77,42,79,42],[77,43,79,43],[80,1,81,1],[80,4,81,4],[80,10,82,11],[80,15,82,17],[80,28,82,28],[80,36,82,36],[77,38,79,38],[77,39,79,39],[77,40,79,40],[80,43,82,43],[80,44,82,44],[80,45,82,45],[80,46,82,46],[80,47,82,47],[83,1,84,1],[83,4,84,4],[83,10,85,11],[83,18,85,20],[83,28,85,28],[80,37,82,37],[80,38,82,38],[80,39,82,39],[80,40,82,40],[80,41,82,41],[80,42,82,42],[83,42,85,42],[83,43,85,43],[83,44,85,44],[83,45,85,45],[83,46,85,46],[83,47,85,47],[83,36,85,36],[83,37,85,37],[83,38,85,38],[83,39,85,39],[83,40,85,40],[83,41,85,41],[86,43,88,43],[86,44,88,44],[86,45,88,45],[86,46,88,46],[86,47,88,47],[89,1,90,1],[89,4,90,4],[90,12,90,23],[86,37,88,37],[86,38,88,38],[86,39,88,39],[86,40,88,40],[86,41,88,41],[86,42,88,42],[86,1,87,1],[86,4,87,4],[86,10,88,11],[86,21,88,23],[86,28,88,28],[86,36,88,36],[100,2,100,5],[101,2,101,5],[103,1,104,5],[103,12,106,14],[103,15,106,17],[103,18,106,20],[92,1,93,1],[92,4,93,4],[95,1,96,1],[95,4,96,4],[98,2,98,5],[99,2,99,5],[105,40,105,41],[105,42,105,43],[105,44,105,45],[105,47,106,47],[106,1,107,2],[107,10,109,11],[107,12,109,14],[107,28,109,28],[107,36,109,36],[107,37,109,37],[103,21,106,23],[104,10,106,11],[104,25,106,27],[104,28,106,28],[105,36,105,37],[105,38,105,39],[107,44,109,44],[107,45,109,45],[107,46,109,46],[107,47,109,47],[107,41,109,41],[107,42,109,42],[107,43,109,43],[110,1,111,1],[110,4,111,4],[110,10,112,11],[110,15,112,17],[110,28,112,28],[110,36,112,36],[107,38,109,38],[107,39,109,39],[107,40,109,40],[110,43,112,43],[110,44,112,44],[110,45,112,45],[110,46,112,46],[110,47,112,47],[113,1,114,1],[113,4,114,4],[113,10,115,11],[113,18,115,20],[113,28,115,28],[110,37,112,37],[110,38,112,38],[110,39,112,39],[110,40,112,40],[110,41,112,41],[110,42,112,42],[113,42,115,42],[113,43,115,43],[113,44,115,44],[113,45,115,45],[113,46,115,46],[113,47,115,47],[113,36,115,36],[113,37,115,37],[113,38,115,38],[113,39,115,39],[113,40,115,40],[113,41,115,41],[116,43,118,43],[116,44,118,44],[116,45,118,45],[116,46,118,46],[116,47,118,47],[119,1,120,1],[119,4,120,4],[120,12,120,23],[116,37,118,37],[116,38,118,38],[116,39,118,39],[116,40,118,40],[116,41,118,41],[116,42,118,42],[116,1,117,1],[116,4,117,4],[116,10,118,11],[116,21,118,23],[116,28,118,28],[116,36,118,36],[131,2,131,5],[132,2,132,5],[134,1,135,5],[134,12,137,14],[134,15,137,17],[134,18,137,20],[122,1,123,1],[122,4,123,4],[125,1,126,1],[125,4,126,4],[129,2,129,5],[130,2,130,5],[136,44,136,45],[136,47,137,47],[137,1,138,2],[138,10,140,11],[138,12,140,14],[138,28,140,28],[138,36,140,36],[138,37,140,37],[134,21,137,23],[135,10,137,11],[135,25,137,27],[135,28,137,28],[136,36,136,37],[136,38,136,39],[138,47,140,47],[138,41,140,41],[138,42,140,42],[138,43,140,43],[141,1,142,1],[141,4,142,4],[141,10,143,11],[141,15,143,17],[141,28,143,28],[141,36,143,36],[138,38,140,38],[138,39,140,39],[138,40,140,40],[144,47,146,47],[144,36,146,36],[144,37,146,37],[144,38,146,38],[144,39,146,39],[144,40,146,40],[144,41,146,41],[141,43,143,43],[141,44,143,44],[141,45,143,45],[141,46,143,46],[141,47,143,47],[141,37,143,37],[141,38,143,38],[141,39,143,39],[141,40,143,40],[141,41,143,41],[141,42,143,42],[147,47,149,47],[150,1,151,1],[150,4,151,4],[151,12,151,23],[147,37,149,37],[147,38,149,38],[147,39,149,39],[147,40,149,40],[147,41,149,41],[147,42,149,42],[147,1,148,1],[147,4,148,4],[147,10,149,11],[147,21,149,23],[147,28,149,28],[147,36,149,36],[153,1,154,1],[153,4,154,4],[156,1,157,1],[156,4,157,4],[1,12,4,34],[147,43,149,43],[147,44,149,44],[147,45,149,45],[147,46,149,46],[144,42,146,42],[144,43,146,43],[144,44,146,44],[144,45,146,45],[144,46,146,46],[144,1,145,1],[144,4,145,4],[144,10,146,11],[144,18,146,20],[144,28,146,28],[138,44,140,44],[138,45,140,45],[138,46,140,46],[136,40,136,41],[136,42,136,43]]}
[]
[null,null,null,null,null,null,null,null,null,null,null,null,"LIGUE MÉDITERRANÉENNE DE BILLARD"]
[null,"CLUB ORGANISATEUR"]
[]
[]
[null,"DIRECTEUR DE JEU :"]
[null,null,null,null,null,null,null,null,null,null,null,null,"Compétition",null,null,null,null,"Mode de jeu",null,null,"Categorie",null,null,"Format billard",null,null,null,"Distance"]
[]
[null,"Joueur 1",{"$f":"'Saisie des joueurs'!K18","v":0}]
[null,"Joueur 2",{"$f":"'Saisie des joueurs'!K19","v":0}]
[null,"Joueur 3",{"$f":"'Saisie des joueurs'!K20","v":0},null,null,null,null,null,null,null,null,null,"MATCH ALLER",null,null,null,null,null,null,null,null,"MATCH RETOUR"]
[]
[null,"SAISIE DES RESULTATS",null,null,null,null,null,null,null,null,null,null,{"$f":"C9","v":0},null,null,{"$f":"C10","v":0},null,null,{"$f":"C11","v":0},null,null,{"$f":"C9","v":0},null,null,{"$f":"C10","v":0},null,null,{"$f":"C11","v":0},null,null,null,"TOTAUX",null,null,"CLASSEMENT"]
[]
[null,null,null,null,null,null,null,null,null,null,null,null,null,null,null,null,null,null,null,null,null,null,null,null,null,null,null,null,null,null,null,null,null,null,null,null,"Classement",null,"Classement",null,"Classement","Classement",null,"Classement",null,"GENERAL","RANG"]
[null,"POULE A",null,null,null,null,null,null,null,null,null,null,null,null,null,null,null,null,null,null,null,null,null,null,null,null,null,null,null,null,null,null,null,null,null,null,"Point-Match","CLS-M","Moy-Gen","CLS-G","Moy-Part","M-Series","CLS-S","MGPS","CLS","CLS"]
[null,null,null,null,null,null,null,null,null,null,{"$f":"C9","v":0},null,"L",null,null,{"$f":"D26","v":0},null,{"$f":"E26","v":0},{"$f":"D20","v":0},null,{"$f":"E20","v":0},"L",null,null,{"$f":"D35","v":0},null,{"$f":"E35","v":0},{"$f":"D29","v":0},null,{"$f":"E29","v":0},null,{"$f":"P17+S17+Y17+AB17","v":0},null,{"$f":"R17+U17+AA17+AD17","v":0},{"$f":"AU17","v":{"$error":"#DIV/0!"}},null,{"$f":"AG18","v":0.04},{"$f":"RANK(AK17,AK$17:AK$25,0)","v":1},{"$f":"AH19","v":{"$error":"#DIV/0!"}},{"$f":"RANK(AM17,AM$17:AM$25,0)","v":{"$error":"#DIV/0!"}},{"$f":"MAX(R19,U19,AA19,AD19)","v":{"$error":"#DIV/0!"}},{"$f":"RANK(AO17,AO$17:AO$25)","v":{"$error":"#DIV/0!"}},{"$f":"AF19","v":0},{"$f":"RANK(AQ17,AQ$17:AQ$25)","v":1},{"$f":"(AL17*1000)+(AN17*100)+(AP17*10)+(AR17*1)","v":{"$error":"#DIV/0!"}},{"$f":"AS17","v":{"$error":"#DIV/0!"}},{"$f":"RANK(AT17,AT$17:AT$25,1)","v":{"$error":"#DIV/0!"}},{"$f":"RANK(AU17,AU$17:AU$25,1)","v":{"$error":"#DIV/0!"}}]
[null,null,null,null,null,null,null,null,null,null,null,null,null,null,null,null,{"$f":"IF(R17<1,0.01,IF(P17>M20,2,IF(P17=M20,1,0)))","v":0.01},null,null,{"$f":"IF(U17<1,0.01,IF(S17>M23,2,IF(S17=M23,1,0)))","v":0.01},null,null,null,null,null,{"$f":"IF(AA17<1,0.01,IF(Y17>V20,2,IF(Y17=V20,1,0)))","v":0.01},null,null,{"$f":"IF(AD17<1,0.01,IF(AB17>V23,2,IF(AB17=V23,1,0)))","v":0.01},null,null,null,{"$f":"Q18+T18+Z18+AC18","v":0.04}]
[null,null,null,"Pts","Rep","Série",null,null,null,null,null,null,null,null,null,{"$f":"F26","v":0},null,{"$f":"P17/R17","v":{"$error":"#DIV/0!"}},{"$f":"F20","v":0},null,{"$f":"S17/U17","v":{"$error":"#DIV/0!"}},null,null,null,{"$f":"F35","v":0},null,{"$f":"Y17/AA17","v":{"$error":"#DIV/0!"}},{"$f":"F29","v":0},null,{"$f":"AB17/AD17","v":{"$error":"#DIV/0!"}},null,{"$f":"MAX(P19,S19,Y19,AB19)","v":0},null,{"$f":"AF17/AH17","v":{"$error":"#DIV/0!"}}]
[null,"Tour 1\nMatch aller",{"$f":"C9","v":0},null,null,null,null,null,null,null,{"$f":"C10","v":0},null,{"$f":"D27","v":0},null,{"$f":"E26","v":0},"M",null,null,{"$f":"D23","v":0},null,{"$f":"E23","v":0},{"$f":"D36","v":0},null,{"$f":"E35","v":0},"M",null,null,{"$f":"D32","v":0},null,{"$f":"E32","v":0},null,{"$f":"M20+S20+V20+AB20","v":0},null,{"$f":"O20+U20+X20+AD20","v":0},{"$f":"AU20","v":{"$error":"#DIV/0!"}},null,{"$f":"AG21","v":0.04},{"$f":"RANK(AK20,AK$17:AK$25,0)","v":1},{"$f":"AH22","v":{"$error":"#DIV/0!"}},{"$f":"RANK(AM20,AM$17:AM$25,0)","v":{"$error":"#DIV/0!"}},{"$f":"MAX(R22,U22,AA22,AD22)","v":{"$error":"#DIV/0!"}},{"$f":"RANK(AO20,AO$17:AO$25)","v":{"$error":"#DIV/0!"}},{"$f":"AF22","v":0},{"$f":"RANK(AQ20,AQ$17:AQ$25)","v":1},{"$f":"(AL20*1000)+(AN20*100)+(AP20*10)+(AR20*1)","v":{"$error":"#DIV/0!"}},{"$f":"AS20","v":{"$error":"#DIV/0!"}},{"$f":"RANK(AT20,AT$17:AT$25,1)","v":{"$error":"#DIV/0!"}},{"$f":"RANK(AU20,AU$17:AU$25,1)","v":{"$error":"#DIV/0!"}}]
[null,null,{"$f":"C11","v":0},null,null,null,null,null,null,null,null,null,null,{"$f":"IF(R17>0,2-Q18,0.01)","v":0.01},null,null,null,null,null,{"$f":"IF(U20<1,0.01,IF(S20>P23,2,IF(S20=P23,1,0)))","v":0.01},null,null,{"$f":"IF(AA17>0,2-Z18,0.01)","v":0.01},null,null,null,null,null,{"$f":"IF(AD20<1,0.01,IF(AB20>Y23,2,IF(AB20=Y23,1,0)))","v":0.01},null,null,null,{"$f":"N21+T21+W21+AC21","v":0.04}]
[null,null,null,null,null,null,null,null,null,null,null,null,{"$f":"F27","v":0},null,{"$f":"M20/O20","v":{"$error":"#DIV/0!"}},null,null,null,{"$f":"F23","v":0},null,{"$f":"S20/U20","v":{"$error":"#DIV/0!"}},{"$f":"F36","v":0},null,{"$f":"V20/X20","v":{"$error":"#DIV/0!"}},null,null,null,{"$f":"F32","v":0},null,{"$f":"AB20/AD20","v":{"$error":"#DIV/0!"}},null,{"$f":"MAXA(M22,S22,V22,AB22)","v":0},null,{"$f":"AF20/AH20","v":{"$error":"#DIV/0!"}}]
[null,"Tour 2\nMatch aller",{"$f":"C10","v":0},null,null,null,null,null,null,null,{"$f":"C11","v":0},null,{"$f":"D21","v":0},null,{"$f":"E20","v":0},{"$f":"D24","v":0},null,{"$f":"E23","v":0},"B",null,null,{"$f":"D30","v":0},null,{"$f":"E29","v":0},{"$f":"D33","v":0},null,{"$f":"E32","v":0},"B",null,null,null,{"$f":"M23+P23+V23+Y23","v":0},null,{"$f":"O23+R23+X23+AA23","v":0},{"$f":"AU23","v":{"$error":"#DIV/0!"}},null,{"$f":"AG24","v":0.04},{"$f":"RANK(AK23,AK$17:AK$25,0)","v":1},{"$f":"AH25","v":{"$error":"#DIV/0!"}},{"$f":"RANK(AM23,AM$17:AM$25,0)","v":{"$error":"#DIV/0!"}},{"$f":"MAX(R25,U25,AA25,AD25)","v":{"$error":"#DIV/0!"}},{"$f":"RANK(AO23,AO$17:AO$25)","v":{"$error":"#DIV/0!"}},{"$f":"AF25","v":0},{"$f":"RANK(AQ23,AQ$17:AQ$25)","v":1},{"$f":"(AL23*1000)+(AN23*100)+(AP23*10)+(AR23*1)","v":{"$error":"#DIV/0!"}},{"$f":"AS23","v":{"$error":"#DIV/0!"}},{"$f":"RANK(AT23,AT$17:AT$25,1)","v":{"$error":"#DIV/0!"}},{"$f":"RANK(AU23,AU$17:AU$25,1)","v":{"$error":"#DIV/0!"}}]
[null,null,{"$f":"C11","v":0},null,null,null,null,null,null,null,null,null,null,{"$f":"IF(U17>0,2-T18,0.01)","v":0.01},null,null,{"$f":"IF(U20>0,2-T21,0.01)","v":0.01},null,null,null,null,null,{"$f":"IF(AD17>0,2-AC18,0.01)","v":0.01},null,null,{"$f":"IF(AD20>0,2-AC21,0.01)","v":0.01},null,null,null,null,null,null,{"$f":"N24+Q24+W24+Z24","v":0.04}]
[null,null,null,null,null,null,null,null,null,null,null,null,{"$f":"F21","v":0},null,{"$f":"M23/O23","v":{"$error":"#DIV/0!"}},{"$f":"F24","v":0},null,{"$f":"P23/R23","v":{"$error":"#DIV/0!"}},null,null,null,{"$f":"F30","v":0},null,{"$f":"V23/X23","v":{"$error":"#DIV/0!"}},{"$f":"F33","v":0},null,{"$f":"Y23/AA23","v":{"$error":"#DIV/0!"}},null,null,null,null,{"$f":"MAXA(M25,P25,V25,Y25)","v":0},null,{"$f":"AF23/AH23","v":{"$error":"#DIV/0!"}}]
[null,"Tour 3\nMatch aller",{"$f":"C9","v":0}]
[null,null,{"$f":"C10","v":0},null,null,null,null,null,null,null,null,null,"Pas de prolongation en cas de match nul."]
[]
[null,"Tour 1\nMatch retour",{"$f":"C9","v":0}]
[null,null,{"$f":"C11","v":0}]
[]
[null,"Tour 2\nMatch retour",{"$f":"C10","v":0},null,null,null,8]
[null,null,{"$f":"C11","v":0}]
[]
[null,"Tour 3\nMatch retour",{"$f":"C9","v":0}]
[null,null,{"$f":"C10","v":0}]
[]
[null,"Joueur 1",{"$f":"'Saisie des joueurs'!K22","v":0}]
[null,"Joueur 2",{"$f":"'Saisie des joueurs'!K23","v":0}]
[null,"Joueur 3",{"$f":"'Saisie des joueurs'!K24","v":0}]
[null,null,null,null,null,null,null,null,null,null,null,null,"MATCH ALLER",null,null,null,null,null,null,null,null,"MATCH RETOUR"]
[]
[null,"SAISIE DES RESULTATS",null,null,null,null,null,null,null,null,null,null,{"$f":"C38","v":0},null,null,{"$f":"C39","v":0},null,null,{"$f":"C40","v":0},null,null,{"$f":"C38","v":0},null,null,{"$f":"C39","v":0},null,null,{"$f":"C40","v":0},null,null,null,"TOTAUX",null,null,"CLASSEMENT"]
[]
[null,null,null,null,null,null,null,null,null,null,null,null,null,null,null,null,null,null,null,null,null,null,null,null,null,null,null,null,null,null,null,null,null,null,null,null,"Classement",null,"Classement",null,"Classement","Classement",null,"Classement",null,"GENERAL","RANG"]
[null,"POULE B",null,null,null,null,null,null,null,null,null,null,null,null,null,null,null,null,null,null,null,null,null,null,null,null,null,null,null,null,null,null,null,null,null,null,"Point-Match","CLS-M","Moy-Gen","CLS-G","Moy-Part","M-Series","CLS-S","MGPS","CLS","CLS"]
[null,null,null,null,null,null,null,null,null,null,{"$f":"C38","v":0},null,"L",null,null,{"$f":"D56","v":0},null,{"$f":"E56","v":0},{"$f":"D50","v":0},null,{"$f":"E50","v":0},"L",null,null,{"$f":"D65","v":0},null,{"$f":"E65","v":0},{"$f":"D59","v":0},null,{"$f":"E59","v":0},null,{"$f":"P47+S47+Y47+AB47","v":0},null,{"$f":"R47+U47+AA47+AD47","v":0},{"$f":"AU47","v":{"$error":"#DIV/0!"}},null,{"$f":"AG48","v":0.04},{"$f":"RANK(AK47,AK$47:AK$55,0)","v":1},{"$f":"AH49","v":{"$error":"#DIV/0!"}},{"$f":"RANK(AM47,AM$47:AM$55,0)","v":{"$error":"#DIV/0!"}},{"$f":"MAX(R49,U49,AA49,AD49)","v":{"$error":"#DIV/0!"}},{"$f":"RANK(AO47,AO$47:AO$55)","v":{"$error":"#DIV/0!"}},{"$f":"AF49","v":0},{"$f":"RANK(AQ47,AQ$47:AQ$55)","v":1},{"$f":"(AL47*1000)+(AN47*100)+(AP47*10)+(AR47*1)","v":{"$error":"#DIV/0!"}},{"$f":"AS47","v":{"$error":"#DIV/0!"}},{"$f":"RANK(AT47,AT$47:AT$55,1)","v":{"$error":"#DIV/0!"}},{"$f":"RANK(AU47,AU$47:AU$55,1)","v":{"$error":"#DIV/0!"}}]
[null,null,null,null,null,null,null,null,null,null,null,null,null,null,null,null,{"$f":"IF(R47<1,0.01,IF(P47>M50,2,IF(P47=M50,1,0)))","v":0.01},null,null,{"$f":"IF(U47<1,0.01,IF(S47>M53,2,IF(S47=M53,1,0)))","v":0.01},null,null,null,null,null,{"$f":"IF(AA47<1,0.01,IF(Y47>V50,2,IF(Y47=V50,1,0)))","v":0.01},null,null,{"$f":"IF(AD47<1,0.01,IF(AB47>V53,2,IF(AB47=V53,1,0)))","v":0.01},null,null,null,{"$f":"Q48+T48+Z48+AC48","v":0.04}]
[null,null,null,"Pts","Rep","Série",null,null,null,null,null,null,null,null,null,{"$f":"F56","v":0},null,{"$f":"P47/R47","v":{"$error":"#DIV/0!"}},{"$f":"F50","v":0},null,{"$f":"S47/U47","v":{"$error":"#DIV/0!"}},null,null,null,{"$f":"F65","v":0},null,{"$f":"Y47/AA47","v":{"$error":"#DIV/0!"}},{"$f":"F59","v":0},null,{"$f":"AB47/AD47","v":{"$error":"#DIV/0!"}},null,{"$f":"MAX(P49,S49,Y49,AB49)","v":0},null,{"$f":"AF47/AH47","v":{"$error":"#DIV/0!"}}]
[null,"Tour 1\nMatch aller",{"$f":"C38","v":0},null,null,null,null,null,null,null,{"$f":"C39","v":0},null,{"$f":"D57","v":0},null,{"$f":"E56","v":0},"M",null,null,{"$f":"D53","v":0},null,{"$f":"E53","v":0},{"$f":"D66","v":0},null,{"$f":"E65","v":0},"M",null,null,{"$f":"D62","v":0},null,{"$f":"E62","v":0},null,{"$f":"M50+S50+V50+AB50","v":0},null,{"$f":"O50+U50+X50+AD50","v":0},{"$f":"AU50","v":{"$error":"#DIV/0!"}},null,{"$f":"AG51","v":0.04},{"$f":"RANK(AK50,AK$47:AK$55,0)","v":1},{"$f":"AH52","v":{"$error":"#DIV/0!"}},{"$f":"RANK(AM50,AM$47:AM$55,0)","v":{"$error":"#DIV/0!"}},{"$f":"MAX(O52,U52,X52,AD52)","v":{"$error":"#DIV/0!"}},{"$f":"RANK(AO50,AO$47:AO$55)","v":{"$error":"#DIV/0!"}},{"$f":"AF52","v":0},{"$f":"RANK(AQ50,AQ$47:AQ$55)","v":1},{"$f":"(AL50*1000)+(AN50*100)+(AP50*10)+(AR50*1)","v":{"$error":"#DIV/0!"}},{"$f":"AS50","v":{"$error":"#DIV/0!"}},{"$f":"RANK(AT50,AT$47:AT$55,1)","v":{"$error":"#DIV/0!"}},{"$f":"RANK(AU50,AU$47:AU$55,1)","v":{"$error":"#DIV/0!"}}]
[null,null,{"$f":"C40","v":0},null,null,null,null,null,null,null,null,null,null,{"$f":"IF(R47>0,2-Q48,0.01)","v":0.01},null,null,null,null,null,{"$f":"IF(U50<1,0.01,IF(S50>P53,2,IF(S50=P53,1,0)))","v":0.01},null,null,{"$f":"IF(AA47>0,2-Z48,0.01)","v":0.01},null,null,null,null,null,{"$f":"IF(AD50<1,0.01,IF(AB50>Y53,2,IF(AB50=Y53,1,0)))","v":0.01},null,null,null,{"$f":"N51+T51+W51+AC51","v":0.04}]
[null,null,null,null,null,null,null,null,null,null,null,null,{"$f":"F57","v":0},null,{"$f":"M50/O50","v":{"$error":"#DIV/0!"}},null,null,null,{"$f":"F53","v":0},null,{"$f":"S50/U50","v":{"$error":"#DIV/0!"}},{"$f":"F66","v":0},null,{"$f":"V50/X50","v":{"$error":"#DIV/0!"}},null,null,null,{"$f":"F62","v":0},null,{"$f":"AB50/AD50","v":{"$error":"#DIV/0!"}},null,{"$f":"MAXA(M52,S52,V52,AB52)","v":0},null,{"$f":"AF50/AH50","v":{"$error":"#DIV/0!"}}]
[null,"Tour 2\nMatch aller",{"$f":"C39","v":0},null,null,null,null,null,null,null,{"$f":"C40","v":0},null,{"$f":"D51","v":0},null,{"$f":"E50","v":0},{"$f":"D54","v":0},null,{"$f":"E53","v":0},"B",null,null,{"$f":"D60","v":0},null,{"$f":"E59","v":0},{"$f":"D63","v":0},null,{"$f":"E62","v":0},"B",null,null,null,{"$f":"M53+P53+V53+Y53","v":0},null,{"$f":"O53+R53+X53+AA53","v":0},{"$f":"AU53","v":{"$error":"#DIV/0!"}},null,{"$f":"AG54","v":0.04},{"$f":"RANK(AK53,AK$47:AK$55,0)","v":1},{"$f":"AH55","v":{"$error":"#DIV/0!"}},{"$f":"RANK(AM53,AM$47:AM$55,0)","v":{"$error":"#DIV/0!"}},{"$f":"MAX(O55,R55,X55,AA55)","v":{"$error":"#DIV/0!"}},{"$f":"RANK(AO53,AO$47:AO$55)","v":{"$error":"#DIV/0!"}},{"$f":"AF55","v":0},{"$f":"RANK(AQ53,AQ$47:AQ$55)","v":1},{"$f":"(AL53*1000)+(AN53*100)+(AP53*10)+(AR53*1)","v":{"$error":"#DIV/0!"}},{"$f":"AS53","v":{"$error":"#DIV/0!"}},{"$f":"RANK(AT53,AT$47:AT$55,1)","v":{"$error":"#DIV/0!"}},{"$f":"RANK(AU53,AU$47:AU$55,1)","v":{"$error":"#DIV/0!"}}]
[null,null,{"$f":"C40","v":0},null,null,null,null,null,null,null,null,null,null,{"$f":"IF(U47>0,2-T48,0.01)","v":0.01},null,null,{"$f":"IF(U50>0,2-T51,0.01)","v":0.01},null,null,null,null,null,{"$f":"IF(AD47>0,2-AC48,0.01)","v":0.01},null,null,{"$f":"IF(AD50>0,2-AC51,0.01)","v":0.01},null,null,null,null,null,null,{"$f":"N54+Q54+W54+Z54","v":0.04}]
[null,null,null,null,null,null,null,null,null,null,null,null,{"$f":"F51","v":0},null,{"$f":"M53/O53","v":{"$error":"#DIV/0!"}},{"$f":"F54","v":0},null,{"$f":"P53/R53","v":{"$error":"#DIV/0!"}},null,null,null,{"$f":"F60","v":0},null,{"$f":"V53/X53","v":{"$error":"#DIV/0!"}},{"$f":"F63","v":0},null,{"$f":"Y53/AA53","v":{"$error":"#DIV/0!"}},null,null,null,null,{"$f":"MAXA(M55,P55,V55,Y55)","v":0},null,{"$f":"AF53/AH53","v":{"$error":"#DIV/0!"}}]
[null,"Tour 3\nMatch aller",{"$f":"C38","v":0}]
[null,null,{"$f":"C39","v":0},null,null,null,null,null,null,null,null,null,"Pas de prolongation en cas de match nul."]
[]
[null,"Tour 1\nMatch retour",{"$f":"C38","v":0}]
[null,null,{"$f":"C40","v":0}]
[]
[null,"Tour 2\nMatch retour",{"$f":"C39","v":0}]
[null,null,{"$f":"C40","v":0}]
[]
[null,"Tour 3\nMatch retour",{"$f":"C38","v":0}]
[null,null,{"$f":"C39","v":0}]
[]
[]
[null,"Joueur 1",{"$f":"'Saisie des joueurs'!K26","v":0}]
[null,"Joueur 2",{"$f":"'Saisie des joueurs'!K27","v":0}]
[null,"Joueur 3",{"$f":"'Saisie des joueurs'!K28","v":0}]
[null,"Joueur 4",{"$f":"'Saisie des joueurs'!K29","v":0}]
[]
[null,"SAISIE DES RESULTATS",null,null,null,null,null,null,null,null,null,null,{"$f":"C69","v":0},null,null,{"$f":"C70","v":0},null,null,{"$f":"C71","v":0},null,null,{"$f":"C72","v":0}]
[null,null,null,null,null,null,null,null,null,null,null,null,null,null,null,null,null,null,null,null,null,null,null,null,null,"TOTAUX",null,null,"CLASSEMENT"]
[null,null,null,null,null,null,null,null,null,null,null,null,null,null,null,null,null,null,null,null,null,null,null,null,null,null,null,null,null,null,null,null,null,null,null,null,"Classement",null,"Classement",null,"Classement",null,"Classement",null,"Classement",null,"GENERAL","RANG"]
[null,"POULE C",null,null,null,null,null,null,null,null,null,null,null,null,null,null,null,null,null,null,null,null,null,null,null,null,null,null,null,null,null,null,null,null,null,null,"Point-Match","CLS-M","Moy-Gen","CLS-G","Moy-Part","CLS-P","M-Series","CLS-S","MGPS","CLS","CLS"]
[null,null,null,null,null,null,null,null,null,null,{"$f":"C69","v":0},null,"L",null,null,{"$f":"D93","v":0},null,{"$f":"E93","v":0},{"$f":"D87","v":0},null,{"$f":"E87","v":0},{"$f":"D81","v":0},null,{"$f":"E81","v":0},null,{"$f":"P78+S78+V78","v":0},null,{"$f":"R78+U78+X78","v":0},{"$f":"AV78","v":{"$error":"#DIV/0!"}},null,null,null,null,null,null,null,{"$f":"AA79","v":0.03},{"$f":"RANK(AK78,AK$78:AK$89,0)","v":1},{"$f":"AB80","v":{"$error":"#DIV/0!"}},{"$f":"RANK(AM78,AM$78:AM$89,0)","v":{"$error":"#DIV/0!"}},{"$f":"MAX(R80,U80,X80)","v":{"$error":"#DIV/0!"}},{"$f":"RANK(AO78,AO$78:AO$89)","v":{"$error":"#DIV/0!"}},{"$f":"Z80","v":0},{"$f":"RANK(AQ78,AQ$78:AQ$89)","v":1},{"$f":"(AL78*1000)+(AN78*100)+(AP78*10)+(AR78*1)","v":{"$error":"#DIV/0!"}},{"$f":"AS78","v":{"$error":"#DIV/0!"}},{"$f":"RANK(AT78,AT$78:AT$89,1)","v":{"$error":"#DIV/0!"}},{"$f":"RANK(AU78,AU$78:AU$89,1)","v":{"$error":"#DIV/0!"}}]
[null,null,null,null,null,null,null,null,null,null,null,null,null,null,null,null,{"$f":"IF(R78<1,0.01,IF(P78>M81,2,IF(P78=M81,1,0)))","v":0.01},null,null,{"$f":"IF(U78<1,0.01,IF(S78>M84,2,IF(S78=M84,1,0)))","v":0.01},null,null,{"$f":"IF(X78<1,0.01,IF(V78>M87,2,IF(V78=M87,1,0)))","v":0.01},null,null,null,{"$f":"Q79+T79+W79","v":0.03}]
[null,null,null,"Pts","Rep","Série",null,null,null,null,null,null,null,null,null,{"$f":"F93","v":0},null,{"$f":"P78/R78","v":{"$error":"#DIV/0!"}},{"$f":"F87","v":0},null,{"$f":"S78/U78","v":{"$error":"#DIV/0!"}},{"$f":"F81","v":0},null,{"$f":"V78/X78","v":{"$error":"#DIV/0!"}},null,{"$f":"MAX(P80,S80,V80)","v":0},null,{"$f":"Z78/AB78","v":{"$error":"#DIV/0!"}}]
[null,"Tour 1",{"$f":"C69","v":0},null,null,null,null,null,null,null,{"$f":"C70","v":0},null,{"$f":"D94","v":0},null,{"$f":"E93","v":0},"M",null,null,{"$f":"D84","v":0},null,{"$f":"E84","v":0},{"$f":"D91","v":0},null,{"$f":"E90","v":0},null,{"$f":"M81+S81+V81","v":0},null,{"$f":"O81+U81+X81","v":0},{"$f":"AV81","v":{"$error":"#DIV/0!"}},null,null,null,null,null,null,null,{"$f":"AA82","v":0.03},{"$f":"RANK(AK81,AK$78:AK$89,0)","v":1},{"$f":"AB83","v":{"$error":"#DIV/0!"}},{"$f":"RANK(AM81,AM$78:AM$89,0)","v":{"$error":"#DIV/0!"}},{"$f":"MAX(O83,U83,X83)","v":{"$error":"#DIV/0!"}},{"$f":"RANK(AO81,AO$78:AO$89)","v":{"$error":"#DIV/0!"}},{"$f":"Z83","v":0},{"$f":"RANK(AQ81,AQ$78:AQ$89)","v":1},{"$f":"(AL81*1000)+(AN81*100)+(AP81*10)+(AR81*1)","v":{"$error":"#DIV/0!"}},{"$f":"AS81","v":{"$error":"#DIV/0!"}},{"$f":"RANK(AT81,AT$78:AT$89,1)","v":{"$error":"#DIV/0!"}},{"$error":"#DIV/0!"}]
[null,null,{"$f":"C72","v":0},null,null,null,null,null,null,null,null,null,null,{"$f":"IF(R78>0,2-Q79,0.01)","v":0.01},null,null,null,null,null,{"$f":"IF(U81<1,0.01,IF(S81>P84,2,IF(S81=P84,1,0)))","v":0.01},null,null,{"$f":"IF(X81<1,0.01,IF(V81>P87,2,IF(V81=P87,1,0)))","v":0.01},null,null,null,{"$f":"N82+T82+W82","v":0.03}]
[null,null,null,null,null,null,null,null,null,null,null,null,{"$f":"F94","v":0},null,{"$f":"M81/O81","v":{"$error":"#DIV/0!"}},null,null,null,{"$f":"F84","v":0},null,{"$f":"S81/U81","v":{"$error":"#DIV/0!"}},{"$f":"F91","v":0},null,{"$f":"V81/X81","v":{"$error":"#DIV/0!"}},null,{"$f":"MAXA(M83,S83,V83)","v":0},null,{"$f":"Z81/AB81","v":{"$error":"#DIV/0!"}}]
[null,"Tour 2",{"$f":"C70","v":0},null,null,null,null,null,null,null,{"$f":"C71","v":0},null,{"$f":"D88","v":0},null,{"$f":"E87","v":0},{"$f":"D85","v":0},null,{"$f":"E84","v":0},"B",null,null,{"$f":"D96","v":0},null,{"$f":"E96","v":0},null,{"$f":"M84+P84+V84","v":0},null,{"$f":"O84+R84+X84","v":0},{"$f":"AV84","v":{"$error":"#DIV/0!"}},null,null,null,null,null,null,null,{"$f":"AA85","v":0.03},{"$f":"RANK(AK84,AK$78:AK$89,0)","v":1},{"$f":"AB86","v":{"$error":"#DIV/0!"}},{"$f":"RANK(AM84,AM$78:AM$89,0)","v":{"$error":"#DIV/0!"}},{"$f":"MAX(O86,R86,X86)","v":{"$error":"#DIV/0!"}},{"$f":"RANK(AO84,AO$78:AO$89)","v":{"$error":"#DIV/0!"}},{"$f":"Z86","v":0},{"$f":"RANK(AQ84,AQ$78:AQ$89)","v":1},{"$f":"(AL84*1000)+(AN84*100)+(AP84*10)+(AR84*1)","v":{"$error":"#DIV/0!"}},{"$f":"AS84","v":{"$error":"#DIV/0!"}},{"$f":"RANK(AT84,AT$78:AT$89,1)","v":{"$error":"#DIV/0!"}},{"$error":"#DIV/0!"}]
[null,null,{"$f":"C71","v":0},null,null,null,null,null,null,null,null,null,null,{"$f":"IF(U78>0,2-T79,0.01)","v":0.01},null,null,{"$f":"IF(U81>0,2-T82,0.01)","v":0.01},null,null,null,null,null,{"$f":"IF(X84<1,0.01,IF(V84>S87,2,IF(V84=S87,1,0)))","v":0.01},null,null,null,{"$f":"N85+Q85+W85","v":0.03}]
[null,null,null,null,null,null,null,null,null,null,null,null,{"$f":"F88","v":0},null,{"$f":"M84/O84","v":{"$error":"#DIV/0!"}},{"$f":"F85","v":0},null,{"$f":"P84/R84","v":{"$error":"#DIV/0!"}},null,null,null,{"$f":"F96","v":0},null,{"$f":"V84/X84","v":{"$error":"#DIV/0!"}},null,{"$f":"MAXA(M86,P86,V86)","v":0},null,{"$f":"Z84/AB84","v":{"$error":"#DIV/0!"}}]
[null,"Tour 3",{"$f":"C69","v":0},null,null,null,null,null,null,null,{"$f":"C72","v":0},null,{"$f":"D82","v":0},null,{"$f":"E81","v":0},{"$f":"D90","v":0},null,{"$f":"E90","v":0},{"$f":"D97","v":0},null,{"$f":"E96","v":0},null,null,null,null,{"$f":"M87+P87+S87","v":0},null,{"$f":"O87+R87+U87","v":0},{"$f":"AV87","v":{"$error":"#DIV/0!"}},null,null,null,null,null,null,null,{"$f":"AA88","v":0.03},{"$f":"RANK(AK87,AK$78:AK$89,0)","v":1},{"$f":"AB89","v":{"$error":"#DIV/0!"}},{"$f":"RANK(AM87,AM$78:AM$89,0)","v":{"$error":"#DIV/0!"}},{"$f":"MAX(O89,R89,U89)","v":{"$error":"#DIV/0!"}},{"$f":"RANK(AO87,AO$78:AO$89)","v":{"$error":"#DIV/0!"}},{"$f":"Z89","v":0},{"$f":"RANK(AQ87,AQ$78:AQ$89)","v":1},{"$f":"(AL87*1000)+(AN87*100)+(AP87*10)+(AR87*1)","v":{"$error":"#DIV/0!"}},{"$f":"AS87","v":{"$error":"#DIV/0!"}},{"$f":"RANK(AT87,AT$78:AT$89,1)","v":{"$error":"#DIV/0!"}},{"$error":"#DIV/0!"}]
[null,null,{"$f":"C71","v":0},null,null,null,null,null,null,null,null,null,null,{"$f":"IF(X78>0,2-W79,0.01)","v":0.01},null,null,{"$f":"IF(X81>0,2-W82,0.01)","v":0.01},null,null,{"$f":"IF(X84>0,2-W85,0.01)","v":0.01},null,null,null,null,null,null,{"$f":"N88+Q88+T88","v":0.03}]
[null,null,null,null,null,null,null,null,null,null,null,null,{"$f":"F82","v":0},null,{"$f":"M87/O87","v":{"$error":"#DIV/0!"}},{"$f":"F90","v":0},null,{"$f":"P87/R87","v":{"$error":"#DIV/0!"}},{"$f":"F97","v":0},null,{"$f":"S87/U87","v":{"$error":"#DIV/0!"}},null,null,null,null,{"$f":"MAXA(M89,P89,S89)","v":0},null,{"$f":"Z87/AB87","v":{"$error":"#DIV/0!"}}]
[null,"Tour 4",{"$f":"C72","v":0}]
[null,null,{"$f":"C70","v":0},null,null,null,null,null,null,null,null,null,"Pas de prolongation en cas de match nul."]
[]
[null,"Tour 5",{"$f":"C69","v":0}]
[null,null,{"$f":"C70","v":0}]
[]
[null,"Tour 6",{"$f":"C71","v":0}]
[null,null,{"$f":"C72","v":0}]
[]
[null,"Joueur 1",{"$f":"'Saisie des joueurs'!K30","v":0}]
[null,"Joueur 2",{"$f":"'Saisie des joueurs'!K31","v":0}]
[null,"Joueur 3",{"$f":"'Saisie des joueurs'!K32","v":0}]
[null,"Joueur 4",{"$f":"'Saisie des joueurs'!K33","v":0}]
[]
[null,"SAISIE DES RESULTATS",null,null,null,null,null,null,null,null,null,null,{"$f":"C99","v":0},null,null,{"$f":"C100","v":0},null,null,{"$f":"C101","v":0},null,null,{"$f":"C102","v":0}]
[null,null,null,null,null,null,null,null,null,null,null,null,null,null,null,null,null,null,null,null,null,null,null,null,null,"TOTAUX",null,null,"CLASSEMENT"]
[null,null,null,null,null,null,null,null,null,null,null,null,null,null,null,null,null,null,null,null,null,null,null,null,null,null,null,null,null,null,null,null,null,null,null,null,"Classement",null,"Classement",null,"Classement",null,"Classement",null,"Classement",null,"GENERAL","RANG"]
[null,"POULE D",null,null,null,null,null,null,null,null,null,null,null,null,null,null,null,null,null,null,null,null,null,null,null,null,null,null,null,null,null,null,null,null,null,null,"Point-Match","CLS-M","Moy-Gen","CLS-G","Moy-Part","CLS-P","M-Series","CLS-S","MGPS","CLS","CLS"]
[null,null,null,null,null,null,null,null,null,null,{"$f":"C99","v":0},null,"L",null,null,{"$f":"D123","v":0},null,{"$f":"E123","v":0},{"$f":"D117","v":0},null,{"$f":"E117","v":0},{"$f":"D111","v":0},null,{"$f":"E111","v":0},null,{"$f":"P108+S108+V108","v":0},null,{"$f":"R108+U108+X108","v":0},{"$f":"AV108","v":{"$error":"#DIV/0!"}},null,null,null,null,null,null,null,{"$f":"AA109","v":0.03},{"$f":"RANK(AK108,AK$108:AK$119,0)","v":1},{"$f":"AB110","v":{"$error":"#DIV/0!"}},{"$f":"RANK(AM108,AM$108:AM$119,0)","v":{"$error":"#DIV/0!"}},{"$f":"MAX(R110,U110,X110)","v":{"$error":"#DIV/0!"}},{"$f":"RANK(AO108,AO$108:AO$119)","v":{"$error":"#DIV/0!"}},{"$f":"Z110","v":0},{"$f":"RANK(AQ108,AQ$108:AQ$119)","v":1},{"$f":"(AL108*1000)+(AN108*100)+(AP108*10)+(AR108*1)","v":{"$error":"#DIV/0!"}},{"$f":"AS108","v":{"$error":"#DIV/0!"}},{"$f":"RANK(AT108,AT$108:AT$119,1)","v":{"$error":"#DIV/0!"}},{"$f":"RANK(AU108,AU$108:AU$119,1)","v":{"$error":"#DIV/0!"}}]
[null,null,null,null,null,null,null,null,null,null,null,null,null,null,null,null,{"$f":"IF(R108<1,0.01,IF(P108>M111,2,IF(P108=M111,1,0)))","v":0.01},null,null,{"$f":"IF(U108<1,0.01,IF(S108>M114,2,IF(S108=M114,1,0)))","v":0.01},null,null,{"$f":"IF(X108<1,0.01,IF(V108>M117,2,IF(V108=M117,1,0)))","v":0.01},null,null,null,{"$f":"Q109+T109+W109","v":0.03}]
[null,null,null,"Pts","Rep","Série",null,null,null,null,null,null,null,null,null,{"$f":"F123","v":0},null,{"$f":"P108/R108","v":{"$error":"#DIV/0!"}},{"$f":"F117","v":0},null,{"$f":"S108/U108","v":{"$error":"#DIV/0!"}},{"$f":"F111","v":0},null,{"$f":"V108/X108","v":{"$error":"#DIV/0!"}},null,{"$f":"MAX(P110,S110,V110)","v":0},null,{"$f":"Z108/AB108","v":{"$error":"#DIV/0!"}}]
[null,"Tour 1",{"$f":"C99","v":0},null,null,null,null,null,null,null,{"$f":"C100","v":0},null,{"$f":"D124","v":0},null,{"$f":"E123","v":0},"M",null,null,{"$f":"D114","v":0},null,{"$f":"E114","v":0},{"$f":"D121","v":0},null,{"$f":"E120","v":0},null,{"$f":"M111+S111+V111","v":0},null,{"$f":"O111+U111+X111","v":0},{"$f":"AV111","v":{"$error":"#DIV/0!"}},null,null,null,null,null,null,null,{"$f":"AA112","v":0.03},{"$f":"RANK(AK111,AK$108:AK$119,0)","v":1},{"$f":"AB113","v":{"$error":"#DIV/0!"}},{"$f":"RANK(AM111,AM$108:AM$119,0)","v":{"$error":"#DIV/0!"}},{"$f":"MAX(O113,U113,X113)","v":{"$error":"#DIV/0!"}},{"$f":"RANK(AO111,AO$108:AO$119)","v":{"$error":"#DIV/0!"}},{"$f":"Z113","v":0},{"$f":"RANK(AQ111,AQ$108:AQ$119)","v":1},{"$f":"(AL111*1000)+(AN111*100)+(AP111*10)+(AR111*1)","v":{"$error":"#DIV/0!"}},{"$f":"AS111","v":{"$error":"#DIV/0!"}},{"$f":"RANK(AT111,AT$108:AT$119,1)","v":{"$error":"#DIV/0!"}},{"$error":"#DIV/0!"}]
[null,null,{"$f":"C102","v":0},null,null,null,null,null,null,null,null,null,null,{"$f":"IF(R108>0,2-Q109,0.01)","v":0.01},null,null,null,null,null,{"$f":"IF(U111<1,0.01,IF(S111>P114,2,IF(S111=P114,1,0)))","v":0.01},null,null,{"$f":"IF(X111<1,0.01,IF(V111>P117,2,IF(V111=P117,1,0)))","v":0.01},null,null,null,{"$f":"N112+T112+W112","v":0.03}]
[null,null,null,null,null,null,null,null,null,null,null,null,{"$f":"F124","v":0},null,{"$f":"M111/O111","v":{"$error":"#DIV/0!"}},null,null,null,{"$f":"F114","v":0},null,{"$f":"S111/U111","v":{"$error":"#DIV/0!"}},{"$f":"F121","v":0},null,{"$f":"V111/X111","v":{"$error":"#DIV/0!"}},null,{"$f":"MAXA(M113,S113,V113)","v":0},null,{"$f":"Z111/AB111","v":{"$error":"#DIV/0!"}}]
[null,"Tour 2",{"$f":"C100","v":0},null,null,null,null,null,null,null,{"$f":"C101","v":0},null,{"$f":"D118","v":0},null,{"$f":"E117","v":0},{"$f":"D115","v":0},null,{"$f":"E114","v":0},"B",null,null,{"$f":"D126","v":0},null,{"$f":"E126","v":0},null,{"$f":"M114+P114+V114","v":0},null,{"$f":"O114+R114+X114","v":0},{"$f":"AV114","v":{"$error":"#DIV/0!"}},null,null,null,null,null,null,null,{"$f":"AA115","v":0.03},{"$f":"RANK(AK114,AK$108:AK$119,0)","v":1},{"$f":"AB116","v":{"$error":"#DIV/0!"}},{"$f":"RANK(AM114,AM$108:AM$119,0)","v":{"$error":"#DIV/0!"}},{"$f":"MAX(O116,R116,X116)","v":{"$error":"#DIV/0!"}},{"$f":"RANK(AO114,AO$108:AO$119)","v":{"$error":"#DIV/0!"}},{"$f":"Z116","v":0},{"$f":"RANK(AQ114,AQ$108:AQ$119)","v":1},{"$f":"(AL114*1000)+(AN114*100)+(AP114*10)+(AR114*1)","v":{"$error":"#DIV/0!"}},{"$f":"AS114","v":{"$error":"#DIV/0!"}},{"$f":"RANK(AT114,AT$108:AT$119,1)","v":{"$error":"#DIV/0!"}},{"$error":"#DIV/0!"}]
[null,null,{"$f":"C101","v":0},null,null,null,null,null,null,null,null,null,null,{"$f":"IF(U108>0,2-T109,0.01)","v":0.01},null,null,{"$f":"IF(U111>0,2-T112,0.01)","v":0.01},null,null,null,null,null,{"$f":"IF(X114<1,0.01,IF(V114>S117,2,IF(V114=S117,1,0)))","v":0.01},null,null,null,{"$f":"N115+Q115+W115","v":0.03}]
[null,null,null,null,null,null,null,null,null,null,null,null,{"$f":"F118","v":0},null,{"$f":"M114/O114","v":{"$error":"#DIV/0!"}},{"$f":"F115","v":0},null,{"$f":"P114/R114","v":{"$error":"#DIV/0!"}},null,null,null,{"$f":"F126","v":0},null,{"$f":"V114/X114","v":{"$error":"#DIV/0!"}},null,{"$f":"MAXA(M116,P116,V116)","v":0},null,{"$f":"Z114/AB114","v":{"$error":"#DIV/0!"}}]
[null,"Tour 3",{"$f":"C99","v":0},null,null,null,null,null,null,null,{"$f":"C102","v":0},null,{"$f":"D112","v":0},null,{"$f":"E111","v":0},{"$f":"D120","v":0},null,{"$f":"E120","v":0},{"$f":"D127","v":0},null,{"$f":"E126","v":0},null,null,null,null,{"$f":"M117+P117+S117","v":0},null,{"$f":"O117+R117+U117","v":0},{"$f":"AV117","v":{"$error":"#DIV/0!"}},null,null,null,null,null,null,null,{"$f":"AA118","v":0.03},{"$f":"RANK(AK117,AK$108:AK$119,0)","v":1},{"$f":"AB119","v":{"$error":"#DIV/0!"}},{"$f":"RANK(AM117,AM$108:AM$119,0)","v":{"$error":"#DIV/0!"}},{"$f":"MAX(O119,R119,U119)","v":{"$error":"#DIV/0!"}},{"$f":"RANK(AO117,AO$108:AO$119)","v":{"$error":"#DIV/0!"}},{"$f":"Z119","v":0},{"$f":"RANK(AQ117,AQ$108:AQ$119)","v":1},{"$f":"(AL117*1000)+(AN117*100)+(AP117*10)+(AR117*1)","v":{"$error":"#DIV/0!"}},{"$f":"AS117","v":{"$error":"#DIV/0!"}},{"$f":"RANK(AT117,AT$108:AT$119,1)","v":{"$error":"#DIV/0!"}},{"$error":"#DIV/0!"}]
[null,null,{"$f":"C101","v":0},null,null,null,null,null,null,null,null,null,null,{"$f":"IF(X108>0,2-W109,0.01)","v":0.01},null,null,{"$f":"IF(X111>0,2-W112,0.01)","v":0.01},null,null,{"$f":"IF(X114>0,2-W115,0.01)","v":0.01},null,null,null,null,null,null,{"$f":"N118+Q118+T118","v":0.03}]
[null,null,null,null,null,null,null,null,null,null,null,null,{"$f":"F112","v":0},null,{"$f":"M117/O117","v":{"$error":"#DIV/0!"}},{"$f":"F120","v":0},null,{"$f":"P117/R117","v":{"$error":"#DIV/0!"}},{"$f":"F127","v":0},null,{"$f":"S117/U117","v":{"$error":"#DIV/0!"}},null,null,null,null,{"$f":"MAXA(M119,P119,S119)","v":0},null,{"$f":"Z117/AB117","v":{"$error":"#DIV/0!"}}]
[null,"Tour 4",{"$f":"C102","v":0}]
[null,null,{"$f":"C100","v":0},null,null,null,null,null,null,null,null,null,"Pas de prolongation en cas de match nul."]
[]
[null,"Tour 5",{"$f":"C99","v":0}]
[null,null,{"$f":"C100","v":0}]
[]
[null,"Tour 6",{"$f":"C101","v":0}]
[null,null,{"$f":"C102","v":0}]
[]
[]
[null,"Joueur 1",{"$f":"'Saisie des joueurs'!K34","v":0}]
[null,"Joueur 2",{"$f":"'Saisie des joueurs'!K35","v":0}]
[null,"Joueur 3",{"$f":"'Saisie des joueurs'!K36","v":0}]
[null,"Joueur 4",{"$f":"'Saisie des joueurs'!K37","v":0}]
[]
[null,"SAISIE DES RESULTATS",null,null,null,null,null,null,null,null,null,null,{"$f":"C130","v":0},null,null,{"$f":"C131","v":0},null,null,{"$f":"C132","v":0},null,null,{"$f":"C133","v":0}]
[null,null,null,null,null,null,null,null,null,null,null,null,null,null,null,null,null,null,null,null,null,null,null,null,null,"TOTAUX",null,null,"CLASSEMENT"]
[null,null,null,null,null,null,null,null,null,null,null,null,null,null,null,null,null,null,null,null,null,null,null,null,null,null,null,null,null,null,null,null,null,null,null,null,"Classement",null,"Classement",null,"Classement",null,"Classement",null,"Classement",null,"GENERAL","RANG"]
[null,"POULE E",null,null,null,null,null,null,null,null,null,null,null,null,null,null,null,null,null,null,null,null,null,null,null,null,null,null,null,null,null,null,null,null,null,null,"Point-Match","CLS-M","Moy-Gen","CLS-G","Moy-Part","CLS-P","M-Series","CLS-S","MGPS","CLS","CLS"]
[null,null,null,null,null,null,null,null,null,null,{"$f":"C130","v":0},null,"L",null,null,{"$f":"D154","v":0},null,{"$f":"E154","v":0},{"$f":"D148","v":0},null,{"$f":"E148","v":0},{"$f":"D142","v":0},null,{"$f":"E142","v":0},null,{"$f":"P139+S139+V139","v":0},null,{"$f":"R139+U139+X139","v":0},{"$f":"AV139","v":{"$error":"#DIV/0!"}},null,null,null,null,null,null,null,{"$f":"AA140","v":0.03},{"$f":"RANK(AK139,AK$139:AK$150,0)","v":1},{"$f":"AB141","v":{"$error":"#DIV/0!"}},{"$f":"RANK(AM139,AM$139:AM$150,0)","v":{"$error":"#DIV/0!"}},{"$f":"MAX(R141,U141,X141)","v":{"$error":"#DIV/0!"}},{"$f":"RANK(AO139,AO$139:AO$150)","v":{"$error":"#DIV/0!"}},{"$f":"Z141","v":0},{"$f":"RANK(AQ139,AQ$139:AQ$150)","v":1},{"$f":"(AL139*1000)+(AN139*100)+(AP139*10)+(AR139*1)","v":{"$error":"#DIV/0!"}},{"$f":"AS139","v":{"$error":"#DIV/0!"}},{"$f":"RANK(AT139,AT$139:AT$150,1)","v":{"$error":"#DIV/0!"}},{"$f":"RANK(AU139,AU$139:AU$150,1)","v":{"$error":"#DIV/0!"}}]
[null,null,null,null,null,null,null,null,null,null,null,null,null,null,null,null,{"$f":"IF(R139<1,0.01,IF(P139>M142,2,IF(P139=M142,1,0)))","v":0.01},null,null,{"$f":"IF(U139<1,0.01,IF(S139>M145,2,IF(S139=M145,1,0)))","v":0.01},null,null,{"$f":"IF(X139<1,0.01,IF(V139>M148,2,IF(V139=M148,1,0)))","v":0.01},null,null,null,{"$f":"Q140+T140+W140","v":0.03}]
[null,null,null,null,null,null,null,null,null,null,null,null,null,null,null,{"$f":"F154","v":0},null,{"$f":"P139/R139","v":{"$error":"#DIV/0!"}},{"$f":"F148","v":0},null,{"$f":"S139/U139","v":{"$error":"#DIV/0!"}},{"$f":"F142","v":0},null,{"$f":"V139/X139","v":{"$error":"#DIV/0!"}},null,{"$f":"MAX(P141,S141,V141)","v":0},null,{"$f":"Z139/AB139","v":{"$error":"#DIV/0!"}}]
[null,"Tour 1",{"$f":"C130","v":0},null,null,null,null,null,null,null,{"$f":"C131","v":0},null,{"$f":"D155","v":0},null,{"$f":"E154","v":0},"M",null,null,{"$f":"D145","v":0},null,{"$f":"E145","v":0},{"$f":"D152","v":0},null,{"$f":"E151","v":0},null,{"$f":"M142+S142+V142","v":0},null,{"$f":"O142+U142+X142","v":0},{"$f":"AV142","v":{"$error":"#DIV/0!"}},null,null,null,null,null,null,null,{"$f":"AA143","v":0.03},{"$f":"RANK(AK142,AK$139:AK$150,0)","v":1},{"$f":"AB144","v":{"$error":"#DIV/0!"}},{"$f":"RANK(AM142,AM$139:AM$150,0)","v":{"$error":"#DIV/0!"}},{"$f":"MAX(O144,U144,X144)","v":{"$error":"#DIV/0!"}},{"$f":"RANK(AO142,AO$139:AO$150)","v":{"$error":"#DIV/0!"}},{"$f":"Z144","v":0},{"$f":"RANK(AQ142,AQ$139:AQ$150)","v":1},{"$f":"(AL142*1000)+(AN142*100)+(AP142*10)+(AR142*1)","v":{"$error":"#DIV/0!"}},{"$f":"AS142","v":{"$error":"#DIV/0!"}},{"$f":"RANK(AT142,AT$139:AT$150,1)","v":{"$error":"#DIV/0!"}},{"$error":"#DIV/0!"}]
[null,null,{"$f":"C133","v":0},null,null,null,null,null,null,null,null,null,null,{"$f":"IF(R139>0,2-Q140,0.01)","v":0.01},null,null,null,null,null,{"$f":"IF(U142<1,0.01,IF(S142>P145,2,IF(S142=P145,1,0)))","v":0.01},null,null,{"$f":"IF(X142<1,0.01,IF(V142>P148,2,IF(V142=P148,1,0)))","v":0.01},null,null,null,{"$f":"N143+T143+W143","v":0.03}]
[null,null,null,null,null,null,null,null,null,null,null,null,{"$f":"F155","v":0},null,{"$f":"M142/O142","v":{"$error":"#DIV/0!"}},null,null,null,{"$f":"F145","v":0},null,{"$f":"S142/U142","v":{"$error":"#DIV/0!"}},{"$f":"F152","v":0},null,{"$f":"V142/X142","v":{"$error":"#DIV/0!"}},null,{"$f":"MAXA(M144,S144,V144)","v":0},null,{"$f":"Z142/AB142","v":{"$error":"#DIV/0!"}}]
[null,"Tour 2",{"$f":"C131","v":0},null,null,null,null,null,null,null,{"$f":"C132","v":0},null,{"$f":"D149","v":0},null,{"$f":"E148","v":0},{"$f":"D146","v":0},null,{"$f":"E145","v":0},"B",null,null,{"$f":"D157","v":0},null,{"$f":"E157","v":0},null,{"$f":"M145+P145+V145","v":0},null,{"$f":"O145+R145+X145","v":0},{"$f":"AV145","v":{"$error":"#DIV/0!"}},null,null,null,null,null,null,null,{"$f":"AA146","v":0.03},{"$f":"RANK(AK145,AK$139:AK$150,0)","v":1},{"$f":"AB147","v":{"$error":"#DIV/0!"}},{"$f":"RANK(AM145,AM$139:AM$150,0)","v":{"$error":"#DIV/0!"}},{"$f":"MAX(O147,R147,X147)","v":{"$error":"#DIV/0!"}},{"$f":"RANK(AO145,AO$139:AO$150)","v":{"$error":"#DIV/0!"}},{"$f":"Z147","v":0},{"$f":"RANK(AQ145,AQ$139:AQ$150)","v":1},{"$f":"(AL145*1000)+(AN145*100)+(AP145*10)+(AR145*1)","v":{"$error":"#DIV/0!"}},{"$f":"AS145","v":{"$error":"#DIV/0!"}},{"$f":"RANK(AT145,AT$139:AT$150,1)","v":{"$error":"#DIV/0!"}},{"$error":"#DIV/0!"}]
[null,null,{"$f":"C132","v":0},null,null,null,null,null,null,null,null,null,null,{"$f":"IF(U139>0,2-T140,0.01)","v":0.01},null,null,{"$f":"IF(U142>0,2-T143,0.01)","v":0.01},null,null,null,null,null,{"$f":"IF(X145<1,0.01,IF(V145>S148,2,IF(V145=S148,1,0)))","v":0.01},null,null,null,{"$f":"N146+Q146+W146","v":0.03}]
[null,null,null,null,null,null,null,null,null,null,null,null,{"$f":"F149","v":0},null,{"$f":"M145/O145","v":{"$error":"#DIV/0!"}},{"$f":"F146","v":0},null,{"$f":"P145/R145","v":{"$error":"#DIV/0!"}},null,null,null,{"$f":"F157","v":0},null,{"$f":"V145/X145","v":{"$error":"#DIV/0!"}},null,{"$f":"MAXA(M147,P147,V147)","v":0},null,{"$f":"Z145/AB145","v":{"$error":"#DIV/0!"}}]
[null,"Tour 3",{"$f":"C130","v":0},null,null,null,null,null,null,null,{"$f":"C133","v":0},null,{"$f":"D143","v":0},null,{"$f":"E142","v":0},{"$f":"D151","v":0},null,{"$f":"E151","v":0},{"$f":"D158","v":0},null,{"$f":"E157","v":0},null,null,null,null,{"$f":"M148+P148+S148","v":0},null,{"$f":"O148+R148+U148","v":0},{"$f":"AV148","v":{"$error":"#DIV/0!"}},null,null,null,null,null,null,null,{"$f":"AA149","v":0.03},{"$f":"RANK(AK148,AK$139:AK$150,0)","v":1},{"$f":"AB150","v":{"$error":"#DIV/0!"}},{"$f":"RANK(AM148,AM$139:AM$150,0)","v":{"$error":"#DIV/0!"}},{"$f":"MAX(O150,R150,U150)","v":{"$error":"#DIV/0!"}},{"$f":"RANK(AO148,AO$139:AO$150)","v":{"$error":"#DIV/0!"}},{"$f":"Z150","v":0},{"$f":"RANK(AQ148,AQ$139:AQ$150)","v":1},{"$f":"(AL148*1000)+(AN148*100)+(AP148*10)+(AR148*1)","v":{"$error":"#DIV/0!"}},{"$f":"AS148","v":{"$error":"#DIV/0!"}},{"$f":"RANK(AT148,AT$139:AT$150,1)","v":{"$error":"#DIV/0!"}},{"$error":"#DIV/0!"}]
[null,null,{"$f":"C132","v":0},null,null,null,null,null,null,null,null,null,null,{"$f":"IF(X139>0,2-W140,0.01)","v":0.01},null,null,{"$f":"IF(X142>0,2-W143,0.01)","v":0.01},null,null,{"$f":"IF(X145>0,2-W146,0.01)","v":0.01},null,null,null,null,null,null,{"$f":"N149+Q149+T149","v":0.03}]
[null,null,null,null,null,null,null,null,null,null,null,null,{"$f":"F143","v":0},null,{"$f":"M148/O148","v":{"$error":"#DIV/0!"}},{"$f":"F151","v":0},null,{"$f":"P148/R148","v":{"$error":"#DIV/0!"}},{"$f":"F158","v":0},null,{"$f":"S148/U148","v":{"$error":"#DIV/0!"}},null,null,null,null,{"$f":"MAXA(M150,P150,S150)","v":0},null,{"$f":"Z148/AB148","v":{"$error":"#DIV/0!"}}]
[null,"Tour 4",{"$f":"C133","v":0}]
[null,null,{"$f":"C131","v":0},null,null,null,null,null,null,null,null,null,"Pas de prolongation en cas de match nul."]
[]
[null,"Tour 5",{"$f":"C130","v":0}]
[null,null,{"$f":"C131","v":0}]
[]
[null,"Tour 6",{"$f":"C132","v":0}]
[null,null,{"$f":"C133","v":0}]

{"sheet":"19JOUEURS_SERPENTIN","index":32,"n_rows":158,"n_cols":48,"rows_kept":158,"cut":false,"hidden":true,"merged":[[7,12,7,15],[7,17,7,18],[7,20,7,21],[7,23,7,25],[7,27,7,28],[8,2,8,5],[2,1,3,2],[2,3,3,9],[5,1,6,2],[5,3,6,9],[6,12,6,15],[6,17,6,18],[6,20,6,21],[6,23,6,25],[6,27,6,28],[9,2,9,5],[9,12,9,20],[9,21,9,29],[10,2,10,5],[12,1,13,5],[12,12,15,14],[12,15,15,17],[12,18,15,20],[12,21,15,23],[12,24,15,26],[14,41,14,42],[14,43,14,44],[14,46,15,46],[15,1,16,2],[16,10,18,11],[16,12,18,14],[16,21,18,23],[16,34,18,34],[16,36,18,36],[16,37,18,37],[12,27,15,29],[12,31,15,33],[12,34,15,34],[13,10,15,11],[14,36,14,37],[14,38,14,39],[16,44,18,44],[16,45,18,45],[16,46,18,46],[16,47,18,47],[19,1,20,1],[19,4,20,4],[19,10,21,11],[19,15,21,17],[19,24,21,26],[19,34,21,34],[16,38,18,38],[16,39,18,39],[16,40,18,40],[16,41,18,41],[16,42,18,42],[16,43,18,43],[19,45,21,45],[19,46,21,46],[19,47,21,47],[19,36,21,36],[19,37,21,37],[19,38,21,38],[19,39,21,39],[19,40,21,40],[19,41,21,41],[22,1,23,1],[22,4,23,4],[22,10,24,11],[22,18,24,20],[22,27,24,29],[22,34,24,34],[19,42,21,42],[19,43,21,43],[19,44,21,44],[22,42,24,42],[22,43,24,43],[22,44,24,44],[22,45,24,45],[22,46,24,46],[22,47,24,47],[22,36,24,36],[22,37,24,37],[22,38,24,38],[22,39,24,39],[22,40,24,40],[22,41,24,41],[34,1,35,1],[34,4,35,4],[38,2,38,5],[39,2,39,5],[40,2,40,5],[41,2,41,5],[25,1,26,1],[25,4,26,4],[26,12,26,34],[28,1,29,1],[28,4,29,4],[31,1,32,1],[31,4,32,4],[45,44,45,45],[45,47,46,47],[46,1,47,2],[47,10,49,11],[47,12,49,14],[47,28,49,28],[47,36,49,36],[47,37,49,37],[47,38,49,38],[47,39,49,39],[44,25,46,27],[44,28,46,28],[45,36,45,37],[45,38,45,39],[45,40,45,41],[45,42,45,43],[43,1,44,5],[43,12,46,14],[43,15,46,17],[43,18,46,20],[43,21,46,23],[44,10,46,11],[47,46,49,46],[47,47,49,47],[50,1,51,1],[50,4,51,4],[50,10,52,11],[50,15,52,17],[50,28,52,28],[50,36,52,36],[50,37,52,37],[50,38,52,38],[47,40,49,40],[47,41,49,41],[47,42,49,42],[47,43,49,43],[47,44,49,44],[47,45,49,45],[50,45,52,45],[50,46,52,46],[50,47,52,47],[53,1,54,1],[53,4,54,4],[53,10,55,11],[53,18,55,20],[53,28,55,28],[53,36,55,36],[53,37,55,37],[50,39,52,39],[50,40,52,40],[50,41,52,41],[50,42,52,42],[50,43,52,43],[50,44,52,44],[53,44,55,44],[53,45,55,45],[53,46,55,46],[53,47,55,47],[56,1,57,1],[56,4,57,4],[56,10,58,11],[56,21,58,23],[56,28,58,28],[56,36,58,36],[53,38,55,38],[53,39,55,39],[53,40,55,40],[53,41,55,41],[53,42,55,42],[53,43,55,43],[56,43,58,43],[56,44,58,44],[56,45,58,45],[56,46,58,46],[56,47,58,47],[59,1,60,1],[59,4,60,4],[60,12,60,23],[56,37,58,37],[56,38,58,38],[56,39,58,39],[56,40,58,40],[56,41,58,41],[56,42,58,42],[70,2,70,5],[71,2,71,5],[73,1,74,5],[73,12,76,14],[73,15,76,17],[73,18,76,20],[62,1,63,1],[62,4,63,4],[65,1,66,1],[65,4,66,4],[68,2,68,5],[69,2,69,5],[75,40,75,41],[75,42,75,43],[75,44,75,45],[75,47,76,47],[76,1,77,2],[77,10,79,11],[77,12,79,14],[77,28,79,28],[77,36,79,36],[77,37,79,37],[73,21,76,23],[74,10,76,11],[74,25,76,27],[74,28,76,28],[75,36,75,37],[75,38,75,39],[77,44,79,44],[77,45,79,45],[77,46,79,46],[77,47,79,47],[77,41,79,41],[77,42,79,42],[77,43,79,43],[80,1,81,1],[80,4,81,4],[80,10,82,11],[80,15,82,17],[80,28,82,28],[80,36,82,36],[77,38,79,38],[77,39,79,39],[77,40,79,40],[80,43,82,43],[80,44,82,44],[80,45,82,45],[80,46,82,46],[80,47,82,47],[83,1,84,1],[83,4,84,4],[83,10,85,11],[83,18,85,20],[83,28,85,28],[80,37,82,37],[80,38,82,38],[80,39,82,39],[80,40,82,40],[80,41,82,41],[80,42,82,42],[83,42,85,42],[83,43,85,43],[83,44,85,44],[83,45,85,45],[83,46,85,46],[83,47,85,47],[83,36,85,36],[83,37,85,37],[83,38,85,38],[83,39,85,39],[83,40,85,40],[83,41,85,41],[86,43,88,43],[86,44,88,44],[86,45,88,45],[86,46,88,46],[86,47,88,47],[89,1,90,1],[89,4,90,4],[90,12,90,23],[86,37,88,37],[86,38,88,38],[86,39,88,39],[86,40,88,40],[86,41,88,41],[86,42,88,42],[86,1,87,1],[86,4,87,4],[86,10,88,11],[86,21,88,23],[86,28,88,28],[86,36,88,36],[100,2,100,5],[101,2,101,5],[103,1,104,5],[103,12,106,14],[103,15,106,17],[103,18,106,20],[92,1,93,1],[92,4,93,4],[95,1,96,1],[95,4,96,4],[98,2,98,5],[99,2,99,5],[105,40,105,41],[105,42,105,43],[105,44,105,45],[105,47,106,47],[106,1,107,2],[107,10,109,11],[107,12,109,14],[107,28,109,28],[107,36,109,36],[107,37,109,37],[103,21,106,23],[104,10,106,11],[104,25,106,27],[104,28,106,28],[105,36,105,37],[105,38,105,39],[107,44,109,44],[107,45,109,45],[107,46,109,46],[107,47,109,47],[107,41,109,41],[107,42,109,42],[107,43,109,43],[110,1,111,1],[110,4,111,4],[110,10,112,11],[110,15,112,17],[110,28,112,28],[110,36,112,36],[107,38,109,38],[107,39,109,39],[107,40,109,40],[110,43,112,43],[110,44,112,44],[110,45,112,45],[110,46,112,46],[110,47,112,47],[113,1,114,1],[113,4,114,4],[113,10,115,11],[113,18,115,20],[113,28,115,28],[110,37,112,37],[110,38,112,38],[110,39,112,39],[110,40,112,40],[110,41,112,41],[110,42,112,42],[113,42,115,42],[113,43,115,43],[113,44,115,44],[113,45,115,45],[113,46,115,46],[113,47,115,47],[113,36,115,36],[113,37,115,37],[113,38,115,38],[113,39,115,39],[113,40,115,40],[113,41,115,41],[116,43,118,43],[116,44,118,44],[116,45,118,45],[116,46,118,46],[116,47,118,47],[119,1,120,1],[119,4,120,4],[120,12,120,23],[116,37,118,37],[116,38,118,38],[116,39,118,39],[116,40,118,40],[116,41,118,41],[116,42,118,42],[116,1,117,1],[116,4,117,4],[116,10,118,11],[116,21,118,23],[116,28,118,28],[116,36,118,36],[130,2,130,5],[131,2,131,5],[134,1,135,5],[134,12,137,14],[134,15,137,17],[134,18,137,20],[122,1,123,1],[122,4,123,4],[125,1,126,1],[125,4,126,4],[128,2,128,5],[129,2,129,5],[136,44,136,45],[136,47,137,47],[137,1,138,2],[138,10,140,11],[138,12,140,14],[138,28,140,28],[138,36,140,36],[138,37,140,37],[134,21,137,23],[135,10,137,11],[135,25,137,27],[135,28,137,28],[136,36,136,37],[136,38,136,39],[138,47,140,47],[138,41,140,41],[138,42,140,42],[138,43,140,43],[141,1,142,1],[141,4,142,4],[141,10,143,11],[141,15,143,17],[141,28,143,28],[141,36,143,36],[138,38,140,38],[138,39,140,39],[138,40,140,40],[144,47,146,47],[144,36,146,36],[144,37,146,37],[144,38,146,38],[144,39,146,39],[144,40,146,40],[144,41,146,41],[141,43,143,43],[141,44,143,44],[141,45,143,45],[141,46,143,46],[141,47,143,47],[141,37,143,37],[141,38,143,38],[141,39,143,39],[141,40,143,40],[141,41,143,41],[141,42,143,42],[147,47,149,47],[150,1,151,1],[150,4,151,4],[151,12,151,23],[147,37,149,37],[147,38,149,38],[147,39,149,39],[147,40,149,40],[147,41,149,41],[147,42,149,42],[147,1,148,1],[147,4,148,4],[147,10,149,11],[147,21,149,23],[147,28,149,28],[147,36,149,36],[153,1,154,1],[153,4,154,4],[156,1,157,1],[156,4,157,4],[1,12,4,34],[147,43,149,43],[147,44,149,44],[147,45,149,45],[147,46,149,46],[144,42,146,42],[144,43,146,43],[144,44,146,44],[144,45,146,45],[144,46,146,46],[144,1,145,1],[144,4,145,4],[144,10,146,11],[144,18,146,20],[144,28,146,28],[138,44,140,44],[138,45,140,45],[138,46,140,46],[136,40,136,41],[136,42,136,43]]}
[]
[null,null,null,null,null,null,null,null,null,null,null,null,"LIGUE MÉDITERRANÉENNE DE BILLARD"]
[null,"CLUB ORGANISATEUR"]
[]
[]
[null,"DIRECTEUR DE JEU :"]
[null,null,null,null,null,null,null,null,null,null,null,null,"Compétition",null,null,null,null,"Mode de jeu",null,null,"Categorie",null,null,"Format billard",null,null,null,"Distance"]
[]
[null,"Joueur 1",{"$f":"'Saisie des joueurs'!K18","v":0}]
[null,"Joueur 2",{"$f":"'Saisie des joueurs'!K19","v":0},null,null,null,null,null,null,null,null,null,"MATCH ALLER",null,null,null,null,null,null,null,null,"MATCH RETOUR"]
[null,"Joueur 3",{"$f":"'Saisie des joueurs'!K20","v":0}]
[]
[null,"SAISIE DES RESULTATS",null,null,null,null,null,null,null,null,null,null,{"$f":"C9","v":0},null,null,{"$f":"C10","v":0},null,null,{"$f":"C11","v":0},null,null,{"$f":"C9","v":0},null,null,{"$f":"C10","v":0},null,null,{"$f":"C11","v":0},null,null,null,"TOTAUX",null,null,"CLASSEMENT"]
[]
[null,null,null,null,null,null,null,null,null,null,null,null,null,null,null,null,null,null,null,null,null,null,null,null,null,null,null,null,null,null,null,null,null,null,null,null,"Classement",null,"Classement",null,"Classement","Classement",null,"Classement",null,"GENERAL","RANG"]
[null,"POULE A",null,null,null,null,null,null,null,null,null,null,null,null,null,null,null,null,null,null,null,null,null,null,null,null,null,null,null,null,null,null,null,null,null,null,"Point-Match","CLS-M","Moy-Gen","CLS-G","Moy-Part","M-Series","CLS-S","MGPS","CLS","CLS"]
[null,null,null,null,null,null,null,null,null,null,{"$f":"C9","v":0},null,"L",null,null,{"$f":"D26","v":0},null,{"$f":"E26","v":0},{"$f":"D20","v":0},null,{"$f":"E20","v":0},"L",null,null,{"$f":"D35","v":0},null,{"$f":"E35","v":0},{"$f":"D29","v":0},null,{"$f":"E29","v":0},null,{"$f":"P17+S17+Y17+AB17","v":0},null,{"$f":"R17+U17+AA17+AD17","v":0},{"$f":"AU17","v":{"$error":"#DIV/0!"}},null,{"$f":"AG18","v":0.04},{"$f":"RANK(AK17,AK$17:AK$25,0)","v":1},{"$f":"AH19","v":{"$error":"#DIV/0!"}},{"$f":"RANK(AM17,AM$17:AM$25,0)","v":{"$error":"#DIV/0!"}},{"$f":"MAX(R19,U19,AA19,AD19)","v":{"$error":"#DIV/0!"}},{"$f":"RANK(AO17,AO$17:AO$25)","v":{"$error":"#DIV/0!"}},{"$f":"AF19","v":0},{"$f":"RANK(AQ17,AQ$17:AQ$25)","v":1},{"$f":"(AL17*1000)+(AN17*100)+(AP17*10)+(AR17*1)","v":{"$error":"#DIV/0!"}},{"$f":"AS17","v":{"$error":"#DIV/0!"}},{"$f":"RANK(AT17,AT$17:AT$25,1)","v":{"$error":"#DIV/0!"}},{"$f":"RANK(AU17,AU$17:AU$25,1)","v":{"$error":"#DIV/0!"}}]
[null,null,null,null,null,null,null,null,null,null,null,null,null,null,null,null,{"$f":"IF(R17<1,0.01,IF(P17>M20,2,IF(P17=M20,1,0)))","v":0.01},null,null,{"$f":"IF(U17<1,0.01,IF(S17>M23,2,IF(S17=M23,1,0)))","v":0.01},null,null,null,null,null,{"$f":"IF(AA17<1,0.01,IF(Y17>V20,2,IF(Y17=V20,1,0)))","v":0.01},null,null,{"$f":"IF(AD17<1,0.01,IF(AB17>V23,2,IF(AB17=V23,1,0)))","v":0.01},null,null,null,{"$f":"Q18+T18+Z18+AC18","v":0.04}]
[null,null,null,"Pts","Rep","Série",null,null,null,null,null,null,null,null,null,{"$f":"F26","v":0},null,{"$f":"P17/R17","v":{"$error":"#DIV/0!"}},{"$f":"F20","v":0},null,{"$f":"S17/U17","v":{"$error":"#DIV/0!"}},null,null,null,{"$f":"F35","v":0},null,{"$f":"Y17/AA17","v":{"$error":"#DIV/0!"}},{"$f":"F29","v":0},null,{"$f":"AB17/AD17","v":{"$error":"#DIV/0!"}},null,{"$f":"MAX(P19,S19,Y19,AB19)","v":0},null,{"$f":"AF17/AH17","v":{"$error":"#DIV/0!"}}]
[null,"Tour 1\nMatch aller",{"$f":"C9","v":0},null,null,null,null,null,null,null,{"$f":"C10","v":0},null,{"$f":"D27","v":0},null,{"$f":"E26","v":0},"M",null,null,{"$f":"D23","v":0},null,{"$f":"E23","v":0},{"$f":"D36","v":0},null,{"$f":"E35","v":0},"M",null,null,{"$f":"D32","v":0},null,{"$f":"E32","v":0},null,{"$f":"M20+S20+V20+AB20","v":0},null,{"$f":"O20+U20+X20+AD20","v":0},{"$f":"AU20","v":{"$error":"#DIV/0!"}},null,{"$f":"AG21","v":0.04},{"$f":"RANK(AK20,AK$17:AK$25,0)","v":1},{"$f":"AH22","v":{"$error":"#DIV/0!"}},{"$f":"RANK(AM20,AM$17:AM$25,0)","v":{"$error":"#DIV/0!"}},{"$f":"MAX(R22,U22,AA22,AD22)","v":{"$error":"#DIV/0!"}},{"$f":"RANK(AO20,AO$17:AO$25)","v":{"$error":"#DIV/0!"}},{"$f":"AF22","v":0},{"$f":"RANK(AQ20,AQ$17:AQ$25)","v":1},{"$f":"(AL20*1000)+(AN20*100)+(AP20*10)+(AR20*1)","v":{"$error":"#DIV/0!"}},{"$f":"AS20","v":{"$error":"#DIV/0!"}},{"$f":"RANK(AT20,AT$17:AT$25,1)","v":{"$error":"#DIV/0!"}},{"$f":"RANK(AU20,AU$17:AU$25,1)","v":{"$error":"#DIV/0!"}}]
[null,null,{"$f":"C11","v":0},null,null,null,null,null,null,null,null,null,null,{"$f":"IF(R17>0,2-Q18,0.01)","v":0.01},null,null,null,null,null,{"$f":"IF(U20<1,0.01,IF(S20>P23,2,IF(S20=P23,1,0)))","v":0.01},null,null,{"$f":"IF(AA17>0,2-Z18,0.01)","v":0.01},null,null,null,null,null,{"$f":"IF(AD20<1,0.01,IF(AB20>Y23,2,IF(AB20=Y23,1,0)))","v":0.01},null,null,null,{"$f":"N21+T21+W21+AC21","v":0.04}]
[null,null,null,null,null,null,null,null,null,null,null,null,{"$f":"F27","v":0},null,{"$f":"M20/O20","v":{"$error":"#DIV/0!"}},null,null,null,{"$f":"F23","v":0},null,{"$f":"S20/U20","v":{"$error":"#DIV/0!"}},{"$f":"F36","v":0},null,{"$f":"V20/X20","v":{"$error":"#DIV/0!"}},null,null,null,{"$f":"F32","v":0},null,{"$f":"AB20/AD20","v":{"$error":"#DIV/0!"}},null,{"$f":"MAXA(M22,S22,V22,AB22)","v":0},null,{"$f":"AF20/AH20","v":{"$error":"#DIV/0!"}}]
[null,"Tour 2\nMatch aller",{"$f":"C10","v":0},null,null,null,null,null,null,null,{"$f":"C11","v":0},null,{"$f":"D21","v":0},null,{"$f":"E20","v":0},{"$f":"D24","v":0},null,{"$f":"E23","v":0},"B",null,null,{"$f":"D30","v":0},null,{"$f":"E29","v":0},{"$f":"D33","v":0},null,{"$f":"E32","v":0},"B",null,null,null,{"$f":"M23+P23+V23+Y23","v":0},null,{"$f":"O23+R23+X23+AA23","v":0},{"$f":"AU23","v":{"$error":"#DIV/0!"}},null,{"$f":"AG24","v":0.04},{"$f":"RANK(AK23,AK$17:AK$25,0)","v":1},{"$f":"AH25","v":{"$error":"#DIV/0!"}},{"$f":"RANK(AM23,AM$17:AM$25,0)","v":{"$error":"#DIV/0!"}},{"$f":"MAX(R25,U25,AA25,AD25)","v":{"$error":"#DIV/0!"}},{"$f":"RANK(AO23,AO$17:AO$25)","v":{"$error":"#DIV/0!"}},{"$f":"AF25","v":0},{"$f":"RANK(AQ23,AQ$17:AQ$25)","v":1},{"$f":"(AL23*1000)+(AN23*100)+(AP23*10)+(AR23*1)","v":{"$error":"#DIV/0!"}},{"$f":"AS23","v":{"$error":"#DIV/0!"}},{"$f":"RANK(AT23,AT$17:AT$25,1)","v":{"$error":"#DIV/0!"}},{"$f":"RANK(AU23,AU$17:AU$25,1)","v":{"$error":"#DIV/0!"}}]
[null,null,{"$f":"C11","v":0},null,null,null,null,null,null,null,null,null,null,{"$f":"IF(U17>0,2-T18,0.01)","v":0.01},null,null,{"$f":"IF(U20>0,2-T21,0.01)","v":0.01},null,null,null,null,null,{"$f":"IF(AD17>0,2-AC18,0.01)","v":0.01},null,null,{"$f":"IF(AD20>0,2-AC21,0.01)","v":0.01},null,null,null,null,null,null,{"$f":"N24+Q24+W24+Z24","v":0.04}]
[null,null,null,null,null,null,null,null,null,null,null,null,{"$f":"F21","v":0},null,{"$f":"M23/O23","v":{"$error":"#DIV/0!"}},{"$f":"F24","v":0},null,{"$f":"P23/R23","v":{"$error":"#DIV/0!"}},null,null,null,{"$f":"F30","v":0},null,{"$f":"V23/X23","v":{"$error":"#DIV/0!"}},{"$f":"F33","v":0},null,{"$f":"Y23/AA23","v":{"$error":"#DIV/0!"}},null,null,null,null,{"$f":"MAXA(M25,P25,V25,Y25)","v":0},null,{"$f":"AF23/AH23","v":{"$error":"#DIV/0!"}}]
[null,"Tour 3\nMatch aller",{"$f":"C9","v":0}]
[null,null,{"$f":"C10","v":0},null,null,null,null,null,null,null,null,null,"Pas de prolongation en cas de match nul."]
[]
[null,"Tour 1\nMatch retour",{"$f":"C9","v":0}]
[null,null,{"$f":"C11","v":0}]
[]
[null,"Tour 2\nMatch retour",{"$f":"C10","v":0}]
[null,null,{"$f":"C11","v":0}]
[]
[null,"Tour 3\nMatch retour",{"$f":"C9","v":0}]
[null,null,{"$f":"C10","v":0}]
[]
[]
[null,"Joueur 1",{"$f":"'Saisie des joueurs'!K22","v":0}]
[null,"Joueur 2",{"$f":"'Saisie des joueurs'!K23","v":0}]
[null,"Joueur 3",{"$f":"'Saisie des joueurs'!K24","v":0}]
[null,"Joueur 4",{"$f":"'Saisie des joueurs'!K25","v":0}]
[]
[null,"SAISIE DES RESULTATS",null,null,null,null,null,null,null,null,null,null,{"$f":"C39","v":0},null,null,{"$f":"C40","v":0},null,null,{"$f":"C41","v":0},null,null,{"$f":"C42","v":0}]
[null,null,null,null,null,null,null,null,null,null,null,null,null,null,null,null,null,null,null,null,null,null,null,null,null,"TOTAUX",null,null,"CLASSEMENT"]
[null,null,null,null,null,null,null,null,null,null,null,null,null,null,null,null,null,null,null,null,null,null,null,null,null,null,null,null,null,null,null,null,null,null,null,null,"Classement",null,"Classement",null,"Classement",null,"Classement",null,"Classement",null,"GENERAL","RANG"]
[null,"POULE B",null,null,null,null,null,null,null,null,null,null,null,null,null,null,null,null,null,null,null,null,null,null,null,null,null,null,null,null,null,null,null,null,null,null,"Point-Match","CLS-M","Moy-Gen","CLS-G","Moy-Part","CLS-P","M-Series","CLS-S","MGPS","CLS","CLS"]
[null,null,null,null,null,null,null,null,null,null,{"$f":"C39","v":0},null,"L",null,null,{"$f":"D63","v":0},null,{"$f":"E63","v":0},{"$f":"D57","v":0},null,{"$f":"E57","v":0},{"$f":"D51","v":0},null,{"$f":"E51","v":0},null,{"$f":"P48+S48+V48","v":0},null,{"$f":"R48+U48+X48","v":0},{"$f":"AV48","v":{"$error":"#DIV/0!"}},null,null,null,null,null,null,null,{"$f":"AA49","v":0.03},{"$f":"RANK(AK48,AK$48:AK$59,0)","v":1},{"$f":"AB50","v":{"$error":"#DIV/0!"}},{"$f":"RANK(AM48,AM$48:AM$59,0)","v":{"$error":"#DIV/0!"}},{"$f":"MAX(R50,U50,X50)","v":{"$error":"#DIV/0!"}},{"$f":"RANK(AO48,AO$48:AO$59)","v":{"$error":"#DIV/0!"}},{"$f":"Z50","v":0},{"$f":"RANK(AQ48,AQ$48:AQ$59)","v":1},{"$f":"(AL48*1000)+(AN48*100)+(AP48*10)+(AR48*1)","v":{"$error":"#DIV/0!"}},{"$f":"AS48","v":{"$error":"#DIV/0!"}},{"$f":"RANK(AT48,AT$48:AT$59,1)","v":{"$error":"#DIV/0!"}},{"$f":"RANK(AU48,AU$48:AU$59,1)","v":{"$error":"#DIV/0!"}}]
[null,null,null,null,null,null,null,null,null,null,null,null,null,null,null,null,{"$f":"IF(R48<1,0.01,IF(P48>M51,2,IF(P48=M51,1,0)))","v":0.01},null,null,{"$f":"IF(U48<1,0.01,IF(S48>M54,2,IF(S48=M54,1,0)))","v":0.01},null,null,{"$f":"IF(X48<1,0.01,IF(V48>M57,2,IF(V48=M57,1,0)))","v":0.01},null,null,null,{"$f":"Q49+T49+W49","v":0.03}]
[null,null,null,"Pts","Rep","Série",null,null,null,null,null,null,null,null,null,{"$f":"F63","v":0},null,{"$f":"P48/R48","v":{"$error":"#DIV/0!"}},{"$f":"F57","v":0},null,{"$f":"S48/U48","v":{"$error":"#DIV/0!"}},{"$f":"F51","v":0},null,{"$f":"V48/X48","v":{"$error":"#DIV/0!"}},null,{"$f":"MAX(P50,S50,V50)","v":0},null,{"$f":"Z48/AB48","v":{"$error":"#DIV/0!"}}]
[null,"Tour 1",{"$f":"C39","v":0},null,null,null,null,null,null,null,{"$f":"C40","v":0},null,{"$f":"D64","v":0},null,{"$f":"E63","v":0},"M",null,null,{"$f":"D54","v":0},null,{"$f":"E54","v":0},{"$f":"D61","v":0},null,{"$f":"E60","v":0},null,{"$f":"M51+S51+V51","v":0},null,{"$f":"O51+U51+X51","v":0},{"$f":"AV51","v":{"$error":"#DIV/0!"}},null,null,null,null,null,null,null,{"$f":"AA52","v":0.03},{"$f":"RANK(AK51,AK$48:AK$59,0)","v":1},{"$f":"AB53","v":{"$error":"#DIV/0!"}},{"$f":"RANK(AM51,AM$48:AM$59,0)","v":{"$error":"#DIV/0!"}},{"$f":"MAX(O53,U53,X53)","v":{"$error":"#DIV/0!"}},{"$f":"RANK(AO51,AO$48:AO$59)","v":{"$error":"#DIV/0!"}},{"$f":"Z53","v":0},{"$f":"RANK(AQ51,AQ$48:AQ$59)","v":1},{"$f":"(AL51*1000)+(AN51*100)+(AP51*10)+(AR51*1)","v":{"$error":"#DIV/0!"}},{"$f":"AS51","v":{"$error":"#DIV/0!"}},{"$f":"RANK(AT51,AT$48:AT$59,1)","v":{"$error":"#DIV/0!"}},{"$error":"#DIV/0!"}]
[null,null,{"$f":"C42","v":0},null,null,null,null,null,null,null,null,null,null,{"$f":"IF(R48>0,2-Q49,0.01)","v":0.01},null,null,null,null,null,{"$f":"IF(U51<1,0.01,IF(S51>P54,2,IF(S51=P54,1,0)))","v":0.01},null,null,{"$f":"IF(X51<1,0.01,IF(V51>P57,2,IF(V51=P57,1,0)))","v":0.01},null,null,null,{"$f":"N52+T52+W52","v":0.03}]
[null,null,null,null,null,null,null,null,null,null,null,null,{"$f":"F64","v":0},null,{"$f":"M51/O51","v":{"$error":"#DIV/0!"}},null,null,null,{"$f":"F54","v":0},null,{"$f":"S51/U51","v":{"$error":"#DIV/0!"}},{"$f":"F61","v":0},null,{"$f":"V51/X51","v":{"$error":"#DIV/0!"}},null,{"$f":"MAXA(M53,S53,V53)","v":0},null,{"$f":"Z51/AB51","v":{"$error":"#DIV/0!"}}]
[null,"Tour 2",{"$f":"C40","v":0},null,null,null,null,null,null,null,{"$f":"C41","v":0},null,{"$f":"D58","v":0},null,{"$f":"E57","v":0},{"$f":"D55","v":0},null,{"$f":"E54","v":0},"B",null,null,{"$f":"D66","v":0},null,{"$f":"E66","v":0},null,{"$f":"M54+P54+V54","v":0},null,{"$f":"O54+R54+X54","v":0},{"$f":"AV54","v":{"$error":"#DIV/0!"}},null,null,null,null,null,null,null,{"$f":"AA55","v":0.03},{"$f":"RANK(AK54,AK$48:AK$59,0)","v":1},{"$f":"AB56","v":{"$error":"#DIV/0!"}},{"$f":"RANK(AM54,AM$48:AM$59,0)","v":{"$error":"#DIV/0!"}},{"$f":"MAX(O56,R56,X56)","v":{"$error":"#DIV/0!"}},{"$f":"RANK(AO54,AO$48:AO$59)","v":{"$error":"#DIV/0!"}},{"$f":"Z56","v":0},{"$f":"RANK(AQ54,AQ$48:AQ$59)","v":1},{"$f":"(AL54*1000)+(AN54*100)+(AP54*10)+(AR54*1)","v":{"$error":"#DIV/0!"}},{"$f":"AS54","v":{"$error":"#DIV/0!"}},{"$f":"RANK(AT54,AT$48:AT$59,1)","v":{"$error":"#DIV/0!"}},{"$error":"#DIV/0!"}]
[null,null,{"$f":"C41","v":0},null,null,null,null,null,null,null,null,null,null,{"$f":"IF(U48>0,2-T49,0.01)","v":0.01},null,null,{"$f":"IF(U51>0,2-T52,0.01)","v":0.01},null,null,null,null,null,{"$f":"IF(X54<1,0.01,IF(V54>S57,2,IF(V54=S57,1,0)))","v":0.01},null,null,null,{"$f":"N55+Q55+W55","v":0.03}]
[null,null,null,null,null,null,null,null,null,null,null,null,{"$f":"F58","v":0},null,{"$f":"M54/O54","v":{"$error":"#DIV/0!"}},{"$f":"F55","v":0},null,{"$f":"P54/R54","v":{"$error":"#DIV/0!"}},null,null,null,{"$f":"F66","v":0},null,{"$f":"V54/X54","v":{"$error":"#DIV/0!"}},null,{"$f":"MAXA(M56,P56,V56)","v":0},null,{"$f":"Z54/AB54","v":{"$error":"#DIV/0!"}}]
[null,"Tour 3",{"$f":"C39","v":0},null,null,null,null,null,null,null,{"$f":"C42","v":0},null,{"$f":"D52","v":0},null,{"$f":"E51","v":0},{"$f":"D60","v":0},null,{"$f":"E60","v":0},{"$f":"D67","v":0},null,{"$f":"E66","v":0},null,null,null,null,{"$f":"M57+P57+S57","v":0},null,{"$f":"O57+R57+U57","v":0},{"$f":"AV57","v":{"$error":"#DIV/0!"}},null,null,null,null,null,null,null,{"$f":"AA58","v":0.03},{"$f":"RANK(AK57,AK$48:AK$59,0)","v":1},{"$f":"AB59","v":{"$error":"#DIV/0!"}},{"$f":"RANK(AM57,AM$48:AM$59,0)","v":{"$error":"#DIV/0!"}},{"$f":"MAX(O59,R59,U59)","v":{"$error":"#DIV/0!"}},{"$f":"RANK(AO57,AO$48:AO$59)","v":{"$error":"#DIV/0!"}},{"$f":"Z59","v":0},{"$f":"RANK(AQ57,AQ$48:AQ$59)","v":1},{"$f":"(AL57*1000)+(AN57*100)+(AP57*10)+(AR57*1)","v":{"$error":"#DIV/0!"}},{"$f":"AS57","v":{"$error":"#DIV/0!"}},{"$f":"RANK(AT57,AT$48:AT$59,1)","v":{"$error":"#DIV/0!"}},{"$error":"#DIV/0!"}]
[null,null,{"$f":"C41","v":0},null,null,null,null,null,null,null,null,null,null,{"$f":"IF(X48>0,2-W49,0.01)","v":0.01},null,null,{"$f":"IF(X51>0,2-W52,0.01)","v":0.01},null,null,{"$f":"IF(X54>0,2-W55,0.01)","v":0.01},null,null,null,null,null,null,{"$f":"N58+Q58+T58","v":0.03}]
[null,null,null,null,null,null,null,null,null,null,null,null,{"$f":"F52","v":0},null,{"$f":"M57/O57","v":{"$error":"#DIV/0!"}},{"$f":"F60","v":0},null,{"$f":"P57/R57","v":{"$error":"#DIV/0!"}},{"$f":"F67","v":0},null,{"$f":"S57/U57","v":{"$error":"#DIV/0!"}},null,null,null,null,{"$f":"MAXA(M59,P59,S59)","v":0},null,{"$f":"Z57/AB57","v":{"$error":"#DIV/0!"}}]
[null,"Tour 4",{"$f":"C42","v":0}]
[null,null,{"$f":"C40","v":0},null,null,null,null,null,null,null,null,null,"Pas de prolongation en cas de match nul."]
[]
[null,"Tour 5",{"$f":"C39","v":0}]
[null,null,{"$f":"C40","v":0}]
[]
[null,"Tour 6",{"$f":"C41","v":0}]
[null,null,{"$f":"C42","v":0}]
[]
[null,"Joueur 1",{"$f":"'Saisie des joueurs'!K26","v":0}]
[null,"Joueur 2",{"$f":"'Saisie des joueurs'!K27","v":0}]
[null,"Joueur 3",{"$f":"'Saisie des joueurs'!K28","v":0}]
[null,"Joueur 4",{"$f":"'Saisie des joueurs'!K29","v":0}]
[]
[null,"SAISIE DES RESULTATS",null,null,null,null,null,null,null,null,null,null,{"$f":"C69","v":0},null,null,{"$f":"C70","v":0},null,null,{"$f":"C71","v":0},null,null,{"$f":"C72","v":0}]
[null,null,null,null,null,null,null,null,null,null,null,null,null,null,null,null,null,null,null,null,null,null,null,null,null,"TOTAUX",null,null,"CLASSEMENT"]
[null,null,null,null,null,null,null,null,null,null,null,null,null,null,null,null,null,null,null,null,null,null,null,null,null,null,null,null,null,null,null,null,null,null,null,null,"Classement",null,"Classement",null,"Classement",null,"Classement",null,"Classement",null,"GENERAL","RANG"]
[null,"POULE C",null,null,null,null,null,null,null,null,null,null,null,null,null,null,null,null,null,null,null,null,null,null,null,null,null,null,null,null,null,null,null,null,null,null,"Point-Match","CLS-M","Moy-Gen","CLS-G","Moy-Part","CLS-P","M-Series","CLS-S","MGPS","CLS","CLS"]
[null,null,null,null,null,null,null,null,null,null,{"$f":"C69","v":0},null,"L",null,null,{"$f":"D93","v":0},null,{"$f":"E93","v":0},{"$f":"D87","v":0},null,{"$f":"E87","v":0},{"$f":"D81","v":0},null,{"$f":"E81","v":0},null,{"$f":"P78+S78+V78","v":0},null,{"$f":"R78+U78+X78","v":0},{"$f":"AV78","v":{"$error":"#DIV/0!"}},null,null,null,null,null,null,null,{"$f":"AA79","v":0.03},{"$f":"RANK(AK78,AK$78:AK$89,0)","v":1},{"$f":"AB80","v":{"$error":"#DIV/0!"}},{"$f":"RANK(AM78,AM$78:AM$89,0)","v":{"$error":"#DIV/0!"}},{"$f":"MAX(R80,U80,X80)","v":{"$error":"#DIV/0!"}},{"$f":"RANK(AO78,AO$78:AO$89)","v":{"$error":"#DIV/0!"}},{"$f":"Z80","v":0},{"$f":"RANK(AQ78,AQ$78:AQ$89)","v":1},{"$f":"(AL78*1000)+(AN78*100)+(AP78*10)+(AR78*1)","v":{"$error":"#DIV/0!"}},{"$f":"AS78","v":{"$error":"#DIV/0!"}},{"$f":"RANK(AT78,AT$78:AT$89,1)","v":{"$error":"#DIV/0!"}},{"$f":"RANK(AU78,AU$78:AU$89,1)","v":{"$error":"#DIV/0!"}}]
[null,null,null,null,null,null,null,null,null,null,null,null,null,null,null,null,{"$f":"IF(R78<1,0.01,IF(P78>M81,2,IF(P78=M81,1,0)))","v":0.01},null,null,{"$f":"IF(U78<1,0.01,IF(S78>M84,2,IF(S78=M84,1,0)))","v":0.01},null,null,{"$f":"IF(X78<1,0.01,IF(V78>M87,2,IF(V78=M87,1,0)))","v":0.01},null,null,null,{"$f":"Q79+T79+W79","v":0.03}]
[null,null,null,"Pts","Rep","Série",null,null,null,null,null,null,null,null,null,{"$f":"F93","v":0},null,{"$f":"P78/R78","v":{"$error":"#DIV/0!"}},{"$f":"F87","v":0},null,{"$f":"S78/U78","v":{"$error":"#DIV/0!"}},{"$f":"F81","v":0},null,{"$f":"V78/X78","v":{"$error":"#DIV/0!"}},null,{"$f":"MAX(P80,S80,V80)","v":0},null,{"$f":"Z78/AB78","v":{"$error":"#DIV/0!"}}]
[null,"Tour 1",{"$f":"C69","v":0},null,null,null,null,null,null,null,{"$f":"C70","v":0},null,{"$f":"D94","v":0},null,{"$f":"E93","v":0},"M",null,null,{"$f":"D84","v":0},null,{"$f":"E84","v":0},{"$f":"D91","v":0},null,{"$f":"E90","v":0},null,{"$f":"M81+S81+V81","v":0},null,{"$f":"O81+U81+X81","v":0},{"$f":"AV81","v":{"$error":"#DIV/0!"}},null,null,null,null,null,null,null,{"$f":"AA82","v":0.03},{"$f":"RANK(AK81,AK$78:AK$89,0)","v":1},{"$f":"AB83","v":{"$error":"#DIV/0!"}},{"$f":"RANK(AM81,AM$78:AM$89,0)","v":{"$error":"#DIV/0!"}},{"$f":"MAX(O83,U83,X83)","v":{"$error":"#DIV/0!"}},{"$f":"RANK(AO81,AO$78:AO$89)","v":{"$error":"#DIV/0!"}},{"$f":"Z83","v":0},{"$f":"RANK(AQ81,AQ$78:AQ$89)","v":1},{"$f":"(AL81*1000)+(AN81*100)+(AP81*10)+(AR81*1)","v":{"$error":"#DIV/0!"}},{"$f":"AS81","v":{"$error":"#DIV/0!"}},{"$f":"RANK(AT81,AT$78:AT$89,1)","v":{"$error":"#DIV/0!"}},{"$error":"#DIV/0!"}]
[null,null,{"$f":"C72","v":0},null,null,null,null,null,null,null,null,null,null,{"$f":"IF(R78>0,2-Q79,0.01)","v":0.01},null,null,null,null,null,{"$f":"IF(U81<1,0.01,IF(S81>P84,2,IF(S81=P84,1,0)))","v":0.01},null,null,{"$f":"IF(X81<1,0.01,IF(V81>P87,2,IF(V81=P87,1,0)))","v":0.01},null,null,null,{"$f":"N82+T82+W82","v":0.03}]
[null,null,null,null,null,null,null,null,null,null,null,null,{"$f":"F94","v":0},null,{"$f":"M81/O81","v":{"$error":"#DIV/0!"}},null,null,null,{"$f":"F84","v":0},null,{"$f":"S81/U81","v":{"$error":"#DIV/0!"}},{"$f":"F91","v":0},null,{"$f":"V81/X81","v":{"$error":"#DIV/0!"}},null,{"$f":"MAXA(M83,S83,V83)","v":0},null,{"$f":"Z81/AB81","v":{"$error":"#DIV/0!"}}]
[null,"Tour 2",{"$f":"C70","v":0},null,null,null,null,null,null,null,{"$f":"C71","v":0},null,{"$f":"D88","v":0},null,{"$f":"E87","v":0},{"$f":"D85","v":0},null,{"$f":"E84","v":0},"B",null,null,{"$f":"D96","v":0},null,{"$f":"E96","v":0},null,{"$f":"M84+P84+V84","v":0},null,{"$f":"O84+R84+X84","v":0},{"$f":"AV84","v":{"$error":"#DIV/0!"}},null,null,null,null,null,null,null,{"$f":"AA85","v":0.03},{"$f":"RANK(AK84,AK$78:AK$89,0)","v":1},{"$f":"AB86","v":{"$error":"#DIV/0!"}},{"$f":"RANK(AM84,AM$78:AM$89,0)","v":{"$error":"#DIV/0!"}},{"$f":"MAX(O86,R86,X86)","v":{"$error":"#DIV/0!"}},{"$f":"RANK(AO84,AO$78:AO$89)","v":{"$error":"#DIV/0!"}},{"$f":"Z86","v":0},{"$f":"RANK(AQ84,AQ$78:AQ$89)","v":1},{"$f":"(AL84*1000)+(AN84*100)+(AP84*10)+(AR84*1)","v":{"$error":"#DIV/0!"}},{"$f":"AS84","v":{"$error":"#DIV/0!"}},{"$f":"RANK(AT84,AT$78:AT$89,1)","v":{"$error":"#DIV/0!"}},{"$error":"#DIV/0!"}]
[null,null,{"$f":"C71","v":0},null,null,null,null,null,null,null,null,null,null,{"$f":"IF(U78>0,2-T79,0.01)","v":0.01},null,null,{"$f":"IF(U81>0,2-T82,0.01)","v":0.01},null,null,null,null,null,{"$f":"IF(X84<1,0.01,IF(V84>S87,2,IF(V84=S87,1,0)))","v":0.01},null,null,null,{"$f":"N85+Q85+W85","v":0.03}]
[null,null,null,null,null,null,null,null,null,null,null,null,{"$f":"F88","v":0},null,{"$f":"M84/O84","v":{"$error":"#DIV/0!"}},{"$f":"F85","v":0},null,{"$f":"P84/R84","v":{"$error":"#DIV/0!"}},null,null,null,{"$f":"F96","v":0},null,{"$f":"V84/X84","v":{"$error":"#DIV/0!"}},null,{"$f":"MAXA(M86,P86,V86)","v":0},null,{"$f":"Z84/AB84","v":{"$error":"#DIV/0!"}}]
[null,"Tour 3",{"$f":"C69","v":0},null,null,null,null,null,null,null,{"$f":"C72","v":0},null,{"$f":"D82","v":0},null,{"$f":"E81","v":0},{"$f":"D90","v":0},null,{"$f":"E90","v":0},{"$f":"D97","v":0},null,{"$f":"E96","v":0},null,null,null,null,{"$f":"M87+P87+S87","v":0},null,{"$f":"O87+R87+U87","v":0},{"$f":"AV87","v":{"$error":"#DIV/0!"}},null,null,null,null,null,null,null,{"$f":"AA88","v":0.03},{"$f":"RANK(AK87,AK$78:AK$89,0)","v":1},{"$f":"AB89","v":{"$error":"#DIV/0!"}},{"$f":"RANK(AM87,AM$78:AM$89,0)","v":{"$error":"#DIV/0!"}},{"$f":"MAX(O89,R89,U89)","v":{"$error":"#DIV/0!"}},{"$f":"RANK(AO87,AO$78:AO$89)","v":{"$error":"#DIV/0!"}},{"$f":"Z89","v":0},{"$f":"RANK(AQ87,AQ$78:AQ$89)","v":1},{"$f":"(AL87*1000)+(AN87*100)+(AP87*10)+(AR87*1)","v":{"$error":"#DIV/0!"}},{"$f":"AS87","v":{"$error":"#DIV/0!"}},{"$f":"RANK(AT87,AT$78:AT$89,1)","v":{"$error":"#DIV/0!"}},{"$error":"#DIV/0!"}]
[null,null,{"$f":"C71","v":0},null,null,null,null,null,null,null,null,null,null,{"$f":"IF(X78>0,2-W79,0.01)","v":0.01},null,null,{"$f":"IF(X81>0,2-W82,0.01)","v":0.01},null,null,{"$f":"IF(X84>0,2-W85,0.01)","v":0.01},null,null,null,null,null,null,{"$f":"N88+Q88+T88","v":0.03}]
[null,null,null,null,null,null,null,null,null,null,null,null,{"$f":"F82","v":0},null,{"$f":"M87/O87","v":{"$error":"#DIV/0!"}},{"$f":"F90","v":0},null,{"$f":"P87/R87","v":{"$error":"#DIV/0!"}},{"$f":"F97","v":0},null,{"$f":"S87/U87","v":{"$error":"#DIV/0!"}},null,null,null,null,{"$f":"MAXA(M89,P89,S89)","v":0},null,{"$f":"Z87/AB87","v":{"$error":"#DIV/0!"}}]
[null,"Tour 4",{"$f":"C72","v":0}]
[null,null,{"$f":"C70","v":0},null,null,null,null,null,null,null,null,null,"Pas de prolongation en cas de match nul."]
[]
[null,"Tour 5",{"$f":"C69","v":0}]
[null,null,{"$f":"C70","v":0}]
[]
[null,"Tour 6",{"$f":"C71","v":0}]
[null,null,{"$f":"C72","v":0}]
[]
[null,"Joueur 1",{"$f":"'Saisie des joueurs'!K30","v":0}]
[null,"Joueur 2",{"$f":"'Saisie des joueurs'!K31","v":0}]
[null,"Joueur 3",{"$f":"'Saisie des joueurs'!K32","v":0}]
[null,"Joueur 4",{"$f":"'Saisie des joueurs'!K33","v":0}]
[]
[null,"SAISIE DES RESULTATS",null,null,null,null,null,null,null,null,null,null,{"$f":"C99","v":0},null,null,{"$f":"C100","v":0},null,null,{"$f":"C101","v":0},null,null,{"$f":"C102","v":0}]
[null,null,null,null,null,null,null,null,null,null,null,null,null,null,null,null,null,null,null,null,null,null,null,null,null,"TOTAUX",null,null,"CLASSEMENT"]
[null,null,null,null,null,null,null,null,null,null,null,null,null,null,null,null,null,null,null,null,null,null,null,null,null,null,null,null,null,null,null,null,null,null,null,null,"Classement",null,"Classement",null,"Classement",null,"Classement",null,"Classement",null,"GENERAL","RANG"]
[null,"POULE D",null,null,null,null,null,null,null,null,null,null,null,null,null,null,null,null,null,null,null,null,null,null,null,null,null,null,null,null,null,null,null,null,null,null,"Point-Match","CLS-M","Moy-Gen","CLS-G","Moy-Part","CLS-P","M-Series","CLS-S","MGPS","CLS","CLS"]
[null,null,null,null,null,null,null,null,null,null,{"$f":"C99","v":0},null,"L",null,null,{"$f":"D123","v":0},null,{"$f":"E123","v":0},{"$f":"D117","v":0},null,{"$f":"E117","v":0},{"$f":"D111","v":0},null,{"$f":"E111","v":0},null,{"$f":"P108+S108+V108","v":0},null,{"$f":"R108+U108+X108","v":0},{"$f":"AV108","v":{"$error":"#DIV/0!"}},null,null,null,null,null,null,null,{"$f":"AA109","v":0.03},{"$f":"RANK(AK108,AK$108:AK$119,0)","v":1},{"$f":"AB110","v":{"$error":"#DIV/0!"}},{"$f":"RANK(AM108,AM$108:AM$119,0)","v":{"$error":"#DIV/0!"}},{"$f":"MAX(R110,U110,X110)","v":{"$error":"#DIV/0!"}},{"$f":"RANK(AO108,AO$108:AO$119)","v":{"$error":"#DIV/0!"}},{"$f":"Z110","v":0},{"$f":"RANK(AQ108,AQ$108:AQ$119)","v":1},{"$f":"(AL108*1000)+(AN108*100)+(AP108*10)+(AR108*1)","v":{"$error":"#DIV/0!"}},{"$f":"AS108","v":{"$error":"#DIV/0!"}},{"$f":"RANK(AT108,AT$108:AT$119,1)","v":{"$error":"#DIV/0!"}},{"$f":"RANK(AU108,AU$108:AU$119,1)","v":{"$error":"#DIV/0!"}}]
[null,null,null,null,null,null,null,null,null,null,null,null,null,null,null,null,{"$f":"IF(R108<1,0.01,IF(P108>M111,2,IF(P108=M111,1,0)))","v":0.01},null,null,{"$f":"IF(U108<1,0.01,IF(S108>M114,2,IF(S108=M114,1,0)))","v":0.01},null,null,{"$f":"IF(X108<1,0.01,IF(V108>M117,2,IF(V108=M117,1,0)))","v":0.01},null,null,null,{"$f":"Q109+T109+W109","v":0.03}]
[null,null,null,"Pts","Rep","Série",null,null,null,null,null,null,null,null,null,{"$f":"F123","v":0},null,{"$f":"P108/R108","v":{"$error":"#DIV/0!"}},{"$f":"F117","v":0},null,{"$f":"S108/U108","v":{"$error":"#DIV/0!"}},{"$f":"F111","v":0},null,{"$f":"V108/X108","v":{"$error":"#DIV/0!"}},null,{"$f":"MAX(P110,S110,V110)","v":0},null,{"$f":"Z108/AB108","v":{"$error":"#DIV/0!"}}]
[null,"Tour 1",{"$f":"C99","v":0},null,null,null,null,null,null,null,{"$f":"C100","v":0},null,{"$f":"D124","v":0},null,{"$f":"E123","v":0},"M",null,null,{"$f":"D114","v":0},null,{"$f":"E114","v":0},{"$f":"D121","v":0},null,{"$f":"E120","v":0},null,{"$f":"M111+S111+V111","v":0},null,{"$f":"O111+U111+X111","v":0},{"$f":"AV111","v":{"$error":"#DIV/0!"}},null,null,null,null,null,null,null,{"$f":"AA112","v":0.03},{"$f":"RANK(AK111,AK$108:AK$119,0)","v":1},{"$f":"AB113","v":{"$error":"#DIV/0!"}},{"$f":"RANK(AM111,AM$108:AM$119,0)","v":{"$error":"#DIV/0!"}},{"$f":"MAX(O113,U113,X113)","v":{"$error":"#DIV/0!"}},{"$f":"RANK(AO111,AO$108:AO$119)","v":{"$error":"#DIV/0!"}},{"$f":"Z113","v":0},{"$f":"RANK(AQ111,AQ$108:AQ$119)","v":1},{"$f":"(AL111*1000)+(AN111*100)+(AP111*10)+(AR111*1)","v":{"$error":"#DIV/0!"}},{"$f":"AS111","v":{"$error":"#DIV/0!"}},{"$f":"RANK(AT111,AT$108:AT$119,1)","v":{"$error":"#DIV/0!"}},{"$error":"#DIV/0!"}]
[null,null,{"$f":"C102","v":0},null,null,null,null,null,null,null,null,null,null,{"$f":"IF(R108>0,2-Q109,0.01)","v":0.01},null,null,null,null,null,{"$f":"IF(U111<1,0.01,IF(S111>P114,2,IF(S111=P114,1,0)))","v":0.01},null,null,{"$f":"IF(X111<1,0.01,IF(V111>P117,2,IF(V111=P117,1,0)))","v":0.01},null,null,null,{"$f":"N112+T112+W112","v":0.03}]
[null,null,null,null,null,null,null,null,null,null,null,null,{"$f":"F124","v":0},null,{"$f":"M111/O111","v":{"$error":"#DIV/0!"}},null,null,null,{"$f":"F114","v":0},null,{"$f":"S111/U111","v":{"$error":"#DIV/0!"}},{"$f":"F121","v":0},null,{"$f":"V111/X111","v":{"$error":"#DIV/0!"}},null,{"$f":"MAXA(M113,S113,V113)","v":0},null,{"$f":"Z111/AB111","v":{"$error":"#DIV/0!"}}]
[null,"Tour 2",{"$f":"C100","v":0},null,null,null,null,null,null,null,{"$f":"C101","v":0},null,{"$f":"D118","v":0},null,{"$f":"E117","v":0},{"$f":"D115","v":0},null,{"$f":"E114","v":0},"B",null,null,{"$f":"D126","v":0},null,{"$f":"E126","v":0},null,{"$f":"M114+P114+V114","v":0},null,{"$f":"O114+R114+X114","v":0},{"$f":"AV114","v":{"$error":"#DIV/0!"}},null,null,null,null,null,null,null,{"$f":"AA115","v":0.03},{"$f":"RANK(AK114,AK$108:AK$119,0)","v":1},{"$f":"AB116","v":{"$error":"#DIV/0!"}},{"$f":"RANK(AM114,AM$108:AM$119,0)","v":{"$error":"#DIV/0!"}},{"$f":"MAX(O116,R116,X116)","v":{"$error":"#DIV/0!"}},{"$f":"RANK(AO114,AO$108:AO$119)","v":{"$error":"#DIV/0!"}},{"$f":"Z116","v":0},{"$f":"RANK(AQ114,AQ$108:AQ$119)","v":1},{"$f":"(AL114*1000)+(AN114*100)+(AP114*10)+(AR114*1)","v":{"$error":"#DIV/0!"}},{"$f":"AS114","v":{"$error":"#DIV/0!"}},{"$f":"RANK(AT114,AT$108:AT$119,1)","v":{"$error":"#DIV/0!"}},{"$error":"#DIV/0!"}]
[null,null,{"$f":"C101","v":0},null,null,null,null,null,null,null,null,null,null,{"$f":"IF(U108>0,2-T109,0.01)","v":0.01},null,null,{"$f":"IF(U111>0,2-T112,0.01)","v":0.01},null,null,null,null,null,{"$f":"IF(X114<1,0.01,IF(V114>S117,2,IF(V114=S117,1,0)))","v":0.01},null,null,null,{"$f":"N115+Q115+W115","v":0.03}]
[null,null,null,null,null,null,null,null,null,null,null,null,{"$f":"F118","v":0},null,{"$f":"M114/O114","v":{"$error":"#DIV/0!"}},{"$f":"F115","v":0},null,{"$f":"P114/R114","v":{"$error":"#DIV/0!"}},null,null,null,{"$f":"F126","v":0},null,{"$f":"V114/X114","v":{"$error":"#DIV/0!"}},null,{"$f":"MAXA(M116,P116,V116)","v":0},null,{"$f":"Z114/AB114","v":{"$error":"#DIV/0!"}}]
[null,"Tour 3",{"$f":"C99","v":0},null,null,null,null,null,null,null,{"$f":"C102","v":0},null,{"$f":"D112","v":0},null,{"$f":"E111","v":0},{"$f":"D120","v":0},null,{"$f":"E120","v":0},{"$f":"D127","v":0},null,{"$f":"E126","v":0},null,null,null,null,{"$f":"M117+P117+S117","v":0},null,{"$f":"O117+R117+U117","v":0},{"$f":"AV117","v":{"$error":"#DIV/0!"}},null,null,null,null,null,null,null,{"$f":"AA118","v":0.03},{"$f":"RANK(AK117,AK$108:AK$119,0)","v":1},{"$f":"AB119","v":{"$error":"#DIV/0!"}},{"$f":"RANK(AM117,AM$108:AM$119,0)","v":{"$error":"#DIV/0!"}},{"$f":"MAX(O119,R119,U119)","v":{"$error":"#DIV/0!"}},{"$f":"RANK(AO117,AO$108:AO$119)","v":{"$error":"#DIV/0!"}},{"$f":"Z119","v":0},{"$f":"RANK(AQ117,AQ$108:AQ$119)","v":1},{"$f":"(AL117*1000)+(AN117*100)+(AP117*10)+(AR117*1)","v":{"$error":"#DIV/0!"}},{"$f":"AS117","v":{"$error":"#DIV/0!"}},{"$f":"RANK(AT117,AT$108:AT$119,1)","v":{"$error":"#DIV/0!"}},{"$error":"#DIV/0!"}]
[null,null,{"$f":"C101","v":0},null,null,null,null,null,null,null,null,null,null,{"$f":"IF(X108>0,2-W109,0.01)","v":0.01},null,null,{"$f":"IF(X111>0,2-W112,0.01)","v":0.01},null,null,{"$f":"IF(X114>0,2-W115,0.01)","v":0.01},null,null,null,null,null,null,{"$f":"N118+Q118+T118","v":0.03}]
[null,null,null,null,null,null,null,null,null,null,null,null,{"$f":"F112","v":0},null,{"$f":"M117/O117","v":{"$error":"#DIV/0!"}},{"$f":"F120","v":0},null,{"$f":"P117/R117","v":{"$error":"#DIV/0!"}},{"$f":"F127","v":0},null,{"$f":"S117/U117","v":{"$error":"#DIV/0!"}},null,null,null,null,{"$f":"MAXA(M119,P119,S119)","v":0},null,{"$f":"Z117/AB117","v":{"$error":"#DIV/0!"}}]
[null,"Tour 4",{"$f":"C102","v":0}]
[null,null,{"$f":"C100","v":0},null,null,null,null,null,null,null,null,null,"Pas de prolongation en cas de match nul."]
[]
[null,"Tour 5",{"$f":"C99","v":0}]
[null,null,{"$f":"C100","v":0}]
[]
[null,"Tour 6",{"$f":"C101","v":0}]
[null,null,{"$f":"C102","v":0}]
[]
[null,"Joueur 1",{"$f":"'Saisie des joueurs'!K34","v":0}]
[null,"Joueur 2",{"$f":"'Saisie des joueurs'!K35","v":0}]
[null,"Joueur 3",{"$f":"'Saisie des joueurs'!K36","v":0}]
[null,"Joueur 4",{"$f":"'Saisie des joueurs'!K37","v":0}]
[]
[]
[null,"SAISIE DES RESULTATS",null,null,null,null,null,null,null,null,null,null,{"$f":"C129","v":0},null,null,{"$f":"C130","v":0},null,null,{"$f":"C131","v":0},null,null,{"$f":"C132","v":0}]
[null,null,null,null,null,null,null,null,null,null,null,null,null,null,null,null,null,null,null,null,null,null,null,null,null,"TOTAUX",null,null,"CLASSEMENT"]
[null,null,null,null,null,null,null,null,null,null,null,null,null,null,null,null,null,null,null,null,null,null,null,null,null,null,null,null,null,null,null,null,null,null,null,null,"Classement",null,"Classement",null,"Classement",null,"Classement",null,"Classement",null,"GENERAL","RANG"]
[null,"POULE E",null,null,null,null,null,null,null,null,null,null,null,null,null,null,null,null,null,null,null,null,null,null,null,null,null,null,null,null,null,null,null,null,null,null,"Point-Match","CLS-M","Moy-Gen","CLS-G","Moy-Part","CLS-P","M-Series","CLS-S","MGPS","CLS","CLS"]
[null,null,null,null,null,null,null,null,null,null,{"$f":"C129","v":0},null,"L",null,null,{"$f":"D154","v":0},null,{"$f":"E154","v":0},{"$f":"D148","v":0},null,{"$f":"E148","v":0},{"$f":"D142","v":0},null,{"$f":"E142","v":0},null,{"$f":"P139+S139+V139","v":0},null,{"$f":"R139+U139+X139","v":0},{"$f":"AV139","v":{"$error":"#DIV/0!"}},null,null,null,null,null,null,null,{"$f":"AA140","v":0.03},{"$f":"RANK(AK139,AK$139:AK$150,0)","v":1},{"$f":"AB141","v":{"$error":"#DIV/0!"}},{"$f":"RANK(AM139,AM$139:AM$150,0)","v":{"$error":"#DIV/0!"}},{"$f":"MAX(R141,U141,X141)","v":{"$error":"#DIV/0!"}},{"$f":"RANK(AO139,AO$139:AO$150)","v":{"$error":"#DIV/0!"}},{"$f":"Z141","v":0},{"$f":"RANK(AQ139,AQ$139:AQ$150)","v":1},{"$f":"(AL139*1000)+(AN139*100)+(AP139*10)+(AR139*1)","v":{"$error":"#DIV/0!"}},{"$f":"AS139","v":{"$error":"#DIV/0!"}},{"$f":"RANK(AT139,AT$139:AT$150,1)","v":{"$error":"#DIV/0!"}},{"$f":"RANK(AU139,AU$139:AU$150,1)","v":{"$error":"#DIV/0!"}}]
[null,null,null,null,null,null,null,null,null,null,null,null,null,null,null,null,{"$f":"IF(R139<1,0.01,IF(P139>M142,2,IF(P139=M142,1,0)))","v":0.01},null,null,{"$f":"IF(U139<1,0.01,IF(S139>M145,2,IF(S139=M145,1,0)))","v":0.01},null,null,{"$f":"IF(X139<1,0.01,IF(V139>M148,2,IF(V139=M148,1,0)))","v":0.01},null,null,null,{"$f":"Q140+T140+W140","v":0.03}]
[null,null,null,"Pts","Rep","Série",null,null,null,null,null,null,null,null,null,{"$f":"F154","v":0},null,{"$f":"P139/R139","v":{"$error":"#DIV/0!"}},{"$f":"F148","v":0},null,{"$f":"S139/U139","v":{"$error":"#DIV/0!"}},{"$f":"F142","v":0},null,{"$f":"V139/X139","v":{"$error":"#DIV/0!"}},null,{"$f":"MAX(P141,S141,V141)","v":0},null,{"$f":"Z139/AB139","v":{"$error":"#DIV/0!"}}]
[null,"Tour 1",{"$f":"C129","v":0},null,null,null,null,null,null,null,{"$f":"C130","v":0},null,{"$f":"D155","v":0},null,{"$f":"E154","v":0},"M",null,null,{"$f":"D145","v":0},null,{"$f":"E145","v":0},{"$f":"D152","v":0},null,{"$f":"E151","v":0},null,{"$f":"M142+S142+V142","v":0},null,{"$f":"O142+U142+X142","v":0},{"$f":"AV142","v":{"$error":"#DIV/0!"}},null,null,null,null,null,null,null,{"$f":"AA143","v":0.03},{"$f":"RANK(AK142,AK$139:AK$150,0)","v":1},{"$f":"AB144","v":{"$error":"#DIV/0!"}},{"$f":"RANK(AM142,AM$139:AM$150,0)","v":{"$error":"#DIV/0!"}},{"$f":"MAX(R144,U144,X144)","v":{"$error":"#DIV/0!"}},{"$f":"RANK(AO142,AO$139:AO$150)","v":{"$error":"#DIV/0!"}},{"$f":"Z144","v":0},{"$f":"RANK(AQ142,AQ$139:AQ$150)","v":1},{"$f":"(AL142*1000)+(AN142*100)+(AP142*10)+(AR142*1)","v":{"$error":"#DIV/0!"}},{"$f":"AS142","v":{"$error":"#DIV/0!"}},{"$f":"RANK(AT142,AT$139:AT$150,1)","v":{"$error":"#DIV/0!"}},{"$error":"#DIV/0!"}]
[null,null,{"$f":"C132","v":0},null,null,null,null,null,null,null,null,null,null,{"$f":"IF(R139>0,2-Q140,0.01)","v":0.01},null,null,null,null,null,{"$f":"IF(U142<1,0.01,IF(S142>P145,2,IF(S142=P145,1,0)))","v":0.01},null,null,{"$f":"IF(X142<1,0.01,IF(V142>P148,2,IF(V142=P148,1,0)))","v":0.01},null,null,null,{"$f":"N143+T143+W143","v":0.03}]
[null,null,null,null,null,null,null,null,null,null,null,null,{"$f":"F155","v":0},null,{"$f":"M142/O142","v":{"$error":"#DIV/0!"}},null,null,null,{"$f":"F145","v":0},null,{"$f":"S142/U142","v":{"$error":"#DIV/0!"}},{"$f":"F152","v":0},null,{"$f":"V142/X142","v":{"$error":"#DIV/0!"}},null,{"$f":"MAXA(M144,S144,V144)","v":0},null,{"$f":"Z142/AB142","v":{"$error":"#DIV/0!"}}]
[null,"Tour 2",{"$f":"C130","v":0},null,null,null,null,null,null,null,{"$f":"C131","v":0},null,{"$f":"D149","v":0},null,{"$f":"E148","v":0},{"$f":"D146","v":0},null,{"$f":"E145","v":0},"B",null,null,{"$f":"D157","v":0},null,{"$f":"E157","v":0},null,{"$f":"M145+P145+V145","v":0},null,{"$f":"O145+R145+X145","v":0},{"$f":"AV145","v":{"$error":"#DIV/0!"}},null,null,null,null,null,null,null,{"$f":"AA146","v":0.03},{"$f":"RANK(AK145,AK$139:AK$150,0)","v":1},{"$f":"AB147","v":{"$error":"#DIV/0!"}},{"$f":"RANK(AM145,AM$139:AM$150,0)","v":{"$error":"#DIV/0!"}},{"$f":"MAX(R147,U147,X147)","v":{"$error":"#DIV/0!"}},{"$f":"RANK(AO145,AO$139:AO$150)","v":{"$error":"#DIV/0!"}},{"$f":"Z147","v":0},{"$f":"RANK(AQ145,AQ$139:AQ$150)","v":1},{"$f":"(AL145*1000)+(AN145*100)+(AP145*10)+(AR145*1)","v":{"$error":"#DIV/0!"}},{"$f":"AS145","v":{"$error":"#DIV/0!"}},{"$f":"RANK(AT145,AT$139:AT$150,1)","v":{"$error":"#DIV/0!"}},{"$error":"#DIV/0!"}]
[null,null,{"$f":"C131","v":0},null,null,null,null,null,null,null,null,null,null,{"$f":"IF(U139>0,2-T140,0.01)","v":0.01},null,null,{"$f":"IF(U142>0,2-T143,0.01)","v":0.01},null,null,null,null,null,{"$f":"IF(X145<1,0.01,IF(V145>S148,2,IF(V145=S148,1,0)))","v":0.01},null,null,null,{"$f":"N146+Q146+W146","v":0.03}]
[null,null,null,null,null,null,null,null,null,null,null,null,{"$f":"F149","v":0},null,{"$f":"M145/O145","v":{"$error":"#DIV/0!"}},{"$f":"F146","v":0},null,{"$f":"P145/R145","v":{"$error":"#DIV/0!"}},null,null,null,{"$f":"F157","v":0},null,{"$f":"V145/X145","v":{"$error":"#DIV/0!"}},null,{"$f":"MAXA(M147,P147,V147)","v":0},null,{"$f":"Z145/AB145","v":{"$error":"#DIV/0!"}}]
[null,"Tour 3",{"$f":"C129","v":0},null,null,null,null,null,null,null,{"$f":"C132","v":0},null,{"$f":"D143","v":0},null,{"$f":"E142","v":0},{"$f":"D151","v":0},null,{"$f":"E151","v":0},{"$f":"D158","v":0},null,{"$f":"E157","v":0},null,null,null,null,{"$f":"M148+P148+S148","v":0},null,{"$f":"O148+R148+U148","v":0},{"$f":"AV148","v":{"$error":"#DIV/0!"}},null,null,null,null,null,null,null,{"$f":"AA149","v":0.03},{"$f":"RANK(AK148,AK$139:AK$150,0)","v":1},{"$f":"AB150","v":{"$error":"#DIV/0!"}},{"$f":"RANK(AM148,AM$139:AM$150,0)","v":{"$error":"#DIV/0!"}},{"$f":"MAX(R150,U150,X150)","v":{"$error":"#DIV/0!"}},{"$f":"RANK(AO148,AO$139:AO$150)","v":{"$error":"#DIV/0!"}},{"$f":"Z150","v":0},{"$f":"RANK(AQ148,AQ$139:AQ$150)","v":1},{"$f":"(AL148*1000)+(AN148*100)+(AP148*10)+(AR148*1)","v":{"$error":"#DIV/0!"}},{"$f":"AS148","v":{"$error":"#DIV/0!"}},{"$f":"RANK(AT148,AT$139:AT$150,1)","v":{"$error":"#DIV/0!"}},{"$error":"#DIV/0!"}]
[null,null,{"$f":"C131","v":0},null,null,null,null,null,null,null,null,null,null,{"$f":"IF(X139>0,2-W140,0.01)","v":0.01},null,null,{"$f":"IF(X142>0,2-W143,0.01)","v":0.01},null,null,{"$f":"IF(X145>0,2-W146,0.01)","v":0.01},null,null,null,null,null,null,{"$f":"N149+Q149+T149","v":0.03}]
[null,null,null,null,null,null,null,null,null,null,null,null,{"$f":"F143","v":0},null,{"$f":"M148/O148","v":{"$error":"#DIV/0!"}},{"$f":"F151","v":0},null,{"$f":"P148/R148","v":{"$error":"#DIV/0!"}},{"$f":"F158","v":0},null,{"$f":"S148/U148","v":{"$error":"#DIV/0!"}},null,null,null,null,{"$f":"MAXA(M150,P150,S150)","v":0},null,{"$f":"Z148/AB148","v":{"$error":"#DIV/0!"}}]
[null,"Tour 4",{"$f":"C132","v":0}]
[null,null,{"$f":"C130","v":0},null,null,null,null,null,null,null,null,null,"Pas de prolongation en cas de match nul."]
[]
[null,"Tour 5",{"$f":"C129","v":0}]
[null,null,{"$f":"C130","v":0}]
[]
[null,"Tour 6",{"$f":"C131","v":0}]
[null,null,{"$f":"C132","v":0}]

{"sheet":"20JOUEURS_SERPENTIN","index":33,"n_rows":158,"n_cols":42,"rows_kept":158,"cut":false,"hidden":true,"merged":[[7,23,7,25],[7,27,7,28],[8,2,8,5],[2,1,3,2],[2,3,3,9],[5,1,6,2],[5,3,6,9],[6,12,6,15],[6,17,6,18],[6,20,6,21],[6,23,6,25],[6,27,6,28],[9,2,9,5],[10,2,10,5],[11,2,11,5],[13,1,14,5],[13,10,16,11],[13,12,16,14],[7,12,7,15],[7,17,7,18],[7,20,7,21],[15,32,15,33],[15,34,15,35],[15,36,15,37],[15,38,15,39],[15,41,16,41],[16,1,17,2],[17,10,19,11],[17,12,19,14],[17,28,19,28],[17,30,19,30],[13,15,16,17],[13,18,16,20],[13,21,16,23],[13,25,16,27],[13,28,16,28],[15,30,15,31],[17,37,19,37],[17,38,19,38],[17,39,19,39],[17,40,19,40],[17,41,19,41],[17,35,19,35],[17,36,19,36],[20,1,21,1],[20,4,21,4],[20,10,22,11],[20,15,22,17],[20,28,22,28],[17,31,19,31],[17,32,19,32],[17,33,19,33],[17,34,19,34],[23,30,25,30],[26,38,28,38],[26,39,28,39],[20,36,22,36],[20,37,22,37],[20,38,22,38],[20,39,22,39],[20,40,22,40],[20,41,22,41],[20,30,22,30],[20,31,22,31],[20,32,22,32],[20,33,22,33],[20,34,22,34],[20,35,22,35],[26,40,28,40],[26,41,28,41],[26,30,28,30],[26,31,28,31],[26,32,28,32],[26,33,28,33],[26,34,28,34],[26,35,28,35],[29,1,30,1],[29,4,30,4],[30,12,30,23],[23,37,25,37],[23,38,25,38],[23,39,25,39],[23,40,25,40],[23,41,25,41],[26,1,27,1],[26,4,27,4],[26,10,28,11],[26,21,28,23],[26,28,28,28],[23,31,25,31],[23,32,25,32],[23,33,25,33],[23,34,25,34],[23,35,25,35],[23,36,25,36],[23,1,24,1],[23,4,24,4],[23,10,25,11],[23,18,25,20],[23,28,25,28],[47,30,49,30],[47,31,49,31],[32,1,33,1],[32,4,33,4],[35,1,36,1],[35,4,36,4],[26,36,28,36],[26,37,28,37],[44,10,46,11],[44,25,46,27],[44,28,46,28],[38,2,38,5],[39,2,39,5],[40,2,40,5],[41,2,41,5],[43,1,44,5],[43,12,46,14],[46,1,47,2],[47,10,49,11],[47,12,49,14],[45,30,45,31],[45,32,45,33],[45,34,45,35],[45,36,45,37],[47,32,49,32],[47,33,49,33],[53,37,55,37],[53,38,55,38],[45,38,45,39],[45,41,46,41],[43,15,46,17],[43,18,46,20],[43,21,46,23],[47,41,49,41],[47,35,49,35],[47,36,49,36],[47,37,49,37],[47,38,49,38],[47,39,49,39],[47,40,49,40],[47,28,49,28],[53,33,55,33],[53,34,55,34],[47,34,49,34],[50,40,52,40],[50,41,52,41],[50,35,52,35],[50,36,52,36],[53,1,54,1],[53,4,54,4],[53,10,55,11],[53,18,55,20],[53,28,55,28],[53,30,55,30],[53,31,55,31],[53,32,55,32],[50,34,52,34],[50,1,51,1],[50,4,51,4],[50,10,52,11],[50,15,52,17],[50,28,52,28],[50,30,52,30],[50,31,52,31],[50,32,52,32],[50,33,52,33],[50,37,52,37],[50,38,52,38],[50,39,52,39],[53,39,55,39],[53,40,55,40],[53,41,55,41],[53,35,55,35],[53,36,55,36],[56,38,58,38],[56,39,58,39],[56,40,58,40],[56,41,58,41],[59,1,60,1],[59,4,60,4],[60,12,60,23],[56,32,58,32],[56,33,58,33],[56,34,58,34],[56,35,58,35],[56,36,58,36],[56,37,58,37],[56,1,57,1],[56,4,57,4],[56,10,58,11],[56,21,58,23],[56,28,58,28],[56,30,58,30],[56,31,58,31],[70,2,70,5],[71,2,71,5],[73,1,74,5],[73,12,76,14],[73,15,76,17],[73,18,76,20],[62,1,63,1],[62,4,63,4],[65,1,66,1],[65,4,66,4],[68,2,68,5],[69,2,69,5],[75,34,75,35],[75,36,75,37],[75,38,75,39],[75,41,76,41],[76,1,77,2],[77,10,79,11],[77,12,79,14],[77,28,79,28],[77,30,79,30],[77,31,79,31],[73,21,76,23],[74,10,76,11],[74,25,76,27],[74,28,76,28],[75,30,75,31],[75,32,75,33],[77,38,79,38],[77,39,79,39],[77,40,79,40],[77,41,79,41],[77,35,79,35],[77,36,79,36],[77,37,79,37],[80,1,81,1],[80,4,81,4],[80,10,82,11],[80,15,82,17],[80,28,82,28],[80,30,82,30],[77,32,79,32],[77,33,79,33],[77,34,79,34],[80,37,82,37],[80,38,82,38],[80,39,82,39],[80,40,82,40],[80,41,82,41],[83,1,84,1],[83,4,84,4],[83,10,85,11],[83,18,85,20],[83,28,85,28],[80,31,82,31],[80,32,82,32],[80,33,82,33],[80,34,82,34],[80,35,82,35],[80,36,82,36],[83,36,85,36],[83,37,85,37],[83,38,85,38],[83,39,85,39],[83,40,85,40],[83,41,85,41],[83,30,85,30],[83,31,85,31],[83,32,85,32],[83,33,85,33],[83,34,85,34],[83,35,85,35],[86,37,88,37],[86,38,88,38],[86,39,88,39],[86,40,88,40],[86,41,88,41],[89,1,90,1],[89,4,90,4],[90,12,90,23],[86,31,88,31],[86,32,88,32],[86,33,88,33],[86,34,88,34],[86,35,88,35],[86,36,88,36],[86,1,87,1],[86,4,87,4],[86,10,88,11],[86,21,88,23],[86,28,88,28],[86,30,88,30],[100,2,100,5],[101,2,101,5],[103,1,104,5],[103,12,106,14],[103,15,106,17],[103,18,106,20],[92,1,93,1],[92,4,93,4],[95,1,96,1],[95,4,96,4],[98,2,98,5],[99,2,99,5],[105,34,105,35],[105,36,105,37],[105,38,105,39],[105,41,106,41],[106,1,107,2],[107,10,109,11],[107,12,109,14],[107,28,109,28],[107,30,109,30],[107,31,109,31],[103,21,106,23],[104,10,106,11],[104,25,106,27],[104,28,106,28],[105,30,105,31],[105,32,105,33],[107,38,109,38],[107,39,109,39],[107,40,109,40],[107,41,109,41],[107,35,109,35],[107,36,109,36],[107,37,109,37],[110,1,111,1],[110,4,111,4],[110,10,112,11],[110,15,112,17],[110,28,112,28],[110,30,112,30],[107,32,109,32],[107,33,109,33],[107,34,109,34],[110,37,112,37],[110,38,112,38],[110,39,112,39],[110,40,112,40],[110,41,112,41],[113,1,114,1],[113,4,114,4],[113,10,115,11],[113,18,115,20],[113,28,115,28],[110,31,112,31],[110,32,112,32],[110,33,112,33],[110,34,112,34],[110,35,112,35],[110,36,112,36],[113,36,115,36],[113,37,115,37],[113,38,115,38],[113,39,115,39],[113,40,115,40],[113,41,115,41],[113,30,115,30],[113,31,115,31],[113,32,115,32],[113,33,115,33],[113,34,115,34],[113,35,115,35],[116,37,118,37],[116,38,118,38],[116,39,118,39],[116,40,118,40],[116,41,118,41],[119,1,120,1],[119,4,120,4],[120,12,120,23],[116,31,118,31],[116,32,118,32],[116,33,118,33],[116,34,118,34],[116,35,118,35],[116,36,118,36],[116,1,117,1],[116,4,117,4],[116,10,118,11],[116,21,118,23],[116,28,118,28],[116,30,118,30],[130,2,130,5],[131,2,131,5],[134,1,135,5],[134,12,137,14],[134,15,137,17],[134,18,137,20],[122,1,123,1],[122,4,123,4],[125,1,126,1],[125,4,126,4],[128,2,128,5],[129,2,129,5],[136,38,136,39],[136,41,137,41],[137,1,138,2],[138,10,140,11],[138,12,140,14],[138,28,140,28],[138,30,140,30],[138,31,140,31],[134,21,137,23],[135,10,137,11],[135,25,137,27],[135,28,137,28],[136,30,136,31],[136,32,136,33],[138,41,140,41],[138,35,140,35],[138,36,140,36],[138,37,140,37],[141,1,142,1],[141,4,142,4],[141,10,143,11],[141,15,143,17],[141,28,143,28],[141,30,143,30],[138,32,140,32],[138,33,140,33],[138,34,140,34],[144,41,146,41],[144,30,146,30],[144,31,146,31],[144,32,146,32],[144,33,146,33],[144,34,146,34],[144,35,146,35],[141,37,143,37],[141,38,143,38],[141,39,143,39],[141,40,143,40],[141,41,143,41],[141,31,143,31],[141,32,143,32],[141,33,143,33],[141,34,143,34],[141,35,143,35],[141,36,143,36],[147,41,149,41],[150,1,151,1],[150,4,151,4],[151,12,151,23],[147,31,149,31],[147,32,149,32],[147,33,149,33],[147,34,149,34],[147,35,149,35],[147,36,149,36],[147,1,148,1],[147,4,148,4],[147,10,149,11],[147,21,149,23],[147,28,149,28],[147,30,149,30],[153,1,154,1],[153,4,154,4],[156,1,157,1],[156,4,157,4],[1,12,4,28],[147,37,149,37],[147,38,149,38],[147,39,149,39],[147,40,149,40],[144,36,146,36],[144,37,146,37],[144,38,146,38],[144,39,146,39],[144,40,146,40],[144,1,145,1],[144,4,145,4],[144,10,146,11],[144,18,146,20],[144,28,146,28],[138,38,140,38],[138,39,140,39],[138,40,140,40],[136,34,136,35],[136,36,136,37]]}
[]
[null,null,null,null,null,null,null,null,null,null,null,null,"LIGUE MÉDITERRANÉENNE DE BILLARD"]
[null,"CLUB ORGANISATEUR"]
[]
[]
[null,"DIRECTEUR DE JEU :"]
[null,null,null,null,null,null,null,null,null,null,null,null,"Compétition",null,null,null,null,"Mode de jeu",null,null,"Categorie",null,null,"Format billard",null,null,null,"Distance"]
[]
[null,"Joueur 1",{"$f":"'Saisie des joueurs'!K18","v":0}]
[null,"Joueur 2",{"$f":"'Saisie des joueurs'!K19","v":0}]
[null,"Joueur 3",{"$f":"'Saisie des joueurs'!K20","v":0}]
[null,"Joueur 4",{"$f":"'Saisie des joueurs'!K21","v":0}]
[]
[null,"SAISIE DES RESULTATS",null,null,null,null,null,null,null,null,null,null,{"$f":"C9","v":0},null,null,{"$f":"C10","v":0},null,null,{"$f":"C11","v":0},null,null,{"$f":"C12","v":0},null,null,null,"TOTAUX",null,null,"CLASSEMENT"]
[]
[null,null,null,null,null,null,null,null,null,null,null,null,null,null,null,null,null,null,null,null,null,null,null,null,null,null,null,null,null,null,"Classement",null,"Classement",null,"Classement",null,"Classement",null,"Classement",null,"GENERAL","RANG"]
[null,"POULE A",null,null,null,null,null,null,null,null,null,null,null,null,null,null,null,null,null,null,null,null,null,null,null,null,null,null,null,null,"Point-Match","CLS-M","Moy-Gen","CLS-G","Moy-Part","CLS-P","M-Series","CLS-S","MGPS","CLS","CLS"]
[null,null,null,null,null,null,null,null,null,null,{"$f":"C9","v":0},null,"L",null,null,{"$f":"D33","v":0},null,{"$f":"E33","v":0},{"$f":"D27","v":0},null,{"$f":"E27","v":0},{"$f":"D21","v":0},null,{"$f":"E21","v":0},null,{"$f":"P18+S18+V18","v":0},null,{"$f":"R18+U18+X18","v":0},{"$f":"AP18","v":{"$error":"#DIV/0!"}},null,{"$f":"AA19","v":0.03},{"$f":"RANK(AE18,AE$18:AE$29,0)","v":1},{"$f":"AB20","v":{"$error":"#DIV/0!"}},{"$f":"RANK(AG18,AG$18:AG$29,0)","v":{"$error":"#DIV/0!"}},{"$f":"MAX(R20,U20,X20)","v":{"$error":"#DIV/0!"}},{"$f":"RANK(AI18,AI$18:AI$29)","v":{"$error":"#DIV/0!"}},{"$f":"Z20","v":0},{"$f":"RANK(AK18,AK$18:AK$29)","v":1},{"$f":"(AF18*1000)+(AH18*100)+(AJ18*10)+(AL18*1)","v":{"$error":"#DIV/0!"}},{"$f":"AM18","v":{"$error":"#DIV/0!"}},{"$f":"RANK(AN18,AN$18:AN$29,1)","v":{"$error":"#DIV/0!"}},{"$f":"RANK(AO18,AO$18:AO$29,1)","v":{"$error":"#DIV/0!"}}]
[null,null,null,null,null,null,null,null,null,null,null,null,null,null,null,null,{"$f":"IF(R18<1,0.01,IF(P18>M21,2,IF(P18=M21,1,0)))","v":0.01},null,null,{"$f":"IF(U18<1,0.01,IF(S18>M24,2,IF(S18=M24,1,0)))","v":0.01},null,null,{"$f":"IF(X18<1,0.01,IF(V18>M27,2,IF(V18=M27,1,0)))","v":0.01},null,null,null,{"$f":"Q19+T19+W19","v":0.03}]
[null,null,null,null,null,null,null,null,null,null,null,null,null,null,null,{"$f":"F33","v":0},null,{"$f":"P18/R18","v":{"$error":"#DIV/0!"}},{"$f":"F27","v":0},null,{"$f":"S18/U18","v":{"$error":"#DIV/0!"}},{"$f":"F21","v":0},null,{"$f":"V18/X18","v":{"$error":"#DIV/0!"}},null,{"$f":"MAX(P20,S20,V20)","v":0},null,{"$f":"Z18/AB18","v":{"$error":"#DIV/0!"}}]
[null,"Tour 1",{"$f":"C9","v":0},null,null,null,null,null,null,null,{"$f":"C10","v":0},null,{"$f":"D34","v":0},null,{"$f":"E33","v":0},"M",null,null,{"$f":"D24","v":0},null,{"$f":"E24","v":0},{"$f":"D31","v":0},null,{"$f":"E30","v":0},null,{"$f":"M21+S21+V21","v":0},null,{"$f":"O21+U21+X21","v":0},{"$f":"AP21","v":{"$error":"#DIV/0!"}},null,{"$f":"AA22","v":0.03},{"$f":"RANK(AE21,AE$18:AE$29,0)","v":1},{"$f":"AB23","v":{"$error":"#DIV/0!"}},{"$f":"RANK(AG21,AG$18:AG$29,0)","v":{"$error":"#DIV/0!"}},{"$f":"MAX(O23,U23,X23)","v":{"$error":"#DIV/0!"}},{"$f":"RANK(AI21,AI$18:AI$29)","v":{"$error":"#DIV/0!"}},{"$f":"Z23","v":0},{"$f":"RANK(AK21,AK$18:AK$29)","v":1},{"$f":"(AF21*1000)+(AH21*100)+(AJ21*10)+(AL21*1)","v":{"$error":"#DIV/0!"}},{"$f":"AM21","v":{"$error":"#DIV/0!"}},{"$f":"RANK(AN21,AN$18:AN$29,1)","v":{"$error":"#DIV/0!"}},{"$f":"RANK(AO21,AO$18:AO$29,1)","v":{"$error":"#DIV/0!"}}]
[null,null,{"$f":"C12","v":0},null,null,null,null,null,null,null,null,null,null,{"$f":"IF(R18>0,2-Q19,0.01)","v":0.01},null,null,null,null,null,{"$f":"IF(U21<1,0.01,IF(S21>P24,2,IF(S21=P24,1,0)))","v":0.01},null,null,{"$f":"IF(X21<1,0.01,IF(V21>P27,2,IF(V21=P27,1,0)))","v":0.01},null,null,null,{"$f":"N22+T22+W22","v":0.03}]
[null,null,null,null,null,null,null,null,null,null,null,null,{"$f":"F34","v":0},null,{"$f":"M21/O21","v":{"$error":"#DIV/0!"}},null,null,null,{"$f":"F24","v":0},null,{"$f":"S21/U21","v":{"$error":"#DIV/0!"}},{"$f":"F31","v":0},null,{"$f":"V21/X21","v":{"$error":"#DIV/0!"}},null,{"$f":"MAXA(M23,S23,V23)","v":0},null,{"$f":"Z21/AB21","v":{"$error":"#DIV/0!"}}]
[null,"Tour 2",{"$f":"C10","v":0},null,null,null,null,null,null,null,{"$f":"C11","v":0},null,{"$f":"D28","v":0},null,{"$f":"E27","v":0},{"$f":"D25","v":0},null,{"$f":"E24","v":0},"B",null,null,{"$f":"D36","v":0},null,{"$f":"E36","v":0},null,{"$f":"M24+P24+V24","v":0},null,{"$f":"O24+R24+X24","v":0},{"$f":"AP24","v":{"$error":"#DIV/0!"}},null,{"$f":"AA25","v":0.03},{"$f":"RANK(AE24,AE$18:AE$29,0)","v":1},{"$f":"AB26","v":{"$error":"#DIV/0!"}},{"$f":"RANK(AG24,AG$18:AG$29,0)","v":{"$error":"#DIV/0!"}},{"$f":"MAX(O26,R26,X26)","v":{"$error":"#DIV/0!"}},{"$f":"RANK(AI24,AI$18:AI$29)","v":{"$error":"#DIV/0!"}},{"$f":"Z26","v":0},{"$f":"RANK(AK24,AK$18:AK$29)","v":1},{"$f":"(AF24*1000)+(AH24*100)+(AJ24*10)+(AL24*1)","v":{"$error":"#DIV/0!"}},{"$f":"AM24","v":{"$error":"#DIV/0!"}},{"$f":"RANK(AN24,AN$18:AN$29,1)","v":{"$error":"#DIV/0!"}},{"$f":"RANK(AO24,AO$18:AO$29,1)","v":{"$error":"#DIV/0!"}}]
[null,null,{"$f":"C11","v":0},null,null,null,null,null,null,null,null,null,null,{"$f":"IF(U18>0,2-T19,0.01)","v":0.01},null,null,{"$f":"IF(U21>0,2-T22,0.01)","v":0.01},null,null,null,null,null,{"$f":"IF(X24<1,0.01,IF(V24>S27,2,IF(V24=S27,1,0)))","v":0.01},null,null,null,{"$f":"N25+Q25+W25","v":0.03}]
[null,null,null,null,null,null,null,null,null,null,null,null,{"$f":"F28","v":0},null,{"$f":"M24/O24","v":{"$error":"#DIV/0!"}},{"$f":"F25","v":0},null,{"$f":"P24/R24","v":{"$error":"#DIV/0!"}},null,null,null,{"$f":"F36","v":0},null,{"$f":"V24/X24","v":{"$error":"#DIV/0!"}},null,{"$f":"MAXA(M26,P26,V26)","v":0},null,{"$f":"Z24/AB24","v":{"$error":"#DIV/0!"}}]
[null,"Tour 3",{"$f":"C9","v":0},null,null,null,null,null,null,null,{"$f":"C12","v":0},null,{"$f":"D22","v":0},null,{"$f":"E21","v":0},{"$f":"D30","v":0},null,{"$f":"E30","v":0},{"$f":"D37","v":0},null,{"$f":"E36","v":0},null,null,null,null,{"$f":"M27+P27+S27","v":0},null,{"$f":"O27+R27+U27","v":0},{"$f":"AP27","v":{"$error":"#DIV/0!"}},null,{"$f":"AA28","v":0.03},{"$f":"RANK(AE27,AE$18:AE$29,0)","v":1},{"$f":"AB29","v":{"$error":"#DIV/0!"}},{"$f":"RANK(AG27,AG$18:AG$29,0)","v":{"$error":"#DIV/0!"}},{"$f":"MAX(O29,R29,U29)","v":{"$error":"#DIV/0!"}},{"$f":"RANK(AI27,AI$18:AI$29)","v":{"$error":"#DIV/0!"}},{"$f":"Z29","v":0},{"$f":"RANK(AK27,AK$18:AK$29)","v":1},{"$f":"(AF27*1000)+(AH27*100)+(AJ27*10)+(AL27*1)","v":{"$error":"#DIV/0!"}},{"$f":"AM27","v":{"$error":"#DIV/0!"}},{"$f":"RANK(AN27,AN$18:AN$29,1)","v":{"$error":"#DIV/0!"}},{"$f":"RANK(AO27,AO$18:AO$29,1)","v":{"$error":"#DIV/0!"}}]
[null,null,{"$f":"C11","v":0},null,null,null,null,null,null,null,null,null,null,{"$f":"IF(X18>0,2-W19,0.01)","v":0.01},null,null,{"$f":"IF(X21>0,2-W22,0.01)","v":0.01},null,null,{"$f":"IF(X24>0,2-W25,0.01)","v":0.01},null,null,null,null,null,null,{"$f":"N28+Q28+T28","v":0.03}]
[null,null,null,null,null,null,null,null,null,null,null,null,{"$f":"F22","v":0},null,{"$f":"M27/O27","v":{"$error":"#DIV/0!"}},{"$f":"F30","v":0},null,{"$f":"P27/R27","v":{"$error":"#DIV/0!"}},{"$f":"F37","v":0},null,{"$f":"S27/U27","v":{"$error":"#DIV/0!"}},null,null,null,null,{"$f":"MAXA(M29,P29,S29)","v":0},null,{"$f":"Z27/AB27","v":{"$error":"#DIV/0!"}}]
[null,"Tour 4",{"$f":"C12","v":0}]
[null,null,{"$f":"C10","v":0},null,null,null,null,null,null,null,null,null,"Pas de prolongation en cas de match nul."]
[]
[null,"Tour 5",{"$f":"C9","v":0}]
[null,null,{"$f":"C10","v":0}]
[]
[null,"Tour 6",{"$f":"C11","v":0}]
[null,null,{"$f":"C12","v":0}]
[]
[null,"Joueur 1",{"$f":"'Saisie des joueurs'!K22","v":0}]
[null,"Joueur 2",{"$f":"'Saisie des joueurs'!K23","v":0}]
[null,"Joueur 3",{"$f":"'Saisie des joueurs'!K24","v":0}]
[null,"Joueur 4",{"$f":"'Saisie des joueurs'!K25","v":0}]
[]
[null,"SAISIE DES RESULTATS",null,null,null,null,null,null,null,null,null,null,{"$f":"C39","v":0},null,null,{"$f":"C40","v":0},null,null,{"$f":"C41","v":0},null,null,{"$f":"C42","v":0}]
[null,null,null,null,null,null,null,null,null,null,null,null,null,null,null,null,null,null,null,null,null,null,null,null,null,"TOTAUX",null,null,"CLASSEMENT"]
[null,null,null,null,null,null,null,null,null,null,null,null,null,null,null,null,null,null,null,null,null,null,null,null,null,null,null,null,null,null,"Classement",null,"Classement",null,"Classement",null,"Classement",null,"Classement",null,"GENERAL","RANG"]
[null,"POULE B",null,null,null,null,null,null,null,null,null,null,null,null,null,null,null,null,null,null,null,null,null,null,null,null,null,null,null,null,"Point-Match","CLS-M","Moy-Gen","CLS-G","Moy-Part","CLS-P","M-Series","CLS-S","MGPS","CLS","CLS"]
[null,null,null,null,null,null,null,null,null,null,{"$f":"C39","v":0},null,"L",null,null,{"$f":"D63","v":0},null,{"$f":"E63","v":0},{"$f":"D57","v":0},null,{"$f":"E57","v":0},{"$f":"D51","v":0},null,{"$f":"E51","v":0},null,{"$f":"P48+S48+V48","v":0},null,{"$f":"R48+U48+X48","v":0},{"$f":"AP48","v":{"$error":"#DIV/0!"}},null,{"$f":"AA49","v":0.03},{"$f":"RANK(AE48,AE$48:AE$59,0)","v":1},{"$f":"AB50","v":{"$error":"#DIV/0!"}},{"$f":"RANK(AG48,AG$48:AG$59,0)","v":{"$error":"#DIV/0!"}},{"$f":"MAX(R50,U50,X50)","v":{"$error":"#DIV/0!"}},{"$f":"RANK(AI48,AI$48:AI$59)","v":{"$error":"#DIV/0!"}},{"$f":"Z50","v":0},{"$f":"RANK(AK48,AK$48:AK$59)","v":1},{"$f":"(AF48*1000)+(AH48*100)+(AJ48*10)+(AL48*1)","v":{"$error":"#DIV/0!"}},{"$f":"AM48","v":{"$error":"#DIV/0!"}},{"$f":"RANK(AN48,AN$48:AN$59,1)","v":{"$error":"#DIV/0!"}},{"$f":"RANK(AO48,AO$48:AO$59,1)","v":{"$error":"#DIV/0!"}}]
[null,null,null,null,null,null,null,null,null,null,null,null,null,null,null,null,{"$f":"IF(R48<1,0.01,IF(P48>M51,2,IF(P48=M51,1,0)))","v":0.01},null,null,{"$f":"IF(U48<1,0.01,IF(S48>M54,2,IF(S48=M54,1,0)))","v":0.01},null,null,{"$f":"IF(X48<1,0.01,IF(V48>M57,2,IF(V48=M57,1,0)))","v":0.01},null,null,null,{"$f":"Q49+T49+W49","v":0.03}]
[null,null,null,"Pts","Rep","Série",null,null,null,null,null,null,null,null,null,{"$f":"F63","v":0},null,{"$f":"P48/R48","v":{"$error":"#DIV/0!"}},{"$f":"F57","v":0},null,{"$f":"S48/U48","v":{"$error":"#DIV/0!"}},{"$f":"F51","v":0},null,{"$f":"V48/X48","v":{"$error":"#DIV/0!"}},null,{"$f":"MAX(P50,S50,V50)","v":0},null,{"$f":"Z48/AB48","v":{"$error":"#DIV/0!"}}]
[null,"Tour 1",{"$f":"C39","v":0},null,null,null,null,null,null,null,{"$f":"C40","v":0},null,{"$f":"D64","v":0},null,{"$f":"E63","v":0},"M",null,null,{"$f":"D54","v":0},null,{"$f":"E54","v":0},{"$f":"D61","v":0},null,{"$f":"E60","v":0},null,{"$f":"M51+S51+V51","v":0},null,{"$f":"O51+U51+X51","v":0},{"$f":"AP51","v":{"$error":"#DIV/0!"}},null,{"$f":"AA52","v":0.03},{"$f":"RANK(AE51,AE$48:AE$59,0)","v":1},{"$f":"AB53","v":{"$error":"#DIV/0!"}},{"$f":"RANK(AG51,AG$48:AG$59,0)","v":{"$error":"#DIV/0!"}},{"$f":"MAX(O53,U53,X53)","v":{"$error":"#DIV/0!"}},{"$f":"RANK(AI51,AI$48:AI$59)","v":{"$error":"#DIV/0!"}},{"$f":"Z53","v":0},{"$f":"RANK(AK51,AK$48:AK$59)","v":1},{"$f":"(AF51*1000)+(AH51*100)+(AJ51*10)+(AL51*1)","v":{"$error":"#DIV/0!"}},{"$f":"AM51","v":{"$error":"#DIV/0!"}},{"$f":"RANK(AN51,AN$48:AN$59,1)","v":{"$error":"#DIV/0!"}},{"$f":"RANK(AO51,AO$48:AO$59,1)","v":{"$error":"#DIV/0!"}}]
[null,null,{"$f":"C42","v":0},null,null,null,null,null,null,null,null,null,null,{"$f":"IF(R48>0,2-Q49,0.01)","v":0.01},null,null,null,null,null,{"$f":"IF(U51<1,0.01,IF(S51>P54,2,IF(S51=P54,1,0)))","v":0.01},null,null,{"$f":"IF(X51<1,0.01,IF(V51>P57,2,IF(V51=P57,1,0)))","v":0.01},null,null,null,{"$f":"N52+T52+W52","v":0.03}]
[null,null,null,null,null,null,null,null,null,null,null,null,{"$f":"F64","v":0},null,{"$f":"M51/O51","v":{"$error":"#DIV/0!"}},null,null,null,{"$f":"F54","v":0},null,{"$f":"S51/U51","v":{"$error":"#DIV/0!"}},{"$f":"F61","v":0},null,{"$f":"V51/X51","v":{"$error":"#DIV/0!"}},null,{"$f":"MAXA(M53,S53,V53)","v":0},null,{"$f":"Z51/AB51","v":{"$error":"#DIV/0!"}}]
[null,"Tour 2",{"$f":"C40","v":0},null,null,null,null,null,null,null,{"$f":"C41","v":0},null,{"$f":"D58","v":0},null,{"$f":"E57","v":0},{"$f":"D55","v":0},null,{"$f":"E54","v":0},"B",null,null,{"$f":"D66","v":0},null,{"$f":"E66","v":0},null,{"$f":"M54+P54+V54","v":0},null,{"$f":"O54+R54+X54","v":0},{"$f":"AP54","v":{"$error":"#DIV/0!"}},null,{"$f":"AA55","v":0.03},{"$f":"RANK(AE54,AE$48:AE$59,0)","v":1},{"$f":"AB56","v":{"$error":"#DIV/0!"}},{"$f":"RANK(AG54,AG$48:AG$59,0)","v":{"$error":"#DIV/0!"}},{"$f":"MAX(O56,R56,X56)","v":{"$error":"#DIV/0!"}},{"$f":"RANK(AI54,AI$48:AI$59)","v":{"$error":"#DIV/0!"}},{"$f":"Z56","v":0},{"$f":"RANK(AK54,AK$48:AK$59)","v":1},{"$f":"(AF54*1000)+(AH54*100)+(AJ54*10)+(AL54*1)","v":{"$error":"#DIV/0!"}},{"$f":"AM54","v":{"$error":"#DIV/0!"}},{"$f":"RANK(AN54,AN$48:AN$59,1)","v":{"$error":"#DIV/0!"}},{"$f":"RANK(AO54,AO$48:AO$59,1)","v":{"$error":"#DIV/0!"}}]
[null,null,{"$f":"C41","v":0},null,null,null,null,null,null,null,null,null,null,{"$f":"IF(U48>0,2-T49,0.01)","v":0.01},null,null,{"$f":"IF(U51>0,2-T52,0.01)","v":0.01},null,null,null,null,null,{"$f":"IF(X54<1,0.01,IF(V54>S57,2,IF(V54=S57,1,0)))","v":0.01},null,null,null,{"$f":"N55+Q55+W55","v":0.03}]
[null,null,null,null,null,null,null,null,null,null,null,null,{"$f":"F58","v":0},null,{"$f":"M54/O54","v":{"$error":"#DIV/0!"}},{"$f":"F55","v":0},null,{"$f":"P54/R54","v":{"$error":"#DIV/0!"}},null,null,null,{"$f":"F66","v":0},null,{"$f":"V54/X54","v":{"$error":"#DIV/0!"}},null,{"$f":"MAXA(M56,P56,V56)","v":0},null,{"$f":"Z54/AB54","v":{"$error":"#DIV/0!"}}]
[null,"Tour 3",{"$f":"C39","v":0},null,null,null,null,null,null,null,{"$f":"C42","v":0},null,{"$f":"D52","v":0},null,{"$f":"E51","v":0},{"$f":"D60","v":0},null,{"$f":"E60","v":0},{"$f":"D67","v":0},null,{"$f":"E66","v":0},null,null,null,null,{"$f":"M57+P57+S57","v":0},null,{"$f":"O57+R57+U57","v":0},{"$f":"AP57","v":{"$error":"#DIV/0!"}},null,{"$f":"AA58","v":0.03},{"$f":"RANK(AE57,AE$48:AE$59,0)","v":1},{"$f":"AB59","v":{"$error":"#DIV/0!"}},{"$f":"RANK(AG57,AG$48:AG$59,0)","v":{"$error":"#DIV/0!"}},{"$f":"MAX(O59,R59,U59)","v":{"$error":"#DIV/0!"}},{"$f":"RANK(AI57,AI$48:AI$59)","v":{"$error":"#DIV/0!"}},{"$f":"Z59","v":0},{"$f":"RANK(AK57,AK$48:AK$59)","v":1},{"$f":"(AF57*1000)+(AH57*100)+(AJ57*10)+(AL57*1)","v":{"$error":"#DIV/0!"}},{"$f":"AM57","v":{"$error":"#DIV/0!"}},{"$f":"RANK(AN57,AN$48:AN$59,1)","v":{"$error":"#DIV/0!"}},{"$f":"RANK(AO57,AO$48:AO$59,1)","v":{"$error":"#DIV/0!"}}]
[null,null,{"$f":"C41","v":0},null,null,null,null,null,null,null,null,null,null,{"$f":"IF(X48>0,2-W49,0.01)","v":0.01},null,null,{"$f":"IF(X51>0,2-W52,0.01)","v":0.01},null,null,{"$f":"IF(X54>0,2-W55,0.01)","v":0.01},null,null,null,null,null,null,{"$f":"N58+Q58+T58","v":0.03}]
[null,null,null,null,null,null,null,null,null,null,null,null,{"$f":"F52","v":0},null,{"$f":"M57/O57","v":{"$error":"#DIV/0!"}},{"$f":"F60","v":0},null,{"$f":"P57/R57","v":{"$error":"#DIV/0!"}},{"$f":"F67","v":0},null,{"$f":"S57/U57","v":{"$error":"#DIV/0!"}},null,null,null,null,{"$f":"MAXA(M59,P59,S59)","v":0},null,{"$f":"Z57/AB57","v":{"$error":"#DIV/0!"}}]
[null,"Tour 4",{"$f":"C42","v":0}]
[null,null,{"$f":"C40","v":0},null,null,null,null,null,null,null,null,null,"Pas de prolongation en cas de match nul."]
[]
[null,"Tour 5",{"$f":"C39","v":0}]
[null,null,{"$f":"C40","v":0}]
[]
[null,"Tour 6",{"$f":"C41","v":0}]
[null,null,{"$f":"C42","v":0}]
[]
[null,"Joueur 1",{"$f":"'Saisie des joueurs'!K26","v":0}]
[null,"Joueur 2",{"$f":"'Saisie des joueurs'!K27","v":0}]
[null,"Joueur 3",{"$f":"'Saisie des joueurs'!K28","v":0}]
[null,"Joueur 4",{"$f":"'Saisie des joueurs'!K29","v":0}]
[]
[null,"SAISIE DES RESULTATS",null,null,null,null,null,null,null,null,null,null,{"$f":"C69","v":0},null,null,{"$f":"C70","v":0},null,null,{"$f":"C71","v":0},null,null,{"$f":"C72","v":0}]
[null,null,null,null,null,null,null,null,null,null,null,null,null,null,null,null,null,null,null,null,null,null,null,null,null,"TOTAUX",null,null,"CLASSEMENT"]
[null,null,null,null,null,null,null,null,null,null,null,null,null,null,null,null,null,null,null,null,null,null,null,null,null,null,null,null,null,null,"Classement",null,"Classement",null,"Classement",null,"Classement",null,"Classement",null,"GENERAL","RANG"]
[null,"POULE C",null,null,null,null,null,null,null,null,null,null,null,null,null,null,null,null,null,null,null,null,null,null,null,null,null,null,null,null,"Point-Match","CLS-M","Moy-Gen","CLS-G","Moy-Part","CLS-P","M-Series","CLS-S","MGPS","CLS","CLS"]
[null,null,null,null,null,null,null,null,null,null,{"$f":"C69","v":0},null,"L",null,null,{"$f":"D93","v":0},null,{"$f":"E93","v":0},{"$f":"D87","v":0},null,{"$f":"E87","v":0},{"$f":"D81","v":0},null,{"$f":"E81","v":0},null,{"$f":"P78+S78+V78","v":0},null,{"$f":"R78+U78+X78","v":0},{"$f":"AP78","v":{"$error":"#DIV/0!"}},null,{"$f":"AA79","v":0.03},{"$f":"RANK(AE78,AE$78:AE$89,0)","v":1},{"$f":"AB80","v":{"$error":"#DIV/0!"}},{"$f":"RANK(AG78,AG$78:AG$89,0)","v":{"$error":"#DIV/0!"}},{"$f":"MAX(R80,U80,X80)","v":{"$error":"#DIV/0!"}},{"$f":"RANK(AI78,AI$78:AI$89)","v":{"$error":"#DIV/0!"}},{"$f":"Z80","v":0},{"$f":"RANK(AK78,AK$78:AK$89)","v":1},{"$f":"(AF78*1000)+(AH78*100)+(AJ78*10)+(AL78*1)","v":{"$error":"#DIV/0!"}},{"$f":"AM78","v":{"$error":"#DIV/0!"}},{"$f":"RANK(AN78,AN$78:AN$89,1)","v":{"$error":"#DIV/0!"}},{"$f":"RANK(AO78,AO$78:AO$89,1)","v":{"$error":"#DIV/0!"}}]
[null,null,null,null,null,null,null,null,null,null,null,null,null,null,null,null,{"$f":"IF(R78<1,0.01,IF(P78>M81,2,IF(P78=M81,1,0)))","v":0.01},null,null,{"$f":"IF(U78<1,0.01,IF(S78>M84,2,IF(S78=M84,1,0)))","v":0.01},null,null,{"$f":"IF(X78<1,0.01,IF(V78>M87,2,IF(V78=M87,1,0)))","v":0.01},null,null,null,{"$f":"Q79+T79+W79","v":0.03}]
[null,null,null,"Pts","Rep","Série",null,null,null,null,null,null,null,null,null,{"$f":"F93","v":0},null,{"$f":"P78/R78","v":{"$error":"#DIV/0!"}},{"$f":"F87","v":0},null,{"$f":"S78/U78","v":{"$error":"#DIV/0!"}},{"$f":"F81","v":0},null,{"$f":"V78/X78","v":{"$error":"#DIV/0!"}},null,{"$f":"MAX(P80,S80,V80)","v":0},null,{"$f":"Z78/AB78","v":{"$error":"#DIV/0!"}}]
[null,"Tour 1",{"$f":"C69","v":0},null,null,null,null,null,null,null,{"$f":"C70","v":0},null,{"$f":"D94","v":0},null,{"$f":"E93","v":0},"M",null,null,{"$f":"D84","v":0},null,{"$f":"E84","v":0},{"$f":"D91","v":0},null,{"$f":"E90","v":0},null,{"$f":"M81+S81+V81","v":0},null,{"$f":"O81+U81+X81","v":0},{"$f":"AP81","v":{"$error":"#DIV/0!"}},null,{"$f":"AA82","v":0.03},{"$f":"RANK(AE81,AE$78:AE$89,0)","v":1},{"$f":"AB83","v":{"$error":"#DIV/0!"}},{"$f":"RANK(AG81,AG$78:AG$89,0)","v":{"$error":"#DIV/0!"}},{"$f":"MAX(O83,U83,X83)","v":{"$error":"#DIV/0!"}},{"$f":"RANK(AI81,AI$78:AI$89)","v":{"$error":"#DIV/0!"}},{"$f":"Z83","v":0},{"$f":"RANK(AK81,AK$78:AK$89)","v":1},{"$f":"(AF81*1000)+(AH81*100)+(AJ81*10)+(AL81*1)","v":{"$error":"#DIV/0!"}},{"$f":"AM81","v":{"$error":"#DIV/0!"}},{"$f":"RANK(AN81,AN$78:AN$89,1)","v":{"$error":"#DIV/0!"}},{"$f":"RANK(AO81,AO$78:AO$89,1)","v":{"$error":"#DIV/0!"}}]
[null,null,{"$f":"C72","v":0},null,null,null,null,null,null,null,null,null,null,{"$f":"IF(R78>0,2-Q79,0.01)","v":0.01},null,null,null,null,null,{"$f":"IF(U81<1,0.01,IF(S81>P84,2,IF(S81=P84,1,0)))","v":0.01},null,null,{"$f":"IF(X81<1,0.01,IF(V81>P87,2,IF(V81=P87,1,0)))","v":0.01},null,null,null,{"$f":"N82+T82+W82","v":0.03}]
[null,null,null,null,null,null,null,null,null,null,null,null,{"$f":"F94","v":0},null,{"$f":"M81/O81","v":{"$error":"#DIV/0!"}},null,null,null,{"$f":"F84","v":0},null,{"$f":"S81/U81","v":{"$error":"#DIV/0!"}},{"$f":"F91","v":0},null,{"$f":"V81/X81","v":{"$error":"#DIV/0!"}},null,{"$f":"MAXA(M83,S83,V83)","v":0},null,{"$f":"Z81/AB81","v":{"$error":"#DIV/0!"}}]
[null,"Tour 2",{"$f":"C70","v":0},null,null,null,null,null,null,null,{"$f":"C71","v":0},null,{"$f":"D88","v":0},null,{"$f":"E87","v":0},{"$f":"D85","v":0},null,{"$f":"E84","v":0},"B",null,null,{"$f":"D96","v":0},null,{"$f":"E96","v":0},null,{"$f":"M84+P84+V84","v":0},null,{"$f":"O84+R84+X84","v":0},{"$f":"AP84","v":{"$error":"#DIV/0!"}},null,{"$f":"AA85","v":0.03},{"$f":"RANK(AE84,AE$78:AE$89,0)","v":1},{"$f":"AB86","v":{"$error":"#DIV/0!"}},{"$f":"RANK(AG84,AG$78:AG$89,0)","v":{"$error":"#DIV/0!"}},{"$f":"MAX(O86,R86,X86)","v":{"$error":"#DIV/0!"}},{"$f":"RANK(AI84,AI$78:AI$89)","v":{"$error":"#DIV/0!"}},{"$f":"Z86","v":0},{"$f":"RANK(AK84,AK$78:AK$89)","v":1},{"$f":"(AF84*1000)+(AH84*100)+(AJ84*10)+(AL84*1)","v":{"$error":"#DIV/0!"}},{"$f":"AM84","v":{"$error":"#DIV/0!"}},{"$f":"RANK(AN84,AN$78:AN$89,1)","v":{"$error":"#DIV/0!"}},{"$f":"RANK(AO84,AO$78:AO$89,1)","v":{"$error":"#DIV/0!"}}]
[null,null,{"$f":"C71","v":0},null,null,null,null,null,null,null,null,null,null,{"$f":"IF(U78>0,2-T79,0.01)","v":0.01},null,null,{"$f":"IF(U81>0,2-T82,0.01)","v":0.01},null,null,null,null,null,{"$f":"IF(X84<1,0.01,IF(V84>S87,2,IF(V84=S87,1,0)))","v":0.01},null,null,null,{"$f":"N85+Q85+W85","v":0.03}]
[null,null,null,null,null,null,null,null,null,null,null,null,{"$f":"F88","v":0},null,{"$f":"M84/O84","v":{"$error":"#DIV/0!"}},{"$f":"F85","v":0},null,{"$f":"P84/R84","v":{"$error":"#DIV/0!"}},null,null,null,{"$f":"F96","v":0},null,{"$f":"V84/X84","v":{"$error":"#DIV/0!"}},null,{"$f":"MAXA(M86,P86,V86)","v":0},null,{"$f":"Z84/AB84","v":{"$error":"#DIV/0!"}}]
[null,"Tour 3",{"$f":"C69","v":0},null,null,null,null,null,null,null,{"$f":"C72","v":0},null,{"$f":"D82","v":0},null,{"$f":"E81","v":0},{"$f":"D90","v":0},null,{"$f":"E90","v":0},{"$f":"D97","v":0},null,{"$f":"E96","v":0},null,null,null,null,{"$f":"M87+P87+S87","v":0},null,{"$f":"O87+R87+U87","v":0},{"$f":"AP87","v":{"$error":"#DIV/0!"}},null,{"$f":"AA88","v":0.03},{"$f":"RANK(AE87,AE$78:AE$89,0)","v":1},{"$f":"AB89","v":{"$error":"#DIV/0!"}},{"$f":"RANK(AG87,AG$78:AG$89,0)","v":{"$error":"#DIV/0!"}},{"$f":"MAX(O89,R89,U89)","v":{"$error":"#DIV/0!"}},{"$f":"RANK(AI87,AI$78:AI$89)","v":{"$error":"#DIV/0!"}},{"$f":"Z89","v":0},{"$f":"RANK(AK87,AK$78:AK$89)","v":1},{"$f":"(AF87*1000)+(AH87*100)+(AJ87*10)+(AL87*1)","v":{"$error":"#DIV/0!"}},{"$f":"AM87","v":{"$error":"#DIV/0!"}},{"$f":"RANK(AN87,AN$78:AN$89,1)","v":{"$error":"#DIV/0!"}},{"$f":"RANK(AO87,AO$78:AO$89,1)","v":{"$error":"#DIV/0!"}}]
[null,null,{"$f":"C71","v":0},null,null,null,null,null,null,null,null,null,null,{"$f":"IF(X78>0,2-W79,0.01)","v":0.01},null,null,{"$f":"IF(X81>0,2-W82,0.01)","v":0.01},null,null,{"$f":"IF(X84>0,2-W85,0.01)","v":0.01},null,null,null,null,null,null,{"$f":"N88+Q88+T88","v":0.03}]
[null,null,null,null,null,null,null,null,null,null,null,null,{"$f":"F82","v":0},null,{"$f":"M87/O87","v":{"$error":"#DIV/0!"}},{"$f":"F90","v":0},null,{"$f":"P87/R87","v":{"$error":"#DIV/0!"}},{"$f":"F97","v":0},null,{"$f":"S87/U87","v":{"$error":"#DIV/0!"}},null,null,null,null,{"$f":"MAXA(M89,P89,S89)","v":0},null,{"$f":"Z87/AB87","v":{"$error":"#DIV/0!"}}]
[null,"Tour 4",{"$f":"C72","v":0}]
[null,null,{"$f":"C70","v":0},null,null,null,null,null,null,null,null,null,"Pas de prolongation en cas de match nul."]
[]
[null,"Tour 5",{"$f":"C69","v":0}]
[null,null,{"$f":"C70","v":0}]
[]
[null,"Tour 6",{"$f":"C71","v":0}]
[null,null,{"$f":"C72","v":0}]
[]
[null,"Joueur 1",{"$f":"'Saisie des joueurs'!K30","v":0}]
[null,"Joueur 2",{"$f":"'Saisie des joueurs'!K31","v":0}]
[null,"Joueur 3",{"$f":"'Saisie des joueurs'!K32","v":0}]
[null,"Joueur 4",{"$f":"'Saisie des joueurs'!K33","v":0}]
[]
[null,"SAISIE DES RESULTATS",null,null,null,null,null,null,null,null,null,null,{"$f":"C99","v":0},null,null,{"$f":"C100","v":0},null,null,{"$f":"C101","v":0},null,null,{"$f":"C102","v":0}]
[null,null,null,null,null,null,null,null,null,null,null,null,null,null,null,null,null,null,null,null,null,null,null,null,null,"TOTAUX",null,null,"CLASSEMENT"]
[null,null,null,null,null,null,null,null,null,null,null,null,null,null,null,null,null,null,null,null,null,null,null,null,null,null,null,null,null,null,"Classement",null,"Classement",null,"Classement",null,"Classement",null,"Classement",null,"GENERAL","RANG"]
[null,"POULE D",null,null,null,null,null,null,null,null,null,null,null,null,null,null,null,null,null,null,null,null,null,null,null,null,null,null,null,null,"Point-Match","CLS-M","Moy-Gen","CLS-G","Moy-Part","CLS-P","M-Series","CLS-S","MGPS","CLS","CLS"]
[null,null,null,null,null,null,null,null,null,null,{"$f":"C99","v":0},null,"L",null,null,{"$f":"D123","v":0},null,{"$f":"E123","v":0},{"$f":"D117","v":0},null,{"$f":"E117","v":0},{"$f":"D111","v":0},null,{"$f":"E111","v":0},null,{"$f":"P108+S108+V108","v":0},null,{"$f":"R108+U108+X108","v":0},{"$f":"AP108","v":{"$error":"#DIV/0!"}},null,{"$f":"AA109","v":0.03},{"$f":"RANK(AE108,AE$108:AE$119,0)","v":1},{"$f":"AB110","v":{"$error":"#DIV/0!"}},{"$f":"RANK(AG108,AG$108:AG$119,0)","v":{"$error":"#DIV/0!"}},{"$f":"MAX(R110,U110,X110)","v":{"$error":"#DIV/0!"}},{"$f":"RANK(AI108,AI$108:AI$119)","v":{"$error":"#DIV/0!"}},{"$f":"Z110","v":0},{"$f":"RANK(AK108,AK$108:AK$119)","v":1},{"$f":"(AF108*1000)+(AH108*100)+(AJ108*10)+(AL108*1)","v":{"$error":"#DIV/0!"}},{"$f":"AM108","v":{"$error":"#DIV/0!"}},{"$f":"RANK(AN108,AN$108:AN$119,1)","v":{"$error":"#DIV/0!"}},{"$f":"RANK(AO108,AO$108:AO$119,1)","v":{"$error":"#DIV/0!"}}]
[null,null,null,null,null,null,null,null,null,null,null,null,null,null,null,null,{"$f":"IF(R108<1,0.01,IF(P108>M111,2,IF(P108=M111,1,0)))","v":0.01},null,null,{"$f":"IF(U108<1,0.01,IF(S108>M114,2,IF(S108=M114,1,0)))","v":0.01},null,null,{"$f":"IF(X108<1,0.01,IF(V108>M117,2,IF(V108=M117,1,0)))","v":0.01},null,null,null,{"$f":"Q109+T109+W109","v":0.03}]
[null,null,null,"Pts","Rep","Série",null,null,null,null,null,null,null,null,null,{"$f":"F123","v":0},null,{"$f":"P108/R108","v":{"$error":"#DIV/0!"}},{"$f":"F117","v":0},null,{"$f":"S108/U108","v":{"$error":"#DIV/0!"}},{"$f":"F111","v":0},null,{"$f":"V108/X108","v":{"$error":"#DIV/0!"}},null,{"$f":"MAX(P110,S110,V110)","v":0},null,{"$f":"Z108/AB108","v":{"$error":"#DIV/0!"}}]
[null,"Tour 1",{"$f":"C99","v":0},null,null,null,null,null,null,null,{"$f":"C100","v":0},null,{"$f":"D124","v":0},null,{"$f":"E123","v":0},"M",null,null,{"$f":"D114","v":0},null,{"$f":"E114","v":0},{"$f":"D121","v":0},null,{"$f":"E120","v":0},null,{"$f":"M111+S111+V111","v":0},null,{"$f":"O111+U111+X111","v":0},{"$f":"AP111","v":{"$error":"#DIV/0!"}},null,{"$f":"AA112","v":0.03},{"$f":"RANK(AE111,AE$108:AE$119,0)","v":1},{"$f":"AB113","v":{"$error":"#DIV/0!"}},{"$f":"RANK(AG111,AG$108:AG$119,0)","v":{"$error":"#DIV/0!"}},{"$f":"MAX(O113,U113,X113)","v":{"$error":"#DIV/0!"}},{"$f":"RANK(AI111,AI$108:AI$119)","v":{"$error":"#DIV/0!"}},{"$f":"Z113","v":0},{"$f":"RANK(AK111,AK$108:AK$119)","v":1},{"$f":"(AF111*1000)+(AH111*100)+(AJ111*10)+(AL111*1)","v":{"$error":"#DIV/0!"}},{"$f":"AM111","v":{"$error":"#DIV/0!"}},{"$f":"RANK(AN111,AN$108:AN$119,1)","v":{"$error":"#DIV/0!"}},{"$f":"RANK(AO111,AO$108:AO$119,1)","v":{"$error":"#DIV/0!"}}]
[null,null,{"$f":"C102","v":0},null,null,null,null,null,null,null,null,null,null,{"$f":"IF(R108>0,2-Q109,0.01)","v":0.01},null,null,null,null,null,{"$f":"IF(U111<1,0.01,IF(S111>P114,2,IF(S111=P114,1,0)))","v":0.01},null,null,{"$f":"IF(X111<1,0.01,IF(V111>P117,2,IF(V111=P117,1,0)))","v":0.01},null,null,null,{"$f":"N112+T112+W112","v":0.03}]
[null,null,null,null,null,null,null,null,null,null,null,null,{"$f":"F124","v":0},null,{"$f":"M111/O111","v":{"$error":"#DIV/0!"}},null,null,null,{"$f":"F114","v":0},null,{"$f":"S111/U111","v":{"$error":"#DIV/0!"}},{"$f":"F121","v":0},null,{"$f":"V111/X111","v":{"$error":"#DIV/0!"}},null,{"$f":"MAXA(M113,S113,V113)","v":0},null,{"$f":"Z111/AB111","v":{"$error":"#DIV/0!"}}]
[null,"Tour 2",{"$f":"C100","v":0},null,null,null,null,null,null,null,{"$f":"C101","v":0},null,{"$f":"D118","v":0},null,{"$f":"E117","v":0},{"$f":"D115","v":0},null,{"$f":"E114","v":0},"B",null,null,{"$f":"D126","v":0},null,{"$f":"E126","v":0},null,{"$f":"M114+P114+V114","v":0},null,{"$f":"O114+R114+X114","v":0},{"$f":"AP114","v":{"$error":"#DIV/0!"}},null,{"$f":"AA115","v":0.03},{"$f":"RANK(AE114,AE$108:AE$119,0)","v":1},{"$f":"AB116","v":{"$error":"#DIV/0!"}},{"$f":"RANK(AG114,AG$108:AG$119,0)","v":{"$error":"#DIV/0!"}},{"$f":"MAX(O116,R116,X116)","v":{"$error":"#DIV/0!"}},{"$f":"RANK(AI114,AI$108:AI$119)","v":{"$error":"#DIV/0!"}},{"$f":"Z116","v":0},{"$f":"RANK(AK114,AK$108:AK$119)","v":1},{"$f":"(AF114*1000)+(AH114*100)+(AJ114*10)+(AL114*1)","v":{"$error":"#DIV/0!"}},{"$f":"AM114","v":{"$error":"#DIV/0!"}},{"$f":"RANK(AN114,AN$108:AN$119,1)","v":{"$error":"#DIV/0!"}},{"$f":"RANK(AO114,AO$108:AO$119,1)","v":{"$error":"#DIV/0!"}}]
[null,null,{"$f":"C101","v":0},null,null,null,null,null,null,null,null,null,null,{"$f":"IF(U108>0,2-T109,0.01)","v":0.01},null,null,{"$f":"IF(U111>0,2-T112,0.01)","v":0.01},null,null,null,null,null,{"$f":"IF(X114<1,0.01,IF(V114>S117,2,IF(V114=S117,1,0)))","v":0.01},null,null,null,{"$f":"N115+Q115+W115","v":0.03}]
[null,null,null,null,null,null,null,null,null,null,null,null,{"$f":"F118","v":0},null,{"$f":"M114/O114","v":{"$error":"#DIV/0!"}},{"$f":"F115","v":0},null,{"$f":"P114/R114","v":{"$error":"#DIV/0!"}},null,null,null,{"$f":"F126","v":0},null,{"$f":"V114/X114","v":{"$error":"#DIV/0!"}},null,{"$f":"MAXA(M116,P116,V116)","v":0},null,{"$f":"Z114/AB114","v":{"$error":"#DIV/0!"}}]
[null,"Tour 3",{"$f":"C99","v":0},null,null,null,null,null,null,null,{"$f":"C102","v":0},null,{"$f":"D112","v":0},null,{"$f":"E111","v":0},{"$f":"D120","v":0},null,{"$f":"E120","v":0},{"$f":"D127","v":0},null,{"$f":"E126","v":0},null,null,null,null,{"$f":"M117+P117+S117","v":0},null,{"$f":"O117+R117+U117","v":0},{"$f":"AP117","v":{"$error":"#DIV/0!"}},null,{"$f":"AA118","v":0.03},{"$f":"RANK(AE117,AE$108:AE$119,0)","v":1},{"$f":"AB119","v":{"$error":"#DIV/0!"}},{"$f":"RANK(AG117,AG$108:AG$119,0)","v":{"$error":"#DIV/0!"}},{"$f":"MAX(O119,R119,U119)","v":{"$error":"#DIV/0!"}},{"$f":"RANK(AI117,AI$108:AI$119)","v":{"$error":"#DIV/0!"}},{"$f":"Z119","v":0},{"$f":"RANK(AK117,AK$108:AK$119)","v":1},{"$f":"(AF117*1000)+(AH117*100)+(AJ117*10)+(AL117*1)","v":{"$error":"#DIV/0!"}},{"$f":"AM117","v":{"$error":"#DIV/0!"}},{"$f":"RANK(AN117,AN$108:AN$119,1)","v":{"$error":"#DIV/0!"}},{"$f":"RANK(AO117,AO$108:AO$119,1)","v":{"$error":"#DIV/0!"}}]
[null,null,{"$f":"C101","v":0},null,null,null,null,null,null,null,null,null,null,{"$f":"IF(X108>0,2-W109,0.01)","v":0.01},null,null,{"$f":"IF(X111>0,2-W112,0.01)","v":0.01},null,null,{"$f":"IF(X114>0,2-W115,0.01)","v":0.01},null,null,null,null,null,null,{"$f":"N118+Q118+T118","v":0.03}]
[null,null,null,null,null,null,null,null,null,null,null,null,{"$f":"F112","v":0},null,{"$f":"M117/O117","v":{"$error":"#DIV/0!"}},{"$f":"F120","v":0},null,{"$f":"P117/R117","v":{"$error":"#DIV/0!"}},{"$f":"F127","v":0},null,{"$f":"S117/U117","v":{"$error":"#DIV/0!"}},null,null,null,null,{"$f":"MAXA(M119,P119,S119)","v":0},null,{"$f":"Z117/AB117","v":{"$error":"#DIV/0!"}}]
[null,"Tour 4",{"$f":"C102","v":0}]
[null,null,{"$f":"C100","v":0},null,null,null,null,null,null,null,null,null,"Pas de prolongation en cas de match nul."]
[]
[null,"Tour 5",{"$f":"C99","v":0}]
[null,null,{"$f":"C100","v":0}]
[]
[null,"Tour 6",{"$f":"C101","v":0}]
[null,null,{"$f":"C102","v":0}]
[]
[null,"Joueur 1",{"$f":"'Saisie des joueurs'!K34","v":0}]
[null,"Joueur 2",{"$f":"'Saisie des joueurs'!K35","v":0}]
[null,"Joueur 3",{"$f":"'Saisie des joueurs'!K36","v":0}]
[null,"Joueur 4",{"$f":"'Saisie des joueurs'!K37","v":0}]
[]
[]
[null,"SAISIE DES RESULTATS",null,null,null,null,null,null,null,null,null,null,{"$f":"C129","v":0},null,null,{"$f":"C130","v":0},null,null,{"$f":"C131","v":0},null,null,{"$f":"C132","v":0}]
[null,null,null,null,null,null,null,null,null,null,null,null,null,null,null,null,null,null,null,null,null,null,null,null,null,"TOTAUX",null,null,"CLASSEMENT"]
[null,null,null,null,null,null,null,null,null,null,null,null,null,null,null,null,null,null,null,null,null,null,null,null,null,null,null,null,null,null,"Classement",null,"Classement",null,"Classement",null,"Classement",null,"Classement",null,"GENERAL","RANG"]
[null,"POULE E",null,null,null,null,null,null,null,null,null,null,null,null,null,null,null,null,null,null,null,null,null,null,null,null,null,null,null,null,"Point-Match","CLS-M","Moy-Gen","CLS-G","Moy-Part","CLS-P","M-Series","CLS-S","MGPS","CLS","CLS"]
[null,null,null,null,null,null,null,null,null,null,{"$f":"C129","v":0},null,"L",null,null,{"$f":"D154","v":0},null,{"$f":"E154","v":0},{"$f":"D148","v":0},null,{"$f":"E148","v":0},{"$f":"D142","v":0},null,{"$f":"E142","v":0},null,{"$f":"P139+S139+V139","v":0},null,{"$f":"R139+U139+X139","v":0},{"$f":"AP139","v":{"$error":"#DIV/0!"}},null,{"$f":"AA140","v":0.03},{"$f":"RANK(AE139,AE$139:AE$150,0)","v":1},{"$f":"AB141","v":{"$error":"#DIV/0!"}},{"$f":"RANK(AG139,AG$139:AG$150,0)","v":{"$error":"#DIV/0!"}},{"$f":"MAX(R141,U141,X141)","v":{"$error":"#DIV/0!"}},{"$f":"RANK(AI139,AI$139:AI$150)","v":{"$error":"#DIV/0!"}},{"$f":"Z141","v":0},{"$f":"RANK(AK139,AK$139:AK$150)","v":1},{"$f":"(AF139*1000)+(AH139*100)+(AJ139*10)+(AL139*1)","v":{"$error":"#DIV/0!"}},{"$f":"AM139","v":{"$error":"#DIV/0!"}},{"$f":"RANK(AN139,AN$139:AN$150,1)","v":{"$error":"#DIV/0!"}},{"$f":"RANK(AO139,AO$139:AO$150,1)","v":{"$error":"#DIV/0!"}}]
[null,null,null,null,null,null,null,null,null,null,null,null,null,null,null,null,{"$f":"IF(R139<1,0.01,IF(P139>M142,2,IF(P139=M142,1,0)))","v":0.01},null,null,{"$f":"IF(U139<1,0.01,IF(S139>M145,2,IF(S139=M145,1,0)))","v":0.01},null,null,{"$f":"IF(X139<1,0.01,IF(V139>M148,2,IF(V139=M148,1,0)))","v":0.01},null,null,null,{"$f":"Q140+T140+W140","v":0.03}]
[null,null,null,"Pts","Rep","Série",null,null,null,null,null,null,null,null,null,{"$f":"F154","v":0},null,{"$f":"P139/R139","v":{"$error":"#DIV/0!"}},{"$f":"F148","v":0},null,{"$f":"S139/U139","v":{"$error":"#DIV/0!"}},{"$f":"F142","v":0},null,{"$f":"V139/X139","v":{"$error":"#DIV/0!"}},null,{"$f":"MAX(P141,S141,V141)","v":0},null,{"$f":"Z139/AB139","v":{"$error":"#DIV/0!"}}]
[null,"Tour 1",{"$f":"C129","v":0},null,null,null,null,null,null,null,{"$f":"C130","v":0},null,{"$f":"D155","v":0},null,{"$f":"E154","v":0},"M",null,null,{"$f":"D145","v":0},null,{"$f":"E145","v":0},{"$f":"D152","v":0},null,{"$f":"E151","v":0},null,{"$f":"M142+S142+V142","v":0},null,{"$f":"O142+U142+X142","v":0},{"$f":"AP142","v":{"$error":"#DIV/0!"}},null,{"$f":"AA143","v":0.03},{"$f":"RANK(AE142,AE$139:AE$150,0)","v":1},{"$f":"AB144","v":{"$error":"#DIV/0!"}},{"$f":"RANK(AG142,AG$139:AG$150,0)","v":{"$error":"#DIV/0!"}},{"$f":"MAX(R144,U144,X144)","v":{"$error":"#DIV/0!"}},{"$f":"RANK(AI142,AI$139:AI$150)","v":{"$error":"#DIV/0!"}},{"$f":"Z144","v":0},{"$f":"RANK(AK142,AK$139:AK$150)","v":1},{"$f":"(AF142*1000)+(AH142*100)+(AJ142*10)+(AL142*1)","v":{"$error":"#DIV/0!"}},{"$f":"AM142","v":{"$error":"#DIV/0!"}},{"$f":"RANK(AN142,AN$139:AN$150,1)","v":{"$error":"#DIV/0!"}},{"$f":"RANK(AO142,AO$139:AO$150,1)","v":{"$error":"#DIV/0!"}}]
[null,null,{"$f":"C132","v":0},null,null,null,null,null,null,null,null,null,null,{"$f":"IF(R139>0,2-Q140,0.01)","v":0.01},null,null,null,null,null,{"$f":"IF(U142<1,0.01,IF(S142>P145,2,IF(S142=P145,1,0)))","v":0.01},null,null,{"$f":"IF(X142<1,0.01,IF(V142>P148,2,IF(V142=P148,1,0)))","v":0.01},null,null,null,{"$f":"N143+T143+W143","v":0.03}]
[null,null,null,null,null,null,null,null,null,null,null,null,{"$f":"F155","v":0},null,{"$f":"M142/O142","v":{"$error":"#DIV/0!"}},null,null,null,{"$f":"F145","v":0},null,{"$f":"S142/U142","v":{"$error":"#DIV/0!"}},{"$f":"F152","v":0},null,{"$f":"V142/X142","v":{"$error":"#DIV/0!"}},null,{"$f":"MAXA(M144,S144,V144)","v":0},null,{"$f":"Z142/AB142","v":{"$error":"#DIV/0!"}}]
[null,"Tour 2",{"$f":"C130","v":0},null,null,null,null,null,null,null,{"$f":"C131","v":0},null,{"$f":"D149","v":0},null,{"$f":"E148","v":0},{"$f":"D146","v":0},null,{"$f":"E145","v":0},"B",null,null,{"$f":"D157","v":0},null,{"$f":"E157","v":0},null,{"$f":"M145+P145+V145","v":0},null,{"$f":"O145+R145+X145","v":0},{"$f":"AP145","v":{"$error":"#DIV/0!"}},null,{"$f":"AA146","v":0.03},{"$f":"RANK(AE145,AE$139:AE$150,0)","v":1},{"$f":"AB147","v":{"$error":"#DIV/0!"}},{"$f":"RANK(AG145,AG$139:AG$150,0)","v":{"$error":"#DIV/0!"}},{"$f":"MAX(R147,U147,X147)","v":{"$error":"#DIV/0!"}},{"$f":"RANK(AI145,AI$139:AI$150)","v":{"$error":"#DIV/0!"}},{"$f":"Z147","v":0},{"$f":"RANK(AK145,AK$139:AK$150)","v":1},{"$f":"(AF145*1000)+(AH145*100)+(AJ145*10)+(AL145*1)","v":{"$error":"#DIV/0!"}},{"$f":"AM145","v":{"$error":"#DIV/0!"}},{"$f":"RANK(AN145,AN$139:AN$150,1)","v":{"$error":"#DIV/0!"}},{"$f":"RANK(AO145,AO$139:AO$150,1)","v":{"$error":"#DIV/0!"}}]
[null,null,{"$f":"C131","v":0},null,null,null,null,null,null,null,null,null,null,{"$f":"IF(U139>0,2-T140,0.01)","v":0.01},null,null,{"$f":"IF(U142>0,2-T143,0.01)","v":0.01},null,null,null,null,null,{"$f":"IF(X145<1,0.01,IF(V145>S148,2,IF(V145=S148,1,0)))","v":0.01},null,null,null,{"$f":"N146+Q146+W146","v":0.03}]
[null,null,null,null,null,null,null,null,null,null,null,null,{"$f":"F149","v":0},null,{"$f":"M145/O145","v":{"$error":"#DIV/0!"}},{"$f":"F146","v":0},null,{"$f":"P145/R145","v":{"$error":"#DIV/0!"}},null,null,null,{"$f":"F157","v":0},null,{"$f":"V145/X145","v":{"$error":"#DIV/0!"}},null,{"$f":"MAXA(M147,P147,V147)","v":0},null,{"$f":"Z145/AB145","v":{"$error":"#DIV/0!"}}]
[null,"Tour 3",{"$f":"C129","v":0},null,null,null,null,null,null,null,{"$f":"C132","v":0},null,{"$f":"D143","v":0},null,{"$f":"E142","v":0},{"$f":"D151","v":0},null,{"$f":"E151","v":0},{"$f":"D158","v":0},null,{"$f":"E157","v":0},null,null,null,null,{"$f":"M148+P148+S148","v":0},null,{"$f":"O148+R148+U148","v":0},{"$f":"AP148","v":{"$error":"#DIV/0!"}},null,{"$f":"AA149","v":0.03},{"$f":"RANK(AE148,AE$139:AE$150,0)","v":1},{"$f":"AB150","v":{"$error":"#DIV/0!"}},{"$f":"RANK(AG148,AG$139:AG$150,0)","v":{"$error":"#DIV/0!"}},{"$f":"MAX(R150,U150,X150)","v":{"$error":"#DIV/0!"}},{"$f":"RANK(AI148,AI$139:AI$150)","v":{"$error":"#DIV/0!"}},{"$f":"Z150","v":0},{"$f":"RANK(AK148,AK$139:AK$150)","v":1},{"$f":"(AF148*1000)+(AH148*100)+(AJ148*10)+(AL148*1)","v":{"$error":"#DIV/0!"}},{"$f":"AM148","v":{"$error":"#DIV/0!"}},{"$f":"RANK(AN148,AN$139:AN$150,1)","v":{"$error":"#DIV/0!"}},{"$f":"RANK(AO148,AO$139:AO$150,1)","v":{"$error":"#DIV/0!"}}]
[null,null,{"$f":"C131","v":0},null,null,null,null,null,null,null,null,null,null,{"$f":"IF(X139>0,2-W140,0.01)","v":0.01},null,null,{"$f":"IF(X142>0,2-W143,0.01)","v":0.01},null,null,{"$f":"IF(X145>0,2-W146,0.01)","v":0.01},null,null,null,null,null,null,{"$f":"N149+Q149+T149","v":0.03}]
[null,null,null,null,null,null,null,null,null,null,null,null,{"$f":"F143","v":0},null,{"$f":"M148/O148","v":{"$error":"#DIV/0!"}},{"$f":"F151","v":0},null,{"$f":"P148/R148","v":{"$error":"#DIV/0!"}},{"$f":"F158","v":0},null,{"$f":"S148/U148","v":{"$error":"#DIV/0!"}},null,null,null,null,{"$f":"MAXA(M150,P150,S150)","v":0},null,{"$f":"Z148/AB148","v":{"$error":"#DIV/0!"}}]
[null,"Tour 4",{"$f":"C132","v":0}]
[null,null,{"$f":"C130","v":0},null,null,null,null,null,null,null,null,null,"Pas de prolongation en cas de match nul."]
[]
[null,"Tour 5",{"$f":"C129","v":0}]
[null,null,{"$f":"C130","v":0}]
[]
[null,"Tour 6",{"$f":"C131","v":0}]
[null,null,{"$f":"C132","v":0}]

{"sheet":"3JOUEURS_MOYENNE","index":34,"n_rows":36,"n_cols":48,"rows_kept":36,"cut":false,"hidden":true,"merged":[[8,2,8,5],[1,12,4,35],[2,1,3,2],[2,3,3,9],[5,1,6,2],[5,3,6,9],[6,12,6,15],[6,17,6,18],[6,20,6,21],[6,23,6,25],[6,27,6,28],[7,12,7,15],[7,17,7,18],[7,20,7,21],[7,23,7,25],[7,27,7,28],[9,2,9,5],[9,12,9,20],[9,21,9,29],[10,2,10,5],[12,1,13,5],[12,12,15,14],[12,15,15,17],[12,18,15,20],[12,21,15,23],[12,24,15,26],[14,41,14,42],[14,43,14,44],[14,46,15,46],[15,1,16,2],[16,10,18,11],[16,12,18,14],[16,21,18,23],[16,34,18,34],[16,36,18,36],[16,37,18,37],[12,27,15,29],[12,31,15,33],[12,34,15,34],[13,10,15,11],[14,36,14,37],[14,38,14,39],[16,44,18,44],[16,45,18,45],[16,46,18,46],[16,47,18,47],[19,1,20,1],[19,4,20,4],[19,10,21,11],[19,15,21,17],[19,24,21,26],[19,34,21,34],[16,38,18,38],[16,39,18,39],[16,40,18,40],[16,41,18,41],[16,42,18,42],[16,43,18,43],[19,46,21,46],[19,47,21,47],[19,36,21,36],[19,37,21,37],[19,38,21,38],[19,39,21,39],[19,40,21,40],[19,41,21,41],[22,34,24,34],[19,42,21,42],[19,43,21,43],[19,44,21,44],[19,45,21,45],[22,1,23,1],[22,4,23,4],[22,10,24,11],[22,18,24,20],[22,27,24,29],[22,47,24,47],[22,36,24,36],[22,37,24,37],[22,38,24,38],[22,39,24,39],[22,40,24,40],[22,41,24,41],[22,42,24,42],[22,43,24,43],[22,44,24,44],[22,45,24,45],[22,46,24,46],[34,1,35,1],[34,4,35,4],[25,1,26,1],[25,4,26,4],[26,12,26,34],[28,1,29,1],[28,4,29,4],[31,1,32,1],[31,4,32,4]]}
[]
[null,null,null,null,null,null,null,null,null,null,null,null,"LIGUE MÉDITERRANÉENNE DE BILLARD"]
[null,"CLUB ORGANISATEUR"]
[]
[]
[null,"DIRECTEUR DE JEU :"]
[null,null,null,null,null,null,null,null,null,null,null,null,"Compétition",null,null,null,null,"Mode de jeu",null,null,"Categorie",null,null,"Format billard",null,null,null,"Distance"]
[]
[null,"Joueur 1",{"$f":"'Saisie des joueurs'!K18","v":0}]
[null,"Joueur 2",{"$f":"'Saisie des joueurs'!K19","v":0},null,null,null,null,null,null,null,null,null,"MATCH ALLER",null,null,null,null,null,null,null,null,"MATCH RETOUR"]
[null,"Joueur 3",{"$f":"'Saisie des joueurs'!K20","v":0}]
[]
[null,"SAISIE DES RESULTATS",null,null,null,null,null,null,null,null,null,null,{"$f":"C9","v":0},null,null,{"$f":"C10","v":0},null,null,{"$f":"C11","v":0},null,null,{"$f":"C9","v":0},null,null,{"$f":"C10","v":0},null,null,{"$f":"C11","v":0},null,null,null,"TOTAUX",null,null,"CLASSEMENT"]
[]
[null,null,null,null,null,null,null,null,null,null,null,null,null,null,null,null,null,null,null,null,null,null,null,null,null,null,null,null,null,null,null,null,null,null,null,null,"Classement",null,"Classement",null,"Classement","Classement",null,"Classement",null,"GENERAL","RANG"]
[null,"POULE A",null,null,null,null,null,null,null,null,null,null,null,null,null,null,null,null,null,null,null,null,null,null,null,null,null,null,null,null,null,null,null,null,null,null,"Point-Match","CLS-M","Moy-Gen","CLS-G","Moy-Part","M-Series","CLS-S","MGPS","CLS","CLS"]
[null,null,null,null,null,null,null,null,null,null,{"$f":"C9","v":0},null,"L",null,null,{"$f":"D26","v":0},null,{"$f":"E26","v":0},{"$f":"D20","v":0},null,{"$f":"E20","v":0},"L",null,null,{"$f":"D35","v":0},null,{"$f":"E35","v":0},{"$f":"D29","v":0},null,{"$f":"E29","v":0},null,{"$f":"P17+S17+Y17+AB17","v":0},null,{"$f":"R17+U17+AA17+AD17","v":0},{"$f":"AU17","v":{"$error":"#DIV/0!"}},null,{"$f":"AG18","v":0.04},{"$f":"RANK(AK17,AK$17:AK$25,0)","v":1},{"$f":"AH19","v":{"$error":"#DIV/0!"}},{"$f":"RANK(AM17,AM$17:AM$25,0)","v":{"$error":"#DIV/0!"}},{"$f":"MAX(R19,U19,AA19,AD19)","v":{"$error":"#DIV/0!"}},{"$f":"RANK(AO17,AO$17:AO$25)","v":{"$error":"#DIV/0!"}},{"$f":"AF19","v":0},{"$f":"RANK(AQ17,AQ$17:AQ$25)","v":1},{"$f":"(AL17*1000)+(AN17*100)+(AP17*10)+(AR17*1)","v":{"$error":"#DIV/0!"}},{"$f":"AS17","v":{"$error":"#DIV/0!"}},{"$f":"RANK(AT17,AT$17:AT$25,1)","v":{"$error":"#DIV/0!"}},{"$f":"RANK(AU17,AU$17:AU$25,1)","v":{"$error":"#DIV/0!"}}]
[null,null,null,null,null,null,null,null,null,null,null,null,null,null,null,null,{"$f":"IF(R17<1,0.01,IF(P17>M20,2,IF(P17=M20,1,0)))","v":0.01},null,null,{"$f":"IF(U17<1,0.01,IF(S17>M23,2,IF(S17=M23,1,0)))","v":0.01},null,null,null,null,null,{"$f":"IF(AA17<1,0.01,IF(Y17>V20,2,IF(Y17=V20,1,0)))","v":0.01},null,null,{"$f":"IF(AD17<1,0.01,IF(AB17>V23,2,IF(AB17=V23,1,0)))","v":0.01},null,null,null,{"$f":"Q18+T18+Z18+AC18","v":0.04}]
[null,null,null,"Pts","Rep","Série",null,null,null,null,null,null,null,null,null,{"$f":"F26","v":0},null,{"$f":"P17/R17","v":{"$error":"#DIV/0!"}},{"$f":"F20","v":0},null,{"$f":"S17/U17","v":{"$error":"#DIV/0!"}},null,null,null,{"$f":"F35","v":0},null,{"$f":"Y17/AA17","v":{"$error":"#DIV/0!"}},{"$f":"F29","v":0},null,{"$f":"AB17/AD17","v":{"$error":"#DIV/0!"}},null,{"$f":"MAX(P19,S19,Y19,AB19)","v":0},null,{"$f":"AF17/AH17","v":{"$error":"#DIV/0!"}}]
[null,"Tour 1\nMatch aller",{"$f":"C9","v":0},null,null,null,null,null,null,null,{"$f":"C10","v":0},null,{"$f":"D27","v":0},null,{"$f":"E26","v":0},"M",null,null,{"$f":"D23","v":0},null,{"$f":"E23","v":0},{"$f":"D36","v":0},null,{"$f":"E35","v":0},"M",null,null,{"$f":"D32","v":0},null,{"$f":"E32","v":0},null,{"$f":"M20+S20+V20+AB20","v":0},null,{"$f":"O20+U20+X20+AD20","v":0},{"$f":"AU20","v":{"$error":"#DIV/0!"}},null,{"$f":"AG21","v":0.04},{"$f":"RANK(AK20,AK$17:AK$25,0)","v":1},{"$f":"AH22","v":{"$error":"#DIV/0!"}},{"$f":"RANK(AM20,AM$17:AM$25,0)","v":{"$error":"#DIV/0!"}},{"$f":"MAX(R22,U22,AA22,AD22)","v":{"$error":"#DIV/0!"}},{"$f":"RANK(AO20,AO$17:AO$25)","v":{"$error":"#DIV/0!"}},{"$f":"AF22","v":0},{"$f":"RANK(AQ20,AQ$17:AQ$25)","v":1},{"$f":"(AL20*1000)+(AN20*100)+(AP20*10)+(AR20*1)","v":{"$error":"#DIV/0!"}},{"$f":"AS20","v":{"$error":"#DIV/0!"}},{"$f":"RANK(AT20,AT$17:AT$25,1)","v":{"$error":"#DIV/0!"}},{"$f":"RANK(AU20,AU$17:AU$25,1)","v":{"$error":"#DIV/0!"}}]
[null,null,{"$f":"C11","v":0},null,null,null,null,null,null,null,null,null,null,{"$f":"IF(R17>0,2-Q18,0.01)","v":0.01},null,null,null,null,null,{"$f":"IF(U20<1,0.01,IF(S20>P23,2,IF(S20=P23,1,0)))","v":0.01},null,null,{"$f":"IF(AA17>0,2-Z18,0.01)","v":0.01},null,null,null,null,null,{"$f":"IF(AD20<1,0.01,IF(AB20>Y23,2,IF(AB20=Y23,1,0)))","v":0.01},null,null,null,{"$f":"N21+T21+W21+AC21","v":0.04}]
[null,null,null,null,null,null,null,null,null,null,null,null,{"$f":"F27","v":0},null,{"$f":"M20/O20","v":{"$error":"#DIV/0!"}},null,null,null,{"$f":"F23","v":0},null,{"$f":"S20/U20","v":{"$error":"#DIV/0!"}},{"$f":"F36","v":0},null,{"$f":"V20/X20","v":{"$error":"#DIV/0!"}},null,null,null,{"$f":"F32","v":0},null,{"$f":"AB20/AD20","v":{"$error":"#DIV/0!"}},null,{"$f":"MAXA(M22,S22,V22,AB22)","v":0},null,{"$f":"AF20/AH20","v":{"$error":"#DIV/0!"}}]
[null,"Tour 2\nMatch aller",{"$f":"C10","v":0},null,null,null,null,null,null,null,{"$f":"C11","v":0},null,{"$f":"D21","v":0},null,{"$f":"E20","v":0},{"$f":"D24","v":0},null,{"$f":"E23","v":0},"B",null,null,{"$f":"D30","v":0},null,{"$f":"E29","v":0},{"$f":"D33","v":0},null,{"$f":"E32","v":0},"B",null,null,null,{"$f":"M23+P23+V23+Y23","v":0},null,{"$f":"O23+R23+X23+AA23","v":0},{"$f":"AU23","v":{"$error":"#DIV/0!"}},null,{"$f":"AG24","v":0.04},{"$f":"RANK(AK23,AK$17:AK$25,0)","v":1},{"$f":"AH25","v":{"$error":"#DIV/0!"}},{"$f":"RANK(AM23,AM$17:AM$25,0)","v":{"$error":"#DIV/0!"}},{"$f":"MAX(R25,U25,AA25,AD25)","v":{"$error":"#DIV/0!"}},{"$f":"RANK(AO23,AO$17:AO$25)","v":{"$error":"#DIV/0!"}},{"$f":"AF25","v":0},{"$f":"RANK(AQ23,AQ$17:AQ$25)","v":1},{"$f":"(AL23*1000)+(AN23*100)+(AP23*10)+(AR23*1)","v":{"$error":"#DIV/0!"}},{"$f":"AS23","v":{"$error":"#DIV/0!"}},{"$f":"RANK(AT23,AT$17:AT$25,1)","v":{"$error":"#DIV/0!"}},{"$f":"RANK(AU23,AU$17:AU$25,1)","v":{"$error":"#DIV/0!"}}]
[null,null,{"$f":"C11","v":0},null,null,null,null,null,null,null,null,null,null,{"$f":"IF(U17>0,2-T18,0.01)","v":0.01},null,null,{"$f":"IF(U20>0,2-T21,0.01)","v":0.01},null,null,null,null,null,{"$f":"IF(AD17>0,2-AC18,0.01)","v":0.01},null,null,{"$f":"IF(AD20>0,2-AC21,0.01)","v":0.01},null,null,null,null,null,null,{"$f":"N24+Q24+W24+Z24","v":0.04}]
[null,null,null,null,null,null,null,null,null,null,null,null,{"$f":"F21","v":0},null,{"$f":"M23/O23","v":{"$error":"#DIV/0!"}},{"$f":"F24","v":0},null,{"$f":"P23/R23","v":{"$error":"#DIV/0!"}},null,null,null,{"$f":"F30","v":0},null,{"$f":"V23/X23","v":{"$error":"#DIV/0!"}},{"$f":"F33","v":0},null,{"$f":"Y23/AA23","v":{"$error":"#DIV/0!"}},null,null,null,null,{"$f":"MAXA(M25,P25,V25,Y25)","v":0},null,{"$f":"AF23/AH23","v":{"$error":"#DIV/0!"}}]
[null,"Tour 3\nMatch aller",{"$f":"C9","v":0}]
[null,null,{"$f":"C10","v":0},null,null,null,null,null,null,null,null,null,"Pas de prolongation en cas de match nul."]
[]
[null,"Tour 1\nMatch retour",{"$f":"C9","v":0}]
[null,null,{"$f":"C11","v":0}]
[]
[null,"Tour 2\nMatch retour",{"$f":"C10","v":0}]
[null,null,{"$f":"C11","v":0}]
[]
[null,"Tour 3\nMatch retour",{"$f":"C9","v":0}]
[null,null,{"$f":"C10","v":0}]

{"sheet":"4JOUEURS_MOYENNE","index":35,"n_rows":40,"n_cols":42,"rows_kept":40,"cut":false,"hidden":true,"merged":[[26,31,28,31],[26,30,28,30],[26,32,28,32],[26,33,28,33],[26,34,28,34],[26,41,28,41],[20,41,22,41],[20,40,22,40],[23,41,25,41],[23,40,25,40],[26,40,28,40],[26,38,28,38],[26,39,28,39],[20,39,22,39],[23,39,25,39],[23,37,25,37],[23,38,25,38],[26,35,28,35],[20,33,22,33],[20,32,22,32],[20,31,22,31],[20,30,22,30],[26,36,28,36],[26,37,28,37],[50,1,50,2],[35,1,36,1],[35,4,36,4],[26,28,28,28],[26,10,28,11],[30,12,30,23],[32,1,33,1],[32,4,33,4],[29,1,30,1],[29,4,30,4],[26,21,28,23],[48,1,48,10],[41,1,41,10],[42,1,42,10],[43,1,43,10],[44,1,44,10],[45,1,45,10],[46,1,46,10],[47,1,47,10],[39,1,40,10],[26,1,27,1],[26,4,27,4],[23,1,24,1],[23,4,24,4],[20,1,21,1],[20,4,21,4],[8,2,8,5],[9,2,9,5],[10,2,10,5],[11,2,11,5],[16,1,17,2],[13,1,14,5],[17,12,19,14],[20,15,22,17],[23,18,25,20],[13,12,16,14],[13,15,16,17],[13,18,16,20],[13,21,16,23],[14,28,16,28],[17,10,19,11],[20,10,22,11],[23,10,25,11],[17,28,19,28],[20,28,22,28],[23,28,25,28],[14,10,16,11],[14,25,16,27],[15,30,15,31],[17,30,19,30],[17,31,19,31],[23,33,25,33],[23,34,25,34],[23,30,25,30],[23,31,25,31],[23,32,25,32],[23,36,25,36],[23,35,25,35],[15,41,16,41],[17,41,19,41],[17,40,19,40],[15,32,15,33],[15,34,15,35],[15,36,15,37],[17,36,19,36],[20,36,22,36],[15,38,15,39],[17,32,19,32],[17,33,19,33],[17,34,19,34],[17,35,19,35],[17,39,19,39],[17,37,19,37],[20,37,22,37],[20,38,22,38],[17,38,19,38],[20,35,22,35],[20,34,22,34],[7,12,7,15],[7,17,7,18],[7,20,7,21],[7,23,7,25],[7,27,7,28],[2,1,3,2],[2,3,3,9],[5,1,6,2],[5,3,6,9],[1,12,4,35],[6,12,6,15],[6,17,6,18],[6,20,6,21],[6,23,6,25],[6,27,6,28]]}
[]
[null,null,null,null,null,null,null,null,null,null,null,null,"LIGUE MÉDITERRANÉENNE DE BILLARD"]
[null,"CLUB ORGANISATEUR",null,"19009 – CLUB BILLARD ISTREEN"]
[]
[]
[null,"DIRECTEUR DE JEU :",null,"tutu"]
[null,null,null,null,null,null,null,null,null,null,null,null,"Compétition",null,null,null,null,"Mode de jeu",null,null,"Categorie",null,null,"Format billard",null,null,null,"Distance"]
[null,null,null,null,null,null,null,null,null,null,null,null,"TOURNOI N°6",null,null,null,null,"LIBRE",null,null,"R3"]
[null,"Joueur 1",{"$f":"'Saisie des joueurs'!K18","v":0}]
[null,"Joueur 2",{"$f":"'Saisie des joueurs'!K19","v":0}]
[null,"Joueur 3",{"$f":"'Saisie des joueurs'!K20","v":0}]
[null,"Joueur 4",{"$f":"'Saisie des joueurs'!K21","v":0}]
[]
[null,"SAISIE DES RESULTATS",null,null,null,null,null,null,null,null,null,null,{"$f":"C9","v":0},null,null,{"$f":"C10","v":0},null,null,{"$f":"C11","v":0},null,null,{"$f":"C12","v":0}]
[null,null,null,null,null,null,null,null,null,null,null,null,null,null,null,null,null,null,null,null,null,null,null,null,null,"TOTAUX",null,null,"CLASSEMENT"]
[null,null,null,null,null,null,null,null,null,null,null,null,null,null,null,null,null,null,null,null,null,null,null,null,null,null,null,null,null,null,"Classement",null,"Classement",null,"Classement",null,"Classement",null,"Classement",null,"GENERAL","RANG"]
[null,"POULE A",null,null,null,null,null,null,null,null,null,null,null,null,null,null,null,null,null,null,null,null,null,null,null,null,null,null,null,null,"Point-Match","CLS-M","Moy-Gen","CLS-G","Moy-Part","CLS-P","M-Series","CLS-S","MGPS","CLS","CLS"]
[null,null,null,null,null,null,null,null,null,null,{"$f":"C9","v":0},null,"L",null,null,{"$f":"D33","v":0},null,{"$f":"E33","v":0},{"$f":"D27","v":0},null,{"$f":"E27","v":0},{"$f":"D21","v":0},null,{"$f":"E21","v":0},null,{"$f":"P18+S18+V18","v":0},null,{"$f":"R18+U18+X18","v":0},{"$f":"AP18","v":{"$error":"#DIV/0!"}},null,{"$f":"AA19","v":0.03},{"$f":"RANK(AE18,AE$18:AE$29,0)","v":1},{"$f":"AB20","v":{"$error":"#DIV/0!"}},{"$f":"RANK(AG18,AG$18:AG$29,0)","v":{"$error":"#DIV/0!"}},{"$f":"MAX(R20,U20,X20)","v":{"$error":"#DIV/0!"}},{"$f":"RANK(AI18,AI$18:AI$29)","v":{"$error":"#DIV/0!"}},{"$f":"Z20","v":0},{"$f":"RANK(AK18,AK$18:AK$29)","v":1},{"$f":"(AF18*1000)+(AH18*100)+(AJ18*10)+(AL18*1)","v":{"$error":"#DIV/0!"}},{"$f":"AM18","v":{"$error":"#DIV/0!"}},{"$f":"RANK(AN18,AN$18:AN$29,1)","v":{"$error":"#DIV/0!"}},{"$f":"RANK(AO18,AO$18:AO$29,1)","v":{"$error":"#DIV/0!"}}]
[null,null,null,null,null,null,null,null,null,null,null,null,null,null,null,null,{"$f":"IF(R18<1,0.01,IF(P18>M21,2,IF(P18=M21,1,0)))","v":0.01},null,null,{"$f":"IF(U18<1,0.01,IF(S18>M24,2,IF(S18=M24,1,0)))","v":0.01},null,null,{"$f":"IF(X18<1,0.01,IF(V18>M27,2,IF(V18=M27,1,0)))","v":0.01},null,null,null,{"$f":"Q19+T19+W19","v":0.03}]
[null,null,null,null,null,null,null,null,null,null,null,null,null,null,null,{"$f":"F33","v":0},null,{"$f":"P18/R18","v":{"$error":"#DIV/0!"}},{"$f":"F27","v":0},null,{"$f":"S18/U18","v":{"$error":"#DIV/0!"}},{"$f":"F21","v":0},null,{"$f":"V18/X18","v":{"$error":"#DIV/0!"}},null,{"$f":"MAX(P20,S20,V20)","v":0},null,{"$f":"Z18/AB18","v":{"$error":"#DIV/0!"}}]
[null,"Tour 1",{"$f":"C9","v":0},null,null,null,null,null,null,null,{"$f":"C10","v":0},null,{"$f":"D34","v":0},null,{"$f":"E33","v":0},"M",null,null,{"$f":"D24","v":0},null,{"$f":"E24","v":0},{"$f":"D31","v":0},null,{"$f":"E30","v":0},null,{"$f":"M21+S21+V21","v":0},null,{"$f":"O21+U21+X21","v":0},{"$f":"AP21","v":{"$error":"#DIV/0!"}},null,{"$f":"AA22","v":0.03},{"$f":"RANK(AE21,AE$18:AE$29,0)","v":1},{"$f":"AB23","v":{"$error":"#DIV/0!"}},{"$f":"RANK(AG21,AG$18:AG$29,0)","v":{"$error":"#DIV/0!"}},{"$f":"MAX(O23,U23,X23)","v":{"$error":"#DIV/0!"}},{"$f":"RANK(AI21,AI$18:AI$29)","v":{"$error":"#DIV/0!"}},{"$f":"Z23","v":0},{"$f":"RANK(AK21,AK$18:AK$29)","v":1},{"$f":"(AF21*1000)+(AH21*100)+(AJ21*10)+(AL21*1)","v":{"$error":"#DIV/0!"}},{"$f":"AM21","v":{"$error":"#DIV/0!"}},{"$f":"RANK(AN21,AN$18:AN$29,1)","v":{"$error":"#DIV/0!"}},{"$f":"RANK(AO21,AO$18:AO$29,1)","v":{"$error":"#DIV/0!"}}]
[null,null,{"$f":"C12","v":0},null,null,null,null,null,null,null,null,null,null,{"$f":"IF(R18>0,2-Q19,0.01)","v":0.01},null,null,null,null,null,{"$f":"IF(U21<1,0.01,IF(S21>P24,2,IF(S21=P24,1,0)))","v":0.01},null,null,{"$f":"IF(X21<1,0.01,IF(V21>P27,2,IF(V21=P27,1,0)))","v":0.01},null,null,null,{"$f":"N22+T22+W22","v":0.03}]
[null,null,null,null,null,null,null,null,null,null,null,null,{"$f":"F34","v":0},null,{"$f":"M21/O21","v":{"$error":"#DIV/0!"}},null,null,null,{"$f":"F24","v":0},null,{"$f":"S21/U21","v":{"$error":"#DIV/0!"}},{"$f":"F31","v":0},null,{"$f":"V21/X21","v":{"$error":"#DIV/0!"}},null,{"$f":"MAXA(M23,S23,V23)","v":0},null,{"$f":"Z21/AB21","v":{"$error":"#DIV/0!"}}]
[null,"Tour 2",{"$f":"C10","v":0},null,null,null,null,null,null,null,{"$f":"C11","v":0},null,{"$f":"D28","v":0},null,{"$f":"E27","v":0},{"$f":"D25","v":0},null,{"$f":"E24","v":0},"B",null,null,{"$f":"D36","v":0},null,{"$f":"E36","v":0},null,{"$f":"M24+P24+V24","v":0},null,{"$f":"O24+R24+X24","v":0},{"$f":"AP24","v":{"$error":"#DIV/0!"}},null,{"$f":"AA25","v":0.03},{"$f":"RANK(AE24,AE$18:AE$29,0)","v":1},{"$f":"AB26","v":{"$error":"#DIV/0!"}},{"$f":"RANK(AG24,AG$18:AG$29,0)","v":{"$error":"#DIV/0!"}},{"$f":"MAX(O26,R26,X26)","v":{"$error":"#DIV/0!"}},{"$f":"RANK(AI24,AI$18:AI$29)","v":{"$error":"#DIV/0!"}},{"$f":"Z26","v":0},{"$f":"RANK(AK24,AK$18:AK$29)","v":1},{"$f":"(AF24*1000)+(AH24*100)+(AJ24*10)+(AL24*1)","v":{"$error":"#DIV/0!"}},{"$f":"AM24","v":{"$error":"#DIV/0!"}},{"$f":"RANK(AN24,AN$18:AN$29,1)","v":{"$error":"#DIV/0!"}},{"$f":"RANK(AO24,AO$18:AO$29,1)","v":{"$error":"#DIV/0!"}}]
[null,null,{"$f":"C11","v":0},null,null,null,null,null,null,null,null,null,null,{"$f":"IF(U18>0,2-T19,0.01)","v":0.01},null,null,{"$f":"IF(U21>0,2-T22,0.01)","v":0.01},null,null,null,null,null,{"$f":"IF(X24<1,0.01,IF(V24>S27,2,IF(V24=S27,1,0)))","v":0.01},null,null,null,{"$f":"N25+Q25+W25","v":0.03}]
[null,null,null,null,null,null,null,null,null,null,null,null,{"$f":"F28","v":0},null,{"$f":"M24/O24","v":{"$error":"#DIV/0!"}},{"$f":"F25","v":0},null,{"$f":"P24/R24","v":{"$error":"#DIV/0!"}},null,null,null,{"$f":"F36","v":0},null,{"$f":"V24/X24","v":{"$error":"#DIV/0!"}},null,{"$f":"MAXA(M26,P26,V26)","v":0},null,{"$f":"Z24/AB24","v":{"$error":"#DIV/0!"}}]
[null,"Tour 3",{"$f":"C9","v":0},null,null,null,null,null,null,null,{"$f":"C12","v":0},null,{"$f":"D22","v":0},null,{"$f":"E21","v":0},{"$f":"D30","v":0},null,{"$f":"E30","v":0},{"$f":"D37","v":0},null,{"$f":"E36","v":0},null,null,null,null,{"$f":"M27+P27+S27","v":0},null,{"$f":"O27+R27+U27","v":0},{"$f":"AP27","v":{"$error":"#DIV/0!"}},null,{"$f":"AA28","v":0.03},{"$f":"RANK(AE27,AE$18:AE$29,0)","v":1},{"$f":"AB29","v":{"$error":"#DIV/0!"}},{"$f":"RANK(AG27,AG$18:AG$29,0)","v":{"$error":"#DIV/0!"}},{"$f":"MAX(O29,R29,U29)","v":{"$error":"#DIV/0!"}},{"$f":"RANK(AI27,AI$18:AI$29)","v":{"$error":"#DIV/0!"}},{"$f":"Z29","v":0},{"$f":"RANK(AK27,AK$18:AK$29)","v":1},{"$f":"(AF27*1000)+(AH27*100)+(AJ27*10)+(AL27*1)","v":{"$error":"#DIV/0!"}},{"$f":"AM27","v":{"$error":"#DIV/0!"}},{"$f":"RANK(AN27,AN$18:AN$29,1)","v":{"$error":"#DIV/0!"}},{"$f":"RANK(AO27,AO$18:AO$29,1)","v":{"$error":"#DIV/0!"}}]
[null,null,{"$f":"C11","v":0},null,null,null,null,null,null,null,null,null,null,{"$f":"IF(X18>0,2-W19,0.01)","v":0.01},null,null,{"$f":"IF(X21>0,2-W22,0.01)","v":0.01},null,null,{"$f":"IF(X24>0,2-W25,0.01)","v":0.01},null,null,null,null,null,null,{"$f":"N28+Q28+T28","v":0.03}]
[null,null,null,null,null,null,null,null,null,null,null,null,{"$f":"F22","v":0},null,{"$f":"M27/O27","v":{"$error":"#DIV/0!"}},{"$f":"F30","v":0},null,{"$f":"P27/R27","v":{"$error":"#DIV/0!"}},{"$f":"F37","v":0},null,{"$f":"S27/U27","v":{"$error":"#DIV/0!"}},null,null,null,null,{"$f":"MAXA(M29,P29,S29)","v":0},null,{"$f":"Z27/AB27","v":{"$error":"#DIV/0!"}}]
[null,"Tour 4",{"$f":"C12","v":0}]
[null,null,{"$f":"C10","v":0},null,null,null,null,null,null,null,null,null,"Pas de prolongation en cas de match nul."]
[]
[null,"Tour 5",{"$f":"C9","v":0}]
[null,null,{"$f":"C10","v":0}]
[]
[null,"Tour 6",{"$f":"C11","v":0}]
[null,null,{"$f":"C12","v":0}]
[]
[]
[null,"OBSERVATIONS"]

{"sheet":"5JOUEURS_MOYENNE","index":36,"n_rows":38,"n_cols":49,"rows_kept":38,"cut":false,"hidden":true,"merged":[[32,1,33,12],[32,14,32,30],[34,1,36,12],[28,45,30,45],[28,46,30,46],[28,47,30,47],[28,48,30,48],[29,1,30,1],[29,4,30,4],[29,9,30,9],[28,39,30,39],[28,40,30,40],[28,41,30,41],[28,42,30,42],[28,43,30,43],[28,44,30,44],[28,12,30,12],[28,14,30,15],[28,28,30,30],[28,35,30,35],[28,37,30,37],[28,38,30,38],[25,45,27,45],[25,46,27,46],[25,47,27,47],[25,48,27,48],[26,1,27,1],[26,4,27,4],[26,9,27,9],[25,39,27,39],[25,40,27,40],[25,41,27,41],[25,42,27,42],[25,43,27,43],[25,44,27,44],[25,12,27,12],[25,14,27,15],[25,25,27,27],[25,35,27,35],[25,37,27,37],[25,38,27,38],[22,45,24,45],[22,46,24,46],[22,47,24,47],[22,48,24,48],[23,1,24,1],[23,4,24,4],[23,9,24,9],[22,39,24,39],[22,40,24,40],[22,41,24,41],[22,42,24,42],[22,43,24,43],[22,44,24,44],[22,12,24,12],[22,14,24,15],[22,22,24,24],[22,35,24,35],[22,37,24,37],[22,38,24,38],[19,45,21,45],[19,46,21,46],[19,47,21,47],[19,48,21,48],[20,1,21,1],[20,4,21,4],[20,9,21,9],[19,39,21,39],[19,40,21,40],[19,41,21,41],[19,42,21,42],[19,43,21,43],[19,44,21,44],[19,12,21,12],[19,14,21,15],[19,19,21,21],[19,35,21,35],[19,37,21,37],[19,38,21,38],[17,1,18,1],[17,4,18,4],[17,9,18,9],[16,38,18,38],[16,39,18,39],[16,40,18,40],[16,41,18,41],[16,42,18,42],[16,43,18,43],[14,39,14,40],[14,41,14,42],[14,43,14,44],[14,45,14,46],[14,48,15,48],[16,12,18,12],[16,14,18,15],[16,16,18,18],[16,35,18,35],[16,37,18,37],[13,25,15,27],[13,28,15,30],[13,32,15,34],[13,35,15,35],[14,12,15,12],[14,37,14,38],[16,44,18,44],[16,45,18,45],[16,46,18,46],[16,47,18,47],[16,48,18,48],[13,1,14,2],[13,7,14,10],[13,14,15,15],[13,16,15,18],[13,19,15,21],[13,22,15,24],[7,12,7,15],[7,17,7,18],[7,20,7,21],[7,23,7,25],[7,27,7,28],[10,1,11,10],[10,12,11,12],[10,14,11,30],[1,12,4,35],[2,1,3,2],[2,3,3,9],[5,1,6,2],[5,3,6,9],[6,12,6,15],[6,17,6,18],[6,20,6,21],[6,23,6,25],[6,27,6,28]]}
[]
[null,null,null,null,null,null,null,null,null,null,null,null,"LIGUE MÉDITERRANÉENNE DE BILLARD"]
[null,"CLUB ORGANISATEUR"]
[]
[]
[null,"DIRECTEUR DE JEU :"]
[null,null,null,null,null,null,null,null,null,null,null,null,"Compétition",null,null,null,null,"Mode de jeu",null,null,"Categorie",null,null,"Format billard",null,null,null,"Distance"]
[]
[]
[]
[null,"SAISIE DES RESULTATS",null,null,null,null,null,null,null,null,null,null,null,null,"POULE UNIQUE LMB - 5 JOUEURS - SUR 2 BILLARDS - 1 EXEMPT"]
[]
[]
[null,"Billard 1",null,null,null,null,null,"Billard 2",null,null,null,null,null,null,null,null,{"$f":"'Saisie des joueurs'!K18","v":0},null,null,{"$f":"'Saisie des joueurs'!K19","v":0},null,null,{"$f":"'Saisie des joueurs'!K20","v":0},null,null,{"$f":"'Saisie des joueurs'!K21","v":0},null,null,{"$f":"'Saisie des joueurs'!K22","v":0},null,null,null,"TOTAUX",null,null,"CLASSEMENT"]
[null,null,null,null,null,null,null,null,null,null,null,null,"EXEMPT",null,null,null,null,null,null,null,null,null,null,null,null,null,null,null,null,null,null,null,null,null,null,null,null,"Classement",null,"Classement",null,"Classement",null,"Classement",null,"Classement",null,"GENERAL","RANG"]
[null,null,null,null,null,null,null,null,null,null,null,null,null,null,null,null,null,null,null,null,null,null,null,null,null,null,null,null,null,null,null,null,null,null,null,null,null,"Point-Match","CLS-M","Moy-Gen","CLS-G","Moy-Part","CLS-P","M-Series","CLS-S","MGPS","CLS","CLS"]
[null,null,null,"Pts","Rep","Série",null,null,"Pts",null,null,null,{"$f":"O17","v":0},null,{"$f":"'Saisie des joueurs'!K18","v":0},null,null,null,null,{"$f":"D30","v":0},null,{"$f":"E30","v":0},{"$f":"I27","v":0},null,{"$f":"J27","v":0},{"$f":"I24","v":0},null,{"$f":"J24","v":0},{"$f":"D21","v":0},null,{"$f":"E21","v":0},null,{"$f":"T17+W17+Z17+AC17","v":0},null,{"$f":"V17+Y17+AB17+AE17","v":0},{"$f":"AW17","v":{"$error":"#DIV/0!"}},null,{"$f":"AH18","v":0.04},{"$f":"RANK(AL17,AL$17:AL$31,0)","v":1},{"$f":"AI19","v":{"$error":"#DIV/0!"}},{"$f":"RANK(AN17,AN$17:AN$31,0)","v":{"$error":"#DIV/0!"}},{"$f":"MAX(V19,Y19,AB19,AE19)","v":{"$error":"#DIV/0!"}},{"$f":"RANK(AP17,AP$17:AP$31)","v":{"$error":"#DIV/0!"}},{"$f":"AG19","v":0},{"$f":"RANK(AR17,AR$17:AR$31)","v":1},{"$f":"(AM17*1000)+(AO17*100)+(AQ17*10)+(AS17*1)","v":{"$error":"#DIV/0!"}},{"$f":"AT17","v":{"$error":"#DIV/0!"}},{"$f":"RANK(AU17,AU$17:AU$31,1)","v":{"$error":"#DIV/0!"}},{"$f":"RANK(AV17,AV$17:AV$31,1)","v":{"$error":"#DIV/0!"}}]
[null,"Tour 1",{"$f":"O23","v":0},null,null,null,null,{"$f":"O20","v":0},null,null,null,null,null,null,null,null,null,null,null,null,{"$f":"IF(V17<1,0.01,IF(T17>Q20,2,IF(T17=Q20,1,0)))","v":0.01},null,null,{"$f":"IF(Y17<1,0.01,IF(W17>Q23,2,IF(W17=Q23,1,0)))","v":0.01},null,null,{"$f":"IF(AB17<1,0.01,IF(Z17>Q26,2,IF(Z17=Q26,1,0)))","v":0.01},null,null,{"$f":"IF(AE17<1,0.01,IF(AC17>Q29,2,IF(AC17=Q29,1,0)))","v":0.01},null,null,null,{"$f":"U18+X18+AA18+AD18","v":0.04}]
[null,null,{"$f":"O26","v":0},null,null,null,null,{"$f":"O29","v":0},null,null,null,null,null,null,null,null,null,null,null,{"$f":"F30","v":0},null,{"$f":"T17/V17","v":{"$error":"#DIV/0!"}},{"$f":"K27","v":0},null,{"$f":"W17/Y17","v":{"$error":"#DIV/0!"}},{"$f":"K24","v":0},null,{"$f":"Z17/AB17","v":{"$error":"#DIV/0!"}},{"$f":"F21","v":0},null,{"$f":"AC17/AE17","v":{"$error":"#DIV/0!"}},null,{"$f":"MAX(T19,W19,Z19,AC19)","v":0},null,{"$f":"AG17/AI17","v":{"$error":"#DIV/0!"}}]
[null,null,null,null,null,null,null,null,null,null,null,null,{"$f":"O26","v":0},null,{"$f":"'Saisie des joueurs'!K19","v":0},null,{"$f":"D31","v":0},null,{"$f":"E30","v":0},"L",null,null,{"$f":"I21","v":0},null,{"$f":"J21","v":0},{"$f":"D27","v":0},null,{"$f":"E27","v":0},{"$f":"I18","v":0},null,{"$f":"J18","v":0},null,{"$f":"Q20+W20+Z20+AC20","v":0},null,{"$f":"S20+Y20+AB20+AE20","v":0},{"$f":"AW20","v":{"$error":"#DIV/0!"}},null,{"$f":"AH21","v":0.04},{"$f":"RANK(AL20,AL$17:AL$31,0)","v":1},{"$f":"AI22","v":{"$error":"#DIV/0!"}},{"$f":"RANK(AN20,AN$17:AN$31,0)","v":{"$error":"#DIV/0!"}},{"$f":"MAX(S22,Y22,AB22,AE22)","v":{"$error":"#DIV/0!"}},{"$f":"RANK(AP20,AP$17:AP$31)","v":{"$error":"#DIV/0!"}},{"$f":"AG22","v":0},{"$f":"RANK(AR20,AR$17:AR$31)","v":1},{"$f":"(AM20*1000)+(AO20*100)+(AQ20*10)+(AS20*1)","v":{"$error":"#DIV/0!"}},{"$f":"AT20","v":{"$error":"#DIV/0!"}},{"$f":"RANK(AU20,AU$17:AU$31,1)","v":{"$error":"#DIV/0!"}},{"$f":"RANK(AV20,AV$17:AV$31,1)","v":{"$error":"#DIV/0!"}}]
[null,"Tour 2",{"$f":"O17","v":0},null,null,null,null,{"$f":"O20","v":0},null,null,null,null,null,null,null,null,null,{"$f":"IF(V17>0,2-U18,0.01)","v":0.01},null,null,null,null,null,{"$f":"IF(Y20<1,0.01,IF(W20>T23,2,IF(W20=T23,1,0)))","v":0.01},null,null,{"$f":"IF(AB20<1,0.01,IF(Z20>T26,2,IF(Z20=T26,1,0)))","v":0.01},null,null,{"$f":"IF(AE20<1,0.01,IF(AC20>T29,2,IF(AC20=T29,1,0)))","v":0.01},null,null,null,{"$f":"R21+X21+AA21+AD21","v":0.04}]
[null,null,{"$f":"O29","v":0},null,null,null,null,{"$f":"O23","v":0},null,null,null,null,null,null,null,null,{"$f":"F31","v":0},null,{"$f":"Q20/S20","v":{"$error":"#DIV/0!"}},null,null,null,{"$f":"K21","v":0},null,{"$f":"W20/Y20","v":{"$error":"#DIV/0!"}},{"$f":"F27","v":0},null,{"$f":"Z20/AB20","v":{"$error":"#DIV/0!"}},{"$f":"K18","v":0},null,{"$f":"AC20/AE20","v":{"$error":"#DIV/0!"}},null,{"$f":"MAXA(Q22,W22,Z22,AC22)","v":0},null,{"$f":"AG20/AI20","v":{"$error":"#DIV/0!"}}]
[null,null,null,null,null,null,null,null,null,null,null,null,{"$f":"O20","v":0},null,{"$f":"'Saisie des joueurs'!K20","v":0},null,{"$f":"I28","v":0},null,{"$f":"J27","v":0},{"$f":"I22","v":0},null,{"$f":"J21","v":0},"M",null,null,{"$f":"D18","v":0},null,{"$f":"E18","v":0},{"$f":"D24","v":0},null,{"$f":"E24","v":0},null,{"$f":"Q23+T23+Z23+AC23","v":0},null,{"$f":"S23+V23+AB23+AE23","v":0},{"$f":"AW23","v":{"$error":"#DIV/0!"}},null,{"$f":"AH24","v":0.04},{"$f":"RANK(AL23,AL$17:AL$31,0)","v":1},{"$f":"AI25","v":{"$error":"#DIV/0!"}},{"$f":"RANK(AN23,AN$17:AN$31,0)","v":{"$error":"#DIV/0!"}},{"$f":"MAX(S25,V25,AB25,AE25)","v":{"$error":"#DIV/0!"}},{"$f":"RANK(AP23,AP$17:AP$31)","v":{"$error":"#DIV/0!"}},{"$f":"AG25","v":0},{"$f":"RANK(AR23,AR$17:AR$31)","v":1},{"$f":"(AM23*1000)+(AO23*100)+(AQ23*10)+(AS23*1)","v":{"$error":"#DIV/0!"}},{"$f":"AT23","v":{"$error":"#DIV/0!"}},{"$f":"RANK(AU23,AU$17:AU$31,1)","v":{"$error":"#DIV/0!"}},{"$f":"RANK(AV23,AV$17:AV$31,1)","v":{"$error":"#DIV/0!"}}]
[null,"Tour 3",{"$f":"O23","v":0},null,null,null,null,{"$f":"O17","v":0},null,null,null,null,null,null,null,null,null,{"$f":"IF(Y17>0,2-X18,0.01)","v":0.01},null,null,{"$f":"IF(Y20>0,2-X21,0.01)","v":0.01},null,null,null,null,null,{"$f":"IF(AB23<1,0.01,IF(Z23>W26,2,IF(Z23=W26,1,0)))","v":0.01},null,null,{"$f":"IF(AE23<1,0.01,IF(AC23>W29,2,IF(AC23=W29,1,0)))","v":0.01},null,null,null,{"$f":"R24+U24+AA24+AD24","v":0.04}]
[null,null,{"$f":"O29","v":0},null,null,null,null,{"$f":"O26","v":0},null,null,null,null,null,null,null,null,{"$f":"K28","v":0},null,{"$f":"Q23/S23","v":{"$error":"#DIV/0!"}},{"$f":"K22","v":0},null,{"$f":"T23/V23","v":{"$error":"#DIV/0!"}},null,null,null,{"$f":"F18","v":0},null,{"$f":"Z23/AB23","v":{"$error":"#DIV/0!"}},{"$f":"F24","v":0},null,{"$f":"AC23/AE23","v":{"$error":"#DIV/0!"}},null,{"$f":"MAXA(Q25,T25,Z25,AC25)","v":0},null,{"$f":"AG23/AI23","v":{"$error":"#DIV/0!"}}]
[null,null,null,null,null,null,null,null,null,null,null,null,{"$f":"O29","v":0},null,{"$f":"'Saisie des joueurs'!K21","v":0},null,{"$f":"I25","v":0},null,{"$f":"J24","v":0},{"$f":"D28","v":0},null,{"$f":"E27","v":0},{"$f":"D19","v":0},null,{"$f":"E18","v":0},"B",null,null,{"$f":"I30","v":0},null,{"$f":"J30","v":0},null,{"$f":"Q26+T26+W26+AC26","v":0},null,{"$f":"S26+V26+Y26+AE26","v":0},{"$f":"AW26","v":{"$error":"#DIV/0!"}},null,{"$f":"AH27","v":0.04},{"$f":"RANK(AL26,AL$17:AL$31,0)","v":1},{"$f":"AI28","v":{"$error":"#DIV/0!"}},{"$f":"RANK(AN26,AN$17:AN$31,0)","v":{"$error":"#DIV/0!"}},{"$f":"MAX(S28,V28,Y28)","v":{"$error":"#DIV/0!"}},{"$f":"RANK(AP26,AP$17:AP$31)","v":{"$error":"#DIV/0!"}},{"$f":"AG28","v":0},{"$f":"RANK(AR26,AR$17:AR$31)","v":1},{"$f":"(AM26*1000)+(AO26*100)+(AQ26*10)+(AS26*1)","v":{"$error":"#DIV/0!"}},{"$f":"AT26","v":{"$error":"#DIV/0!"}},{"$f":"RANK(AU26,AU$17:AU$31,1)","v":{"$error":"#DIV/0!"}},{"$f":"RANK(AV26,AV$17:AV$31,1)","v":{"$error":"#DIV/0!"}}]
[null,"Tour 4",{"$f":"O20","v":0},null,null,null,null,{"$f":"O17","v":0},null,null,null,null,null,null,null,null,null,{"$f":"IF(AB17>0,2-AA18,0.01)","v":0.01},null,null,{"$f":"IF(AB20>0,2-AA21,0.01)","v":0.01},null,null,{"$f":"IF(AB23>0,2-AA24,0.01)","v":0.01},null,null,null,null,null,{"$f":"IF(AE26<1,0.01,IF(AC26>Z29,2,IF(AC26=Z29,1,0)))","v":0.01},null,null,null,{"$f":"R27+U27+X27+AD27","v":0.04}]
[null,null,{"$f":"O26","v":0},null,null,null,null,{"$f":"O23","v":0},null,null,null,null,null,null,null,null,{"$f":"K25","v":0},null,{"$f":"Q26/S26","v":{"$error":"#DIV/0!"}},{"$f":"F28","v":0},null,{"$f":"T26/V26","v":{"$error":"#DIV/0!"}},{"$f":"F19","v":0},null,{"$f":"W26/Y26","v":{"$error":"#DIV/0!"}},null,null,null,{"$f":"K30","v":0},null,{"$f":"AC26/AE26","v":{"$error":"#DIV/0!"}},null,{"$f":"MAXA(Q28,T28,W28,AC28)","v":0},null,{"$f":"AG26/AI26","v":{"$error":"#DIV/0!"}}]
[null,null,null,null,null,null,null,null,null,null,null,null,{"$f":"O23","v":0},null,{"$f":"'Saisie des joueurs'!K22","v":0},null,{"$f":"D22","v":0},null,{"$f":"E21","v":0},{"$f":"I19","v":0},null,{"$f":"J18","v":0},{"$f":"D25","v":0},null,{"$f":"E24","v":0},{"$f":"I31","v":0},null,{"$f":"J30","v":0},null,null,null,null,{"$f":"Q29+T29+W29+Z29","v":0},null,{"$f":"S29+V29+Y29+AB29","v":0},{"$f":"AW29","v":{"$error":"#DIV/0!"}},null,{"$f":"AH30","v":0.04},{"$f":"RANK(AL29,AL$17:AL$31,0)","v":1},{"$f":"AI31","v":{"$error":"#DIV/0!"}},{"$f":"RANK(AN29,AN$17:AN$31,0)","v":{"$error":"#DIV/0!"}},{"$f":"MAX(S31,V31,Y31)","v":{"$error":"#DIV/0!"}},{"$f":"RANK(AP29,AP$17:AP$31)","v":{"$error":"#DIV/0!"}},{"$f":"AG31","v":0},{"$f":"RANK(AR29,AR$17:AR$31)","v":1},{"$f":"(AM29*1000)+(AO29*100)+(AQ29*10)+(AS29*1)","v":{"$error":"#DIV/0!"}},{"$f":"AT29","v":{"$error":"#DIV/0!"}},{"$f":"RANK(AU29,AU$17:AU$31,1)","v":{"$error":"#DIV/0!"}},{"$f":"RANK(AV29,AV$17:AV$31,1)","v":{"$error":"#DIV/0!"}}]
[null,"Tour 5",{"$f":"O17","v":0},null,null,null,null,{"$f":"O26","v":0},null,null,null,null,null,null,null,null,null,{"$f":"IF(AE17>0,2-AD18,0.01)","v":0.01},null,null,{"$f":"IF(AE20>0,2-AD21,0.01)","v":0.01},null,null,{"$f":"IF(AE23>0,2-AD24,0.01)","v":0.01},null,null,{"$f":"IF(AE26>0,2-AD27,0.01)","v":0.01},null,null,null,null,null,null,{"$f":"R30+U30+X30+AA30","v":0.04}]
[null,null,{"$f":"O20","v":0},null,null,null,null,{"$f":"O29","v":0},null,null,null,null,null,null,null,null,{"$f":"F22","v":0},null,{"$f":"Q29/S29","v":{"$error":"#DIV/0!"}},{"$f":"K19","v":0},null,{"$f":"T29/V29","v":{"$error":"#DIV/0!"}},{"$f":"F25","v":0},null,{"$f":"W29/Y29","v":{"$error":"#DIV/0!"}},{"$f":"K31","v":0},null,{"$f":"Z29/AB29","v":{"$error":"#DIV/0!"}},null,null,null,null,{"$f":"MAXA(Q31,T31,W31,Z31)","v":0},null,{"$f":"AG29/AI29","v":{"$error":"#DIV/0!"}}]
[]
[null,null,null,null,null,null,null,null,null,null,null,null,null,null,"Pas de prolongation en cas de match nul."]
[]
[]
[]
[]
[null,"© - A. FERHAT - C. PEREZ - A.LETELLIER"]

{"sheet":"6JOUEURS_MOYENNE","index":37,"n_rows":67,"n_cols":48,"rows_kept":67,"cut":false,"hidden":true,"merged":[[7,12,7,15],[7,17,7,18],[7,20,7,21],[7,23,7,25],[7,27,7,28],[9,2,9,5],[1,12,4,35],[2,1,3,2],[2,3,3,9],[5,1,6,2],[5,3,6,9],[6,12,6,15],[6,17,6,18],[6,20,6,21],[6,23,6,25],[6,27,6,28],[10,2,10,5],[11,2,11,5],[11,12,11,20],[11,21,11,29],[13,1,14,5],[13,12,16,14],[13,15,16,17],[13,18,16,20],[13,21,16,23],[13,24,16,26],[15,41,15,42],[15,43,15,44],[15,46,16,46],[16,1,17,2],[17,10,19,11],[17,12,19,14],[17,21,19,23],[17,34,19,34],[17,36,19,36],[17,37,19,37],[13,27,16,29],[13,31,16,33],[13,34,16,34],[14,10,16,11],[15,36,15,37],[15,38,15,39],[17,44,19,44],[17,45,19,45],[17,46,19,46],[17,47,19,47],[20,1,21,1],[20,4,21,4],[20,10,22,11],[20,15,22,17],[20,24,22,26],[20,34,22,34],[17,38,19,38],[17,39,19,39],[17,40,19,40],[17,41,19,41],[17,42,19,42],[17,43,19,43],[20,42,22,42],[20,43,22,43],[20,44,22,44],[20,45,22,45],[20,46,22,46],[20,47,22,47],[20,36,22,36],[20,37,22,37],[20,38,22,38],[20,39,22,39],[20,40,22,40],[20,41,22,41],[23,44,25,44],[23,45,25,45],[23,46,25,46],[23,47,25,47],[23,36,25,36],[23,37,25,37],[23,38,25,38],[23,39,25,39],[23,40,25,40],[23,41,25,41],[26,1,27,1],[26,4,27,4],[27,12,27,34],[29,1,30,1],[29,4,30,4],[32,1,33,1],[32,4,33,4],[23,42,25,42],[23,43,25,43],[23,1,24,1],[23,4,24,4],[23,10,25,11],[23,18,25,20],[23,27,25,29],[23,34,25,34],[41,21,41,29],[43,1,44,5],[43,12,46,14],[43,15,46,17],[43,18,46,20],[43,21,46,23],[43,24,46,26],[43,27,46,29],[35,1,36,1],[35,4,36,4],[38,2,38,5],[39,2,39,5],[40,2,40,5],[41,12,41,20],[50,46,52,46],[50,47,52,47],[50,41,52,41],[50,42,52,42],[45,43,45,44],[45,46,46,46],[46,1,47,2],[47,10,49,11],[47,12,49,14],[47,21,49,23],[47,34,49,34],[47,36,49,36],[47,37,49,37],[47,38,49,38],[43,31,46,33],[43,34,46,34],[44,10,46,11],[45,36,45,37],[45,38,45,39],[45,41,45,42],[47,45,49,45],[47,46,49,46],[53,10,55,11],[53,18,55,20],[53,27,55,29],[50,37,52,37],[50,38,52,38],[50,39,52,39],[50,40,52,40],[47,47,49,47],[50,1,51,1],[50,4,51,4],[50,10,52,11],[50,15,52,17],[50,24,52,26],[50,34,52,34],[50,36,52,36],[47,39,49,39],[47,40,49,40],[47,41,49,41],[47,42,49,42],[47,43,49,43],[47,44,49,44],[50,43,52,43],[50,44,52,44],[50,45,52,45],[62,1,63,1],[62,4,63,4],[65,1,66,1],[65,4,66,4],[53,47,55,47],[56,1,57,1],[56,4,57,4],[57,12,57,34],[59,1,60,1],[59,4,60,4],[53,41,55,41],[53,42,55,42],[53,43,55,43],[53,44,55,44],[53,45,55,45],[53,46,55,46],[53,34,55,34],[53,36,55,36],[53,37,55,37],[53,38,55,38],[53,39,55,39],[53,40,55,40],[53,1,54,1],[53,4,54,4]]}
[]
[null,null,null,null,null,null,null,null,null,null,null,null,"LIGUE MÉDITERRANÉENNE DE BILLARD"]
[null,"CLUB ORGANISATEUR"]
[]
[]
[null,"DIRECTEUR DE JEU :"]
[null,null,null,null,null,null,null,null,null,null,null,null,"Compétition",null,null,null,null,"Mode de jeu",null,null,"Categorie",null,null,"Format billard",null,null,null,"Distance"]
[]
[]
[null,"Joueur 1",{"$f":"'Saisie des joueurs'!K18","v":0}]
[null,"Joueur 2",{"$f":"'Saisie des joueurs'!K19","v":0}]
[null,"Joueur 3",{"$f":"'Saisie des joueurs'!K20","v":0},null,null,null,null,null,null,null,null,null,"MATCH ALLER",null,null,null,null,null,null,null,null,"MATCH RETOUR"]
[]
[null,"SAISIE DES RESULTATS",null,null,null,null,null,null,null,null,null,null,{"$f":"C10","v":0},null,null,{"$f":"C11","v":0},null,null,{"$f":"C12","v":0},null,null,{"$f":"C10","v":0},null,null,{"$f":"C11","v":0},null,null,{"$f":"C12","v":0},null,null,null,"TOTAUX",null,null,"CLASSEMENT"]
[]
[null,null,null,null,null,null,null,null,null,null,null,null,null,null,null,null,null,null,null,null,null,null,null,null,null,null,null,null,null,null,null,null,null,null,null,null,"Classement",null,"Classement",null,"Classement","Classement",null,"Classement",null,"GENERAL","RANG"]
[null,"POULE A",null,null,null,null,null,null,null,null,null,null,null,null,null,null,null,null,null,null,null,null,null,null,null,null,null,null,null,null,null,null,null,null,null,null,"Point-Match","CLS-M","Moy-Gen","CLS-G","Moy-Part","M-Series","CLS-S","MGPS","CLS","CLS"]
[null,null,null,null,null,null,null,null,null,null,{"$f":"C10","v":0},null,"L",null,null,{"$f":"D27","v":0},null,{"$f":"E27","v":0},{"$f":"D21","v":0},null,{"$f":"E21","v":0},"L",null,null,{"$f":"D36","v":0},null,{"$f":"E36","v":0},{"$f":"D30","v":0},null,{"$f":"E30","v":0},null,{"$f":"P18+S18+Y18+AB18","v":0},null,{"$f":"R18+U18+AA18+AD18","v":0},{"$f":"AU18","v":{"$error":"#DIV/0!"}},null,{"$f":"AG19","v":0.04},{"$f":"RANK(AK18,AK$18:AK$26,0)","v":1},{"$f":"AH20","v":{"$error":"#DIV/0!"}},{"$f":"RANK(AM18,AM$18:AM$26,0)","v":{"$error":"#DIV/0!"}},{"$f":"MAX(R20,U20,AA20,AD20)","v":{"$error":"#DIV/0!"}},{"$f":"RANK(AO18,AO$18:AO$26)","v":{"$error":"#DIV/0!"}},{"$f":"AF20","v":0},{"$f":"RANK(AQ18,AQ$18:AQ$26)","v":1},{"$f":"(AL18*1000)+(AN18*100)+(AP18*10)+(AR18*1)","v":{"$error":"#DIV/0!"}},{"$f":"AS18","v":{"$error":"#DIV/0!"}},{"$f":"RANK(AT18,AT$18:AT$26,1)","v":{"$error":"#DIV/0!"}},{"$f":"RANK(AU18,AU$18:AU$26,1)","v":{"$error":"#DIV/0!"}}]
[null,null,null,null,null,null,null,null,null,null,null,null,null,null,null,null,{"$f":"IF(R18<1,0.01,IF(P18>M21,2,IF(P18=M21,1,0)))","v":0.01},null,null,{"$f":"IF(U18<1,0.01,IF(S18>M24,2,IF(S18=M24,1,0)))","v":0.01},null,null,null,null,null,{"$f":"IF(AA18<1,0.01,IF(Y18>V21,2,IF(Y18=V21,1,0)))","v":0.01},null,null,{"$f":"IF(AD18<1,0.01,IF(AB18>V24,2,IF(AB18=V24,1,0)))","v":0.01},null,null,null,{"$f":"Q19+T19+Z19+AC19","v":0.04}]
[null,null,null,"Pts","Rep","Série",null,null,null,null,null,null,null,null,null,{"$f":"F27","v":0},null,{"$f":"P18/R18","v":{"$error":"#DIV/0!"}},{"$f":"F21","v":0},null,{"$f":"S18/U18","v":{"$error":"#DIV/0!"}},null,null,null,{"$f":"F36","v":0},null,{"$f":"Y18/AA18","v":{"$error":"#DIV/0!"}},{"$f":"F30","v":0},null,{"$f":"AB18/AD18","v":{"$error":"#DIV/0!"}},null,{"$f":"MAX(P20,S20,Y20,AB20)","v":0},null,{"$f":"AF18/AH18","v":{"$error":"#DIV/0!"}}]
[null,"Tour 1\nMatch aller",{"$f":"C10","v":0},null,null,null,null,null,null,null,{"$f":"C11","v":0},null,{"$f":"D28","v":0},null,{"$f":"E27","v":0},"M",null,null,{"$f":"D24","v":0},null,{"$f":"E24","v":0},{"$f":"D37","v":0},null,{"$f":"E36","v":0},"M",null,null,{"$f":"D33","v":0},null,{"$f":"E33","v":0},null,{"$f":"M21+S21+V21+AB21","v":0},null,{"$f":"O21+U21+X21+AD21","v":0},{"$f":"AU21","v":{"$error":"#DIV/0!"}},null,{"$f":"AG22","v":0.04},{"$f":"RANK(AK21,AK$18:AK$26,0)","v":1},{"$f":"AH23","v":{"$error":"#DIV/0!"}},{"$f":"RANK(AM21,AM$18:AM$26,0)","v":{"$error":"#DIV/0!"}},{"$f":"MAX(R23,U23,AA23,AD23)","v":{"$error":"#DIV/0!"}},{"$f":"RANK(AO21,AO$18:AO$26)","v":{"$error":"#DIV/0!"}},{"$f":"AF23","v":0},{"$f":"RANK(AQ21,AQ$18:AQ$26)","v":1},{"$f":"(AL21*1000)+(AN21*100)+(AP21*10)+(AR21*1)","v":{"$error":"#DIV/0!"}},{"$f":"AS21","v":{"$error":"#DIV/0!"}},{"$f":"RANK(AT21,AT$18:AT$26,1)","v":{"$error":"#DIV/0!"}},{"$f":"RANK(AU21,AU$18:AU$26,1)","v":{"$error":"#DIV/0!"}}]
[null,null,{"$f":"C12","v":0},null,null,null,null,null,null,null,null,null,null,{"$f":"IF(R18>0,2-Q19,0.01)","v":0.01},null,null,null,null,null,{"$f":"IF(U21<1,0.01,IF(S21>P24,2,IF(S21=P24,1,0)))","v":0.01},null,null,{"$f":"IF(AA18>0,2-Z19,0.01)","v":0.01},null,null,null,null,null,{"$f":"IF(AD21<1,0.01,IF(AB21>Y24,2,IF(AB21=Y24,1,0)))","v":0.01},null,null,null,{"$f":"N22+T22+W22+AC22","v":0.04}]
[null,null,null,null,null,null,null,null,null,null,null,null,{"$f":"F28","v":0},null,{"$f":"M21/O21","v":{"$error":"#DIV/0!"}},null,null,null,{"$f":"F24","v":0},null,{"$f":"S21/U21","v":{"$error":"#DIV/0!"}},{"$f":"F37","v":0},null,{"$f":"V21/X21","v":{"$error":"#DIV/0!"}},null,null,null,{"$f":"F33","v":0},null,{"$f":"AB21/AD21","v":{"$error":"#DIV/0!"}},null,{"$f":"MAXA(M23,S23,V23,AB23)","v":0},null,{"$f":"AF21/AH21","v":{"$error":"#DIV/0!"}}]
[null,"Tour 2\nMatch aller",{"$f":"C11","v":0},null,null,null,null,null,null,null,{"$f":"C12","v":0},null,{"$f":"D22","v":0},null,{"$f":"E21","v":0},{"$f":"D25","v":0},null,{"$f":"E24","v":0},"B",null,null,{"$f":"D31","v":0},null,{"$f":"E30","v":0},{"$f":"D34","v":0},null,{"$f":"E33","v":0},"B",null,null,null,{"$f":"M24+P24+V24+Y24","v":0},null,{"$f":"O24+R24+X24+AA24","v":0},{"$f":"AU24","v":{"$error":"#DIV/0!"}},null,{"$f":"AG25","v":0.04},{"$f":"RANK(AK24,AK$18:AK$26,0)","v":1},{"$f":"AH26","v":{"$error":"#DIV/0!"}},{"$f":"RANK(AM24,AM$18:AM$26,0)","v":{"$error":"#DIV/0!"}},{"$f":"MAX(R26,U26,AA26,AD26)","v":{"$error":"#DIV/0!"}},{"$f":"RANK(AO24,AO$18:AO$26)","v":{"$error":"#DIV/0!"}},{"$f":"AF26","v":0},{"$f":"RANK(AQ24,AQ$18:AQ$26)","v":1},{"$f":"(AL24*1000)+(AN24*100)+(AP24*10)+(AR24*1)","v":{"$error":"#DIV/0!"}},{"$f":"AS24","v":{"$error":"#DIV/0!"}},{"$f":"RANK(AT24,AT$18:AT$26,1)","v":{"$error":"#DIV/0!"}},{"$f":"RANK(AU24,AU$18:AU$26,1)","v":{"$error":"#DIV/0!"}}]
[null,null,{"$f":"C12","v":0},null,null,null,null,null,null,null,null,null,null,{"$f":"IF(U18>0,2-T19,0.01)","v":0.01},null,null,{"$f":"IF(U21>0,2-T22,0.01)","v":0.01},null,null,null,null,null,{"$f":"IF(AD18>0,2-AC19,0.01)","v":0.01},null,null,{"$f":"IF(AD21>0,2-AC22,0.01)","v":0.01},null,null,null,null,null,null,{"$f":"N25+Q25+W25+Z25","v":0.04}]
[null,null,null,null,null,null,null,null,null,null,null,null,{"$f":"F22","v":0},null,{"$f":"M24/O24","v":{"$error":"#DIV/0!"}},{"$f":"F25","v":0},null,{"$f":"P24/R24","v":{"$error":"#DIV/0!"}},null,null,null,{"$f":"F31","v":0},null,{"$f":"V24/X24","v":{"$error":"#DIV/0!"}},{"$f":"F34","v":0},null,{"$f":"Y24/AA24","v":{"$error":"#DIV/0!"}},null,null,null,null,{"$f":"MAXA(M26,P26,V26,Y26)","v":0},null,{"$f":"AF24/AH24","v":{"$error":"#DIV/0!"}}]
[null,"Tour 3\nMatch aller",{"$f":"C10","v":0}]
[null,null,{"$f":"C11","v":0},null,null,null,null,null,null,null,null,null,"Pas de prolongation en cas de match nul."]
[]
[null,"Tour 1\nMatch retour",{"$f":"C10","v":0}]
[null,null,{"$f":"C12","v":0}]
[]
[null,"Tour 2\nMatch retour",{"$f":"C11","v":0}]
[null,null,{"$f":"C12","v":0}]
[]
[null,"Tour 3\nMatch retour",{"$f":"C10","v":0}]
[null,null,{"$f":"C11","v":0}]
[]
[null,"Joueur 1",{"$f":"'Saisie des joueurs'!K21","v":0}]
[null,"Joueur 2",{"$f":"'Saisie des joueurs'!K22","v":0}]
[null,"Joueur 3",{"$f":"'Saisie des joueurs'!K23","v":0}]
[null,null,null,null,null,null,null,null,null,null,null,null,"MATCH ALLER",null,null,null,null,null,null,null,null,"MATCH RETOUR"]
[]
[null,"SAISIE DES RESULTATS",null,null,null,null,null,null,null,null,null,null,{"$f":"C39","v":0},null,null,{"$f":"C40","v":0},null,null,{"$f":"C41","v":0},null,null,{"$f":"C39","v":0},null,null,{"$f":"C40","v":0},null,null,{"$f":"C41","v":0},null,null,null,"TOTAUX",null,null,"CLASSEMENT"]
[]
[null,null,null,null,null,null,null,null,null,null,null,null,null,null,null,null,null,null,null,null,null,null,null,null,null,null,null,null,null,null,null,null,null,null,null,null,"Classement",null,"Classement",null,"Classement","Classement",null,"Classement",null,"GENERAL","RANG"]
[null,"POULE B",null,null,null,null,null,null,null,null,null,null,null,null,null,null,null,null,null,null,null,null,null,null,null,null,null,null,null,null,null,null,null,null,null,null,"Point-Match","CLS-M","Moy-Gen","CLS-G","Moy-Part","M-Series","CLS-S","MGPS","CLS","CLS"]
[null,null,null,null,null,null,null,null,null,null,{"$f":"C39","v":0},null,"L",null,null,{"$f":"D57","v":0},null,{"$f":"E57","v":0},{"$f":"D51","v":0},null,{"$f":"E51","v":0},"L",null,null,{"$f":"D66","v":0},null,{"$f":"E66","v":0},{"$f":"D60","v":0},null,{"$f":"E60","v":0},null,{"$f":"P48+S48+Y48+AB48","v":0},null,{"$f":"R48+U48+AA48+AD48","v":0},{"$f":"AU48","v":{"$error":"#DIV/0!"}},null,{"$f":"AG49","v":0.04},{"$f":"RANK(AK48,AK$48:AK$56,0)","v":1},{"$f":"AH50","v":{"$error":"#DIV/0!"}},{"$f":"RANK(AM48,AM$48:AM$56,0)","v":{"$error":"#DIV/0!"}},{"$f":"MAX(R50,U50,AA50,AD50)","v":{"$error":"#DIV/0!"}},{"$f":"RANK(AO48,AO$48:AO$56)","v":{"$error":"#DIV/0!"}},{"$f":"AF50","v":0},{"$f":"RANK(AQ48,AQ$48:AQ$56)","v":1},{"$f":"(AL48*1000)+(AN48*100)+(AP48*10)+(AR48*1)","v":{"$error":"#DIV/0!"}},{"$f":"AS48","v":{"$error":"#DIV/0!"}},{"$f":"RANK(AT48,AT$48:AT$56,1)","v":{"$error":"#DIV/0!"}},{"$f":"RANK(AU48,AU$48:AU$56,1)","v":{"$error":"#DIV/0!"}}]
[null,null,null,null,null,null,null,null,null,null,null,null,null,null,null,null,{"$f":"IF(R48<1,0.01,IF(P48>M51,2,IF(P48=M51,1,0)))","v":0.01},null,null,{"$f":"IF(U48<1,0.01,IF(S48>M54,2,IF(S48=M54,1,0)))","v":0.01},null,null,null,null,null,{"$f":"IF(AA48<1,0.01,IF(Y48>V51,2,IF(Y48=V51,1,0)))","v":0.01},null,null,{"$f":"IF(AD48<1,0.01,IF(AB48>V54,2,IF(AB48=V54,1,0)))","v":0.01},null,null,null,{"$f":"Q49+T49+Z49+AC49","v":0.04}]
[null,null,null,"Pts","Rep","Série",null,null,null,null,null,null,null,null,null,{"$f":"F57","v":0},null,{"$f":"P48/R48","v":{"$error":"#DIV/0!"}},{"$f":"F51","v":0},null,{"$f":"S48/U48","v":{"$error":"#DIV/0!"}},null,null,null,{"$f":"F66","v":0},null,{"$f":"Y48/AA48","v":{"$error":"#DIV/0!"}},{"$f":"F60","v":0},null,{"$f":"AB48/AD48","v":{"$error":"#DIV/0!"}},null,{"$f":"MAX(P50,S50,Y50,AB50)","v":0},null,{"$f":"AF48/AH48","v":{"$error":"#DIV/0!"}}]
[null,"Tour 1\nMatch aller",{"$f":"C39","v":0},null,null,null,null,null,null,null,{"$f":"C40","v":0},null,{"$f":"D58","v":0},null,{"$f":"E57","v":0},"M",null,null,{"$f":"D54","v":0},null,{"$f":"E54","v":0},{"$f":"D67","v":0},null,{"$f":"E66","v":0},"M",null,null,{"$f":"D63","v":0},null,{"$f":"E63","v":0},null,{"$f":"M51+S51+V51+AB51","v":0},null,{"$f":"O51+U51+X51+AD51","v":0},{"$f":"AU51","v":{"$error":"#DIV/0!"}},null,{"$f":"AG52","v":0.04},{"$f":"RANK(AK51,AK$48:AK$56,0)","v":1},{"$f":"AH53","v":{"$error":"#DIV/0!"}},{"$f":"RANK(AM51,AM$48:AM$56,0)","v":{"$error":"#DIV/0!"}},{"$f":"MAX(O53,U53,X53,AD53)","v":{"$error":"#DIV/0!"}},{"$f":"RANK(AO51,AO$48:AO$56)","v":{"$error":"#DIV/0!"}},{"$f":"AF53","v":0},{"$f":"RANK(AQ51,AQ$48:AQ$56)","v":1},{"$f":"(AL51*1000)+(AN51*100)+(AP51*10)+(AR51*1)","v":{"$error":"#DIV/0!"}},{"$f":"AS51","v":{"$error":"#DIV/0!"}},{"$f":"RANK(AT51,AT$48:AT$56,1)","v":{"$error":"#DIV/0!"}},{"$f":"RANK(AU51,AU$48:AU$56,1)","v":{"$error":"#DIV/0!"}}]
[null,null,{"$f":"C41","v":0},null,null,null,null,null,null,null,null,null,null,{"$f":"IF(R48>0,2-Q49,0.01)","v":0.01},null,null,null,null,null,{"$f":"IF(U51<1,0.01,IF(S51>P54,2,IF(S51=P54,1,0)))","v":0.01},null,null,{"$f":"IF(AA48>0,2-Z49,0.01)","v":0.01},null,null,null,null,null,{"$f":"IF(AD51<1,0.01,IF(AB51>Y54,2,IF(AB51=Y54,1,0)))","v":0.01},null,null,null,{"$f":"N52+T52+W52+AC52","v":0.04}]
[null,null,null,null,null,null,null,null,null,null,null,null,{"$f":"F58","v":0},null,{"$f":"M51/O51","v":{"$error":"#DIV/0!"}},null,null,null,{"$f":"F54","v":0},null,{"$f":"S51/U51","v":{"$error":"#DIV/0!"}},{"$f":"F67","v":0},null,{"$f":"V51/X51","v":{"$error":"#DIV/0!"}},null,null,null,{"$f":"F63","v":0},null,{"$f":"AB51/AD51","v":{"$error":"#DIV/0!"}},null,{"$f":"MAXA(M53,S53,V53,AB53)","v":0},null,{"$f":"AF51/AH51","v":{"$error":"#DIV/0!"}}]
[null,"Tour 2\nMatch aller",{"$f":"C40","v":0},null,null,null,null,null,null,null,{"$f":"C41","v":0},null,{"$f":"D52","v":0},null,{"$f":"E51","v":0},{"$f":"D55","v":0},null,{"$f":"E54","v":0},"B",null,null,{"$f":"D61","v":0},null,{"$f":"E60","v":0},{"$f":"D64","v":0},null,{"$f":"E63","v":0},"B",null,null,null,{"$f":"M54+P54+V54+Y54","v":0},null,{"$f":"O54+R54+X54+AA54","v":0},{"$f":"AU54","v":{"$error":"#DIV/0!"}},null,{"$f":"AG55","v":0.04},{"$f":"RANK(AK54,AK$48:AK$56,0)","v":1},{"$f":"AH56","v":{"$error":"#DIV/0!"}},{"$f":"RANK(AM54,AM$48:AM$56,0)","v":{"$error":"#DIV/0!"}},{"$f":"MAX(O56,R56,X56,AA56)","v":{"$error":"#DIV/0!"}},{"$f":"RANK(AO54,AO$48:AO$56)","v":{"$error":"#DIV/0!"}},{"$f":"AF56","v":0},{"$f":"RANK(AQ54,AQ$48:AQ$56)","v":1},{"$f":"(AL54*1000)+(AN54*100)+(AP54*10)+(AR54*1)","v":{"$error":"#DIV/0!"}},{"$f":"AS54","v":{"$error":"#DIV/0!"}},{"$f":"RANK(AT54,AT$48:AT$56,1)","v":{"$error":"#DIV/0!"}},{"$f":"RANK(AU54,AU$48:AU$56,1)","v":{"$error":"#DIV/0!"}}]
[null,null,{"$f":"C41","v":0},null,null,null,null,null,null,null,null,null,null,{"$f":"IF(U48>0,2-T49,0.01)","v":0.01},null,null,{"$f":"IF(U51>0,2-T52,0.01)","v":0.01},null,null,null,null,null,{"$f":"IF(AD48>0,2-AC49,0.01)","v":0.01},null,null,{"$f":"IF(AD51>0,2-AC52,0.01)","v":0.01},null,null,null,null,null,null,{"$f":"N55+Q55+W55+Z55","v":0.04}]
[null,null,null,null,null,null,null,null,null,null,null,null,{"$f":"F52","v":0},null,{"$f":"M54/O54","v":{"$error":"#DIV/0!"}},{"$f":"F55","v":0},null,{"$f":"P54/R54","v":{"$error":"#DIV/0!"}},null,null,null,{"$f":"F61","v":0},null,{"$f":"V54/X54","v":{"$error":"#DIV/0!"}},{"$f":"F64","v":0},null,{"$f":"Y54/AA54","v":{"$error":"#DIV/0!"}},null,null,null,null,{"$f":"MAXA(M56,P56,V56,Y56)","v":0},null,{"$f":"AF54/AH54","v":{"$error":"#DIV/0!"}}]
[null,"Tour 3\nMatch aller",{"$f":"C39","v":0}]
[null,null,{"$f":"C40","v":0},null,null,null,null,null,null,null,null,null,"Pas de prolongation en cas de match nul."]
[]
[null,"Tour 1\nMatch retour",{"$f":"C39","v":0}]
[null,null,{"$f":"C41","v":0}]
[]
[null,"Tour 2\nMatch retour",{"$f":"C40","v":0}]
[null,null,{"$f":"C41","v":0}]
[]
[null,"Tour 3\nMatch retour",{"$f":"C39","v":0}]
[null,null,{"$f":"C40","v":0}]

{"sheet":"7JOUEURS_MOYENNE","index":38,"n_rows":67,"n_cols":48,"rows_kept":67,"cut":false,"hidden":true,"merged":[[7,12,7,15],[7,17,7,18],[7,20,7,21],[7,23,7,25],[7,27,7,28],[9,2,9,5],[1,12,4,35],[2,1,3,2],[2,3,3,9],[5,1,6,2],[5,3,6,9],[6,12,6,15],[6,17,6,18],[6,20,6,21],[6,23,6,25],[6,27,6,28],[10,2,10,5],[11,2,11,5],[11,12,11,20],[11,21,11,29],[13,1,14,5],[13,12,16,14],[13,15,16,17],[13,18,16,20],[13,21,16,23],[13,24,16,26],[15,41,15,42],[15,43,15,44],[15,46,16,46],[16,1,17,2],[17,10,19,11],[17,12,19,14],[17,21,19,23],[17,34,19,34],[17,36,19,36],[17,37,19,37],[13,27,16,29],[13,31,16,33],[13,34,16,34],[14,10,16,11],[15,36,15,37],[15,38,15,39],[17,44,19,44],[17,45,19,45],[17,46,19,46],[17,47,19,47],[20,1,21,1],[20,4,21,4],[20,10,22,11],[20,15,22,17],[20,24,22,26],[20,34,22,34],[17,38,19,38],[17,39,19,39],[17,40,19,40],[17,41,19,41],[17,42,19,42],[17,43,19,43],[20,45,22,45],[20,46,22,46],[20,47,22,47],[20,36,22,36],[20,37,22,37],[20,38,22,38],[20,39,22,39],[20,40,22,40],[20,41,22,41],[23,1,24,1],[23,4,24,4],[23,10,25,11],[23,18,25,20],[23,27,25,29],[23,34,25,34],[20,42,22,42],[20,43,22,43],[20,44,22,44],[23,42,25,42],[23,43,25,43],[23,44,25,44],[23,45,25,45],[23,46,25,46],[23,47,25,47],[23,36,25,36],[23,37,25,37],[23,38,25,38],[23,39,25,39],[23,40,25,40],[23,41,25,41],[35,1,36,1],[35,4,36,4],[38,2,38,5],[39,2,39,5],[40,2,40,5],[41,2,41,5],[26,1,27,1],[26,4,27,4],[27,12,27,34],[29,1,30,1],[29,4,30,4],[32,1,33,1],[32,4,33,4],[45,44,45,45],[45,47,46,47],[46,1,47,2],[47,10,49,11],[47,12,49,14],[47,28,49,30],[47,36,49,36],[47,37,49,37],[47,38,49,38],[47,39,49,39],[43,25,46,27],[43,28,46,30],[45,36,45,37],[45,38,45,39],[45,40,45,41],[45,42,45,43],[43,1,44,5],[43,10,46,11],[43,12,46,14],[43,15,46,17],[43,18,46,20],[43,21,46,23],[47,46,49,46],[47,47,49,47],[50,1,51,1],[50,4,51,4],[50,10,52,11],[50,15,52,17],[50,28,52,30],[50,36,52,36],[50,37,52,37],[50,38,52,38],[47,40,49,40],[47,41,49,41],[47,42,49,42],[47,43,49,43],[47,44,49,44],[47,45,49,45],[50,45,52,45],[50,46,52,46],[50,47,52,47],[53,1,54,1],[53,4,54,4],[53,10,55,11],[53,18,55,20],[53,28,55,30],[53,36,55,36],[53,37,55,37],[50,39,52,39],[50,40,52,40],[50,41,52,41],[50,42,52,42],[50,43,52,43],[50,44,52,44],[53,44,55,44],[53,45,55,45],[53,46,55,46],[53,47,55,47],[56,1,57,1],[56,4,57,4],[56,10,58,11],[56,21,58,23],[56,28,58,30],[56,36,58,36],[53,38,55,38],[53,39,55,39],[53,40,55,40],[53,41,55,41],[53,42,55,42],[53,43,55,43],[62,1,63,1],[62,4,63,4],[65,1,66,1],[65,4,66,4],[56,43,58,43],[56,44,58,44],[56,45,58,45],[56,46,58,46],[56,47,58,47],[59,1,60,1],[59,4,60,4],[60,12,60,30],[56,37,58,37],[56,38,58,38],[56,39,58,39],[56,40,58,40],[56,41,58,41],[56,42,58,42]]}
[]
[null,null,null,null,null,null,null,null,null,null,null,null,"LIGUE MÉDITERRANÉENNE DE BILLARD"]
[null,"CLUB ORGANISATEUR"]
[]
[]
[null,"DIRECTEUR DE JEU :"]
[null,null,null,null,null,null,null,null,null,null,null,null,"Compétition",null,null,null,null,"Mode de jeu",null,null,"Categorie",null,null,"Format billard",null,null,null,"Distance"]
[]
[]
[null,"Joueur 1",{"$f":"'Saisie des joueurs'!K18","v":0}]
[null,"Joueur 2",{"$f":"'Saisie des joueurs'!K19","v":0}]
[null,"Joueur 3",{"$f":"'Saisie des joueurs'!K20","v":0},null,null,null,null,null,null,null,null,null,"MATCH ALLER",null,null,null,null,null,null,null,null,"MATCH RETOUR"]
[]
[null,"SAISIE DES RESULTATS",null,null,null,null,null,null,null,null,null,null,{"$f":"C10","v":0},null,null,{"$f":"C11","v":0},null,null,{"$f":"C12","v":0},null,null,{"$f":"C10","v":0},null,null,{"$f":"C11","v":0},null,null,{"$f":"C12","v":0},null,null,null,"TOTAUX",null,null,"CLASSEMENT"]
[]
[null,null,null,null,null,null,null,null,null,null,null,null,null,null,null,null,null,null,null,null,null,null,null,null,null,null,null,null,null,null,null,null,null,null,null,null,"Classement",null,"Classement",null,"Classement","Classement",null,"Classement",null,"GENERAL","RANG"]
[null,"POULE A",null,null,null,null,null,null,null,null,null,null,null,null,null,null,null,null,null,null,null,null,null,null,null,null,null,null,null,null,null,null,null,null,null,null,"Point-Match","CLS-M","Moy-Gen","CLS-G","Moy-Part","M-Series","CLS-S","MGPS","CLS","CLS"]
[null,null,null,null,null,null,null,null,null,null,{"$f":"C10","v":0},null,"L",null,null,{"$f":"D27","v":0},null,{"$f":"E27","v":0},{"$f":"D21","v":0},null,{"$f":"E21","v":0},"L",null,null,{"$f":"D36","v":0},null,{"$f":"E36","v":0},{"$f":"D30","v":0},null,{"$f":"E30","v":0},null,{"$f":"P18+S18+Y18+AB18","v":0},null,{"$f":"R18+U18+AA18+AD18","v":0},{"$f":"AU18","v":{"$error":"#DIV/0!"}},null,{"$f":"AG19","v":0.04},{"$f":"RANK(AK18,AK$18:AK$26,0)","v":1},{"$f":"AH20","v":{"$error":"#DIV/0!"}},{"$f":"RANK(AM18,AM$18:AM$26,0)","v":{"$error":"#DIV/0!"}},{"$f":"MAX(R20,U20,AA20,AD20)","v":{"$error":"#DIV/0!"}},{"$f":"RANK(AO18,AO$18:AO$26)","v":{"$error":"#DIV/0!"}},{"$f":"AF20","v":0},{"$f":"RANK(AQ18,AQ$18:AQ$26)","v":1},{"$f":"(AL18*1000)+(AN18*100)+(AP18*10)+(AR18*1)","v":{"$error":"#DIV/0!"}},{"$f":"AS18","v":{"$error":"#DIV/0!"}},{"$f":"RANK(AT18,AT$18:AT$26,1)","v":{"$error":"#DIV/0!"}},{"$f":"RANK(AU18,AU$18:AU$26,1)","v":{"$error":"#DIV/0!"}}]
[null,null,null,null,null,null,null,null,null,null,null,null,null,null,null,null,{"$f":"IF(R18<1,0.01,IF(P18>M21,2,IF(P18=M21,1,0)))","v":0.01},null,null,{"$f":"IF(U18<1,0.01,IF(S18>M24,2,IF(S18=M24,1,0)))","v":0.01},null,null,null,null,null,{"$f":"IF(AA18<1,0.01,IF(Y18>V21,2,IF(Y18=V21,1,0)))","v":0.01},null,null,{"$f":"IF(AD18<1,0.01,IF(AB18>V24,2,IF(AB18=V24,1,0)))","v":0.01},null,null,null,{"$f":"Q19+T19+Z19+AC19","v":0.04}]
[null,null,null,"Pts","Rep","Série",null,null,null,null,null,null,null,null,null,{"$f":"F27","v":0},null,{"$f":"P18/R18","v":{"$error":"#DIV/0!"}},{"$f":"F21","v":0},null,{"$f":"S18/U18","v":{"$error":"#DIV/0!"}},null,null,null,{"$f":"F36","v":0},null,{"$f":"Y18/AA18","v":{"$error":"#DIV/0!"}},{"$f":"F30","v":0},null,{"$f":"AB18/AD18","v":{"$error":"#DIV/0!"}},null,{"$f":"MAX(P20,S20,Y20,AB20)","v":0},null,{"$f":"AF18/AH18","v":{"$error":"#DIV/0!"}}]
[null,"Tour 1\nMatch aller",{"$f":"C10","v":0},null,null,null,null,null,null,null,{"$f":"C11","v":0},null,{"$f":"D28","v":0},null,{"$f":"E27","v":0},"M",null,null,{"$f":"D24","v":0},null,{"$f":"E24","v":0},{"$f":"D37","v":0},null,{"$f":"E36","v":0},"M",null,null,{"$f":"D33","v":0},null,{"$f":"E33","v":0},null,{"$f":"M21+S21+V21+AB21","v":0},null,{"$f":"O21+U21+X21+AD21","v":0},{"$f":"AU21","v":{"$error":"#DIV/0!"}},null,{"$f":"AG22","v":0.04},{"$f":"RANK(AK21,AK$18:AK$26,0)","v":1},{"$f":"AH23","v":{"$error":"#DIV/0!"}},{"$f":"RANK(AM21,AM$18:AM$26,0)","v":{"$error":"#DIV/0!"}},{"$f":"MAX(R23,U23,AA23,AD23)","v":{"$error":"#DIV/0!"}},{"$f":"RANK(AO21,AO$18:AO$26)","v":{"$error":"#DIV/0!"}},{"$f":"AF23","v":0},{"$f":"RANK(AQ21,AQ$18:AQ$26)","v":1},{"$f":"(AL21*1000)+(AN21*100)+(AP21*10)+(AR21*1)","v":{"$error":"#DIV/0!"}},{"$f":"AS21","v":{"$error":"#DIV/0!"}},{"$f":"RANK(AT21,AT$18:AT$26,1)","v":{"$error":"#DIV/0!"}},{"$f":"RANK(AU21,AU$18:AU$26,1)","v":{"$error":"#DIV/0!"}}]
[null,null,{"$f":"C12","v":0},null,null,null,null,null,null,null,null,null,null,{"$f":"IF(R18>0,2-Q19,0.01)","v":0.01},null,null,null,null,null,{"$f":"IF(U21<1,0.01,IF(S21>P24,2,IF(S21=P24,1,0)))","v":0.01},null,null,{"$f":"IF(AA18>0,2-Z19,0.01)","v":0.01},null,null,null,null,null,{"$f":"IF(AD21<1,0.01,IF(AB21>Y24,2,IF(AB21=Y24,1,0)))","v":0.01},null,null,null,{"$f":"N22+T22+W22+AC22","v":0.04}]
[null,null,null,null,null,null,null,null,null,null,null,null,{"$f":"F28","v":0},null,{"$f":"M21/O21","v":{"$error":"#DIV/0!"}},null,null,null,{"$f":"F24","v":0},null,{"$f":"S21/U21","v":{"$error":"#DIV/0!"}},{"$f":"F37","v":0},null,{"$f":"V21/X21","v":{"$error":"#DIV/0!"}},null,null,null,{"$f":"F33","v":0},null,{"$f":"AB21/AD21","v":{"$error":"#DIV/0!"}},null,{"$f":"MAXA(M23,S23,V23,AB23)","v":0},null,{"$f":"AF21/AH21","v":{"$error":"#DIV/0!"}}]
[null,"Tour 2\nMatch aller",{"$f":"C11","v":0},null,null,null,null,null,null,null,{"$f":"C12","v":0},null,{"$f":"D22","v":0},null,{"$f":"E21","v":0},{"$f":"D25","v":0},null,{"$f":"E24","v":0},"B",null,null,{"$f":"D31","v":0},null,{"$f":"E30","v":0},{"$f":"D34","v":0},null,{"$f":"E33","v":0},"B",null,null,null,{"$f":"M24+P24+V24+Y24","v":0},null,{"$f":"O24+R24+X24+AA24","v":0},{"$f":"AU24","v":{"$error":"#DIV/0!"}},null,{"$f":"AG25","v":0.04},{"$f":"RANK(AK24,AK$18:AK$26,0)","v":1},{"$f":"AH26","v":{"$error":"#DIV/0!"}},{"$f":"RANK(AM24,AM$18:AM$26,0)","v":{"$error":"#DIV/0!"}},{"$f":"MAX(R26,U26,AA26,AD26)","v":{"$error":"#DIV/0!"}},{"$f":"RANK(AO24,AO$18:AO$26)","v":{"$error":"#DIV/0!"}},{"$f":"AF26","v":0},{"$f":"RANK(AQ24,AQ$18:AQ$26)","v":1},{"$f":"(AL24*1000)+(AN24*100)+(AP24*10)+(AR24*1)","v":{"$error":"#DIV/0!"}},{"$f":"AS24","v":{"$error":"#DIV/0!"}},{"$f":"RANK(AT24,AT$18:AT$26,1)","v":{"$error":"#DIV/0!"}},{"$f":"RANK(AU24,AU$18:AU$26,1)","v":{"$error":"#DIV/0!"}}]
[null,null,{"$f":"C12","v":0},null,null,null,null,null,null,null,null,null,null,{"$f":"IF(U18>0,2-T19,0.01)","v":0.01},null,null,{"$f":"IF(U21>0,2-T22,0.01)","v":0.01},null,null,null,null,null,{"$f":"IF(AD18>0,2-AC19,0.01)","v":0.01},null,null,{"$f":"IF(AD21>0,2-AC22,0.01)","v":0.01},null,null,null,null,null,null,{"$f":"N25+Q25+W25+Z25","v":0.04}]
[null,null,null,null,null,null,null,null,null,null,null,null,{"$f":"F22","v":0},null,{"$f":"M24/O24","v":{"$error":"#DIV/0!"}},{"$f":"F25","v":0},null,{"$f":"P24/R24","v":{"$error":"#DIV/0!"}},null,null,null,{"$f":"F31","v":0},null,{"$f":"V24/X24","v":{"$error":"#DIV/0!"}},{"$f":"F34","v":0},null,{"$f":"Y24/AA24","v":{"$error":"#DIV/0!"}},null,null,null,null,{"$f":"MAXA(M26,P26,V26,Y26)","v":0},null,{"$f":"AF24/AH24","v":{"$error":"#DIV/0!"}}]
[null,"Tour 3\nMatch aller",{"$f":"C10","v":0}]
[null,null,{"$f":"C11","v":0},null,null,null,null,null,null,null,null,null,"Pas de prolongation en cas de match nul."]
[]
[null,"Tour 1\nMatch retour",{"$f":"C10","v":0}]
[null,null,{"$f":"C12","v":0}]
[]
[null,"Tour 2\nMatch retour",{"$f":"C11","v":0}]
[null,null,{"$f":"C12","v":0}]
[]
[null,"Tour 3\nMatch retour",{"$f":"C10","v":0}]
[null,null,{"$f":"C11","v":0}]
[]
[null,"Joueur 1",{"$f":"'Saisie des joueurs'!K21","v":0}]
[null,"Joueur 2",{"$f":"'Saisie des joueurs'!K22","v":0}]
[null,"Joueur 3",{"$f":"'Saisie des joueurs'!K23","v":0}]
[null,"Joueur 4",{"$f":"'Saisie des joueurs'!K24","v":0}]
[]
[null,"SAISIE DES RESULTATS",null,null,null,null,null,null,null,null,null,null,{"$f":"C39","v":0},null,null,{"$f":"C40","v":0},null,null,{"$f":"C41","v":0},null,null,{"$f":"C42","v":0},null,null,null,"TOTAUX",null,null,"CLASSEMENT"]
[]
[null,null,null,null,null,null,null,null,null,null,null,null,null,null,null,null,null,null,null,null,null,null,null,null,null,null,null,null,null,null,null,null,null,null,null,null,"Classement",null,"Classement",null,"Classement",null,"Classement",null,"Classement",null,"GENERAL","RANG"]
[null,"POULE B",null,null,null,null,null,null,null,null,null,null,null,null,null,null,null,null,null,null,null,null,null,null,null,null,null,null,null,null,null,null,null,null,null,null,"Point-Match","CLS-M","Moy-Gen","CLS-G","Moy-Part","CLS-P","M-Series","CLS-S","MGPS","CLS","CLS"]
[null,null,null,null,null,null,null,null,null,null,{"$f":"C39","v":0},null,"L",null,null,{"$f":"D63","v":0},null,{"$f":"E63","v":0},{"$f":"D57","v":0},null,{"$f":"E57","v":0},{"$f":"D51","v":0},null,{"$f":"E51","v":0},null,{"$f":"P48+S48+V48","v":0},null,{"$f":"R48+U48+X48","v":0},{"$f":"AV48","v":{"$error":"#DIV/0!"}},null,null,null,null,null,null,null,{"$f":"AA49","v":0.03},{"$f":"RANK(AK48,AK$48:AK$59,0)","v":1},{"$f":"AB50","v":{"$error":"#DIV/0!"}},{"$f":"RANK(AM48,AM$48:AM$59,0)","v":{"$error":"#DIV/0!"}},{"$f":"MAX(R50,U50,X50)","v":{"$error":"#DIV/0!"}},{"$f":"RANK(AO48,AO$48:AO$59)","v":{"$error":"#DIV/0!"}},{"$f":"Z50","v":0},{"$f":"RANK(AQ48,AQ$48:AQ$59)","v":1},{"$f":"(AL48*1000)+(AN48*100)+(AP48*10)+(AR48*1)","v":{"$error":"#DIV/0!"}},{"$f":"AS48","v":{"$error":"#DIV/0!"}},{"$f":"RANK(AT48,AT$48:AT$59,1)","v":{"$error":"#DIV/0!"}},{"$f":"RANK(AU48,AU$48:AU$59,1)","v":{"$error":"#DIV/0!"}}]
[null,null,null,null,null,null,null,null,null,null,null,null,null,null,null,null,{"$f":"IF(R48<1,0.01,IF(P48>M51,2,IF(P48=M51,1,0)))","v":0.01},null,null,{"$f":"IF(U48<1,0.01,IF(S48>M54,2,IF(S48=M54,1,0)))","v":0.01},null,null,{"$f":"IF(X48<1,0.01,IF(V48>M57,2,IF(V48=M57,1,0)))","v":0.01},null,null,null,{"$f":"W49+T49+Q49","v":0.03}]
[null,null,null,"Pts","Rep","Série",null,null,null,null,null,null,null,null,null,{"$f":"F63","v":0},null,{"$f":"P48/R48","v":{"$error":"#DIV/0!"}},{"$f":"F57","v":0},null,{"$f":"S48/U48","v":{"$error":"#DIV/0!"}},{"$f":"F51","v":0},null,{"$f":"V48/X48","v":{"$error":"#DIV/0!"}},null,{"$f":"MAX(V50,S50,P50)","v":0},null,{"$f":"Z48/AB48","v":{"$error":"#DIV/0!"}}]
[null,"Tour 1",{"$f":"C39","v":0},null,null,null,null,null,null,null,{"$f":"C40","v":0},null,{"$f":"D64","v":0},null,{"$f":"E63","v":0},"M",null,null,{"$f":"D54","v":0},null,{"$f":"E54","v":0},{"$f":"D61","v":0},null,{"$f":"E60","v":0},null,{"$f":"M51+S51+V51","v":0},null,{"$f":"O51+U51+X51","v":0},{"$f":"AV51","v":{"$error":"#DIV/0!"}},null,null,null,null,null,null,null,{"$f":"AA52","v":0.03},{"$f":"RANK(AK51,AK$48:AK$59,0)","v":1},{"$f":"AB53","v":{"$error":"#DIV/0!"}},{"$f":"RANK(AM51,AM$48:AM$59,0)","v":{"$error":"#DIV/0!"}},{"$f":"MAX(R53,U53,X53)","v":{"$error":"#DIV/0!"}},{"$f":"RANK(AO51,AO$48:AO$59)","v":{"$error":"#DIV/0!"}},{"$f":"Z53","v":0},{"$f":"RANK(AQ51,AQ$48:AQ$59)","v":1},{"$f":"(AL51*1000)+(AN51*100)+(AP51*10)+(AR51*1)","v":{"$error":"#DIV/0!"}},{"$f":"AS51","v":{"$error":"#DIV/0!"}},{"$f":"RANK(AT51,AT$48:AT$59,1)","v":{"$error":"#DIV/0!"}},{"$f":"RANK(AU51,AU$48:AU$59,1)","v":{"$error":"#DIV/0!"}}]
[null,null,{"$f":"C42","v":0},null,null,null,null,null,null,null,null,null,null,{"$f":"IF(R48>0,2-Q49,0.01)","v":0.01},null,null,null,null,null,{"$f":"IF(U51<1,0.01,IF(S51>P54,2,IF(S51=P54,1,0)))","v":0.01},null,null,{"$f":"IF(X51<1,0.01,IF(V51>P57,2,IF(V51=P57,1,0)))","v":0.01},null,null,null,{"$f":"N52+T52+W52","v":0.03}]
[null,null,null,null,null,null,null,null,null,null,null,null,{"$f":"F64","v":0},null,{"$f":"M51/O51","v":{"$error":"#DIV/0!"}},null,null,null,{"$f":"F54","v":0},null,{"$f":"S51/U51","v":{"$error":"#DIV/0!"}},{"$f":"F61","v":0},null,{"$f":"V51/X51","v":{"$error":"#DIV/0!"}},null,{"$f":"MAXA(S53,V53,M53)","v":0},null,{"$f":"Z51/AB51","v":{"$error":"#DIV/0!"}}]
[null,"Tour 2",{"$f":"C40","v":0},null,null,null,null,null,null,null,{"$f":"C41","v":0},null,{"$f":"D58","v":0},null,{"$f":"E57","v":0},{"$f":"D55","v":0},null,{"$f":"E54","v":0},"B",null,null,{"$f":"D66","v":0},null,{"$f":"E66","v":0},null,{"$f":"M54+P54+V54","v":0},null,{"$f":"O54+R54+X54","v":0},{"$f":"AV54","v":{"$error":"#DIV/0!"}},null,null,null,null,null,null,null,{"$f":"AA55","v":0.02},{"$f":"RANK(AK54,AK$48:AK$59,0)","v":4},{"$f":"AB56","v":{"$error":"#DIV/0!"}},{"$f":"RANK(AM54,AM$48:AM$59,0)","v":{"$error":"#DIV/0!"}},{"$f":"MAX(R56,U56,X56)","v":{"$error":"#DIV/0!"}},{"$f":"RANK(AO54,AO$48:AO$59)","v":{"$error":"#DIV/0!"}},{"$f":"Z56","v":0},{"$f":"RANK(AQ54,AQ$48:AQ$59)","v":1},{"$f":"(AL54*1000)+(AN54*100)+(AP54*10)+(AR54*1)","v":{"$error":"#DIV/0!"}},{"$f":"AS54","v":{"$error":"#DIV/0!"}},{"$f":"RANK(AT54,AT$48:AT$59,1)","v":{"$error":"#DIV/0!"}},{"$f":"RANK(AU54,AU$48:AU$59,1)","v":{"$error":"#DIV/0!"}}]
[null,null,{"$f":"C41","v":0},null,null,null,null,null,null,null,null,null,null,{"$f":"IF(U48>0,2-T49,0.01)","v":0.01},null,null,{"$f":"IF(U51>0,2-T52,0.01)","v":0.01},null,null,null,null,null,{"$f":"IF(X54<1,0.01,IF(V54>S57,2,IF(V54=S57,1,0)))","v":0.01},null,null,null,{"$f":"N55+T55+W55","v":0.02}]
[null,null,null,null,null,null,null,null,null,null,null,null,{"$f":"F58","v":0},null,{"$f":"M54/O54","v":{"$error":"#DIV/0!"}},{"$f":"F55","v":0},null,{"$f":"P54/R54","v":{"$error":"#DIV/0!"}},null,null,null,{"$f":"F66","v":0},null,{"$f":"V54/X54","v":{"$error":"#DIV/0!"}},null,{"$f":"MAXA(V56,P56,M56)","v":0},null,{"$f":"Z54/AB54","v":{"$error":"#DIV/0!"}}]
[null,"Tour 3",{"$f":"C39","v":0},null,null,null,null,null,null,null,{"$f":"C42","v":0},null,{"$f":"D52","v":0},null,{"$f":"E51","v":0},{"$f":"D60","v":0},null,{"$f":"E60","v":0},{"$f":"D67","v":0},null,{"$f":"E66","v":0},null,null,null,null,{"$f":"M57+P57+S57","v":0},null,{"$f":"U57+R57+O57","v":0},{"$f":"AV57","v":{"$error":"#DIV/0!"}},null,null,null,null,null,null,null,{"$f":"AA58","v":0.03},{"$f":"RANK(AK57,AK$48:AK$59,0)","v":1},{"$f":"AB59","v":{"$error":"#DIV/0!"}},{"$f":"RANK(AM57,AM$48:AM$59,0)","v":{"$error":"#DIV/0!"}},{"$f":"MAX(R59,U59,X59)","v":{"$error":"#DIV/0!"}},{"$f":"RANK(AO57,AO$48:AO$59)","v":{"$error":"#DIV/0!"}},{"$f":"Z59","v":0},{"$f":"RANK(AQ57,AQ$48:AQ$59)","v":1},{"$f":"(AL57*1000)+(AN57*100)+(AP57*10)+(AR57*1)","v":{"$error":"#DIV/0!"}},{"$f":"AS57","v":{"$error":"#DIV/0!"}},{"$f":"RANK(AT57,AT$48:AT$59,1)","v":{"$error":"#DIV/0!"}},{"$f":"RANK(AU57,AU$48:AU$59,1)","v":{"$error":"#DIV/0!"}}]
[null,null,{"$f":"C41","v":0},null,null,null,null,null,null,null,null,null,null,{"$f":"IF(X48>0,2-W49,0.01)","v":0.01},null,null,{"$f":"IF(X51>0,2-W52,0.01)","v":0.01},null,null,{"$f":"IF(X54>0,2-W55,0.01)","v":0.01},null,null,null,null,null,null,{"$f":"N58+Q58+T58","v":0.03}]
[null,null,null,null,null,null,null,null,null,null,null,null,{"$f":"F52","v":0},null,{"$f":"M57/O57","v":{"$error":"#DIV/0!"}},{"$f":"F60","v":0},null,{"$f":"P57/R57","v":{"$error":"#DIV/0!"}},{"$f":"F67","v":0},null,{"$f":"S57/U57","v":{"$error":"#DIV/0!"}},null,null,null,null,{"$f":"MAXA(M59,P59,S59)","v":0},null,{"$f":"Z57/AB57","v":{"$error":"#DIV/0!"}}]
[null,"Tour 4",{"$f":"C42","v":0}]
[null,null,{"$f":"C40","v":0},null,null,null,null,null,null,null,null,null,"Pas de prolongation en cas de match nul."]
[]
[null,"Tour 5",{"$f":"C39","v":0}]
[null,null,{"$f":"C40","v":0}]
[]
[null,"Tour 6",{"$f":"C41","v":0}]
[null,null,{"$f":"C42","v":0}]

{"sheet":"8JOUEURS_MOYENNE","index":39,"n_rows":68,"n_cols":42,"rows_kept":68,"cut":false,"hidden":true,"merged":[[51,1,52,1],[51,4,52,4],[51,10,53,11],[51,15,53,17],[51,28,53,28],[66,1,67,1],[66,4,67,4],[57,38,59,38],[57,39,59,39],[60,1,61,1],[60,4,61,4],[61,12,61,23],[57,32,59,32],[57,33,59,33],[57,34,59,34],[57,35,59,35],[57,36,59,36],[57,37,59,37],[57,1,58,1],[57,4,58,4],[57,10,59,11],[57,21,59,23],[57,28,59,28],[57,30,59,30],[54,40,56,40],[54,41,56,41],[54,35,56,35],[54,36,56,36],[63,1,64,1],[63,4,64,4],[54,1,55,1],[54,4,55,4],[54,10,56,11],[54,18,56,20],[54,28,56,28],[54,30,56,30],[54,31,56,31],[54,32,56,32],[57,40,59,40],[57,41,59,41],[57,31,59,31],[51,31,53,31],[51,32,53,32],[51,33,53,33],[48,32,50,32],[48,33,50,33],[54,37,56,37],[54,38,56,38],[46,38,46,39],[54,33,56,33],[54,34,56,34],[51,37,53,37],[51,38,53,38],[51,39,53,39],[54,39,56,39],[51,34,53,34],[51,40,53,40],[51,41,53,41],[51,35,53,35],[51,36,53,36],[48,30,50,30],[48,31,50,31],[32,1,33,1],[32,4,33,4],[35,1,36,1],[35,4,36,4],[46,41,47,41],[44,15,47,17],[44,18,47,20],[44,21,47,23],[48,41,50,41],[48,35,50,35],[48,36,50,36],[48,37,50,37],[48,38,50,38],[48,39,50,39],[48,40,50,40],[48,28,50,28],[48,34,50,34],[51,30,53,30],[26,39,28,39],[26,36,28,36],[26,37,28,37],[45,10,47,11],[45,25,47,27],[45,28,47,28],[38,2,38,5],[39,2,39,5],[40,2,40,5],[41,2,41,5],[44,1,45,5],[44,12,47,14],[47,1,48,2],[48,10,50,11],[48,12,50,14],[46,30,46,31],[46,32,46,33],[46,34,46,35],[46,36,46,37],[29,1,30,1],[29,4,30,4],[30,12,30,23],[20,35,22,35],[23,37,25,37],[23,38,25,38],[23,39,25,39],[23,40,25,40],[23,41,25,41],[26,1,27,1],[26,4,27,4],[26,10,28,11],[26,21,28,23],[26,28,28,28],[23,31,25,31],[23,32,25,32],[23,33,25,33],[23,34,25,34],[23,35,25,35],[23,36,25,36],[23,1,24,1],[23,4,24,4],[23,10,25,11],[23,18,25,20],[23,28,25,28],[23,30,25,30],[26,38,28,38],[26,40,28,40],[26,41,28,41],[26,30,28,30],[26,31,28,31],[26,32,28,32],[26,33,28,33],[26,34,28,34],[26,35,28,35],[20,1,21,1],[20,4,21,4],[20,10,22,11],[20,15,22,17],[20,28,22,28],[20,36,22,36],[20,37,22,37],[20,38,22,38],[20,39,22,39],[20,40,22,40],[20,41,22,41],[20,30,22,30],[20,31,22,31],[20,32,22,32],[20,33,22,33],[20,34,22,34],[17,32,19,32],[17,33,19,33],[17,34,19,34],[15,32,15,33],[15,34,15,35],[15,36,15,37],[15,38,15,39],[15,41,16,41],[17,37,19,37],[17,38,19,38],[17,39,19,39],[17,40,19,40],[17,41,19,41],[17,35,19,35],[17,36,19,36],[17,28,19,28],[17,30,19,30],[13,18,16,20],[13,21,16,23],[14,10,16,11],[14,25,16,27],[14,28,16,28],[15,30,15,31],[17,31,19,31],[9,2,9,5],[10,2,10,5],[11,2,11,5],[13,1,14,5],[13,12,16,14],[13,15,16,17],[7,12,7,15],[7,17,7,18],[7,20,7,21],[16,1,17,2],[17,10,19,11],[17,12,19,14],[7,23,7,25],[7,27,7,28],[8,2,8,5],[1,12,4,35],[2,1,3,2],[2,3,3,9],[5,1,6,2],[5,3,6,9],[6,12,6,15],[6,17,6,18],[6,20,6,21],[6,23,6,25],[6,27,6,28]]}
[]
[null,null,null,null,null,null,null,null,null,null,null,null,"LIGUE MÉDITERRANÉENNE DE BILLARD"]
[null,"CLUB ORGANISATEUR"]
[]
[]
[null,"DIRECTEUR DE JEU :"]
[null,null,null,null,null,null,null,null,null,null,null,null,"Compétition",null,null,null,null,"Mode de jeu",null,null,"Categorie",null,null,"Format billard",null,null,null,"Distance"]
[]
[null,"Joueur 1",{"$f":"'Saisie des joueurs'!K18","v":0}]
[null,"Joueur 2",{"$f":"'Saisie des joueurs'!K19","v":0}]
[null,"Joueur 3",{"$f":"'Saisie des joueurs'!K20","v":0}]
[null,"Joueur 4",{"$f":"'Saisie des joueurs'!K21","v":0}]
[]
[null,"SAISIE DES RESULTATS",null,null,null,null,null,null,null,null,null,null,{"$f":"C9","v":0},null,null,{"$f":"C10","v":0},null,null,{"$f":"C11","v":0},null,null,{"$f":"C12","v":0}]
[null,null,null,null,null,null,null,null,null,null,null,null,null,null,null,null,null,null,null,null,null,null,null,null,null,"TOTAUX",null,null,"CLASSEMENT"]
[null,null,null,null,null,null,null,null,null,null,null,null,null,null,null,null,null,null,null,null,null,null,null,null,null,null,null,null,null,null,"Classement",null,"Classement",null,"Classement",null,"Classement",null,"Classement",null,"GENERAL","RANG"]
[null,"POULE A",null,null,null,null,null,null,null,null,null,null,null,null,null,null,null,null,null,null,null,null,null,null,null,null,null,null,null,null,"Point-Match","CLS-M","Moy-Gen","CLS-G","Moy-Part","CLS-P","M-Series","CLS-S","MGPS","CLS","CLS"]
[null,null,null,null,null,null,null,null,null,null,{"$f":"C9","v":0},null,"L",null,null,{"$f":"D33","v":0},null,{"$f":"E33","v":0},{"$f":"D27","v":0},null,{"$f":"E27","v":0},{"$f":"D21","v":0},null,{"$f":"E21","v":0},null,{"$f":"P18+S18+V18","v":0},null,{"$f":"R18+U18+X18","v":0},{"$f":"AP18","v":{"$error":"#DIV/0!"}},null,{"$f":"AA19","v":0.03},{"$f":"RANK(AE18,AE$18:AE$29,0)","v":1},{"$f":"AB20","v":{"$error":"#DIV/0!"}},{"$f":"RANK(AG18,AG$18:AG$29,0)","v":{"$error":"#DIV/0!"}},{"$f":"MAX(R20,U20,X20)","v":{"$error":"#DIV/0!"}},{"$f":"RANK(AI18,AI$18:AI$29)","v":{"$error":"#DIV/0!"}},{"$f":"Z20","v":0},{"$f":"RANK(AK18,AK$18:AK$29)","v":1},{"$f":"(AF18*1000)+(AH18*100)+(AJ18*10)+(AL18*1)","v":{"$error":"#DIV/0!"}},{"$f":"AM18","v":{"$error":"#DIV/0!"}},{"$f":"RANK(AN18,AN$18:AN$29,1)","v":{"$error":"#DIV/0!"}},{"$f":"RANK(AO18,AO$18:AO$29,1)","v":{"$error":"#DIV/0!"}}]
[null,null,null,null,null,null,null,null,null,null,null,null,null,null,null,null,{"$f":"IF(R18<1,0.01,IF(P18>M21,2,IF(P18=M21,1,0)))","v":0.01},null,null,{"$f":"IF(U18<1,0.01,IF(S18>M24,2,IF(S18=M24,1,0)))","v":0.01},null,null,{"$f":"IF(X18<1,0.01,IF(V18>M27,2,IF(V18=M27,1,0)))","v":0.01},null,null,null,{"$f":"Q19+T19+W19","v":0.03}]
[null,null,null,null,null,null,null,null,null,null,null,null,null,null,null,{"$f":"F33","v":0},null,{"$f":"P18/R18","v":{"$error":"#DIV/0!"}},{"$f":"F27","v":0},null,{"$f":"S18/U18","v":{"$error":"#DIV/0!"}},{"$f":"F21","v":0},null,{"$f":"V18/X18","v":{"$error":"#DIV/0!"}},null,{"$f":"MAX(P20,S20,V20)","v":0},null,{"$f":"Z18/AB18","v":{"$error":"#DIV/0!"}}]
[null,"Tour 1",{"$f":"C9","v":0},null,null,null,null,null,null,null,{"$f":"C10","v":0},null,{"$f":"D34","v":0},null,{"$f":"E33","v":0},"M",null,null,{"$f":"D24","v":0},null,{"$f":"E24","v":0},{"$f":"D31","v":0},null,{"$f":"E30","v":0},null,{"$f":"M21+S21+V21","v":0},null,{"$f":"O21+U21+X21","v":0},{"$f":"AP21","v":{"$error":"#DIV/0!"}},null,{"$f":"AA22","v":0.03},{"$f":"RANK(AE21,AE$18:AE$29,0)","v":1},{"$f":"AB23","v":{"$error":"#DIV/0!"}},{"$f":"RANK(AG21,AG$18:AG$29,0)","v":{"$error":"#DIV/0!"}},{"$f":"MAX(O23,U23,X23)","v":{"$error":"#DIV/0!"}},{"$f":"RANK(AI21,AI$18:AI$29)","v":{"$error":"#DIV/0!"}},{"$f":"Z23","v":0},{"$f":"RANK(AK21,AK$18:AK$29)","v":1},{"$f":"(AF21*1000)+(AH21*100)+(AJ21*10)+(AL21*1)","v":{"$error":"#DIV/0!"}},{"$f":"AM21","v":{"$error":"#DIV/0!"}},{"$f":"RANK(AN21,AN$18:AN$29,1)","v":{"$error":"#DIV/0!"}},{"$f":"RANK(AO21,AO$18:AO$29,1)","v":{"$error":"#DIV/0!"}}]
[null,null,{"$f":"C12","v":0},null,null,null,null,null,null,null,null,null,null,{"$f":"IF(R18>0,2-Q19,0.01)","v":0.01},null,null,null,null,null,{"$f":"IF(U21<1,0.01,IF(S21>P24,2,IF(S21=P24,1,0)))","v":0.01},null,null,{"$f":"IF(X21<1,0.01,IF(V21>P27,2,IF(V21=P27,1,0)))","v":0.01},null,null,null,{"$f":"N22+T22+W22","v":0.03}]
[null,null,null,null,null,null,null,null,null,null,null,null,{"$f":"F34","v":0},null,{"$f":"M21/O21","v":{"$error":"#DIV/0!"}},null,null,null,{"$f":"F24","v":0},null,{"$f":"S21/U21","v":{"$error":"#DIV/0!"}},{"$f":"F31","v":0},null,{"$f":"V21/X21","v":{"$error":"#DIV/0!"}},null,{"$f":"MAXA(M23,S23,V23)","v":0},null,{"$f":"Z21/AB21","v":{"$error":"#DIV/0!"}}]
[null,"Tour 2",{"$f":"C10","v":0},null,null,null,null,null,null,null,{"$f":"C11","v":0},null,{"$f":"D28","v":0},null,{"$f":"E27","v":0},{"$f":"D25","v":0},null,{"$f":"E24","v":0},"B",null,null,{"$f":"D36","v":0},null,{"$f":"E36","v":0},null,{"$f":"M24+P24+V24","v":0},null,{"$f":"O24+R24+X24","v":0},{"$f":"AP24","v":{"$error":"#DIV/0!"}},null,{"$f":"AA25","v":0.03},{"$f":"RANK(AE24,AE$18:AE$29,0)","v":1},{"$f":"AB26","v":{"$error":"#DIV/0!"}},{"$f":"RANK(AG24,AG$18:AG$29,0)","v":{"$error":"#DIV/0!"}},{"$f":"MAX(O26,R26,X26)","v":{"$error":"#DIV/0!"}},{"$f":"RANK(AI24,AI$18:AI$29)","v":{"$error":"#DIV/0!"}},{"$f":"Z26","v":0},{"$f":"RANK(AK24,AK$18:AK$29)","v":1},{"$f":"(AF24*1000)+(AH24*100)+(AJ24*10)+(AL24*1)","v":{"$error":"#DIV/0!"}},{"$f":"AM24","v":{"$error":"#DIV/0!"}},{"$f":"RANK(AN24,AN$18:AN$29,1)","v":{"$error":"#DIV/0!"}},{"$f":"RANK(AO24,AO$18:AO$29,1)","v":{"$error":"#DIV/0!"}}]
[null,null,{"$f":"C11","v":0},null,null,null,null,null,null,null,null,null,null,{"$f":"IF(U18>0,2-T19,0.01)","v":0.01},null,null,{"$f":"IF(U21>0,2-T22,0.01)","v":0.01},null,null,null,null,null,{"$f":"IF(X24<1,0.01,IF(V24>S27,2,IF(V24=S27,1,0)))","v":0.01},null,null,null,{"$f":"N25+Q25+W25","v":0.03}]
[null,null,null,null,null,null,null,null,null,null,null,null,{"$f":"F28","v":0},null,{"$f":"M24/O24","v":{"$error":"#DIV/0!"}},{"$f":"F25","v":0},null,{"$f":"P24/R24","v":{"$error":"#DIV/0!"}},null,null,null,{"$f":"F36","v":0},null,{"$f":"V24/X24","v":{"$error":"#DIV/0!"}},null,{"$f":"MAXA(M26,P26,V26)","v":0},null,{"$f":"Z24/AB24","v":{"$error":"#DIV/0!"}}]
[null,"Tour 3",{"$f":"C9","v":0},null,null,null,null,null,null,null,{"$f":"C12","v":0},null,{"$f":"D22","v":0},null,{"$f":"E21","v":0},{"$f":"D30","v":0},null,{"$f":"E30","v":0},{"$f":"D37","v":0},null,{"$f":"E36","v":0},null,null,null,null,{"$f":"M27+P27+S27","v":0},null,{"$f":"O27+R27+U27","v":0},{"$f":"AP27","v":{"$error":"#DIV/0!"}},null,{"$f":"AA28","v":0.03},{"$f":"RANK(AE27,AE$18:AE$29,0)","v":1},{"$f":"AB29","v":{"$error":"#DIV/0!"}},{"$f":"RANK(AG27,AG$18:AG$29,0)","v":{"$error":"#DIV/0!"}},{"$f":"MAX(O29,R29,U29)","v":{"$error":"#DIV/0!"}},{"$f":"RANK(AI27,AI$18:AI$29)","v":{"$error":"#DIV/0!"}},{"$f":"Z29","v":0},{"$f":"RANK(AK27,AK$18:AK$29)","v":1},{"$f":"(AF27*1000)+(AH27*100)+(AJ27*10)+(AL27*1)","v":{"$error":"#DIV/0!"}},{"$f":"AM27","v":{"$error":"#DIV/0!"}},{"$f":"RANK(AN27,AN$18:AN$29,1)","v":{"$error":"#DIV/0!"}},{"$f":"RANK(AO27,AO$18:AO$29,1)","v":{"$error":"#DIV/0!"}}]
[null,null,{"$f":"C11","v":0},null,null,null,null,null,null,null,null,null,null,{"$f":"IF(X18>0,2-W19,0.01)","v":0.01},null,null,{"$f":"IF(X21>0,2-W22,0.01)","v":0.01},null,null,{"$f":"IF(X24>0,2-W25,0.01)","v":0.01},null,null,null,null,null,null,{"$f":"N28+Q28+T28","v":0.03}]
[null,null,null,null,null,null,null,null,null,null,null,null,{"$f":"F22","v":0},null,{"$f":"M27/O27","v":{"$error":"#DIV/0!"}},{"$f":"F30","v":0},null,{"$f":"P27/R27","v":{"$error":"#DIV/0!"}},{"$f":"F37","v":0},null,{"$f":"S27/U27","v":{"$error":"#DIV/0!"}},null,null,null,null,{"$f":"MAXA(M29,P29,S29)","v":0},null,{"$f":"Z27/AB27","v":{"$error":"#DIV/0!"}}]
[null,"Tour 4",{"$f":"C12","v":0}]
[null,null,{"$f":"C10","v":0},null,null,null,null,null,null,null,null,null,"Pas de prolongation en cas de match nul."]
[]
[null,"Tour 5",{"$f":"C9","v":0}]
[null,null,{"$f":"C10","v":0}]
[]
[null,"Tour 6",{"$f":"C11","v":0}]
[null,null,{"$f":"C12","v":0}]
[]
[null,"Joueur 1",{"$f":"'Saisie des joueurs'!K22","v":0}]
[null,"Joueur 2",{"$f":"'Saisie des joueurs'!K23","v":0}]
[null,"Joueur 3",{"$f":"'Saisie des joueurs'!K24","v":0}]
[null,"Joueur 4",{"$f":"'Saisie des joueurs'!K25","v":0}]
[]
[]
[null,"SAISIE DES RESULTATS",null,null,null,null,null,null,null,null,null,null,{"$f":"C39","v":0},null,null,{"$f":"C40","v":0},null,null,{"$f":"C41","v":0},null,null,{"$f":"C42","v":0}]
[null,null,null,null,null,null,null,null,null,null,null,null,null,null,null,null,null,null,null,null,null,null,null,null,null,"TOTAUX",null,null,"CLASSEMENT"]
[null,null,null,null,null,null,null,null,null,null,null,null,null,null,null,null,null,null,null,null,null,null,null,null,null,null,null,null,null,null,"Classement",null,"Classement",null,"Classement",null,"Classement",null,"Classement",null,"GENERAL","RANG"]
[null,"POULE B",null,null,null,null,null,null,null,null,null,null,null,null,null,null,null,null,null,null,null,null,null,null,null,null,null,null,null,null,"Point-Match","CLS-M","Moy-Gen","CLS-G","Moy-Part","CLS-P","M-Series","CLS-S","MGPS","CLS","CLS"]
[null,null,null,null,null,null,null,null,null,null,{"$f":"C39","v":0},null,"L",null,null,{"$f":"D64","v":0},null,{"$f":"E64","v":0},{"$f":"D58","v":0},null,{"$f":"E58","v":0},{"$f":"D52","v":0},null,{"$f":"E52","v":0},null,{"$f":"P49+S49+V49","v":0},null,{"$f":"R49+U49+X49","v":0},{"$f":"AP49","v":{"$error":"#DIV/0!"}},null,{"$f":"AA50","v":0.03},{"$f":"RANK(AE49,AE$49:AE$60,0)","v":1},{"$f":"AB51","v":{"$error":"#DIV/0!"}},{"$f":"RANK(AG49,AG$49:AG$60,0)","v":{"$error":"#DIV/0!"}},{"$f":"MAX(R51,U51,X51)","v":{"$error":"#DIV/0!"}},{"$f":"RANK(AI49,AI$49:AI$60)","v":{"$error":"#DIV/0!"}},{"$f":"Z51","v":0},{"$f":"RANK(AK49,AK$49:AK$60)","v":1},{"$f":"(AF49*1000)+(AH49*100)+(AJ49*10)+(AL49*1)","v":{"$error":"#DIV/0!"}},{"$f":"AM49","v":{"$error":"#DIV/0!"}},{"$f":"RANK(AN49,AN$49:AN$60,1)","v":{"$error":"#DIV/0!"}},{"$f":"RANK(AO49,AO$49:AO$60,1)","v":{"$error":"#DIV/0!"}}]
[null,null,null,null,null,null,null,null,null,null,null,null,null,null,null,null,{"$f":"IF(R49<1,0.01,IF(P49>M52,2,IF(P49=M52,1,0)))","v":0.01},null,null,{"$f":"IF(U49<1,0.01,IF(S49>M55,2,IF(S49=M55,1,0)))","v":0.01},null,null,{"$f":"IF(X49<1,0.01,IF(V49>M58,2,IF(V49=M58,1,0)))","v":0.01},null,null,null,{"$f":"Q50+T50+W50","v":0.03}]
[null,null,null,"Pts","Rep","Série",null,null,null,null,null,null,null,null,null,{"$f":"F64","v":0},null,{"$f":"P49/R49","v":{"$error":"#DIV/0!"}},{"$f":"F58","v":0},null,{"$f":"S49/U49","v":{"$error":"#DIV/0!"}},{"$f":"F52","v":0},null,{"$f":"V49/X49","v":{"$error":"#DIV/0!"}},null,{"$f":"MAX(P51,S51,V51)","v":0},null,{"$f":"Z49/AB49","v":{"$error":"#DIV/0!"}}]
[null,"Tour 1",{"$f":"C39","v":0},null,null,null,null,null,null,null,{"$f":"C40","v":0},null,{"$f":"D65","v":0},null,{"$f":"E64","v":0},"M",null,null,{"$f":"D55","v":0},null,{"$f":"E55","v":0},{"$f":"D62","v":0},null,{"$f":"E61","v":0},null,{"$f":"M52+S52+V52","v":0},null,{"$f":"O52+U52+X52","v":0},{"$f":"AP52","v":{"$error":"#DIV/0!"}},null,{"$f":"AA53","v":0.03},{"$f":"RANK(AE52,AE$49:AE$60,0)","v":1},{"$f":"AB54","v":{"$error":"#DIV/0!"}},{"$f":"RANK(AG52,AG$49:AG$60,0)","v":{"$error":"#DIV/0!"}},{"$f":"MAX(O54,U54,X54)","v":{"$error":"#DIV/0!"}},{"$f":"RANK(AI52,AI$49:AI$60)","v":{"$error":"#DIV/0!"}},{"$f":"Z54","v":0},{"$f":"RANK(AK52,AK$49:AK$60)","v":1},{"$f":"(AF52*1000)+(AH52*100)+(AJ52*10)+(AL52*1)","v":{"$error":"#DIV/0!"}},{"$f":"AM52","v":{"$error":"#DIV/0!"}},{"$f":"RANK(AN52,AN$49:AN$60,1)","v":{"$error":"#DIV/0!"}},{"$f":"RANK(AO52,AO$49:AO$60,1)","v":{"$error":"#DIV/0!"}}]
[null,null,{"$f":"C42","v":0},null,null,null,null,null,null,null,null,null,null,{"$f":"IF(R49>0,2-Q50,0.01)","v":0.01},null,null,null,null,null,{"$f":"IF(U52<1,0.01,IF(S52>P55,2,IF(S52=P55,1,0)))","v":0.01},null,null,{"$f":"IF(X52<1,0.01,IF(V52>P58,2,IF(V52=P58,1,0)))","v":0.01},null,null,null,{"$f":"N53+T53+W53","v":0.03}]
[null,null,null,null,null,null,null,null,null,null,null,null,{"$f":"F65","v":0},null,{"$f":"M52/O52","v":{"$error":"#DIV/0!"}},null,null,null,{"$f":"F55","v":0},null,{"$f":"S52/U52","v":{"$error":"#DIV/0!"}},{"$f":"F62","v":0},null,{"$f":"V52/X52","v":{"$error":"#DIV/0!"}},null,{"$f":"MAXA(M54,S54,V54)","v":0},null,{"$f":"Z52/AB52","v":{"$error":"#DIV/0!"}}]
[null,"Tour 2",{"$f":"C40","v":0},null,null,null,null,null,null,null,{"$f":"C41","v":0},null,{"$f":"D59","v":0},null,{"$f":"E58","v":0},{"$f":"D56","v":0},null,{"$f":"E55","v":0},"B",null,null,{"$f":"D67","v":0},null,{"$f":"E67","v":0},null,{"$f":"M55+P55+V55","v":0},null,{"$f":"O55+R55+X55","v":0},{"$f":"AP55","v":{"$error":"#DIV/0!"}},null,{"$f":"AA56","v":0.03},{"$f":"RANK(AE55,AE$49:AE$60,0)","v":1},{"$f":"AB57","v":{"$error":"#DIV/0!"}},{"$f":"RANK(AG55,AG$49:AG$60,0)","v":{"$error":"#DIV/0!"}},{"$f":"MAX(O57,R57,X57)","v":{"$error":"#DIV/0!"}},{"$f":"RANK(AI55,AI$49:AI$60)","v":{"$error":"#DIV/0!"}},{"$f":"Z57","v":0},{"$f":"RANK(AK55,AK$49:AK$60)","v":1},{"$f":"(AF55*1000)+(AH55*100)+(AJ55*10)+(AL55*1)","v":{"$error":"#DIV/0!"}},{"$f":"AM55","v":{"$error":"#DIV/0!"}},{"$f":"RANK(AN55,AN$49:AN$60,1)","v":{"$error":"#DIV/0!"}},{"$f":"RANK(AO55,AO$49:AO$60,1)","v":{"$error":"#DIV/0!"}}]
[null,null,{"$f":"C41","v":0},null,null,null,null,null,null,null,null,null,null,{"$f":"IF(U49>0,2-T50,0.01)","v":0.01},null,null,{"$f":"IF(U52>0,2-T53,0.01)","v":0.01},null,null,null,null,null,{"$f":"IF(X55<1,0.01,IF(V55>S58,2,IF(V55=S58,1,0)))","v":0.01},null,null,null,{"$f":"N56+Q56+W56","v":0.03}]
[null,null,null,null,null,null,null,null,null,null,null,null,{"$f":"F59","v":0},null,{"$f":"M55/O55","v":{"$error":"#DIV/0!"}},{"$f":"F56","v":0},null,{"$f":"P55/R55","v":{"$error":"#DIV/0!"}},null,null,null,{"$f":"F67","v":0},null,{"$f":"V55/X55","v":{"$error":"#DIV/0!"}},null,{"$f":"MAXA(M57,P57,V57)","v":0},null,{"$f":"Z55/AB55","v":{"$error":"#DIV/0!"}}]
[null,"Tour 3",{"$f":"C39","v":0},null,null,null,null,null,null,null,{"$f":"C42","v":0},null,{"$f":"D53","v":0},null,{"$f":"E52","v":0},{"$f":"D61","v":0},null,{"$f":"E61","v":0},{"$f":"D68","v":0},null,{"$f":"E67","v":0},null,null,null,null,{"$f":"M58+P58+S58","v":0},null,{"$f":"O58+R58+U58","v":0},{"$f":"AP58","v":{"$error":"#DIV/0!"}},null,{"$f":"AA59","v":0.03},{"$f":"RANK(AE58,AE$49:AE$60,0)","v":1},{"$f":"AB60","v":{"$error":"#DIV/0!"}},{"$f":"RANK(AG58,AG$49:AG$60,0)","v":{"$error":"#DIV/0!"}},{"$f":"MAX(O60,R60,U60)","v":{"$error":"#DIV/0!"}},{"$f":"RANK(AI58,AI$49:AI$60)","v":{"$error":"#DIV/0!"}},{"$f":"Z60","v":0},{"$f":"RANK(AK58,AK$49:AK$60)","v":1},{"$f":"(AF58*1000)+(AH58*100)+(AJ58*10)+(AL58*1)","v":{"$error":"#DIV/0!"}},{"$f":"AM58","v":{"$error":"#DIV/0!"}},{"$f":"RANK(AN58,AN$49:AN$60,1)","v":{"$error":"#DIV/0!"}},{"$f":"RANK(AO58,AO$49:AO$60,1)","v":{"$error":"#DIV/0!"}}]
[null,null,{"$f":"C41","v":0},null,null,null,null,null,null,null,null,null,null,{"$f":"IF(X49>0,2-W50,0.01)","v":0.01},null,null,{"$f":"IF(X52>0,2-W53,0.01)","v":0.01},null,null,{"$f":"IF(X55>0,2-W56,0.01)","v":0.01},null,null,null,null,null,null,{"$f":"N59+Q59+T59","v":0.03}]
[null,null,null,null,null,null,null,null,null,null,null,null,{"$f":"F53","v":0},null,{"$f":"M58/O58","v":{"$error":"#DIV/0!"}},{"$f":"F61","v":0},null,{"$f":"P58/R58","v":{"$error":"#DIV/0!"}},{"$f":"F68","v":0},null,{"$f":"S58/U58","v":{"$error":"#DIV/0!"}},null,null,null,null,{"$f":"MAXA(M60,P60,S60)","v":0},null,{"$f":"Z58/AB58","v":{"$error":"#DIV/0!"}}]
[null,"Tour 4",{"$f":"C42","v":0}]
[null,null,{"$f":"C40","v":0},null,null,null,null,null,null,null,null,null,"Pas de prolongation en cas de match nul."]
[]
[null,"Tour 5",{"$f":"C39","v":0}]
[null,null,{"$f":"C40","v":0}]
[]
[null,"Tour 6",{"$f":"C41","v":0}]
[null,null,{"$f":"C42","v":0}]

{"sheet":"9JOUEURS_MOYENNE","index":40,"n_rows":99,"n_cols":48,"rows_kept":99,"cut":false,"hidden":true,"merged":[[97,1,98,1],[97,4,98,4],[88,1,89,1],[88,4,89,4],[89,12,89,34],[91,1,92,1],[91,4,92,4],[94,1,95,1],[94,4,95,4],[85,45,87,45],[85,46,87,46],[85,47,87,47],[85,36,87,36],[85,37,87,37],[85,38,87,38],[85,39,87,39],[85,40,87,40],[85,41,87,41],[85,1,86,1],[85,4,86,4],[85,10,87,11],[85,18,87,20],[85,27,87,29],[85,34,87,34],[82,42,84,42],[82,43,84,43],[82,44,84,44],[85,42,87,42],[85,43,87,43],[85,44,87,44],[79,47,81,47],[82,1,83,1],[82,4,83,4],[82,10,84,11],[82,15,84,17],[82,24,84,26],[82,34,84,34],[79,38,81,38],[79,39,81,39],[79,40,81,40],[79,41,81,41],[79,42,81,42],[79,43,81,43],[82,45,84,45],[82,46,84,46],[82,47,84,47],[82,36,84,36],[82,37,84,37],[82,38,84,38],[82,39,84,39],[82,40,84,40],[82,41,84,41],[77,41,77,42],[77,43,77,44],[77,46,78,46],[78,1,79,2],[79,10,81,11],[79,12,81,14],[79,21,81,23],[79,34,81,34],[79,36,81,36],[79,37,81,37],[75,27,78,29],[75,31,78,33],[75,34,78,34],[76,10,78,11],[77,36,77,37],[77,38,77,39],[79,44,81,44],[79,45,81,45],[79,46,81,46],[71,2,71,5],[72,2,72,5],[72,12,72,20],[72,21,72,29],[75,1,76,5],[75,12,78,14],[75,15,78,17],[75,18,78,20],[75,21,78,23],[75,24,78,26],[63,1,64,1],[63,4,64,4],[66,1,67,1],[66,4,67,4],[69,2,69,5],[70,2,70,5],[54,47,56,47],[57,1,58,1],[57,4,58,4],[58,12,58,34],[60,1,61,1],[60,4,61,4],[54,41,56,41],[54,42,56,42],[54,43,56,43],[54,44,56,44],[54,45,56,45],[54,46,56,46],[54,34,56,34],[54,36,56,36],[54,37,56,37],[54,38,56,38],[54,39,56,39],[54,40,56,40],[54,1,55,1],[54,4,55,4],[54,10,56,11],[54,18,56,20],[54,27,56,29],[51,37,53,37],[51,38,53,38],[51,39,53,39],[51,40,53,40],[48,46,50,46],[48,47,50,47],[51,1,52,1],[51,4,52,4],[51,10,53,11],[51,15,53,17],[51,24,53,26],[51,34,53,34],[51,36,53,36],[48,39,50,39],[48,40,50,40],[48,41,50,41],[48,42,50,42],[48,43,50,43],[48,44,50,44],[51,43,53,43],[51,44,53,44],[51,45,53,45],[51,46,53,46],[51,47,53,47],[51,41,53,41],[51,42,53,42],[44,1,45,5],[44,12,47,14],[44,15,47,17],[44,18,47,20],[44,21,47,23],[44,24,47,26],[44,27,47,29],[46,43,46,44],[46,46,47,46],[47,1,48,2],[48,10,50,11],[48,12,50,14],[48,21,50,23],[48,34,50,34],[48,36,50,36],[48,37,50,37],[48,38,50,38],[44,31,47,33],[44,34,47,34],[45,10,47,11],[46,36,46,37],[46,38,46,39],[46,41,46,42],[48,45,50,45],[35,1,36,1],[35,4,36,4],[38,2,38,5],[39,2,39,5],[40,2,40,5],[41,2,41,5],[26,1,27,1],[26,4,27,4],[27,12,27,34],[29,1,30,1],[29,4,30,4],[32,1,33,1],[32,4,33,4],[41,12,41,20],[41,21,41,29],[23,45,25,45],[23,46,25,46],[23,47,25,47],[23,36,25,36],[23,37,25,37],[23,38,25,38],[23,39,25,39],[23,40,25,40],[23,41,25,41],[23,1,24,1],[23,4,24,4],[23,10,25,11],[23,18,25,20],[23,27,25,29],[23,34,25,34],[20,42,22,42],[20,43,22,43],[20,44,22,44],[23,42,25,42],[23,43,25,43],[23,44,25,44],[17,47,19,47],[20,1,21,1],[20,4,21,4],[20,10,22,11],[20,15,22,17],[20,24,22,26],[20,34,22,34],[17,38,19,38],[17,39,19,39],[17,40,19,40],[17,41,19,41],[17,42,19,42],[17,43,19,43],[20,45,22,45],[20,46,22,46],[20,47,22,47],[20,36,22,36],[20,37,22,37],[20,38,22,38],[20,39,22,39],[20,40,22,40],[20,41,22,41],[15,41,15,42],[15,43,15,44],[15,46,16,46],[16,1,17,2],[17,10,19,11],[17,12,19,14],[17,21,19,23],[17,34,19,34],[17,36,19,36],[17,37,19,37],[13,27,16,29],[13,31,16,33],[13,34,16,34],[14,10,16,11],[15,36,15,37],[15,38,15,39],[17,44,19,44],[17,45,19,45],[17,46,19,46],[9,2,9,5],[10,2,10,5],[11,12,11,20],[11,21,11,29],[13,1,14,5],[13,12,16,14],[13,15,16,17],[13,18,16,20],[13,21,16,23],[13,24,16,26],[7,12,7,15],[7,17,7,18],[7,20,7,21],[7,23,7,25],[7,27,7,28],[8,2,8,5],[1,12,4,35],[2,1,3,2],[2,3,3,9],[5,1,6,2],[5,3,6,9],[6,12,6,15],[6,17,6,18],[6,20,6,21],[6,23,6,25],[6,27,6,28]]}
[]
[null,null,null,null,null,null,null,null,null,null,null,null,"LIGUE MÉDITERRANÉENNE DE BILLARD"]
[null,"CLUB ORGANISATEUR",null,"19006 – BILLARD CLUB CARPENTRASSIEN"]
[]
[]
[null,"DIRECTEUR DE JEU :",null,"Philippe"]
[null,null,null,null,null,null,null,null,null,null,null,null,"Compétition",null,null,null,null,"Mode de jeu",null,null,"Categorie",null,null,"Format billard",null,null,null,"Distance"]
[null,null,null,null,null,null,null,null,null,null,null,null,"TOURNOI N°1",null,null,null,null,"LIBRE",null,null,"R3"]
[null,"Joueur 1",{"$f":"'Saisie des joueurs'!K18","v":0}]
[null,"Joueur 2",{"$f":"'Saisie des joueurs'!K19","v":0}]
[null,"Joueur 3",{"$f":"'Saisie des joueurs'!K20","v":0}]
[null,null,null,null,null,null,null,null,null,null,null,null,"MATCH ALLER",null,null,null,null,null,null,null,null,"MATCH RETOUR"]
[]
[null,"SAISIE DES RESULTATS",null,null,null,null,null,null,null,null,null,null,{"$f":"C9","v":0},null,null,{"$f":"C10","v":0},null,null,{"$f":"C11","v":0},null,null,{"$f":"C9","v":0},null,null,{"$f":"C10","v":0},null,null,{"$f":"C11","v":0},null,null,null,"TOTAUX",null,null,"CLASSEMENT"]
[]
[null,null,null,null,null,null,null,null,null,null,null,null,null,null,null,null,null,null,null,null,null,null,null,null,null,null,null,null,null,null,null,null,null,null,null,null,"Classement",null,"Classement",null,"Classement","Classement",null,"Classement",null,"GENERAL","RANG"]
[null,"POULE A",null,null,null,null,null,null,null,null,null,null,null,null,null,null,null,null,null,null,null,null,null,null,null,null,null,null,null,null,null,null,null,null,null,null,"Point-Match","CLS-M","Moy-Gen","CLS-G","Moy-Part","M-Series","CLS-S","MGPS","CLS","CLS"]
[null,null,null,null,null,null,null,null,null,null,{"$f":"C9","v":0},null,"L",null,null,{"$f":"D27","v":0},null,{"$f":"E27","v":0},{"$f":"D21","v":0},null,{"$f":"E21","v":0},"L",null,null,{"$f":"D36","v":0},null,{"$f":"E36","v":0},{"$f":"D30","v":0},null,{"$f":"E30","v":0},null,{"$f":"P18+S18+Y18+AB18","v":0},null,{"$f":"R18+U18+AA18+AD18","v":0},{"$f":"AU18","v":{"$error":"#DIV/0!"}},null,{"$f":"AG19","v":0.04},{"$f":"RANK(AK18,AK$18:AK$26,0)","v":1},{"$f":"AH20","v":{"$error":"#DIV/0!"}},{"$f":"RANK(AM18,AM$18:AM$26,0)","v":{"$error":"#DIV/0!"}},{"$f":"MAX(R20,U20,AA20,AD20)","v":{"$error":"#DIV/0!"}},{"$f":"RANK(AO18,AO$18:AO$26)","v":{"$error":"#DIV/0!"}},{"$f":"AF20","v":0},{"$f":"RANK(AQ18,AQ$18:AQ$26)","v":1},{"$f":"(AL18*1000)+(AN18*100)+(AP18*10)+(AR18*1)","v":{"$error":"#DIV/0!"}},{"$f":"AS18","v":{"$error":"#DIV/0!"}},{"$f":"RANK(AT18,AT$18:AT$26,1)","v":{"$error":"#DIV/0!"}},{"$f":"RANK(AU18,AU$18:AU$26,1)","v":{"$error":"#DIV/0!"}}]
[null,null,null,null,null,null,null,null,null,null,null,null,null,null,null,null,{"$f":"IF(R18<1,0.01,IF(P18>M21,2,IF(P18=M21,1,0)))","v":0.01},null,null,{"$f":"IF(U18<1,0.01,IF(S18>M24,2,IF(S18=M24,1,0)))","v":0.01},null,null,null,null,null,{"$f":"IF(AA18<1,0.01,IF(Y18>V21,2,IF(Y18=V21,1,0)))","v":0.01},null,null,{"$f":"IF(AD18<1,0.01,IF(AB18>V24,2,IF(AB18=V24,1,0)))","v":0.01},null,null,null,{"$f":"Q19+T19+Z19+AC19","v":0.04}]
[null,null,null,"Pts","Rep","Série",null,null,null,null,null,null,null,null,null,{"$f":"F27","v":0},null,{"$f":"P18/R18","v":{"$error":"#DIV/0!"}},{"$f":"F21","v":0},null,{"$f":"S18/U18","v":{"$error":"#DIV/0!"}},null,null,null,{"$f":"F36","v":0},null,{"$f":"Y18/AA18","v":{"$error":"#DIV/0!"}},{"$f":"F30","v":0},null,{"$f":"AB18/AD18","v":{"$error":"#DIV/0!"}},null,{"$f":"MAX(P20,S20,Y20,AB20)","v":0},null,{"$f":"AF18/AH18","v":{"$error":"#DIV/0!"}}]
[null,"Tour 1\nMatch aller",{"$f":"C9","v":0},null,null,null,null,null,null,null,{"$f":"C10","v":0},null,{"$f":"D28","v":0},null,{"$f":"E27","v":0},"M",null,null,{"$f":"D24","v":0},null,{"$f":"E24","v":0},{"$f":"D37","v":0},null,{"$f":"E36","v":0},"M",null,null,{"$f":"D33","v":0},null,{"$f":"E33","v":0},null,{"$f":"M21+S21+V21+AB21","v":0},null,{"$f":"O21+U21+X21+AD21","v":0},{"$f":"AU21","v":{"$error":"#DIV/0!"}},null,{"$f":"AG22","v":0.04},{"$f":"RANK(AK21,AK$18:AK$26,0)","v":1},{"$f":"AH23","v":{"$error":"#DIV/0!"}},{"$f":"RANK(AM21,AM$18:AM$26,0)","v":{"$error":"#DIV/0!"}},{"$f":"MAX(R23,U23,AA23,AD23)","v":{"$error":"#DIV/0!"}},{"$f":"RANK(AO21,AO$18:AO$26)","v":{"$error":"#DIV/0!"}},{"$f":"AF23","v":0},{"$f":"RANK(AQ21,AQ$18:AQ$26)","v":1},{"$f":"(AL21*1000)+(AN21*100)+(AP21*10)+(AR21*1)","v":{"$error":"#DIV/0!"}},{"$f":"AS21","v":{"$error":"#DIV/0!"}},{"$f":"RANK(AT21,AT$18:AT$26,1)","v":{"$error":"#DIV/0!"}},{"$f":"RANK(AU21,AU$18:AU$26,1)","v":{"$error":"#DIV/0!"}}]
[null,null,{"$f":"C11","v":0},null,null,null,null,null,null,null,null,null,null,{"$f":"IF(R18>0,2-Q19,0.01)","v":0.01},null,null,null,null,null,{"$f":"IF(U21<1,0.01,IF(S21>P24,2,IF(S21=P24,1,0)))","v":0.01},null,null,{"$f":"IF(AA18>0,2-Z19,0.01)","v":0.01},null,null,null,null,null,{"$f":"IF(AD21<1,0.01,IF(AB21>Y24,2,IF(AB21=Y24,1,0)))","v":0.01},null,null,null,{"$f":"N22+T22+W22+AC22","v":0.04}]
[null,null,null,null,null,null,null,null,null,null,null,null,{"$f":"F28","v":0},null,{"$f":"M21/O21","v":{"$error":"#DIV/0!"}},null,null,null,{"$f":"F24","v":0},null,{"$f":"S21/U21","v":{"$error":"#DIV/0!"}},{"$f":"F37","v":0},null,{"$f":"V21/X21","v":{"$error":"#DIV/0!"}},null,null,null,{"$f":"F33","v":0},null,{"$f":"AB21/AD21","v":{"$error":"#DIV/0!"}},null,{"$f":"MAXA(M23,S23,V23,AB23)","v":0},null,{"$f":"AF21/AH21","v":{"$error":"#DIV/0!"}}]
[null,"Tour 2\nMatch aller",{"$f":"C10","v":0},null,null,null,null,null,null,null,{"$f":"C11","v":0},null,{"$f":"D22","v":0},null,{"$f":"E21","v":0},{"$f":"D25","v":0},null,{"$f":"E24","v":0},"B",null,null,{"$f":"D31","v":0},null,{"$f":"E30","v":0},{"$f":"D34","v":0},null,{"$f":"E33","v":0},"B",null,null,null,{"$f":"M24+P24+V24+Y24","v":0},null,{"$f":"O24+R24+X24+AA24","v":0},{"$f":"AU24","v":{"$error":"#DIV/0!"}},null,{"$f":"AG25","v":0.04},{"$f":"RANK(AK24,AK$18:AK$26,0)","v":1},{"$f":"AH26","v":{"$error":"#DIV/0!"}},{"$f":"RANK(AM24,AM$18:AM$26,0)","v":{"$error":"#DIV/0!"}},{"$f":"MAX(R26,U26,AA26,AD26)","v":{"$error":"#DIV/0!"}},{"$f":"RANK(AO24,AO$18:AO$26)","v":{"$error":"#DIV/0!"}},{"$f":"AF26","v":0},{"$f":"RANK(AQ24,AQ$18:AQ$26)","v":1},{"$f":"(AL24*1000)+(AN24*100)+(AP24*10)+(AR24*1)","v":{"$error":"#DIV/0!"}},{"$f":"AS24","v":{"$error":"#DIV/0!"}},{"$f":"RANK(AT24,AT$18:AT$26,1)","v":{"$error":"#DIV/0!"}},{"$f":"RANK(AU24,AU$18:AU$26,1)","v":{"$error":"#DIV/0!"}}]
[null,null,{"$f":"C11","v":0},null,null,null,null,null,null,null,null,null,null,{"$f":"IF(U18>0,2-T19,0.01)","v":0.01},null,null,{"$f":"IF(U21>0,2-T22,0.01)","v":0.01},null,null,null,null,null,{"$f":"IF(AD18>0,2-AC19,0.01)","v":0.01},null,null,{"$f":"IF(AD21>0,2-AC22,0.01)","v":0.01},null,null,null,null,null,null,{"$f":"N25+Q25+W25+Z25","v":0.04}]
[null,null,null,null,null,null,null,null,null,null,null,null,{"$f":"F22","v":0},null,{"$f":"M24/O24","v":{"$error":"#DIV/0!"}},{"$f":"F25","v":0},null,{"$f":"P24/R24","v":{"$error":"#DIV/0!"}},null,null,null,{"$f":"F31","v":0},null,{"$f":"V24/X24","v":{"$error":"#DIV/0!"}},{"$f":"F34","v":0},null,{"$f":"Y24/AA24","v":{"$error":"#DIV/0!"}},null,null,null,null,{"$f":"MAXA(M26,P26,V26,Y26)","v":0},null,{"$f":"AF24/AH24","v":{"$error":"#DIV/0!"}}]
[null,"Tour 3\nMatch aller",{"$f":"C9","v":0}]
[null,null,{"$f":"C10","v":0},null,null,null,null,null,null,null,null,null,"Pas de prolongation en cas de match nul."]
[]
[null,"Tour 1\nMatch retour",{"$f":"C9","v":0}]
[null,null,{"$f":"C11","v":0}]
[]
[null,"Tour 2\nMatch retour",{"$f":"C10","v":0}]
[null,null,{"$f":"C11","v":0}]
[]
[null,"Tour 3\nMatch retour",{"$f":"C9","v":0}]
[null,null,{"$f":"C10","v":0}]
[]
[null,"Joueur 1",{"$f":"'Saisie des joueurs'!K21","v":0}]
[null,"Joueur 2",{"$f":"'Saisie des joueurs'!K22","v":0}]
[null,"Joueur 3",{"$f":"'Saisie des joueurs'!K23","v":0}]
[null,null,null,null,null,null,null,null,null,null,null,null,"MATCH ALLER",null,null,null,null,null,null,null,null,"MATCH RETOUR"]
[]
[]
[null,"SAISIE DES RESULTATS",null,null,null,null,null,null,null,null,null,null,{"$f":"C39","v":0},null,null,{"$f":"C40","v":0},null,null,{"$f":"C41","v":0},null,null,{"$f":"C39","v":0},null,null,{"$f":"C40","v":0},null,null,{"$f":"C41","v":0},null,null,null,"TOTAUX",null,null,"CLASSEMENT"]
[]
[null,null,null,null,null,null,null,null,null,null,null,null,null,null,null,null,null,null,null,null,null,null,null,null,null,null,null,null,null,null,null,null,null,null,null,null,"Classement",null,"Classement",null,"Classement","Classement",null,"Classement",null,"GENERAL","RANG"]
[null,"POULE B",null,null,null,null,null,null,null,null,null,null,null,null,null,null,null,null,null,null,null,null,null,null,null,null,null,null,null,null,null,null,null,null,null,null,"Point-Match","CLS-M","Moy-Gen","CLS-G","Moy-Part","M-Series","CLS-S","MGPS","CLS","CLS"]
[null,null,null,null,null,null,null,null,null,null,{"$f":"C39","v":0},null,"L",null,null,{"$f":"D58","v":0},null,{"$f":"E58","v":0},{"$f":"D52","v":0},null,{"$f":"E52","v":0},"L",null,null,{"$f":"D67","v":0},null,{"$f":"E67","v":0},{"$f":"D61","v":0},null,{"$f":"E61","v":0},null,{"$f":"P49+S49+Y49+AB49","v":0},null,{"$f":"R49+U49+AA49+AD49","v":0},{"$f":"AU49","v":{"$error":"#DIV/0!"}},null,{"$f":"AG50","v":0.04},{"$f":"RANK(AK49,AK$49:AK$57,0)","v":1},{"$f":"AH51","v":{"$error":"#DIV/0!"}},{"$f":"RANK(AM49,AM$49:AM$57,0)","v":{"$error":"#DIV/0!"}},{"$f":"MAX(R51,U51,AA51,AD51)","v":{"$error":"#DIV/0!"}},{"$f":"RANK(AO49,AO$49:AO$57)","v":{"$error":"#DIV/0!"}},{"$f":"AF51","v":0},{"$f":"RANK(AQ49,AQ$49:AQ$57)","v":1},{"$f":"(AL49*1000)+(AN49*100)+(AP49*10)+(AR49*1)","v":{"$error":"#DIV/0!"}},{"$f":"AS49","v":{"$error":"#DIV/0!"}},{"$f":"RANK(AT49,AT$49:AT$57,1)","v":{"$error":"#DIV/0!"}},{"$f":"RANK(AU49,AU$49:AU$57,1)","v":{"$error":"#DIV/0!"}}]
[null,null,null,null,null,null,null,null,null,null,null,null,null,null,null,null,{"$f":"IF(R49<1,0.01,IF(P49>M52,2,IF(P49=M52,1,0)))","v":0.01},null,null,{"$f":"IF(U49<1,0.01,IF(S49>M55,2,IF(S49=M55,1,0)))","v":0.01},null,null,null,null,null,{"$f":"IF(AA49<1,0.01,IF(Y49>V52,2,IF(Y49=V52,1,0)))","v":0.01},null,null,{"$f":"IF(AD49<1,0.01,IF(AB49>V55,2,IF(AB49=V55,1,0)))","v":0.01},null,null,null,{"$f":"Q50+T50+Z50+AC50","v":0.04}]
[null,null,null,"Pts","Rep","Série",null,null,null,null,null,null,null,null,null,{"$f":"F58","v":0},null,{"$f":"P49/R49","v":{"$error":"#DIV/0!"}},{"$f":"F52","v":0},null,{"$f":"S49/U49","v":{"$error":"#DIV/0!"}},null,null,null,{"$f":"F67","v":0},null,{"$f":"Y49/AA49","v":{"$error":"#DIV/0!"}},{"$f":"F61","v":0},null,{"$f":"AB49/AD49","v":{"$error":"#DIV/0!"}},null,{"$f":"MAX(P51,S51,Y51,AB51)","v":0},null,{"$f":"AF49/AH49","v":{"$error":"#DIV/0!"}}]
[null,"Tour 1\nMatch aller",{"$f":"C39","v":0},null,null,null,null,null,null,null,{"$f":"C40","v":0},null,{"$f":"D59","v":0},null,{"$f":"E58","v":0},"M",null,null,{"$f":"D55","v":0},null,{"$f":"E55","v":0},{"$f":"D68","v":0},null,{"$f":"E67","v":0},"M",null,null,{"$f":"D64","v":0},null,{"$f":"E64","v":0},null,{"$f":"M52+S52+V52+AB52","v":0},null,{"$f":"O52+U52+X52+AD52","v":0},{"$f":"AU52","v":{"$error":"#DIV/0!"}},null,{"$f":"AG53","v":0.04},{"$f":"RANK(AK52,AK$49:AK$57,0)","v":1},{"$f":"AH54","v":{"$error":"#DIV/0!"}},{"$f":"RANK(AM52,AM$49:AM$57,0)","v":{"$error":"#DIV/0!"}},{"$f":"MAX(O54,U54,X54,AD54)","v":{"$error":"#DIV/0!"}},{"$f":"RANK(AO52,AO$49:AO$57)","v":{"$error":"#DIV/0!"}},{"$f":"AF54","v":0},{"$f":"RANK(AQ52,AQ$49:AQ$57)","v":1},{"$f":"(AL52*1000)+(AN52*100)+(AP52*10)+(AR52*1)","v":{"$error":"#DIV/0!"}},{"$f":"AS52","v":{"$error":"#DIV/0!"}},{"$f":"RANK(AT52,AT$49:AT$57,1)","v":{"$error":"#DIV/0!"}},{"$f":"RANK(AU52,AU$49:AU$57,1)","v":{"$error":"#DIV/0!"}}]
[null,null,{"$f":"C41","v":0},null,null,null,null,null,null,null,null,null,null,{"$f":"IF(R49>0,2-Q50,0.01)","v":0.01},null,null,null,null,null,{"$f":"IF(U52<1,0.01,IF(S52>P55,2,IF(S52=P55,1,0)))","v":0.01},null,null,{"$f":"IF(AA49>0,2-Z50,0.01)","v":0.01},null,null,null,null,null,{"$f":"IF(AD52<1,0.01,IF(AB52>Y55,2,IF(AB52=Y55,1,0)))","v":0.01},null,null,null,{"$f":"N53+T53+W53+AC53","v":0.04}]
[null,null,null,null,null,null,null,null,null,null,null,null,{"$f":"F59","v":0},null,{"$f":"M52/O52","v":{"$error":"#DIV/0!"}},null,null,null,{"$f":"F55","v":0},null,{"$f":"S52/U52","v":{"$error":"#DIV/0!"}},{"$f":"F68","v":0},null,{"$f":"V52/X52","v":{"$error":"#DIV/0!"}},null,null,null,{"$f":"F64","v":0},null,{"$f":"AB52/AD52","v":{"$error":"#DIV/0!"}},null,{"$f":"MAXA(M54,S54,V54,AB54)","v":0},null,{"$f":"AF52/AH52","v":{"$error":"#DIV/0!"}}]
[null,"Tour 2\nMatch aller",{"$f":"C40","v":0},null,null,null,null,null,null,null,{"$f":"C41","v":0},null,{"$f":"D53","v":0},null,{"$f":"E52","v":0},{"$f":"D56","v":0},null,{"$f":"E55","v":0},"B",null,null,{"$f":"D62","v":0},null,{"$f":"E61","v":0},{"$f":"D65","v":0},null,{"$f":"E64","v":0},"B",null,null,null,{"$f":"M55+P55+V55+Y55","v":0},null,{"$f":"O55+R55+X55+AA55","v":0},{"$f":"AU55","v":{"$error":"#DIV/0!"}},null,{"$f":"AG56","v":0.04},{"$f":"RANK(AK55,AK$49:AK$57,0)","v":1},{"$f":"AH57","v":{"$error":"#DIV/0!"}},{"$f":"RANK(AM55,AM$49:AM$57,0)","v":{"$error":"#DIV/0!"}},{"$f":"MAX(O57,R57,X57,AA57)","v":{"$error":"#DIV/0!"}},{"$f":"RANK(AO55,AO$49:AO$57)","v":{"$error":"#DIV/0!"}},{"$f":"AF57","v":0},{"$f":"RANK(AQ55,AQ$49:AQ$57)","v":1},{"$f":"(AL55*1000)+(AN55*100)+(AP55*10)+(AR55*1)","v":{"$error":"#DIV/0!"}},{"$f":"AS55","v":{"$error":"#DIV/0!"}},{"$f":"RANK(AT55,AT$49:AT$57,1)","v":{"$error":"#DIV/0!"}},{"$f":"RANK(AU55,AU$49:AU$57,1)","v":{"$error":"#DIV/0!"}}]
[null,null,{"$f":"C41","v":0},null,null,null,null,null,null,null,null,null,null,{"$f":"IF(U49>0,2-T50,0.01)","v":0.01},null,null,{"$f":"IF(U52>0,2-T53,0.01)","v":0.01},null,null,null,null,null,{"$f":"IF(AD49>0,2-AC50,0.01)","v":0.01},null,null,{"$f":"IF(AD52>0,2-AC53,0.01)","v":0.01},null,null,null,null,null,null,{"$f":"N56+Q56+W56+Z56","v":0.04}]
[null,null,null,null,null,null,null,null,null,null,null,null,{"$f":"F53","v":0},null,{"$f":"M55/O55","v":{"$error":"#DIV/0!"}},{"$f":"F56","v":0},null,{"$f":"P55/R55","v":{"$error":"#DIV/0!"}},null,null,null,{"$f":"F62","v":0},null,{"$f":"V55/X55","v":{"$error":"#DIV/0!"}},{"$f":"F65","v":0},null,{"$f":"Y55/AA55","v":{"$error":"#DIV/0!"}},null,null,null,null,{"$f":"MAXA(M57,P57,V57,Y57)","v":0},null,{"$f":"AF55/AH55","v":{"$error":"#DIV/0!"}}]
[null,"Tour 3\nMatch aller",{"$f":"C39","v":0}]
[null,null,{"$f":"C40","v":0},null,null,null,null,null,null,null,null,null,"Pas de prolongation en cas de match nul."]
[]
[null,"Tour 1\nMatch retour",{"$f":"C39","v":0}]
[null,null,{"$f":"C41","v":0}]
[]
[null,"Tour 2\nMatch retour",{"$f":"C40","v":0}]
[null,null,{"$f":"C41","v":0}]
[]
[null,"Tour 3\nMatch retour",{"$f":"C39","v":0}]
[null,null,{"$f":"C40","v":0}]
[]
[null,"Joueur 1",{"$f":"'Saisie des joueurs'!K24","v":0}]
[null,"Joueur 2",{"$f":"'Saisie des joueurs'!K25","v":0}]
[null,"Joueur 3",{"$f":"'Saisie des joueurs'!K26","v":0}]
[null,null,null,null,null,null,null,null,null,null,null,null,"MATCH ALLER",null,null,null,null,null,null,null,null,"MATCH RETOUR"]
[]
[]
[null,"SAISIE DES RESULTATS",null,null,null,null,null,null,null,null,null,null,{"$f":"C70","v":0},null,null,{"$f":"C71","v":0},null,null,{"$f":"C72","v":0},null,null,{"$f":"C70","v":0},null,null,{"$f":"C71","v":0},null,null,{"$f":"C72","v":0},null,null,null,"TOTAUX",null,null,"CLASSEMENT"]
[]
[null,null,null,null,null,null,null,null,null,null,null,null,null,null,null,null,null,null,null,null,null,null,null,null,null,null,null,null,null,null,null,null,null,null,null,null,"Classement",null,"Classement",null,"Classement","Classement",null,"Classement",null,"GENERAL","RANG"]
[null,"POULE C",null,null,null,null,null,null,null,null,null,null,null,null,null,null,null,null,null,null,null,null,null,null,null,null,null,null,null,null,null,null,null,null,null,null,"Point-Match","CLS-M","Moy-Gen","CLS-G","Moy-Part","M-Series","CLS-S","MGPS","CLS","CLS"]
[null,null,null,null,null,null,null,null,null,null,{"$f":"C70","v":0},null,"L",null,null,{"$f":"D89","v":0},null,{"$f":"E89","v":0},{"$f":"D83","v":0},null,{"$f":"E83","v":0},"L",null,null,{"$f":"D98","v":0},null,{"$f":"E98","v":0},{"$f":"D92","v":0},null,{"$f":"E92","v":0},null,{"$f":"P80+S80+Y80+AB80","v":0},null,{"$f":"R80+U80+AA80+AD80","v":0},{"$f":"AU80","v":{"$error":"#DIV/0!"}},null,{"$f":"AG81","v":0.04},{"$f":"RANK(AK80,AK$80:AK$88,0)","v":1},{"$f":"AH82","v":{"$error":"#DIV/0!"}},{"$f":"RANK(AM80,AM$80:AM$88,0)","v":{"$error":"#DIV/0!"}},{"$f":"MAX(R82,U82,AA82,AD82)","v":{"$error":"#DIV/0!"}},{"$f":"RANK(AO80,AO$80:AO$88)","v":{"$error":"#DIV/0!"}},{"$f":"AF82","v":0},{"$f":"RANK(AQ80,AQ$80:AQ$88)","v":1},{"$f":"(AL80*1000)+(AN80*100)+(AP80*10)+(AR80*1)","v":{"$error":"#DIV/0!"}},{"$f":"AS80","v":{"$error":"#DIV/0!"}},{"$f":"RANK(AT80,AT80:AT$88,1)","v":{"$error":"#DIV/0!"}},{"$f":"RANK(AU80,AU$80:AU$88,1)","v":{"$error":"#DIV/0!"}}]
[null,null,null,null,null,null,null,null,null,null,null,null,null,null,null,null,{"$f":"IF(R80<1,0.01,IF(P80>M83,2,IF(P80=M83,1,0)))","v":0.01},null,null,{"$f":"IF(U80<1,0.01,IF(S80>M86,2,IF(S80=M86,1,0)))","v":0.01},null,null,null,null,null,{"$f":"IF(AA80<1,0.01,IF(Y80>V83,2,IF(Y80=V83,1,0)))","v":0.01},null,null,{"$f":"IF(AD80<1,0.01,IF(AB80>V86,2,IF(AB80=V86,1,0)))","v":0.01},null,null,null,{"$f":"Q81+T81+Z81+AC81","v":0.04}]
[null,null,null,"Pts","Rep","Série",null,null,null,null,null,null,null,null,null,{"$f":"F89","v":0},null,{"$f":"P80/R80","v":{"$error":"#DIV/0!"}},{"$f":"F83","v":0},null,{"$f":"S80/U80","v":{"$error":"#DIV/0!"}},null,null,null,{"$f":"F98","v":0},null,{"$f":"Y80/AA80","v":{"$error":"#DIV/0!"}},{"$f":"F92","v":0},null,{"$f":"AB80/AD80","v":{"$error":"#DIV/0!"}},null,{"$f":"MAX(P82,S82,Y82,AB82)","v":0},null,{"$f":"AF80/AH80","v":{"$error":"#DIV/0!"}}]
[null,"Tour 1\nMatch aller",{"$f":"C70","v":0},null,null,null,null,null,null,null,{"$f":"C71","v":0},null,{"$f":"D90","v":0},null,{"$f":"E89","v":0},"M",null,null,{"$f":"D86","v":0},null,{"$f":"E86","v":0},{"$f":"D99","v":0},null,{"$f":"E98","v":0},"M",null,null,{"$f":"D95","v":0},null,{"$f":"E95","v":0},null,{"$f":"M83+S83+V83+AB83","v":0},null,{"$f":"O83+U83+X83+AD83","v":0},{"$f":"AU83","v":{"$error":"#DIV/0!"}},null,{"$f":"AG84","v":0.04},{"$f":"RANK(AK83,AK$80:AK$88,0)","v":1},{"$f":"AH85","v":{"$error":"#DIV/0!"}},{"$f":"RANK(AM83,AM$80:AM$88,0)","v":{"$error":"#DIV/0!"}},{"$f":"MAX(O85,U85,X85,AD85)","v":{"$error":"#DIV/0!"}},{"$f":"RANK(AO83,AO$80:AO$88)","v":{"$error":"#DIV/0!"}},{"$f":"AF85","v":0},{"$f":"RANK(AQ83,AQ$80:AQ$88)","v":1},{"$f":"(AL83*1000)+(AN83*100)+(AP83*10)+(AR83*1)","v":{"$error":"#DIV/0!"}},{"$f":"AS83","v":{"$error":"#DIV/0!"}},{"$f":"RANK(AT83,AT83:AT$88,1)","v":{"$error":"#DIV/0!"}},{"$f":"RANK(AU83,AU$80:AU$88,1)","v":{"$error":"#DIV/0!"}}]
[null,null,{"$f":"C72","v":0},null,null,null,null,null,null,null,null,null,null,{"$f":"IF(R80>0,2-Q81,0.01)","v":0.01},null,null,null,null,null,{"$f":"IF(U83<1,0.01,IF(S83>P86,2,IF(S83=P86,1,0)))","v":0.01},null,null,{"$f":"IF(AA80>0,2-Z81,0.01)","v":0.01},null,null,null,null,null,{"$f":"IF(AD83<1,0.01,IF(AB83>Y86,2,IF(AB83=Y86,1,0)))","v":0.01},null,null,null,{"$f":"N84+T84+W84+AC84","v":0.04}]
[null,null,null,null,null,null,null,null,null,null,null,null,{"$f":"F90","v":0},null,{"$f":"M83/O83","v":{"$error":"#DIV/0!"}},null,null,null,{"$f":"F86","v":0},null,{"$f":"S83/U83","v":{"$error":"#DIV/0!"}},{"$f":"F99","v":0},null,{"$f":"V83/X83","v":{"$error":"#DIV/0!"}},null,null,null,{"$f":"F95","v":0},null,{"$f":"AB83/AD83","v":{"$error":"#DIV/0!"}},null,{"$f":"MAXA(M85,S85,V85,AB85)","v":0},null,{"$f":"AF83/AH83","v":{"$error":"#DIV/0!"}}]
[null,"Tour 2\nMatch aller",{"$f":"C71","v":0},null,null,null,null,null,null,null,{"$f":"C72","v":0},null,{"$f":"D84","v":0},null,{"$f":"E83","v":0},{"$f":"D87","v":0},null,{"$f":"E86","v":0},"B",null,null,{"$f":"D93","v":0},null,{"$f":"E92","v":0},{"$f":"D96","v":0},null,{"$f":"E95","v":0},"B",null,null,null,{"$f":"M86+P86+V86+Y86","v":0},null,{"$f":"O86+R86+X86+AA86","v":0},{"$f":"AU86","v":{"$error":"#DIV/0!"}},null,{"$f":"AG87","v":0.04},{"$f":"RANK(AK86,AK$80:AK$88,0)","v":1},{"$f":"AH88","v":{"$error":"#DIV/0!"}},{"$f":"RANK(AM86,AM$80:AM$88,0)","v":{"$error":"#DIV/0!"}},{"$f":"MAX(O88,R88,X88,AA88)","v":{"$error":"#DIV/0!"}},{"$f":"RANK(AO86,AO$80:AO$88)","v":{"$error":"#DIV/0!"}},{"$f":"AF88","v":0},{"$f":"RANK(AQ86,AQ$80:AQ$88)","v":1},{"$f":"(AL86*1000)+(AN86*100)+(AP86*10)+(AR86*1)","v":{"$error":"#DIV/0!"}},{"$f":"AS86","v":{"$error":"#DIV/0!"}},{"$f":"RANK(AT86,AT86:AT$88,1)","v":{"$error":"#DIV/0!"}},{"$f":"RANK(AU86,AU$80:AU$88,1)","v":{"$error":"#DIV/0!"}}]
[null,null,{"$f":"C72","v":0},null,null,null,null,null,null,null,null,null,null,{"$f":"IF(U80>0,2-T81,0.01)","v":0.01},null,null,{"$f":"IF(U83>0,2-T84,0.01)","v":0.01},null,null,null,null,null,{"$f":"IF(AD80>0,2-AC81,0.01)","v":0.01},null,null,{"$f":"IF(AD83>0,2-AC84,0.01)","v":0.01},null,null,null,null,null,null,{"$f":"N87+Q87+W87+Z87","v":0.04}]
[null,null,null,null,null,null,null,null,null,null,null,null,{"$f":"F84","v":0},null,{"$f":"M86/O86","v":{"$error":"#DIV/0!"}},{"$f":"F87","v":0},null,{"$f":"P86/R86","v":{"$error":"#DIV/0!"}},null,null,null,{"$f":"F93","v":0},null,{"$f":"V86/X86","v":{"$error":"#DIV/0!"}},{"$f":"F96","v":0},null,{"$f":"Y86/AA86","v":{"$error":"#DIV/0!"}},null,null,null,null,{"$f":"MAXA(M88,P88,V88,Y88)","v":0},null,{"$f":"AF86/AH86","v":{"$error":"#DIV/0!"}}]
[null,"Tour 3\nMatch aller",{"$f":"C70","v":0}]
[null,null,{"$f":"C71","v":0},null,null,null,null,null,null,null,null,null,"Pas de prolongation en cas de match nul."]
[]
[null,"Tour 1\nMatch retour",{"$f":"C70","v":0}]
[null,null,{"$f":"C72","v":0}]
[]
[null,"Tour 2\nMatch retour",{"$f":"C71","v":0}]
[null,null,{"$f":"C72","v":0}]
[]
[null,"Tour 3\nMatch retour",{"$f":"C70","v":0}]
[null,null,{"$f":"C71","v":0}]

{"sheet":"10JOUEURS_MOYENNE","index":41,"n_rows":98,"n_cols":48,"rows_kept":98,"cut":false,"hidden":true,"merged":[[87,44,89,44],[87,45,89,45],[87,46,89,46],[87,47,89,47],[90,1,91,1],[90,4,91,4],[91,12,91,29],[87,37,89,37],[87,38,89,38],[87,39,89,39],[87,40,89,40],[87,41,89,41],[87,42,89,42],[87,1,88,1],[87,4,88,4],[87,10,89,11],[87,21,89,23],[87,28,89,29],[87,36,89,36],[84,38,86,38],[84,39,86,39],[84,40,86,40],[84,41,86,41],[93,1,94,1],[93,4,94,4],[96,1,97,1],[96,4,97,4],[87,43,89,43],[81,43,83,43],[81,44,83,44],[81,45,83,45],[81,46,83,46],[81,47,83,47],[84,1,85,1],[84,4,85,4],[84,10,86,11],[84,18,86,20],[84,28,86,29],[81,37,83,37],[81,38,83,38],[81,39,83,39],[81,40,83,40],[81,41,83,41],[81,42,83,42],[84,42,86,42],[84,43,86,43],[84,44,86,44],[84,45,86,45],[84,46,86,46],[84,47,86,47],[84,36,86,36],[84,37,86,37],[81,1,82,1],[81,4,82,4],[81,10,83,11],[81,15,83,17],[81,28,83,29],[81,36,83,36],[78,38,80,38],[78,39,80,39],[78,40,80,40],[76,40,76,41],[76,42,76,43],[76,44,76,45],[76,47,77,47],[77,1,78,2],[78,10,80,11],[78,12,80,14],[78,28,80,29],[78,36,80,36],[78,37,80,37],[74,18,77,20],[74,21,77,23],[74,25,77,27],[74,28,77,29],[76,36,76,37],[76,38,76,39],[78,44,80,44],[78,45,80,45],[78,46,80,46],[78,47,80,47],[78,41,80,41],[78,42,80,42],[78,43,80,43],[71,2,71,5],[72,2,72,5],[74,1,75,5],[74,10,77,11],[74,12,77,14],[74,15,77,17],[62,1,63,1],[62,4,63,4],[65,1,66,1],[65,4,66,4],[69,2,69,5],[70,2,70,5],[53,47,55,47],[56,1,57,1],[56,4,57,4],[57,12,57,34],[59,1,60,1],[59,4,60,4],[53,41,55,41],[53,42,55,42],[53,43,55,43],[53,44,55,44],[53,45,55,45],[53,46,55,46],[53,34,55,34],[53,36,55,36],[53,37,55,37],[53,38,55,38],[53,39,55,39],[53,40,55,40],[53,1,54,1],[53,4,54,4],[53,10,55,11],[53,18,55,20],[53,27,55,29],[47,47,49,47],[50,1,51,1],[50,4,51,4],[50,10,52,11],[50,15,52,17],[50,24,52,26],[50,34,52,34],[50,36,52,36],[47,39,49,39],[47,40,49,40],[47,41,49,41],[47,42,49,42],[47,43,49,43],[47,44,49,44],[50,43,52,43],[50,44,52,44],[50,45,52,45],[50,46,52,46],[50,47,52,47],[50,41,52,41],[50,42,52,42],[50,37,52,37],[50,38,52,38],[50,39,52,39],[45,43,45,44],[45,46,46,46],[46,1,47,2],[47,10,49,11],[47,12,49,14],[47,21,49,23],[47,34,49,34],[47,36,49,36],[47,37,49,37],[47,38,49,38],[43,31,46,33],[43,34,46,34],[44,10,46,11],[45,36,45,37],[45,38,45,39],[45,41,45,42],[47,45,49,45],[47,46,49,46],[50,40,52,40],[41,21,41,29],[43,1,44,5],[43,12,46,14],[43,15,46,17],[43,18,46,20],[43,21,46,23],[43,24,46,26],[43,27,46,29],[39,2,39,5],[40,2,40,5],[41,2,41,5],[41,12,41,20],[25,1,26,1],[25,4,26,4],[26,12,26,34],[28,1,29,1],[28,4,29,4],[31,1,32,1],[31,4,32,4],[22,1,23,1],[22,4,23,4],[22,10,24,11],[22,18,24,20],[22,27,24,29],[22,34,24,34],[19,41,21,41],[34,1,35,1],[34,4,35,4],[22,44,24,44],[22,45,24,45],[22,46,24,46],[22,47,24,47],[22,36,24,36],[22,37,24,37],[22,38,24,38],[22,39,24,39],[22,40,24,40],[22,41,24,41],[22,42,24,42],[22,43,24,43],[16,47,18,47],[19,1,20,1],[19,4,20,4],[19,10,21,11],[19,15,21,17],[19,24,21,26],[19,34,21,34],[16,38,18,38],[16,39,18,39],[16,40,18,40],[16,41,18,41],[16,42,18,42],[16,43,18,43],[19,42,21,42],[19,43,21,43],[19,44,21,44],[19,45,21,45],[19,46,21,46],[19,47,21,47],[19,36,21,36],[19,37,21,37],[19,38,21,38],[19,39,21,39],[19,40,21,40],[14,41,14,42],[14,43,14,44],[14,46,15,46],[15,1,16,2],[16,10,18,11],[16,12,18,14],[16,21,18,23],[16,34,18,34],[16,36,18,36],[16,37,18,37],[12,27,15,29],[12,31,15,33],[12,34,15,34],[13,10,15,11],[14,36,14,37],[14,38,14,39],[16,44,18,44],[16,45,18,45],[16,46,18,46],[9,2,9,5],[10,2,10,5],[10,12,10,20],[10,21,10,29],[12,1,13,5],[12,12,15,14],[12,15,15,17],[12,18,15,20],[12,21,15,23],[12,24,15,26],[7,12,7,15],[7,17,7,18],[7,20,7,21],[7,23,7,25],[7,27,7,28],[8,2,8,5],[1,12,4,35],[2,1,3,2],[2,3,3,9],[5,1,6,2],[5,3,6,9],[6,12,6,15],[6,17,6,18],[6,20,6,21],[6,23,6,25],[6,27,6,28]]}
[]
[null,null,null,null,null,null,null,null,null,null,null,null,"LIGUE MÉDITERRANÉENNE DE BILLARD"]
[null,"CLUB ORGANISATEUR",null,"19009 – CLUB BILLARD ISTREEN"]
[]
[]
[null,"DIRECTEUR DE JEU :",null,"tutu"]
[null,null,null,null,null,null,null,null,null,null,null,null,"Compétition",null,null,null,null,"Mode de jeu",null,null,"Categorie",null,null,"Format billard",null,null,null,"Distance"]
[null,null,null,null,null,null,null,null,null,null,null,null,"TOURNOI N°6",null,null,null,null,"LIBRE",null,null,"R3"]
[null,"Joueur 1",{"$f":"'Saisie des joueurs'!K18","v":0}]
[null,"Joueur 2",{"$f":"'Saisie des joueurs'!K19","v":0}]
[null,"Joueur 3",{"$f":"'Saisie des joueurs'!K20","v":0},null,null,null,null,null,null,null,null,null,"MATCH ALLER",null,null,null,null,null,null,null,null,"MATCH RETOUR"]
[]
[null,"SAISIE DES RESULTATS",null,null,null,null,null,null,null,null,null,null,{"$f":"C9","v":0},null,null,{"$f":"C10","v":0},null,null,{"$f":"C11","v":0},null,null,{"$f":"C9","v":0},null,null,{"$f":"C10","v":0},null,null,{"$f":"C11","v":0},null,null,null,"TOTAUX",null,null,"CLASSEMENT"]
[]
[null,null,null,null,null,null,null,null,null,null,null,null,null,null,null,null,null,null,null,null,null,null,null,null,null,null,null,null,null,null,null,null,null,null,null,null,"Classement",null,"Classement",null,"Classement","Classement",null,"Classement",null,"GENERAL","RANG"]
[null,"POULE A",null,null,null,null,null,null,null,null,null,null,null,null,null,null,null,null,null,null,null,null,null,null,null,null,null,null,null,null,null,null,null,null,null,null,"Point-Match","CLS-M","Moy-Gen","CLS-G","Moy-Part","M-Series","CLS-S","MGPS","CLS","CLS"]
[null,null,null,null,null,null,null,null,null,null,{"$f":"C9","v":0},null,"L",null,null,{"$f":"D26","v":0},null,{"$f":"E26","v":0},{"$f":"D20","v":0},null,{"$f":"E20","v":0},"L",null,null,{"$f":"D35","v":0},null,{"$f":"E35","v":0},{"$f":"D29","v":0},null,{"$f":"E29","v":0},null,{"$f":"P17+S17+Y17+AB17","v":0},null,{"$f":"R17+U17+AA17+AD17","v":0},{"$f":"AU17","v":{"$error":"#DIV/0!"}},null,{"$f":"AG18","v":0.04},{"$f":"RANK(AK17,AK$17:AK$25,0)","v":1},{"$f":"AH19","v":{"$error":"#DIV/0!"}},{"$f":"RANK(AM17,AM$17:AM$25,0)","v":{"$error":"#DIV/0!"}},{"$f":"MAX(R19,U19,AA19,AD19)","v":{"$error":"#DIV/0!"}},{"$f":"RANK(AO17,AO$17:AO$25)","v":{"$error":"#DIV/0!"}},{"$f":"AF19","v":0},{"$f":"RANK(AQ17,AQ$17:AQ$25)","v":1},{"$f":"(AL17*1000)+(AN17*100)+(AP17*10)+(AR17*1)","v":{"$error":"#DIV/0!"}},{"$f":"AS17","v":{"$error":"#DIV/0!"}},{"$f":"RANK(AT17,AT$17:AT$25,1)","v":{"$error":"#DIV/0!"}},{"$f":"RANK(AU17,AU$17:AU$25,1)","v":{"$error":"#DIV/0!"}}]
[null,null,null,null,null,null,null,null,null,null,null,null,null,null,null,null,{"$f":"IF(R17<1,0.01,IF(P17>M20,2,IF(P17=M20,1,0)))","v":0.01},null,null,{"$f":"IF(U17<1,0.01,IF(S17>M23,2,IF(S17=M23,1,0)))","v":0.01},null,null,null,null,null,{"$f":"IF(AA17<1,0.01,IF(Y17>V20,2,IF(Y17=V20,1,0)))","v":0.01},null,null,{"$f":"IF(AD17<1,0.01,IF(AB17>V23,2,IF(AB17=V23,1,0)))","v":0.01},null,null,null,{"$f":"Q18+T18+Z18+AC18","v":0.04}]
[null,null,null,null,null,null,null,null,null,null,null,null,null,null,null,{"$f":"F26","v":0},null,{"$f":"P17/R17","v":{"$error":"#DIV/0!"}},{"$f":"F20","v":0},null,{"$f":"S17/U17","v":{"$error":"#DIV/0!"}},null,null,null,{"$f":"F35","v":0},null,{"$f":"Y17/AA17","v":{"$error":"#DIV/0!"}},{"$f":"F29","v":0},null,{"$f":"AB17/AD17","v":{"$error":"#DIV/0!"}},null,{"$f":"MAX(P19,S19,Y19,AB19)","v":0},null,{"$f":"AF17/AH17","v":{"$error":"#DIV/0!"}}]
[null,"Tour 1\nMatch aller",{"$f":"C9","v":0},null,null,null,null,null,null,null,{"$f":"C10","v":0},null,{"$f":"D27","v":0},null,{"$f":"E26","v":0},"M",null,null,{"$f":"D23","v":0},null,{"$f":"E23","v":0},{"$f":"D36","v":0},null,{"$f":"E35","v":0},"M",null,null,{"$f":"D32","v":0},null,{"$f":"E32","v":0},null,{"$f":"M20+S20+V20+AB20","v":0},null,{"$f":"O20+U20+X20+AD20","v":0},{"$f":"AU20","v":{"$error":"#DIV/0!"}},null,{"$f":"AG21","v":0.04},{"$f":"RANK(AK20,AK$17:AK$25,0)","v":1},{"$f":"AH22","v":{"$error":"#DIV/0!"}},{"$f":"RANK(AM20,AM$17:AM$25,0)","v":{"$error":"#DIV/0!"}},{"$f":"MAX(R22,U22,AA22,AD22)","v":{"$error":"#DIV/0!"}},{"$f":"RANK(AO20,AO$17:AO$25)","v":{"$error":"#DIV/0!"}},{"$f":"AF22","v":0},{"$f":"RANK(AQ20,AQ$17:AQ$25)","v":1},{"$f":"(AL20*1000)+(AN20*100)+(AP20*10)+(AR20*1)","v":{"$error":"#DIV/0!"}},{"$f":"AS20","v":{"$error":"#DIV/0!"}},{"$f":"RANK(AT20,AT$17:AT$25,1)","v":{"$error":"#DIV/0!"}},{"$f":"RANK(AU20,AU$17:AU$25,1)","v":{"$error":"#DIV/0!"}}]
[null,null,{"$f":"C11","v":0},null,null,null,null,null,null,null,null,null,null,{"$f":"IF(R17>0,2-Q18,0.01)","v":0.01},null,null,null,null,null,{"$f":"IF(U20<1,0.01,IF(S20>P23,2,IF(S20=P23,1,0)))","v":0.01},null,null,{"$f":"IF(AA17>0,2-Z18,0.01)","v":0.01},null,null,null,null,null,{"$f":"IF(AD20<1,0.01,IF(AB20>Y23,2,IF(AB20=Y23,1,0)))","v":0.01},null,null,null,{"$f":"N21+T21+W21+AC21","v":0.04}]
[null,null,null,null,null,null,null,null,null,null,null,null,{"$f":"F27","v":0},null,{"$f":"M20/O20","v":{"$error":"#DIV/0!"}},null,null,null,{"$f":"F23","v":0},null,{"$f":"S20/U20","v":{"$error":"#DIV/0!"}},{"$f":"F36","v":0},null,{"$f":"V20/X20","v":{"$error":"#DIV/0!"}},null,null,null,{"$f":"F32","v":0},null,{"$f":"AB20/AD20","v":{"$error":"#DIV/0!"}},null,{"$f":"MAXA(M22,S22,V22,AB22)","v":0},null,{"$f":"AF20/AH20","v":{"$error":"#DIV/0!"}}]
[null,"Tour 2\nMatch aller",{"$f":"C10","v":0},null,null,null,null,null,null,null,{"$f":"C11","v":0},null,{"$f":"D21","v":0},null,{"$f":"E20","v":0},{"$f":"D24","v":0},null,{"$f":"E23","v":0},"B",null,null,{"$f":"D30","v":0},null,{"$f":"E29","v":0},{"$f":"D33","v":0},null,{"$f":"E32","v":0},"B",null,null,null,{"$f":"M23+P23+V23+Y23","v":0},null,{"$f":"O23+R23+X23+AA23","v":0},{"$f":"AU23","v":{"$error":"#DIV/0!"}},null,{"$f":"AG24","v":0.04},{"$f":"RANK(AK23,AK$17:AK$25,0)","v":1},{"$f":"AH25","v":{"$error":"#DIV/0!"}},{"$f":"RANK(AM23,AM$17:AM$25,0)","v":{"$error":"#DIV/0!"}},{"$f":"MAX(R25,U25,AA25,AD25)","v":{"$error":"#DIV/0!"}},{"$f":"RANK(AO23,AO$17:AO$25)","v":{"$error":"#DIV/0!"}},{"$f":"AF25","v":0},{"$f":"RANK(AQ23,AQ$17:AQ$25)","v":1},{"$f":"(AL23*1000)+(AN23*100)+(AP23*10)+(AR23*1)","v":{"$error":"#DIV/0!"}},{"$f":"AS23","v":{"$error":"#DIV/0!"}},{"$f":"RANK(AT23,AT$17:AT$25,1)","v":{"$error":"#DIV/0!"}},{"$f":"RANK(AU23,AU$17:AU$25,1)","v":{"$error":"#DIV/0!"}}]
[null,null,{"$f":"C11","v":0},null,null,null,null,null,null,null,null,null,null,{"$f":"IF(U17>0,2-T18,0.01)","v":0.01},null,null,{"$f":"IF(U20>0,2-T21,0.01)","v":0.01},null,null,null,null,null,{"$f":"IF(AD17>0,2-AC18,0.01)","v":0.01},null,null,{"$f":"IF(AD20>0,2-AC21,0.01)","v":0.01},null,null,null,null,null,null,{"$f":"N24+Q24+W24+Z24","v":0.04}]
[null,null,null,null,null,null,null,null,null,null,null,null,{"$f":"F21","v":0},null,{"$f":"M23/O23","v":{"$error":"#DIV/0!"}},{"$f":"F24","v":0},null,{"$f":"P23/R23","v":{"$error":"#DIV/0!"}},null,null,null,{"$f":"F30","v":0},null,{"$f":"V23/X23","v":{"$error":"#DIV/0!"}},{"$f":"F33","v":0},null,{"$f":"Y23/AA23","v":{"$error":"#DIV/0!"}},null,null,null,null,{"$f":"MAXA(M25,P25,V25,Y25)","v":0},null,{"$f":"AF23/AH23","v":{"$error":"#DIV/0!"}}]
[null,"Tour 3\nMatch aller",{"$f":"C9","v":0}]
[null,null,{"$f":"C10","v":0},null,null,null,null,null,null,null,null,null,"Pas de prolongation en cas de match nul."]
[]
[null,"Tour 1\nMatch retour",{"$f":"C9","v":0}]
[null,null,{"$f":"C11","v":0}]
[]
[null,"Tour 2\nMatch retour",{"$f":"C10","v":0}]
[null,null,{"$f":"C11","v":0}]
[]
[null,"Tour 3\nMatch retour",{"$f":"C9","v":0}]
[null,null,{"$f":"C10","v":0}]
[]
[]
[]
[null,"Joueur 1",{"$f":"'Saisie des joueurs'!K21","v":0}]
[null,"Joueur 2",{"$f":"'Saisie des joueurs'!K22","v":0}]
[null,"Joueur 3",{"$f":"'Saisie des joueurs'!K23","v":0},null,null,null,null,null,null,null,null,null,"MATCH ALLER",null,null,null,null,null,null,null,null,"MATCH RETOUR"]
[]
[null,"SAISIE DES RESULTATS",null,null,null,null,null,null,null,null,null,null,{"$f":"C40","v":0},null,null,{"$f":"C41","v":0},null,null,{"$f":"C42","v":0},null,null,{"$f":"C40","v":0},null,null,{"$f":"C41","v":0},null,null,{"$f":"C42","v":0},null,null,null,"TOTAUX",null,null,"CLASSEMENT"]
[]
[null,null,null,null,null,null,null,null,null,null,null,null,null,null,null,null,null,null,null,null,null,null,null,null,null,null,null,null,null,null,null,null,null,null,null,null,"Classement",null,"Classement",null,"Classement","Classement",null,"Classement",null,"GENERAL","RANG"]
[null,"POULE B",null,null,null,null,null,null,null,null,null,null,null,null,null,null,null,null,null,null,null,null,null,null,null,null,null,null,null,null,null,null,null,null,null,null,"Point-Match","CLS-M","Moy-Gen","CLS-G","Moy-Part","M-Series","CLS-S","MGPS","CLS","CLS"]
[null,null,null,null,null,null,null,null,null,null,{"$f":"C40","v":0},null,"L",null,null,{"$f":"D57","v":0},null,{"$f":"E57","v":0},{"$f":"D51","v":0},null,{"$f":"E51","v":0},"L",null,null,{"$f":"D66","v":0},null,{"$f":"E66","v":0},{"$f":"D60","v":0},null,{"$f":"E60","v":0},null,{"$f":"P48+S48+Y48+AB48","v":0},null,{"$f":"R48+U48+AA48+AD48","v":0},{"$f":"AU48","v":{"$error":"#DIV/0!"}},null,{"$f":"AG49","v":0.04},{"$f":"RANK(AK48,AK$48:AK$56,0)","v":1},{"$f":"AH50","v":{"$error":"#DIV/0!"}},{"$f":"RANK(AM48,AM$48:AM$56,0)","v":{"$error":"#DIV/0!"}},{"$f":"MAX(R50,U50,AA50,AD50)","v":{"$error":"#DIV/0!"}},{"$f":"RANK(AO48,AO$48:AO$56)","v":{"$error":"#DIV/0!"}},{"$f":"AF50","v":0},{"$f":"RANK(AQ48,AQ$48:AQ$56)","v":1},{"$f":"(AL48*1000)+(AN48*100)+(AP48*10)+(AR48*1)","v":{"$error":"#DIV/0!"}},{"$f":"AS48","v":{"$error":"#DIV/0!"}},{"$f":"RANK(AT48,AT$48:AT$56,1)","v":{"$error":"#DIV/0!"}},{"$f":"RANK(AU48,AU$48:AU$56,1)","v":{"$error":"#DIV/0!"}}]
[null,null,null,null,null,null,null,null,null,null,null,null,null,null,null,null,{"$f":"IF(R48<1,0.01,IF(P48>M51,2,IF(P48=M51,1,0)))","v":0.01},null,null,{"$f":"IF(U48<1,0.01,IF(S48>M54,2,IF(S48=M54,1,0)))","v":0.01},null,null,null,null,null,{"$f":"IF(AA48<1,0.01,IF(Y48>V51,2,IF(Y48=V51,1,0)))","v":0.01},null,null,{"$f":"IF(AD48<1,0.01,IF(AB48>V54,2,IF(AB48=V54,1,0)))","v":0.01},null,null,null,{"$f":"Q49+T49+Z49+AC49","v":0.04}]
[null,null,null,"Pts","Rep","Série",null,null,null,null,null,null,null,null,null,{"$f":"F57","v":0},null,{"$f":"P48/R48","v":{"$error":"#DIV/0!"}},{"$f":"F51","v":0},null,{"$f":"S48/U48","v":{"$error":"#DIV/0!"}},null,null,null,{"$f":"F66","v":0},null,{"$f":"Y48/AA48","v":{"$error":"#DIV/0!"}},{"$f":"F60","v":0},null,{"$f":"AB48/AD48","v":{"$error":"#DIV/0!"}},null,{"$f":"MAX(P50,S50,Y50,AB50)","v":0},null,{"$f":"AF48/AH48","v":{"$error":"#DIV/0!"}}]
[null,"Tour 1\nMatch aller",{"$f":"C40","v":0},null,null,null,null,null,null,null,{"$f":"C41","v":0},null,{"$f":"D58","v":0},null,{"$f":"E57","v":0},"M",null,null,{"$f":"D54","v":0},null,{"$f":"E54","v":0},{"$f":"D67","v":0},null,{"$f":"E66","v":0},"M",null,null,{"$f":"D63","v":0},null,{"$f":"E63","v":0},null,{"$f":"M51+S51+V51+AB51","v":0},null,{"$f":"O51+U51+X51+AD51","v":0},{"$f":"AU51","v":{"$error":"#DIV/0!"}},null,{"$f":"AG52","v":0.04},{"$f":"RANK(AK51,AK$48:AK$56,0)","v":1},{"$f":"AH53","v":{"$error":"#DIV/0!"}},{"$f":"RANK(AM51,AM$48:AM$56,0)","v":{"$error":"#DIV/0!"}},{"$f":"MAX(O53,U53,X53,AD53)","v":{"$error":"#DIV/0!"}},{"$f":"RANK(AO51,AO$48:AO$56)","v":{"$error":"#DIV/0!"}},{"$f":"AF53","v":0},{"$f":"RANK(AQ51,AQ$48:AQ$56)","v":1},{"$f":"(AL51*1000)+(AN51*100)+(AP51*10)+(AR51*1)","v":{"$error":"#DIV/0!"}},{"$f":"AS51","v":{"$error":"#DIV/0!"}},{"$f":"RANK(AT51,AT$48:AT$56,1)","v":{"$error":"#DIV/0!"}},{"$f":"RANK(AU51,AU$48:AU$56,1)","v":{"$error":"#DIV/0!"}}]
[null,null,{"$f":"C42","v":0},null,null,null,null,null,null,null,null,null,null,{"$f":"IF(R48>0,2-Q49,0.01)","v":0.01},null,null,null,null,null,{"$f":"IF(U51<1,0.01,IF(S51>P54,2,IF(S51=P54,1,0)))","v":0.01},null,null,{"$f":"IF(AA48>0,2-Z49,0.01)","v":0.01},null,null,null,null,null,{"$f":"IF(AD51<1,0.01,IF(AB51>Y54,2,IF(AB51=Y54,1,0)))","v":0.01},null,null,null,{"$f":"N52+T52+W52+AC52","v":0.04}]
[null,null,null,null,null,null,null,null,null,null,null,null,{"$f":"F58","v":0},null,{"$f":"M51/O51","v":{"$error":"#DIV/0!"}},null,null,null,{"$f":"F54","v":0},null,{"$f":"S51/U51","v":{"$error":"#DIV/0!"}},{"$f":"F67","v":0},null,{"$f":"V51/X51","v":{"$error":"#DIV/0!"}},null,null,null,{"$f":"F63","v":0},null,{"$f":"AB51/AD51","v":{"$error":"#DIV/0!"}},null,{"$f":"MAXA(M53,S53,V53,AB53)","v":0},null,{"$f":"AF51/AH51","v":{"$error":"#DIV/0!"}}]
[null,"Tour 2\nMatch aller",{"$f":"C41","v":0},null,null,null,null,null,null,null,{"$f":"C42","v":0},null,{"$f":"D52","v":0},null,{"$f":"E51","v":0},{"$f":"D55","v":0},null,{"$f":"E54","v":0},"B",null,null,{"$f":"D61","v":0},null,{"$f":"E60","v":0},{"$f":"D64","v":0},null,{"$f":"E63","v":0},"B",null,null,null,{"$f":"M54+P54+V54+Y54","v":0},null,{"$f":"O54+R54+X54+AA54","v":0},{"$f":"AU54","v":{"$error":"#DIV/0!"}},null,{"$f":"AG55","v":0.04},{"$f":"RANK(AK54,AK$48:AK$56,0)","v":1},{"$f":"AH56","v":{"$error":"#DIV/0!"}},{"$f":"RANK(AM54,AM$48:AM$56,0)","v":{"$error":"#DIV/0!"}},{"$f":"MAX(O56,R56,X56,AA56)","v":{"$error":"#DIV/0!"}},{"$f":"RANK(AO54,AO$48:AO$56)","v":{"$error":"#DIV/0!"}},{"$f":"AF56","v":0},{"$f":"RANK(AQ54,AQ$48:AQ$56)","v":1},{"$f":"(AL54*1000)+(AN54*100)+(AP54*10)+(AR54*1)","v":{"$error":"#DIV/0!"}},{"$f":"AS54","v":{"$error":"#DIV/0!"}},{"$f":"RANK(AT54,AT$48:AT$56,1)","v":{"$error":"#DIV/0!"}},{"$f":"RANK(AU54,AU$48:AU$56,1)","v":{"$error":"#DIV/0!"}}]
[null,null,{"$f":"C42","v":0},null,null,null,null,null,null,null,null,null,null,{"$f":"IF(U48>0,2-T49,0.01)","v":0.01},null,null,{"$f":"IF(U51>0,2-T52,0.01)","v":0.01},null,null,null,null,null,{"$f":"IF(AD48>0,2-AC49,0.01)","v":0.01},null,null,{"$f":"IF(AD51>0,2-AC52,0.01)","v":0.01},null,null,null,null,null,null,{"$f":"N55+Q55+W55+Z55","v":0.04}]
[null,null,null,null,null,null,null,null,null,null,null,null,{"$f":"F52","v":0},null,{"$f":"M54/O54","v":{"$error":"#DIV/0!"}},{"$f":"F55","v":0},null,{"$f":"P54/R54","v":{"$error":"#DIV/0!"}},null,null,null,{"$f":"F61","v":0},null,{"$f":"V54/X54","v":{"$error":"#DIV/0!"}},{"$f":"F64","v":0},null,{"$f":"Y54/AA54","v":{"$error":"#DIV/0!"}},null,null,null,null,{"$f":"MAXA(M56,P56,V56,Y56)","v":0},null,{"$f":"AF54/AH54","v":{"$error":"#DIV/0!"}}]
[null,"Tour 3\nMatch aller",{"$f":"C40","v":0}]
[null,null,{"$f":"C41","v":0},null,null,null,null,null,null,null,null,null,"Pas de prolongation en cas de match nul."]
[]
[null,"Tour 1\nMatch retour",{"$f":"C40","v":0}]
[null,null,{"$f":"C42","v":0}]
[]
[null,"Tour 2\nMatch retour",{"$f":"C41","v":0}]
[null,null,{"$f":"C42","v":0}]
[]
[null,"Tour 3\nMatch retour",{"$f":"C40","v":0}]
[null,null,{"$f":"C41","v":0}]
[]
[]
[null,"Joueur 1",{"$f":"'Saisie des joueurs'!K24","v":0}]
[null,"Joueur 2",{"$f":"'Saisie des joueurs'!K25","v":0}]
[null,"Joueur 3",{"$f":"'Saisie des joueurs'!K26","v":0}]
[null,"Joueur 4",{"$f":"'Saisie des joueurs'!K27","v":0}]
[]
[null,"SAISIE DES RESULTATS",null,null,null,null,null,null,null,null,null,null,{"$f":"C70","v":0},null,null,{"$f":"C71","v":0},null,null,{"$f":"C72","v":0},null,null,{"$f":"C73","v":0},null,null,null,"TOTAUX",null,null,"CLASSEMENT"]
[]
[null,null,null,null,null,null,null,null,null,null,null,null,null,null,null,null,null,null,null,null,null,null,null,null,null,null,null,null,null,null,null,null,null,null,null,null,"Classement",null,"Classement",null,"Classement",null,"Classement",null,"Classement",null,"GENERAL","RANG"]
[null,"POULE C",null,null,null,null,null,null,null,null,null,null,null,null,null,null,null,null,null,null,null,null,null,null,null,null,null,null,null,null,null,null,null,null,null,null,"Point-Match","CLS-M","Moy-Gen","CLS-G","Moy-Part","CLS-P","M-Series","CLS-S","MGPS","CLS","CLS"]
[null,null,null,null,null,null,null,null,null,null,{"$f":"C70","v":0},null,"L",null,null,{"$f":"D94","v":0},null,{"$f":"E94","v":0},{"$f":"D88","v":0},null,{"$f":"E88","v":0},{"$f":"D82","v":0},null,{"$f":"E82","v":0},null,{"$f":"P79+S79+V79","v":0},null,{"$f":"R79+U79+X79","v":0},{"$f":"AV79","v":{"$error":"#DIV/0!"}},null,null,null,null,null,null,null,{"$f":"AA80","v":0.03},{"$f":"RANK(AK79,AK$79:AK$90,0)","v":1},{"$f":"AB81","v":{"$error":"#DIV/0!"}},{"$f":"RANK(AM79,AM$79:AM$90,0)","v":{"$error":"#DIV/0!"}},{"$f":"MAX(R81,U81,X81)","v":{"$error":"#DIV/0!"}},{"$f":"RANK(AO79,AO$79:AO$90)","v":{"$error":"#DIV/0!"}},{"$f":"Z81","v":0},{"$f":"RANK(AQ79,AQ$79:AQ$90)","v":1},{"$f":"(AL79*1000)+(AN79*100)+(AP79*10)+(AR79*1)","v":{"$error":"#DIV/0!"}},{"$f":"AS79","v":{"$error":"#DIV/0!"}},{"$f":"RANK(AT79,AT$79:AT$90,1)","v":{"$error":"#DIV/0!"}},{"$f":"RANK(AU79,AU$79:AU$90,1)","v":{"$error":"#DIV/0!"}}]
[null,null,null,null,null,null,null,null,null,null,null,null,null,null,null,null,{"$f":"IF(R79<1,0.01,IF(P79>M82,2,IF(P79=M82,1,0)))","v":0.01},null,null,{"$f":"IF(U79<1,0.01,IF(S79>M85,2,IF(S79=M85,1,0)))","v":0.01},null,null,{"$f":"IF(X79<1,0.01,IF(V79>M88,2,IF(V79=M88,1,0)))","v":0.01},null,null,null,{"$f":"W80+T80+Q80","v":0.03}]
[null,null,null,"Pts","Rep","Série",null,null,null,null,null,null,null,null,null,{"$f":"F94","v":0},null,{"$f":"P79/R79","v":{"$error":"#DIV/0!"}},{"$f":"F88","v":0},null,{"$f":"S79/U79","v":{"$error":"#DIV/0!"}},{"$f":"F82","v":0},null,{"$f":"V79/X79","v":{"$error":"#DIV/0!"}},null,{"$f":"MAX(V81,S81,P81)","v":0},null,{"$f":"Z79/AB79","v":{"$error":"#DIV/0!"}}]
[null,"Tour 1",{"$f":"C70","v":0},null,null,null,null,null,null,null,{"$f":"C71","v":0},null,{"$f":"D95","v":0},null,{"$f":"E94","v":0},"M",null,null,{"$f":"D85","v":0},null,{"$f":"E85","v":0},{"$f":"D92","v":0},null,{"$f":"E91","v":0},null,{"$f":"M82+S82+V82","v":0},null,{"$f":"O82+U82+X82","v":0},{"$f":"AV82","v":{"$error":"#DIV/0!"}},null,null,null,null,null,null,null,{"$f":"AA83","v":0.03},{"$f":"RANK(AK82,AK$79:AK$90,0)","v":1},{"$f":"AB84","v":{"$error":"#DIV/0!"}},{"$f":"RANK(AM82,AM$79:AM$90,0)","v":{"$error":"#DIV/0!"}},{"$f":"MAX(R84,U84,X84)","v":{"$error":"#DIV/0!"}},{"$f":"RANK(AO82,AO$79:AO$90)","v":{"$error":"#DIV/0!"}},{"$f":"Z84","v":0},{"$f":"RANK(AQ82,AQ$79:AQ$90)","v":1},{"$f":"(AL82*1000)+(AN82*100)+(AP82*10)+(AR82*1)","v":{"$error":"#DIV/0!"}},{"$f":"AS82","v":{"$error":"#DIV/0!"}},{"$f":"RANK(AT82,AT$79:AT$90,1)","v":{"$error":"#DIV/0!"}},{"$f":"RANK(AU82,AU$79:AU$90,1)","v":{"$error":"#DIV/0!"}}]
[null,null,{"$f":"C73","v":0},null,null,null,null,null,null,null,null,null,null,{"$f":"IF(R79>0,2-Q80,0.01)","v":0.01},null,null,null,null,null,{"$f":"IF(U82<1,0.01,IF(S82>P85,2,IF(S82=P85,1,0)))","v":0.01},null,null,{"$f":"IF(X82<1,0.01,IF(V82>P88,2,IF(V82=P88,1,0)))","v":0.01},null,null,null,{"$f":"N83+T83+W83","v":0.03}]
[null,null,null,null,null,null,null,null,null,null,null,null,{"$f":"F95","v":0},null,{"$f":"M82/O82","v":{"$error":"#DIV/0!"}},null,null,null,{"$f":"F85","v":0},null,{"$f":"S82/U82","v":{"$error":"#DIV/0!"}},{"$f":"F92","v":0},null,{"$f":"V82/X82","v":{"$error":"#DIV/0!"}},null,{"$f":"MAXA(S84,V84,M84)","v":0},null,{"$f":"Z82/AB82","v":{"$error":"#DIV/0!"}}]
[null,"Tour 2",{"$f":"C71","v":0},null,null,null,null,null,null,null,{"$f":"C72","v":0},null,{"$f":"D89","v":0},null,{"$f":"E88","v":0},{"$f":"D86","v":0},null,{"$f":"E85","v":0},"B",null,null,{"$f":"D97","v":0},null,{"$f":"E97","v":0},null,{"$f":"M85+P85+V85","v":0},null,{"$f":"O85+U85+X85","v":0},{"$f":"AV85","v":{"$error":"#DIV/0!"}},null,null,null,null,null,null,null,{"$f":"AA86","v":0.02},{"$f":"RANK(AK85,AK$79:AK$90,0)","v":4},{"$f":"AB87","v":{"$error":"#DIV/0!"}},{"$f":"RANK(AM85,AM$79:AM$90,0)","v":{"$error":"#DIV/0!"}},{"$f":"MAX(R87,U87,X87)","v":{"$error":"#DIV/0!"}},{"$f":"RANK(AO85,AO$79:AO$90)","v":{"$error":"#DIV/0!"}},{"$f":"Z87","v":0},{"$f":"RANK(AQ85,AQ$79:AQ$90)","v":1},{"$f":"(AL85*1000)+(AN85*100)+(AP85*10)+(AR85*1)","v":{"$error":"#DIV/0!"}},{"$f":"AS85","v":{"$error":"#DIV/0!"}},{"$f":"RANK(AT85,AT$79:AT$90,1)","v":{"$error":"#DIV/0!"}},{"$f":"RANK(AU85,AU$79:AU$90,1)","v":{"$error":"#DIV/0!"}}]
[null,null,{"$f":"C72","v":0},null,null,null,null,null,null,null,null,null,null,{"$f":"IF(U79>0,2-T80,0.01)","v":0.01},null,null,{"$f":"IF(U82>0,2-T83,0.01)","v":0.01},null,null,null,null,null,{"$f":"IF(X85<1,0.01,IF(V85>S88,2,IF(V85=S88,1,0)))","v":0.01},null,null,null,{"$f":"N86+T86+W86","v":0.02}]
[null,null,null,null,null,null,null,null,null,null,null,null,{"$f":"F89","v":0},null,{"$f":"M85/O85","v":{"$error":"#DIV/0!"}},{"$f":"F86","v":0},null,{"$f":"P85/R85","v":{"$error":"#DIV/0!"}},null,null,null,{"$f":"F97","v":0},null,{"$f":"V85/X85","v":{"$error":"#DIV/0!"}},null,{"$f":"MAXA(V87,P87,M87)","v":0},null,{"$f":"Z85/AB85","v":{"$error":"#DIV/0!"}}]
[null,"Tour 3",{"$f":"C70","v":0},null,null,null,null,null,null,null,{"$f":"C73","v":0},null,{"$f":"D83","v":0},null,{"$f":"E82","v":0},{"$f":"D91","v":0},null,{"$f":"E91","v":0},{"$f":"D98","v":0},null,{"$f":"E97","v":0},null,null,null,null,{"$f":"M88+P88+S88","v":0},null,{"$f":"U88+R88+O88","v":0},{"$f":"AV88","v":{"$error":"#DIV/0!"}},null,null,null,null,null,null,null,{"$f":"AA89","v":0.03},{"$f":"RANK(AK88,AK$79:AK$90,0)","v":1},{"$f":"AB90","v":{"$error":"#DIV/0!"}},{"$f":"RANK(AM88,AM$79:AM$90,0)","v":{"$error":"#DIV/0!"}},{"$f":"MAX(R90,U90,X90)","v":{"$error":"#DIV/0!"}},{"$f":"RANK(AO88,AO$79:AO$90)","v":{"$error":"#DIV/0!"}},{"$f":"Z90","v":0},{"$f":"RANK(AQ88,AQ$79:AQ$90)","v":1},{"$f":"(AL88*1000)+(AN88*100)+(AP88*10)+(AR88*1)","v":{"$error":"#DIV/0!"}},{"$f":"AS88","v":{"$error":"#DIV/0!"}},{"$f":"RANK(AT88,AT$79:AT$90,1)","v":{"$error":"#DIV/0!"}},{"$f":"RANK(AU88,AU$79:AU$90,1)","v":{"$error":"#DIV/0!"}}]
[null,null,{"$f":"C72","v":0},null,null,null,null,null,null,null,null,null,null,{"$f":"IF(X79>0,2-W80,0.01)","v":0.01},null,null,{"$f":"IF(X82>0,2-W83,0.01)","v":0.01},null,null,{"$f":"IF(X85>0,2-W86,0.01)","v":0.01},null,null,null,null,null,null,{"$f":"N89+Q89+T89","v":0.03}]
[null,null,null,null,null,null,null,null,null,null,null,null,{"$f":"F83","v":0},null,{"$f":"M88/O88","v":{"$error":"#DIV/0!"}},{"$f":"F91","v":0},null,{"$f":"P88/R88","v":{"$error":"#DIV/0!"}},{"$f":"F98","v":0},null,{"$f":"S88/U88","v":{"$error":"#DIV/0!"}},null,null,null,null,{"$f":"MAXA(M90,P90,S90)","v":0},null,{"$f":"Z88/AB88","v":{"$error":"#DIV/0!"}}]
[null,"Tour 4",{"$f":"C73","v":0}]
[null,null,{"$f":"C71","v":0},null,null,null,null,null,null,null,null,null,"Pas de prolongation en cas de match nul."]
[]
[null,"Tour 5",{"$f":"C70","v":0}]
[null,null,{"$f":"C71","v":0}]
[]
[null,"Tour 6",{"$f":"C72","v":0}]
[null,null,{"$f":"C73","v":0}]

{"sheet":"11JOUEURS_MOYENNE","index":42,"n_rows":98,"n_cols":48,"rows_kept":98,"cut":false,"hidden":true,"merged":[[87,44,89,44],[87,45,89,45],[87,46,89,46],[87,47,89,47],[90,1,91,1],[90,4,91,4],[91,12,91,29],[87,37,89,37],[87,38,89,38],[87,39,89,39],[87,40,89,40],[87,41,89,41],[87,42,89,42],[87,1,88,1],[87,4,88,4],[87,10,89,11],[87,21,89,23],[87,28,89,29],[87,36,89,36],[84,38,86,38],[84,39,86,39],[84,40,86,40],[84,41,86,41],[93,1,94,1],[93,4,94,4],[96,1,97,1],[96,4,97,4],[87,43,89,43],[81,43,83,43],[81,44,83,44],[81,45,83,45],[81,46,83,46],[81,47,83,47],[84,1,85,1],[84,4,85,4],[84,10,86,11],[84,18,86,20],[84,28,86,29],[81,37,83,37],[81,38,83,38],[81,39,83,39],[81,40,83,40],[81,41,83,41],[81,42,83,42],[84,42,86,42],[84,43,86,43],[84,44,86,44],[84,45,86,45],[84,46,86,46],[84,47,86,47],[84,36,86,36],[84,37,86,37],[81,1,82,1],[81,4,82,4],[81,10,83,11],[81,15,83,17],[81,28,83,29],[81,36,83,36],[78,38,80,38],[78,39,80,39],[78,40,80,40],[76,40,76,41],[76,42,76,43],[76,44,76,45],[76,47,77,47],[77,1,78,2],[78,10,80,11],[78,12,80,14],[78,28,80,29],[78,36,80,36],[78,37,80,37],[74,18,77,20],[74,21,77,23],[74,25,77,27],[74,28,77,29],[76,36,76,37],[76,38,76,39],[78,44,80,44],[78,45,80,45],[78,46,80,46],[78,47,80,47],[78,41,80,41],[78,42,80,42],[78,43,80,43],[71,2,71,5],[72,2,72,5],[74,1,75,5],[74,10,77,11],[74,12,77,14],[74,15,77,17],[62,1,63,1],[62,4,63,4],[65,1,66,1],[65,4,66,4],[69,2,69,5],[70,2,70,5],[59,1,60,1],[59,4,60,4],[60,12,60,29],[56,37,58,37],[56,38,58,38],[56,39,58,39],[56,40,58,40],[56,41,58,41],[56,42,58,42],[53,47,55,47],[56,1,57,1],[56,4,57,4],[56,10,58,11],[56,21,58,23],[56,28,58,29],[56,36,58,36],[53,38,55,38],[53,39,55,39],[53,40,55,40],[53,41,55,41],[53,42,55,42],[53,43,55,43],[56,43,58,43],[56,44,58,44],[56,45,58,45],[56,46,58,46],[56,47,58,47],[47,41,49,41],[47,42,49,42],[47,43,49,43],[47,44,49,44],[47,45,49,45],[50,45,52,45],[50,46,52,46],[50,47,52,47],[53,1,54,1],[53,4,54,4],[53,10,55,11],[53,18,55,20],[53,28,55,29],[53,36,55,36],[53,37,55,37],[50,39,52,39],[50,40,52,40],[50,41,52,41],[50,42,52,42],[50,43,52,43],[50,44,52,44],[53,44,55,44],[53,45,55,45],[53,46,55,46],[50,1,51,1],[50,4,51,4],[50,10,52,11],[50,15,52,17],[50,28,52,29],[50,36,52,36],[50,37,52,37],[50,38,52,38],[47,40,49,40],[45,44,45,45],[45,47,46,47],[46,1,47,2],[47,10,49,11],[47,12,49,14],[47,28,49,29],[47,36,49,36],[47,37,49,37],[47,38,49,38],[47,39,49,39],[43,25,46,27],[43,28,46,29],[45,36,45,37],[45,38,45,39],[45,40,45,41],[45,42,45,43],[43,1,44,5],[43,10,46,11],[43,12,46,14],[43,15,46,17],[43,18,46,20],[43,21,46,23],[47,46,49,46],[47,47,49,47],[34,1,35,1],[34,4,35,4],[38,2,38,5],[39,2,39,5],[40,2,40,5],[41,2,41,5],[25,1,26,1],[25,4,26,4],[26,12,26,34],[28,1,29,1],[28,4,29,4],[31,1,32,1],[31,4,32,4],[22,45,24,45],[22,46,24,46],[22,47,24,47],[22,36,24,36],[22,37,24,37],[22,38,24,38],[22,39,24,39],[22,40,24,40],[22,41,24,41],[22,1,23,1],[22,4,23,4],[22,10,24,11],[22,18,24,20],[22,27,24,29],[22,34,24,34],[19,42,21,42],[19,43,21,43],[19,44,21,44],[22,42,24,42],[22,43,24,43],[22,44,24,44],[16,47,18,47],[19,1,20,1],[19,4,20,4],[19,10,21,11],[19,15,21,17],[19,24,21,26],[19,34,21,34],[16,38,18,38],[16,39,18,39],[16,40,18,40],[16,41,18,41],[16,42,18,42],[16,43,18,43],[19,45,21,45],[19,46,21,46],[19,47,21,47],[19,36,21,36],[19,37,21,37],[19,38,21,38],[19,39,21,39],[19,40,21,40],[19,41,21,41],[14,41,14,42],[14,43,14,44],[14,46,15,46],[15,1,16,2],[16,10,18,11],[16,12,18,14],[16,21,18,23],[16,34,18,34],[16,36,18,36],[16,37,18,37],[12,27,15,29],[12,31,15,33],[12,34,15,34],[13,10,15,11],[14,36,14,37],[14,38,14,39],[16,44,18,44],[16,45,18,45],[16,46,18,46],[9,2,9,5],[10,2,10,5],[10,12,10,20],[10,21,10,29],[12,1,13,5],[12,12,15,14],[12,15,15,17],[12,18,15,20],[12,21,15,23],[12,24,15,26],[7,12,7,15],[7,17,7,18],[7,20,7,21],[7,23,7,25],[7,27,7,28],[8,2,8,5],[1,12,4,35],[2,1,3,2],[2,3,3,9],[5,1,6,2],[5,3,6,9],[6,12,6,15],[6,17,6,18],[6,20,6,21],[6,23,6,25],[6,27,6,28]]}
[]
[null,null,null,null,null,null,null,null,null,null,null,null,"LIGUE MÉDITERRANÉENNE DE BILLARD"]
[null,"CLUB ORGANISATEUR",null,"19009 – CLUB BILLARD ISTREEN"]
[]
[]
[null,"DIRECTEUR DE JEU :",null,"tutu"]
[null,null,null,null,null,null,null,null,null,null,null,null,"Compétition",null,null,null,null,"Mode de jeu",null,null,"Categorie",null,null,"Format billard",null,null,null,"Distance"]
[null,null,null,null,null,null,null,null,null,null,null,null,"TOURNOI N°6",null,null,null,null,"LIBRE",null,null,"R3"]
[null,"Joueur 1",{"$f":"'Saisie des joueurs'!K18","v":0}]
[null,"Joueur 2",{"$f":"'Saisie des joueurs'!K19","v":0}]
[null,"Joueur 3",{"$f":"'Saisie des joueurs'!K20","v":0},null,null,null,null,null,null,null,null,null,"MATCH ALLER",null,null,null,null,null,null,null,null,"MATCH RETOUR"]
[]
[null,"SAISIE DES RESULTATS",null,null,null,null,null,null,null,null,null,null,{"$f":"C9","v":0},null,null,{"$f":"C10","v":0},null,null,{"$f":"C11","v":0},null,null,{"$f":"C9","v":0},null,null,{"$f":"C10","v":0},null,null,{"$f":"C11","v":0},null,null,null,"TOTAUX",null,null,"CLASSEMENT"]
[]
[null,null,null,null,null,null,null,null,null,null,null,null,null,null,null,null,null,null,null,null,null,null,null,null,null,null,null,null,null,null,null,null,null,null,null,null,"Classement",null,"Classement",null,"Classement","Classement",null,"Classement",null,"GENERAL","RANG"]
[null,"POULE A",null,null,null,null,null,null,null,null,null,null,null,null,null,null,null,null,null,null,null,null,null,null,null,null,null,null,null,null,null,null,null,null,null,null,"Point-Match","CLS-M","Moy-Gen","CLS-G","Moy-Part","M-Series","CLS-S","MGPS","CLS","CLS"]
[null,null,null,null,null,null,null,null,null,null,{"$f":"C9","v":0},null,"L",null,null,{"$f":"D26","v":0},null,{"$f":"E26","v":0},{"$f":"D20","v":0},null,{"$f":"E20","v":0},"L",null,null,{"$f":"D35","v":0},null,{"$f":"E35","v":0},{"$f":"D29","v":0},null,{"$f":"E29","v":0},null,{"$f":"P17+S17+Y17+AB17","v":0},null,{"$f":"R17+U17+AA17+AD17","v":0},{"$f":"AU17","v":{"$error":"#DIV/0!"}},null,{"$f":"AG18","v":0.04},{"$f":"RANK(AK17,AK$17:AK$25,0)","v":1},{"$f":"AH19","v":{"$error":"#DIV/0!"}},{"$f":"RANK(AM17,AM$17:AM$25,0)","v":{"$error":"#DIV/0!"}},{"$f":"MAX(R19,U19,AA19,AD19)","v":{"$error":"#DIV/0!"}},{"$f":"RANK(AO17,AO$17:AO$25)","v":{"$error":"#DIV/0!"}},{"$f":"AF19","v":0},{"$f":"RANK(AQ17,AQ$17:AQ$25)","v":1},{"$f":"(AL17*1000)+(AN17*100)+(AP17*10)+(AR17*1)","v":{"$error":"#DIV/0!"}},{"$f":"AS17","v":{"$error":"#DIV/0!"}},{"$f":"RANK(AT17,AT$17:AT$25,1)","v":{"$error":"#DIV/0!"}},{"$f":"RANK(AU17,AU$17:AU$25,1)","v":{"$error":"#DIV/0!"}}]
[null,null,null,null,null,null,null,null,null,null,null,null,null,null,null,null,{"$f":"IF(R17<1,0.01,IF(P17>M20,2,IF(P17=M20,1,0)))","v":0.01},null,null,{"$f":"IF(U17<1,0.01,IF(S17>M23,2,IF(S17=M23,1,0)))","v":0.01},null,null,null,null,null,{"$f":"IF(AA17<1,0.01,IF(Y17>V20,2,IF(Y17=V20,1,0)))","v":0.01},null,null,{"$f":"IF(AD17<1,0.01,IF(AB17>V23,2,IF(AB17=V23,1,0)))","v":0.01},null,null,null,{"$f":"Q18+T18+Z18+AC18","v":0.04}]
[null,null,null,"Pts","Rep","Série",null,null,null,null,null,null,null,null,null,{"$f":"F26","v":0},null,{"$f":"P17/R17","v":{"$error":"#DIV/0!"}},{"$f":"F20","v":0},null,{"$f":"S17/U17","v":{"$error":"#DIV/0!"}},null,null,null,{"$f":"F35","v":0},null,{"$f":"Y17/AA17","v":{"$error":"#DIV/0!"}},{"$f":"F29","v":0},null,{"$f":"AB17/AD17","v":{"$error":"#DIV/0!"}},null,{"$f":"MAX(P19,S19,Y19,AB19)","v":0},null,{"$f":"AF17/AH17","v":{"$error":"#DIV/0!"}}]
[null,"Tour 1\nMatch aller",{"$f":"C9","v":0},null,null,null,null,null,null,null,{"$f":"C10","v":0},null,{"$f":"D27","v":0},null,{"$f":"E26","v":0},"M",null,null,{"$f":"D23","v":0},null,{"$f":"E23","v":0},{"$f":"D36","v":0},null,{"$f":"E35","v":0},"M",null,null,{"$f":"D32","v":0},null,{"$f":"E32","v":0},null,{"$f":"M20+S20+V20+AB20","v":0},null,{"$f":"O20+U20+X20+AD20","v":0},{"$f":"AU20","v":{"$error":"#DIV/0!"}},null,{"$f":"AG21","v":0.04},{"$f":"RANK(AK20,AK$17:AK$25,0)","v":1},{"$f":"AH22","v":{"$error":"#DIV/0!"}},{"$f":"RANK(AM20,AM$17:AM$25,0)","v":{"$error":"#DIV/0!"}},{"$f":"MAX(R22,U22,AA22,AD22)","v":{"$error":"#DIV/0!"}},{"$f":"RANK(AO20,AO$17:AO$25)","v":{"$error":"#DIV/0!"}},{"$f":"AF22","v":0},{"$f":"RANK(AQ20,AQ$17:AQ$25)","v":1},{"$f":"(AL20*1000)+(AN20*100)+(AP20*10)+(AR20*1)","v":{"$error":"#DIV/0!"}},{"$f":"AS20","v":{"$error":"#DIV/0!"}},{"$f":"RANK(AT20,AT$17:AT$25,1)","v":{"$error":"#DIV/0!"}},{"$f":"RANK(AU20,AU$17:AU$25,1)","v":{"$error":"#DIV/0!"}}]
[null,null,{"$f":"C11","v":0},null,null,null,null,null,null,null,null,null,null,{"$f":"IF(R17>0,2-Q18,0.01)","v":0.01},null,null,null,null,null,{"$f":"IF(U20<1,0.01,IF(S20>P23,2,IF(S20=P23,1,0)))","v":0.01},null,null,{"$f":"IF(AA17>0,2-Z18,0.01)","v":0.01},null,null,null,null,null,{"$f":"IF(AD20<1,0.01,IF(AB20>Y23,2,IF(AB20=Y23,1,0)))","v":0.01},null,null,null,{"$f":"N21+T21+W21+AC21","v":0.04}]
[null,null,null,null,null,null,null,null,null,null,null,null,{"$f":"F27","v":0},null,{"$f":"M20/O20","v":{"$error":"#DIV/0!"}},null,null,null,{"$f":"F23","v":0},null,{"$f":"S20/U20","v":{"$error":"#DIV/0!"}},{"$f":"F36","v":0},null,{"$f":"V20/X20","v":{"$error":"#DIV/0!"}},null,null,null,{"$f":"F32","v":0},null,{"$f":"AB20/AD20","v":{"$error":"#DIV/0!"}},null,{"$f":"MAXA(M22,S22,V22,AB22)","v":0},null,{"$f":"AF20/AH20","v":{"$error":"#DIV/0!"}}]
[null,"Tour 2\nMatch aller",{"$f":"C10","v":0},null,null,null,null,null,null,null,{"$f":"C11","v":0},null,{"$f":"D21","v":0},null,{"$f":"E20","v":0},{"$f":"D24","v":0},null,{"$f":"E23","v":0},"B",null,null,{"$f":"D30","v":0},null,{"$f":"E29","v":0},{"$f":"D33","v":0},null,{"$f":"E32","v":0},"B",null,null,null,{"$f":"M23+P23+V23+Y23","v":0},null,{"$f":"O23+R23+X23+AA23","v":0},{"$f":"AU23","v":{"$error":"#DIV/0!"}},null,{"$f":"AG24","v":0.04},{"$f":"RANK(AK23,AK$17:AK$25,0)","v":1},{"$f":"AH25","v":{"$error":"#DIV/0!"}},{"$f":"RANK(AM23,AM$17:AM$25,0)","v":{"$error":"#DIV/0!"}},{"$f":"MAX(R25,U25,AA25,AD25)","v":{"$error":"#DIV/0!"}},{"$f":"RANK(AO23,AO$17:AO$25)","v":{"$error":"#DIV/0!"}},{"$f":"AF25","v":0},{"$f":"RANK(AQ23,AQ$17:AQ$25)","v":1},{"$f":"(AL23*1000)+(AN23*100)+(AP23*10)+(AR23*1)","v":{"$error":"#DIV/0!"}},{"$f":"AS23","v":{"$error":"#DIV/0!"}},{"$f":"RANK(AT23,AT$17:AT$25,1)","v":{"$error":"#DIV/0!"}},{"$f":"RANK(AU23,AU$17:AU$25,1)","v":{"$error":"#DIV/0!"}}]
[null,null,{"$f":"C11","v":0},null,null,null,null,null,null,null,null,null,null,{"$f":"IF(U17>0,2-T18,0.01)","v":0.01},null,null,{"$f":"IF(U20>0,2-T21,0.01)","v":0.01},null,null,null,null,null,{"$f":"IF(AD17>0,2-AC18,0.01)","v":0.01},null,null,{"$f":"IF(AD20>0,2-AC21,0.01)","v":0.01},null,null,null,null,null,null,{"$f":"N24+Q24+W24+Z24","v":0.04}]
[null,null,null,null,null,null,null,null,null,null,null,null,{"$f":"F21","v":0},null,{"$f":"M23/O23","v":{"$error":"#DIV/0!"}},{"$f":"F24","v":0},null,{"$f":"P23/R23","v":{"$error":"#DIV/0!"}},null,null,null,{"$f":"F30","v":0},null,{"$f":"V23/X23","v":{"$error":"#DIV/0!"}},{"$f":"F33","v":0},null,{"$f":"Y23/AA23","v":{"$error":"#DIV/0!"}},null,null,null,null,{"$f":"MAXA(M25,P25,V25,Y25)","v":0},null,{"$f":"AF23/AH23","v":{"$error":"#DIV/0!"}}]
[null,"Tour 3\nMatch aller",{"$f":"C9","v":0}]
[null,null,{"$f":"C10","v":0},null,null,null,null,null,null,null,null,null,"Pas de prolongation en cas de match nul."]
[]
[null,"Tour 1\nMatch retour",{"$f":"C9","v":0}]
[null,null,{"$f":"C11","v":0}]
[]
[null,"Tour 2\nMatch retour",{"$f":"C10","v":0}]
[null,null,{"$f":"C11","v":0}]
[]
[null,"Tour 3\nMatch retour",{"$f":"C9","v":0}]
[null,null,{"$f":"C10","v":0}]
[]
[]
[null,"Joueur 1",{"$f":"'Saisie des joueurs'!K21","v":0}]
[null,"Joueur 2",{"$f":"'Saisie des joueurs'!K22","v":0}]
[null,"Joueur 3",{"$f":"'Saisie des joueurs'!K23","v":0}]
[null,"Joueur 4",{"$f":"'Saisie des joueurs'!K24","v":0}]
[]
[null,"SAISIE DES RESULTATS",null,null,null,null,null,null,null,null,null,null,{"$f":"C39","v":0},null,null,{"$f":"C40","v":0},null,null,{"$f":"C41","v":0},null,null,{"$f":"C42","v":0},null,null,null,"TOTAUX",null,null,"CLASSEMENT"]
[]
[null,null,null,null,null,null,null,null,null,null,null,null,null,null,null,null,null,null,null,null,null,null,null,null,null,null,null,null,null,null,null,null,null,null,null,null,"Classement",null,"Classement",null,"Classement",null,"Classement",null,"Classement",null,"GENERAL","RANG"]
[null,"POULE B",null,null,null,null,null,null,null,null,null,null,null,null,null,null,null,null,null,null,null,null,null,null,null,null,null,null,null,null,null,null,null,null,null,null,"Point-Match","CLS-M","Moy-Gen","CLS-G","Moy-Part","CLS-P","M-Series","CLS-S","MGPS","CLS","CLS"]
[null,null,null,null,null,null,null,null,null,null,{"$f":"C39","v":0},null,"L",null,null,{"$f":"D63","v":0},null,{"$f":"E63","v":0},{"$f":"D57","v":0},null,{"$f":"E57","v":0},{"$f":"D51","v":0},null,{"$f":"E51","v":0},null,{"$f":"P48+S48+V48","v":0},null,{"$f":"R48+U48+X48","v":0},{"$f":"AV48","v":{"$error":"#DIV/0!"}},null,null,null,null,null,null,null,{"$f":"AA49","v":0.03},{"$f":"RANK(AK48,AK$48:AK$59,0)","v":1},{"$f":"AB50","v":{"$error":"#DIV/0!"}},{"$f":"RANK(AM48,AM$48:AM$59,0)","v":{"$error":"#DIV/0!"}},{"$f":"MAX(R50,U50,X50)","v":{"$error":"#DIV/0!"}},{"$f":"RANK(AO48,AO$48:AO$59)","v":{"$error":"#DIV/0!"}},{"$f":"Z50","v":0},{"$f":"RANK(AQ48,AQ$48:AQ$59)","v":1},{"$f":"(AL48*1000)+(AN48*100)+(AP48*10)+(AR48*1)","v":{"$error":"#DIV/0!"}},{"$f":"AS48","v":{"$error":"#DIV/0!"}},{"$f":"RANK(AT48,AT$48:AT$59,1)","v":{"$error":"#DIV/0!"}},{"$f":"RANK(AU48,AU$48:AU$59,1)","v":{"$error":"#DIV/0!"}}]
[null,null,null,null,null,null,null,null,null,null,null,null,null,null,null,null,{"$f":"IF(R48<1,0.01,IF(P48>M51,2,IF(P48=M51,1,0)))","v":0.01},null,null,{"$f":"IF(U48<1,0.01,IF(S48>M54,2,IF(S48=M54,1,0)))","v":0.01},null,null,{"$f":"IF(X48<1,0.01,IF(V48>M57,2,IF(V48=M57,1,0)))","v":0.01},null,null,null,{"$f":"Q49+T49+W49","v":0.03}]
[null,null,null,"Pts","Rep","Série",null,null,null,null,null,null,null,null,null,{"$f":"F63","v":0},null,{"$f":"P48/R48","v":{"$error":"#DIV/0!"}},{"$f":"F57","v":0},null,{"$f":"S48/U48","v":{"$error":"#DIV/0!"}},{"$f":"F51","v":0},null,{"$f":"V48/X48","v":{"$error":"#DIV/0!"}},null,{"$f":"MAX(P50,S50,V50)","v":0},null,{"$f":"Z48/AB48","v":{"$error":"#DIV/0!"}}]
[null,"Tour 1",{"$f":"C39","v":0},null,null,null,null,null,null,null,{"$f":"C40","v":0},null,{"$f":"D64","v":0},null,{"$f":"E63","v":0},"M",null,null,{"$f":"D54","v":0},null,{"$f":"E54","v":0},{"$f":"D61","v":0},null,{"$f":"E60","v":0},null,{"$f":"M51+S51+V51","v":0},null,{"$f":"O51+U51+X51","v":0},{"$f":"AV51","v":{"$error":"#DIV/0!"}},null,null,null,null,null,null,null,{"$f":"AA52","v":0.03},{"$f":"RANK(AK51,AK$48:AK$59,0)","v":1},{"$f":"AB53","v":{"$error":"#DIV/0!"}},{"$f":"RANK(AM51,AM$48:AM$59,0)","v":{"$error":"#DIV/0!"}},{"$f":"MAX(O53,U53,X53)","v":{"$error":"#DIV/0!"}},{"$f":"RANK(AO51,AO$48:AO$59)","v":{"$error":"#DIV/0!"}},{"$f":"Z53","v":0},{"$f":"RANK(AQ51,AQ$48:AQ$59)","v":1},{"$f":"(AL51*1000)+(AN51*100)+(AP51*10)+(AR51*1)","v":{"$error":"#DIV/0!"}},{"$f":"AS51","v":{"$error":"#DIV/0!"}},{"$f":"RANK(AT51,AT$48:AT$59,1)","v":{"$error":"#DIV/0!"}},{"$f":"RANK(AU51,AU$48:AU$59,1)","v":{"$error":"#DIV/0!"}}]
[null,null,{"$f":"C42","v":0},null,null,null,null,null,null,null,null,null,null,{"$f":"IF(R48>0,2-Q49,0.01)","v":0.01},null,null,null,null,null,{"$f":"IF(U51<1,0.01,IF(S51>P54,2,IF(S51=P54,1,0)))","v":0.01},null,null,{"$f":"IF(X51<1,0.01,IF(V51>P57,2,IF(V51=P57,1,0)))","v":0.01},null,null,null,{"$f":"N52+T52+W52","v":0.03}]
[null,null,null,null,null,null,null,null,null,null,null,null,{"$f":"F64","v":0},null,{"$f":"M51/O51","v":{"$error":"#DIV/0!"}},null,null,null,{"$f":"F54","v":0},null,{"$f":"S51/U51","v":{"$error":"#DIV/0!"}},{"$f":"F61","v":0},null,{"$f":"V51/X51","v":{"$error":"#DIV/0!"}},null,{"$f":"MAXA(M53,S53,V53)","v":0},null,{"$f":"Z51/AB51","v":{"$error":"#DIV/0!"}}]
[null,"Tour 2",{"$f":"C40","v":0},null,null,null,null,null,null,null,{"$f":"C41","v":0},null,{"$f":"D58","v":0},null,{"$f":"E57","v":0},{"$f":"D55","v":0},null,{"$f":"E54","v":0},"B",null,null,{"$f":"D66","v":0},null,{"$f":"E66","v":0},null,{"$f":"M54+P54+V54","v":0},null,{"$f":"O54+R54+X54","v":0},{"$f":"AV54","v":{"$error":"#DIV/0!"}},null,null,null,null,null,null,null,{"$f":"AA55","v":0.03},{"$f":"RANK(AK54,AK$48:AK$59,0)","v":1},{"$f":"AB56","v":{"$error":"#DIV/0!"}},{"$f":"RANK(AM54,AM$48:AM$59,0)","v":{"$error":"#DIV/0!"}},{"$f":"MAX(O56,R56,X56)","v":{"$error":"#DIV/0!"}},{"$f":"RANK(AO54,AO$48:AO$59)","v":{"$error":"#DIV/0!"}},{"$f":"Z56","v":0},{"$f":"RANK(AQ54,AQ$48:AQ$59)","v":1},{"$f":"(AL54*1000)+(AN54*100)+(AP54*10)+(AR54*1)","v":{"$error":"#DIV/0!"}},{"$f":"AS54","v":{"$error":"#DIV/0!"}},{"$f":"RANK(AT54,AT$48:AT$59,1)","v":{"$error":"#DIV/0!"}},{"$f":"RANK(AU54,AU$48:AU$59,1)","v":{"$error":"#DIV/0!"}}]
[null,null,{"$f":"C41","v":0},null,null,null,null,null,null,null,null,null,null,{"$f":"IF(U48>0,2-T49,0.01)","v":0.01},null,null,{"$f":"IF(U51>0,2-T52,0.01)","v":0.01},null,null,null,null,null,{"$f":"IF(X54<1,0.01,IF(V54>S57,2,IF(V54=S57,1,0)))","v":0.01},null,null,null,{"$f":"N55+Q55+W55","v":0.03}]
[null,null,null,null,null,null,null,null,null,null,null,null,{"$f":"F58","v":0},null,{"$f":"M54/O54","v":{"$error":"#DIV/0!"}},{"$f":"F55","v":0},null,{"$f":"P54/R54","v":{"$error":"#DIV/0!"}},null,null,null,{"$f":"F66","v":0},null,{"$f":"V54/X54","v":{"$error":"#DIV/0!"}},null,{"$f":"MAXA(M56,P56,V56)","v":0},null,{"$f":"Z54/AB54","v":{"$error":"#DIV/0!"}}]
[null,"Tour 3",{"$f":"C39","v":0},null,null,null,null,null,null,null,{"$f":"C42","v":0},null,{"$f":"D52","v":0},null,{"$f":"E51","v":0},{"$f":"D60","v":0},null,{"$f":"E60","v":0},{"$f":"D67","v":0},null,{"$f":"E66","v":0},null,null,null,null,{"$f":"M57+P57+S57","v":0},null,{"$f":"O57+R57+U57","v":0},{"$f":"AV57","v":{"$error":"#DIV/0!"}},null,null,null,null,null,null,null,{"$f":"AA58","v":0.03},{"$f":"RANK(AK57,AK$48:AK$59,0)","v":1},{"$f":"AB59","v":{"$error":"#DIV/0!"}},{"$f":"RANK(AM57,AM$48:AM$59,0)","v":{"$error":"#DIV/0!"}},{"$f":"MAX(O59,R59,U59)","v":{"$error":"#DIV/0!"}},{"$f":"RANK(AO57,AO$48:AO$59)","v":{"$error":"#DIV/0!"}},{"$f":"Z59","v":0},{"$f":"RANK(AQ57,AQ$48:AQ$59)","v":1},{"$f":"(AL57*1000)+(AN57*100)+(AP57*10)+(AR57*1)","v":{"$error":"#DIV/0!"}},{"$f":"AS57","v":{"$error":"#DIV/0!"}},{"$f":"RANK(AT57,AT$48:AT$59,1)","v":{"$error":"#DIV/0!"}},{"$f":"RANK(AU57,AU$48:AU$59,1)","v":{"$error":"#DIV/0!"}}]
[null,null,{"$f":"C41","v":0},null,null,null,null,null,null,null,null,null,null,{"$f":"IF(X48>0,2-W49,0.01)","v":0.01},null,null,{"$f":"IF(X51>0,2-W52,0.01)","v":0.01},null,null,{"$f":"IF(X54>0,2-W55,0.01)","v":0.01},null,null,null,null,null,null,{"$f":"N58+Q58+T58","v":0.03}]
[null,null,null,null,null,null,null,null,null,null,null,null,{"$f":"F52","v":0},null,{"$f":"M57/O57","v":{"$error":"#DIV/0!"}},{"$f":"F60","v":0},null,{"$f":"P57/R57","v":{"$error":"#DIV/0!"}},{"$f":"F67","v":0},null,{"$f":"S57/U57","v":{"$error":"#DIV/0!"}},null,null,null,null,{"$f":"MAXA(M59,P59,S59)","v":0},null,{"$f":"Z57/AB57","v":{"$error":"#DIV/0!"}}]
[null,"Tour 4",{"$f":"C42","v":0}]
[null,null,{"$f":"C40","v":0},null,null,null,null,null,null,null,null,null,"Pas de prolongation en cas de match nul."]
[]
[null,"Tour 5",{"$f":"C39","v":0}]
[null,null,{"$f":"C40","v":0}]
[]
[null,"Tour 6",{"$f":"C41","v":0}]
[null,null,{"$f":"C42","v":0}]
[]
[]
[null,"Joueur 1",{"$f":"'Saisie des joueurs'!K25","v":0}]
[null,"Joueur 2",{"$f":"'Saisie des joueurs'!K26","v":0}]
[null,"Joueur 3",{"$f":"'Saisie des joueurs'!K27","v":0}]
[null,"Joueur 4",{"$f":"'Saisie des joueurs'!K28","v":0}]
[]
[null,"SAISIE DES RESULTATS",null,null,null,null,null,null,null,null,null,null,{"$f":"C70","v":0},null,null,{"$f":"C71","v":0},null,null,{"$f":"C72","v":0},null,null,{"$f":"C73","v":0},null,null,null,"TOTAUX",null,null,"CLASSEMENT"]
[]
[null,null,null,null,null,null,null,null,null,null,null,null,null,null,null,null,null,null,null,null,null,null,null,null,null,null,null,null,null,null,null,null,null,null,null,null,"Classement",null,"Classement",null,"Classement",null,"Classement",null,"Classement",null,"GENERAL","RANG"]
[null,"POULE C",null,null,null,null,null,null,null,null,null,null,null,null,null,null,null,null,null,null,null,null,null,null,null,null,null,null,null,null,null,null,null,null,null,null,"Point-Match","CLS-M","Moy-Gen","CLS-G","Moy-Part","CLS-P","M-Series","CLS-S","MGPS","CLS","CLS"]
[null,null,null,null,null,null,null,null,null,null,{"$f":"C70","v":0},null,"L",null,null,{"$f":"D94","v":0},null,{"$f":"E94","v":0},{"$f":"D88","v":0},null,{"$f":"E88","v":0},{"$f":"D82","v":0},null,{"$f":"E82","v":0},null,{"$f":"P79+S79+V79","v":0},null,{"$f":"R79+U79+X79","v":0},{"$f":"AV79","v":{"$error":"#DIV/0!"}},null,null,null,null,null,null,null,{"$f":"AA80","v":0.03},{"$f":"RANK(AK79,AK$79:AK$90,0)","v":1},{"$f":"AB81","v":{"$error":"#DIV/0!"}},{"$f":"RANK(AM79,AM$79:AM$90,0)","v":{"$error":"#DIV/0!"}},{"$f":"MAX(R81,U81,X81)","v":{"$error":"#DIV/0!"}},{"$f":"RANK(AO79,AO$79:AO$90)","v":{"$error":"#DIV/0!"}},{"$f":"Z81","v":0},{"$f":"RANK(AQ79,AQ$79:AQ$90)","v":1},{"$f":"(AL79*1000)+(AN79*100)+(AP79*10)+(AR79*1)","v":{"$error":"#DIV/0!"}},{"$f":"AS79","v":{"$error":"#DIV/0!"}},{"$f":"RANK(AT79,AT$79:AT$90,1)","v":{"$error":"#DIV/0!"}},{"$f":"RANK(AU79,AU$79:AU$90,1)","v":{"$error":"#DIV/0!"}}]
[null,null,null,null,null,null,null,null,null,null,null,null,null,null,null,null,{"$f":"IF(R79<1,0.01,IF(P79>M82,2,IF(P79=M82,1,0)))","v":0.01},null,null,{"$f":"IF(U79<1,0.01,IF(S79>M85,2,IF(S79=M85,1,0)))","v":0.01},null,null,{"$f":"IF(X79<1,0.01,IF(V79>M88,2,IF(V79=M88,1,0)))","v":0.01},null,null,null,{"$f":"Q80+T80+W80","v":0.03}]
[null,null,null,"Pts","Rep","Série",null,null,null,null,null,null,null,null,null,{"$f":"F94","v":0},null,{"$f":"P79/R79","v":{"$error":"#DIV/0!"}},{"$f":"F88","v":0},null,{"$f":"S79/U79","v":{"$error":"#DIV/0!"}},{"$f":"F82","v":0},null,{"$f":"V79/X79","v":{"$error":"#DIV/0!"}},null,{"$f":"MAX(P81,S81,V81)","v":0},null,{"$f":"Z79/AB79","v":{"$error":"#DIV/0!"}}]
[null,"Tour 1",{"$f":"C70","v":0},null,null,null,null,null,null,null,{"$f":"C71","v":0},null,{"$f":"D95","v":0},null,{"$f":"E94","v":0},"M",null,null,{"$f":"D85","v":0},null,{"$f":"E85","v":0},{"$f":"D92","v":0},null,{"$f":"E91","v":0},null,{"$f":"M82+S82+V82","v":0},null,{"$f":"O82+U82+X82","v":0},{"$f":"AV82","v":{"$error":"#DIV/0!"}},null,null,null,null,null,null,null,{"$f":"AA83","v":0.03},{"$f":"RANK(AK82,AK$79:AK$90,0)","v":1},{"$f":"AB84","v":{"$error":"#DIV/0!"}},{"$f":"RANK(AM82,AM$79:AM$90,0)","v":{"$error":"#DIV/0!"}},{"$f":"MAX(O84,U84,X84)","v":{"$error":"#DIV/0!"}},{"$f":"RANK(AO82,AO$79:AO$90)","v":{"$error":"#DIV/0!"}},{"$f":"Z84","v":0},{"$f":"RANK(AQ82,AQ$79:AQ$90)","v":1},{"$f":"(AL82*1000)+(AN82*100)+(AP82*10)+(AR82*1)","v":{"$error":"#DIV/0!"}},{"$f":"AS82","v":{"$error":"#DIV/0!"}},{"$f":"RANK(AT82,AT$79:AT$90,1)","v":{"$error":"#DIV/0!"}},{"$f":"RANK(AU82,AU$79:AU$90,1)","v":{"$error":"#DIV/0!"}}]
[null,null,{"$f":"C73","v":0},null,null,null,null,null,null,null,null,null,null,{"$f":"IF(R79>0,2-Q80,0.01)","v":0.01},null,null,null,null,null,{"$f":"IF(U82<1,0.01,IF(S82>P85,2,IF(S82=P85,1,0)))","v":0.01},null,null,{"$f":"IF(X82<1,0.01,IF(V82>P88,2,IF(V82=P88,1,0)))","v":0.01},null,null,null,{"$f":"N83+T83+W83","v":0.03}]
[null,null,null,null,null,null,null,null,null,null,null,null,{"$f":"F95","v":0},null,{"$f":"M82/O82","v":{"$error":"#DIV/0!"}},null,null,null,{"$f":"F85","v":0},null,{"$f":"S82/U82","v":{"$error":"#DIV/0!"}},{"$f":"F92","v":0},null,{"$f":"V82/X82","v":{"$error":"#DIV/0!"}},null,{"$f":"MAXA(M84,S84,V84)","v":0},null,{"$f":"Z82/AB82","v":{"$error":"#DIV/0!"}}]
[null,"Tour 2",{"$f":"C71","v":0},null,null,null,null,null,null,null,{"$f":"C72","v":0},null,{"$f":"D89","v":0},null,{"$f":"E88","v":0},{"$f":"D86","v":0},null,{"$f":"E85","v":0},"B",null,null,{"$f":"D97","v":0},null,{"$f":"E97","v":0},null,{"$f":"M85+P85+V85","v":0},null,{"$f":"O85+R85+X85","v":0},{"$f":"AV85","v":{"$error":"#DIV/0!"}},null,null,null,null,null,null,null,{"$f":"AA86","v":0.03},{"$f":"RANK(AK85,AK$79:AK$90,0)","v":1},{"$f":"AB87","v":{"$error":"#DIV/0!"}},{"$f":"RANK(AM85,AM$79:AM$90,0)","v":{"$error":"#DIV/0!"}},{"$f":"MAX(O87,R87,X87)","v":{"$error":"#DIV/0!"}},{"$f":"RANK(AO85,AO$79:AO$90)","v":{"$error":"#DIV/0!"}},{"$f":"Z87","v":0},{"$f":"RANK(AQ85,AQ$79:AQ$90)","v":1},{"$f":"(AL85*1000)+(AN85*100)+(AP85*10)+(AR85*1)","v":{"$error":"#DIV/0!"}},{"$f":"AS85","v":{"$error":"#DIV/0!"}},{"$f":"RANK(AT85,AT$79:AT$90,1)","v":{"$error":"#DIV/0!"}},{"$f":"RANK(AU85,AU$79:AU$90,1)","v":{"$error":"#DIV/0!"}}]
[null,null,{"$f":"C72","v":0},null,null,null,null,null,null,null,null,null,null,{"$f":"IF(U79>0,2-T80,0.01)","v":0.01},null,null,{"$f":"IF(U82>0,2-T83,0.01)","v":0.01},null,null,null,null,null,{"$f":"IF(X85<1,0.01,IF(V85>S88,2,IF(V85=S88,1,0)))","v":0.01},null,null,null,{"$f":"N86+Q86+W86","v":0.03}]
[null,null,null,null,null,null,null,null,null,null,null,null,{"$f":"F89","v":0},null,{"$f":"M85/O85","v":{"$error":"#DIV/0!"}},{"$f":"F86","v":0},null,{"$f":"P85/R85","v":{"$error":"#DIV/0!"}},null,null,null,{"$f":"F97","v":0},null,{"$f":"V85/X85","v":{"$error":"#DIV/0!"}},null,{"$f":"MAXA(M87,P87,V87)","v":0},null,{"$f":"Z85/AB85","v":{"$error":"#DIV/0!"}}]
[null,"Tour 3",{"$f":"C70","v":0},null,null,null,null,null,null,null,{"$f":"C73","v":0},null,{"$f":"D83","v":0},null,{"$f":"E82","v":0},{"$f":"D91","v":0},null,{"$f":"E91","v":0},{"$f":"D98","v":0},null,{"$f":"E97","v":0},null,null,null,null,{"$f":"M88+P88+S88","v":0},null,{"$f":"O88+R88+U88","v":0},{"$f":"AV88","v":{"$error":"#DIV/0!"}},null,null,null,null,null,null,null,{"$f":"AA89","v":0.03},{"$f":"RANK(AK88,AK$79:AK$90,0)","v":1},{"$f":"AB90","v":{"$error":"#DIV/0!"}},{"$f":"RANK(AM88,AM$79:AM$90,0)","v":{"$error":"#DIV/0!"}},{"$f":"MAX(O90,R90,U90)","v":{"$error":"#DIV/0!"}},{"$f":"RANK(AO88,AO$79:AO$90)","v":{"$error":"#DIV/0!"}},{"$f":"Z90","v":0},{"$f":"RANK(AQ88,AQ$79:AQ$90)","v":1},{"$f":"(AL88*1000)+(AN88*100)+(AP88*10)+(AR88*1)","v":{"$error":"#DIV/0!"}},{"$f":"AS88","v":{"$error":"#DIV/0!"}},{"$f":"RANK(AT88,AT$79:AT$90,1)","v":{"$error":"#DIV/0!"}},{"$f":"RANK(AU88,AU$79:AU$90,1)","v":{"$error":"#DIV/0!"}}]
[null,null,{"$f":"C72","v":0},null,null,null,null,null,null,null,null,null,null,{"$f":"IF(X79>0,2-W80,0.01)","v":0.01},null,null,{"$f":"IF(X82>0,2-W83,0.01)","v":0.01},null,null,{"$f":"IF(X85>0,2-W86,0.01)","v":0.01},null,null,null,null,null,null,{"$f":"N89+Q89+T89","v":0.03}]
[null,null,null,null,null,null,null,null,null,null,null,null,{"$f":"F83","v":0},null,{"$f":"M88/O88","v":{"$error":"#DIV/0!"}},{"$f":"F91","v":0},null,{"$f":"P88/R88","v":{"$error":"#DIV/0!"}},{"$f":"F98","v":0},null,{"$f":"S88/U88","v":{"$error":"#DIV/0!"}},null,null,null,null,{"$f":"MAXA(M90,P90,S90)","v":0},null,{"$f":"Z88/AB88","v":{"$error":"#DIV/0!"}}]
[null,"Tour 4",{"$f":"C73","v":0}]
[null,null,{"$f":"C71","v":0},null,null,null,null,null,null,null,null,null,"Pas de prolongation en cas de match nul."]
[]
[null,"Tour 5",{"$f":"C70","v":0}]
[null,null,{"$f":"C71","v":0}]
[]
[null,"Tour 6",{"$f":"C72","v":0}]
[null,null,{"$f":"C73","v":0}]

{"sheet":"12JOUEURS_MOYENNE","index":43,"n_rows":99,"n_cols":42,"rows_kept":99,"cut":false,"hidden":true,"merged":[[7,23,7,25],[7,27,7,28],[8,2,8,5],[1,12,4,35],[2,1,3,2],[2,3,3,9],[5,1,6,2],[5,3,6,9],[6,12,6,15],[6,17,6,18],[6,20,6,21],[6,23,6,25],[6,27,6,28],[9,2,9,5],[10,2,10,5],[11,2,11,5],[13,1,14,5],[13,12,16,14],[13,15,16,17],[7,12,7,15],[7,17,7,18],[7,20,7,21],[15,32,15,33],[15,34,15,35],[15,36,15,37],[15,38,15,39],[15,41,16,41],[16,1,17,2],[17,10,19,11],[17,12,19,14],[17,28,19,28],[17,30,19,30],[13,18,16,20],[13,21,16,23],[14,10,16,11],[14,25,16,27],[14,28,16,28],[15,30,15,31],[17,37,19,37],[17,38,19,38],[17,39,19,39],[17,40,19,40],[17,41,19,41],[17,35,19,35],[17,36,19,36],[20,1,21,1],[20,4,21,4],[20,10,22,11],[20,15,22,17],[20,28,22,28],[17,31,19,31],[17,32,19,32],[17,33,19,33],[17,34,19,34],[23,30,25,30],[26,38,28,38],[26,39,28,39],[20,36,22,36],[20,37,22,37],[20,38,22,38],[20,39,22,39],[20,40,22,40],[20,41,22,41],[20,30,22,30],[20,31,22,31],[20,32,22,32],[20,33,22,33],[20,34,22,34],[20,35,22,35],[26,40,28,40],[26,41,28,41],[26,30,28,30],[26,31,28,31],[26,32,28,32],[26,33,28,33],[26,34,28,34],[26,35,28,35],[29,1,30,1],[29,4,30,4],[30,12,30,23],[23,37,25,37],[23,38,25,38],[23,39,25,39],[23,40,25,40],[23,41,25,41],[26,1,27,1],[26,4,27,4],[26,10,28,11],[26,21,28,23],[26,28,28,28],[23,31,25,31],[23,32,25,32],[23,33,25,33],[23,34,25,34],[23,35,25,35],[23,36,25,36],[23,1,24,1],[23,4,24,4],[23,10,25,11],[23,18,25,20],[23,28,25,28],[48,30,50,30],[48,31,50,31],[32,1,33,1],[32,4,33,4],[35,1,36,1],[35,4,36,4],[26,36,28,36],[26,37,28,37],[45,10,47,11],[45,25,47,27],[45,28,47,28],[38,2,38,5],[39,2,39,5],[40,2,40,5],[41,2,41,5],[44,1,45,5],[44,12,47,14],[47,1,48,2],[48,10,50,11],[48,12,50,14],[46,30,46,31],[46,32,46,33],[46,34,46,35],[46,36,46,37],[48,32,50,32],[48,33,50,33],[54,37,56,37],[54,38,56,38],[46,38,46,39],[46,41,47,41],[44,15,47,17],[44,18,47,20],[44,21,47,23],[48,41,50,41],[48,35,50,35],[48,36,50,36],[48,37,50,37],[48,38,50,38],[48,39,50,39],[48,40,50,40],[48,28,50,28],[54,33,56,33],[54,34,56,34],[48,34,50,34],[51,40,53,40],[51,41,53,41],[51,35,53,35],[51,36,53,36],[54,1,55,1],[54,4,55,4],[54,10,56,11],[54,18,56,20],[54,28,56,28],[54,30,56,30],[54,31,56,31],[54,32,56,32],[51,34,53,34],[51,1,52,1],[51,4,52,4],[51,10,53,11],[51,15,53,17],[51,28,53,28],[51,30,53,30],[51,31,53,31],[51,32,53,32],[51,33,53,33],[51,37,53,37],[51,38,53,38],[51,39,53,39],[54,39,56,39],[54,40,56,40],[54,41,56,41],[54,35,56,35],[54,36,56,36],[57,38,59,38],[57,39,59,39],[57,40,59,40],[57,41,59,41],[60,1,61,1],[60,4,61,4],[61,12,61,23],[57,32,59,32],[57,33,59,33],[57,34,59,34],[57,35,59,35],[57,36,59,36],[57,37,59,37],[57,1,58,1],[57,4,58,4],[57,10,59,11],[57,21,59,23],[57,28,59,28],[57,30,59,30],[57,31,59,31],[71,2,71,5],[72,2,72,5],[75,1,76,5],[75,12,78,14],[75,15,78,17],[75,18,78,20],[63,1,64,1],[63,4,64,4],[66,1,67,1],[66,4,67,4],[69,2,69,5],[70,2,70,5],[77,34,77,35],[77,36,77,37],[77,38,77,39],[77,41,78,41],[78,1,79,2],[79,10,81,11],[79,12,81,14],[79,28,81,28],[79,30,81,30],[79,31,81,31],[75,21,78,23],[76,10,78,11],[76,25,78,27],[76,28,78,28],[77,30,77,31],[77,32,77,33],[79,38,81,38],[79,39,81,39],[79,40,81,40],[79,41,81,41],[79,35,81,35],[79,36,81,36],[79,37,81,37],[82,1,83,1],[82,4,83,4],[82,10,84,11],[82,15,84,17],[82,28,84,28],[82,30,84,30],[79,32,81,32],[79,33,81,33],[79,34,81,34],[82,37,84,37],[82,38,84,38],[82,39,84,39],[82,40,84,40],[82,41,84,41],[85,1,86,1],[85,4,86,4],[85,10,87,11],[85,18,87,20],[85,28,87,28],[82,31,84,31],[82,32,84,32],[82,33,84,33],[82,34,84,34],[82,35,84,35],[82,36,84,36],[85,36,87,36],[85,37,87,37],[85,38,87,38],[85,39,87,39],[85,40,87,40],[85,41,87,41],[85,30,87,30],[85,31,87,31],[85,32,87,32],[85,33,87,33],[85,34,87,34],[85,35,87,35],[94,1,95,1],[94,4,95,4],[97,1,98,1],[97,4,98,4],[88,37,90,37],[88,38,90,38],[88,39,90,39],[88,40,90,40],[88,41,90,41],[91,1,92,1],[91,4,92,4],[92,12,92,23],[88,31,90,31],[88,32,90,32],[88,33,90,33],[88,34,90,34],[88,35,90,35],[88,36,90,36],[88,1,89,1],[88,4,89,4],[88,10,90,11],[88,21,90,23],[88,28,90,28],[88,30,90,30]]}
[]
[null,null,null,null,null,null,null,null,null,null,null,null,"LIGUE MÉDITERRANÉENNE DE BILLARD"]
[null,"CLUB ORGANISATEUR",null,"19009 – CLUB BILLARD ISTREEN"]
[]
[]
[null,"DIRECTEUR DE JEU :",null,"tutu"]
[null,null,null,null,null,null,null,null,null,null,null,null,"Compétition",null,null,null,null,"Mode de jeu",null,null,"Categorie",null,null,"Format billard",null,null,null,"Distance"]
[null,null,null,null,null,null,null,null,null,null,null,null,"TOURNOI N°6",null,null,null,null,"LIBRE",null,null,"R3"]
[null,"Joueur 1",{"$f":"'Saisie des joueurs'!K18","v":0}]
[null,"Joueur 2",{"$f":"'Saisie des joueurs'!K19","v":0}]
[null,"Joueur 3",{"$f":"'Saisie des joueurs'!K20","v":0}]
[null,"Joueur 4",{"$f":"'Saisie des joueurs'!K21","v":0}]
[]
[null,"SAISIE DES RESULTATS",null,null,null,null,null,null,null,null,null,null,{"$f":"C9","v":0},null,null,{"$f":"C10","v":0},null,null,{"$f":"C11","v":0},null,null,{"$f":"C12","v":0}]
[null,null,null,null,null,null,null,null,null,null,null,null,null,null,null,null,null,null,null,null,null,null,null,null,null,"TOTAUX",null,null,"CLASSEMENT"]
[null,null,null,null,null,null,null,null,null,null,null,null,null,null,null,null,null,null,null,null,null,null,null,null,null,null,null,null,null,null,"Classement",null,"Classement",null,"Classement",null,"Classement",null,"Classement",null,"GENERAL","RANG"]
[null,"POULE A",null,null,null,null,null,null,null,null,null,null,null,null,null,null,null,null,null,null,null,null,null,null,null,null,null,null,null,null,"Point-Match","CLS-M","Moy-Gen","CLS-G","Moy-Part","CLS-P","M-Series","CLS-S","MGPS","CLS","CLS"]
[null,null,null,null,null,null,null,null,null,null,{"$f":"C9","v":0},null,"L",null,null,{"$f":"D33","v":0},null,{"$f":"E33","v":0},{"$f":"D27","v":0},null,{"$f":"E27","v":0},{"$f":"D21","v":0},null,{"$f":"E21","v":0},null,{"$f":"P18+S18+V18","v":0},null,{"$f":"R18+U18+X18","v":0},{"$f":"AP18","v":{"$error":"#DIV/0!"}},null,{"$f":"AA19","v":0.03},{"$f":"RANK(AE18,AE$18:AE$29,0)","v":1},{"$f":"AB20","v":{"$error":"#DIV/0!"}},{"$f":"RANK(AG18,AG$18:AG$29,0)","v":{"$error":"#DIV/0!"}},{"$f":"MAX(R20,U20,X20)","v":{"$error":"#DIV/0!"}},{"$f":"RANK(AI18,AI$18:AI$29)","v":{"$error":"#DIV/0!"}},{"$f":"Z20","v":0},{"$f":"RANK(AK18,AK$18:AK$29)","v":1},{"$f":"(AF18*1000)+(AH18*100)+(AJ18*10)+(AL18*1)","v":{"$error":"#DIV/0!"}},{"$f":"AM18","v":{"$error":"#DIV/0!"}},{"$f":"RANK(AN18,AN$18:AN$29,1)","v":{"$error":"#DIV/0!"}},{"$f":"RANK(AO18,AO$18:AO$29,1)","v":{"$error":"#DIV/0!"}}]
[null,null,null,null,null,null,null,null,null,null,null,null,null,null,null,null,{"$f":"IF(R18<1,0.01,IF(P18>M21,2,IF(P18=M21,1,0)))","v":0.01},null,null,{"$f":"IF(U18<1,0.01,IF(S18>M24,2,IF(S18=M24,1,0)))","v":0.01},null,null,{"$f":"IF(X18<1,0.01,IF(V18>M27,2,IF(V18=M27,1,0)))","v":0.01},null,null,null,{"$f":"Q19+T19+W19","v":0.03}]
[null,null,null,"Pts","Rep","Série",null,null,null,null,null,null,null,null,null,{"$f":"F33","v":0},null,{"$f":"P18/R18","v":{"$error":"#DIV/0!"}},{"$f":"F27","v":0},null,{"$f":"S18/U18","v":{"$error":"#DIV/0!"}},{"$f":"F21","v":0},null,{"$f":"V18/X18","v":{"$error":"#DIV/0!"}},null,{"$f":"MAX(P20,S20,V20)","v":0},null,{"$f":"Z18/AB18","v":{"$error":"#DIV/0!"}}]
[null,"Tour 1",{"$f":"C9","v":0},null,null,null,null,null,null,null,{"$f":"C10","v":0},null,{"$f":"D34","v":0},null,{"$f":"E33","v":0},"M",null,null,{"$f":"D24","v":0},null,{"$f":"E24","v":0},{"$f":"D31","v":0},null,{"$f":"E30","v":0},null,{"$f":"M21+S21+V21","v":0},null,{"$f":"O21+U21+X21","v":0},{"$f":"AP21","v":{"$error":"#DIV/0!"}},null,{"$f":"AA22","v":0.03},{"$f":"RANK(AE21,AE$18:AE$29,0)","v":1},{"$f":"AB23","v":{"$error":"#DIV/0!"}},{"$f":"RANK(AG21,AG$18:AG$29,0)","v":{"$error":"#DIV/0!"}},{"$f":"MAX(O23,U23,X23)","v":{"$error":"#DIV/0!"}},{"$f":"RANK(AI21,AI$18:AI$29)","v":{"$error":"#DIV/0!"}},{"$f":"Z23","v":0},{"$f":"RANK(AK21,AK$18:AK$29)","v":1},{"$f":"(AF21*1000)+(AH21*100)+(AJ21*10)+(AL21*1)","v":{"$error":"#DIV/0!"}},{"$f":"AM21","v":{"$error":"#DIV/0!"}},{"$f":"RANK(AN21,AN$18:AN$29,1)","v":{"$error":"#DIV/0!"}},{"$f":"RANK(AO21,AO$18:AO$29,1)","v":{"$error":"#DIV/0!"}}]
[null,null,{"$f":"C12","v":0},null,null,null,null,null,null,null,null,null,null,{"$f":"IF(R18>0,2-Q19,0.01)","v":0.01},null,null,null,null,null,{"$f":"IF(U21<1,0.01,IF(S21>P24,2,IF(S21=P24,1,0)))","v":0.01},null,null,{"$f":"IF(X21<1,0.01,IF(V21>P27,2,IF(V21=P27,1,0)))","v":0.01},null,null,null,{"$f":"N22+T22+W22","v":0.03}]
[null,null,null,null,null,null,null,null,null,null,null,null,{"$f":"F34","v":0},null,{"$f":"M21/O21","v":{"$error":"#DIV/0!"}},null,null,null,{"$f":"F24","v":0},null,{"$f":"S21/U21","v":{"$error":"#DIV/0!"}},{"$f":"F31","v":0},null,{"$f":"V21/X21","v":{"$error":"#DIV/0!"}},null,{"$f":"MAXA(M23,S23,V23)","v":0},null,{"$f":"Z21/AB21","v":{"$error":"#DIV/0!"}}]
[null,"Tour 2",{"$f":"C10","v":0},null,null,null,null,null,null,null,{"$f":"C11","v":0},null,{"$f":"D28","v":0},null,{"$f":"E27","v":0},{"$f":"D25","v":0},null,{"$f":"E24","v":0},"B",null,null,{"$f":"D36","v":0},null,{"$f":"E36","v":0},null,{"$f":"M24+P24+V24","v":0},null,{"$f":"O24+R24+X24","v":0},{"$f":"AP24","v":{"$error":"#DIV/0!"}},null,{"$f":"AA25","v":0.03},{"$f":"RANK(AE24,AE$18:AE$29,0)","v":1},{"$f":"AB26","v":{"$error":"#DIV/0!"}},{"$f":"RANK(AG24,AG$18:AG$29,0)","v":{"$error":"#DIV/0!"}},{"$f":"MAX(O26,R26,X26)","v":{"$error":"#DIV/0!"}},{"$f":"RANK(AI24,AI$18:AI$29)","v":{"$error":"#DIV/0!"}},{"$f":"Z26","v":0},{"$f":"RANK(AK24,AK$18:AK$29)","v":1},{"$f":"(AF24*1000)+(AH24*100)+(AJ24*10)+(AL24*1)","v":{"$error":"#DIV/0!"}},{"$f":"AM24","v":{"$error":"#DIV/0!"}},{"$f":"RANK(AN24,AN$18:AN$29,1)","v":{"$error":"#DIV/0!"}},{"$f":"RANK(AO24,AO$18:AO$29,1)","v":{"$error":"#DIV/0!"}}]
[null,null,{"$f":"C11","v":0},null,null,null,null,null,null,null,null,null,null,{"$f":"IF(U18>0,2-T19,0.01)","v":0.01},null,null,{"$f":"IF(U21>0,2-T22,0.01)","v":0.01},null,null,null,null,null,{"$f":"IF(X24<1,0.01,IF(V24>S27,2,IF(V24=S27,1,0)))","v":0.01},null,null,null,{"$f":"N25+Q25+W25","v":0.03}]
[null,null,null,null,null,null,null,null,null,null,null,null,{"$f":"F28","v":0},null,{"$f":"M24/O24","v":{"$error":"#DIV/0!"}},{"$f":"F25","v":0},null,{"$f":"P24/R24","v":{"$error":"#DIV/0!"}},null,null,null,{"$f":"F36","v":0},null,{"$f":"V24/X24","v":{"$error":"#DIV/0!"}},null,{"$f":"MAXA(M26,P26,V26)","v":0},null,{"$f":"Z24/AB24","v":{"$error":"#DIV/0!"}}]
[null,"Tour 3",{"$f":"C9","v":0},null,null,null,null,null,null,null,{"$f":"C12","v":0},null,{"$f":"D22","v":0},null,{"$f":"E21","v":0},{"$f":"D30","v":0},null,{"$f":"E30","v":0},{"$f":"D37","v":0},null,{"$f":"E36","v":0},null,null,null,null,{"$f":"M27+P27+S27","v":0},null,{"$f":"O27+R27+U27","v":0},{"$f":"AP27","v":{"$error":"#DIV/0!"}},null,{"$f":"AA28","v":0.03},{"$f":"RANK(AE27,AE$18:AE$29,0)","v":1},{"$f":"AB29","v":{"$error":"#DIV/0!"}},{"$f":"RANK(AG27,AG$18:AG$29,0)","v":{"$error":"#DIV/0!"}},{"$f":"MAX(O29,R29,U29)","v":{"$error":"#DIV/0!"}},{"$f":"RANK(AI27,AI$18:AI$29)","v":{"$error":"#DIV/0!"}},{"$f":"Z29","v":0},{"$f":"RANK(AK27,AK$18:AK$29)","v":1},{"$f":"(AF27*1000)+(AH27*100)+(AJ27*10)+(AL27*1)","v":{"$error":"#DIV/0!"}},{"$f":"AM27","v":{"$error":"#DIV/0!"}},{"$f":"RANK(AN27,AN$18:AN$29,1)","v":{"$error":"#DIV/0!"}},{"$f":"RANK(AO27,AO$18:AO$29,1)","v":{"$error":"#DIV/0!"}}]
[null,null,{"$f":"C11","v":0},null,null,null,null,null,null,null,null,null,null,{"$f":"IF(X18>0,2-W19,0.01)","v":0.01},null,null,{"$f":"IF(X21>0,2-W22,0.01)","v":0.01},null,null,{"$f":"IF(X24>0,2-W25,0.01)","v":0.01},null,null,null,null,null,null,{"$f":"N28+Q28+T28","v":0.03}]
[null,null,null,null,null,null,null,null,null,null,null,null,{"$f":"F22","v":0},null,{"$f":"M27/O27","v":{"$error":"#DIV/0!"}},{"$f":"F30","v":0},null,{"$f":"P27/R27","v":{"$error":"#DIV/0!"}},{"$f":"F37","v":0},null,{"$f":"S27/U27","v":{"$error":"#DIV/0!"}},null,null,null,null,{"$f":"MAXA(M29,P29,S29)","v":0},null,{"$f":"Z27/AB27","v":{"$error":"#DIV/0!"}}]
[null,"Tour 4",{"$f":"C12","v":0}]
[null,null,{"$f":"C10","v":0},null,null,null,null,null,null,null,null,null,"Pas de prolongation en cas de match nul."]
[]
[null,"Tour 5",{"$f":"C9","v":0}]
[null,null,{"$f":"C10","v":0}]
[]
[null,"Tour 6",{"$f":"C11","v":0}]
[null,null,{"$f":"C12","v":0}]
[]
[null,"Joueur 1",{"$f":"'Saisie des joueurs'!K22","v":0}]
[null,"Joueur 2",{"$f":"'Saisie des joueurs'!K23","v":0}]
[null,"Joueur 3",{"$f":"'Saisie des joueurs'!K24","v":0}]
[null,"Joueur 4",{"$f":"'Saisie des joueurs'!K25","v":0}]
[]
[]
[null,"SAISIE DES RESULTATS",null,null,null,null,null,null,null,null,null,null,{"$f":"C39","v":0},null,null,{"$f":"C40","v":0},null,null,{"$f":"C41","v":0},null,null,{"$f":"C42","v":0}]
[null,null,null,null,null,null,null,null,null,null,null,null,null,null,null,null,null,null,null,null,null,null,null,null,null,"TOTAUX",null,null,"CLASSEMENT"]
[null,null,null,null,null,null,null,null,null,null,null,null,null,null,null,null,null,null,null,null,null,null,null,null,null,null,null,null,null,null,"Classement",null,"Classement",null,"Classement",null,"Classement",null,"Classement",null,"GENERAL","RANG"]
[null,"POULE B",null,null,null,null,null,null,null,null,null,null,null,null,null,null,null,null,null,null,null,null,null,null,null,null,null,null,null,null,"Point-Match","CLS-M","Moy-Gen","CLS-G","Moy-Part","CLS-P","M-Series","CLS-S","MGPS","CLS","CLS"]
[null,null,null,null,null,null,null,null,null,null,{"$f":"C39","v":0},null,"L",null,null,{"$f":"D64","v":0},null,{"$f":"E64","v":0},{"$f":"D58","v":0},null,{"$f":"E58","v":0},{"$f":"D52","v":0},null,{"$f":"E52","v":0},null,{"$f":"P49+S49+V49","v":0},null,{"$f":"R49+U49+X49","v":0},{"$f":"AP49","v":{"$error":"#DIV/0!"}},null,{"$f":"AA50","v":0.03},{"$f":"RANK(AE49,AE$49:AE$60,0)","v":1},{"$f":"AB51","v":{"$error":"#DIV/0!"}},{"$f":"RANK(AG49,AG$49:AG$60,0)","v":{"$error":"#DIV/0!"}},{"$f":"MAX(R51,U51,X51)","v":{"$error":"#DIV/0!"}},{"$f":"RANK(AI49,AI$49:AI$60)","v":{"$error":"#DIV/0!"}},{"$f":"Z51","v":0},{"$f":"RANK(AK49,AK$49:AK$60)","v":1},{"$f":"(AF49*1000)+(AH49*100)+(AJ49*10)+(AL49*1)","v":{"$error":"#DIV/0!"}},{"$f":"AM49","v":{"$error":"#DIV/0!"}},{"$f":"RANK(AN49,AN$49:AN$60,1)","v":{"$error":"#DIV/0!"}},{"$f":"RANK(AO49,AO$49:AO$60,1)","v":{"$error":"#DIV/0!"}}]
[null,null,null,null,null,null,null,null,null,null,null,null,null,null,null,null,{"$f":"IF(R49<1,0.01,IF(P49>M52,2,IF(P49=M52,1,0)))","v":0.01},null,null,{"$f":"IF(U49<1,0.01,IF(S49>M55,2,IF(S49=M55,1,0)))","v":0.01},null,null,{"$f":"IF(X49<1,0.01,IF(V49>M58,2,IF(V49=M58,1,0)))","v":0.01},null,null,null,{"$f":"Q50+T50+W50","v":0.03}]
[null,null,null,"Pts","Rep","Série",null,null,null,null,null,null,null,null,null,{"$f":"F64","v":0},null,{"$f":"P49/R49","v":{"$error":"#DIV/0!"}},{"$f":"F58","v":0},null,{"$f":"S49/U49","v":{"$error":"#DIV/0!"}},{"$f":"F52","v":0},null,{"$f":"V49/X49","v":{"$error":"#DIV/0!"}},null,{"$f":"MAX(P51,S51,V51)","v":0},null,{"$f":"Z49/AB49","v":{"$error":"#DIV/0!"}}]
[null,"Tour 1",{"$f":"C39","v":0},null,null,null,null,null,null,null,{"$f":"C40","v":0},null,{"$f":"D65","v":0},null,{"$f":"E64","v":0},"M",null,null,{"$f":"D55","v":0},null,{"$f":"E55","v":0},{"$f":"D62","v":0},null,{"$f":"E61","v":0},null,{"$f":"M52+S52+V52","v":0},null,{"$f":"O52+U52+X52","v":0},{"$f":"AP52","v":{"$error":"#DIV/0!"}},null,{"$f":"AA53","v":0.03},{"$f":"RANK(AE52,AE$49:AE$60,0)","v":1},{"$f":"AB54","v":{"$error":"#DIV/0!"}},{"$f":"RANK(AG52,AG$49:AG$60,0)","v":{"$error":"#DIV/0!"}},{"$f":"MAX(O54,U54,X54)","v":{"$error":"#DIV/0!"}},{"$f":"RANK(AI52,AI$49:AI$60)","v":{"$error":"#DIV/0!"}},{"$f":"Z54","v":0},{"$f":"RANK(AK52,AK$49:AK$60)","v":1},{"$f":"(AF52*1000)+(AH52*100)+(AJ52*10)+(AL52*1)","v":{"$error":"#DIV/0!"}},{"$f":"AM52","v":{"$error":"#DIV/0!"}},{"$f":"RANK(AN52,AN$49:AN$60,1)","v":{"$error":"#DIV/0!"}},{"$f":"RANK(AO52,AO$49:AO$60,1)","v":{"$error":"#DIV/0!"}}]
[null,null,{"$f":"C42","v":0},null,null,null,null,null,null,null,null,null,null,{"$f":"IF(R49>0,2-Q50,0.01)","v":0.01},null,null,null,null,null,{"$f":"IF(U52<1,0.01,IF(S52>P55,2,IF(S52=P55,1,0)))","v":0.01},null,null,{"$f":"IF(X52<1,0.01,IF(V52>P58,2,IF(V52=P58,1,0)))","v":0.01},null,null,null,{"$f":"N53+T53+W53","v":0.03}]
[null,null,null,null,null,null,null,null,null,null,null,null,{"$f":"F65","v":0},null,{"$f":"M52/O52","v":{"$error":"#DIV/0!"}},null,null,null,{"$f":"F55","v":0},null,{"$f":"S52/U52","v":{"$error":"#DIV/0!"}},{"$f":"F62","v":0},null,{"$f":"V52/X52","v":{"$error":"#DIV/0!"}},null,{"$f":"MAXA(M54,S54,V54)","v":0},null,{"$f":"Z52/AB52","v":{"$error":"#DIV/0!"}}]
[null,"Tour 2",{"$f":"C40","v":0},null,null,null,null,null,null,null,{"$f":"C41","v":0},null,{"$f":"D59","v":0},null,{"$f":"E58","v":0},{"$f":"D56","v":0},null,{"$f":"E55","v":0},"B",null,null,{"$f":"D67","v":0},null,{"$f":"E67","v":0},null,{"$f":"M55+P55+V55","v":0},null,{"$f":"O55+R55+X55","v":0},{"$f":"AP55","v":{"$error":"#DIV/0!"}},null,{"$f":"AA56","v":0.03},{"$f":"RANK(AE55,AE$49:AE$60,0)","v":1},{"$f":"AB57","v":{"$error":"#DIV/0!"}},{"$f":"RANK(AG55,AG$49:AG$60,0)","v":{"$error":"#DIV/0!"}},{"$f":"MAX(O57,R57,X57)","v":{"$error":"#DIV/0!"}},{"$f":"RANK(AI55,AI$49:AI$60)","v":{"$error":"#DIV/0!"}},{"$f":"Z57","v":0},{"$f":"RANK(AK55,AK$49:AK$60)","v":1},{"$f":"(AF55*1000)+(AH55*100)+(AJ55*10)+(AL55*1)","v":{"$error":"#DIV/0!"}},{"$f":"AM55","v":{"$error":"#DIV/0!"}},{"$f":"RANK(AN55,AN$49:AN$60,1)","v":{"$error":"#DIV/0!"}},{"$f":"RANK(AO55,AO$49:AO$60,1)","v":{"$error":"#DIV/0!"}}]
[null,null,{"$f":"C41","v":0},null,null,null,null,null,null,null,null,null,null,{"$f":"IF(U49>0,2-T50,0.01)","v":0.01},null,null,{"$f":"IF(U52>0,2-T53,0.01)","v":0.01},null,null,null,null,null,{"$f":"IF(X55<1,0.01,IF(V55>S58,2,IF(V55=S58,1,0)))","v":0.01},null,null,null,{"$f":"N56+Q56+W56","v":0.03}]
[null,null,null,null,null,null,null,null,null,null,null,null,{"$f":"F59","v":0},null,{"$f":"M55/O55","v":{"$error":"#DIV/0!"}},{"$f":"F56","v":0},null,{"$f":"P55/R55","v":{"$error":"#DIV/0!"}},null,null,null,{"$f":"F67","v":0},null,{"$f":"V55/X55","v":{"$error":"#DIV/0!"}},null,{"$f":"MAXA(M57,P57,V57)","v":0},null,{"$f":"Z55/AB55","v":{"$error":"#DIV/0!"}}]
[null,"Tour 3",{"$f":"C39","v":0},null,null,null,null,null,null,null,{"$f":"C42","v":0},null,{"$f":"D53","v":0},null,{"$f":"E52","v":0},{"$f":"D61","v":0},null,{"$f":"E61","v":0},{"$f":"D68","v":0},null,{"$f":"E67","v":0},null,null,null,null,{"$f":"M58+P58+S58","v":0},null,{"$f":"O58+R58+U58","v":0},{"$f":"AP58","v":{"$error":"#DIV/0!"}},null,{"$f":"AA59","v":0.03},{"$f":"RANK(AE58,AE$49:AE$60,0)","v":1},{"$f":"AB60","v":{"$error":"#DIV/0!"}},{"$f":"RANK(AG58,AG$49:AG$60,0)","v":{"$error":"#DIV/0!"}},{"$f":"MAX(O60,R60,U60)","v":{"$error":"#DIV/0!"}},{"$f":"RANK(AI58,AI$49:AI$60)","v":{"$error":"#DIV/0!"}},{"$f":"Z60","v":0},{"$f":"RANK(AK58,AK$49:AK$60)","v":1},{"$f":"(AF58*1000)+(AH58*100)+(AJ58*10)+(AL58*1)","v":{"$error":"#DIV/0!"}},{"$f":"AM58","v":{"$error":"#DIV/0!"}},{"$f":"RANK(AN58,AN$49:AN$60,1)","v":{"$error":"#DIV/0!"}},{"$f":"RANK(AO58,AO$49:AO$60,1)","v":{"$error":"#DIV/0!"}}]
[null,null,{"$f":"C41","v":0},null,null,null,null,null,null,null,null,null,null,{"$f":"IF(X49>0,2-W50,0.01)","v":0.01},null,null,{"$f":"IF(X52>0,2-W53,0.01)","v":0.01},null,null,{"$f":"IF(X55>0,2-W56,0.01)","v":0.01},null,null,null,null,null,null,{"$f":"N59+Q59+T59","v":0.03}]
[null,null,null,null,null,null,null,null,null,null,null,null,{"$f":"F53","v":0},null,{"$f":"M58/O58","v":{"$error":"#DIV/0!"}},{"$f":"F61","v":0},null,{"$f":"P58/R58","v":{"$error":"#DIV/0!"}},{"$f":"F68","v":0},null,{"$f":"S58/U58","v":{"$error":"#DIV/0!"}},null,null,null,null,{"$f":"MAXA(M60,P60,S60)","v":0},null,{"$f":"Z58/AB58","v":{"$error":"#DIV/0!"}}]
[null,"Tour 4",{"$f":"C42","v":0}]
[null,null,{"$f":"C40","v":0},null,null,null,null,null,null,null,null,null,"Pas de prolongation en cas de match nul."]
[]
[null,"Tour 5",{"$f":"C39","v":0}]
[null,null,{"$f":"C40","v":0}]
[]
[null,"Tour 6",{"$f":"C41","v":0}]
[null,null,{"$f":"C42","v":0}]
[]
[null,"Joueur 1",{"$f":"'Saisie des joueurs'!K26","v":0}]
[null,"Joueur 2",{"$f":"'Saisie des joueurs'!K27","v":0}]
[null,"Joueur 3",{"$f":"'Saisie des joueurs'!K28","v":0}]
[null,"Joueur 4",{"$f":"'Saisie des joueurs'!K29","v":0}]
[]
[]
[null,"SAISIE DES RESULTATS",null,null,null,null,null,null,null,null,null,null,{"$f":"C70","v":0},null,null,{"$f":"C71","v":0},null,null,{"$f":"C72","v":0},null,null,{"$f":"C73","v":0}]
[null,null,null,null,null,null,null,null,null,null,null,null,null,null,null,null,null,null,null,null,null,null,null,null,null,"TOTAUX",null,null,"CLASSEMENT"]
[null,null,null,null,null,null,null,null,null,null,null,null,null,null,null,null,null,null,null,null,null,null,null,null,null,null,null,null,null,null,"Classement",null,"Classement",null,"Classement",null,"Classement",null,"Classement",null,"GENERAL","RANG"]
[null,"POULE C",null,null,null,null,null,null,null,null,null,null,null,null,null,null,null,null,null,null,null,null,null,null,null,null,null,null,null,null,"Point-Match","CLS-M","Moy-Gen","CLS-G","Moy-Part","CLS-P","M-Series","CLS-S","MGPS","CLS","CLS"]
[null,null,null,null,null,null,null,null,null,null,{"$f":"C70","v":0},null,"L",null,null,{"$f":"D95","v":0},null,{"$f":"E95","v":0},{"$f":"D89","v":0},null,{"$f":"E89","v":0},{"$f":"D83","v":0},null,{"$f":"E83","v":0},null,{"$f":"P80+S80+V80","v":0},null,{"$f":"R80+U80+X80","v":0},{"$f":"AP80","v":{"$error":"#DIV/0!"}},null,{"$f":"AA81","v":0.03},{"$f":"RANK(AE80,AE$80:AE$91,0)","v":1},{"$f":"AB82","v":{"$error":"#DIV/0!"}},{"$f":"RANK(AG80,AG$80:AG$91,0)","v":{"$error":"#DIV/0!"}},{"$f":"MAX(R82,U82,X82)","v":{"$error":"#DIV/0!"}},{"$f":"RANK(AI80,AI$80:AI$91)","v":{"$error":"#DIV/0!"}},{"$f":"Z82","v":0},{"$f":"RANK(AK80,AK$49:AK$60)","v":1},{"$f":"(AF80*1000)+(AH80*100)+(AJ80*10)+(AL80*1)","v":{"$error":"#DIV/0!"}},{"$f":"AM80","v":{"$error":"#DIV/0!"}},{"$f":"RANK(AN80,AN$80:AN$91,1)","v":{"$error":"#DIV/0!"}},{"$f":"RANK(AO80,AO$80:AO$91,1)","v":{"$error":"#DIV/0!"}}]
[null,null,null,null,null,null,null,null,null,null,null,null,null,null,null,null,{"$f":"IF(R80<1,0.01,IF(P80>M83,2,IF(P80=M83,1,0)))","v":0.01},null,null,{"$f":"IF(U80<1,0.01,IF(S80>M86,2,IF(S80=M86,1,0)))","v":0.01},null,null,{"$f":"IF(X80<1,0.01,IF(V80>M89,2,IF(V80=M89,1,0)))","v":0.01},null,null,null,{"$f":"Q81+T81+W81","v":0.03}]
[null,null,null,null,null,null,null,null,null,null,null,null,null,null,null,{"$f":"F95","v":0},null,{"$f":"P80/R80","v":{"$error":"#DIV/0!"}},{"$f":"F89","v":0},null,{"$f":"S80/U80","v":{"$error":"#DIV/0!"}},{"$f":"F83","v":0},null,{"$f":"V80/X80","v":{"$error":"#DIV/0!"}},null,{"$f":"MAX(P82,S82,V82)","v":0},null,{"$f":"Z80/AB80","v":{"$error":"#DIV/0!"}}]
[null,"Tour 1",{"$f":"C70","v":0},null,null,null,null,null,null,null,{"$f":"C71","v":0},null,{"$f":"D96","v":0},null,{"$f":"E95","v":0},"M",null,null,{"$f":"D86","v":0},null,{"$f":"E86","v":0},{"$f":"D93","v":0},null,{"$f":"E92","v":0},null,{"$f":"M83+S83+V83","v":0},null,{"$f":"O83+U83+X83","v":0},{"$f":"AP83","v":{"$error":"#DIV/0!"}},null,{"$f":"AA84","v":0.03},{"$f":"RANK(AE83,AE$80:AE$91,0)","v":1},{"$f":"AB85","v":{"$error":"#DIV/0!"}},{"$f":"RANK(AG83,AG$80:AG$91,0)","v":{"$error":"#DIV/0!"}},{"$f":"MAX(O85,U85,X85)","v":{"$error":"#DIV/0!"}},{"$f":"RANK(AI83,AI$80:AI$91)","v":{"$error":"#DIV/0!"}},{"$f":"Z85","v":0},{"$f":"RANK(AK83,AK$49:AK$60)","v":1},{"$f":"(AF83*1000)+(AH83*100)+(AJ83*10)+(AL83*1)","v":{"$error":"#DIV/0!"}},{"$f":"AM83","v":{"$error":"#DIV/0!"}},{"$f":"RANK(AN83,AN$80:AN$91,1)","v":{"$error":"#DIV/0!"}},{"$f":"RANK(AO83,AO$80:AO$91,1)","v":{"$error":"#DIV/0!"}}]
[null,null,{"$f":"C73","v":0},null,null,null,null,null,null,null,null,null,null,{"$f":"IF(R80>0,2-Q81,0.01)","v":0.01},null,null,null,null,null,{"$f":"IF(U83<1,0.01,IF(S83>P86,2,IF(S83=P86,1,0)))","v":0.01},null,null,{"$f":"IF(X83<1,0.01,IF(V83>P89,2,IF(V83=P89,1,0)))","v":0.01},null,null,null,{"$f":"N84+T84+W84","v":0.03}]
[null,null,null,null,null,null,null,null,null,null,null,null,{"$f":"F96","v":0},null,{"$f":"M83/O83","v":{"$error":"#DIV/0!"}},null,null,null,{"$f":"F86","v":0},null,{"$f":"S83/U83","v":{"$error":"#DIV/0!"}},{"$f":"F93","v":0},null,{"$f":"V83/X83","v":{"$error":"#DIV/0!"}},null,{"$f":"MAXA(M85,S85,V85)","v":0},null,{"$f":"Z83/AB83","v":{"$error":"#DIV/0!"}}]
[null,"Tour 2",{"$f":"C71","v":0},null,null,null,null,null,null,null,{"$f":"C72","v":0},null,{"$f":"D90","v":0},null,{"$f":"E89","v":0},{"$f":"D87","v":0},null,{"$f":"E86","v":0},"B",null,null,{"$f":"D98","v":0},null,{"$f":"E98","v":0},null,{"$f":"M86+P86+V86","v":0},null,{"$f":"O86+R86+X86","v":0},{"$f":"AP86","v":{"$error":"#DIV/0!"}},null,{"$f":"AA87","v":0.03},{"$f":"RANK(AE86,AE$80:AE$91,0)","v":1},{"$f":"AB88","v":{"$error":"#DIV/0!"}},{"$f":"RANK(AG86,AG$80:AG$91,0)","v":{"$error":"#DIV/0!"}},{"$f":"MAX(O88,R88,X88)","v":{"$error":"#DIV/0!"}},{"$f":"RANK(AI86,AI$80:AI$91)","v":{"$error":"#DIV/0!"}},{"$f":"Z88","v":0},{"$f":"RANK(AK86,AK$49:AK$60)","v":1},{"$f":"(AF86*1000)+(AH86*100)+(AJ86*10)+(AL86*1)","v":{"$error":"#DIV/0!"}},{"$f":"AM86","v":{"$error":"#DIV/0!"}},{"$f":"RANK(AN86,AN$80:AN$91,1)","v":{"$error":"#DIV/0!"}},{"$f":"RANK(AO86,AO$80:AO$91,1)","v":{"$error":"#DIV/0!"}}]
[null,null,{"$f":"C72","v":0},null,null,null,null,null,null,null,null,null,null,{"$f":"IF(U80>0,2-T81,0.01)","v":0.01},null,null,{"$f":"IF(U83>0,2-T84,0.01)","v":0.01},null,null,null,null,null,{"$f":"IF(X86<1,0.01,IF(V86>S89,2,IF(V86=S89,1,0)))","v":0.01},null,null,null,{"$f":"N87+Q87+W87","v":0.03}]
[null,null,null,null,null,null,null,null,null,null,null,null,{"$f":"F90","v":0},null,{"$f":"M86/O86","v":{"$error":"#DIV/0!"}},{"$f":"F87","v":0},null,{"$f":"P86/R86","v":{"$error":"#DIV/0!"}},null,null,null,{"$f":"F98","v":0},null,{"$f":"V86/X86","v":{"$error":"#DIV/0!"}},null,{"$f":"MAXA(M88,P88,V88)","v":0},null,{"$f":"Z86/AB86","v":{"$error":"#DIV/0!"}}]
[null,"Tour 3",{"$f":"C70","v":0},null,null,null,null,null,null,null,{"$f":"C73","v":0},null,{"$f":"D84","v":0},null,{"$f":"E83","v":0},{"$f":"D92","v":0},null,{"$f":"E92","v":0},{"$f":"D99","v":0},null,{"$f":"E98","v":0},null,null,null,null,{"$f":"M89+P89+S89","v":0},null,{"$f":"O89+R89+U89","v":0},{"$f":"AP89","v":{"$error":"#DIV/0!"}},null,{"$f":"AA90","v":0.03},{"$f":"RANK(AE89,AE$80:AE$91,0)","v":1},{"$f":"AB91","v":{"$error":"#DIV/0!"}},{"$f":"RANK(AG89,AG$80:AG$91,0)","v":{"$error":"#DIV/0!"}},{"$f":"MAX(O91,R91,U91)","v":{"$error":"#DIV/0!"}},{"$f":"RANK(AI89,AI$80:AI$91)","v":{"$error":"#DIV/0!"}},{"$f":"Z91","v":0},{"$f":"RANK(AK89,AK$49:AK$60)","v":1},{"$f":"(AF89*1000)+(AH89*100)+(AJ89*10)+(AL89*1)","v":{"$error":"#DIV/0!"}},{"$f":"AM89","v":{"$error":"#DIV/0!"}},{"$f":"RANK(AN89,AN$80:AN$91,1)","v":{"$error":"#DIV/0!"}},{"$f":"RANK(AO89,AO$80:AO$91,1)","v":{"$error":"#DIV/0!"}}]
[null,null,{"$f":"C72","v":0},null,null,null,null,null,null,null,null,null,null,{"$f":"IF(X80>0,2-W81,0.01)","v":0.01},null,null,{"$f":"IF(X83>0,2-W84,0.01)","v":0.01},null,null,{"$f":"IF(X86>0,2-W87,0.01)","v":0.01},null,null,null,null,null,null,{"$f":"N90+Q90+T90","v":0.03}]
[null,null,null,null,null,null,null,null,null,null,null,null,{"$f":"F84","v":0},null,{"$f":"M89/O89","v":{"$error":"#DIV/0!"}},{"$f":"F92","v":0},null,{"$f":"P89/R89","v":{"$error":"#DIV/0!"}},{"$f":"F99","v":0},null,{"$f":"S89/U89","v":{"$error":"#DIV/0!"}},null,null,null,null,{"$f":"MAXA(M91,P91,S91)","v":0},null,{"$f":"Z89/AB89","v":{"$error":"#DIV/0!"}}]
[null,"Tour 4",{"$f":"C73","v":0}]
[null,null,{"$f":"C71","v":0},null,null,null,null,null,null,null,null,null,"Pas de prolongation en cas de match nul."]
[]
[null,"Tour 5",{"$f":"C70","v":0}]
[null,null,{"$f":"C71","v":0}]
[]
[null,"Tour 6",{"$f":"C72","v":0}]
[null,null,{"$f":"C73","v":0}]

{"sheet":"13JOUEURS_MOYENNE","index":44,"n_rows":129,"n_cols":48,"rows_kept":129,"cut":false,"hidden":true,"merged":[[7,12,7,15],[7,17,7,18],[7,20,7,21],[7,23,7,25],[7,27,7,28],[8,2,8,5],[1,12,4,35],[2,1,3,2],[2,3,3,9],[5,1,6,2],[5,3,6,9],[6,12,6,15],[6,17,6,18],[6,20,6,21],[6,23,6,25],[6,27,6,28],[9,2,9,5],[10,2,10,5],[11,12,11,20],[11,21,11,29],[13,1,14,5],[13,12,16,14],[13,15,16,17],[13,18,16,20],[13,21,16,23],[13,24,16,26],[15,41,15,42],[15,43,15,44],[15,46,16,46],[16,1,17,2],[17,10,19,11],[17,12,19,14],[17,21,19,23],[17,34,19,34],[17,36,19,36],[17,37,19,37],[13,27,16,29],[13,31,16,33],[13,34,16,34],[14,10,16,11],[15,36,15,37],[15,38,15,39],[17,44,19,44],[17,45,19,45],[17,46,19,46],[17,47,19,47],[20,1,21,1],[20,4,21,4],[20,10,22,11],[20,15,22,17],[20,24,22,26],[20,34,22,34],[17,38,19,38],[17,39,19,39],[17,40,19,40],[17,41,19,41],[17,42,19,42],[17,43,19,43],[20,45,22,45],[20,46,22,46],[20,47,22,47],[20,36,22,36],[20,37,22,37],[20,38,22,38],[20,39,22,39],[20,40,22,40],[20,41,22,41],[23,1,24,1],[23,4,24,4],[23,10,25,11],[23,18,25,20],[23,27,25,29],[23,34,25,34],[20,42,22,42],[20,43,22,43],[20,44,22,44],[23,42,25,42],[23,43,25,43],[23,44,25,44],[23,45,25,45],[23,46,25,46],[23,47,25,47],[23,36,25,36],[23,37,25,37],[23,38,25,38],[23,39,25,39],[23,40,25,40],[23,41,25,41],[35,1,36,1],[35,4,36,4],[38,2,38,5],[39,2,39,5],[40,2,40,5],[41,2,41,5],[26,1,27,1],[26,4,27,4],[27,12,27,34],[29,1,30,1],[29,4,30,4],[32,1,33,1],[32,4,33,4],[42,12,42,20],[42,21,42,29],[44,1,45,5],[44,12,47,14],[44,15,47,17],[44,18,47,20],[44,21,47,23],[44,24,47,26],[44,27,47,29],[46,43,46,44],[46,46,47,46],[47,1,48,2],[48,10,50,11],[48,12,50,14],[48,21,50,23],[48,34,50,34],[48,36,50,36],[48,37,50,37],[48,38,50,38],[44,31,47,33],[44,34,47,34],[45,10,47,11],[46,36,46,37],[46,38,46,39],[46,41,46,42],[48,45,50,45],[48,46,50,46],[48,47,50,47],[51,1,52,1],[51,4,52,4],[51,10,53,11],[51,15,53,17],[51,24,53,26],[51,34,53,34],[51,36,53,36],[48,39,50,39],[48,40,50,40],[48,41,50,41],[48,42,50,42],[48,43,50,43],[48,44,50,44],[51,43,53,43],[51,44,53,44],[51,45,53,45],[51,46,53,46],[51,47,53,47],[51,41,53,41],[51,42,53,42],[54,1,55,1],[54,4,55,4],[54,10,56,11],[54,18,56,20],[54,27,56,29],[51,37,53,37],[51,38,53,38],[51,39,53,39],[51,40,53,40],[63,1,64,1],[63,4,64,4],[66,1,67,1],[66,4,67,4],[69,2,69,5],[70,2,70,5],[54,47,56,47],[57,1,58,1],[57,4,58,4],[58,12,58,34],[60,1,61,1],[60,4,61,4],[54,41,56,41],[54,42,56,42],[54,43,56,43],[54,44,56,44],[54,45,56,45],[54,46,56,46],[54,34,56,34],[54,36,56,36],[54,37,56,37],[54,38,56,38],[54,39,56,39],[54,40,56,40],[71,2,71,5],[72,2,72,5],[73,12,73,20],[73,21,73,29],[75,1,76,5],[75,12,78,14],[75,15,78,17],[75,18,78,20],[75,21,78,23],[75,24,78,26],[77,41,77,42],[77,43,77,44],[77,46,78,46],[78,1,79,2],[79,10,81,11],[79,12,81,14],[79,21,81,23],[79,34,81,34],[79,36,81,36],[79,37,81,37],[75,27,78,29],[75,31,78,33],[75,34,78,34],[76,10,78,11],[77,36,77,37],[77,38,77,39],[79,44,81,44],[79,45,81,45],[79,46,81,46],[79,47,81,47],[82,1,83,1],[82,4,83,4],[82,10,84,11],[82,15,84,17],[82,24,84,26],[82,34,84,34],[79,38,81,38],[79,39,81,39],[79,40,81,40],[79,41,81,41],[79,42,81,42],[79,43,81,43],[82,45,84,45],[82,46,84,46],[82,47,84,47],[82,36,84,36],[82,37,84,37],[82,38,84,38],[82,39,84,39],[82,40,84,40],[82,41,84,41],[85,1,86,1],[85,4,86,4],[85,10,87,11],[85,18,87,20],[85,27,87,29],[85,34,87,34],[82,42,84,42],[82,43,84,43],[82,44,84,44],[85,42,87,42],[85,43,87,43],[85,44,87,44],[85,45,87,45],[85,46,87,46],[85,47,87,47],[85,36,87,36],[85,37,87,37],[85,38,87,38],[85,39,87,39],[85,40,87,40],[85,41,87,41],[97,1,98,1],[97,4,98,4],[100,2,100,5],[101,2,101,5],[102,2,102,5],[103,2,103,5],[88,1,89,1],[88,4,89,4],[89,12,89,34],[91,1,92,1],[91,4,92,4],[94,1,95,1],[94,4,95,4],[107,44,107,45],[107,47,108,47],[108,1,109,2],[109,10,111,11],[109,12,111,14],[109,28,111,29],[109,36,111,36],[109,37,111,37],[109,38,111,38],[109,39,111,39],[105,25,108,27],[105,28,108,29],[107,36,107,37],[107,38,107,39],[107,40,107,41],[107,42,107,43],[105,1,106,5],[105,10,108,11],[105,12,108,14],[105,15,108,17],[105,18,108,20],[105,21,108,23],[109,46,111,46],[109,47,111,47],[112,1,113,1],[112,4,113,4],[112,10,114,11],[112,15,114,17],[112,28,114,29],[112,36,114,36],[112,37,114,37],[112,38,114,38],[109,40,111,40],[109,41,111,41],[109,42,111,42],[109,43,111,43],[109,44,111,44],[109,45,111,45],[112,45,114,45],[112,46,114,46],[112,47,114,47],[115,1,116,1],[115,4,116,4],[115,10,117,11],[115,18,117,20],[115,28,117,29],[115,36,117,36],[115,37,117,37],[112,39,114,39],[112,40,114,40],[112,41,114,41],[112,42,114,42],[112,43,114,43],[112,44,114,44],[115,44,117,44],[115,45,117,45],[115,46,117,46],[115,47,117,47],[118,1,119,1],[118,4,119,4],[118,10,120,11],[118,21,120,23],[118,28,120,29],[118,36,120,36],[115,38,117,38],[115,39,117,39],[115,40,117,40],[115,41,117,41],[115,42,117,42],[115,43,117,43],[124,1,125,1],[124,4,125,4],[127,1,128,1],[127,4,128,4],[118,43,120,43],[118,44,120,44],[118,45,120,45],[118,46,120,46],[118,47,120,47],[121,1,122,1],[121,4,122,4],[118,37,120,37],[118,38,120,38],[118,39,120,39],[118,40,120,40],[118,41,120,41],[118,42,120,42]]}
[]
[null,null,null,null,null,null,null,null,null,null,null,null,"LIGUE MÉDITERRANÉENNE DE BILLARD"]
[null,"CLUB ORGANISATEUR",null,"19009 – CLUB BILLARD ISTREEN"]
[]
[]
[null,"DIRECTEUR DE JEU :",null,"tutu"]
[null,null,null,null,null,null,null,null,null,null,null,null,"Compétition",null,null,null,null,"Mode de jeu",null,null,"Categorie",null,null,"Format billard",null,null,null,"Distance"]
[null,null,null,null,null,null,null,null,null,null,null,null,"TOURNOI N°6",null,null,null,null,"LIBRE",null,null,"R3"]
[null,"Joueur 1",{"$f":"'Saisie des joueurs'!K18","v":0}]
[null,"Joueur 2",{"$f":"'Saisie des joueurs'!K19","v":0}]
[null,"Joueur 3",{"$f":"'Saisie des joueurs'!K20","v":0}]
[null,null,null,null,null,null,null,null,null,null,null,null,"MATCH ALLER",null,null,null,null,null,null,null,null,"MATCH RETOUR"]
[]
[null,"SAISIE DES RESULTATS",null,null,null,null,null,null,null,null,null,null,{"$f":"C9","v":0},null,null,{"$f":"C10","v":0},null,null,{"$f":"C11","v":0},null,null,{"$f":"C9","v":0},null,null,{"$f":"C10","v":0},null,null,{"$f":"C11","v":0},null,null,null,"TOTAUX",null,null,"CLASSEMENT"]
[]
[null,null,null,null,null,null,null,null,null,null,null,null,null,null,null,null,null,null,null,null,null,null,null,null,null,null,null,null,null,null,null,null,null,null,null,null,"Classement",null,"Classement",null,"Classement","Classement",null,"Classement",null,"GENERAL","RANG"]
[null,"POULE A",null,null,null,null,null,null,null,null,null,null,null,null,null,null,null,null,null,null,null,null,null,null,null,null,null,null,null,null,null,null,null,null,null,null,"Point-Match","CLS-M","Moy-Gen","CLS-G","Moy-Part","M-Series","CLS-S","MGPS","CLS","CLS"]
[null,null,null,null,null,null,null,null,null,null,{"$f":"C9","v":0},null,"L",null,null,{"$f":"D27","v":0},null,{"$f":"E27","v":0},{"$f":"D21","v":0},null,{"$f":"E21","v":0},"L",null,null,{"$f":"D36","v":0},null,{"$f":"E36","v":0},{"$f":"D30","v":0},null,{"$f":"E30","v":0},null,{"$f":"P18+S18+Y18+AB18","v":0},null,{"$f":"R18+U18+AA18+AD18","v":0},{"$f":"AU18","v":{"$error":"#DIV/0!"}},null,{"$f":"AG19","v":0.04},{"$f":"RANK(AK18,AK$18:AK$26,0)","v":1},{"$f":"AH20","v":{"$error":"#DIV/0!"}},{"$f":"RANK(AM18,AM$18:AM$26,0)","v":{"$error":"#DIV/0!"}},{"$f":"MAX(R20,U20,AA20,AD20)","v":{"$error":"#DIV/0!"}},{"$f":"RANK(AO18,AO$18:AO$26)","v":{"$error":"#DIV/0!"}},{"$f":"AF20","v":0},{"$f":"RANK(AQ18,AQ$18:AQ$26)","v":1},{"$f":"(AL18*1000)+(AN18*100)+(AP18*10)+(AR18*1)","v":{"$error":"#DIV/0!"}},{"$f":"AS18","v":{"$error":"#DIV/0!"}},{"$f":"RANK(AT18,AT$18:AT$26,1)","v":{"$error":"#DIV/0!"}},{"$f":"RANK(AU18,AU$18:AU$26,1)","v":{"$error":"#DIV/0!"}}]
[null,null,null,null,null,null,null,null,null,null,null,null,null,null,null,null,{"$f":"IF(R18<1,0.01,IF(P18>M21,2,IF(P18=M21,1,0)))","v":0.01},null,null,{"$f":"IF(U18<1,0.01,IF(S18>M24,2,IF(S18=M24,1,0)))","v":0.01},null,null,null,null,null,{"$f":"IF(AA18<1,0.01,IF(Y18>V21,2,IF(Y18=V21,1,0)))","v":0.01},null,null,{"$f":"IF(AD18<1,0.01,IF(AB18>V24,2,IF(AB18=V24,1,0)))","v":0.01},null,null,null,{"$f":"Q19+T19+Z19+AC19","v":0.04}]
[null,null,null,null,null,null,null,null,null,null,null,null,null,null,null,{"$f":"F27","v":0},null,{"$f":"P18/R18","v":{"$error":"#DIV/0!"}},{"$f":"F21","v":0},null,{"$f":"S18/U18","v":{"$error":"#DIV/0!"}},null,null,null,{"$f":"F36","v":0},null,{"$f":"Y18/AA18","v":{"$error":"#DIV/0!"}},{"$f":"F30","v":0},null,{"$f":"AB18/AD18","v":{"$error":"#DIV/0!"}},null,{"$f":"MAX(P20,S20,Y20,AB20)","v":0},null,{"$f":"AF18/AH18","v":{"$error":"#DIV/0!"}}]
[null,"Tour 1\nMatch aller",{"$f":"C9","v":0},null,null,null,null,null,null,null,{"$f":"C10","v":0},null,{"$f":"D28","v":0},null,{"$f":"E27","v":0},"M",null,null,{"$f":"D24","v":0},null,{"$f":"E24","v":0},{"$f":"D37","v":0},null,{"$f":"E36","v":0},"M",null,null,{"$f":"D33","v":0},null,{"$f":"E33","v":0},null,{"$f":"M21+S21+V21+AB21","v":0},null,{"$f":"O21+U21+X21+AD21","v":0},{"$f":"AU21","v":{"$error":"#DIV/0!"}},null,{"$f":"AG22","v":0.04},{"$f":"RANK(AK21,AK$18:AK$26,0)","v":1},{"$f":"AH23","v":{"$error":"#DIV/0!"}},{"$f":"RANK(AM21,AM$18:AM$26,0)","v":{"$error":"#DIV/0!"}},{"$f":"MAX(R23,U23,AA23,AD23)","v":{"$error":"#DIV/0!"}},{"$f":"RANK(AO21,AO$18:AO$26)","v":{"$error":"#DIV/0!"}},{"$f":"AF23","v":0},{"$f":"RANK(AQ21,AQ$18:AQ$26)","v":1},{"$f":"(AL21*1000)+(AN21*100)+(AP21*10)+(AR21*1)","v":{"$error":"#DIV/0!"}},{"$f":"AS21","v":{"$error":"#DIV/0!"}},{"$f":"RANK(AT21,AT$18:AT$26,1)","v":{"$error":"#DIV/0!"}},{"$f":"RANK(AU21,AU$18:AU$26,1)","v":{"$error":"#DIV/0!"}}]
[null,null,{"$f":"C11","v":0},null,null,null,null,null,null,null,null,null,null,{"$f":"IF(R18>0,2-Q19,0.01)","v":0.01},null,null,null,null,null,{"$f":"IF(U21<1,0.01,IF(S21>P24,2,IF(S21=P24,1,0)))","v":0.01},null,null,{"$f":"IF(AA18>0,2-Z19,0.01)","v":0.01},null,null,null,null,null,{"$f":"IF(AD21<1,0.01,IF(AB21>Y24,2,IF(AB21=Y24,1,0)))","v":0.01},null,null,null,{"$f":"N22+T22+W22+AC22","v":0.04}]
[null,null,null,null,null,null,null,null,null,null,null,null,{"$f":"F28","v":0},null,{"$f":"M21/O21","v":{"$error":"#DIV/0!"}},null,null,null,{"$f":"F24","v":0},null,{"$f":"S21/U21","v":{"$error":"#DIV/0!"}},{"$f":"F37","v":0},null,{"$f":"V21/X21","v":{"$error":"#DIV/0!"}},null,null,null,{"$f":"F33","v":0},null,{"$f":"AB21/AD21","v":{"$error":"#DIV/0!"}},null,{"$f":"MAXA(M23,S23,V23,AB23)","v":0},null,{"$f":"AF21/AH21","v":{"$error":"#DIV/0!"}}]
[null,"Tour 2\nMatch aller",{"$f":"C10","v":0},null,null,null,null,null,null,null,{"$f":"C11","v":0},null,{"$f":"D22","v":0},null,{"$f":"E21","v":0},{"$f":"D25","v":0},null,{"$f":"E24","v":0},"B",null,null,{"$f":"D31","v":0},null,{"$f":"E30","v":0},{"$f":"D34","v":0},null,{"$f":"E33","v":0},"B",null,null,null,{"$f":"M24+P24+V24+Y24","v":0},null,{"$f":"O24+R24+X24+AA24","v":0},{"$f":"AU24","v":{"$error":"#DIV/0!"}},null,{"$f":"AG25","v":0.04},{"$f":"RANK(AK24,AK$18:AK$26,0)","v":1},{"$f":"AH26","v":{"$error":"#DIV/0!"}},{"$f":"RANK(AM24,AM$18:AM$26,0)","v":{"$error":"#DIV/0!"}},{"$f":"MAX(R26,U26,AA26,AD26)","v":{"$error":"#DIV/0!"}},{"$f":"RANK(AO24,AO$18:AO$26)","v":{"$error":"#DIV/0!"}},{"$f":"AF26","v":0},{"$f":"RANK(AQ24,AQ$18:AQ$26)","v":1},{"$f":"(AL24*1000)+(AN24*100)+(AP24*10)+(AR24*1)","v":{"$error":"#DIV/0!"}},{"$f":"AS24","v":{"$error":"#DIV/0!"}},{"$f":"RANK(AT24,AT$18:AT$26,1)","v":{"$error":"#DIV/0!"}},{"$f":"RANK(AU24,AU$18:AU$26,1)","v":{"$error":"#DIV/0!"}}]
[null,null,{"$f":"C11","v":0},null,null,null,null,null,null,null,null,null,null,{"$f":"IF(U18>0,2-T19,0.01)","v":0.01},null,null,{"$f":"IF(U21>0,2-T22,0.01)","v":0.01},null,null,null,null,null,{"$f":"IF(AD18>0,2-AC19,0.01)","v":0.01},null,null,{"$f":"IF(AD21>0,2-AC22,0.01)","v":0.01},null,null,null,null,null,null,{"$f":"N25+Q25+W25+Z25","v":0.04}]
[null,null,null,null,null,null,null,null,null,null,null,null,{"$f":"F22","v":0},null,{"$f":"M24/O24","v":{"$error":"#DIV/0!"}},{"$f":"F25","v":0},null,{"$f":"P24/R24","v":{"$error":"#DIV/0!"}},null,null,null,{"$f":"F31","v":0},null,{"$f":"V24/X24","v":{"$error":"#DIV/0!"}},{"$f":"F34","v":0},null,{"$f":"Y24/AA24","v":{"$error":"#DIV/0!"}},null,null,null,null,{"$f":"MAXA(M26,P26,V26,Y26)","v":0},null,{"$f":"AF24/AH24","v":{"$error":"#DIV/0!"}}]
[null,"Tour 3\nMatch aller",{"$f":"C9","v":0}]
[null,null,{"$f":"C10","v":0},null,null,null,null,null,null,null,null,null,"Pas de prolongation en cas de match nul."]
[]
[null,"Tour 1\nMatch retour",{"$f":"C9","v":0}]
[null,null,{"$f":"C11","v":0}]
[]
[null,"Tour 2\nMatch retour",{"$f":"C10","v":0}]
[null,null,{"$f":"C11","v":0}]
[]
[null,"Tour 3\nMatch retour",{"$f":"C9","v":0}]
[null,null,{"$f":"C10","v":0}]
[]
[null,"Joueur 1",{"$f":"'Saisie des joueurs'!K21","v":0}]
[null,"Joueur 2",{"$f":"'Saisie des joueurs'!K22","v":0}]
[null,"Joueur 3",{"$f":"'Saisie des joueurs'!K23","v":0}]
[]
[null,null,null,null,null,null,null,null,null,null,null,null,"MATCH ALLER",null,null,null,null,null,null,null,null,"MATCH RETOUR"]
[]
[null,"SAISIE DES RESULTATS",null,null,null,null,null,null,null,null,null,null,{"$f":"C39","v":0},null,null,{"$f":"C40","v":0},null,null,{"$f":"C41","v":0},null,null,{"$f":"C39","v":0},null,null,{"$f":"C40","v":0},null,null,{"$f":"C41","v":0},null,null,null,"TOTAUX",null,null,"CLASSEMENT"]
[]
[null,null,null,null,null,null,null,null,null,null,null,null,null,null,null,null,null,null,null,null,null,null,null,null,null,null,null,null,null,null,null,null,null,null,null,null,"Classement",null,"Classement",null,"Classement","Classement",null,"Classement",null,"GENERAL","RANG"]
[null,"POULE B",null,null,null,null,null,null,null,null,null,null,null,null,null,null,null,null,null,null,null,null,null,null,null,null,null,null,null,null,null,null,null,null,null,null,"Point-Match","CLS-M","Moy-Gen","CLS-G","Moy-Part","M-Series","CLS-S","MGPS","CLS","CLS"]
[null,null,null,null,null,null,null,null,null,null,{"$f":"C39","v":0},null,"L",null,null,{"$f":"D58","v":0},null,{"$f":"E58","v":0},{"$f":"D52","v":0},null,{"$f":"E52","v":0},"L",null,null,{"$f":"D67","v":0},null,{"$f":"E67","v":0},{"$f":"D61","v":0},null,{"$f":"E61","v":0},null,{"$f":"P49+S49+Y49+AB49","v":0},null,{"$f":"R49+U49+AA49+AD49","v":0},{"$f":"AU49","v":{"$error":"#DIV/0!"}},null,{"$f":"AG50","v":0.04},{"$f":"RANK(AK49,AK$49:AK$57,0)","v":1},{"$f":"AH51","v":{"$error":"#DIV/0!"}},{"$f":"RANK(AM49,AM$49:AM$57,0)","v":{"$error":"#DIV/0!"}},{"$f":"MAX(R51,U51,AA51,AD51)","v":{"$error":"#DIV/0!"}},{"$f":"RANK(AO49,AO$49:AO$57)","v":{"$error":"#DIV/0!"}},{"$f":"AF51","v":0},{"$f":"RANK(AQ49,AQ$49:AQ$57)","v":1},{"$f":"(AL49*1000)+(AN49*100)+(AP49*10)+(AR49*1)","v":{"$error":"#DIV/0!"}},{"$f":"AS49","v":{"$error":"#DIV/0!"}},{"$f":"RANK(AT49,AT$49:AT$57,1)","v":{"$error":"#DIV/0!"}},{"$f":"RANK(AU49,AU$49:AU$57,1)","v":{"$error":"#DIV/0!"}}]
[null,null,null,null,null,null,null,null,null,null,null,null,null,null,null,null,{"$f":"IF(R49<1,0.01,IF(P49>M52,2,IF(P49=M52,1,0)))","v":0.01},null,null,{"$f":"IF(U49<1,0.01,IF(S49>M55,2,IF(S49=M55,1,0)))","v":0.01},null,null,null,null,null,{"$f":"IF(AA49<1,0.01,IF(Y49>V52,2,IF(Y49=V52,1,0)))","v":0.01},null,null,{"$f":"IF(AD49<1,0.01,IF(AB49>V55,2,IF(AB49=V55,1,0)))","v":0.01},null,null,null,{"$f":"Q50+T50+Z50+AC50","v":0.04}]
[null,null,null,null,null,null,null,null,null,null,null,null,null,null,null,{"$f":"F58","v":0},null,{"$f":"P49/R49","v":{"$error":"#DIV/0!"}},{"$f":"F52","v":0},null,{"$f":"S49/U49","v":{"$error":"#DIV/0!"}},null,null,null,{"$f":"F67","v":0},null,{"$f":"Y49/AA49","v":{"$error":"#DIV/0!"}},{"$f":"F61","v":0},null,{"$f":"AB49/AD49","v":{"$error":"#DIV/0!"}},null,{"$f":"MAX(P51,S51,Y51,AB51)","v":0},null,{"$f":"AF49/AH49","v":{"$error":"#DIV/0!"}}]
[null,"Tour 1\nMatch aller",{"$f":"C39","v":0},null,null,null,null,null,null,null,{"$f":"C40","v":0},null,{"$f":"D59","v":0},null,{"$f":"E58","v":0},"M",null,null,{"$f":"D55","v":0},null,{"$f":"E55","v":0},{"$f":"D68","v":0},null,{"$f":"E67","v":0},"M",null,null,{"$f":"D64","v":0},null,{"$f":"E64","v":0},null,{"$f":"M52+S52+V52+AB52","v":0},null,{"$f":"O52+U52+X52+AD52","v":0},{"$f":"AU52","v":{"$error":"#DIV/0!"}},null,{"$f":"AG53","v":0.04},{"$f":"RANK(AK52,AK$49:AK$57,0)","v":1},{"$f":"AH54","v":{"$error":"#DIV/0!"}},{"$f":"RANK(AM52,AM$49:AM$57,0)","v":{"$error":"#DIV/0!"}},{"$f":"MAX(O54,U54,X54,AD54)","v":{"$error":"#DIV/0!"}},{"$f":"RANK(AO52,AO$49:AO$57)","v":{"$error":"#DIV/0!"}},{"$f":"AF54","v":0},{"$f":"RANK(AQ52,AQ$49:AQ$57)","v":1},{"$f":"(AL52*1000)+(AN52*100)+(AP52*10)+(AR52*1)","v":{"$error":"#DIV/0!"}},{"$f":"AS52","v":{"$error":"#DIV/0!"}},{"$f":"RANK(AT52,AT$49:AT$57,1)","v":{"$error":"#DIV/0!"}},{"$f":"RANK(AU52,AU$49:AU$57,1)","v":{"$error":"#DIV/0!"}}]
[null,null,{"$f":"C41","v":0},null,null,null,null,null,null,null,null,null,null,{"$f":"IF(R49>0,2-Q50,0.01)","v":0.01},null,null,null,null,null,{"$f":"IF(U52<1,0.01,IF(S52>P55,2,IF(S52=P55,1,0)))","v":0.01},null,null,{"$f":"IF(AA49>0,2-Z50,0.01)","v":0.01},null,null,null,null,null,{"$f":"IF(AD52<1,0.01,IF(AB52>Y55,2,IF(AB52=Y55,1,0)))","v":0.01},null,null,null,{"$f":"N53+T53+W53+AC53","v":0.04}]
[null,null,null,null,null,null,null,null,null,null,null,null,{"$f":"F59","v":0},null,{"$f":"M52/O52","v":{"$error":"#DIV/0!"}},null,null,null,{"$f":"F55","v":0},null,{"$f":"S52/U52","v":{"$error":"#DIV/0!"}},{"$f":"F68","v":0},null,{"$f":"V52/X52","v":{"$error":"#DIV/0!"}},null,null,null,{"$f":"F64","v":0},null,{"$f":"AB52/AD52","v":{"$error":"#DIV/0!"}},null,{"$f":"MAXA(M54,S54,V54,AB54)","v":0},null,{"$f":"AF52/AH52","v":{"$error":"#DIV/0!"}}]
[null,"Tour 2\nMatch aller",{"$f":"C40","v":0},null,null,null,null,null,null,null,{"$f":"C41","v":0},null,{"$f":"D53","v":0},null,{"$f":"E52","v":0},{"$f":"D56","v":0},null,{"$f":"E55","v":0},"B",null,null,{"$f":"D62","v":0},null,{"$f":"E61","v":0},{"$f":"D65","v":0},null,{"$f":"E64","v":0},"B",null,null,null,{"$f":"M55+P55+V55+Y55","v":0},null,{"$f":"O55+R55+X55+AA55","v":0},{"$f":"AU55","v":{"$error":"#DIV/0!"}},null,{"$f":"AG56","v":0.04},{"$f":"RANK(AK55,AK$49:AK$57,0)","v":1},{"$f":"AH57","v":{"$error":"#DIV/0!"}},{"$f":"RANK(AM55,AM$49:AM$57,0)","v":{"$error":"#DIV/0!"}},{"$f":"MAX(O57,R57,X57,AA57)","v":{"$error":"#DIV/0!"}},{"$f":"RANK(AO55,AO$49:AO$57)","v":{"$error":"#DIV/0!"}},{"$f":"AF57","v":0},{"$f":"RANK(AQ55,AQ$49:AQ$57)","v":1},{"$f":"(AL55*1000)+(AN55*100)+(AP55*10)+(AR55*1)","v":{"$error":"#DIV/0!"}},{"$f":"AS55","v":{"$error":"#DIV/0!"}},{"$f":"RANK(AT55,AT$49:AT$57,1)","v":{"$error":"#DIV/0!"}},{"$f":"RANK(AU55,AU$49:AU$57,1)","v":{"$error":"#DIV/0!"}}]
[null,null,{"$f":"C41","v":0},null,null,null,null,null,null,null,null,null,null,{"$f":"IF(U49>0,2-T50,0.01)","v":0.01},null,null,{"$f":"IF(U52>0,2-T53,0.01)","v":0.01},null,null,null,null,null,{"$f":"IF(AD49>0,2-AC50,0.01)","v":0.01},null,null,{"$f":"IF(AD52>0,2-AC53,0.01)","v":0.01},null,null,null,null,null,null,{"$f":"N56+Q56+W56+Z56","v":0.04}]
[null,null,null,null,null,null,null,null,null,null,null,null,{"$f":"F53","v":0},null,{"$f":"M55/O55","v":{"$error":"#DIV/0!"}},{"$f":"F56","v":0},null,{"$f":"P55/R55","v":{"$error":"#DIV/0!"}},null,null,null,{"$f":"F62","v":0},null,{"$f":"V55/X55","v":{"$error":"#DIV/0!"}},{"$f":"F65","v":0},null,{"$f":"Y55/AA55","v":{"$error":"#DIV/0!"}},null,null,null,null,{"$f":"MAXA(M57,P57,V57,Y57)","v":0},null,{"$f":"AF55/AH55","v":{"$error":"#DIV/0!"}}]
[null,"Tour 3\nMatch aller",{"$f":"C39","v":0}]
[null,null,{"$f":"C40","v":0},null,null,null,null,null,null,null,null,null,"Pas de prolongation en cas de match nul."]
[]
[null,"Tour 1\nMatch retour",{"$f":"C39","v":0}]
[null,null,{"$f":"C41","v":0}]
[]
[null,"Tour 2\nMatch retour",{"$f":"C40","v":0}]
[null,null,{"$f":"C41","v":0}]
[]
[null,"Tour 3\nMatch retour",{"$f":"C39","v":0}]
[null,null,{"$f":"C40","v":0}]
[]
[null,"Joueur 1",{"$f":"'Saisie des joueurs'!K24","v":0}]
[null,"Joueur 2",{"$f":"'Saisie des joueurs'!K25","v":0}]
[null,"Joueur 3",{"$f":"'Saisie des joueurs'!K26","v":0}]
[]
[null,null,null,null,null,null,null,null,null,null,null,null,"MATCH ALLER",null,null,null,null,null,null,null,null,"MATCH RETOUR"]
[]
[null,"SAISIE DES RESULTATS",null,null,null,null,null,null,null,null,null,null,{"$f":"C70","v":0},null,null,{"$f":"C71","v":0},null,null,{"$f":"C72","v":0},null,null,{"$f":"C70","v":0},null,null,{"$f":"C71","v":0},null,null,{"$f":"C72","v":0},null,null,null,"TOTAUX",null,null,"CLASSEMENT"]
[]
[null,null,null,null,null,null,null,null,null,null,null,null,null,null,null,null,null,null,null,null,null,null,null,null,null,null,null,null,null,null,null,null,null,null,null,null,"Classement",null,"Classement",null,"Classement","Classement",null,"Classement",null,"GENERAL","RANG"]
[null,"POULE C",null,null,null,null,null,null,null,null,null,null,null,null,null,null,null,null,null,null,null,null,null,null,null,null,null,null,null,null,null,null,null,null,null,null,"Point-Match","CLS-M","Moy-Gen","CLS-G","Moy-Part","M-Series","CLS-S","MGPS","CLS","CLS"]
[null,null,null,null,null,null,null,null,null,null,{"$f":"C70","v":0},null,"L",null,null,{"$f":"D89","v":0},null,{"$f":"E89","v":0},{"$f":"D83","v":0},null,{"$f":"E83","v":0},"L",null,null,{"$f":"D98","v":0},null,{"$f":"E98","v":0},{"$f":"D92","v":0},null,{"$f":"E92","v":0},null,{"$f":"P80+S80+Y80+AB80","v":0},null,{"$f":"R80+U80+AA80+AD80","v":0},{"$f":"AU80","v":{"$error":"#DIV/0!"}},null,{"$f":"AG81","v":0.04},{"$f":"RANK(AK80,AK$80:AK$88,0)","v":1},{"$f":"AH82","v":{"$error":"#DIV/0!"}},{"$f":"RANK(AM80,AM$80:AM$88,0)","v":{"$error":"#DIV/0!"}},{"$f":"MAX(R82,U82,AA82,AD82)","v":{"$error":"#DIV/0!"}},{"$f":"RANK(AO80,AO$80:AO$88)","v":{"$error":"#DIV/0!"}},{"$f":"AF82","v":0},{"$f":"RANK(AQ80,AQ$80:AQ$88)","v":1},{"$f":"(AL80*1000)+(AN80*100)+(AP80*10)+(AR80*1)","v":{"$error":"#DIV/0!"}},{"$f":"AS80","v":{"$error":"#DIV/0!"}},{"$f":"RANK(AT80,AT80:AT$88,1)","v":{"$error":"#DIV/0!"}},{"$f":"RANK(AU80,AU$80:AU$88,1)","v":{"$error":"#DIV/0!"}}]
[null,null,null,null,null,null,null,null,null,null,null,null,null,null,null,null,{"$f":"IF(R80<1,0.01,IF(P80>M83,2,IF(P80=M83,1,0)))","v":0.01},null,null,{"$f":"IF(U80<1,0.01,IF(S80>M86,2,IF(S80=M86,1,0)))","v":0.01},null,null,null,null,null,{"$f":"IF(AA80<1,0.01,IF(Y80>V83,2,IF(Y80=V83,1,0)))","v":0.01},null,null,{"$f":"IF(AD80<1,0.01,IF(AB80>V86,2,IF(AB80=V86,1,0)))","v":0.01},null,null,null,{"$f":"Q81+T81+Z81+AC81","v":0.04}]
[null,null,null,null,null,null,null,null,null,null,null,null,null,null,null,{"$f":"F89","v":0},null,{"$f":"P80/R80","v":{"$error":"#DIV/0!"}},{"$f":"F83","v":0},null,{"$f":"S80/U80","v":{"$error":"#DIV/0!"}},null,null,null,{"$f":"F98","v":0},null,{"$f":"Y80/AA80","v":{"$error":"#DIV/0!"}},{"$f":"F92","v":0},null,{"$f":"AB80/AD80","v":{"$error":"#DIV/0!"}},null,{"$f":"MAX(P82,S82,Y82,AB82)","v":0},null,{"$f":"AF80/AH80","v":{"$error":"#DIV/0!"}}]
[null,"Tour 1\nMatch aller",{"$f":"C70","v":0},null,null,null,null,null,null,null,{"$f":"C71","v":0},null,{"$f":"D90","v":0},null,{"$f":"E89","v":0},"M",null,null,{"$f":"D86","v":0},null,{"$f":"E86","v":0},{"$f":"D99","v":0},null,{"$f":"E98","v":0},"M",null,null,{"$f":"D95","v":0},null,{"$f":"E95","v":0},null,{"$f":"M83+S83+V83+AB83","v":0},null,{"$f":"O83+U83+X83+AD83","v":0},{"$f":"AU83","v":{"$error":"#DIV/0!"}},null,{"$f":"AG84","v":0.04},{"$f":"RANK(AK83,AK$80:AK$88,0)","v":1},{"$f":"AH85","v":{"$error":"#DIV/0!"}},{"$f":"RANK(AM83,AM$80:AM$88,0)","v":{"$error":"#DIV/0!"}},{"$f":"MAX(O85,U85,X85,AD85)","v":{"$error":"#DIV/0!"}},{"$f":"RANK(AO83,AO$80:AO$88)","v":{"$error":"#DIV/0!"}},{"$f":"AF85","v":0},{"$f":"RANK(AQ83,AQ$80:AQ$88)","v":1},{"$f":"(AL83*1000)+(AN83*100)+(AP83*10)+(AR83*1)","v":{"$error":"#DIV/0!"}},{"$f":"AS83","v":{"$error":"#DIV/0!"}},{"$f":"RANK(AT83,AT83:AT$88,1)","v":{"$error":"#DIV/0!"}},{"$f":"RANK(AU83,AU$80:AU$88,1)","v":{"$error":"#DIV/0!"}}]
[null,null,{"$f":"C72","v":0},null,null,null,null,null,null,null,null,null,null,{"$f":"IF(R80>0,2-Q81,0.01)","v":0.01},null,null,null,null,null,{"$f":"IF(U83<1,0.01,IF(S83>P86,2,IF(S83=P86,1,0)))","v":0.01},null,null,{"$f":"IF(AA80>0,2-Z81,0.01)","v":0.01},null,null,null,null,null,{"$f":"IF(AD83<1,0.01,IF(AB83>Y86,2,IF(AB83=Y86,1,0)))","v":0.01},null,null,null,{"$f":"N84+T84+W84+AC84","v":0.04}]
[null,null,null,null,null,null,null,null,null,null,null,null,{"$f":"F90","v":0},null,{"$f":"M83/O83","v":{"$error":"#DIV/0!"}},null,null,null,{"$f":"F86","v":0},null,{"$f":"S83/U83","v":{"$error":"#DIV/0!"}},{"$f":"F99","v":0},null,{"$f":"V83/X83","v":{"$error":"#DIV/0!"}},null,null,null,{"$f":"F95","v":0},null,{"$f":"AB83/AD83","v":{"$error":"#DIV/0!"}},null,{"$f":"MAXA(M85,S85,V85,AB85)","v":0},null,{"$f":"AF83/AH83","v":{"$error":"#DIV/0!"}}]
[null,"Tour 2\nMatch aller",{"$f":"C71","v":0},null,null,null,null,null,null,null,{"$f":"C72","v":0},null,{"$f":"D84","v":0},null,{"$f":"E83","v":0},{"$f":"D87","v":0},null,{"$f":"E86","v":0},"B",null,null,{"$f":"D93","v":0},null,{"$f":"E92","v":0},{"$f":"D96","v":0},null,{"$f":"E95","v":0},"B",null,null,null,{"$f":"M86+P86+V86+Y86","v":0},null,{"$f":"O86+R86+X86+AA86","v":0},{"$f":"AU86","v":{"$error":"#DIV/0!"}},null,{"$f":"AG87","v":0.04},{"$f":"RANK(AK86,AK$80:AK$88,0)","v":1},{"$f":"AH88","v":{"$error":"#DIV/0!"}},{"$f":"RANK(AM86,AM$80:AM$88,0)","v":{"$error":"#DIV/0!"}},{"$f":"MAX(O88,R88,X88,AA88)","v":{"$error":"#DIV/0!"}},{"$f":"RANK(AO86,AO$80:AO$88)","v":{"$error":"#DIV/0!"}},{"$f":"AF88","v":0},{"$f":"RANK(AQ86,AQ$80:AQ$88)","v":1},{"$f":"(AL86*1000)+(AN86*100)+(AP86*10)+(AR86*1)","v":{"$error":"#DIV/0!"}},{"$f":"AS86","v":{"$error":"#DIV/0!"}},{"$f":"RANK(AT86,AT86:AT$88,1)","v":{"$error":"#DIV/0!"}},{"$f":"RANK(AU86,AU$80:AU$88,1)","v":{"$error":"#DIV/0!"}}]
[null,null,{"$f":"C72","v":0},null,null,null,null,null,null,null,null,null,null,{"$f":"IF(U80>0,2-T81,0.01)","v":0.01},null,null,{"$f":"IF(U83>0,2-T84,0.01)","v":0.01},null,null,null,null,null,{"$f":"IF(AD80>0,2-AC81,0.01)","v":0.01},null,null,{"$f":"IF(AD83>0,2-AC84,0.01)","v":0.01},null,null,null,null,null,null,{"$f":"N87+Q87+W87+Z87","v":0.04}]
[null,null,null,null,null,null,null,null,null,null,null,null,{"$f":"F84","v":0},null,{"$f":"M86/O86","v":{"$error":"#DIV/0!"}},{"$f":"F87","v":0},null,{"$f":"P86/R86","v":{"$error":"#DIV/0!"}},null,null,null,{"$f":"F93","v":0},null,{"$f":"V86/X86","v":{"$error":"#DIV/0!"}},{"$f":"F96","v":0},null,{"$f":"Y86/AA86","v":{"$error":"#DIV/0!"}},null,null,null,null,{"$f":"MAXA(M88,P88,V88,Y88)","v":0},null,{"$f":"AF86/AH86","v":{"$error":"#DIV/0!"}}]
[null,"Tour 3\nMatch aller",{"$f":"C70","v":0}]
[null,null,{"$f":"C71","v":0},null,null,null,null,null,null,null,null,null,"Pas de prolongation en cas de match nul."]
[]
[null,"Tour 1\nMatch retour",{"$f":"C70","v":0}]
[null,null,{"$f":"C72","v":0}]
[]
[null,"Tour 2\nMatch retour",{"$f":"C71","v":0}]
[null,null,{"$f":"C72","v":0}]
[]
[null,"Tour 3\nMatch retour",{"$f":"C70","v":0}]
[null,null,{"$f":"C71","v":0}]
[]
[null,"Joueur 1",{"$f":"'Saisie des joueurs'!K27","v":0}]
[null,"Joueur 2",{"$f":"'Saisie des joueurs'!K28","v":0}]
[null,"Joueur 3",{"$f":"'Saisie des joueurs'!K29","v":0}]
[null,"Joueur 4",{"$f":"'Saisie des joueurs'!K30","v":0}]
[]
[null,"SAISIE DES RESULTATS",null,null,null,null,null,null,null,null,null,null,{"$f":"C101","v":0},null,null,{"$f":"C102","v":0},null,null,{"$f":"C103","v":0},null,null,{"$f":"C104","v":0},null,null,null,"TOTAUX",null,null,"CLASSEMENT"]
[]
[null,null,null,null,null,null,null,null,null,null,null,null,null,null,null,null,null,null,null,null,null,null,null,null,null,null,null,null,null,null,null,null,null,null,null,null,"Classement",null,"Classement",null,"Classement",null,"Classement",null,"Classement",null,"GENERAL","RANG"]
[null,"POULE D",null,null,null,null,null,null,null,null,null,null,null,null,null,null,null,null,null,null,null,null,null,null,null,null,null,null,null,null,null,null,null,null,null,null,"Point-Match","CLS-M","Moy-Gen","CLS-G","Moy-Part","CLS-P","M-Series","CLS-S","MGPS","CLS","CLS"]
[null,null,null,null,null,null,null,null,null,null,{"$f":"C101","v":0},null,"L",null,null,{"$f":"D125","v":0},null,{"$f":"E125","v":0},{"$f":"D119","v":0},null,{"$f":"E119","v":0},{"$f":"D113","v":0},null,{"$f":"E113","v":0},null,{"$f":"P110+S110+V110","v":0},null,{"$f":"R110+U110+X110","v":0},{"$f":"AV110","v":{"$error":"#DIV/0!"}},null,null,null,null,null,null,null,{"$f":"AA111","v":0.03},{"$f":"RANK(AK110,AK$110:AK$121,0)","v":1},{"$f":"AB112","v":{"$error":"#DIV/0!"}},{"$f":"RANK(AM110,AM$110:AM$121,0)","v":{"$error":"#DIV/0!"}},{"$f":"MAX(R112,U112,X112)","v":{"$error":"#DIV/0!"}},{"$f":"RANK(AO110,AO$110:AO$121)","v":{"$error":"#DIV/0!"}},{"$f":"Z112","v":0},{"$f":"RANK(AQ110,AQ$110:AQ$121)","v":1},{"$f":"(AL110*1000)+(AN110*100)+(AP110*10)+(AR110*1)","v":{"$error":"#DIV/0!"}},{"$f":"AS110","v":{"$error":"#DIV/0!"}},{"$f":"RANK(AT110,AT$110:AT$121,1)","v":{"$error":"#DIV/0!"}},{"$f":"RANK(AU110,AU$110:AU$121,1)","v":{"$error":"#DIV/0!"}}]
[null,null,null,null,null,null,null,null,null,null,null,null,null,null,null,null,{"$f":"IF(R110<1,0.01,IF(P110>M113,2,IF(P110=M113,1,0)))","v":0.01},null,null,{"$f":"IF(U110<1,0.01,IF(S110>M116,2,IF(S110=M116,1,0)))","v":0.01},null,null,{"$f":"IF(X110<1,0.01,IF(V110>M119,2,IF(V110=M119,1,0)))","v":0.01},null,null,null,{"$f":"W111+T111+Q111","v":0.03}]
[null,null,null,null,null,null,null,null,null,null,null,null,null,null,null,{"$f":"F125","v":0},null,{"$f":"P110/R110","v":{"$error":"#DIV/0!"}},{"$f":"F119","v":0},null,{"$f":"S110/U110","v":{"$error":"#DIV/0!"}},{"$f":"F113","v":0},null,{"$f":"V110/X110","v":{"$error":"#DIV/0!"}},null,{"$f":"MAX(V112,S112,P112)","v":0},null,{"$f":"Z110/AB110","v":{"$error":"#DIV/0!"}}]
[null,"Tour 1",{"$f":"C101","v":0},null,null,null,null,null,null,null,{"$f":"C102","v":0},null,{"$f":"D126","v":0},null,{"$f":"E125","v":0},"M",null,null,{"$f":"D116","v":0},null,{"$f":"E116","v":0},{"$f":"D123","v":0},null,{"$f":"E122","v":0},null,{"$f":"M113+S113+V113","v":0},null,{"$f":"O113+U113+X113","v":0},{"$f":"AV113","v":{"$error":"#DIV/0!"}},null,null,null,null,null,null,null,{"$f":"AA114","v":0.03},{"$f":"RANK(AK113,AK$110:AK$121,0)","v":1},{"$f":"AB115","v":{"$error":"#DIV/0!"}},{"$f":"RANK(AM113,AM$110:AM$121,0)","v":{"$error":"#DIV/0!"}},{"$f":"MAX(R115,U115,X115)","v":{"$error":"#DIV/0!"}},{"$f":"RANK(AO113,AO$110:AO$121)","v":{"$error":"#DIV/0!"}},{"$f":"Z115","v":0},{"$f":"RANK(AQ113,AQ$110:AQ$121)","v":1},{"$f":"(AL113*1000)+(AN113*100)+(AP113*10)+(AR113*1)","v":{"$error":"#DIV/0!"}},{"$f":"AS113","v":{"$error":"#DIV/0!"}},{"$f":"RANK(AT113,AT$110:AT$121,1)","v":{"$error":"#DIV/0!"}},{"$f":"RANK(AU113,AU$110:AU$121,1)","v":{"$error":"#DIV/0!"}}]
[null,null,{"$f":"C104","v":0},null,null,null,null,null,null,null,null,null,null,{"$f":"IF(R110>0,2-Q111,0.01)","v":0.01},null,null,null,null,null,{"$f":"IF(U113<1,0.01,IF(S113>P116,2,IF(S113=P116,1,0)))","v":0.01},null,null,{"$f":"IF(X113<1,0.01,IF(V113>P119,2,IF(V113=P119,1,0)))","v":0.01},null,null,null,{"$f":"N114+T114+W114","v":0.03}]
[null,null,null,null,null,null,null,null,null,null,null,null,{"$f":"F126","v":0},null,{"$f":"M113/O113","v":{"$error":"#DIV/0!"}},null,null,null,{"$f":"F116","v":0},null,{"$f":"S113/U113","v":{"$error":"#DIV/0!"}},{"$f":"F123","v":0},null,{"$f":"V113/X113","v":{"$error":"#DIV/0!"}},null,{"$f":"MAXA(S115,V115,M115)","v":0},null,{"$f":"Z113/AB113","v":{"$error":"#DIV/0!"}}]
[null,"Tour 2",{"$f":"C102","v":0},null,null,null,null,null,null,null,{"$f":"C103","v":0},null,{"$f":"D120","v":0},null,{"$f":"E119","v":0},{"$f":"D117","v":0},null,{"$f":"E116","v":0},"B",null,null,{"$f":"D128","v":0},null,{"$f":"E128","v":0},null,{"$f":"M116+P116+V116","v":0},null,{"$f":"O116+U116+X116","v":0},{"$f":"AV116","v":{"$error":"#DIV/0!"}},null,null,null,null,null,null,null,{"$f":"AA117","v":0.02},{"$f":"RANK(AK116,AK$110:AK$121,0)","v":4},{"$f":"AB118","v":{"$error":"#DIV/0!"}},{"$f":"RANK(AM116,AM$110:AM$121,0)","v":{"$error":"#DIV/0!"}},{"$f":"MAX(R118,U118,X118)","v":{"$error":"#DIV/0!"}},{"$f":"RANK(AO116,AO$110:AO$121)","v":{"$error":"#DIV/0!"}},{"$f":"Z118","v":0},{"$f":"RANK(AQ116,AQ$110:AQ$121)","v":1},{"$f":"(AL116*1000)+(AN116*100)+(AP116*10)+(AR116*1)","v":{"$error":"#DIV/0!"}},{"$f":"AS116","v":{"$error":"#DIV/0!"}},{"$f":"RANK(AT116,AT$110:AT$121,1)","v":{"$error":"#DIV/0!"}},{"$f":"RANK(AU116,AU$110:AU$121,1)","v":{"$error":"#DIV/0!"}}]
[null,null,{"$f":"C103","v":0},null,null,null,null,null,null,null,null,null,null,{"$f":"IF(U110>0,2-T111,0.01)","v":0.01},null,null,{"$f":"IF(U113>0,2-T114,0.01)","v":0.01},null,null,null,null,null,{"$f":"IF(X116<1,0.01,IF(V116>S119,2,IF(V116=S119,1,0)))","v":0.01},null,null,null,{"$f":"N117+T117+W117","v":0.02}]
[null,null,null,null,null,null,null,null,null,null,null,null,{"$f":"F120","v":0},null,{"$f":"M116/O116","v":{"$error":"#DIV/0!"}},{"$f":"F117","v":0},null,{"$f":"P116/R116","v":{"$error":"#DIV/0!"}},null,null,null,{"$f":"F128","v":0},null,{"$f":"V116/X116","v":{"$error":"#DIV/0!"}},null,{"$f":"MAXA(V118,P118,M118)","v":0},null,{"$f":"Z116/AB116","v":{"$error":"#DIV/0!"}}]
[null,"Tour 3",{"$f":"C101","v":0},null,null,null,null,null,null,null,{"$f":"C104","v":0},null,{"$f":"D114","v":0},null,{"$f":"E113","v":0},{"$f":"D122","v":0},null,{"$f":"E122","v":0},{"$f":"D129","v":0},null,{"$f":"E128","v":0},null,null,null,null,{"$f":"S119+V119+Y119","v":0},null,{"$f":"U119+R119+O119","v":0},{"$f":"AV119","v":{"$error":"#DIV/0!"}},null,null,null,null,null,null,null,{"$f":"AA120","v":0.03},{"$f":"RANK(AK119,AK$110:AK$121,0)","v":1},{"$f":"AB121","v":{"$error":"#DIV/0!"}},{"$f":"RANK(AM119,AM$110:AM$121,0)","v":{"$error":"#DIV/0!"}},{"$f":"MAX(R121,U121,X121)","v":{"$error":"#DIV/0!"}},{"$f":"RANK(AO119,AO$110:AO$121)","v":{"$error":"#DIV/0!"}},{"$f":"Z121","v":0},{"$f":"RANK(AQ119,AQ$110:AQ$121)","v":1},{"$f":"(AL119*1000)+(AN119*100)+(AP119*10)+(AR119*1)","v":{"$error":"#DIV/0!"}},{"$f":"AS119","v":{"$error":"#DIV/0!"}},{"$f":"RANK(AT119,AT$110:AT$121,1)","v":{"$error":"#DIV/0!"}},{"$f":"RANK(AU119,AU$110:AU$121,1)","v":{"$error":"#DIV/0!"}}]
[null,null,{"$f":"C103","v":0},null,null,null,null,null,null,null,null,null,null,{"$f":"IF(X110>0,2-W111,0.01)","v":0.01},null,null,{"$f":"IF(X113>0,2-W114,0.01)","v":0.01},null,null,{"$f":"IF(X116>0,2-W117,0.01)","v":0.01},null,null,null,null,null,null,{"$f":"N120+Q120+T120","v":0.03}]
[null,null,null,null,null,null,null,null,null,null,null,null,{"$f":"F114","v":0},null,{"$f":"M119/O119","v":{"$error":"#DIV/0!"}},{"$f":"F122","v":0},null,{"$f":"P119/R119","v":{"$error":"#DIV/0!"}},{"$f":"F129","v":0},null,{"$f":"S119/U119","v":{"$error":"#DIV/0!"}},null,null,null,null,{"$f":"MAXA(S121,V121,Y121)","v":0},null,{"$f":"Z119/AB119","v":{"$error":"#DIV/0!"}}]
[null,"Tour 4",{"$f":"C104","v":0}]
[null,null,{"$f":"C102","v":0}]
[]
[null,"Tour 5",{"$f":"C101","v":0}]
[null,null,{"$f":"C102","v":0}]
[]
[null,"Tour 6",{"$f":"C103","v":0}]
[null,null,{"$f":"C104","v":0}]

{"sheet":"14JOUEURS_MOYENNE","index":45,"n_rows":129,"n_cols":48,"rows_kept":129,"cut":false,"hidden":true,"merged":[[118,44,120,44],[118,45,120,45],[118,46,120,46],[118,47,120,47],[121,1,122,1],[121,4,122,4],[122,12,122,29],[118,37,120,37],[118,38,120,38],[118,39,120,39],[118,40,120,40],[118,41,120,41],[118,42,120,42],[118,1,119,1],[118,4,119,4],[118,10,120,11],[118,21,120,23],[118,28,120,29],[118,36,120,36],[115,38,117,38],[115,39,117,39],[115,40,117,40],[115,41,117,41],[124,1,125,1],[124,4,125,4],[127,1,128,1],[127,4,128,4],[118,43,120,43],[112,43,114,43],[112,44,114,44],[112,45,114,45],[112,46,114,46],[112,47,114,47],[115,1,116,1],[115,4,116,4],[115,10,117,11],[115,18,117,20],[115,28,117,29],[112,37,114,37],[112,38,114,38],[112,39,114,39],[112,40,114,40],[112,41,114,41],[112,42,114,42],[115,42,117,42],[115,43,117,43],[115,44,117,44],[115,45,117,45],[115,46,117,46],[115,47,117,47],[115,36,117,36],[115,37,117,37],[112,1,113,1],[112,4,113,4],[112,10,114,11],[112,15,114,17],[112,28,114,29],[112,36,114,36],[109,38,111,38],[109,39,111,39],[109,40,111,40],[107,40,107,41],[107,42,107,43],[107,44,107,45],[107,47,108,47],[108,1,109,2],[109,10,111,11],[109,12,111,14],[109,28,111,29],[109,36,111,36],[109,37,111,37],[105,18,108,20],[105,21,108,23],[105,25,108,27],[105,28,108,29],[107,36,107,37],[107,38,107,39],[109,44,111,44],[109,45,111,45],[109,46,111,46],[109,47,111,47],[109,41,111,41],[109,42,111,42],[109,43,111,43],[101,2,101,5],[102,2,102,5],[105,1,106,5],[105,10,108,11],[105,12,108,14],[105,15,108,17],[93,1,94,1],[93,4,94,4],[96,1,97,1],[96,4,97,4],[99,2,99,5],[100,2,100,5],[90,1,91,1],[90,4,91,4],[91,12,91,29],[87,37,89,37],[87,38,89,38],[87,39,89,39],[87,40,89,40],[87,41,89,41],[87,42,89,42],[87,1,88,1],[87,4,88,4],[87,10,89,11],[87,21,89,23],[87,28,89,29],[87,36,89,36],[84,38,86,38],[84,39,86,39],[84,40,86,40],[84,41,86,41],[87,43,89,43],[87,44,89,44],[87,45,89,45],[87,46,89,46],[87,47,89,47],[81,43,83,43],[81,44,83,44],[81,45,83,45],[81,46,83,46],[81,47,83,47],[84,1,85,1],[84,4,85,4],[84,10,86,11],[84,18,86,20],[84,28,86,29],[81,37,83,37],[81,38,83,38],[81,39,83,39],[81,40,83,40],[81,41,83,41],[81,42,83,42],[84,42,86,42],[84,43,86,43],[84,44,86,44],[84,45,86,45],[84,46,86,46],[84,47,86,47],[84,36,86,36],[84,37,86,37],[81,1,82,1],[81,4,82,4],[81,10,83,11],[81,15,83,17],[81,28,83,29],[81,36,83,36],[78,38,80,38],[78,39,80,39],[78,40,80,40],[76,40,76,41],[76,42,76,43],[76,44,76,45],[76,47,77,47],[77,1,78,2],[78,10,80,11],[78,12,80,14],[78,28,80,29],[78,36,80,36],[78,37,80,37],[74,18,77,20],[74,21,77,23],[74,25,77,27],[74,28,77,29],[76,36,76,37],[76,38,76,39],[78,44,80,44],[78,45,80,45],[78,46,80,46],[78,47,80,47],[78,41,80,41],[78,42,80,42],[78,43,80,43],[70,2,70,5],[71,2,71,5],[74,1,75,5],[74,10,77,11],[74,12,77,14],[74,15,77,17],[62,1,63,1],[62,4,63,4],[65,1,66,1],[65,4,66,4],[68,2,68,5],[69,2,69,5],[53,47,55,47],[56,1,57,1],[56,4,57,4],[57,12,57,34],[59,1,60,1],[59,4,60,4],[53,41,55,41],[53,42,55,42],[53,43,55,43],[53,44,55,44],[53,45,55,45],[53,46,55,46],[53,34,55,34],[53,36,55,36],[53,37,55,37],[53,38,55,38],[53,39,55,39],[53,40,55,40],[53,1,54,1],[53,4,54,4],[53,10,55,11],[53,18,55,20],[53,27,55,29],[47,47,49,47],[50,1,51,1],[50,4,51,4],[50,10,52,11],[50,15,52,17],[50,24,52,26],[50,34,52,34],[50,36,52,36],[47,39,49,39],[47,40,49,40],[47,41,49,41],[47,42,49,42],[47,43,49,43],[47,44,49,44],[50,43,52,43],[50,44,52,44],[50,45,52,45],[50,46,52,46],[50,47,52,47],[50,41,52,41],[50,42,52,42],[50,37,52,37],[50,38,52,38],[50,39,52,39],[45,43,45,44],[45,46,46,46],[46,1,47,2],[47,10,49,11],[47,12,49,14],[47,21,49,23],[47,34,49,34],[47,36,49,36],[47,37,49,37],[47,38,49,38],[43,31,46,33],[43,34,46,34],[44,10,46,11],[45,36,45,37],[45,38,45,39],[45,41,45,42],[47,45,49,45],[47,46,49,46],[50,40,52,40],[41,12,41,20],[41,21,41,29],[43,1,44,5],[43,12,46,14],[43,15,46,17],[43,18,46,20],[43,21,46,23],[43,24,46,26],[43,27,46,29],[34,1,35,1],[34,4,35,4],[37,2,37,5],[38,2,38,5],[39,2,39,5],[40,2,40,5],[25,1,26,1],[25,4,26,4],[26,12,26,34],[28,1,29,1],[28,4,29,4],[31,1,32,1],[31,4,32,4],[22,45,24,45],[22,46,24,46],[22,47,24,47],[22,36,24,36],[22,37,24,37],[22,38,24,38],[22,39,24,39],[22,40,24,40],[22,41,24,41],[22,1,23,1],[22,4,23,4],[22,10,24,11],[22,18,24,20],[22,27,24,29],[22,34,24,34],[19,42,21,42],[19,43,21,43],[19,44,21,44],[22,42,24,42],[22,43,24,43],[22,44,24,44],[16,47,18,47],[19,1,20,1],[19,4,20,4],[19,10,21,11],[19,15,21,17],[19,24,21,26],[19,34,21,34],[16,38,18,38],[16,39,18,39],[16,40,18,40],[16,41,18,41],[16,42,18,42],[16,43,18,43],[19,45,21,45],[19,46,21,46],[19,47,21,47],[19,36,21,36],[19,37,21,37],[19,38,21,38],[19,39,21,39],[19,40,21,40],[19,41,21,41],[14,41,14,42],[14,43,14,44],[14,46,15,46],[15,1,16,2],[16,10,18,11],[16,12,18,14],[16,21,18,23],[16,34,18,34],[16,36,18,36],[16,37,18,37],[12,27,15,29],[12,31,15,33],[12,34,15,34],[13,10,15,11],[14,36,14,37],[14,38,14,39],[16,44,18,44],[16,45,18,45],[16,46,18,46],[9,2,9,5],[10,2,10,5],[10,12,10,20],[10,21,10,29],[12,1,13,5],[12,12,15,14],[12,15,15,17],[12,18,15,20],[12,21,15,23],[12,24,15,26],[7,12,7,15],[7,17,7,18],[7,20,7,21],[7,23,7,25],[7,27,7,28],[8,2,8,5],[1,12,4,35],[2,1,3,2],[2,3,3,9],[5,1,6,2],[5,3,6,9],[6,12,6,15],[6,17,6,18],[6,20,6,21],[6,23,6,25],[6,27,6,28]]}
[]
[null,null,null,null,null,null,null,null,null,null,null,null,"LIGUE MÉDITERRANÉENNE DE BILLARD"]
[null,"CLUB ORGANISATEUR"]
[]
[]
[null,"DIRECTEUR DE JEU :"]
[null,null,null,null,null,null,null,null,null,null,null,null,"Compétition",null,null,null,null,"Mode de jeu",null,null,"Categorie",null,null,"Format billard",null,null,null,"Distance"]
[]
[null,"Joueur 1",{"$f":"'Saisie des joueurs'!K18","v":0}]
[null,"Joueur 2",{"$f":"'Saisie des joueurs'!K19","v":0}]
[null,"Joueur 3",{"$f":"'Saisie des joueurs'!K20","v":0},null,null,null,null,null,null,null,null,null,"MATCH ALLER",null,null,null,null,null,null,null,null,"MATCH RETOUR"]
[]
[null,"SAISIE DES RESULTATS",null,null,null,null,null,null,null,null,null,null,{"$f":"C9","v":0},null,null,{"$f":"C10","v":0},null,null,{"$f":"C11","v":0},null,null,{"$f":"C9","v":0},null,null,{"$f":"C10","v":0},null,null,{"$f":"C11","v":0},null,null,null,"TOTAUX",null,null,"CLASSEMENT"]
[]
[null,null,null,null,null,null,null,null,null,null,null,null,null,null,null,null,null,null,null,null,null,null,null,null,null,null,null,null,null,null,null,null,null,null,null,null,"Classement",null,"Classement",null,"Classement","Classement",null,"Classement",null,"GENERAL","RANG"]
[null,"POULE A",null,null,null,null,null,null,null,null,null,null,null,null,null,null,null,null,null,null,null,null,null,null,null,null,null,null,null,null,null,null,null,null,null,null,"Point-Match","CLS-M","Moy-Gen","CLS-G","Moy-Part","M-Series","CLS-S","MGPS","CLS","CLS"]
[null,null,null,null,null,null,null,null,null,null,{"$f":"C9","v":0},null,"L",null,null,{"$f":"D26","v":0},null,{"$f":"E26","v":0},{"$f":"D20","v":0},null,{"$f":"E20","v":0},"L",null,null,{"$f":"D35","v":0},null,{"$f":"E35","v":0},{"$f":"D29","v":0},null,{"$f":"E29","v":0},null,{"$f":"P17+S17+Y17+AB17","v":0},null,{"$f":"R17+U17+AA17+AD17","v":0},{"$f":"AU17","v":{"$error":"#DIV/0!"}},null,{"$f":"AG18","v":0.04},{"$f":"RANK(AK17,AK$17:AK$25,0)","v":1},{"$f":"AH19","v":{"$error":"#DIV/0!"}},{"$f":"RANK(AM17,AM$17:AM$25,0)","v":{"$error":"#DIV/0!"}},{"$f":"MAX(R19,U19,AA19,AD19)","v":{"$error":"#DIV/0!"}},{"$f":"RANK(AO17,AO$17:AO$25)","v":{"$error":"#DIV/0!"}},{"$f":"AF19","v":0},{"$f":"RANK(AQ17,AQ$17:AQ$25)","v":1},{"$f":"(AL17*1000)+(AN17*100)+(AP17*10)+(AR17*1)","v":{"$error":"#DIV/0!"}},{"$f":"AS17","v":{"$error":"#DIV/0!"}},{"$f":"RANK(AT17,AT$17:AT$25,1)","v":{"$error":"#DIV/0!"}},{"$f":"RANK(AU17,AU$17:AU$25,1)","v":{"$error":"#DIV/0!"}}]
[null,null,null,null,null,null,null,null,null,null,null,null,null,null,null,null,{"$f":"IF(R17<1,0.01,IF(P17>M20,2,IF(P17=M20,1,0)))","v":0.01},null,null,{"$f":"IF(U17<1,0.01,IF(S17>M23,2,IF(S17=M23,1,0)))","v":0.01},null,null,null,null,null,{"$f":"IF(AA17<1,0.01,IF(Y17>V20,2,IF(Y17=V20,1,0)))","v":0.01},null,null,{"$f":"IF(AD17<1,0.01,IF(AB17>V23,2,IF(AB17=V23,1,0)))","v":0.01},null,null,null,{"$f":"Q18+T18+Z18+AC18","v":0.04}]
[null,null,null,"Pts","Rep","Série",null,null,null,null,null,null,null,null,null,{"$f":"F26","v":0},null,{"$f":"P17/R17","v":{"$error":"#DIV/0!"}},{"$f":"F20","v":0},null,{"$f":"S17/U17","v":{"$error":"#DIV/0!"}},null,null,null,{"$f":"F35","v":0},null,{"$f":"Y17/AA17","v":{"$error":"#DIV/0!"}},{"$f":"F29","v":0},null,{"$f":"AB17/AD17","v":{"$error":"#DIV/0!"}},null,{"$f":"MAX(P19,S19,Y19,AB19)","v":0},null,{"$f":"AF17/AH17","v":{"$error":"#DIV/0!"}}]
[null,"Tour 1\nMatch aller",{"$f":"C9","v":0},null,null,null,null,null,null,null,{"$f":"C10","v":0},null,{"$f":"D27","v":0},null,{"$f":"E26","v":0},"M",null,null,{"$f":"D23","v":0},null,{"$f":"E23","v":0},{"$f":"D36","v":0},null,{"$f":"E35","v":0},"M",null,null,{"$f":"D32","v":0},null,{"$f":"E32","v":0},null,{"$f":"M20+S20+V20+AB20","v":0},null,{"$f":"O20+U20+X20+AD20","v":0},{"$f":"AU20","v":{"$error":"#DIV/0!"}},null,{"$f":"AG21","v":0.04},{"$f":"RANK(AK20,AK$17:AK$25,0)","v":1},{"$f":"AH22","v":{"$error":"#DIV/0!"}},{"$f":"RANK(AM20,AM$17:AM$25,0)","v":{"$error":"#DIV/0!"}},{"$f":"MAX(R22,U22,AA22,AD22)","v":{"$error":"#DIV/0!"}},{"$f":"RANK(AO20,AO$17:AO$25)","v":{"$error":"#DIV/0!"}},{"$f":"AF22","v":0},{"$f":"RANK(AQ20,AQ$17:AQ$25)","v":1},{"$f":"(AL20*1000)+(AN20*100)+(AP20*10)+(AR20*1)","v":{"$error":"#DIV/0!"}},{"$f":"AS20","v":{"$error":"#DIV/0!"}},{"$f":"RANK(AT20,AT$17:AT$25,1)","v":{"$error":"#DIV/0!"}},{"$f":"RANK(AU20,AU$17:AU$25,1)","v":{"$error":"#DIV/0!"}}]
[null,null,{"$f":"C11","v":0},null,null,null,null,null,null,null,null,null,null,{"$f":"IF(R17>0,2-Q18,0.01)","v":0.01},null,null,null,null,null,{"$f":"IF(U20<1,0.01,IF(S20>P23,2,IF(S20=P23,1,0)))","v":0.01},null,null,{"$f":"IF(AA17>0,2-Z18,0.01)","v":0.01},null,null,null,null,null,{"$f":"IF(AD20<1,0.01,IF(AB20>Y23,2,IF(AB20=Y23,1,0)))","v":0.01},null,null,null,{"$f":"N21+T21+W21+AC21","v":0.04}]
[null,null,null,null,null,null,null,null,null,null,null,null,{"$f":"F27","v":0},null,{"$f":"M20/O20","v":{"$error":"#DIV/0!"}},null,null,null,{"$f":"F23","v":0},null,{"$f":"S20/U20","v":{"$error":"#DIV/0!"}},{"$f":"F36","v":0},null,{"$f":"V20/X20","v":{"$error":"#DIV/0!"}},null,null,null,{"$f":"F32","v":0},null,{"$f":"AB20/AD20","v":{"$error":"#DIV/0!"}},null,{"$f":"MAXA(M22,S22,V22,AB22)","v":0},null,{"$f":"AF20/AH20","v":{"$error":"#DIV/0!"}}]
[null,"Tour 2\nMatch aller",{"$f":"C10","v":0},null,null,null,null,null,null,null,{"$f":"C11","v":0},null,{"$f":"D21","v":0},null,{"$f":"E20","v":0},{"$f":"D24","v":0},null,{"$f":"E23","v":0},"B",null,null,{"$f":"D30","v":0},null,{"$f":"E29","v":0},{"$f":"D33","v":0},null,{"$f":"E32","v":0},"B",null,null,null,{"$f":"M23+P23+V23+Y23","v":0},null,{"$f":"O23+R23+X23+AA23","v":0},{"$f":"AU23","v":{"$error":"#DIV/0!"}},null,{"$f":"AG24","v":0.04},{"$f":"RANK(AK23,AK$17:AK$25,0)","v":1},{"$f":"AH25","v":{"$error":"#DIV/0!"}},{"$f":"RANK(AM23,AM$17:AM$25,0)","v":{"$error":"#DIV/0!"}},{"$f":"MAX(R25,U25,AA25,AD25)","v":{"$error":"#DIV/0!"}},{"$f":"RANK(AO23,AO$17:AO$25)","v":{"$error":"#DIV/0!"}},{"$f":"AF25","v":0},{"$f":"RANK(AQ23,AQ$17:AQ$25)","v":1},{"$f":"(AL23*1000)+(AN23*100)+(AP23*10)+(AR23*1)","v":{"$error":"#DIV/0!"}},{"$f":"AS23","v":{"$error":"#DIV/0!"}},{"$f":"RANK(AT23,AT$17:AT$25,1)","v":{"$error":"#DIV/0!"}},{"$f":"RANK(AU23,AU$17:AU$25,1)","v":{"$error":"#DIV/0!"}}]
[null,null,{"$f":"C11","v":0},null,null,null,null,null,null,null,null,null,null,{"$f":"IF(U17>0,2-T18,0.01)","v":0.01},null,null,{"$f":"IF(U20>0,2-T21,0.01)","v":0.01},null,null,null,null,null,{"$f":"IF(AD17>0,2-AC18,0.01)","v":0.01},null,null,{"$f":"IF(AD20>0,2-AC21,0.01)","v":0.01},null,null,null,null,null,null,{"$f":"N24+Q24+W24+Z24","v":0.04}]
[null,null,null,null,null,null,null,null,null,null,null,null,{"$f":"F21","v":0},null,{"$f":"M23/O23","v":{"$error":"#DIV/0!"}},{"$f":"F24","v":0},null,{"$f":"P23/R23","v":{"$error":"#DIV/0!"}},null,null,null,{"$f":"F30","v":0},null,{"$f":"V23/X23","v":{"$error":"#DIV/0!"}},{"$f":"F33","v":0},null,{"$f":"Y23/AA23","v":{"$error":"#DIV/0!"}},null,null,null,null,{"$f":"MAXA(M25,P25,V25,Y25)","v":0},null,{"$f":"AF23/AH23","v":{"$error":"#DIV/0!"}}]
[null,"Tour 3\nMatch aller",{"$f":"C9","v":0}]
[null,null,{"$f":"C10","v":0},null,null,null,null,null,null,null,null,null,"Pas de prolongation en cas de match nul."]
[]
[null,"Tour 1\nMatch retour",{"$f":"C9","v":0}]
[null,null,{"$f":"C11","v":0}]
[]
[null,"Tour 2\nMatch retour",{"$f":"C10","v":0}]
[null,null,{"$f":"C11","v":0}]
[]
[null,"Tour 3\nMatch retour",{"$f":"C9","v":0}]
[null,null,{"$f":"C10","v":0}]
[]
[null,"Joueur 1",{"$f":"'Saisie des joueurs'!K21","v":0}]
[null,"Joueur 2",{"$f":"'Saisie des joueurs'!K22","v":0}]
[null,"Joueur 3",{"$f":"'Saisie des joueurs'!K23","v":0}]
[]
[null,null,null,null,null,null,null,null,null,null,null,null,"MATCH ALLER",null,null,null,null,null,null,null,null,"MATCH RETOUR"]
[]
[null,"SAISIE DES RESULTATS",null,null,null,null,null,null,null,null,null,null,{"$f":"C38","v":0},null,null,{"$f":"C39","v":0},null,null,{"$f":"C40","v":0},null,null,{"$f":"C38","v":0},null,null,{"$f":"C39","v":0},null,null,{"$f":"C40","v":0},null,null,null,"TOTAUX",null,null,"CLASSEMENT"]
[]
[null,null,null,null,null,null,null,null,null,null,null,null,null,null,null,null,null,null,null,null,null,null,null,null,null,null,null,null,null,null,null,null,null,null,null,null,"Classement",null,"Classement",null,"Classement","Classement",null,"Classement",null,"GENERAL","RANG"]
[null,"POULE B",null,null,null,null,null,null,null,null,null,null,null,null,null,null,null,null,null,null,null,null,null,null,null,null,null,null,null,null,null,null,null,null,null,null,"Point-Match","CLS-M","Moy-Gen","CLS-G","Moy-Part","M-Series","CLS-S","MGPS","CLS","CLS"]
[null,null,null,null,null,null,null,null,null,null,{"$f":"C38","v":0},null,"L",null,null,{"$f":"D57","v":0},null,{"$f":"E57","v":0},{"$f":"D51","v":0},null,{"$f":"E51","v":0},"L",null,null,{"$f":"D66","v":0},null,{"$f":"E66","v":0},{"$f":"D60","v":0},null,{"$f":"E60","v":0},null,{"$f":"P48+S48+Y48+AB48","v":0},null,{"$f":"R48+U48+AA48+AD48","v":0},{"$f":"AU48","v":{"$error":"#DIV/0!"}},null,{"$f":"AG49","v":0.04},{"$f":"RANK(AK48,AK$48:AK$56,0)","v":1},{"$f":"AH50","v":{"$error":"#DIV/0!"}},{"$f":"RANK(AM48,AM$48:AM$56,0)","v":{"$error":"#DIV/0!"}},{"$f":"MAX(R50,U50,AA50,AD50)","v":{"$error":"#DIV/0!"}},{"$f":"RANK(AO48,AO$48:AO$56)","v":{"$error":"#DIV/0!"}},{"$f":"AF50","v":0},{"$f":"RANK(AQ48,AQ$48:AQ$56)","v":1},{"$f":"(AL48*1000)+(AN48*100)+(AP48*10)+(AR48*1)","v":{"$error":"#DIV/0!"}},{"$f":"AS48","v":{"$error":"#DIV/0!"}},{"$f":"RANK(AT48,AT$48:AT$56,1)","v":{"$error":"#DIV/0!"}},{"$f":"RANK(AU48,AU$48:AU$56,1)","v":{"$error":"#DIV/0!"}}]
[null,null,null,null,null,null,null,null,null,null,null,null,null,null,null,null,{"$f":"IF(R48<1,0.01,IF(P48>M51,2,IF(P48=M51,1,0)))","v":0.01},null,null,{"$f":"IF(U48<1,0.01,IF(S48>M54,2,IF(S48=M54,1,0)))","v":0.01},null,null,null,null,null,{"$f":"IF(AA48<1,0.01,IF(Y48>V51,2,IF(Y48=V51,1,0)))","v":0.01},null,null,{"$f":"IF(AD48<1,0.01,IF(AB48>V54,2,IF(AB48=V54,1,0)))","v":0.01},null,null,null,{"$f":"Q49+T49+Z49+AC49","v":0.04}]
[null,null,null,"Pts","Rep","Série",null,null,null,null,null,null,null,null,null,{"$f":"F57","v":0},null,{"$f":"P48/R48","v":{"$error":"#DIV/0!"}},{"$f":"F51","v":0},null,{"$f":"S48/U48","v":{"$error":"#DIV/0!"}},null,null,null,{"$f":"F66","v":0},null,{"$f":"Y48/AA48","v":{"$error":"#DIV/0!"}},{"$f":"F60","v":0},null,{"$f":"AB48/AD48","v":{"$error":"#DIV/0!"}},null,{"$f":"MAX(P50,S50,Y50,AB50)","v":0},null,{"$f":"AF48/AH48","v":{"$error":"#DIV/0!"}}]
[null,"Tour 1\nMatch aller",{"$f":"C38","v":0},null,null,null,null,null,null,null,{"$f":"C39","v":0},null,{"$f":"D58","v":0},null,{"$f":"E57","v":0},"M",null,null,{"$f":"D54","v":0},null,{"$f":"E54","v":0},{"$f":"D67","v":0},null,{"$f":"E66","v":0},"M",null,null,{"$f":"D63","v":0},null,{"$f":"E63","v":0},null,{"$f":"M51+S51+V51+AB51","v":0},null,{"$f":"O51+U51+X51+AD51","v":0},{"$f":"AU51","v":{"$error":"#DIV/0!"}},null,{"$f":"AG52","v":0.04},{"$f":"RANK(AK51,AK$48:AK$56,0)","v":1},{"$f":"AH53","v":{"$error":"#DIV/0!"}},{"$f":"RANK(AM51,AM$48:AM$56,0)","v":{"$error":"#DIV/0!"}},{"$f":"MAX(O53,U53,X53,AD53)","v":{"$error":"#DIV/0!"}},{"$f":"RANK(AO51,AO$48:AO$56)","v":{"$error":"#DIV/0!"}},{"$f":"AF53","v":0},{"$f":"RANK(AQ51,AQ$48:AQ$56)","v":1},{"$f":"(AL51*1000)+(AN51*100)+(AP51*10)+(AR51*1)","v":{"$error":"#DIV/0!"}},{"$f":"AS51","v":{"$error":"#DIV/0!"}},{"$f":"RANK(AT51,AT$48:AT$56,1)","v":{"$error":"#DIV/0!"}},{"$f":"RANK(AU51,AU$48:AU$56,1)","v":{"$error":"#DIV/0!"}}]
[null,null,{"$f":"C40","v":0},null,null,null,null,null,null,null,null,null,null,{"$f":"IF(R48>0,2-Q49,0.01)","v":0.01},null,null,null,null,null,{"$f":"IF(U51<1,0.01,IF(S51>P54,2,IF(S51=P54,1,0)))","v":0.01},null,null,{"$f":"IF(AA48>0,2-Z49,0.01)","v":0.01},null,null,null,null,null,{"$f":"IF(AD51<1,0.01,IF(AB51>Y54,2,IF(AB51=Y54,1,0)))","v":0.01},null,null,null,{"$f":"N52+T52+W52+AC52","v":0.04}]
[null,null,null,null,null,null,null,null,null,null,null,null,{"$f":"F58","v":0},null,{"$f":"M51/O51","v":{"$error":"#DIV/0!"}},null,null,null,{"$f":"F54","v":0},null,{"$f":"S51/U51","v":{"$error":"#DIV/0!"}},{"$f":"F67","v":0},null,{"$f":"V51/X51","v":{"$error":"#DIV/0!"}},null,null,null,{"$f":"F63","v":0},null,{"$f":"AB51/AD51","v":{"$error":"#DIV/0!"}},null,{"$f":"MAXA(M53,S53,V53,AB53)","v":0},null,{"$f":"AF51/AH51","v":{"$error":"#DIV/0!"}}]
[null,"Tour 2\nMatch aller",{"$f":"C39","v":0},null,null,null,null,null,null,null,{"$f":"C40","v":0},null,{"$f":"D52","v":0},null,{"$f":"E51","v":0},{"$f":"D55","v":0},null,{"$f":"E54","v":0},"B",null,null,{"$f":"D61","v":0},null,{"$f":"E60","v":0},{"$f":"D64","v":0},null,{"$f":"E63","v":0},"B",null,null,null,{"$f":"M54+P54+V54+Y54","v":0},null,{"$f":"O54+R54+X54+AA54","v":0},{"$f":"AU54","v":{"$error":"#DIV/0!"}},null,{"$f":"AG55","v":0.04},{"$f":"RANK(AK54,AK$48:AK$56,0)","v":1},{"$f":"AH56","v":{"$error":"#DIV/0!"}},{"$f":"RANK(AM54,AM$48:AM$56,0)","v":{"$error":"#DIV/0!"}},{"$f":"MAX(O56,R56,X56,AA56)","v":{"$error":"#DIV/0!"}},{"$f":"RANK(AO54,AO$48:AO$56)","v":{"$error":"#DIV/0!"}},{"$f":"AF56","v":0},{"$f":"RANK(AQ54,AQ$48:AQ$56)","v":1},{"$f":"(AL54*1000)+(AN54*100)+(AP54*10)+(AR54*1)","v":{"$error":"#DIV/0!"}},{"$f":"AS54","v":{"$error":"#DIV/0!"}},{"$f":"RANK(AT54,AT$48:AT$56,1)","v":{"$error":"#DIV/0!"}},{"$f":"RANK(AU54,AU$48:AU$56,1)","v":{"$error":"#DIV/0!"}}]
[null,null,{"$f":"C40","v":0},null,null,null,null,null,null,null,null,null,null,{"$f":"IF(U48>0,2-T49,0.01)","v":0.01},null,null,{"$f":"IF(U51>0,2-T52,0.01)","v":0.01},null,null,null,null,null,{"$f":"IF(AD48>0,2-AC49,0.01)","v":0.01},null,null,{"$f":"IF(AD51>0,2-AC52,0.01)","v":0.01},null,null,null,null,null,null,{"$f":"N55+Q55+W55+Z55","v":0.04}]
[null,null,null,null,null,null,null,null,null,null,null,null,{"$f":"F52","v":0},null,{"$f":"M54/O54","v":{"$error":"#DIV/0!"}},{"$f":"F55","v":0},null,{"$f":"P54/R54","v":{"$error":"#DIV/0!"}},null,null,null,{"$f":"F61","v":0},null,{"$f":"V54/X54","v":{"$error":"#DIV/0!"}},{"$f":"F64","v":0},null,{"$f":"Y54/AA54","v":{"$error":"#DIV/0!"}},null,null,null,null,{"$f":"MAXA(M56,P56,V56,Y56)","v":0},null,{"$f":"AF54/AH54","v":{"$error":"#DIV/0!"}}]
[null,"Tour 3\nMatch aller",{"$f":"C38","v":0}]
[null,null,{"$f":"C39","v":0},null,null,null,null,null,null,null,null,null,"Pas de prolongation en cas de match nul."]
[]
[null,"Tour 1\nMatch retour",{"$f":"C38","v":0}]
[null,null,{"$f":"C40","v":0}]
[]
[null,"Tour 2\nMatch retour",{"$f":"C39","v":0}]
[null,null,{"$f":"C40","v":0}]
[]
[null,"Tour 3\nMatch retour",{"$f":"C38","v":0}]
[null,null,{"$f":"C39","v":0}]
[]
[null,"Joueur 1",{"$f":"'Saisie des joueurs'!K24","v":0}]
[null,"Joueur 2",{"$f":"'Saisie des joueurs'!K25","v":0}]
[null,"Joueur 3",{"$f":"'Saisie des joueurs'!K26","v":0}]
[null,"Joueur 4",{"$f":"'Saisie des joueurs'!K27","v":0}]
[]
[]
[null,"SAISIE DES RESULTATS",null,null,null,null,null,null,null,null,null,null,{"$f":"C69","v":0},null,null,{"$f":"C70","v":0},null,null,{"$f":"C71","v":0},null,null,{"$f":"C72","v":0},null,null,null,"TOTAUX",null,null,"CLASSEMENT"]
[]
[null,null,null,null,null,null,null,null,null,null,null,null,null,null,null,null,null,null,null,null,null,null,null,null,null,null,null,null,null,null,null,null,null,null,null,null,"Classement",null,"Classement",null,"Classement",null,"Classement",null,"Classement",null,"GENERAL","RANG"]
[null,"POULE C",null,null,null,null,null,null,null,null,null,null,null,null,null,null,null,null,null,null,null,null,null,null,null,null,null,null,null,null,null,null,null,null,null,null,"Point-Match","CLS-M","Moy-Gen","CLS-G","Moy-Part","CLS-P","M-Series","CLS-S","MGPS","CLS","CLS"]
[null,null,null,null,null,null,null,null,null,null,{"$f":"C69","v":0},null,"L",null,null,{"$f":"D94","v":0},null,{"$f":"E94","v":0},{"$f":"D88","v":0},null,{"$f":"E88","v":0},{"$f":"D82","v":0},null,{"$f":"E82","v":0},null,{"$f":"P79+S79+V79","v":0},null,{"$f":"R79+U79+X79","v":0},{"$f":"AV79","v":{"$error":"#DIV/0!"}},null,null,null,null,null,null,null,{"$f":"AA80","v":0.03},{"$f":"RANK(AK79,AK$79:AK$90,0)","v":1},{"$f":"AB81","v":{"$error":"#DIV/0!"}},{"$f":"RANK(AM79,AM$79:AM$90,0)","v":{"$error":"#DIV/0!"}},{"$f":"MAX(R81,U81,X81)","v":{"$error":"#DIV/0!"}},{"$f":"RANK(AO79,AO$79:AO$90)","v":{"$error":"#DIV/0!"}},{"$f":"Z81","v":0},{"$f":"RANK(AQ79,AQ$79:AQ$90)","v":1},{"$f":"(AL79*1000)+(AN79*100)+(AP79*10)+(AR79*1)","v":{"$error":"#DIV/0!"}},{"$f":"AS79","v":{"$error":"#DIV/0!"}},{"$f":"RANK(AT79,AT$79:AT$90,1)","v":{"$error":"#DIV/0!"}},{"$f":"RANK(AU79,AU$79:AU$90,1)","v":{"$error":"#DIV/0!"}}]
[null,null,null,null,null,null,null,null,null,null,null,null,null,null,null,null,{"$f":"IF(R79<1,0.01,IF(P79>M82,2,IF(P79=M82,1,0)))","v":0.01},null,null,{"$f":"IF(U79<1,0.01,IF(S79>M85,2,IF(S79=M85,1,0)))","v":0.01},null,null,{"$f":"IF(X79<1,0.01,IF(V79>M88,2,IF(V79=M88,1,0)))","v":0.01},null,null,null,{"$f":"W80+T80+Q80","v":0.03}]
[null,null,null,"Pts","Rep","Série",null,null,null,null,null,null,null,null,null,{"$f":"F94","v":0},null,{"$f":"P79/R79","v":{"$error":"#DIV/0!"}},{"$f":"F88","v":0},null,{"$f":"S79/U79","v":{"$error":"#DIV/0!"}},{"$f":"F82","v":0},null,{"$f":"V79/X79","v":{"$error":"#DIV/0!"}},null,{"$f":"MAX(V81,S81,P81)","v":0},null,{"$f":"Z79/AB79","v":{"$error":"#DIV/0!"}}]
[null,"Tour 1",{"$f":"C69","v":0},null,null,null,null,null,null,null,{"$f":"C70","v":0},null,{"$f":"D95","v":0},null,{"$f":"E94","v":0},"M",null,null,{"$f":"D85","v":0},null,{"$f":"E85","v":0},{"$f":"D92","v":0},null,{"$f":"E91","v":0},null,{"$f":"M82+S82+V82","v":0},null,{"$f":"O82+U82+X82","v":0},{"$f":"AV82","v":{"$error":"#DIV/0!"}},null,null,null,null,null,null,null,{"$f":"AA83","v":0.03},{"$f":"RANK(AK82,AK$79:AK$90,0)","v":1},{"$f":"AB84","v":{"$error":"#DIV/0!"}},{"$f":"RANK(AM82,AM$79:AM$90,0)","v":{"$error":"#DIV/0!"}},{"$f":"MAX(R84,U84,X84)","v":{"$error":"#DIV/0!"}},{"$f":"RANK(AO82,AO$79:AO$90)","v":{"$error":"#DIV/0!"}},{"$f":"Z84","v":0},{"$f":"RANK(AQ82,AQ$79:AQ$90)","v":1},{"$f":"(AL82*1000)+(AN82*100)+(AP82*10)+(AR82*1)","v":{"$error":"#DIV/0!"}},{"$f":"AS82","v":{"$error":"#DIV/0!"}},{"$f":"RANK(AT82,AT$79:AT$90,1)","v":{"$error":"#DIV/0!"}},{"$f":"RANK(AU82,AU$79:AU$90,1)","v":{"$error":"#DIV/0!"}}]
[null,null,{"$f":"C72","v":0},null,null,null,null,null,null,null,null,null,null,{"$f":"IF(R79>0,2-Q80,0.01)","v":0.01},null,null,null,null,null,{"$f":"IF(U82<1,0.01,IF(S82>P85,2,IF(S82=P85,1,0)))","v":0.01},null,null,{"$f":"IF(X82<1,0.01,IF(V82>P88,2,IF(V82=P88,1,0)))","v":0.01},null,null,null,{"$f":"N83+T83+W83","v":0.03}]
[null,null,null,null,null,null,null,null,null,null,null,null,{"$f":"F95","v":0},null,{"$f":"M82/O82","v":{"$error":"#DIV/0!"}},null,null,null,{"$f":"F85","v":0},null,{"$f":"S82/U82","v":{"$error":"#DIV/0!"}},{"$f":"F92","v":0},null,{"$f":"V82/X82","v":{"$error":"#DIV/0!"}},null,{"$f":"MAXA(S84,V84,M84)","v":0},null,{"$f":"Z82/AB82","v":{"$error":"#DIV/0!"}}]
[null,"Tour 2",{"$f":"C70","v":0},null,null,null,null,null,null,null,{"$f":"C71","v":0},null,{"$f":"D89","v":0},null,{"$f":"E88","v":0},{"$f":"D86","v":0},null,{"$f":"E85","v":0},"B",null,null,{"$f":"D97","v":0},null,{"$f":"E97","v":0},null,{"$f":"M85+P85+V85","v":0},null,{"$f":"O85+U85+X85","v":0},{"$f":"AV85","v":{"$error":"#DIV/0!"}},null,null,null,null,null,null,null,{"$f":"AA86","v":0.02},{"$f":"RANK(AK85,AK$79:AK$90,0)","v":4},{"$f":"AB87","v":{"$error":"#DIV/0!"}},{"$f":"RANK(AM85,AM$79:AM$90,0)","v":{"$error":"#DIV/0!"}},{"$f":"MAX(R87,U87,X87)","v":{"$error":"#DIV/0!"}},{"$f":"RANK(AO85,AO$79:AO$90)","v":{"$error":"#DIV/0!"}},{"$f":"Z87","v":0},{"$f":"RANK(AQ85,AQ$79:AQ$90)","v":1},{"$f":"(AL85*1000)+(AN85*100)+(AP85*10)+(AR85*1)","v":{"$error":"#DIV/0!"}},{"$f":"AS85","v":{"$error":"#DIV/0!"}},{"$f":"RANK(AT85,AT$79:AT$90,1)","v":{"$error":"#DIV/0!"}},{"$f":"RANK(AU85,AU$79:AU$90,1)","v":{"$error":"#DIV/0!"}}]
[null,null,{"$f":"C71","v":0},null,null,null,null,null,null,null,null,null,null,{"$f":"IF(U79>0,2-T80,0.01)","v":0.01},null,null,{"$f":"IF(U82>0,2-T83,0.01)","v":0.01},null,null,null,null,null,{"$f":"IF(X85<1,0.01,IF(V85>S88,2,IF(V85=S88,1,0)))","v":0.01},null,null,null,{"$f":"N86+T86+W86","v":0.02}]
[null,null,null,null,null,null,null,null,null,null,null,null,{"$f":"F89","v":0},null,{"$f":"M85/O85","v":{"$error":"#DIV/0!"}},{"$f":"F86","v":0},null,{"$f":"P85/R85","v":{"$error":"#DIV/0!"}},null,null,null,{"$f":"F97","v":0},null,{"$f":"V85/X85","v":{"$error":"#DIV/0!"}},null,{"$f":"MAXA(V87,P87,M87)","v":0},null,{"$f":"Z85/AB85","v":{"$error":"#DIV/0!"}}]
[null,"Tour 3",{"$f":"C69","v":0},null,null,null,null,null,null,null,{"$f":"C72","v":0},null,{"$f":"D83","v":0},null,{"$f":"E82","v":0},{"$f":"D91","v":0},null,{"$f":"E91","v":0},{"$f":"D98","v":0},null,{"$f":"E97","v":0},null,null,null,null,{"$f":"S88+V88+Y88","v":0},null,{"$f":"U88+R88+O88","v":0},{"$f":"AV88","v":{"$error":"#DIV/0!"}},null,null,null,null,null,null,null,{"$f":"AA89","v":0.03},{"$f":"RANK(AK88,AK$79:AK$90,0)","v":1},{"$f":"AB90","v":{"$error":"#DIV/0!"}},{"$f":"RANK(AM88,AM$79:AM$90,0)","v":{"$error":"#DIV/0!"}},{"$f":"MAX(R90,U90,X90)","v":{"$error":"#DIV/0!"}},{"$f":"RANK(AO88,AO$79:AO$90)","v":{"$error":"#DIV/0!"}},{"$f":"Z90","v":0},{"$f":"RANK(AQ88,AQ$79:AQ$90)","v":1},{"$f":"(AL88*1000)+(AN88*100)+(AP88*10)+(AR88*1)","v":{"$error":"#DIV/0!"}},{"$f":"AS88","v":{"$error":"#DIV/0!"}},{"$f":"RANK(AT88,AT$79:AT$90,1)","v":{"$error":"#DIV/0!"}},{"$f":"RANK(AU88,AU$79:AU$90,1)","v":{"$error":"#DIV/0!"}}]
[null,null,{"$f":"C71","v":0},null,null,null,null,null,null,null,null,null,null,{"$f":"IF(X79>0,2-W80,0.01)","v":0.01},null,null,{"$f":"IF(X82>0,2-W83,0.01)","v":0.01},null,null,{"$f":"IF(X85>0,2-W86,0.01)","v":0.01},null,null,null,null,null,null,{"$f":"N89+Q89+T89","v":0.03}]
[null,null,null,null,null,null,null,null,null,null,null,null,{"$f":"F83","v":0},null,{"$f":"M88/O88","v":{"$error":"#DIV/0!"}},{"$f":"F91","v":0},null,{"$f":"P88/R88","v":{"$error":"#DIV/0!"}},{"$f":"F98","v":0},null,{"$f":"S88/U88","v":{"$error":"#DIV/0!"}},null,null,null,null,{"$f":"MAXA(S90,V90,Y90)","v":0},null,{"$f":"Z88/AB88","v":{"$error":"#DIV/0!"}}]
[null,"Tour 4",{"$f":"C72","v":0}]
[null,null,{"$f":"C70","v":0},null,null,null,null,null,null,null,null,null,"Pas de prolongation en cas de match nul."]
[]
[null,"Tour 5",{"$f":"C69","v":0}]
[null,null,{"$f":"C70","v":0}]
[]
[null,"Tour 6",{"$f":"C71","v":0}]
[null,null,{"$f":"C72","v":0}]
[]
[null,"Joueur 1",{"$f":"'Saisie des joueurs'!K28","v":0}]
[null,"Joueur 2",{"$f":"'Saisie des joueurs'!K29","v":0}]
[null,"Joueur 3",{"$f":"'Saisie des joueurs'!K30","v":0}]
[null,"Joueur 4",{"$f":"'Saisie des joueurs'!K31","v":0}]
[]
[]
[null,"SAISIE DES RESULTATS",null,null,null,null,null,null,null,null,null,null,{"$f":"C100","v":0},null,null,{"$f":"C101","v":0},null,null,{"$f":"C102","v":0},null,null,{"$f":"C103","v":0},null,null,null,"TOTAUX",null,null,"CLASSEMENT"]
[]
[null,null,null,null,null,null,null,null,null,null,null,null,null,null,null,null,null,null,null,null,null,null,null,null,null,null,null,null,null,null,null,null,null,null,null,null,"Classement",null,"Classement",null,"Classement",null,"Classement",null,"Classement",null,"GENERAL","RANG"]
[null,"POULE D",null,null,null,null,null,null,null,null,null,null,null,null,null,null,null,null,null,null,null,null,null,null,null,null,null,null,null,null,null,null,null,null,null,null,"Point-Match","CLS-M","Moy-Gen","CLS-G","Moy-Part","CLS-P","M-Series","CLS-S","MGPS","CLS","CLS"]
[null,null,null,null,null,null,null,null,null,null,{"$f":"C100","v":0},null,"L",null,null,{"$f":"D125","v":0},null,{"$f":"E125","v":0},{"$f":"D119","v":0},null,{"$f":"E119","v":0},{"$f":"D113","v":0},null,{"$f":"E113","v":0},null,{"$f":"P110+S110+V110","v":0},null,{"$f":"R110+U110+X110","v":0},{"$f":"AV110","v":{"$error":"#DIV/0!"}},null,null,null,null,null,null,null,{"$f":"AA111","v":0.03},{"$f":"RANK(AK110,AK$110:AK$121,0)","v":1},{"$f":"AB112","v":{"$error":"#DIV/0!"}},{"$f":"RANK(AM110,AM$79:AM$90,0)","v":{"$error":"#DIV/0!"}},{"$f":"MAX(R112,U112,X112)","v":{"$error":"#DIV/0!"}},{"$f":"RANK(AO110,AO$110:AO$121)","v":{"$error":"#DIV/0!"}},{"$f":"Z112","v":0},{"$f":"RANK(AQ110,AQ$110:AQ$121)","v":1},{"$f":"(AL110*1000)+(AN110*100)+(AP110*10)+(AR110*1)","v":{"$error":"#DIV/0!"}},{"$f":"AS110","v":{"$error":"#DIV/0!"}},{"$f":"RANK(AT110,AT$110:AT$121,1)","v":{"$error":"#DIV/0!"}},{"$f":"RANK(AU110,AU$110:AU$121,1)","v":{"$error":"#DIV/0!"}}]
[null,null,null,null,null,null,null,null,null,null,null,null,null,null,null,null,{"$f":"IF(R110<1,0.01,IF(P110>M113,2,IF(P110=M113,1,0)))","v":0.01},null,null,{"$f":"IF(U110<1,0.01,IF(S110>M116,2,IF(S110=M116,1,0)))","v":0.01},null,null,{"$f":"IF(X110<1,0.01,IF(V110>M119,2,IF(V110=M119,1,0)))","v":0.01},null,null,null,{"$f":"W111+T111+Q111","v":0.03}]
[null,null,null,"Pts","Rep","Série",null,null,null,null,null,null,null,null,null,{"$f":"F125","v":0},null,{"$f":"P110/R110","v":{"$error":"#DIV/0!"}},{"$f":"F119","v":0},null,{"$f":"S110/U110","v":{"$error":"#DIV/0!"}},{"$f":"F113","v":0},null,{"$f":"V110/X110","v":{"$error":"#DIV/0!"}},null,{"$f":"MAX(V112,S112,P112)","v":0},null,{"$f":"Z110/AB110","v":{"$error":"#DIV/0!"}}]
[null,"Tour 1",{"$f":"C100","v":0},null,null,null,null,null,null,null,{"$f":"C101","v":0},null,{"$f":"D126","v":0},null,{"$f":"E125","v":0},"M",null,null,{"$f":"D116","v":0},null,{"$f":"E116","v":0},{"$f":"D123","v":0},null,{"$f":"E122","v":0},null,{"$f":"M113+S113+V113","v":0},null,{"$f":"O113+U113+X113","v":0},{"$f":"AV113","v":{"$error":"#DIV/0!"}},null,null,null,null,null,null,null,{"$f":"AA114","v":0.03},{"$f":"RANK(AK113,AK$110:AK$121,0)","v":1},{"$f":"AB115","v":{"$error":"#DIV/0!"}},{"$f":"RANK(AM113,AM$79:AM$90,0)","v":{"$error":"#DIV/0!"}},{"$f":"MAX(R115,U115,X115)","v":{"$error":"#DIV/0!"}},{"$f":"RANK(AO113,AO$110:AO$121)","v":{"$error":"#DIV/0!"}},{"$f":"Z115","v":0},{"$f":"RANK(AQ113,AQ$110:AQ$121)","v":1},{"$f":"(AL113*1000)+(AN113*100)+(AP113*10)+(AR113*1)","v":{"$error":"#DIV/0!"}},{"$f":"AS113","v":{"$error":"#DIV/0!"}},{"$f":"RANK(AT113,AT$110:AT$121,1)","v":{"$error":"#DIV/0!"}},{"$f":"RANK(AU113,AU$110:AU$121,1)","v":{"$error":"#DIV/0!"}}]
[null,null,{"$f":"C103","v":0},null,null,null,null,null,null,null,null,null,null,{"$f":"IF(R110>0,2-Q111,0.01)","v":0.01},null,null,null,null,null,{"$f":"IF(U113<1,0.01,IF(S113>P116,2,IF(S113=P116,1,0)))","v":0.01},null,null,{"$f":"IF(X113<1,0.01,IF(V113>P119,2,IF(V113=P119,1,0)))","v":0.01},null,null,null,{"$f":"N114+T114+W114","v":0.03}]
[null,null,null,null,null,null,null,null,null,null,null,null,{"$f":"F126","v":0},null,{"$f":"M113/O113","v":{"$error":"#DIV/0!"}},null,null,null,{"$f":"F116","v":0},null,{"$f":"S113/U113","v":{"$error":"#DIV/0!"}},{"$f":"F123","v":0},null,{"$f":"V113/X113","v":{"$error":"#DIV/0!"}},null,{"$f":"MAXA(S115,V115,M115)","v":0},null,{"$f":"Z113/AB113","v":{"$error":"#DIV/0!"}}]
[null,"Tour 2",{"$f":"C101","v":0},null,null,null,null,null,null,null,{"$f":"C102","v":0},null,{"$f":"D120","v":0},null,{"$f":"E119","v":0},{"$f":"D117","v":0},null,{"$f":"E116","v":0},"B",null,null,{"$f":"D128","v":0},null,{"$f":"E128","v":0},null,{"$f":"M116+P116+V116","v":0},null,{"$f":"O116+U116+X116","v":0},{"$f":"AV116","v":{"$error":"#DIV/0!"}},null,null,null,null,null,null,null,{"$f":"AA117","v":0.02},{"$f":"RANK(AK116,AK$110:AK$121,0)","v":4},{"$f":"AB118","v":{"$error":"#DIV/0!"}},{"$f":"RANK(AM116,AM$79:AM$90,0)","v":{"$error":"#DIV/0!"}},{"$f":"MAX(R118,U118,X118)","v":{"$error":"#DIV/0!"}},{"$f":"RANK(AO116,AO$110:AO$121)","v":{"$error":"#DIV/0!"}},{"$f":"Z118","v":0},{"$f":"RANK(AQ116,AQ$110:AQ$121)","v":1},{"$f":"(AL116*1000)+(AN116*100)+(AP116*10)+(AR116*1)","v":{"$error":"#DIV/0!"}},{"$f":"AS116","v":{"$error":"#DIV/0!"}},{"$f":"RANK(AT116,AT$110:AT$121,1)","v":{"$error":"#DIV/0!"}},{"$f":"RANK(AU116,AU$110:AU$121,1)","v":{"$error":"#DIV/0!"}}]
[null,null,{"$f":"C102","v":0},null,null,null,null,null,null,null,null,null,null,{"$f":"IF(U110>0,2-T111,0.01)","v":0.01},null,null,{"$f":"IF(U113>0,2-T114,0.01)","v":0.01},null,null,null,null,null,{"$f":"IF(X116<1,0.01,IF(V116>S119,2,IF(V116=S119,1,0)))","v":0.01},null,null,null,{"$f":"N117+T117+W117","v":0.02}]
[null,null,null,null,null,null,null,null,null,null,null,null,{"$f":"F120","v":0},null,{"$f":"M116/O116","v":{"$error":"#DIV/0!"}},{"$f":"F117","v":0},null,{"$f":"P116/R116","v":{"$error":"#DIV/0!"}},null,null,null,{"$f":"F128","v":0},null,{"$f":"V116/X116","v":{"$error":"#DIV/0!"}},null,{"$f":"MAXA(V118,P118,M118)","v":0},null,{"$f":"Z116/AB116","v":{"$error":"#DIV/0!"}}]
[null,"Tour 3",{"$f":"C100","v":0},null,null,null,null,null,null,null,{"$f":"C103","v":0},null,{"$f":"D114","v":0},null,{"$f":"E113","v":0},{"$f":"D122","v":0},null,{"$f":"E122","v":0},{"$f":"D129","v":0},null,{"$f":"E128","v":0},null,null,null,null,{"$f":"S119+V119+Y119","v":0},null,{"$f":"U119+R119+O119","v":0},{"$f":"AV119","v":{"$error":"#DIV/0!"}},null,null,null,null,null,null,null,{"$f":"AA120","v":0.03},{"$f":"RANK(AK119,AK$110:AK$121,0)","v":1},{"$f":"AB121","v":{"$error":"#DIV/0!"}},{"$f":"RANK(AM119,AM$79:AM$90,0)","v":{"$error":"#DIV/0!"}},{"$f":"MAX(R121,U121,X121)","v":{"$error":"#DIV/0!"}},{"$f":"RANK(AO119,AO$110:AO$121)","v":{"$error":"#DIV/0!"}},{"$f":"Z121","v":0},{"$f":"RANK(AQ119,AQ$110:AQ$121)","v":1},{"$f":"(AL119*1000)+(AN119*100)+(AP119*10)+(AR119*1)","v":{"$error":"#DIV/0!"}},{"$f":"AS119","v":{"$error":"#DIV/0!"}},{"$f":"RANK(AT119,AT$110:AT$121,1)","v":{"$error":"#DIV/0!"}},{"$f":"RANK(AU119,AU$110:AU$121,1)","v":{"$error":"#DIV/0!"}}]
[null,null,{"$f":"C102","v":0},null,null,null,null,null,null,null,null,null,null,{"$f":"IF(X110>0,2-W111,0.01)","v":0.01},null,null,{"$f":"IF(X113>0,2-W114,0.01)","v":0.01},null,null,{"$f":"IF(X116>0,2-W117,0.01)","v":0.01},null,null,null,null,null,null,{"$f":"N120+Q120+T120","v":0.03}]
[null,null,null,null,null,null,null,null,null,null,null,null,{"$f":"F114","v":0},null,{"$f":"M119/O119","v":{"$error":"#DIV/0!"}},{"$f":"F122","v":0},null,{"$f":"P119/R119","v":{"$error":"#DIV/0!"}},{"$f":"F129","v":0},null,{"$f":"S119/U119","v":{"$error":"#DIV/0!"}},null,null,null,null,{"$f":"MAXA(S121,V121,Y121)","v":0},null,{"$f":"Z119/AB119","v":{"$error":"#DIV/0!"}}]
[null,"Tour 4",{"$f":"C103","v":0}]
[null,null,{"$f":"C101","v":0},null,null,null,null,null,null,null,null,null,"Pas de prolongation en cas de match nul."]
[]
[null,"Tour 5",{"$f":"C100","v":0}]
[null,null,{"$f":"C101","v":0}]
[]
[null,"Tour 6",{"$f":"C102","v":0}]
[null,null,{"$f":"C103","v":0}]

{"sheet":"15JOUEURS_MOYENNE","index":46,"n_rows":129,"n_cols":48,"rows_kept":129,"cut":false,"hidden":true,"merged":[[118,44,120,44],[118,45,120,45],[118,46,120,46],[118,47,120,47],[121,1,122,1],[121,4,122,4],[122,12,122,29],[118,37,120,37],[118,38,120,38],[118,39,120,39],[118,40,120,40],[118,41,120,41],[118,42,120,42],[118,1,119,1],[118,4,119,4],[118,10,120,11],[118,21,120,23],[118,28,120,29],[118,36,120,36],[115,38,117,38],[115,39,117,39],[115,40,117,40],[115,41,117,41],[124,1,125,1],[124,4,125,4],[127,1,128,1],[127,4,128,4],[118,43,120,43],[112,43,114,43],[112,44,114,44],[112,45,114,45],[112,46,114,46],[112,47,114,47],[115,1,116,1],[115,4,116,4],[115,10,117,11],[115,18,117,20],[115,28,117,29],[112,37,114,37],[112,38,114,38],[112,39,114,39],[112,40,114,40],[112,41,114,41],[112,42,114,42],[115,42,117,42],[115,43,117,43],[115,44,117,44],[115,45,117,45],[115,46,117,46],[115,47,117,47],[115,36,117,36],[115,37,117,37],[112,1,113,1],[112,4,113,4],[112,10,114,11],[112,15,114,17],[112,28,114,29],[112,36,114,36],[109,38,111,38],[109,39,111,39],[109,40,111,40],[107,40,107,41],[107,42,107,43],[107,44,107,45],[107,47,108,47],[108,1,109,2],[109,10,111,11],[109,12,111,14],[109,28,111,29],[109,36,111,36],[109,37,111,37],[105,18,108,20],[105,21,108,23],[105,25,108,27],[105,28,108,29],[107,36,107,37],[107,38,107,39],[109,44,111,44],[109,45,111,45],[109,46,111,46],[109,47,111,47],[109,41,111,41],[109,42,111,42],[109,43,111,43],[101,2,101,5],[102,2,102,5],[105,1,106,5],[105,10,108,11],[105,12,108,14],[105,15,108,17],[93,1,94,1],[93,4,94,4],[96,1,97,1],[96,4,97,4],[99,2,99,5],[100,2,100,5],[90,1,91,1],[90,4,91,4],[91,12,91,29],[87,37,89,37],[87,38,89,38],[87,39,89,39],[87,40,89,40],[87,41,89,41],[87,42,89,42],[87,1,88,1],[87,4,88,4],[87,10,89,11],[87,21,89,23],[87,28,89,29],[87,36,89,36],[84,38,86,38],[84,39,86,39],[84,40,86,40],[84,41,86,41],[87,43,89,43],[87,44,89,44],[87,45,89,45],[87,46,89,46],[87,47,89,47],[81,43,83,43],[81,44,83,44],[81,45,83,45],[81,46,83,46],[81,47,83,47],[84,1,85,1],[84,4,85,4],[84,10,86,11],[84,18,86,20],[84,28,86,29],[81,37,83,37],[81,38,83,38],[81,39,83,39],[81,40,83,40],[81,41,83,41],[81,42,83,42],[84,42,86,42],[84,43,86,43],[84,44,86,44],[84,45,86,45],[84,46,86,46],[84,47,86,47],[84,36,86,36],[84,37,86,37],[81,1,82,1],[81,4,82,4],[81,10,83,11],[81,15,83,17],[81,28,83,29],[81,36,83,36],[78,38,80,38],[78,39,80,39],[78,40,80,40],[76,40,76,41],[76,42,76,43],[76,44,76,45],[76,47,77,47],[77,1,78,2],[78,10,80,11],[78,12,80,14],[78,28,80,29],[78,36,80,36],[78,37,80,37],[74,18,77,20],[74,21,77,23],[74,25,77,27],[74,28,77,29],[76,36,76,37],[76,38,76,39],[78,44,80,44],[78,45,80,45],[78,46,80,46],[78,47,80,47],[78,41,80,41],[78,42,80,42],[78,43,80,43],[70,2,70,5],[71,2,71,5],[74,1,75,5],[74,10,77,11],[74,12,77,14],[74,15,77,17],[62,1,63,1],[62,4,63,4],[65,1,66,1],[65,4,66,4],[68,2,68,5],[69,2,69,5],[59,1,60,1],[59,4,60,4],[60,12,60,29],[56,37,58,37],[56,38,58,38],[56,39,58,39],[56,40,58,40],[56,41,58,41],[56,42,58,42],[53,47,55,47],[56,1,57,1],[56,4,57,4],[56,10,58,11],[56,21,58,23],[56,28,58,29],[56,36,58,36],[53,38,55,38],[53,39,55,39],[53,40,55,40],[53,41,55,41],[53,42,55,42],[53,43,55,43],[56,43,58,43],[56,44,58,44],[56,45,58,45],[56,46,58,46],[56,47,58,47],[47,41,49,41],[47,42,49,42],[47,43,49,43],[47,44,49,44],[47,45,49,45],[50,45,52,45],[50,46,52,46],[50,47,52,47],[53,1,54,1],[53,4,54,4],[53,10,55,11],[53,18,55,20],[53,28,55,29],[53,36,55,36],[53,37,55,37],[50,39,52,39],[50,40,52,40],[50,41,52,41],[50,42,52,42],[50,43,52,43],[50,44,52,44],[53,44,55,44],[53,45,55,45],[53,46,55,46],[50,1,51,1],[50,4,51,4],[50,10,52,11],[50,15,52,17],[50,28,52,29],[50,36,52,36],[50,37,52,37],[50,38,52,38],[47,40,49,40],[45,44,45,45],[45,47,46,47],[46,1,47,2],[47,10,49,11],[47,12,49,14],[47,28,49,29],[47,36,49,36],[47,37,49,37],[47,38,49,38],[47,39,49,39],[43,25,46,27],[43,28,46,29],[45,36,45,37],[45,38,45,39],[45,40,45,41],[45,42,45,43],[43,1,44,5],[43,10,46,11],[43,12,46,14],[43,15,46,17],[43,18,46,20],[43,21,46,23],[47,46,49,46],[47,47,49,47],[34,1,35,1],[34,4,35,4],[38,2,38,5],[39,2,39,5],[40,2,40,5],[41,2,41,5],[25,1,26,1],[25,4,26,4],[26,12,26,34],[28,1,29,1],[28,4,29,4],[31,1,32,1],[31,4,32,4],[22,45,24,45],[22,46,24,46],[22,47,24,47],[22,36,24,36],[22,37,24,37],[22,38,24,38],[22,39,24,39],[22,40,24,40],[22,41,24,41],[22,1,23,1],[22,4,23,4],[22,10,24,11],[22,18,24,20],[22,27,24,29],[22,34,24,34],[19,42,21,42],[19,43,21,43],[19,44,21,44],[22,42,24,42],[22,43,24,43],[22,44,24,44],[16,47,18,47],[19,1,20,1],[19,4,20,4],[19,10,21,11],[19,15,21,17],[19,24,21,26],[19,34,21,34],[16,38,18,38],[16,39,18,39],[16,40,18,40],[16,41,18,41],[16,42,18,42],[16,43,18,43],[19,45,21,45],[19,46,21,46],[19,47,21,47],[19,36,21,36],[19,37,21,37],[19,38,21,38],[19,39,21,39],[19,40,21,40],[19,41,21,41],[14,41,14,42],[14,43,14,44],[14,46,15,46],[15,1,16,2],[16,10,18,11],[16,12,18,14],[16,21,18,23],[16,34,18,34],[16,36,18,36],[16,37,18,37],[12,27,15,29],[12,31,15,33],[12,34,15,34],[13,10,15,11],[14,36,14,37],[14,38,14,39],[16,44,18,44],[16,45,18,45],[16,46,18,46],[9,2,9,5],[10,2,10,5],[10,12,10,20],[10,21,10,29],[12,1,13,5],[12,12,15,14],[12,15,15,17],[12,18,15,20],[12,21,15,23],[12,24,15,26],[7,12,7,15],[7,17,7,18],[7,20,7,21],[7,23,7,25],[7,27,7,28],[8,2,8,5],[1,12,4,35],[2,1,3,2],[2,3,3,9],[5,1,6,2],[5,3,6,9],[6,12,6,15],[6,17,6,18],[6,20,6,21],[6,23,6,25],[6,27,6,28]]}
[]
[null,null,null,null,null,null,null,null,null,null,null,null,"LIGUE MÉDITERRANÉENNE DE BILLARD"]
[null,"CLUB ORGANISATEUR"]
[]
[]
[null,"DIRECTEUR DE JEU :"]
[null,null,null,null,null,null,null,null,null,null,null,null,"Compétition",null,null,null,null,"Mode de jeu",null,null,"Categorie",null,null,"Format billard",null,null,null,"Distance"]
[]
[null,"Joueur 1",{"$f":"'Saisie des joueurs'!K18","v":0}]
[null,"Joueur 2",{"$f":"'Saisie des joueurs'!K19","v":0}]
[null,"Joueur 3",{"$f":"'Saisie des joueurs'!K20","v":0},null,null,null,null,null,null,null,null,null,"MATCH ALLER",null,null,null,null,null,null,null,null,"MATCH RETOUR"]
[]
[null,"SAISIE DES RESULTATS",null,null,null,null,null,null,null,null,null,null,{"$f":"C9","v":0},null,null,{"$f":"C10","v":0},null,null,{"$f":"C11","v":0},null,null,{"$f":"C9","v":0},null,null,{"$f":"C10","v":0},null,null,{"$f":"C11","v":0},null,null,null,"TOTAUX",null,null,"CLASSEMENT"]
[]
[null,null,null,null,null,null,null,null,null,null,null,null,null,null,null,null,null,null,null,null,null,null,null,null,null,null,null,null,null,null,null,null,null,null,null,null,"Classement",null,"Classement",null,"Classement","Classement",null,"Classement",null,"GENERAL","RANG"]
[null,"POULE A",null,null,null,null,null,null,null,null,null,null,null,null,null,null,null,null,null,null,null,null,null,null,null,null,null,null,null,null,null,null,null,null,null,null,"Point-Match","CLS-M","Moy-Gen","CLS-G","Moy-Part","M-Series","CLS-S","MGPS","CLS","CLS"]
[null,null,null,null,null,null,null,null,null,null,{"$f":"C9","v":0},null,"L",null,null,{"$f":"D26","v":0},null,{"$f":"E26","v":0},{"$f":"D20","v":0},null,{"$f":"E20","v":0},"L",null,null,{"$f":"D35","v":0},null,{"$f":"E35","v":0},{"$f":"D29","v":0},null,{"$f":"E29","v":0},null,{"$f":"P17+S17+Y17+AB17","v":0},null,{"$f":"R17+U17+AA17+AD17","v":0},{"$f":"AU17","v":{"$error":"#DIV/0!"}},null,{"$f":"AG18","v":0.04},{"$f":"RANK(AK17,AK$17:AK$25,0)","v":1},{"$f":"AH19","v":{"$error":"#DIV/0!"}},{"$f":"RANK(AM17,AM$17:AM$25,0)","v":{"$error":"#DIV/0!"}},{"$f":"MAX(R19,U19,AA19,AD19)","v":{"$error":"#DIV/0!"}},{"$f":"RANK(AO17,AO$17:AO$25)","v":{"$error":"#DIV/0!"}},{"$f":"AF19","v":0},{"$f":"RANK(AQ17,AQ$17:AQ$25)","v":1},{"$f":"(AL17*1000)+(AN17*100)+(AP17*10)+(AR17*1)","v":{"$error":"#DIV/0!"}},{"$f":"AS17","v":{"$error":"#DIV/0!"}},{"$f":"RANK(AT17,AT$17:AT$25,1)","v":{"$error":"#DIV/0!"}},{"$f":"RANK(AU17,AU$17:AU$25,1)","v":{"$error":"#DIV/0!"}}]
[null,null,null,null,null,null,null,null,null,null,null,null,null,null,null,null,{"$f":"IF(R17<1,0.01,IF(P17>M20,2,IF(P17=M20,1,0)))","v":0.01},null,null,{"$f":"IF(U17<1,0.01,IF(S17>M23,2,IF(S17=M23,1,0)))","v":0.01},null,null,null,null,null,{"$f":"IF(AA17<1,0.01,IF(Y17>V20,2,IF(Y17=V20,1,0)))","v":0.01},null,null,{"$f":"IF(AD17<1,0.01,IF(AB17>V23,2,IF(AB17=V23,1,0)))","v":0.01},null,null,null,{"$f":"Q18+T18+Z18+AC18","v":0.04}]
[null,null,null,"Pts","Rep","Série",null,null,null,null,null,null,null,null,null,{"$f":"F26","v":0},null,{"$f":"P17/R17","v":{"$error":"#DIV/0!"}},{"$f":"F20","v":0},null,{"$f":"S17/U17","v":{"$error":"#DIV/0!"}},null,null,null,{"$f":"F35","v":0},null,{"$f":"Y17/AA17","v":{"$error":"#DIV/0!"}},{"$f":"F29","v":0},null,{"$f":"AB17/AD17","v":{"$error":"#DIV/0!"}},null,{"$f":"MAX(P19,S19,Y19,AB19)","v":0},null,{"$f":"AF17/AH17","v":{"$error":"#DIV/0!"}}]
[null,"Tour 1\nMatch aller",{"$f":"C9","v":0},null,null,null,null,null,null,null,{"$f":"C10","v":0},null,{"$f":"D27","v":0},null,{"$f":"E26","v":0},"M",null,null,{"$f":"D23","v":0},null,{"$f":"E23","v":0},{"$f":"D36","v":0},null,{"$f":"E35","v":0},"M",null,null,{"$f":"D32","v":0},null,{"$f":"E32","v":0},null,{"$f":"M20+S20+V20+AB20","v":0},null,{"$f":"O20+U20+X20+AD20","v":0},{"$f":"AU20","v":{"$error":"#DIV/0!"}},null,{"$f":"AG21","v":0.04},{"$f":"RANK(AK20,AK$17:AK$25,0)","v":1},{"$f":"AH22","v":{"$error":"#DIV/0!"}},{"$f":"RANK(AM20,AM$17:AM$25,0)","v":{"$error":"#DIV/0!"}},{"$f":"MAX(R22,U22,AA22,AD22)","v":{"$error":"#DIV/0!"}},{"$f":"RANK(AO20,AO$17:AO$25)","v":{"$error":"#DIV/0!"}},{"$f":"AF22","v":0},{"$f":"RANK(AQ20,AQ$17:AQ$25)","v":1},{"$f":"(AL20*1000)+(AN20*100)+(AP20*10)+(AR20*1)","v":{"$error":"#DIV/0!"}},{"$f":"AS20","v":{"$error":"#DIV/0!"}},{"$f":"RANK(AT20,AT$17:AT$25,1)","v":{"$error":"#DIV/0!"}},{"$f":"RANK(AU20,AU$17:AU$25,1)","v":{"$error":"#DIV/0!"}}]
[null,null,{"$f":"C11","v":0},null,null,null,null,null,null,null,null,null,null,{"$f":"IF(R17>0,2-Q18,0.01)","v":0.01},null,null,null,null,null,{"$f":"IF(U20<1,0.01,IF(S20>P23,2,IF(S20=P23,1,0)))","v":0.01},null,null,{"$f":"IF(AA17>0,2-Z18,0.01)","v":0.01},null,null,null,null,null,{"$f":"IF(AD20<1,0.01,IF(AB20>Y23,2,IF(AB20=Y23,1,0)))","v":0.01},null,null,null,{"$f":"N21+T21+W21+AC21","v":0.04}]
[null,null,null,null,null,null,null,null,null,null,null,null,{"$f":"F27","v":0},null,{"$f":"M20/O20","v":{"$error":"#DIV/0!"}},null,null,null,{"$f":"F23","v":0},null,{"$f":"S20/U20","v":{"$error":"#DIV/0!"}},{"$f":"F36","v":0},null,{"$f":"V20/X20","v":{"$error":"#DIV/0!"}},null,null,null,{"$f":"F32","v":0},null,{"$f":"AB20/AD20","v":{"$error":"#DIV/0!"}},null,{"$f":"MAXA(M22,S22,V22,AB22)","v":0},null,{"$f":"AF20/AH20","v":{"$error":"#DIV/0!"}}]
[null,"Tour 2\nMatch aller",{"$f":"C10","v":0},null,null,null,null,null,null,null,{"$f":"C11","v":0},null,{"$f":"D21","v":0},null,{"$f":"E20","v":0},{"$f":"D24","v":0},null,{"$f":"E23","v":0},"B",null,null,{"$f":"D30","v":0},null,{"$f":"E29","v":0},{"$f":"D33","v":0},null,{"$f":"E32","v":0},"B",null,null,null,{"$f":"M23+P23+V23+Y23","v":0},null,{"$f":"O23+R23+X23+AA23","v":0},{"$f":"AU23","v":{"$error":"#DIV/0!"}},null,{"$f":"AG24","v":0.04},{"$f":"RANK(AK23,AK$17:AK$25,0)","v":1},{"$f":"AH25","v":{"$error":"#DIV/0!"}},{"$f":"RANK(AM23,AM$17:AM$25,0)","v":{"$error":"#DIV/0!"}},{"$f":"MAX(R25,U25,AA25,AD25)","v":{"$error":"#DIV/0!"}},{"$f":"RANK(AO23,AO$17:AO$25)","v":{"$error":"#DIV/0!"}},{"$f":"AF25","v":0},{"$f":"RANK(AQ23,AQ$17:AQ$25)","v":1},{"$f":"(AL23*1000)+(AN23*100)+(AP23*10)+(AR23*1)","v":{"$error":"#DIV/0!"}},{"$f":"AS23","v":{"$error":"#DIV/0!"}},{"$f":"RANK(AT23,AT$17:AT$25,1)","v":{"$error":"#DIV/0!"}},{"$f":"RANK(AU23,AU$17:AU$25,1)","v":{"$error":"#DIV/0!"}}]
[null,null,{"$f":"C11","v":0},null,null,null,null,null,null,null,null,null,null,{"$f":"IF(U17>0,2-T18,0.01)","v":0.01},null,null,{"$f":"IF(U20>0,2-T21,0.01)","v":0.01},null,null,null,null,null,{"$f":"IF(AD17>0,2-AC18,0.01)","v":0.01},null,null,{"$f":"IF(AD20>0,2-AC21,0.01)","v":0.01},null,null,null,null,null,null,{"$f":"N24+Q24+W24+Z24","v":0.04}]
[null,null,null,null,null,null,null,null,null,null,null,null,{"$f":"F21","v":0},null,{"$f":"M23/O23","v":{"$error":"#DIV/0!"}},{"$f":"F24","v":0},null,{"$f":"P23/R23","v":{"$error":"#DIV/0!"}},null,null,null,{"$f":"F30","v":0},null,{"$f":"V23/X23","v":{"$error":"#DIV/0!"}},{"$f":"F33","v":0},null,{"$f":"Y23/AA23","v":{"$error":"#DIV/0!"}},null,null,null,null,{"$f":"MAXA(M25,P25,V25,Y25)","v":0},null,{"$f":"AF23/AH23","v":{"$error":"#DIV/0!"}}]
[null,"Tour 3\nMatch aller",{"$f":"C9","v":0}]
[null,null,{"$f":"C10","v":0},null,null,null,null,null,null,null,null,null,"Pas de prolongation en cas de match nul."]
[]
[null,"Tour 1\nMatch retour",{"$f":"C9","v":0}]
[null,null,{"$f":"C11","v":0}]
[]
[null,"Tour 2\nMatch retour",{"$f":"C10","v":0}]
[null,null,{"$f":"C11","v":0}]
[]
[null,"Tour 3\nMatch retour",{"$f":"C9","v":0}]
[null,null,{"$f":"C10","v":0}]
[]
[]
[null,"Joueur 1",{"$f":"'Saisie des joueurs'!K21","v":0}]
[null,"Joueur 2",{"$f":"'Saisie des joueurs'!K22","v":0}]
[null,"Joueur 3",{"$f":"'Saisie des joueurs'!K23","v":0}]
[null,"Joueur 4",{"$f":"'Saisie des joueurs'!K24","v":0}]
[]
[null,"SAISIE DES RESULTATS",null,null,null,null,null,null,null,null,null,null,{"$f":"C39","v":0},null,null,{"$f":"C40","v":0},null,null,{"$f":"C41","v":0},null,null,{"$f":"C42","v":0},null,null,null,"TOTAUX",null,null,"CLASSEMENT"]
[]
[null,null,null,null,null,null,null,null,null,null,null,null,null,null,null,null,null,null,null,null,null,null,null,null,null,null,null,null,null,null,null,null,null,null,null,null,"Classement",null,"Classement",null,"Classement",null,"Classement",null,"Classement",null,"GENERAL","RANG"]
[null,"POULE B",null,null,null,null,null,null,null,null,null,null,null,null,null,null,null,null,null,null,null,null,null,null,null,null,null,null,null,null,null,null,null,null,null,null,"Point-Match","CLS-M","Moy-Gen","CLS-G","Moy-Part","CLS-P","M-Series","CLS-S","MGPS","CLS","CLS"]
[null,null,null,null,null,null,null,null,null,null,{"$f":"C39","v":0},null,"L",null,null,{"$f":"D63","v":0},null,{"$f":"E63","v":0},{"$f":"D57","v":0},null,{"$f":"E57","v":0},{"$f":"D51","v":0},null,{"$f":"E51","v":0},null,{"$f":"P48+S48+V48","v":0},null,{"$f":"R48+U48+X48","v":0},{"$f":"AV48","v":{"$error":"#DIV/0!"}},null,null,null,null,null,null,null,{"$f":"AA49","v":0.03},{"$f":"RANK(AK48,AK$48:AK$59,0)","v":1},{"$f":"AB50","v":{"$error":"#DIV/0!"}},{"$f":"RANK(AM48,AM$48:AM$59,0)","v":{"$error":"#DIV/0!"}},{"$f":"MAX(R50,U50,X50)","v":{"$error":"#DIV/0!"}},{"$f":"RANK(AO48,AO$48:AO$59)","v":{"$error":"#DIV/0!"}},{"$f":"Z50","v":0},{"$f":"RANK(AQ48,AQ$48:AQ$59)","v":1},{"$f":"(AL48*1000)+(AN48*100)+(AP48*10)+(AR48*1)","v":{"$error":"#DIV/0!"}},{"$f":"AS48","v":{"$error":"#DIV/0!"}},{"$f":"RANK(AT48,AT$48:AT$59,1)","v":{"$error":"#DIV/0!"}},{"$f":"RANK(AU48,AU$48:AU$59,1)","v":{"$error":"#DIV/0!"}}]
[null,null,null,null,null,null,null,null,null,null,null,null,null,null,null,null,{"$f":"IF(R48<1,0.01,IF(P48>M51,2,IF(P48=M51,1,0)))","v":0.01},null,null,{"$f":"IF(U48<1,0.01,IF(S48>M54,2,IF(S48=M54,1,0)))","v":0.01},null,null,{"$f":"IF(X48<1,0.01,IF(V48>M57,2,IF(V48=M57,1,0)))","v":0.01},null,null,null,{"$f":"W49+T49+Q49","v":0.03}]
[null,null,null,"Pts","Rep","Série",null,null,null,null,null,null,null,null,null,{"$f":"F63","v":0},null,{"$f":"P48/R48","v":{"$error":"#DIV/0!"}},{"$f":"F57","v":0},null,{"$f":"S48/U48","v":{"$error":"#DIV/0!"}},{"$f":"F51","v":0},null,{"$f":"V48/X48","v":{"$error":"#DIV/0!"}},null,{"$f":"MAX(V50,S50,P50)","v":0},null,{"$f":"Z48/AB48","v":{"$error":"#DIV/0!"}}]
[null,"Tour 1",{"$f":"C39","v":0},null,null,null,null,null,null,null,{"$f":"C40","v":0},null,{"$f":"D64","v":0},null,{"$f":"E63","v":0},"M",null,null,{"$f":"D54","v":0},null,{"$f":"E54","v":0},{"$f":"D61","v":0},null,{"$f":"E60","v":0},null,{"$f":"M51+S51+V51","v":0},null,{"$f":"O51+U51+X51","v":0},{"$f":"AV51","v":{"$error":"#DIV/0!"}},null,null,null,null,null,null,null,{"$f":"AA52","v":0.03},{"$f":"RANK(AK51,AK$48:AK$59,0)","v":1},{"$f":"AB53","v":{"$error":"#DIV/0!"}},{"$f":"RANK(AM51,AM$48:AM$59,0)","v":{"$error":"#DIV/0!"}},{"$f":"MAX(R53,U53,X53)","v":{"$error":"#DIV/0!"}},{"$f":"RANK(AO51,AO$48:AO$59)","v":{"$error":"#DIV/0!"}},{"$f":"Z53","v":0},{"$f":"RANK(AQ51,AQ$48:AQ$59)","v":1},{"$f":"(AL51*1000)+(AN51*100)+(AP51*10)+(AR51*1)","v":{"$error":"#DIV/0!"}},{"$f":"AS51","v":{"$error":"#DIV/0!"}},{"$f":"RANK(AT51,AT$48:AT$59,1)","v":{"$error":"#DIV/0!"}},{"$f":"RANK(AU51,AU$48:AU$59,1)","v":{"$error":"#DIV/0!"}}]
[null,null,{"$f":"C42","v":0},null,null,null,null,null,null,null,null,null,null,{"$f":"IF(R48>0,2-Q49,0.01)","v":0.01},null,null,null,null,null,{"$f":"IF(U51<1,0.01,IF(S51>P54,2,IF(S51=P54,1,0)))","v":0.01},null,null,{"$f":"IF(X51<1,0.01,IF(V51>P57,2,IF(V51=P57,1,0)))","v":0.01},null,null,null,{"$f":"N52+T52+W52","v":0.03}]
[null,null,null,null,null,null,null,null,null,null,null,null,{"$f":"F64","v":0},null,{"$f":"M51/O51","v":{"$error":"#DIV/0!"}},null,null,null,{"$f":"F54","v":0},null,{"$f":"S51/U51","v":{"$error":"#DIV/0!"}},{"$f":"F61","v":0},null,{"$f":"V51/X51","v":{"$error":"#DIV/0!"}},null,{"$f":"MAXA(S53,V53,M53)","v":0},null,{"$f":"Z51/AB51","v":{"$error":"#DIV/0!"}}]
[null,"Tour 2",{"$f":"C40","v":0},null,null,null,null,null,null,null,{"$f":"C41","v":0},null,{"$f":"D58","v":0},null,{"$f":"E57","v":0},{"$f":"D55","v":0},null,{"$f":"E54","v":0},"B",null,null,{"$f":"D66","v":0},null,{"$f":"E66","v":0},null,{"$f":"M54+P54+V54","v":0},null,{"$f":"O54+U54+X54","v":0},{"$f":"AV54","v":{"$error":"#DIV/0!"}},null,null,null,null,null,null,null,{"$f":"AA55","v":0.02},{"$f":"RANK(AK54,AK$48:AK$59,0)","v":4},{"$f":"AB56","v":{"$error":"#DIV/0!"}},{"$f":"RANK(AM54,AM$48:AM$59,0)","v":{"$error":"#DIV/0!"}},{"$f":"MAX(R56,U56,X56)","v":{"$error":"#DIV/0!"}},{"$f":"RANK(AO54,AO$48:AO$59)","v":{"$error":"#DIV/0!"}},{"$f":"Z56","v":0},{"$f":"RANK(AQ54,AQ$48:AQ$59)","v":1},{"$f":"(AL54*1000)+(AN54*100)+(AP54*10)+(AR54*1)","v":{"$error":"#DIV/0!"}},{"$f":"AS54","v":{"$error":"#DIV/0!"}},{"$f":"RANK(AT54,AT$48:AT$59,1)","v":{"$error":"#DIV/0!"}},{"$f":"RANK(AU54,AU$48:AU$59,1)","v":{"$error":"#DIV/0!"}}]
[null,null,{"$f":"C41","v":0},null,null,null,null,null,null,null,null,null,null,{"$f":"IF(U48>0,2-T49,0.01)","v":0.01},null,null,{"$f":"IF(U51>0,2-T52,0.01)","v":0.01},null,null,null,null,null,{"$f":"IF(X54<1,0.01,IF(V54>S57,2,IF(V54=S57,1,0)))","v":0.01},null,null,null,{"$f":"N55+T55+W55","v":0.02}]
[null,null,null,null,null,null,null,null,null,null,null,null,{"$f":"F58","v":0},null,{"$f":"M54/O54","v":{"$error":"#DIV/0!"}},{"$f":"F55","v":0},null,{"$f":"P54/R54","v":{"$error":"#DIV/0!"}},null,null,null,{"$f":"F66","v":0},null,{"$f":"V54/X54","v":{"$error":"#DIV/0!"}},null,{"$f":"MAXA(V56,P56,M56)","v":0},null,{"$f":"Z54/AB54","v":{"$error":"#DIV/0!"}}]
[null,"Tour 3",{"$f":"C39","v":0},null,null,null,null,null,null,null,{"$f":"C42","v":0},null,{"$f":"D52","v":0},null,{"$f":"E51","v":0},{"$f":"D60","v":0},null,{"$f":"E60","v":0},{"$f":"D67","v":0},null,{"$f":"E66","v":0},null,null,null,null,{"$f":"S57+V57+Y57","v":0},null,{"$f":"U57+R57+O57","v":0},{"$f":"AV57","v":{"$error":"#DIV/0!"}},null,null,null,null,null,null,null,{"$f":"AA58","v":0.03},{"$f":"RANK(AK57,AK$48:AK$59,0)","v":1},{"$f":"AB59","v":{"$error":"#DIV/0!"}},{"$f":"RANK(AM57,AM$48:AM$59,0)","v":{"$error":"#DIV/0!"}},{"$f":"MAX(R59,U59,X59)","v":{"$error":"#DIV/0!"}},{"$f":"RANK(AO57,AO$48:AO$59)","v":{"$error":"#DIV/0!"}},{"$f":"Z59","v":0},{"$f":"RANK(AQ57,AQ$48:AQ$59)","v":1},{"$f":"(AL57*1000)+(AN57*100)+(AP57*10)+(AR57*1)","v":{"$error":"#DIV/0!"}},{"$f":"AS57","v":{"$error":"#DIV/0!"}},{"$f":"RANK(AT57,AT$48:AT$59,1)","v":{"$error":"#DIV/0!"}},{"$f":"RANK(AU57,AU$48:AU$59,1)","v":{"$error":"#DIV/0!"}}]
[null,null,{"$f":"C41","v":0},null,null,null,null,null,null,null,null,null,null,{"$f":"IF(X48>0,2-W49,0.01)","v":0.01},null,null,{"$f":"IF(X51>0,2-W52,0.01)","v":0.01},null,null,{"$f":"IF(X54>0,2-W55,0.01)","v":0.01},null,null,null,null,null,null,{"$f":"N58+Q58+T58","v":0.03}]
[null,null,null,null,null,null,null,null,null,null,null,null,{"$f":"F52","v":0},null,{"$f":"M57/O57","v":{"$error":"#DIV/0!"}},{"$f":"F60","v":0},null,{"$f":"P57/R57","v":{"$error":"#DIV/0!"}},{"$f":"F67","v":0},null,{"$f":"S57/U57","v":{"$error":"#DIV/0!"}},null,null,null,null,{"$f":"MAXA(S59,V59,Y59)","v":0},null,{"$f":"Z57/AB57","v":{"$error":"#DIV/0!"}}]
[null,"Tour 4",{"$f":"C42","v":0}]
[null,null,{"$f":"C40","v":0},null,null,null,null,null,null,null,null,null,"Pas de prolongation en cas de match nul."]
[]
[null,"Tour 5",{"$f":"C39","v":0}]
[null,null,{"$f":"C40","v":0}]
[]
[null,"Tour 6",{"$f":"C41","v":0}]
[null,null,{"$f":"C42","v":0}]
[]
[null,"Joueur 1",{"$f":"'Saisie des joueurs'!K25","v":0}]
[null,"Joueur 2",{"$f":"'Saisie des joueurs'!K26","v":0}]
[null,"Joueur 3",{"$f":"'Saisie des joueurs'!K27","v":0}]
[null,"Joueur 4",{"$f":"'Saisie des joueurs'!K28","v":0}]
[]
[]
[null,"SAISIE DES RESULTATS",null,null,null,null,null,null,null,null,null,null,{"$f":"C69","v":0},null,null,{"$f":"C70","v":0},null,null,{"$f":"C71","v":0},null,null,{"$f":"C72","v":0},null,null,null,"TOTAUX",null,null,"CLASSEMENT"]
[]
[null,null,null,null,null,null,null,null,null,null,null,null,null,null,null,null,null,null,null,null,null,null,null,null,null,null,null,null,null,null,null,null,null,null,null,null,"Classement",null,"Classement",null,"Classement",null,"Classement",null,"Classement",null,"GENERAL","RANG"]
[null,"POULE C",null,null,null,null,null,null,null,null,null,null,null,null,null,null,null,null,null,null,null,null,null,null,null,null,null,null,null,null,null,null,null,null,null,null,"Point-Match","CLS-M","Moy-Gen","CLS-G","Moy-Part","CLS-P","M-Series","CLS-S","MGPS","CLS","CLS"]
[null,null,null,null,null,null,null,null,null,null,{"$f":"C69","v":0},null,"L",null,null,{"$f":"D94","v":0},null,{"$f":"E94","v":0},{"$f":"D88","v":0},null,{"$f":"E88","v":0},{"$f":"D82","v":0},null,{"$f":"E82","v":0},null,{"$f":"P79+S79+V79","v":0},null,{"$f":"R79+U79+X79","v":0},{"$f":"AV79","v":{"$error":"#DIV/0!"}},null,null,null,null,null,null,null,{"$f":"AA80","v":0.03},{"$f":"RANK(AK79,AK$79:AK$90,0)","v":1},{"$f":"AB81","v":{"$error":"#DIV/0!"}},{"$f":"RANK(AM79,AM$79:AM$90,0)","v":{"$error":"#DIV/0!"}},{"$f":"MAX(R81,U81,X81)","v":{"$error":"#DIV/0!"}},{"$f":"RANK(AO79,AO$79:AO$90)","v":{"$error":"#DIV/0!"}},{"$f":"Z81","v":0},{"$f":"RANK(AQ79,AQ$79:AQ$90)","v":1},{"$f":"(AL79*1000)+(AN79*100)+(AP79*10)+(AR79*1)","v":{"$error":"#DIV/0!"}},{"$f":"AS79","v":{"$error":"#DIV/0!"}},{"$f":"RANK(AT79,AT$79:AT$90,1)","v":{"$error":"#DIV/0!"}},{"$f":"RANK(AU79,AU$79:AU$90,1)","v":{"$error":"#DIV/0!"}}]
[null,null,null,null,null,null,null,null,null,null,null,null,null,null,null,null,{"$f":"IF(R79<1,0.01,IF(P79>M82,2,IF(P79=M82,1,0)))","v":0.01},null,null,{"$f":"IF(U79<1,0.01,IF(S79>M85,2,IF(S79=M85,1,0)))","v":0.01},null,null,{"$f":"IF(X79<1,0.01,IF(V79>M88,2,IF(V79=M88,1,0)))","v":0.01},null,null,null,{"$f":"W80+T80+Q80","v":0.03}]
[null,null,null,"Pts","Rep","Série",null,null,null,null,null,null,null,null,null,{"$f":"F94","v":0},null,{"$f":"P79/R79","v":{"$error":"#DIV/0!"}},{"$f":"F88","v":0},null,{"$f":"S79/U79","v":{"$error":"#DIV/0!"}},{"$f":"F82","v":0},null,{"$f":"V79/X79","v":{"$error":"#DIV/0!"}},null,{"$f":"MAX(V81,S81,P81)","v":0},null,{"$f":"Z79/AB79","v":{"$error":"#DIV/0!"}}]
[null,"Tour 1",{"$f":"C69","v":0},null,null,null,null,null,null,null,{"$f":"C70","v":0},null,{"$f":"D95","v":0},null,{"$f":"E94","v":0},"M",null,null,{"$f":"D85","v":0},null,{"$f":"E85","v":0},{"$f":"D92","v":0},null,{"$f":"E91","v":0},null,{"$f":"M82+S82+V82","v":0},null,{"$f":"O82+U82+X82","v":0},{"$f":"AV82","v":{"$error":"#DIV/0!"}},null,null,null,null,null,null,null,{"$f":"AA83","v":0.03},{"$f":"RANK(AK82,AK$79:AK$90,0)","v":1},{"$f":"AB84","v":{"$error":"#DIV/0!"}},{"$f":"RANK(AM82,AM$82:AM$90,0)","v":{"$error":"#DIV/0!"}},{"$f":"MAX(R84,U84,X84)","v":{"$error":"#DIV/0!"}},{"$f":"RANK(AO82,AO$79:AO$90)","v":{"$error":"#DIV/0!"}},{"$f":"Z84","v":0},{"$f":"RANK(AQ82,AQ$79:AQ$90)","v":1},{"$f":"(AL82*1000)+(AN82*100)+(AP82*10)+(AR82*1)","v":{"$error":"#DIV/0!"}},{"$f":"AS82","v":{"$error":"#DIV/0!"}},{"$f":"RANK(AT82,AT$79:AT$90,1)","v":{"$error":"#DIV/0!"}},{"$f":"RANK(AU82,AU$79:AU$90,1)","v":{"$error":"#DIV/0!"}}]
[null,null,{"$f":"C72","v":0},null,null,null,null,null,null,null,null,null,null,{"$f":"IF(R79>0,2-Q80,0.01)","v":0.01},null,null,null,null,null,{"$f":"IF(U82<1,0.01,IF(S82>P85,2,IF(S82=P85,1,0)))","v":0.01},null,null,{"$f":"IF(X82<1,0.01,IF(V82>P88,2,IF(V82=P88,1,0)))","v":0.01},null,null,null,{"$f":"N83+T83+W83","v":0.03}]
[null,null,null,null,null,null,null,null,null,null,null,null,{"$f":"F95","v":0},null,{"$f":"M82/O82","v":{"$error":"#DIV/0!"}},null,null,null,{"$f":"F85","v":0},null,{"$f":"S82/U82","v":{"$error":"#DIV/0!"}},{"$f":"F92","v":0},null,{"$f":"V82/X82","v":{"$error":"#DIV/0!"}},null,{"$f":"MAXA(S84,V84,M84)","v":0},null,{"$f":"Z82/AB82","v":{"$error":"#DIV/0!"}}]
[null,"Tour 2",{"$f":"C70","v":0},null,null,null,null,null,null,null,{"$f":"C71","v":0},null,{"$f":"D89","v":0},null,{"$f":"E88","v":0},{"$f":"D86","v":0},null,{"$f":"E85","v":0},"B",null,null,{"$f":"D97","v":0},null,{"$f":"E97","v":0},null,{"$f":"M85+P85+V85","v":0},null,{"$f":"O85+U85+X85","v":0},{"$f":"AV85","v":{"$error":"#DIV/0!"}},null,null,null,null,null,null,null,{"$f":"AA86","v":0.02},{"$f":"RANK(AK85,AK$79:AK$90,0)","v":4},{"$f":"AB87","v":{"$error":"#DIV/0!"}},{"$f":"RANK(AM85,AM$85:AM$90,0)","v":{"$error":"#DIV/0!"}},{"$f":"MAX(R87,U87,X87)","v":{"$error":"#DIV/0!"}},{"$f":"RANK(AO85,AO$79:AO$90)","v":{"$error":"#DIV/0!"}},{"$f":"Z87","v":0},{"$f":"RANK(AQ85,AQ$79:AQ$90)","v":1},{"$f":"(AL85*1000)+(AN85*100)+(AP85*10)+(AR85*1)","v":{"$error":"#DIV/0!"}},{"$f":"AS85","v":{"$error":"#DIV/0!"}},{"$f":"RANK(AT85,AT$79:AT$90,1)","v":{"$error":"#DIV/0!"}},{"$f":"RANK(AU85,AU$79:AU$90,1)","v":{"$error":"#DIV/0!"}}]
[null,null,{"$f":"C71","v":0},null,null,null,null,null,null,null,null,null,null,{"$f":"IF(U79>0,2-T80,0.01)","v":0.01},null,null,{"$f":"IF(U82>0,2-T83,0.01)","v":0.01},null,null,null,null,null,{"$f":"IF(X85<1,0.01,IF(V85>S88,2,IF(V85=S88,1,0)))","v":0.01},null,null,null,{"$f":"N86+T86+W86","v":0.02}]
[null,null,null,null,null,null,null,null,null,null,null,null,{"$f":"F89","v":0},null,{"$f":"M85/O85","v":{"$error":"#DIV/0!"}},{"$f":"F86","v":0},null,{"$f":"P85/R85","v":{"$error":"#DIV/0!"}},null,null,null,{"$f":"F97","v":0},null,{"$f":"V85/X85","v":{"$error":"#DIV/0!"}},null,{"$f":"MAXA(V87,P87,M87)","v":0},null,{"$f":"Z85/AB85","v":{"$error":"#DIV/0!"}}]
[null,"Tour 3",{"$f":"C69","v":0},null,null,null,null,null,null,null,{"$f":"C72","v":0},null,{"$f":"D83","v":0},null,{"$f":"E82","v":0},{"$f":"D91","v":0},null,{"$f":"E91","v":0},{"$f":"D98","v":0},null,{"$f":"E97","v":0},null,null,null,null,{"$f":"S88+V88+Y88","v":0},null,{"$f":"U88+R88+O88","v":0},{"$f":"AV88","v":{"$error":"#DIV/0!"}},null,null,null,null,null,null,null,{"$f":"AA89","v":0.03},{"$f":"RANK(AK88,AK$79:AK$90,0)","v":1},{"$f":"AB90","v":{"$error":"#DIV/0!"}},{"$f":"RANK(AM88,AM$88:AM$90,0)","v":{"$error":"#DIV/0!"}},{"$f":"MAX(R90,U90,X90)","v":{"$error":"#DIV/0!"}},{"$f":"RANK(AO88,AO$79:AO$90)","v":{"$error":"#DIV/0!"}},{"$f":"Z90","v":0},{"$f":"RANK(AQ88,AQ$79:AQ$90)","v":1},{"$f":"(AL88*1000)+(AN88*100)+(AP88*10)+(AR88*1)","v":{"$error":"#DIV/0!"}},{"$f":"AS88","v":{"$error":"#DIV/0!"}},{"$f":"RANK(AT88,AT$79:AT$90,1)","v":{"$error":"#DIV/0!"}},{"$f":"RANK(AU88,AU$79:AU$90,1)","v":{"$error":"#DIV/0!"}}]
[null,null,{"$f":"C71","v":0},null,null,null,null,null,null,null,null,null,null,{"$f":"IF(X79>0,2-W80,0.01)","v":0.01},null,null,{"$f":"IF(X82>0,2-W83,0.01)","v":0.01},null,null,{"$f":"IF(X85>0,2-W86,0.01)","v":0.01},null,null,null,null,null,null,{"$f":"N89+Q89+T89","v":0.03}]
[null,null,null,null,null,null,null,null,null,null,null,null,{"$f":"F83","v":0},null,{"$f":"M88/O88","v":{"$error":"#DIV/0!"}},{"$f":"F91","v":0},null,{"$f":"P88/R88","v":{"$error":"#DIV/0!"}},{"$f":"F98","v":0},null,{"$f":"S88/U88","v":{"$error":"#DIV/0!"}},null,null,null,null,{"$f":"MAXA(S90,V90,Y90)","v":0},null,{"$f":"Z88/AB88","v":{"$error":"#DIV/0!"}}]
[null,"Tour 4",{"$f":"C72","v":0}]
[null,null,{"$f":"C70","v":0},null,null,null,null,null,null,null,null,null,"Pas de prolongation en cas de match nul."]
[]
[null,"Tour 5",{"$f":"C69","v":0}]
[null,null,{"$f":"C70","v":0}]
[]
[null,"Tour 6",{"$f":"C71","v":0}]
[null,null,{"$f":"C72","v":0}]
[]
[null,"Joueur 1",{"$f":"'Saisie des joueurs'!K29","v":0}]
[null,"Joueur 2",{"$f":"'Saisie des joueurs'!K30","v":0}]
[null,"Joueur 3",{"$f":"'Saisie des joueurs'!K31","v":0}]
[null,"Joueur 4",{"$f":"'Saisie des joueurs'!K32","v":0}]
[]
[]
[null,"SAISIE DES RESULTATS",null,null,null,null,null,null,null,null,null,null,{"$f":"C100","v":0},null,null,{"$f":"C101","v":0},null,null,{"$f":"C102","v":0},null,null,{"$f":"C103","v":0},null,null,null,"TOTAUX",null,null,"CLASSEMENT"]
[]
[null,null,null,null,null,null,null,null,null,null,null,null,null,null,null,null,null,null,null,null,null,null,null,null,null,null,null,null,null,null,null,null,null,null,null,null,"Classement",null,"Classement",null,"Classement",null,"Classement",null,"Classement",null,"GENERAL","RANG"]
[null,"POULE D",null,null,null,null,null,null,null,null,null,null,null,null,null,null,null,null,null,null,null,null,null,null,null,null,null,null,null,null,null,null,null,null,null,null,"Point-Match","CLS-M","Moy-Gen","CLS-G","Moy-Part","CLS-P","M-Series","CLS-S","MGPS","CLS","CLS"]
[null,null,null,null,null,null,null,null,null,null,{"$f":"C100","v":0},null,"L",null,null,{"$f":"D125","v":0},null,{"$f":"E125","v":0},{"$f":"D119","v":0},null,{"$f":"E119","v":0},{"$f":"D113","v":0},null,{"$f":"E113","v":0},null,{"$f":"P110+S110+V110","v":0},null,{"$f":"R110+U110+X110","v":0},{"$f":"AV110","v":{"$error":"#DIV/0!"}},null,null,null,null,null,null,null,{"$f":"AA111","v":0.03},{"$f":"RANK(AK110,AK$110:AK$121,0)","v":1},{"$f":"AB112","v":{"$error":"#DIV/0!"}},{"$f":"RANK(AM110,AM$110:AM$121,0)","v":{"$error":"#DIV/0!"}},{"$f":"MAX(R112,U112,X112)","v":{"$error":"#DIV/0!"}},{"$f":"RANK(AO110,AO$110:AO$121)","v":{"$error":"#DIV/0!"}},{"$f":"Z112","v":0},{"$f":"RANK(AQ110,AQ$110:AQ$121)","v":1},{"$f":"(AL110*1000)+(AN110*100)+(AP110*10)+(AR110*1)","v":{"$error":"#DIV/0!"}},{"$f":"AS110","v":{"$error":"#DIV/0!"}},{"$f":"RANK(AT110,AT$110:AT$121,1)","v":{"$error":"#DIV/0!"}},{"$f":"RANK(AU110,AU$110:AU$121,1)","v":{"$error":"#DIV/0!"}}]
[null,null,null,null,null,null,null,null,null,null,null,null,null,null,null,null,{"$f":"IF(R110<1,0.01,IF(P110>M113,2,IF(P110=M113,1,0)))","v":0.01},null,null,{"$f":"IF(U110<1,0.01,IF(S110>M116,2,IF(S110=M116,1,0)))","v":0.01},null,null,{"$f":"IF(X110<1,0.01,IF(V110>M119,2,IF(V110=M119,1,0)))","v":0.01},null,null,null,{"$f":"W111+T111+Q111","v":0.03}]
[null,null,null,"Pts","Rep","Série",null,null,null,null,null,null,null,null,null,{"$f":"F125","v":0},null,{"$f":"P110/R110","v":{"$error":"#DIV/0!"}},{"$f":"F119","v":0},null,{"$f":"S110/U110","v":{"$error":"#DIV/0!"}},{"$f":"F113","v":0},null,{"$f":"V110/X110","v":{"$error":"#DIV/0!"}},null,{"$f":"MAX(V112,S112,P112)","v":0},null,{"$f":"Z110/AB110","v":{"$error":"#DIV/0!"}}]
[null,"Tour 1",{"$f":"C100","v":0},null,null,null,null,null,null,null,{"$f":"C101","v":0},null,{"$f":"D126","v":0},null,{"$f":"E125","v":0},"M",null,null,{"$f":"D116","v":0},null,{"$f":"E116","v":0},{"$f":"D123","v":0},null,{"$f":"E122","v":0},null,{"$f":"M113+S113+V113","v":0},null,{"$f":"O113+U113+X113","v":0},{"$f":"AV113","v":{"$error":"#DIV/0!"}},null,null,null,null,null,null,null,{"$f":"AA114","v":0.03},{"$f":"RANK(AK113,AK$110:AK$121,0)","v":1},{"$f":"AB115","v":{"$error":"#DIV/0!"}},{"$f":"RANK(AM113,AM$110:AM$121,0)","v":{"$error":"#DIV/0!"}},{"$f":"MAX(R115,U115,X115)","v":{"$error":"#DIV/0!"}},{"$f":"RANK(AO113,AO$110:AO$121)","v":{"$error":"#DIV/0!"}},{"$f":"Z115","v":0},{"$f":"RANK(AQ113,AQ$110:AQ$121)","v":1},{"$f":"(AL113*1000)+(AN113*100)+(AP113*10)+(AR113*1)","v":{"$error":"#DIV/0!"}},{"$f":"AS113","v":{"$error":"#DIV/0!"}},{"$f":"RANK(AT113,AT$110:AT$121,1)","v":{"$error":"#DIV/0!"}},{"$f":"RANK(AU113,AU$110:AU$121,1)","v":{"$error":"#DIV/0!"}}]
[null,null,{"$f":"C103","v":0},null,null,null,null,null,null,null,null,null,null,{"$f":"IF(R110>0,2-Q111,0.01)","v":0.01},null,null,null,null,null,{"$f":"IF(U113<1,0.01,IF(S113>P116,2,IF(S113=P116,1,0)))","v":0.01},null,null,{"$f":"IF(X113<1,0.01,IF(V113>P119,2,IF(V113=P119,1,0)))","v":0.01},null,null,null,{"$f":"N114+T114+W114","v":0.03}]
[null,null,null,null,null,null,null,null,null,null,null,null,{"$f":"F126","v":0},null,{"$f":"M113/O113","v":{"$error":"#DIV/0!"}},null,null,null,{"$f":"F116","v":0},null,{"$f":"S113/U113","v":{"$error":"#DIV/0!"}},{"$f":"F123","v":0},null,{"$f":"V113/X113","v":{"$error":"#DIV/0!"}},null,{"$f":"MAXA(S115,V115,M115)","v":0},null,{"$f":"Z113/AB113","v":{"$error":"#DIV/0!"}}]
[null,"Tour 2",{"$f":"C101","v":0},null,null,null,null,null,null,null,{"$f":"C102","v":0},null,{"$f":"D120","v":0},null,{"$f":"E119","v":0},{"$f":"D117","v":0},null,{"$f":"E116","v":0},"B",null,null,{"$f":"D128","v":0},null,{"$f":"E128","v":0},null,{"$f":"M116+P116+V116","v":0},null,{"$f":"O116+U116+X116","v":0},{"$f":"AV116","v":{"$error":"#DIV/0!"}},null,null,null,null,null,null,null,{"$f":"AA117","v":0.02},{"$f":"RANK(AK116,AK$110:AK$121,0)","v":4},{"$f":"AB118","v":{"$error":"#DIV/0!"}},{"$f":"RANK(AM116,AM$110:AM$121,0)","v":{"$error":"#DIV/0!"}},{"$f":"MAX(R118,U118,X118)","v":{"$error":"#DIV/0!"}},{"$f":"RANK(AO116,AO$110:AO$121)","v":{"$error":"#DIV/0!"}},{"$f":"Z118","v":0},{"$f":"RANK(AQ116,AQ$110:AQ$121)","v":1},{"$f":"(AL116*1000)+(AN116*100)+(AP116*10)+(AR116*1)","v":{"$error":"#DIV/0!"}},{"$f":"AS116","v":{"$error":"#DIV/0!"}},{"$f":"RANK(AT116,AT$110:AT$121,1)","v":{"$error":"#DIV/0!"}},{"$f":"RANK(AU116,AU$110:AU$121,1)","v":{"$error":"#DIV/0!"}}]
[null,null,{"$f":"C102","v":0},null,null,null,null,null,null,null,null,null,null,{"$f":"IF(U110>0,2-T111,0.01)","v":0.01},null,null,{"$f":"IF(U113>0,2-T114,0.01)","v":0.01},null,null,null,null,null,{"$f":"IF(X116<1,0.01,IF(V116>S119,2,IF(V116=S119,1,0)))","v":0.01},null,null,null,{"$f":"N117+T117+W117","v":0.02}]
[null,null,null,null,null,null,null,null,null,null,null,null,{"$f":"F120","v":0},null,{"$f":"M116/O116","v":{"$error":"#DIV/0!"}},{"$f":"F117","v":0},null,{"$f":"P116/R116","v":{"$error":"#DIV/0!"}},null,null,null,{"$f":"F128","v":0},null,{"$f":"V116/X116","v":{"$error":"#DIV/0!"}},null,{"$f":"MAXA(V118,P118,M118)","v":0},null,{"$f":"Z116/AB116","v":{"$error":"#DIV/0!"}}]
[null,"Tour 3",{"$f":"C100","v":0},null,null,null,null,null,null,null,{"$f":"C103","v":0},null,{"$f":"D114","v":0},null,{"$f":"E113","v":0},{"$f":"D122","v":0},null,{"$f":"E122","v":0},{"$f":"D129","v":0},null,{"$f":"E128","v":0},null,null,null,null,{"$f":"S119+V119+Y119","v":0},null,{"$f":"U119+R119+O119","v":0},{"$f":"AV119","v":{"$error":"#DIV/0!"}},null,null,null,null,null,null,null,{"$f":"AA120","v":0.03},{"$f":"RANK(AK119,AK$110:AK$121,0)","v":1},{"$f":"AB121","v":{"$error":"#DIV/0!"}},{"$f":"RANK(AM119,AM$110:AM$121,0)","v":{"$error":"#DIV/0!"}},{"$f":"MAX(R121,U121,X121)","v":{"$error":"#DIV/0!"}},{"$f":"RANK(AO119,AO$110:AO$121)","v":{"$error":"#DIV/0!"}},{"$f":"Z121","v":0},{"$f":"RANK(AQ119,AQ$110:AQ$121)","v":1},{"$f":"(AL119*1000)+(AN119*100)+(AP119*10)+(AR119*1)","v":{"$error":"#DIV/0!"}},{"$f":"AS119","v":{"$error":"#DIV/0!"}},{"$f":"RANK(AT119,AT$110:AT$121,1)","v":{"$error":"#DIV/0!"}},{"$f":"RANK(AU119,AU$110:AU$121,1)","v":{"$error":"#DIV/0!"}}]
[null,null,{"$f":"C102","v":0},null,null,null,null,null,null,null,null,null,null,{"$f":"IF(X110>0,2-W111,0.01)","v":0.01},null,null,{"$f":"IF(X113>0,2-W114,0.01)","v":0.01},null,null,{"$f":"IF(X116>0,2-W117,0.01)","v":0.01},null,null,null,null,null,null,{"$f":"N120+Q120+T120","v":0.03}]
[null,null,null,null,null,null,null,null,null,null,null,null,{"$f":"F114","v":0},null,{"$f":"M119/O119","v":{"$error":"#DIV/0!"}},{"$f":"F122","v":0},null,{"$f":"P119/R119","v":{"$error":"#DIV/0!"}},{"$f":"F129","v":0},null,{"$f":"S119/U119","v":{"$error":"#DIV/0!"}},null,null,null,null,{"$f":"MAXA(S121,V121,Y121)","v":0},null,{"$f":"Z119/AB119","v":{"$error":"#DIV/0!"}}]
[null,"Tour 4",{"$f":"C103","v":0}]
[null,null,{"$f":"C101","v":0},null,null,null,null,null,null,null,null,null,"Pas de prolongation en cas de match nul."]
[]
[null,"Tour 5",{"$f":"C100","v":0}]
[null,null,{"$f":"C101","v":0}]
[]
[null,"Tour 6",{"$f":"C102","v":0}]
[null,null,{"$f":"C103","v":0}]

{"sheet":"16JOUEURS_MOYENNE","index":47,"n_rows":130,"n_cols":42,"rows_kept":130,"cut":false,"hidden":true,"merged":[[7,23,7,25],[7,27,7,28],[8,2,8,5],[1,12,4,35],[2,1,3,2],[2,3,3,9],[5,1,6,2],[5,3,6,9],[6,12,6,15],[6,17,6,18],[6,20,6,21],[6,23,6,25],[6,27,6,28],[9,2,9,5],[10,2,10,5],[11,2,11,5],[13,1,14,5],[13,12,16,14],[13,15,16,17],[7,12,7,15],[7,17,7,18],[7,20,7,21],[15,32,15,33],[15,34,15,35],[15,36,15,37],[15,38,15,39],[15,41,16,41],[16,1,17,2],[17,10,19,11],[17,12,19,14],[17,28,19,28],[17,30,19,30],[13,18,16,20],[13,21,16,23],[14,10,16,11],[14,25,16,27],[14,28,16,28],[15,30,15,31],[17,37,19,37],[17,38,19,38],[17,39,19,39],[17,40,19,40],[17,41,19,41],[17,35,19,35],[17,36,19,36],[20,1,21,1],[20,4,21,4],[20,10,22,11],[20,15,22,17],[20,28,22,28],[17,31,19,31],[17,32,19,32],[17,33,19,33],[17,34,19,34],[23,30,25,30],[26,38,28,38],[26,39,28,39],[20,36,22,36],[20,37,22,37],[20,38,22,38],[20,39,22,39],[20,40,22,40],[20,41,22,41],[20,30,22,30],[20,31,22,31],[20,32,22,32],[20,33,22,33],[20,34,22,34],[20,35,22,35],[26,40,28,40],[26,41,28,41],[26,30,28,30],[26,31,28,31],[26,32,28,32],[26,33,28,33],[26,34,28,34],[26,35,28,35],[29,1,30,1],[29,4,30,4],[30,12,30,23],[23,37,25,37],[23,38,25,38],[23,39,25,39],[23,40,25,40],[23,41,25,41],[26,1,27,1],[26,4,27,4],[26,10,28,11],[26,21,28,23],[26,28,28,28],[23,31,25,31],[23,32,25,32],[23,33,25,33],[23,34,25,34],[23,35,25,35],[23,36,25,36],[23,1,24,1],[23,4,24,4],[23,10,25,11],[23,18,25,20],[23,28,25,28],[48,30,50,30],[48,31,50,31],[32,1,33,1],[32,4,33,4],[35,1,36,1],[35,4,36,4],[26,36,28,36],[26,37,28,37],[45,10,47,11],[45,25,47,27],[45,28,47,28],[39,2,39,5],[40,2,40,5],[41,2,41,5],[42,2,42,5],[44,1,45,5],[44,12,47,14],[47,1,48,2],[48,10,50,11],[48,12,50,14],[46,30,46,31],[46,32,46,33],[46,34,46,35],[46,36,46,37],[48,32,50,32],[48,33,50,33],[54,37,56,37],[54,38,56,38],[46,38,46,39],[46,41,47,41],[44,15,47,17],[44,18,47,20],[44,21,47,23],[48,41,50,41],[48,35,50,35],[48,36,50,36],[48,37,50,37],[48,38,50,38],[48,39,50,39],[48,40,50,40],[48,28,50,28],[54,33,56,33],[54,34,56,34],[48,34,50,34],[51,40,53,40],[51,41,53,41],[51,35,53,35],[51,36,53,36],[54,1,55,1],[54,4,55,4],[54,10,56,11],[54,18,56,20],[54,28,56,28],[54,30,56,30],[54,31,56,31],[54,32,56,32],[51,34,53,34],[51,1,52,1],[51,4,52,4],[51,10,53,11],[51,15,53,17],[51,28,53,28],[51,30,53,30],[51,31,53,31],[51,32,53,32],[51,33,53,33],[51,37,53,37],[51,38,53,38],[51,39,53,39],[54,39,56,39],[54,40,56,40],[54,41,56,41],[54,35,56,35],[54,36,56,36],[57,38,59,38],[57,39,59,39],[57,40,59,40],[57,41,59,41],[60,1,61,1],[60,4,61,4],[61,12,61,23],[57,32,59,32],[57,33,59,33],[57,34,59,34],[57,35,59,35],[57,36,59,36],[57,37,59,37],[57,1,58,1],[57,4,58,4],[57,10,59,11],[57,21,59,23],[57,28,59,28],[57,30,59,30],[57,31,59,31],[71,2,71,5],[72,2,72,5],[75,1,76,5],[75,12,78,14],[75,15,78,17],[75,18,78,20],[63,1,64,1],[63,4,64,4],[66,1,67,1],[66,4,67,4],[69,2,69,5],[70,2,70,5],[77,34,77,35],[77,36,77,37],[77,38,77,39],[77,41,78,41],[78,1,79,2],[79,10,81,11],[79,12,81,14],[79,28,81,28],[79,30,81,30],[79,31,81,31],[75,21,78,23],[76,10,78,11],[76,25,78,27],[76,28,78,28],[77,30,77,31],[77,32,77,33],[79,38,81,38],[79,39,81,39],[79,40,81,40],[79,41,81,41],[79,35,81,35],[79,36,81,36],[79,37,81,37],[82,1,83,1],[82,4,83,4],[82,10,84,11],[82,15,84,17],[82,28,84,28],[82,30,84,30],[79,32,81,32],[79,33,81,33],[79,34,81,34],[82,37,84,37],[82,38,84,38],[82,39,84,39],[82,40,84,40],[82,41,84,41],[85,1,86,1],[85,4,86,4],[85,10,87,11],[85,18,87,20],[85,28,87,28],[82,31,84,31],[82,32,84,32],[82,33,84,33],[82,34,84,34],[82,35,84,35],[82,36,84,36],[85,36,87,36],[85,37,87,37],[85,38,87,38],[85,39,87,39],[85,40,87,40],[85,41,87,41],[85,30,87,30],[85,31,87,31],[85,32,87,32],[85,33,87,33],[85,34,87,34],[85,35,87,35],[88,37,90,37],[88,38,90,38],[88,39,90,39],[88,40,90,40],[88,41,90,41],[91,1,92,1],[91,4,92,4],[92,12,92,23],[88,31,90,31],[88,32,90,32],[88,33,90,33],[88,34,90,34],[88,35,90,35],[88,36,90,36],[88,1,89,1],[88,4,89,4],[88,10,90,11],[88,21,90,23],[88,28,90,28],[88,30,90,30],[102,2,102,5],[103,2,103,5],[106,1,107,5],[106,12,109,14],[106,15,109,17],[106,18,109,20],[94,1,95,1],[94,4,95,4],[97,1,98,1],[97,4,98,4],[100,2,100,5],[101,2,101,5],[108,34,108,35],[108,36,108,37],[108,38,108,39],[108,41,109,41],[109,1,110,2],[110,10,112,11],[110,12,112,14],[110,28,112,28],[110,30,112,30],[110,31,112,31],[106,21,109,23],[107,10,109,11],[107,25,109,27],[107,28,109,28],[108,30,108,31],[108,32,108,33],[110,38,112,38],[110,39,112,39],[110,40,112,40],[110,41,112,41],[110,35,112,35],[110,36,112,36],[110,37,112,37],[113,1,114,1],[113,4,114,4],[113,10,115,11],[113,15,115,17],[113,28,115,28],[113,30,115,30],[110,32,112,32],[110,33,112,33],[110,34,112,34],[113,37,115,37],[113,38,115,38],[113,39,115,39],[113,40,115,40],[113,41,115,41],[116,1,117,1],[116,4,117,4],[116,10,118,11],[116,18,118,20],[116,28,118,28],[113,31,115,31],[113,32,115,32],[113,33,115,33],[113,34,115,34],[113,35,115,35],[113,36,115,36],[116,36,118,36],[116,37,118,37],[116,38,118,38],[116,39,118,39],[116,40,118,40],[116,41,118,41],[116,30,118,30],[116,31,118,31],[116,32,118,32],[116,33,118,33],[116,34,118,34],[116,35,118,35],[125,1,126,1],[125,4,126,4],[128,1,129,1],[128,4,129,4],[119,37,121,37],[119,38,121,38],[119,39,121,39],[119,40,121,40],[119,41,121,41],[122,1,123,1],[122,4,123,4],[123,12,123,23],[119,31,121,31],[119,32,121,32],[119,33,121,33],[119,34,121,34],[119,35,121,35],[119,36,121,36],[119,1,120,1],[119,4,120,4],[119,10,121,11],[119,21,121,23],[119,28,121,28],[119,30,121,30]]}
[]
[null,null,null,null,null,null,null,null,null,null,null,null,"LIGUE MÉDITERRANÉENNE DE BILLARD"]
[null,"CLUB ORGANISATEUR"]
[]
[]
[null,"DIRECTEUR DE JEU :"]
[null,null,null,null,null,null,null,null,null,null,null,null,"Compétition",null,null,null,null,"Mode de jeu",null,null,"Categorie",null,null,"Format billard",null,null,null,"Distance"]
[]
[null,"Joueur 1",{"$f":"'Saisie des joueurs'!K18","v":0}]
[null,"Joueur 2",{"$f":"'Saisie des joueurs'!K19","v":0}]
[null,"Joueur 3",{"$f":"'Saisie des joueurs'!K20","v":0}]
[null,"Joueur 4",{"$f":"'Saisie des joueurs'!K21","v":0}]
[]
[null,"SAISIE DES RESULTATS",null,null,null,null,null,null,null,null,null,null,{"$f":"C9","v":0},null,null,{"$f":"C10","v":0},null,null,{"$f":"C11","v":0},null,null,{"$f":"C12","v":0}]
[null,null,null,null,null,null,null,null,null,null,null,null,null,null,null,null,null,null,null,null,null,null,null,null,null,"TOTAUX",null,null,"CLASSEMENT"]
[null,null,null,null,null,null,null,null,null,null,null,null,null,null,null,null,null,null,null,null,null,null,null,null,null,null,null,null,null,null,"Classement",null,"Classement",null,"Classement",null,"Classement",null,"Classement",null,"GENERAL","RANG"]
[null,"POULE A",null,null,null,null,null,null,null,null,null,null,null,null,null,null,null,null,null,null,null,null,null,null,null,null,null,null,null,null,"Point-Match","CLS-M","Moy-Gen","CLS-G","Moy-Part","CLS-P","M-Series","CLS-S","MGPS","CLS","CLS"]
[null,null,null,null,null,null,null,null,null,null,{"$f":"C9","v":0},null,"L",null,null,{"$f":"D33","v":0},null,{"$f":"E33","v":0},{"$f":"D27","v":0},null,{"$f":"E27","v":0},{"$f":"D21","v":0},null,{"$f":"E21","v":0},null,{"$f":"P18+S18+V18","v":0},null,{"$f":"R18+U18+X18","v":0},{"$f":"AP18","v":{"$error":"#DIV/0!"}},null,{"$f":"AA19","v":0.03},{"$f":"RANK(AE18,AE$18:AE$29,0)","v":1},{"$f":"AB20","v":{"$error":"#DIV/0!"}},{"$f":"RANK(AG18,AG$18:AG$29,0)","v":{"$error":"#DIV/0!"}},{"$f":"MAX(R20,U20,X20)","v":{"$error":"#DIV/0!"}},{"$f":"RANK(AI18,AI$18:AI$29)","v":{"$error":"#DIV/0!"}},{"$f":"Z20","v":0},{"$f":"RANK(AK18,AK$18:AK$29)","v":1},{"$f":"(AF18*1000)+(AH18*100)+(AJ18*10)+(AL18*1)","v":{"$error":"#DIV/0!"}},{"$f":"AM18","v":{"$error":"#DIV/0!"}},{"$f":"RANK(AN18,AN$18:AN$29,1)","v":{"$error":"#DIV/0!"}},{"$f":"RANK(AO18,AO$18:AO$29,1)","v":{"$error":"#DIV/0!"}}]
[null,null,null,null,null,null,null,null,null,null,null,null,null,null,null,null,{"$f":"IF(R18<1,0.01,IF(P18>M21,2,IF(P18=M21,1,0)))","v":0.01},null,null,{"$f":"IF(U18<1,0.01,IF(S18>M24,2,IF(S18=M24,1,0)))","v":0.01},null,null,{"$f":"IF(X18<1,0.01,IF(V18>M27,2,IF(V18=M27,1,0)))","v":0.01},null,null,null,{"$f":"Q19+T19+W19","v":0.03}]
[null,null,null,"Pts","Rep","Série",null,null,null,null,null,null,null,null,null,{"$f":"F33","v":0},null,{"$f":"P18/R18","v":{"$error":"#DIV/0!"}},{"$f":"F27","v":0},null,{"$f":"S18/U18","v":{"$error":"#DIV/0!"}},{"$f":"F21","v":0},null,{"$f":"V18/X18","v":{"$error":"#DIV/0!"}},null,{"$f":"MAX(P20,S20,V20)","v":0},null,{"$f":"Z18/AB18","v":{"$error":"#DIV/0!"}}]
[null,"Tour 1",{"$f":"C9","v":0},null,null,null,null,null,null,null,{"$f":"C10","v":0},null,{"$f":"D34","v":0},null,{"$f":"E33","v":0},"M",null,null,{"$f":"D24","v":0},null,{"$f":"E24","v":0},{"$f":"D31","v":0},null,{"$f":"E30","v":0},null,{"$f":"M21+S21+V21","v":0},null,{"$f":"O21+U21+X21","v":0},{"$f":"AP21","v":{"$error":"#DIV/0!"}},null,{"$f":"AA22","v":0.03},{"$f":"RANK(AE21,AE$18:AE$29,0)","v":1},{"$f":"AB23","v":{"$error":"#DIV/0!"}},{"$f":"RANK(AG21,AG$18:AG$29,0)","v":{"$error":"#DIV/0!"}},{"$f":"MAX(O23,U23,X23)","v":{"$error":"#DIV/0!"}},{"$f":"RANK(AI21,AI$18:AI$29)","v":{"$error":"#DIV/0!"}},{"$f":"Z23","v":0},{"$f":"RANK(AK21,AK$18:AK$29)","v":1},{"$f":"(AF21*1000)+(AH21*100)+(AJ21*10)+(AL21*1)","v":{"$error":"#DIV/0!"}},{"$f":"AM21","v":{"$error":"#DIV/0!"}},{"$f":"RANK(AN21,AN$18:AN$29,1)","v":{"$error":"#DIV/0!"}},{"$f":"RANK(AO21,AO$18:AO$29,1)","v":{"$error":"#DIV/0!"}}]
[null,null,{"$f":"C12","v":0},null,null,null,null,null,null,null,null,null,null,{"$f":"IF(R18>0,2-Q19,0.01)","v":0.01},null,null,null,null,null,{"$f":"IF(U21<1,0.01,IF(S21>P24,2,IF(S21=P24,1,0)))","v":0.01},null,null,{"$f":"IF(X21<1,0.01,IF(V21>P27,2,IF(V21=P27,1,0)))","v":0.01},null,null,null,{"$f":"N22+T22+W22","v":0.03}]
[null,null,null,null,null,null,null,null,null,null,null,null,{"$f":"F34","v":0},null,{"$f":"M21/O21","v":{"$error":"#DIV/0!"}},null,null,null,{"$f":"F24","v":0},null,{"$f":"S21/U21","v":{"$error":"#DIV/0!"}},{"$f":"F31","v":0},null,{"$f":"V21/X21","v":{"$error":"#DIV/0!"}},null,{"$f":"MAXA(M23,S23,V23)","v":0},null,{"$f":"Z21/AB21","v":{"$error":"#DIV/0!"}}]
[null,"Tour 2",{"$f":"C10","v":0},null,null,null,null,null,null,null,{"$f":"C11","v":0},null,{"$f":"D28","v":0},null,{"$f":"E27","v":0},{"$f":"D25","v":0},null,{"$f":"E24","v":0},"B",null,null,{"$f":"D36","v":0},null,{"$f":"E36","v":0},null,{"$f":"M24+P24+V24","v":0},null,{"$f":"O24+R24+X24","v":0},{"$f":"AP24","v":{"$error":"#DIV/0!"}},null,{"$f":"AA25","v":0.03},{"$f":"RANK(AE24,AE$18:AE$29,0)","v":1},{"$f":"AB26","v":{"$error":"#DIV/0!"}},{"$f":"RANK(AG24,AG$18:AG$29,0)","v":{"$error":"#DIV/0!"}},{"$f":"MAX(O26,R26,X26)","v":{"$error":"#DIV/0!"}},{"$f":"RANK(AI24,AI$18:AI$29)","v":{"$error":"#DIV/0!"}},{"$f":"Z26","v":0},{"$f":"RANK(AK24,AK$18:AK$29)","v":1},{"$f":"(AF24*1000)+(AH24*100)+(AJ24*10)+(AL24*1)","v":{"$error":"#DIV/0!"}},{"$f":"AM24","v":{"$error":"#DIV/0!"}},{"$f":"RANK(AN24,AN$18:AN$29,1)","v":{"$error":"#DIV/0!"}},{"$f":"RANK(AO24,AO$18:AO$29,1)","v":{"$error":"#DIV/0!"}}]
[null,null,{"$f":"C11","v":0},null,null,null,null,null,null,null,null,null,null,{"$f":"IF(U18>0,2-T19,0.01)","v":0.01},null,null,{"$f":"IF(U21>0,2-T22,0.01)","v":0.01},null,null,null,null,null,{"$f":"IF(X24<1,0.01,IF(V24>S27,2,IF(V24=S27,1,0)))","v":0.01},null,null,null,{"$f":"N25+Q25+W25","v":0.03}]
[null,null,null,null,null,null,null,null,null,null,null,null,{"$f":"F28","v":0},null,{"$f":"M24/O24","v":{"$error":"#DIV/0!"}},{"$f":"F25","v":0},null,{"$f":"P24/R24","v":{"$error":"#DIV/0!"}},null,null,null,{"$f":"F36","v":0},null,{"$f":"V24/X24","v":{"$error":"#DIV/0!"}},null,{"$f":"MAXA(M26,P26,V26)","v":0},null,{"$f":"Z24/AB24","v":{"$error":"#DIV/0!"}}]
[null,"Tour 3",{"$f":"C9","v":0},null,null,null,null,null,null,null,{"$f":"C12","v":0},null,{"$f":"D22","v":0},null,{"$f":"E21","v":0},{"$f":"D30","v":0},null,{"$f":"E30","v":0},{"$f":"D37","v":0},null,{"$f":"E36","v":0},null,null,null,null,{"$f":"M27+P27+S27","v":0},null,{"$f":"O27+R27+U27","v":0},{"$f":"AP27","v":{"$error":"#DIV/0!"}},null,{"$f":"AA28","v":0.03},{"$f":"RANK(AE27,AE$18:AE$29,0)","v":1},{"$f":"AB29","v":{"$error":"#DIV/0!"}},{"$f":"RANK(AG27,AG$18:AG$29,0)","v":{"$error":"#DIV/0!"}},{"$f":"MAX(O29,R29,U29)","v":{"$error":"#DIV/0!"}},{"$f":"RANK(AI27,AI$18:AI$29)","v":{"$error":"#DIV/0!"}},{"$f":"Z29","v":0},{"$f":"RANK(AK27,AK$18:AK$29)","v":1},{"$f":"(AF27*1000)+(AH27*100)+(AJ27*10)+(AL27*1)","v":{"$error":"#DIV/0!"}},{"$f":"AM27","v":{"$error":"#DIV/0!"}},{"$f":"RANK(AN27,AN$18:AN$29,1)","v":{"$error":"#DIV/0!"}},{"$f":"RANK(AO27,AO$18:AO$29,1)","v":{"$error":"#DIV/0!"}}]
[null,null,{"$f":"C11","v":0},null,null,null,null,null,null,null,null,null,null,{"$f":"IF(X18>0,2-W19,0.01)","v":0.01},null,null,{"$f":"IF(X21>0,2-W22,0.01)","v":0.01},null,null,{"$f":"IF(X24>0,2-W25,0.01)","v":0.01},null,null,null,null,null,null,{"$f":"N28+Q28+T28","v":0.03}]
[null,null,null,null,null,null,null,null,null,null,null,null,{"$f":"F22","v":0},null,{"$f":"M27/O27","v":{"$error":"#DIV/0!"}},{"$f":"F30","v":0},null,{"$f":"P27/R27","v":{"$error":"#DIV/0!"}},{"$f":"F37","v":0},null,{"$f":"S27/U27","v":{"$error":"#DIV/0!"}},null,null,null,null,{"$f":"MAXA(M29,P29,S29)","v":0},null,{"$f":"Z27/AB27","v":{"$error":"#DIV/0!"}}]
[null,"Tour 4",{"$f":"C12","v":0}]
[null,null,{"$f":"C10","v":0},null,null,null,null,null,null,null,null,null,"Pas de prolongation en cas de match nul."]
[]
[null,"Tour 5",{"$f":"C9","v":0}]
[null,null,{"$f":"C10","v":0}]
[]
[null,"Tour 6",{"$f":"C11","v":0}]
[null,null,{"$f":"C12","v":0}]
[]
[]
[null,"Joueur 1",{"$f":"'Saisie des joueurs'!K22","v":0}]
[null,"Joueur 2",{"$f":"'Saisie des joueurs'!K23","v":0}]
[null,"Joueur 3",{"$f":"'Saisie des joueurs'!K24","v":0}]
[null,"Joueur 4",{"$f":"'Saisie des joueurs'!K25","v":0}]
[]
[null,"SAISIE DES RESULTATS",null,null,null,null,null,null,null,null,null,null,{"$f":"C40","v":0},null,null,{"$f":"C41","v":0},null,null,{"$f":"C42","v":0},null,null,{"$f":"C43","v":0}]
[null,null,null,null,null,null,null,null,null,null,null,null,null,null,null,null,null,null,null,null,null,null,null,null,null,"TOTAUX",null,null,"CLASSEMENT"]
[null,null,null,null,null,null,null,null,null,null,null,null,null,null,null,null,null,null,null,null,null,null,null,null,null,null,null,null,null,null,"Classement",null,"Classement",null,"Classement",null,"Classement",null,"Classement",null,"GENERAL","RANG"]
[null,"POULE B",null,null,null,null,null,null,null,null,null,null,null,null,null,null,null,null,null,null,null,null,null,null,null,null,null,null,null,null,"Point-Match","CLS-M","Moy-Gen","CLS-G","Moy-Part","CLS-P","M-Series","CLS-S","MGPS","CLS","CLS"]
[null,null,null,null,null,null,null,null,null,null,{"$f":"C40","v":0},null,"L",null,null,{"$f":"D64","v":0},null,{"$f":"E64","v":0},{"$f":"D58","v":0},null,{"$f":"E58","v":0},{"$f":"D52","v":0},null,{"$f":"E52","v":0},null,{"$f":"P49+S49+V49","v":0},null,{"$f":"R49+U49+X49","v":0},{"$f":"AP49","v":{"$error":"#DIV/0!"}},null,{"$f":"AA50","v":0.03},{"$f":"RANK(AE49,AE$49:AE$60,0)","v":1},{"$f":"AB51","v":{"$error":"#DIV/0!"}},{"$f":"RANK(AG49,AG$49:AG$60,0)","v":{"$error":"#DIV/0!"}},{"$f":"MAX(R51,U51,X51)","v":{"$error":"#DIV/0!"}},{"$f":"RANK(AI49,AI$49:AI$60)","v":{"$error":"#DIV/0!"}},{"$f":"Z51","v":0},{"$f":"RANK(AK49,AK$49:AK$60)","v":1},{"$f":"(AF49*1000)+(AH49*100)+(AJ49*10)+(AL49*1)","v":{"$error":"#DIV/0!"}},{"$f":"AM49","v":{"$error":"#DIV/0!"}},{"$f":"RANK(AN49,AN$49:AN$60,1)","v":{"$error":"#DIV/0!"}},{"$f":"RANK(AO49,AO$49:AO$60,1)","v":{"$error":"#DIV/0!"}}]
[null,null,null,null,null,null,null,null,null,null,null,null,null,null,null,null,{"$f":"IF(R49<1,0.01,IF(P49>M52,2,IF(P49=M52,1,0)))","v":0.01},null,null,{"$f":"IF(U49<1,0.01,IF(S49>M55,2,IF(S49=M55,1,0)))","v":0.01},null,null,{"$f":"IF(X49<1,0.01,IF(V49>M58,2,IF(V49=M58,1,0)))","v":0.01},null,null,null,{"$f":"Q50+T50+W50","v":0.03}]
[null,null,null,"Pts","Rep","Série",null,null,null,null,null,null,null,null,null,{"$f":"F64","v":0},null,{"$f":"P49/R49","v":{"$error":"#DIV/0!"}},{"$f":"F58","v":0},null,{"$f":"S49/U49","v":{"$error":"#DIV/0!"}},{"$f":"F52","v":0},null,{"$f":"V49/X49","v":{"$error":"#DIV/0!"}},null,{"$f":"MAX(P51,S51,V51)","v":0},null,{"$f":"Z49/AB49","v":{"$error":"#DIV/0!"}}]
[null,"Tour 1",{"$f":"C40","v":0},null,null,null,null,null,null,null,{"$f":"C41","v":0},null,{"$f":"D65","v":0},null,{"$f":"E64","v":0},"M",null,null,{"$f":"D55","v":0},null,{"$f":"E55","v":0},{"$f":"D62","v":0},null,{"$f":"E61","v":0},null,{"$f":"M52+S52+V52","v":0},null,{"$f":"O52+U52+X52","v":0},{"$f":"AP52","v":{"$error":"#DIV/0!"}},null,{"$f":"AA53","v":0.03},{"$f":"RANK(AE52,AE$49:AE$60,0)","v":1},{"$f":"AB54","v":{"$error":"#DIV/0!"}},{"$f":"RANK(AG52,AG$49:AG$60,0)","v":{"$error":"#DIV/0!"}},{"$f":"MAX(O54,U54,X54)","v":{"$error":"#DIV/0!"}},{"$f":"RANK(AI52,AI$49:AI$60)","v":{"$error":"#DIV/0!"}},{"$f":"Z54","v":0},{"$f":"RANK(AK52,AK$49:AK$60)","v":1},{"$f":"(AF52*1000)+(AH52*100)+(AJ52*10)+(AL52*1)","v":{"$error":"#DIV/0!"}},{"$f":"AM52","v":{"$error":"#DIV/0!"}},{"$f":"RANK(AN52,AN$49:AN$60,1)","v":{"$error":"#DIV/0!"}},{"$f":"RANK(AO52,AO$49:AO$60,1)","v":{"$error":"#DIV/0!"}}]
[null,null,{"$f":"C43","v":0},null,null,null,null,null,null,null,null,null,null,{"$f":"IF(R49>0,2-Q50,0.01)","v":0.01},null,null,null,null,null,{"$f":"IF(U52<1,0.01,IF(S52>P55,2,IF(S52=P55,1,0)))","v":0.01},null,null,{"$f":"IF(X52<1,0.01,IF(V52>P58,2,IF(V52=P58,1,0)))","v":0.01},null,null,null,{"$f":"N53+T53+W53","v":0.03}]
[null,null,null,null,null,null,null,null,null,null,null,null,{"$f":"F65","v":0},null,{"$f":"M52/O52","v":{"$error":"#DIV/0!"}},null,null,null,{"$f":"F55","v":0},null,{"$f":"S52/U52","v":{"$error":"#DIV/0!"}},{"$f":"F62","v":0},null,{"$f":"V52/X52","v":{"$error":"#DIV/0!"}},null,{"$f":"MAXA(M54,S54,V54)","v":0},null,{"$f":"Z52/AB52","v":{"$error":"#DIV/0!"}}]
[null,"Tour 2",{"$f":"C41","v":0},null,null,null,null,null,null,null,{"$f":"C42","v":0},null,{"$f":"D59","v":0},null,{"$f":"E58","v":0},{"$f":"D56","v":0},null,{"$f":"E55","v":0},"B",null,null,{"$f":"D67","v":0},null,{"$f":"E67","v":0},null,{"$f":"M55+P55+V55","v":0},null,{"$f":"O55+R55+X55","v":0},{"$f":"AP55","v":{"$error":"#DIV/0!"}},null,{"$f":"AA56","v":0.03},{"$f":"RANK(AE55,AE$49:AE$60,0)","v":1},{"$f":"AB57","v":{"$error":"#DIV/0!"}},{"$f":"RANK(AG55,AG$49:AG$60,0)","v":{"$error":"#DIV/0!"}},{"$f":"MAX(O57,R57,X57)","v":{"$error":"#DIV/0!"}},{"$f":"RANK(AI55,AI$49:AI$60)","v":{"$error":"#DIV/0!"}},{"$f":"Z57","v":0},{"$f":"RANK(AK55,AK$49:AK$60)","v":1},{"$f":"(AF55*1000)+(AH55*100)+(AJ55*10)+(AL55*1)","v":{"$error":"#DIV/0!"}},{"$f":"AM55","v":{"$error":"#DIV/0!"}},{"$f":"RANK(AN55,AN$49:AN$60,1)","v":{"$error":"#DIV/0!"}},{"$f":"RANK(AO55,AO$49:AO$60,1)","v":{"$error":"#DIV/0!"}}]
[null,null,{"$f":"C42","v":0},null,null,null,null,null,null,null,null,null,null,{"$f":"IF(U49>0,2-T50,0.01)","v":0.01},null,null,{"$f":"IF(U52>0,2-T53,0.01)","v":0.01},null,null,null,null,null,{"$f":"IF(X55<1,0.01,IF(V55>S58,2,IF(V55=S58,1,0)))","v":0.01},null,null,null,{"$f":"N56+Q56+W56","v":0.03}]
[null,null,null,null,null,null,null,null,null,null,null,null,{"$f":"F59","v":0},null,{"$f":"M55/O55","v":{"$error":"#DIV/0!"}},{"$f":"F56","v":0},null,{"$f":"P55/R55","v":{"$error":"#DIV/0!"}},null,null,null,{"$f":"F67","v":0},null,{"$f":"V55/X55","v":{"$error":"#DIV/0!"}},null,{"$f":"MAXA(M57,P57,V57)","v":0},null,{"$f":"Z55/AB55","v":{"$error":"#DIV/0!"}}]
[null,"Tour 3",{"$f":"C40","v":0},null,null,null,null,null,null,null,{"$f":"C43","v":0},null,{"$f":"D53","v":0},null,{"$f":"E52","v":0},{"$f":"D61","v":0},null,{"$f":"E61","v":0},{"$f":"D68","v":0},null,{"$f":"E67","v":0},null,null,null,null,{"$f":"M58+P58+S58","v":0},null,{"$f":"O58+R58+U58","v":0},{"$f":"AP58","v":{"$error":"#DIV/0!"}},null,{"$f":"AA59","v":0.03},{"$f":"RANK(AE58,AE$49:AE$60,0)","v":1},{"$f":"AB60","v":{"$error":"#DIV/0!"}},{"$f":"RANK(AG58,AG$49:AG$60,0)","v":{"$error":"#DIV/0!"}},{"$f":"MAX(O60,R60,U60)","v":{"$error":"#DIV/0!"}},{"$f":"RANK(AI58,AI$49:AI$60)","v":{"$error":"#DIV/0!"}},{"$f":"Z60","v":0},{"$f":"RANK(AK58,AK$49:AK$60)","v":1},{"$f":"(AF58*1000)+(AH58*100)+(AJ58*10)+(AL58*1)","v":{"$error":"#DIV/0!"}},{"$f":"AM58","v":{"$error":"#DIV/0!"}},{"$f":"RANK(AN58,AN$49:AN$60,1)","v":{"$error":"#DIV/0!"}},{"$f":"RANK(AO58,AO$49:AO$60,1)","v":{"$error":"#DIV/0!"}}]
[null,null,{"$f":"C42","v":0},null,null,null,null,null,null,null,null,null,null,{"$f":"IF(X49>0,2-W50,0.01)","v":0.01},null,null,{"$f":"IF(X52>0,2-W53,0.01)","v":0.01},null,null,{"$f":"IF(X55>0,2-W56,0.01)","v":0.01},null,null,null,null,null,null,{"$f":"N59+Q59+T59","v":0.03}]
[null,null,null,null,null,null,null,null,null,null,null,null,{"$f":"F53","v":0},null,{"$f":"M58/O58","v":{"$error":"#DIV/0!"}},{"$f":"F61","v":0},null,{"$f":"P58/R58","v":{"$error":"#DIV/0!"}},{"$f":"F68","v":0},null,{"$f":"S58/U58","v":{"$error":"#DIV/0!"}},null,null,null,null,{"$f":"MAXA(M60,P60,S60)","v":0},null,{"$f":"Z58/AB58","v":{"$error":"#DIV/0!"}}]
[null,"Tour 4",{"$f":"C43","v":0}]
[null,null,{"$f":"C41","v":0},null,null,null,null,null,null,null,null,null,"Pas de prolongation en cas de match nul."]
[]
[null,"Tour 5",{"$f":"C40","v":0}]
[null,null,{"$f":"C41","v":0}]
[]
[null,"Tour 6",{"$f":"C42","v":0}]
[null,null,{"$f":"C43","v":0}]
[]
[null,"Joueur 1",{"$f":"'Saisie des joueurs'!K26","v":0}]
[null,"Joueur 2",{"$f":"'Saisie des joueurs'!K27","v":0}]
[null,"Joueur 3",{"$f":"'Saisie des joueurs'!K28","v":0}]
[null,"Joueur 4",{"$f":"'Saisie des joueurs'!K29","v":0}]
[]
[]
[null,"SAISIE DES RESULTATS",null,null,null,null,null,null,null,null,null,null,{"$f":"C70","v":0},null,null,{"$f":"C71","v":0},null,null,{"$f":"C72","v":0},null,null,{"$f":"C73","v":0}]
[null,null,null,null,null,null,null,null,null,null,null,null,null,null,null,null,null,null,null,null,null,null,null,null,null,"TOTAUX",null,null,"CLASSEMENT"]
[null,null,null,null,null,null,null,null,null,null,null,null,null,null,null,null,null,null,null,null,null,null,null,null,null,null,null,null,null,null,"Classement",null,"Classement",null,"Classement",null,"Classement",null,"Classement",null,"GENERAL","RANG"]
[null,"POULE C",null,null,null,null,null,null,null,null,null,null,null,null,null,null,null,null,null,null,null,null,null,null,null,null,null,null,null,null,"Point-Match","CLS-M","Moy-Gen","CLS-G","Moy-Part","CLS-P","M-Series","CLS-S","MGPS","CLS","CLS"]
[null,null,null,null,null,null,null,null,null,null,{"$f":"C70","v":0},null,"L",null,null,{"$f":"D95","v":0},null,{"$f":"E95","v":0},{"$f":"D89","v":0},null,{"$f":"E89","v":0},{"$f":"D83","v":0},null,{"$f":"E83","v":0},null,{"$f":"P80+S80+V80","v":0},null,{"$f":"R80+U80+X80","v":0},{"$f":"AP80","v":{"$error":"#DIV/0!"}},null,{"$f":"AA81","v":0.03},{"$f":"RANK(AE80,AE$80:AE$91,0)","v":1},{"$f":"AB82","v":{"$error":"#DIV/0!"}},{"$f":"RANK(AG80,AG$80:AG$91,0)","v":{"$error":"#DIV/0!"}},{"$f":"MAX(R82,U82,X82)","v":{"$error":"#DIV/0!"}},{"$f":"RANK(AI80,AI$80:AI$91)","v":{"$error":"#DIV/0!"}},{"$f":"Z82","v":0},{"$f":"RANK(AK80,AK$49:AK$60)","v":1},{"$f":"(AF80*1000)+(AH80*100)+(AJ80*10)+(AL80*1)","v":{"$error":"#DIV/0!"}},{"$f":"AM80","v":{"$error":"#DIV/0!"}},{"$f":"RANK(AN80,AN$80:AN$91,1)","v":{"$error":"#DIV/0!"}},{"$f":"RANK(AO80,AO$80:AO$91,1)","v":{"$error":"#DIV/0!"}}]
[null,null,null,null,null,null,null,null,null,null,null,null,null,null,null,null,{"$f":"IF(R80<1,0.01,IF(P80>M83,2,IF(P80=M83,1,0)))","v":0.01},null,null,{"$f":"IF(U80<1,0.01,IF(S80>M86,2,IF(S80=M86,1,0)))","v":0.01},null,null,{"$f":"IF(X80<1,0.01,IF(V80>M89,2,IF(V80=M89,1,0)))","v":0.01},null,null,null,{"$f":"Q81+T81+W81","v":0.03}]
[null,null,null,"Pts","Rep","Série",null,null,null,null,null,null,null,null,null,{"$f":"F95","v":0},null,{"$f":"P80/R80","v":{"$error":"#DIV/0!"}},{"$f":"F89","v":0},null,{"$f":"S80/U80","v":{"$error":"#DIV/0!"}},{"$f":"F83","v":0},null,{"$f":"V80/X80","v":{"$error":"#DIV/0!"}},null,{"$f":"MAX(P82,S82,V82)","v":0},null,{"$f":"Z80/AB80","v":{"$error":"#DIV/0!"}}]
[null,"Tour 1",{"$f":"C70","v":0},null,null,null,null,null,null,null,{"$f":"C71","v":0},null,{"$f":"D96","v":0},null,{"$f":"E95","v":0},"M",null,null,{"$f":"D86","v":0},null,{"$f":"E86","v":0},{"$f":"D93","v":0},null,{"$f":"E92","v":0},null,{"$f":"M83+S83+V83","v":0},null,{"$f":"O83+U83+X83","v":0},{"$f":"AP83","v":{"$error":"#DIV/0!"}},null,{"$f":"AA84","v":0.03},{"$f":"RANK(AE83,AE$80:AE$91,0)","v":1},{"$f":"AB85","v":{"$error":"#DIV/0!"}},{"$f":"RANK(AG83,AG$80:AG$91,0)","v":{"$error":"#DIV/0!"}},{"$f":"MAX(O85,U85,X85)","v":{"$error":"#DIV/0!"}},{"$f":"RANK(AI83,AI$80:AI$91)","v":{"$error":"#DIV/0!"}},{"$f":"Z85","v":0},{"$f":"RANK(AK83,AK$49:AK$60)","v":1},{"$f":"(AF83*1000)+(AH83*100)+(AJ83*10)+(AL83*1)","v":{"$error":"#DIV/0!"}},{"$f":"AM83","v":{"$error":"#DIV/0!"}},{"$f":"RANK(AN83,AN$80:AN$91,1)","v":{"$error":"#DIV/0!"}},{"$f":"RANK(AO83,AO$80:AO$91,1)","v":{"$error":"#DIV/0!"}}]
[null,null,{"$f":"C73","v":0},null,null,null,null,null,null,null,null,null,null,{"$f":"IF(R80>0,2-Q81,0.01)","v":0.01},null,null,null,null,null,{"$f":"IF(U83<1,0.01,IF(S83>P86,2,IF(S83=P86,1,0)))","v":0.01},null,null,{"$f":"IF(X83<1,0.01,IF(V83>P89,2,IF(V83=P89,1,0)))","v":0.01},null,null,null,{"$f":"N84+T84+W84","v":0.03}]
[null,null,null,null,null,null,null,null,null,null,null,null,{"$f":"F96","v":0},null,{"$f":"M83/O83","v":{"$error":"#DIV/0!"}},null,null,null,{"$f":"F86","v":0},null,{"$f":"S83/U83","v":{"$error":"#DIV/0!"}},{"$f":"F93","v":0},null,{"$f":"V83/X83","v":{"$error":"#DIV/0!"}},null,{"$f":"MAXA(M85,S85,V85)","v":0},null,{"$f":"Z83/AB83","v":{"$error":"#DIV/0!"}}]
[null,"Tour 2",{"$f":"C71","v":0},null,null,null,null,null,null,null,{"$f":"C72","v":0},null,{"$f":"D90","v":0},null,{"$f":"E89","v":0},{"$f":"D87","v":0},null,{"$f":"E86","v":0},"B",null,null,{"$f":"D98","v":0},null,{"$f":"E98","v":0},null,{"$f":"M86+P86+V86","v":0},null,{"$f":"O86+R86+X86","v":0},{"$f":"AP86","v":{"$error":"#DIV/0!"}},null,{"$f":"AA87","v":0.03},{"$f":"RANK(AE86,AE$80:AE$91,0)","v":1},{"$f":"AB88","v":{"$error":"#DIV/0!"}},{"$f":"RANK(AG86,AG$80:AG$91,0)","v":{"$error":"#DIV/0!"}},{"$f":"MAX(O88,R88,X88)","v":{"$error":"#DIV/0!"}},{"$f":"RANK(AI86,AI$80:AI$91)","v":{"$error":"#DIV/0!"}},{"$f":"Z88","v":0},{"$f":"RANK(AK86,AK$49:AK$60)","v":1},{"$f":"(AF86*1000)+(AH86*100)+(AJ86*10)+(AL86*1)","v":{"$error":"#DIV/0!"}},{"$f":"AM86","v":{"$error":"#DIV/0!"}},{"$f":"RANK(AN86,AN$80:AN$91,1)","v":{"$error":"#DIV/0!"}},{"$f":"RANK(AO86,AO$80:AO$91,1)","v":{"$error":"#DIV/0!"}}]
[null,null,{"$f":"C72","v":0},null,null,null,null,null,null,null,null,null,null,{"$f":"IF(U80>0,2-T81,0.01)","v":0.01},null,null,{"$f":"IF(U83>0,2-T84,0.01)","v":0.01},null,null,null,null,null,{"$f":"IF(X86<1,0.01,IF(V86>S89,2,IF(V86=S89,1,0)))","v":0.01},null,null,null,{"$f":"N87+Q87+W87","v":0.03}]
[null,null,null,null,null,null,null,null,null,null,null,null,{"$f":"F90","v":0},null,{"$f":"M86/O86","v":{"$error":"#DIV/0!"}},{"$f":"F87","v":0},null,{"$f":"P86/R86","v":{"$error":"#DIV/0!"}},null,null,null,{"$f":"F98","v":0},null,{"$f":"V86/X86","v":{"$error":"#DIV/0!"}},null,{"$f":"MAXA(M88,P88,V88)","v":0},null,{"$f":"Z86/AB86","v":{"$error":"#DIV/0!"}}]
[null,"Tour 3",{"$f":"C70","v":0},null,null,null,null,null,null,null,{"$f":"C73","v":0},null,{"$f":"D84","v":0},null,{"$f":"E83","v":0},{"$f":"D92","v":0},null,{"$f":"E92","v":0},{"$f":"D99","v":0},null,{"$f":"E98","v":0},null,null,null,null,{"$f":"M89+P89+S89","v":0},null,{"$f":"O89+R89+U89","v":0},{"$f":"AP89","v":{"$error":"#DIV/0!"}},null,{"$f":"AA90","v":0.03},{"$f":"RANK(AE89,AE$80:AE$91,0)","v":1},{"$f":"AB91","v":{"$error":"#DIV/0!"}},{"$f":"RANK(AG89,AG$80:AG$91,0)","v":{"$error":"#DIV/0!"}},{"$f":"MAX(O91,R91,U91)","v":{"$error":"#DIV/0!"}},{"$f":"RANK(AI89,AI$80:AI$91)","v":{"$error":"#DIV/0!"}},{"$f":"Z91","v":0},{"$f":"RANK(AK89,AK$49:AK$60)","v":1},{"$f":"(AF89*1000)+(AH89*100)+(AJ89*10)+(AL89*1)","v":{"$error":"#DIV/0!"}},{"$f":"AM89","v":{"$error":"#DIV/0!"}},{"$f":"RANK(AN89,AN$80:AN$91,1)","v":{"$error":"#DIV/0!"}},{"$f":"RANK(AO89,AO$80:AO$91,1)","v":{"$error":"#DIV/0!"}}]
[null,null,{"$f":"C72","v":0},null,null,null,null,null,null,null,null,null,null,{"$f":"IF(X80>0,2-W81,0.01)","v":0.01},null,null,{"$f":"IF(X83>0,2-W84,0.01)","v":0.01},null,null,{"$f":"IF(X86>0,2-W87,0.01)","v":0.01},null,null,null,null,null,null,{"$f":"N90+Q90+T90","v":0.03}]
[null,null,null,null,null,null,null,null,null,null,null,null,{"$f":"F84","v":0},null,{"$f":"M89/O89","v":{"$error":"#DIV/0!"}},{"$f":"F92","v":0},null,{"$f":"P89/R89","v":{"$error":"#DIV/0!"}},{"$f":"F99","v":0},null,{"$f":"S89/U89","v":{"$error":"#DIV/0!"}},null,null,null,null,{"$f":"MAXA(M91,P91,S91)","v":0},null,{"$f":"Z89/AB89","v":{"$error":"#DIV/0!"}}]
[null,"Tour 4",{"$f":"C73","v":0}]
[null,null,{"$f":"C71","v":0},null,null,null,null,null,null,null,null,null,"Pas de prolongation en cas de match nul."]
[]
[null,"Tour 5",{"$f":"C70","v":0}]
[null,null,{"$f":"C71","v":0}]
[]
[null,"Tour 6",{"$f":"C72","v":0}]
[null,null,{"$f":"C73","v":0}]
[]
[null,"Joueur 1",{"$f":"'Saisie des joueurs'!K30","v":0}]
[null,"Joueur 2",{"$f":"'Saisie des joueurs'!K31","v":0}]
[null,"Joueur 3",{"$f":"'Saisie des joueurs'!K32","v":0}]
[null,"Joueur 4",{"$f":"'Saisie des joueurs'!K33","v":0}]
[]
[]
[null,"SAISIE DES RESULTATS",null,null,null,null,null,null,null,null,null,null,{"$f":"C101","v":0},null,null,{"$f":"C102","v":0},null,null,{"$f":"C103","v":0},null,null,{"$f":"C104","v":0}]
[null,null,null,null,null,null,null,null,null,null,null,null,null,null,null,null,null,null,null,null,null,null,null,null,null,"TOTAUX",null,null,"CLASSEMENT"]
[null,null,null,null,null,null,null,null,null,null,null,null,null,null,null,null,null,null,null,null,null,null,null,null,null,null,null,null,null,null,"Classement",null,"Classement",null,"Classement",null,"Classement",null,"Classement",null,"GENERAL","RANG"]
[null,"POULE D",null,null,null,null,null,null,null,null,null,null,null,null,null,null,null,null,null,null,null,null,null,null,null,null,null,null,null,null,"Point-Match","CLS-M","Moy-Gen","CLS-G","Moy-Part","CLS-P","M-Series","CLS-S","MGPS","CLS","CLS"]
[null,null,null,null,null,null,null,null,null,null,{"$f":"C101","v":0},null,"L",null,null,{"$f":"D126","v":0},null,{"$f":"E126","v":0},{"$f":"D120","v":0},null,{"$f":"E120","v":0},{"$f":"D114","v":0},null,{"$f":"E114","v":0},null,{"$f":"P111+S111+V111","v":0},null,{"$f":"R111+U111+X111","v":0},{"$f":"AP111","v":{"$error":"#DIV/0!"}},null,{"$f":"AA112","v":0.03},{"$f":"RANK(AE111,AE$111:AE$122,0)","v":1},{"$f":"AB113","v":{"$error":"#DIV/0!"}},{"$f":"RANK(AG111,AG$111:AG$122,0)","v":{"$error":"#DIV/0!"}},{"$f":"MAX(R113,U113,X113)","v":{"$error":"#DIV/0!"}},{"$f":"RANK(AI111,AI$111:AI$122)","v":{"$error":"#DIV/0!"}},{"$f":"Z113","v":0},{"$f":"RANK(AK111,AK$111:AK$122)","v":1},{"$f":"(AF111*1000)+(AH111*100)+(AJ111*10)+(AL111*1)","v":{"$error":"#DIV/0!"}},{"$f":"AM111","v":{"$error":"#DIV/0!"}},{"$f":"RANK(AN111,AN$111:AN$122,1)","v":{"$error":"#DIV/0!"}},{"$f":"RANK(AO111,AO$111:AO$122,1)","v":{"$error":"#DIV/0!"}}]
[null,null,null,null,null,null,null,null,null,null,null,null,null,null,null,null,{"$f":"IF(R111<1,0.01,IF(P111>M114,2,IF(P111=M114,1,0)))","v":0.01},null,null,{"$f":"IF(U111<1,0.01,IF(S111>M117,2,IF(S111=M117,1,0)))","v":0.01},null,null,{"$f":"IF(X111<1,0.01,IF(V111>M120,2,IF(V111=M120,1,0)))","v":0.01},null,null,null,{"$f":"Q112+T112+W112","v":0.03}]
[null,null,null,"Pts","Rep","Série",null,null,null,null,null,null,null,null,null,{"$f":"F126","v":0},null,{"$f":"P111/R111","v":{"$error":"#DIV/0!"}},{"$f":"F120","v":0},null,{"$f":"S111/U111","v":{"$error":"#DIV/0!"}},{"$f":"F114","v":0},null,{"$f":"V111/X111","v":{"$error":"#DIV/0!"}},null,{"$f":"MAX(P113,S113,V113)","v":0},null,{"$f":"Z111/AB111","v":{"$error":"#DIV/0!"}}]
[null,"Tour 1",{"$f":"C101","v":0},null,null,null,null,null,null,null,{"$f":"C102","v":0},null,{"$f":"D127","v":0},null,{"$f":"E126","v":0},"M",null,null,{"$f":"D117","v":0},null,{"$f":"E117","v":0},{"$f":"D124","v":0},null,{"$f":"E123","v":0},null,{"$f":"M114+S114+V114","v":0},null,{"$f":"O114+U114+X114","v":0},{"$f":"AP114","v":{"$error":"#DIV/0!"}},null,{"$f":"AA115","v":0.03},{"$f":"RANK(AE114,AE$111:AE$122,0)","v":1},{"$f":"AB116","v":{"$error":"#DIV/0!"}},{"$f":"RANK(AG114,AG$111:AG$122,0)","v":{"$error":"#DIV/0!"}},{"$f":"MAX(R116,U116,X116)","v":{"$error":"#DIV/0!"}},{"$f":"RANK(AI114,AI$111:AI$122)","v":{"$error":"#DIV/0!"}},{"$f":"Z116","v":0},{"$f":"RANK(AK114,AK$111:AK$122)","v":1},{"$f":"(AF114*1000)+(AH114*100)+(AJ114*10)+(AL114*1)","v":{"$error":"#DIV/0!"}},{"$f":"AM114","v":{"$error":"#DIV/0!"}},{"$f":"RANK(AN114,AN$111:AN$122,1)","v":{"$error":"#DIV/0!"}},{"$f":"RANK(AO114,AO$111:AO$122,1)","v":{"$error":"#DIV/0!"}}]
[null,null,{"$f":"C104","v":0},null,null,null,null,null,null,null,null,null,null,{"$f":"IF(R111>0,2-Q112,0.01)","v":0.01},null,null,null,null,null,{"$f":"IF(U114<1,0.01,IF(S114>P117,2,IF(S114=P117,1,0)))","v":0.01},null,null,{"$f":"IF(X114<1,0.01,IF(V114>P120,2,IF(V114=P120,1,0)))","v":0.01},null,null,null,{"$f":"N115+T115+W115","v":0.03}]
[null,null,null,null,null,null,null,null,null,null,null,null,{"$f":"F127","v":0},null,{"$f":"M114/O114","v":{"$error":"#DIV/0!"}},null,null,null,{"$f":"F117","v":0},null,{"$f":"S114/U114","v":{"$error":"#DIV/0!"}},{"$f":"F124","v":0},null,{"$f":"V114/X114","v":{"$error":"#DIV/0!"}},null,{"$f":"MAXA(M116,S116,V116)","v":0},null,{"$f":"Z114/AB114","v":{"$error":"#DIV/0!"}}]
[null,"Tour 2",{"$f":"C102","v":0},null,null,null,null,null,null,null,{"$f":"C103","v":0},null,{"$f":"D121","v":0},null,{"$f":"E120","v":0},{"$f":"D118","v":0},null,{"$f":"E117","v":0},"B",null,null,{"$f":"D129","v":0},null,{"$f":"E129","v":0},null,{"$f":"M117+P117+V117","v":0},null,{"$f":"O117+R117+X117","v":0},{"$f":"AP117","v":{"$error":"#DIV/0!"}},null,{"$f":"AA118","v":0.03},{"$f":"RANK(AE117,AE$111:AE$122,0)","v":1},{"$f":"AB119","v":{"$error":"#DIV/0!"}},{"$f":"RANK(AG117,AG$111:AG$122,0)","v":{"$error":"#DIV/0!"}},{"$f":"MAX(R119,U119,X119)","v":{"$error":"#DIV/0!"}},{"$f":"RANK(AI117,AI$111:AI$122)","v":{"$error":"#DIV/0!"}},{"$f":"Z119","v":0},{"$f":"RANK(AK117,AK$111:AK$122)","v":1},{"$f":"(AF117*1000)+(AH117*100)+(AJ117*10)+(AL117*1)","v":{"$error":"#DIV/0!"}},{"$f":"AM117","v":{"$error":"#DIV/0!"}},{"$f":"RANK(AN117,AN$111:AN$122,1)","v":{"$error":"#DIV/0!"}},{"$f":"RANK(AO117,AO$111:AO$122,1)","v":{"$error":"#DIV/0!"}}]
[null,null,{"$f":"C103","v":0},null,null,null,null,null,null,null,null,null,null,{"$f":"IF(U111>0,2-T112,0.01)","v":0.01},null,null,{"$f":"IF(U114>0,2-T115,0.01)","v":0.01},null,null,null,null,null,{"$f":"IF(X117<1,0.01,IF(V117>S120,2,IF(V117=S120,1,0)))","v":0.01},null,null,null,{"$f":"N118+Q118+W118","v":0.03}]
[null,null,null,null,null,null,null,null,null,null,null,null,{"$f":"F121","v":0},null,{"$f":"M117/O117","v":{"$error":"#DIV/0!"}},{"$f":"F118","v":0},null,{"$f":"P117/R117","v":{"$error":"#DIV/0!"}},null,null,null,{"$f":"F129","v":0},null,{"$f":"V117/X117","v":{"$error":"#DIV/0!"}},null,{"$f":"MAXA(M119,P119,V119)","v":0},null,{"$f":"Z117/AB117","v":{"$error":"#DIV/0!"}}]
[null,"Tour 3",{"$f":"C101","v":0},null,null,null,null,null,null,null,{"$f":"C104","v":0},null,{"$f":"D115","v":0},null,{"$f":"E114","v":0},{"$f":"D123","v":0},null,{"$f":"E123","v":0},{"$f":"D130","v":0},null,{"$f":"E129","v":0},null,null,null,null,{"$f":"M120+P120+S120","v":0},null,{"$f":"O120+R120+U120","v":0},{"$f":"AP120","v":{"$error":"#DIV/0!"}},null,{"$f":"AA121","v":0.03},{"$f":"RANK(AE120,AE$111:AE$122,0)","v":1},{"$f":"AB122","v":{"$error":"#DIV/0!"}},{"$f":"RANK(AG120,AG$111:AG$122,0)","v":{"$error":"#DIV/0!"}},{"$f":"MAX(R122,U122,X122)","v":{"$error":"#DIV/0!"}},{"$f":"RANK(AI120,AI$111:AI$122)","v":{"$error":"#DIV/0!"}},{"$f":"Z122","v":0},{"$f":"RANK(AK120,AK$111:AK$122)","v":1},{"$f":"(AF120*1000)+(AH120*100)+(AJ120*10)+(AL120*1)","v":{"$error":"#DIV/0!"}},{"$f":"AM120","v":{"$error":"#DIV/0!"}},{"$f":"RANK(AN120,AN$111:AN$122,1)","v":{"$error":"#DIV/0!"}},{"$f":"RANK(AO120,AO$111:AO$122,1)","v":{"$error":"#DIV/0!"}}]
[null,null,{"$f":"C103","v":0},null,null,null,null,null,null,null,null,null,null,{"$f":"IF(X111>0,2-W112,0.01)","v":0.01},null,null,{"$f":"IF(X114>0,2-W115,0.01)","v":0.01},null,null,{"$f":"IF(X117>0,2-W118,0.01)","v":0.01},null,null,null,null,null,null,{"$f":"N121+Q121+T121","v":0.03}]
[null,null,null,null,null,null,null,null,null,null,null,null,{"$f":"F115","v":0},null,{"$f":"M120/O120","v":{"$error":"#DIV/0!"}},{"$f":"F123","v":0},null,{"$f":"P120/R120","v":{"$error":"#DIV/0!"}},{"$f":"F130","v":0},null,{"$f":"S120/U120","v":{"$error":"#DIV/0!"}},null,null,null,null,{"$f":"MAXA(M122,P122,S122)","v":0},null,{"$f":"Z120/AB120","v":{"$error":"#DIV/0!"}}]
[null,"Tour 4",{"$f":"C104","v":0}]
[null,null,{"$f":"C102","v":0},null,null,null,null,null,null,null,null,null,"Pas de prolongation en cas de match nul."]
[]
[null,"Tour 5",{"$f":"C101","v":0}]
[null,null,{"$f":"C102","v":0}]
[]
[null,"Tour 6",{"$f":"C103","v":0}]
[null,null,{"$f":"C104","v":0}]