{"text_format":"1","workbook":"xlsx","n_sheets":13,"sheets":["BOISSON","CLUB","DONNEES","FICHE-JOUEUR","Saisie des joueurs","BILLARD 1","BILLARD 2","BILLARD 3","BILLARD 4","BILLARD 5","BILLARD 6","Distances","Heures convocations"],"not_rendered":{"charts":0,"images":2,"macros":1,"external_links":0,"defined_names":9,"comments":0,"pivot_tables":0},"unopened":[],"bounds":{"document_bytes":16777216,"sheet_cells":100000,"rows_first":2000,"rows_last":500,"rows_between":2000,"halvings":0,"cell_chars":16384,"cell_head_chars":4096},"cells_cut":0,"cells_raw":0,"read":"whole","date_system":"1900"}

{"sheet":"BOISSON","index":0,"n_rows":26,"n_cols":6,"rows_kept":26,"cut":false,"hidden":false,"merged":[[0,0,0,5]]}
["BILLARD CLUB"]
["Nom - Prénom","EAU","BOISSONS","REPAS","TOTAL","CLUB"]
[{"$f":"'Saisie des joueurs'!B18","v":0}]
[{"$f":"'Saisie des joueurs'!B19","v":0}]
[{"$f":"'Saisie des joueurs'!B20","v":0}]
[{"$f":"'Saisie des joueurs'!B21","v":0}]
[{"$f":"'Saisie des joueurs'!B22","v":0}]
[{"$f":"'Saisie des joueurs'!B23","v":0}]
[{"$f":"'Saisie des joueurs'!B24","v":0}]
[{"$f":"'Saisie des joueurs'!B25","v":0}]
[{"$f":"'Saisie des joueurs'!B26","v":0}]
[{"$f":"'Saisie des joueurs'!B27","v":0}]
[{"$f":"'Saisie des joueurs'!B28","v":0}]
[{"$f":"'Saisie des joueurs'!B29","v":0}]
[{"$f":"'Saisie des joueurs'!B30","v":0}]
[{"$f":"'Saisie des joueurs'!B31","v":0}]
[{"$f":"'Saisie des joueurs'!B32","v":0}]
[{"$f":"'Saisie des joueurs'!B33","v":0}]
[{"$f":"'Saisie des joueurs'!B34","v":0}]
[{"$f":"'Saisie des joueurs'!B35","v":0}]
[{"$f":"'Saisie des joueurs'!B36","v":0}]
[{"$f":"'Saisie des joueurs'!B37","v":0}]
[{"$f":"'Saisie des joueurs'!B38","v":0}]
[{"$f":"'Saisie des joueurs'!B39","v":0}]
[{"$f":"'Saisie des joueurs'!B40","v":0}]
[{"$f":"'Saisie des joueurs'!B41","v":0}]

{"sheet":"CLUB","index":1,"n_rows":25,"n_cols":10,"rows_kept":25,"cut":false,"hidden":true,"merged":[[0,0,0,4]]}
["CLUB AFFILIE LMB\n"]
["CLUB","ADRESSE 1","ADRESSE 2","CODE POSTAL","VILLE",null,null,"TOURNOI 3B01","R1","CL"]
["19001 – S. S. A. B. D AIX EN PROVENCE","RUE PIERRE DE COUBERTIN",null,13100,"AIX EN PROVENCE",null,null,"TOURNOI 3B02","R2","NC"]
["19002 – SPORT AMAT.DE BILLARD MARSEILLAIS","26 RUE PAVILLON",null,13001,"MARSEILLE",null,null,"TOURNOI 3B03"]
["19006 – BILLARD CLUB CARPENTRASSIEN","264 BOULEVARD ALBIN DURAND",null,84200,"CARPENTRAS",null,null,"TOURNOI 3B04"]
["19007 – BILLARD CLUB BERROIS","RUE MARCEL PAGNOL",null,13130,"BERRE L ETANG",null,null,"TOURNOI 3B05"]
["19009 – CLUB BILLARD ISTREEN","HALLE POLYVALENTE PLACE RAOUX","ALLEE DES ECHOPPES",13800,"ISTRES",null,null,"TOURNOI 3B06"]
["19012 – SALON BILLARD CLUB","CERCLE DES ARTS","RUE DES FILEUSES DE SOIE",13300,"SALON DE PROVENCE",null,null,"TOURNOI 3B07"]
["19014 – BILLARD CLUB AVIGNONNAIS","12 RUE BONAPARTE","MAISON DU COMBATTANT",84000,"AVIGNON",null,null,"TOURNOI 3B08"]
["19016 – BILLARD CLUB ORANGEOIS","MAISON DES ASSOCIATIONS","ROUTE DE CADEROUSSE",84100,"ORANGE",null,null,"TOURNOI 3B09"]
["19017 – BILLARD CLUB PHOCEEN","12 RUE DU DOCTEUR ACQUAVIVA",null,13004,"MARSEILLE",null,null,"TOURNOI 3B10"]
["19019 – BILLARD CLUB DE LA BAIE","SALLE OTTAVI","AVENUE DES ALLIES",83240,"CAVALAIRE SUR MER",null,null,"TOURNOI 3B11"]
["19021 – BILLARD CLUB CAVAILLONNAIS","CERCLE DE L INDEPENDANCE","97 COURS VICTOR HUGO",84300,"CAVAILLON",null,null,"TOURNOI 3B12"]
["19023 – BILLARD CLUB GARDEEN","LE MAS QUARTIER SAINTE MARGUERITE","293 AVENUE PIERRE LOTI",83130,"LA GARDE"]
["19025 – BILLARD CLUB SISTERONNAIS","73 AVENUE DE LA DURANCE","SALLE OMNISPORT DANIEL MAFFREN",4200,"SISTERON"]
["19027 – ACADEMIE DE BILLARD DE BOLLENE","GROUPE SCOLAIRE PIERRE MARIE CURIE",null,84500,"BOLLENE"]
["19050 – BILLARD CLUB SAUSSETOIS","PARC MUNICIPAL DES LOISIRS","31 AVENUE DE LA COTE BLEUE",13960,"SAUSSET LES PINS"]
["19055 – ACADEMIE DE BILLARD DE MENTON","ALLEE DU LOUVRE ","SALON DU LOUVRE",6500,"MENTON"]
["19056 – BILLARD CLUB DE NICE","SALLE MALATESTA","64 AVENUE CYRILLE BESSET",6100,"NICE"]
["19058 – ACADEMIE DE BILLARD DE BARBOSSI MANDELIEU","COUNTRY CLUB DE BARBOSSI","23 CHEMIN DE MAURE-VIEL",6210,"MANDELIEU LA NAPOULE",")"]
["19059 – BILLARD CLUB ROQUEBRUNOIS","44 AVENUE GABRIEL PERRI",null,83520,"ROQUEBRUNE SUR ARGENS"]
["19061 – ACAD.BILLARD ST RAPHAEL","90 RUE THOMAS EDISSON","ZI LA PALUD",83700,"ST RAPHAEL"]
["19090 – BILLARD CLUB ROGNAC","60 BOULEVARD JEAN JAURES",null,13340,"ROGNAC"]
["19098 – BILLARD CLUB LA FARE","36 BIS AVENUE PASTEUR",null,13580,"LA FARE LES OLIVIERS"]
["19106 – BILLARD CLUB VINONNAIS","480 RUE DES ENTREPRENEURS","ZA DU PAS DE MENC",83560,"VINON SUR VERDON"]

{"sheet":"DONNEES","index":2,"n_rows":76,"n_cols":6,"rows_kept":76,"cut":false,"hidden":true,"merged":[[0,0,0,5]]}
[]
[]
["NC-CL","NOM","LICENCE","CAT","MG","CLUB"]
["CL","AMOUROUX LUC","155531 F","R2","0,244","19023 – BILLARD CLUB GARDEEN"]
["CL","AUBERT ROUECHE LYDIA","148204 R","R2","0,255","19106 – BILLARD CLUB VINONNAIS"]
["NC","BADINIER MARC","189187 N","R2","0,247","19058 – ACADEMIE DE BILLARD DE BARBOSSI MANDELIEU"]
["CL","BASSOUL JEAN MARIE","103568 K","R2","0,202","19006 – BILLARD CLUB CARPENTRASSIEN"]
["CL","BAYARD JEAN CLAUDE","021860 U","R2","0,214","19021 – BILLARD CLUB CAVAILLONNAIS"]
["CL","BIARD ANDRE","159202 W","R2","0,171","19009 – CLUB BILLARD ISTREEN"]
["CL","BLANC SANTELLI ERIC","179744 Z","R2","0,143","19009 – CLUB BILLARD ISTREEN"]
["CL","BONNEMAISON DENIS","150422 C","R1","0,230","19009 – CLUB BILLARD ISTREEN"]
["CL","BOUTILLE NICOLAS","122662 U","R1","0,392","19027 – ACADEMIE DE BILLARD DE BOLLENE"]
["CL","CAO HUU TUOI","021944 A","R1","0,434","19098 – BILLARD CLUB LA FARE"]
["CL","CARRILLON MICHEL","141066 Q","R1","0,289","19001 – S. S. A. B. D AIX EN PROVENCE"]
["CL","CHEURF SELIMANE","187031 V","R2","0,216","19090 – BILLARD CLUB ROGNAC"]
["CL","CLEMENT GERARD","129497 R","R1","0,360","19050 – BILLARD CLUB SAUSSETOIS"]
["NC","CORBET LAURENT","021987 R","R1","0,300","19021 – BILLARD CLUB CAVAILLONNAIS"]
["CL","CORTES JEAN LOUIS","187055 W","R1","0,290","19009 – CLUB BILLARD ISTREEN"]
["CL","DEDON RICHARD","177233 V","R1","0,214","19007 – BILLARD CLUB BERROIS"]
["CL","DI CRESCENZO PIERRE","109528 Q","R1","0,317","19017 – BILLARD CLUB PHOCEEN"]
["CL","DUSSAULE PIERRE","102285 B","R1","0,377","19027 – ACADEMIE DE BILLARD DE BOLLENE"]
["CL","ELEOUET DANIEL","163467 G","R1","0,322","19006 – BILLARD CLUB CARPENTRASSIEN"]
["CL","FERRO PHILIPPE","122658 Q","R1","0,276","19009 – CLUB BILLARD ISTREEN"]
["CL","FLEURIOT PATRICK","173138 T","R2","0,152","19014 – BILLARD CLUB AVIGNONNAIS"]
["CL","GELAS BERNARD","163279 C","R2","0,225","19098 – BILLARD CLUB LA FARE"]
["CL","GHU GERARD","101282 M","R1","0,250","19016 – BILLARD CLUB ORANGEOIS"]
["CL","GIBARROUX CHRISTOPHE","118661 X","R1","0,330","19001 – S. S. A. B. D AIX EN PROVENCE"]
["CL","GIOVANNETTI DAMIEN","022115 P","R1","0,181","19050 – BILLARD CLUB SAUSSETOIS"]
["CL","GOAILLARD JEAN MARC","181920 P","R1","0,393","19017 – BILLARD CLUB PHOCEEN"]
["CL","GODARD PASCAL","157852 D","R1","0,417","19006 – BILLARD CLUB CARPENTRASSIEN"]
["CL","GOUIRAN GEORGES","022129 D","R2","0,193","19050 – BILLARD CLUB SAUSSETOIS"]
["CL","GOURSEAUD YVES","104054 C","R1","0,379","19016 – BILLARD CLUB ORANGEOIS"]
["CL","GUIBERT JEAN MARIE","022137 L","R1","0,306","19009 – CLUB BILLARD ISTREEN"]
["CL","HAZE PATRICK","137523 J","R1","0,285","19021 – BILLARD CLUB CAVAILLONNAIS"]
["CL","HEURTAULT JACKY","137004 K","R1","0,292","19012 – SALON BILLARD CLUB"]
["CL","IDJERI GILBERT","172214 P","R1","0,376","19050 – BILLARD CLUB SAUSSETOIS"]
["CL","JUMEL RENE","162905 W","R2","0,246","19027 – ACADEMIE DE BILLARD DE BOLLENE"]
["CL","LANDERECTHE PASCAL","181199 F","R1","0,313","19090 – BILLARD CLUB ROGNAC"]
["CL","LETELLIER ALAIN","176350 K","R2","0,230","19090 – BILLARD CLUB ROGNAC"]
["CL","LISI ROGER","146375 V","R2","0,180","19007 – BILLARD CLUB BERROIS"]
["CL","MASSIAS GUY","172680 W","R2","0,216","19001 – S. S. A. B. D AIX EN PROVENCE"]
["CL","METAIS ALBAN","152604 Z","R1","0,317","19006 – BILLARD CLUB CARPENTRASSIEN"]
["CL","MOLINAS ROBERT","022270 O","R1","0,354","19021 – BILLARD CLUB CAVAILLONNAIS"]
["CL","N GUYEN VAN DUC MAX","141788 K","R1","0,324","19007 – BILLARD CLUB BERROIS"]
["CL","OLLIVIER DANIEL","020258 E","R1","0,333","19009 – CLUB BILLARD ISTREEN"]
["CL","PACZESNY FABRICE","150400 D","R1","0,236","19098 – BILLARD CLUB LA FARE"]
["CL","PELLAT FRANCIS","141673 Z","R1","0,272","19009 – CLUB BILLARD ISTREEN"]
["CL","PEREZ CHRISTIAN","130773 T","R2","0,213","19009 – CLUB BILLARD ISTREEN"]
["NC","PERRIER GILLES","021540 M","R2","0,200","19021 – BILLARD CLUB CAVAILLONNAIS"]
["CL","PETIT PHILIPPE","179183 P","R2","0,220","19014 – BILLARD CLUB AVIGNONNAIS"]
["CL","PILAVDJIAN JACQUES","165118 B","R1","0,287","19017 – BILLARD CLUB PHOCEEN"]
["CL","PORA JEAN PAUL","170697 Q","R1","0,286","19009 – CLUB BILLARD ISTREEN"]
["CL","POUJOL JEAN PAUL","022347 N","R2","0,223","19014 – BILLARD CLUB AVIGNONNAIS"]
["CL","POULAIN FREDERIC","144719 D","R2","0,234","19016 – BILLARD CLUB ORANGEOIS"]
["CL","RANC ALAIN","136205 R","R1","0,296","19027 – ACADEMIE DE BILLARD DE BOLLENE"]
["CL","REVALOR MICHEL","119696 S","R2","0,175","19050 – BILLARD CLUB SAUSSETOIS"]
["CL","ROBBE RAYMOND","134183 X","R1","0,290","19009 – CLUB BILLARD ISTREEN"]
["CL","RONSAIN JEAN JACQUES","166175 A","R1","0,258","19012 – SALON BILLARD CLUB"]
["CL","ROUGON ROBERT","101518 O","R1","0,341","19090 – BILLARD CLUB ROGNAC"]
["CL","RYCKELYNCK LAURENT","121397 D","R2","0,375","19006 – BILLARD CLUB CARPENTRASSIEN"]
["CL","SALAMA ALAIN","136546 U","R1","0,322","19021 – BILLARD CLUB CAVAILLONNAIS"]
["CL","SARRALDE LOUIS","014138 U","R1","0,250","19021 – BILLARD CLUB CAVAILLONNAIS"]
["CL","SAVI OLIVIER","186195 L","R1","0,252","19050 – BILLARD CLUB SAUSSETOIS"]
["CL","SAVOIA PATRICK","113222 S","R1","0,372","19050 – BILLARD CLUB SAUSSETOIS"]
["CL","SCHAEFER ERNEST ROBERT","149694 L","R2","0,208","19006 – BILLARD CLUB CARPENTRASSIEN"]
["NC","SIEGLER JEAN PIERRE","168834 Q","R1","0,250","19006 – BILLARD CLUB CARPENTRASSIEN"]
["CL","SIMON GERARD","010203 L","R1","0,393","19014 – BILLARD CLUB AVIGNONNAIS"]
["CL","TARDIEUX LUC","022429 R","R2","0,237","19098 – BILLARD CLUB LA FARE"]
["CL","TARDY JEAN CLAUDE","133907 H","R2","0,138","19014 – BILLARD CLUB AVIGNONNAIS"]
["NC","TARTING BERNARD","160345 N","R1","0,400","19001 – S. S. A. B. D AIX EN PROVENCE"]
["CL","TEYSSIER SERGE","132938 A","R2","0,208","19090 – BILLARD CLUB ROGNAC"]
["CL","TORES JEAN LUC","135554 Q","R1","0,297","19009 – CLUB BILLARD ISTREEN"]
["CL","VIOU GERARD","147607 S","R1","0,409","19098 – BILLARD CLUB LA FARE"]
["CL","VITALIEN PIERRE","119674 W","R1","0,299","19016 – BILLARD CLUB ORANGEOIS"]
["CL","WILLAME PHILIPPE","152534 Y","R2","0,218","19001 – S. S. A. B. D AIX EN PROVENCE"]
["CL","YVOZ ALAIN","184288 N","R1","0,376","19006 – BILLARD CLUB CARPENTRASSIEN"]

{"sheet":"FICHE-JOUEUR","index":3,"n_rows":413,"n_cols":3,"rows_kept":413,"cut":false,"hidden":true,"merged":[[0,0,0,2]]}
["LMB \nFICHE JOUEURS\n"]
["Licence","NOM","PRENOM"]
["106287Z","ABAD","YANNICK"]
["169265J","ABDALLAH","ANTHONY"]
["159403P","ABELA","JOSEPH"]
["169267L","ACOCA","WILLIAM"]
["147622J","ESTABLIER","PIERRE"]
["165301A","BARTH","JEAN PAUL"]
["021810W","AKNIN","GABRIEL"]
["147980Y","AKTAS","JEAN"]
["149448T","ALESSI","JEAN PIERRE"]
["169144C","ALEXANIAN","ANTOINE"]
["151459E","ALIBERT","BRUNO"]
["159130S","ALVAREZ","PHILIPPE"]
["152035F","ALVISET","GUY"]
["155531F","AMOUROUX","LUC"]
["162879S","AMOUROUX","JACQUES ANTOINE"]
["153111A","ANDRIEUX","STEPHANE"]
["021818E","ANDRY","JEAN FRANCOIS"]
["021819F","ANGUE","PATRICK"]
["021820G","ANNESTAY","JACQUES"]
["021821H","ANTONIN","ALAIN"]
["021824K","ARBAUD","STEPHANE"]
["166320H","ATHLANI","MICHEL"]
["106513R","AUDIBERT","JEAN PIERRE"]
["138454E","AUDOUIN","JEAN JACQUES"]
["012464K","AZERAD","HUGO"]
["021839Z","AZOULAY","ALAIN"]
["115304U","BAILLON","JEAN"]
["153554G","BALESTRI","MAURICE"]
["023184S","BALLIGAND","SERGE"]
["109917P","BARBANNEAU","FREDERIC"]
["018535X","BARDET","JEAN PIERRE"]
["122300W","BARRALLON","JEAN PAUL"]
["115343H","BARTOLETTI","JULIEN"]
["129911P","BASSIGNANA","ROBERT"]
["103568K","BASSOUL","JEAN MARIE"]
["021860U","BAYARD","JEAN CLAUDE"]
["153113C","BECQ","GILLES"]
["021865Z","BELHASSEN","BENJAMIN"]
["132789H","BELTRITTI","JEAN YVES"]
["021872G","BENAVIDES","CLAUDE"]
["138275H","BENAVIDES","GERARD"]
["124802C","BENDAVID","KARINE"]
["159238K","BENIER","PATRICK"]
["160011A","BENSAID","NOEL"]
["125945B","BERNAT","JEAN PIERRE"]
["115001D","BERNICHON","PASCAL"]
["159202W","BIARD","ANDRE"]
["168684C","BODET","DENIS"]
["016248Y","BOFFA","BERNARD"]
["168836S","BOLAND","CHRISTIAN"]
["021894C","BONELLO","LUCIEN"]
["150422C","BONNEMAISON","DENIS"]
["101352E","BONNET","JONATHAN"]
["021900I","BONTOUX","MAX"]
["149287T","BORDES","BERNARD"]
["149288V","BORDES","CATHIE"]
["160000N","BOSSOT","JEAN"]
["155529D","BOULANT","CLAUDE"]
["021911T","BOURDELLES","LAURENT"]
["122662U","BOUTILLE","NICOLAS"]
["118665B","BOUTTIER","CHARLES"]
["125921D","BOUTTIER","CAROLINE"]
["149613Y","BOVET","MICHEL"]
["168877M","BOYER","ANNE MARIE"]
["021918A","BREDAT","RENE"]
["152345S","BREPSON","MARTIAL"]
["113104E","BRIAND","ALAIN"]
["021920C","BRIOIT","DOMINIQUE"]
["114733V","BRUANT","SYLVAIN"]
["136581D","BRUNERIE","JEAN LOUIS"]
["117642S","BUFFART","MICHELE"]
["109188O","BUI THAI","NINH"]
["155679R","BURELLI","GEORGES"]
["162877Q","BUROIS","FREDERIQUE"]
["151533K","BURON","JEAN LOUIS"]
["112311R","CACHO","DIDIER"]
["144785R","CAILLAUD","DANIEL"]
["158342L","CALUSIO","J PIERRE"]
["159692D","CANAL","FRANCOIS"]
["021944A","CAO","HUU TUOI"]
["146885L","CARAIL","MICHEL"]
["021946C","CARDINALI","DENIS"]
["101302G","CARPENTRAS","MICHEL"]
["152346T","CARRE","PIERRE"]
["118684U","CESARO","JEAN CLAUDE"]
["161620Z","CHABOUD","JACQUES"]
["021960Q","CHAIX","JOEL"]
["143166K","CHANTEUX","ALAIN"]
["151534L","CHAPLIN","CHRISTIAN"]
["021967X","CHARBIT","JEAN MARC"]
["152655E","CHEVRIER","JACQUES"]
["152831W","CHEVRIER","CAMILLE"]
["160332Z","CHICARD","ALAIN"]
["108854S","CHUZEVILLE","GILLES"]
["168880Q","CLAUDEN","PHILIPPE"]
["129497R","CLEMENT","GERARD"]
["106896K","CLUS","SANDY"]
["012827J","COHEN","RICHARD"]
["166294E","COLOMBET","MARIE"]
["166295F","COLOMBET","MICHEL"]
["166177C","CONTRAIN","JEROME"]
["021985P","COPPIN","JEAN MICHEL"]
["164007T","CORBIN","LUC"]
["106512Q","CORDONNIER","ROGER"]
["148136S","COSTAZ","ALAIN"]
["125938U","COSTE","PHILIPPE"]
["101268Y","COTARD","SANDRINE"]
["119932U","COUPET","PHILIPPE"]
["168287W","COURSAULT","BERNADETTE"]
["168685D","COZETTE","SYLVIE"]
["021996A","CREUZOT","PATRICE"]
["152067Q","CROUZET","JEAN ANDRE"]
["144718C","D ANTONIO","JEROME"]
["126747X","DAMIEN","JACQUES"]
["022002G","DAMON","GERARD"]
["022003H","DAMON","OLIVIER"]
["144640C","DANCARVILLE","GUY"]
["155526A","DAVID","THIERRY"]
["139487X","DE GRYSE","GERARD"]
["140113Z","DE HAAN","PATRICK"]
["163348C","DE LOOSE","FELIX"]
["159371E","DE LUCA","JEREMY"]
["127655V","DE RIGAL","DANIEL"]
["151535M","DE ROOY","PETER"]
["022009N","DEBOS","CHARLES"]
["119889D","DEFFE","MICHEL"]
["020635R","DEFRETIN","JOEL"]
["016772C","DEL MEDICO","JEAN"]
["152184S","DELAIRE","SYLVAIN"]
["166003N","DELAIRE","JEAN PIERRE"]
["022014S","DELATTRE","RAYMOND"]
["166346L","DELUC","BERNARD"]
["168662D","DEMARCQ","JEAN FRANCOIS"]
["159076J","DEMERLIAC","BRUNO"]
["142358I","DESMERO","RAYMOND"]
["115051B","DESWAZIERE","MICHEL"]
["163923C","DETAND","CHRISTIAN"]
["022033L","DHAINAUT","JEAN FRANCOIS"]
["135014W","DI BIN","JEAN MARIE"]
["160331Y","DION","JEAN LOUIS"]
["142363N","DONABEDIAN","DANIEL"]
["022039R","DOS SANTOS","FRANCIS"]
["169123E","DUBOC","BERTRAND"]
["152038J","DUBOURDEAUX","ROBERT"]
["013022W","DUBREUIL","FRANCK"]
["154651Z","DUCA","ALFONSO"]
["138116E","DUFLOT","ALAIN"]
["013037L","DUMET","BRUNO"]
["105621J","DUPUIS","MICHEL"]
["022049B","DURAND","FREDERIC"]
["022050C","DURAND","HERVE"]
["022052E","DUSFOUR","RENE"]
["102285B","DUSSAULE","PIERRE"]
["140809T","EL MEGHARY","MAROUANE"]
["163467G","ELEOUET","DANIEL"]
["162984G","FAISSOLLE","CHRISTELLE"]
["022066S","FAVARIO","CHRISTIAN"]
["022067T","FERAUD","GERARD"]
["129036Y","FERHAT","ACHOUR"]
["013111H","FERNANDEZ","MARC"]
["122658Q","FERRO","PHILIPPE"]
["114481D","FLORENT","CEDRIC"]
["101139Z","FONTAINE","DANY"]
["127035Z","FOREL","PHILIPPE"]
["152014H","FORGET","LIONEL"]
["022082I","FOSSATI","BRUNO"]
["022084K","FRANCO","GILBERT"]
["118688Y","FRANCO","HENRY"]
["167290M","FROMEYER","CORINNE"]
["159060R","FURNON","ROGER"]
["103216W","GABETTO","STEPHANE"]
["142316S","GALARDINI","RICHARD"]
["145236A","GAMBINO","NATHAN"]
["147288W","GAMEN","ANDRE"]
["022097X","GATTO","ANTOINE"]
["112833T","GAUCHER","JULIEN"]
["116278G","GAVALDA","PIERRE"]
["125944A","GAVANON","ANDRE"]
["163279C","GELAS","BERNARD"]
["150065P","GENDRAUD","PHILIPPE"]
["022103D","GERARD","PASCAL"]
["167330F","GERARD","THOMAS"]
["022104E","GERVAIS","GUILLAUME"]
["101282M","GHU","GERARD"]
["022108I","GIANNATTASIO","LUCIEN"]
["118661X","GIBARROUX","CHRISTOPHE"]
["149390F","GIFFARD","PHILIPPE"]
["022113N","GIMENEZ","SERGE"]
["022115P","GIOVANNETTI","DAMIEN"]
["129718E","GIRARD","JACQUES"]
["159240M","GLEISES","CHRISTIAN"]
["022120U","GLEIZES","JEAN"]
["157852D","GODARD","PASCAL"]
["131925B","GOUDENECHE","BERNARD"]
["022129D","GOUIRAN","GEORGES"]
["104054C","GOURSEAUD","YVES"]
["101259P","GOUZIEN","RENAUD"]
["166216V","GOUZIEN","YANN"]
["144636Y","GOUZOUGUEN","CHRISTIAN"]
["163514H","GRANDMAIRE","ROLAND"]
["149576H","GREGOIRE","J CLAUDE"]
["022132G","GRIFFON","JEAN JACQUES"]
["101403D","GROS","ROLAND"]
["107059R","GROS","MARIE PAULE"]
["135013V","GUERI","ROBERT"]
["103615F","GUERIN","RAYMOND"]
["022135J","GUERINEAU","THIERRY"]
["144796C","GUERINEAU","BRUNO"]
["104475H","GUEUG","PIERRE"]
["022137L","GUIBERT","JEAN MARIE"]
["109714U","HAEBERLE","JEAN"]
["011966G","HAHN","DANIEL"]
["022141P","HAROUTUNIAN","PIERRE"]
["166328R","HARTENSTEIN","BRUNO"]
["137523J","HAZE","PATRICK"]
["119933V","HERREMAN","SERGE"]
["137004K","HEURTAULT","JACKY"]
["163015Q","HUREL","JACQUES"]
["148913M","HURSTEL","BERNARD"]
["169266K","JANNOT","FREDERIC"]
["120276A","JAVEY","JEAN FRANCOIS"]
["022163L","JOB","GEORGES"]
["120814S","JONNARD","FREDERIC"]
["109412E","JUIGNET","CHRISTIAN"]
["162905W","JUMEL","RENE"]
["125930M","LABBE","CLAUDE"]
["109977X","LACOSSE","JEAN PAUL"]
["168708D","LACROIX","JEAN MARC"]
["168256M","LAFON","CHARLES"]
["016084Q","LANDE","GERARD"]
["168288X","LANNURIEN","THIERRY"]
["022190M","LAPLANCHE","YVON"]
["022195R","LAVASTROU","ROGER"]
["163278B","LE FAUCHEUR","LAURENT"]
["125949F","LE GUENNEC","CHRISTIAN"]
["120278C","LE MEUR","CLAUDE"]
["013510Q","LE RAY","JEAN CLAUDE"]
["141504M","LECOQ","ARNAUD"]
["117411V","LEFAUX","JEAN JACQUES"]
["110379J","LEMARTINET","ROBERT"]
["022205B","LEMESLE","FABRICE"]
["104233Z","LEMIERE","JEAN NOEL"]
["022209F","LIEGEOIS","DOMINIQUE"]
["159203X","LINA","SERGE"]
["146375V","LISI","ROGER"]
["168722T","LISSAJOUX","JEAN CLAUDE"]
["166755F","LOPEZ","TONY"]
["169129L","LORION","PHILIPPE"]
["022217N","LORKOVIC","JOSEPH"]
["168030R","LOSTAO","DOMINIQUE"]
["162076V","LUCENET","PAUL"]
["022221R","LUVISON","JEAN"]
["022223T","MACQUET","PATRICK"]
["165843P","MAGNIER","PIERRE"]
["114884Q","MAGNIEZ","JACQUES"]
["100910E","MALLEVAL","GERARD"]
["159667B","MALPAUX","GUY"]
["022229Z","MANZOLI","ANGELO"]
["101260Q","MARIOTTI","JEAN MICHEL"]
["159950J","MARME","HANS"]
["103581X","MASSERAN","PHILIPPE"]
["129498S","MATHIEU","CLAUDE"]
["017615N","MAUDUIT","DIDIER"]
["149391G","MAURON","BERNARD"]
[112015,"MAYNARD","ALEXANDRE"]
["163410V","MEALLIER","LOLA"]
["165932L","MEALLIER","RAPHAEL"]
["128466A","MEGUIN","ERIC"]
["144802I","MELLET","PIERRE"]
["152604Z","METAIS","ALBAN"]
["022260E","MEYER","LUC"]
["144792Y","MISRAKI","ROMAIN"]
["022266K","MOGLIA","EMILE"]
["167147G","MOLINA","MARIE"]
["022270O","MOLINAS","ROBERT"]
["022271P","MONNET","JEAN CLAUDE"]
["147624L","MOREELS","BERNARD"]
["151456B","MOUSSIER","PATRICK"]
["109063T","MUNOS","JEAN"]
["141788K","N GUYEN VAN DUC","MAX"]
["123392W","NARDI","LOUIS"]
["107263N","NASICA","PATRICK"]
["101269Z","NATALI","MICHEL"]
["154572N","NATELLA","ROGER"]
["154573P","NATELLA","IDA"]
["168689H","NAVARRO","BERNARD"]
["132345F","NEICHTHAUSER","GERARD"]
["128204Y","NICOLAS","JOEL"]
["146143X","NICOLE","CLAUDE"]
["154378C","ORSAL","SERGE"]
["128468C","OUDOUX","GERARD"]
["150400D","PACZESNY","FABRICE"]
["141673Z","PELLAT","FRANCIS"]
["144779L","PELOUIN","JEAN FRANCOIS"]
["103577T","PENEDO","MANUEL"]
["102907Z","PERDICARO","CAMILLE"]
["013896M","PEREIRA","CHARLES"]
["130773T","PEREZ","CHRISTIAN"]
["159241N","PEREZ","JEAN PIERRE"]
["022321N","PERIS","MICHEL"]
["150544K","PERRE","OLIVIER"]
["166927S","PEYRAN","PATRICE"]
["151709B","PIATEK","JEAN CLAUDE"]
["135135N","PICCHI","GERARD"]
["022330W","PIELIN","PASCAL"]
["112316W","PIGNATEL","FLORENT"]
["105404A","PINARD","PATRICE"]
["022336C","PIQUET","VICTOR"]
["111987F","PLAQUEVENT","ROMUALD"]
["108010G","POIRIER","DOMINIQUE"]
["022347N","POUJOL","JEAN PAUL"]
["144719D","POULAIN","FREDERIC"]
["022349P","POZNANSKI","JEAN MICHEL"]
["136544S","QUEZEL","ANDRE"]
["101290U","RANIERI","JEAN ANDRE"]
["163826X","RATON","PATRICE"]
["159200T","REGNOUARD","MICHEL"]
["133622I","RENAUD","JEAN PAUL"]
["119696S","REVALOR","MICHEL"]
["022366G","RIBOLLA","PATRICE"]
["022367H","RICHARD","GUY"]
["169268M","RIETTE","MARJORIE"]
["125943Z","RIFFET","BERNARD"]
["022372M","RIGNOLS","PHILIPPE"]
["134183X","ROBBE","RAYMOND"]
["022376Q","ROBERT","DOMINIQUE"]
["022450M","ROBERT","DIDIER"]
["169274T","ROCA","STEPHANIE"]
["103608Y","RODRIGUEZ","STEPHAN"]
["163945B","RODRIGUEZ","RONNIE"]
["134843H","ROGER","GERARD"]
["166175A","RONSSAIN","JEAN JACQUES"]
["166176B","ROTH","ALAIN"]
["101518O","ROUGON","ROBERT"]
["163989Z","ROUSSEL","ALAIN"]
["022384Y","ROUX","CLAUDE"]
["122208I","SABLON","ROGER"]
["169318R","SAFI","AZIZ"]
["136546U","SALAMA","ALAIN"]
["120008S","SAMUEL","CHRISTIAN"]
["163352G","SANCHEZ PEREZ","FRANCISCO"]
["167423G","SANTANA","ELOY"]
["022391F","SANTIAGO","JEAN JOSEPH"]
["022393H","SANTORO","ROBERT"]
["014138U","SARRALDE","LOUIS"]
["164008V","SAUVAN","HENRY"]
["144798E","SAUZE","DENIS"]
["113222S","SAVOIA","PATRICK"]
["149694L","SCHAEFER","ERNEST ROBERT"]
["136540O","SCHENK","ROBERT"]
["167170G","SEJOURNE","LAURENT"]
["022406U","SELLIER","MICHEL"]
["155543T","SEREAULT","CLAUDE"]
["149899J","SERMON","FABIO"]
["148608F","SEYNHAEVE","BAUDOUIN"]
["163238H","SICARD","GEORGES"]
["168834Q","SIEGLER","JEAN PIERRE"]
["165933M","SIMANTOB","JEAN LUC"]
["156378B","SIMIAN","FABIENNE"]
["010203L","SIMON","GERARD"]
["022412A","SINANIAN","JEAN PAUL"]
["151274D","SOLARI","ANNICK"]
["151275E","SOLARI","GERARD"]
["103578U","SOLTANI","OMAR"]
["162906X","SOUCHERE","JEAN JACQUES"]
["149696N","SOUTEYRAND","CHRISTIAN"]
["165931K","SPINNLER","JEAN LUC"]
["020790Q","STEINMANN","SEBASTIEN"]
["156278S","STRAUDO","MICHEL"]
["165039Q","SUEUR","PASCAL"]
["143055D","TABUADA","FRANCOIS"]
["022429R","TARDIEUX","LUC"]
["133907H","TARDY","JEAN CLAUDE"]
["143024Y","TARDY","PIERRE YVES"]
["123701T","TELOT","DOMINIQUE"]
["168687F","THOMAS","PHILIPPE"]
["148252T","TIMSIT","SERGE"]
["131820A","TONINI BOSSI","LAURENT"]
["132786E","TONNELIER","JEAN PIERRE"]
["135554Q","TORES","JEAN LUC"]
["014256I","TOURE","MADOU"]
["139062O","TOUREILLE","ALAIN"]
["022441D","TOURET","THIERRY"]
["022443F","TRAN","KEVIN"]
["131929F","TRAN DINH","VUONG"]
["138277J","TRAPPE","JEAN MARIE"]
["022446I","TRIVINO","RENE"]
["107282G","VAHE","GUILLAUME"]
["139591X","VAN HACK","DIDIER"]
["022456S","VASCONE","JOHNY"]
["129880K","VASSE","JEAN PIERRE"]
["022459V","VAUTRIN","JEAN"]
["022466C","VIALATTE","ANDRE"]
["166670N","VIAN","MORGAN"]
["022467D","VIBOUREL","ETIENNE"]
["147412F","VICTOR","DANIEL"]
["148051A","VIERA MAIA","ARLINDO"]
["164317F","VILLARD","PATRICE"]
["101485H","VILLASEVIL","ANTONIO"]
["153007M","VILLEMAIN","SYLVAIN"]
["147607S","VIOU","GERARD"]
["138731V","VISCONTI","JEAN"]
["119674W","VITALIEN","PIERRE"]
["022476M","VIVALDI","ANDRE"]
["154571M","VUILLAUME","JEAN CLAUDE"]
["014349X","WEINER","GUY"]
["143308W","YORAC","ARNOLF"]
["166159H","YUNG","NADEGE"]
["134311V","ZANDRINO","ALAIN"]
["125457H","ZOPPI","CEDRIC"]
["144788U","ZOPPI","AIME"]

{"sheet":"Saisie des joueurs","index":4,"n_rows":51,"n_cols":22,"rows_kept":51,"cut":false,"hidden":false,"merged":[[0,2,1,6],[2,2,2,6],[14,10,14,14],[4,4,8,6],[17,8,20,8],[15,10,15,14],[1,10,12,14],[33,8,36,8],[37,8,40,8],[21,8,24,8],[25,8,28,8],[29,8,32,8],[50,2,50,3],[42,2,47,6],[10,3,10,4],[12,2,12,6],[14,2,14,6],[15,2,15,6]]}
[null,null,"COMITE DEPARTEMENTAL 13"]
[null,null,null,null,null,null,null,"Mis à jour le 16/02/2025",null,null,"Rappel de l'Article 6.2.09 du Code Sportif Carambole FFB...  Joueurs d'un même club.\n\"Pour toutes les poules, tous les joueurs d'un même club sont opposés les uns aux autres aux premiers tours de jeu\".\nIl arrive quelquefois, dans nos poules de 4 joueurs, que 3 joueurs soient d'un même club.\nLe bon sens est de ne pas laisser le seul joueur d'un autre club attendre que les trois premiers matchs se fassent sans lui.\n Dans ce cas, il suffit d'organiser les tours de jeu de telle sorte que\nle dernier match se fasse entre deux joueurs de clubs différents.\n"]
[null,null,"Saisir ici les informations concernant le tournoi."]
[]
[null,null,"Date  (jj/mm/aa)"]
[]
[null,null,"N° de la compétition"]
[]
[null,null,"Mode de jeu","3 BANDES"]
[]
[null,null,"Club organisateur",null,null,"Directeur de jeu"]
[]
[null,null,"TOURNOI 4 A 24 JOUEURS - POULE UNIQUE DE 4 JOUEURS"]
[]
[null,null,"Dans cet onglet \"Saisir dans la liste déroulante les NOMS  des joueurs de cette Colonne\", l'ordre à saisir n'est pas important :\nMettre le joueur ABSENT sur les cases vides restantes, OU sur un joueur forfait au dernier moment,\n ensuite cliquer sur le \"BOUTON TRI \"",null,null,null,null,null,null,null,"RESULTAT DU TRI DES POULES"]
[null,null,"Ne pas toucher au cellules ci-dessous",null,null,null,null,null,null,null,"Ne pas toucher au cellules ci-dessous"]
["N°","Liste déroulante NOM ","N° Licence","NOM PRENOM","Catégorie","Moyenne 2,80","Club",null,null,null,"Licences","NOM PRENOM","Catégorie","Moyenne 2,80","Club",null,null,"Licences","NOMS","Catégorie","Moyenne sur 3,10","Club"]
[{"$f":"ROW(A1)","v":1}]
[{"$f":"ROW(A2)","v":2}]
[3]
[4]
[5]
[6]
[7]
[8]
[9]
[10,null,null,null,null,null,null,null,null,null,"","",null,"",""]
[11,null,{"$f":"IF(B28<>\"\",VLOOKUP(B28,DONNEES!$B$27:$F$149,2,FALSE),\"\")","v":""},{"$f":"IF(B28<>\"\",VLOOKUP(B28,DONNEES!$B$27:$F$149,1,FALSE),\"\")","v":""},null,{"$f":"IF(B28<>\"\",VLOOKUP(B28,DONNEES!$B$27:$F$149,4,FALSE),\"\")","v":""},{"$f":"IF(B28<>\"\",VLOOKUP(B28,DONNEES!$B$27:$F$149,5,FALSE),\"\")","v":""},null,null,null,"","",null,"",""]
[12,null,{"$f":"IF(B29<>\"\",VLOOKUP(B29,DONNEES!$B$27:$F$149,2,FALSE),\"\")","v":""},{"$f":"IF(B29<>\"\",VLOOKUP(B29,DONNEES!$B$27:$F$149,1,FALSE),\"\")","v":""},null,{"$f":"IF(B29<>\"\",VLOOKUP(B29,DONNEES!$B$27:$F$149,4,FALSE),\"\")","v":""},{"$f":"IF(B29<>\"\",VLOOKUP(B29,DONNEES!$B$27:$F$149,5,FALSE),\"\")","v":""},null,null,null,"","",null,"",""]
[13,null,{"$f":"IF(B30<>\"\",VLOOKUP(B30,DONNEES!$B$27:$F$149,2,FALSE),\"\")","v":""},{"$f":"IF(B30<>\"\",VLOOKUP(B30,DONNEES!$B$27:$F$149,1,FALSE),\"\")","v":""},null,{"$f":"IF(B30<>\"\",VLOOKUP(B30,DONNEES!$B$27:$F$149,4,FALSE),\"\")","v":""},{"$f":"IF(B30<>\"\",VLOOKUP(B30,DONNEES!$B$27:$F$149,5,FALSE),\"\")","v":""},null,null,null,"","",null,"",""]
[14,null,{"$f":"IF(B31<>\"\",VLOOKUP(B31,DONNEES!$B$27:$F$149,2,FALSE),\"\")","v":""},{"$f":"IF(B31<>\"\",VLOOKUP(B31,DONNEES!$B$27:$F$149,1,FALSE),\"\")","v":""},null,{"$f":"IF(B31<>\"\",VLOOKUP(B31,DONNEES!$B$27:$F$149,4,FALSE),\"\")","v":""},{"$f":"IF(B31<>\"\",VLOOKUP(B31,DONNEES!$B$27:$F$149,5,FALSE),\"\")","v":""},null,null,null,"","",null,"",""]
[15,null,{"$f":"IF(B32<>\"\",VLOOKUP(B32,DONNEES!$B$27:$F$149,2,FALSE),\"\")","v":""},{"$f":"IF(B32<>\"\",VLOOKUP(B32,DONNEES!$B$27:$F$149,1,FALSE),\"\")","v":""},null,{"$f":"IF(B32<>\"\",VLOOKUP(B32,DONNEES!$B$27:$F$149,4,FALSE),\"\")","v":""},{"$f":"IF(B32<>\"\",VLOOKUP(B32,DONNEES!$B$27:$F$149,5,FALSE),\"\")","v":""},null,null,null,"","",null,"",""]
[16,null,{"$f":"IF(B33<>\"\",VLOOKUP(B33,DONNEES!$B$27:$F$149,2,FALSE),\"\")","v":""},{"$f":"IF(B33<>\"\",VLOOKUP(B33,DONNEES!$B$27:$F$149,1,FALSE),\"\")","v":""},null,{"$f":"IF(B33<>\"\",VLOOKUP(B33,DONNEES!$B$27:$F$149,4,FALSE),\"\")","v":""},{"$f":"IF(B33<>\"\",VLOOKUP(B33,DONNEES!$B$27:$F$149,5,FALSE),\"\")","v":""},null,null,null,"","",null,"",""]
[17,null,{"$f":"IF(B34<>\"\",VLOOKUP(B34,DONNEES!$B$27:$F$149,2,FALSE),\"\")","v":""},{"$f":"IF(B34<>\"\",VLOOKUP(B34,DONNEES!$B$27:$F$149,1,FALSE),\"\")","v":""},null,{"$f":"IF(B34<>\"\",VLOOKUP(B34,DONNEES!$B$27:$F$149,4,FALSE),\"\")","v":""},{"$f":"IF(B34<>\"\",VLOOKUP(B34,DONNEES!$B$27:$F$149,5,FALSE),\"\")","v":""},null,null,null,"","",null,"",""]
[18,null,{"$f":"IF(B35<>\"\",VLOOKUP(B35,DONNEES!$B$27:$F$149,2,FALSE),\"\")","v":""},{"$f":"IF(B35<>\"\",VLOOKUP(B35,DONNEES!$B$27:$F$149,1,FALSE),\"\")","v":""},null,{"$f":"IF(B35<>\"\",VLOOKUP(B35,DONNEES!$B$27:$F$149,4,FALSE),\"\")","v":""},{"$f":"IF(B35<>\"\",VLOOKUP(B35,DONNEES!$B$27:$F$149,5,FALSE),\"\")","v":""},null,null,null,"","",null,"",""]
[19,null,{"$f":"IF(B36<>\"\",VLOOKUP(B36,DONNEES!$B$27:$F$149,2,FALSE),\"\")","v":""},{"$f":"IF(B36<>\"\",VLOOKUP(B36,DONNEES!$B$27:$F$149,1,FALSE),\"\")","v":""},null,{"$f":"IF(B36<>\"\",VLOOKUP(B36,DONNEES!$B$27:$F$149,4,FALSE),\"\")","v":""},{"$f":"IF(B36<>\"\",VLOOKUP(B36,DONNEES!$B$27:$F$149,5,FALSE),\"\")","v":""},null,null,null,"","",null,"",""]
[20,null,{"$f":"IF(B37<>\"\",VLOOKUP(B37,DONNEES!$B$27:$F$149,2,FALSE),\"\")","v":""},{"$f":"IF(B37<>\"\",VLOOKUP(B37,DONNEES!$B$27:$F$149,1,FALSE),\"\")","v":""},null,{"$f":"IF(B37<>\"\",VLOOKUP(B37,DONNEES!$B$27:$F$149,4,FALSE),\"\")","v":""},{"$f":"IF(B37<>\"\",VLOOKUP(B37,DONNEES!$B$27:$F$149,5,FALSE),\"\")","v":""},null,null,null,"","",null,"",""]
[21,null,{"$f":"IF(B38<>\"\",VLOOKUP(B38,DONNEES!$B$27:$F$149,2,FALSE),\"\")","v":""},{"$f":"IF(B38<>\"\",VLOOKUP(B38,DONNEES!$B$27:$F$149,1,FALSE),\"\")","v":""},null,{"$f":"IF(B38<>\"\",VLOOKUP(B38,DONNEES!$B$27:$F$149,4,FALSE),\"\")","v":""},{"$f":"IF(B38<>\"\",VLOOKUP(B38,DONNEES!$B$27:$F$149,5,FALSE),\"\")","v":""},null,null,null,"","",null,"",""]
[22,null,{"$f":"IF(B39<>\"\",VLOOKUP(B39,DONNEES!$B$27:$F$149,2,FALSE),\"\")","v":""},{"$f":"IF(B39<>\"\",VLOOKUP(B39,DONNEES!$B$27:$F$149,1,FALSE),\"\")","v":""},null,{"$f":"IF(B39<>\"\",VLOOKUP(B39,DONNEES!$B$27:$F$149,4,FALSE),\"\")","v":""},{"$f":"IF(B39<>\"\",VLOOKUP(B39,DONNEES!$B$27:$F$149,5,FALSE),\"\")","v":""},null,null,null,"","",null,"",""]
[23,null,{"$f":"IF(B40<>\"\",VLOOKUP(B40,DONNEES!$B$27:$F$149,2,FALSE),\"\")","v":""},{"$f":"IF(B40<>\"\",VLOOKUP(B40,DONNEES!$B$27:$F$149,1,FALSE),\"\")","v":""},null,{"$f":"IF(B40<>\"\",VLOOKUP(B40,DONNEES!$B$27:$F$149,4,FALSE),\"\")","v":""},{"$f":"IF(B40<>\"\",VLOOKUP(B40,DONNEES!$B$27:$F$149,5,FALSE),\"\")","v":""}]
[24,null,{"$f":"IF(B41<>\"\",VLOOKUP(B41,DONNEES!$B$27:$F$149,2,FALSE),\"\")","v":""},{"$f":"IF(B41<>\"\",VLOOKUP(B41,DONNEES!$B$27:$F$149,1,FALSE),\"\")","v":""},null,{"$f":"IF(B41<>\"\",VLOOKUP(B41,DONNEES!$B$27:$F$149,4,FALSE),\"\")","v":""},{"$f":"IF(B41<>\"\",VLOOKUP(B41,DONNEES!$B$27:$F$149,5,FALSE),\"\")","v":""}]
[]
[null,null,"1) Saisir uniquement les NOMS A SAISIR Colonne B des JOUEURS. \n2) Activer les macros dans la barre au dessus \"Avertissement de sécurité - Les macros ont été désactivées\".\nCliquer sur \"Options...\" et \"Activer ce contenu\" puis \"OK\" sans tenir compte de l'avertissement.\n3) Puis appuyez sur le \"Bouton de Tri\". Le tableau de droite donne le résultat du tri et chaque onglet \"billard 1 à 6\" reçoit les joueurs.\nCe graphique permet de préparer des tournois de 4 à 24 joueurs, en fonction du nombre d'inscrits."]
[]
[]
[]
[]
[]
[]
[]
[null,null,"™A.FERHAT ™ C.PEREZ"]

{"sheet":"BILLARD 1","index":5,"n_rows":53,"n_cols":42,"rows_kept":53,"cut":false,"hidden":false,"merged":[[38,3,39,5],[22,36,24,36],[25,36,27,36],[25,37,27,37],[22,35,24,35],[14,41,15,41],[16,41,18,41],[16,40,18,40],[14,32,14,33],[14,34,14,35],[14,36,14,37],[16,36,18,36],[19,36,21,36],[14,38,14,39],[16,32,18,32],[16,33,18,33],[16,34,18,34],[16,35,18,35],[16,39,18,39],[16,37,18,37],[19,37,21,37],[19,38,21,38],[16,38,18,38],[19,35,21,35],[19,34,21,34],[19,33,21,33],[19,32,21,32],[19,31,21,31],[19,30,21,30],[14,30,14,31],[16,30,18,30],[16,31,18,31],[22,33,24,33],[22,34,24,34],[22,30,24,30],[22,31,24,31],[22,32,24,32],[16,12,18,14],[19,15,21,17],[22,18,24,20],[12,12,15,14],[12,15,15,17],[12,18,15,20],[12,21,15,23],[15,2,16,5],[13,28,15,28],[16,10,18,11],[19,10,21,11],[22,10,24,11],[16,28,18,28],[19,28,21,28],[22,28,24,28],[25,1,26,1],[25,4,26,4],[22,1,23,1],[22,4,23,4],[19,1,20,1],[19,4,20,4],[6,2,6,5],[7,2,7,5],[8,2,8,5],[9,2,9,5],[52,1,52,2],[34,1,35,1],[34,4,35,4],[25,28,27,28],[25,10,27,11],[38,7,39,10],[36,7,37,10],[29,12,29,23],[31,1,32,1],[31,4,32,4],[28,1,29,1],[28,4,29,4],[25,21,27,23],[50,1,50,10],[43,1,43,10],[44,1,44,10],[45,1,45,10],[46,1,46,10],[47,1,47,10],[48,1,48,10],[49,1,49,10],[41,1,42,10],[38,1,39,1],[38,2,39,2],[1,1,3,6],[25,31,27,31],[25,30,27,30],[25,32,27,32],[25,33,27,33],[25,34,27,34],[25,41,27,41],[19,41,21,41],[19,40,21,40],[22,41,24,41],[22,40,24,40],[25,40,27,40],[25,38,27,38],[25,39,27,39],[19,39,21,39],[22,39,24,39],[22,37,24,37],[22,38,24,38],[25,35,27,35],[1,7,3,9],[1,10,3,13],[12,1,13,5],[13,10,15,11],[13,25,15,27]]}
[]
[null,{"$f":"'Saisie des joueurs'!C1","v":"COMITE DEPARTEMENTAL 13"},null,null,null,null,null,{"$f":"'Saisie des joueurs'!D7","v":0},null,null,{"$f":"'Saisie des joueurs'!D9","v":"3 BANDES"}]
[]
[]
[]
[]
[null,"Joueur 1",{"$f":"'Saisie des joueurs'!L18","v":0}]
[null,"Joueur 2",{"$f":"'Saisie des joueurs'!L19","v":0}]
[null,"Joueur 3",{"$f":"'Saisie des joueurs'!L20","v":0}]
[null,"Joueur 4",{"$f":"'Saisie des joueurs'!L21","v":0}]
[]
[]
[null,"SAISIE DES RESULTATS",null,null,null,null,null,null,null,null,null,null,{"$f":"C7","v":0},null,null,{"$f":"C8","v":0},null,null,{"$f":"C9","v":0},null,null,{"$f":"C10","v":0}]
[null,null,null,null,null,null,null,null,null,null,null,null,null,null,null,null,null,null,null,null,null,null,null,null,null,"TOTAUX",null,null,"CLASSEMENT"]
[null,null,null,null,null,null,null,null,null,null,null,null,null,null,null,null,null,null,null,null,null,null,null,null,null,null,null,null,null,null,"Classement",null,"Classement",null,"Classement",null,"Classement",null,"Classement",null,"GENERAL","RANG"]
[null,null,"BILLARD 1",null,null,null,null,null,null,null,null,null,null,null,null,null,null,null,null,null,null,null,null,null,null,null,null,null,null,null,"Point-Match","CLS-M","Moy-Gen","CLS-G","Moy-Part","CLS-P","M-Series","CLS-S","MGPS","CLS","CLS"]
[null,null,null,null,null,null,null,null,null,null,{"$f":"C7","v":0},null,"L",null,null,{"$f":"D32","v":0},null,{"$f":"E32","v":0},{"$f":"D26","v":0},null,{"$f":"E26","v":0},{"$f":"D20","v":0},null,{"$f":"E20","v":0},null,{"$f":"P17+S17+V17","v":0},null,{"$f":"R17+U17+X17","v":0},{"$f":"AP17","v":{"$error":"#DIV/0!"}},null,{"$f":"AA18","v":0.03},{"$f":"RANK(AE17,AE$17:AE$28,0)","v":1},{"$f":"AB19","v":{"$error":"#DIV/0!"}},{"$f":"RANK(AG17,AG$17:AG$28,0)","v":{"$error":"#DIV/0!"}},{"$f":"MAX(R19,U19,X19)","v":{"$error":"#DIV/0!"}},{"$f":"RANK(AI17,AI$17:AI$28)","v":{"$error":"#DIV/0!"}},{"$f":"Z19","v":0},{"$f":"RANK(AK17,AK$17:AK$28)","v":1},{"$f":"(AF17*1000)+(AH17*100)+(AJ17*10)+(AL17*1)","v":{"$error":"#DIV/0!"}},{"$f":"AM17","v":{"$error":"#DIV/0!"}},{"$f":"RANK(AN17,AN$17:AN$28,1)","v":{"$error":"#DIV/0!"}},{"$f":"RANK(AO17,AO$17:AO$28,1)","v":{"$error":"#DIV/0!"}}]
[null,null,null,null,null,null,null,null,null,null,null,null,null,null,null,null,{"$f":"IF(R17<1,0.01,IF(P17>M20,2,IF(P17=M20,1,0)))","v":0.01},null,null,{"$f":"IF(U17<1,0.01,IF(S17>M23,2,IF(S17=M23,1,0)))","v":0.01},null,null,{"$f":"IF(X17<1,0.01,IF(V17>M26,2,IF(V17=M26,1,0)))","v":0.01},null,null,null,{"$f":"Q18+T18+W18","v":0.03}]
[null,null,null,"Pts","Rep","Série",null,null,null,null,null,null,null,null,null,{"$f":"F32","v":0},null,{"$f":"P17/R17","v":{"$error":"#DIV/0!"}},{"$f":"F26","v":0},null,{"$f":"S17/U17","v":{"$error":"#DIV/0!"}},{"$f":"F20","v":0},null,{"$f":"V17/X17","v":{"$error":"#DIV/0!"}},null,{"$f":"MAX(P19,S19,V19)","v":0},null,{"$f":"Z17/AB17","v":{"$error":"#DIV/0!"}}]
[null,"Tour 1",{"$f":"C7","v":0},null,null,null,null,null,null,null,{"$f":"C8","v":0},null,{"$f":"D33","v":0},null,{"$f":"E32","v":0},"M",null,null,{"$f":"D23","v":0},null,{"$f":"E23","v":0},{"$f":"D30","v":0},null,{"$f":"E29","v":0},null,{"$f":"M20+S20+V20","v":0},null,{"$f":"O20+U20+X20","v":0},{"$f":"AP20","v":{"$error":"#DIV/0!"}},null,{"$f":"AA21","v":0.03},{"$f":"RANK(AE20,AE$17:AE$28,0)","v":1},{"$f":"AB22","v":{"$error":"#DIV/0!"}},{"$f":"RANK(AG20,AG$17:AG$28,0)","v":{"$error":"#DIV/0!"}},{"$f":"MAX(O22,U22,X22)","v":{"$error":"#DIV/0!"}},{"$f":"RANK(AI20,AI$17:AI$28)","v":{"$error":"#DIV/0!"}},{"$f":"Z22","v":0},{"$f":"RANK(AK20,AK$17:AK$28)","v":1},{"$f":"(AF20*1000)+(AH20*100)+(AJ20*10)+(AL20*1)","v":{"$error":"#DIV/0!"}},{"$f":"AM20","v":{"$error":"#DIV/0!"}},{"$f":"RANK(AN20,AN$17:AN$28,1)","v":{"$error":"#DIV/0!"}},{"$f":"RANK(AO20,AO$17:AO$28,1)","v":{"$error":"#DIV/0!"}}]
[null,null,{"$f":"C10","v":0},null,null,null,null,null,null,null,null,null,null,{"$f":"IF(R17>0,2-Q18,0.01)","v":0.01},null,null,null,null,null,{"$f":"IF(U20<1,0.01,IF(S20>P23,2,IF(S20=P23,1,0)))","v":0.01},null,null,{"$f":"IF(X20<1,0.01,IF(V20>P26,2,IF(V20=P26,1,0)))","v":0.01},null,null,null,{"$f":"N21+T21+W21","v":0.03}]
[null,null,null,null,null,null,null,null,null,null,null,null,{"$f":"F33","v":0},null,{"$f":"M20/O20","v":{"$error":"#DIV/0!"}},null,null,null,{"$f":"F23","v":0},null,{"$f":"S20/U20","v":{"$error":"#DIV/0!"}},{"$f":"F30","v":0},null,{"$f":"V20/X20","v":{"$error":"#DIV/0!"}},null,{"$f":"MAXA(M22,S22,V22)","v":0},null,{"$f":"Z20/AB20","v":{"$error":"#DIV/0!"}}]
[null,"Tour 2",{"$f":"C8","v":0},null,null,null,null,null,null,null,{"$f":"C9","v":0},null,{"$f":"D27","v":0},null,{"$f":"E26","v":0},{"$f":"D24","v":0},null,{"$f":"E23","v":0},"B",null,null,{"$f":"D35","v":0},null,{"$f":"E35","v":0},null,{"$f":"M23+P23+V23","v":0},null,{"$f":"O23+R23+X23","v":0},{"$f":"AP23","v":{"$error":"#DIV/0!"}},null,{"$f":"AA24","v":0.03},{"$f":"RANK(AE23,AE$17:AE$28,0)","v":1},{"$f":"AB25","v":{"$error":"#DIV/0!"}},{"$f":"RANK(AG23,AG$17:AG$28,0)","v":{"$error":"#DIV/0!"}},{"$f":"MAX(O25,R25,X25)","v":{"$error":"#DIV/0!"}},{"$f":"RANK(AI23,AI$17:AI$28)","v":{"$error":"#DIV/0!"}},{"$f":"Z25","v":0},{"$f":"RANK(AK23,AK$17:AK$28)","v":1},{"$f":"(AF23*1000)+(AH23*100)+(AJ23*10)+(AL23*1)","v":{"$error":"#DIV/0!"}},{"$f":"AM23","v":{"$error":"#DIV/0!"}},{"$f":"RANK(AN23,AN$17:AN$28,1)","v":{"$error":"#DIV/0!"}},{"$f":"RANK(AO23,AO$17:AO$28,1)","v":{"$error":"#DIV/0!"}}]
[null,null,{"$f":"C9","v":0},null,null,null,null,null,null,null,null,null,null,{"$f":"IF(U17>0,2-T18,0.01)","v":0.01},null,null,{"$f":"IF(U20>0,2-T21,0.01)","v":0.01},null,null,null,null,null,{"$f":"IF(X23<1,0.01,IF(V23>S26,2,IF(V23=S26,1,0)))","v":0.01},null,null,null,{"$f":"N24+Q24+W24","v":0.03}]
[null,null,null,null,null,null,null,null,null,null,null,null,{"$f":"F27","v":0},null,{"$f":"M23/O23","v":{"$error":"#DIV/0!"}},{"$f":"F24","v":0},null,{"$f":"P23/R23","v":{"$error":"#DIV/0!"}},null,null,null,{"$f":"F35","v":0},null,{"$f":"V23/X23","v":{"$error":"#DIV/0!"}},null,{"$f":"MAXA(M25,P25,V25)","v":0},null,{"$f":"Z23/AB23","v":{"$error":"#DIV/0!"}}]
[null,"Tour 3",{"$f":"C7","v":0},null,null,null,null,null,null,null,{"$f":"C10","v":0},null,{"$f":"D21","v":0},null,{"$f":"E20","v":0},{"$f":"D29","v":0},null,{"$f":"E29","v":0},{"$f":"D36","v":0},null,{"$f":"E35","v":0},null,null,null,null,{"$f":"M26+P26+S26","v":0},null,{"$f":"O26+R26+U26","v":0},{"$f":"AP26","v":{"$error":"#DIV/0!"}},null,{"$f":"AA27","v":0.03},{"$f":"RANK(AE26,AE$17:AE$28,0)","v":1},{"$f":"AB28","v":{"$error":"#DIV/0!"}},{"$f":"RANK(AG26,AG$17:AG$28,0)","v":{"$error":"#DIV/0!"}},{"$f":"MAX(O28,R28,U28)","v":{"$error":"#DIV/0!"}},{"$f":"RANK(AI26,AI$17:AI$28)","v":{"$error":"#DIV/0!"}},{"$f":"Z28","v":0},{"$f":"RANK(AK26,AK$17:AK$28)","v":1},{"$f":"(AF26*1000)+(AH26*100)+(AJ26*10)+(AL26*1)","v":{"$error":"#DIV/0!"}},{"$f":"AM26","v":{"$error":"#DIV/0!"}},{"$f":"RANK(AN26,AN$17:AN$28,1)","v":{"$error":"#DIV/0!"}},{"$f":"RANK(AO26,AO$17:AO$28,1)","v":{"$error":"#DIV/0!"}}]
[null,null,{"$f":"C9","v":0},null,null,null,null,null,null,null,null,null,null,{"$f":"IF(X17>0,2-W18,0.01)","v":0.01},null,null,{"$f":"IF(X20>0,2-W21,0.01)","v":0.01},null,null,{"$f":"IF(X23>0,2-W24,0.01)","v":0.01},null,null,null,null,null,null,{"$f":"N27+Q27+T27","v":0.03}]
[null,null,null,null,null,null,null,null,null,null,null,null,{"$f":"F21","v":0},null,{"$f":"M26/O26","v":{"$error":"#DIV/0!"}},{"$f":"F29","v":0},null,{"$f":"P26/R26","v":{"$error":"#DIV/0!"}},{"$f":"F36","v":0},null,{"$f":"S26/U26","v":{"$error":"#DIV/0!"}},null,null,null,null,{"$f":"MAXA(M28,P28,S28)","v":0},null,{"$f":"Z26/AB26","v":{"$error":"#DIV/0!"}}]
[null,"Tour 4",{"$f":"C10","v":0}]
[null,null,{"$f":"C8","v":0},null,null,null,null,null,null,null,null,null,"Pas de prolongation en cas de match nul."]
[]
[null,"Tour 5",{"$f":"C7","v":0}]
[null,null,{"$f":"C8","v":0}]
[]
[null,"Tour 6",{"$f":"C9","v":0}]
[null,null,{"$f":"C10","v":0}]
[null,null,null,null,null,null,null,"DIRECTEUR DE JEU :"]
[]
[null,"DATE : ",{"$f":"'Saisie des joueurs'!D5","v":"00:00:00"},null,null,null,null,{"$f":"'Saisie des joueurs'!G11","v":0}]
[]
[]
[null,"OBSERVATIONS"]
[]
[]
[]
[]
[]
[]
[]
[]
[]
[]
[null,"™A.FERHAT ™ C.PEREZ"]

{"sheet":"BILLARD 2","index":6,"n_rows":53,"n_cols":42,"rows_kept":53,"cut":false,"hidden":true,"merged":[[48,1,48,10],[49,1,49,10],[50,1,50,10],[52,1,52,2],[12,10,15,11],[41,1,42,10],[43,1,43,10],[44,1,44,10],[45,1,45,10],[46,1,46,10],[47,1,47,10],[31,1,32,1],[31,4,32,4],[34,1,35,1],[34,4,35,4],[36,7,37,10],[38,1,39,1],[38,2,39,2],[38,3,39,5],[38,7,39,10],[19,4,20,4],[19,10,21,11],[25,37,27,37],[25,38,27,38],[25,39,27,39],[25,40,27,40],[25,41,27,41],[28,1,29,1],[28,4,29,4],[29,12,29,23],[25,31,27,31],[25,32,27,32],[25,33,27,33],[25,34,27,34],[25,35,27,35],[25,36,27,36],[25,1,26,1],[25,4,26,4],[25,10,27,11],[25,21,27,23],[25,28,27,28],[25,30,27,30],[19,39,21,39],[19,40,21,40],[19,41,21,41],[22,1,23,1],[22,4,23,4],[22,10,24,11],[22,18,24,20],[22,28,24,28],[22,30,24,30],[22,31,24,31],[19,33,21,33],[19,34,21,34],[19,35,21,35],[19,36,21,36],[19,37,21,37],[19,38,21,38],[22,38,24,38],[22,39,24,39],[22,40,24,40],[22,41,24,41],[22,35,24,35],[22,36,24,36],[22,37,24,37],[19,1,20,1],[19,15,21,17],[19,28,21,28],[19,30,21,30],[19,31,21,31],[19,32,21,32],[22,32,24,32],[22,33,24,33],[22,34,24,34],[16,34,18,34],[14,38,14,39],[14,41,15,41],[15,2,16,5],[16,10,18,11],[16,12,18,14],[16,28,18,28],[16,30,18,30],[16,31,18,31],[16,32,18,32],[16,33,18,33],[13,25,15,27],[13,28,15,28],[14,30,14,31],[14,32,14,33],[14,34,14,35],[14,36,14,37],[16,40,18,40],[16,41,18,41],[16,35,18,35],[16,36,18,36],[16,37,18,37],[16,38,18,38],[16,39,18,39],[9,2,9,5],[12,1,13,5],[12,12,15,14],[12,15,15,17],[12,18,15,20],[12,21,15,23],[1,7,3,9],[1,10,3,13],[6,2,6,5],[7,2,7,5],[8,2,8,5],[1,1,3,6]]}
[]
[null,{"$f":"'Saisie des joueurs'!C1","v":"COMITE DEPARTEMENTAL 13"},null,null,null,null,null,{"$f":"'Saisie des joueurs'!D7","v":0},null,null,{"$f":"'Saisie des joueurs'!D9","v":"3 BANDES"}]
[]
[]
[]
[]
[null,"Joueur 1",{"$f":"'Saisie des joueurs'!L22","v":0}]
[null,"Joueur 2",{"$f":"'Saisie des joueurs'!L23","v":0}]
[null,"Joueur 3",{"$f":"'Saisie des joueurs'!L24","v":0}]
[null,"Joueur 4",{"$f":"'Saisie des joueurs'!L25","v":0}]
[]
[]
[null,"SAISIE DES RESULTATS",null,null,null,null,null,null,null,null,null,null,{"$f":"C7","v":0},null,null,{"$f":"C8","v":0},null,null,{"$f":"C9","v":0},null,null,{"$f":"C10","v":0}]
[null,null,null,null,null,null,null,null,null,null,null,null,null,null,null,null,null,null,null,null,null,null,null,null,null,"TOTAUX",null,null,"CLASSEMENT"]
[null,null,null,null,null,null,null,null,null,null,null,null,null,null,null,null,null,null,null,null,null,null,null,null,null,null,null,null,null,null,"Classement",null,"Classement",null,"Classement",null,"Classement",null,"Classement",null,"GENERAL","RANG"]
[null,null,"BILLARD 2",null,null,null,null,null,null,null,null,null,null,null,null,null,null,null,null,null,null,null,null,null,null,null,null,null,null,null,"Point-Match","CLS-M","Moy-Gen","CLS-G","Moy-Part","CLS-P","M-Series","CLS-S","MGPS","CLS","CLS"]
[null,null,null,null,null,null,null,null,null,null,{"$f":"C7","v":0},null,"L",null,null,{"$f":"D32","v":0},null,{"$f":"E32","v":0},{"$f":"D26","v":0},null,{"$f":"E26","v":0},{"$f":"D20","v":0},null,{"$f":"E20","v":0},null,{"$f":"P17+S17+V17","v":0},null,{"$f":"R17+U17+X17","v":0},{"$f":"AP17","v":{"$error":"#DIV/0!"}},null,{"$f":"AA18","v":0.03},{"$f":"RANK(AE17,AE$17:AE$28,0)","v":1},{"$f":"AB19","v":{"$error":"#DIV/0!"}},{"$f":"RANK(AG17,AG$17:AG$28,0)","v":{"$error":"#DIV/0!"}},{"$f":"MAX(R19,U19,X19)","v":{"$error":"#DIV/0!"}},{"$f":"RANK(AI17,AI$17:AI$28)","v":{"$error":"#DIV/0!"}},{"$f":"Z19","v":0},{"$f":"RANK(AK17,AK$17:AK$28)","v":1},{"$f":"(AF17*1000)+(AH17*100)+(AJ17*10)+(AL17*1)","v":{"$error":"#DIV/0!"}},{"$f":"AM17","v":{"$error":"#DIV/0!"}},{"$f":"RANK(AN17,AN$17:AN$28,1)","v":{"$error":"#DIV/0!"}},{"$f":"RANK(AO17,AO$17:AO$28,1)","v":{"$error":"#DIV/0!"}}]
[null,null,null,null,null,null,null,null,null,null,null,null,null,null,null,null,{"$f":"IF(R17<1,0.01,IF(P17>M20,2,IF(P17=M20,1,0)))","v":0.01},null,null,{"$f":"IF(U17<1,0.01,IF(S17>M23,2,IF(S17=M23,1,0)))","v":0.01},null,null,{"$f":"IF(X17<1,0.01,IF(V17>M26,2,IF(V17=M26,1,0)))","v":0.01},null,null,null,{"$f":"Q18+T18+W18","v":0.03}]
[null,null,null,"Pts","Rep","Série",null,null,null,null,null,null,null,null,null,{"$f":"F32","v":0},null,{"$f":"P17/R17","v":{"$error":"#DIV/0!"}},{"$f":"F26","v":0},null,{"$f":"S17/U17","v":{"$error":"#DIV/0!"}},{"$f":"F20","v":0},null,{"$f":"V17/X17","v":{"$error":"#DIV/0!"}},null,{"$f":"MAX(P19,S19,V19)","v":0},null,{"$f":"Z17/AB17","v":{"$error":"#DIV/0!"}}]
[null,"Tour 1",{"$f":"C7","v":0},null,null,null,null,null,null,null,{"$f":"C8","v":0},null,{"$f":"D33","v":0},null,{"$f":"E32","v":0},"M",null,null,{"$f":"D23","v":0},null,{"$f":"E23","v":0},{"$f":"D30","v":0},null,{"$f":"E29","v":0},null,{"$f":"M20+S20+V20","v":0},null,{"$f":"O20+U20+X20","v":0},{"$f":"AP20","v":{"$error":"#DIV/0!"}},null,{"$f":"AA21","v":0.03},{"$f":"RANK(AE20,AE$17:AE$28,0)","v":1},{"$f":"AB22","v":{"$error":"#DIV/0!"}},{"$f":"RANK(AG20,AG$17:AG$28,0)","v":{"$error":"#DIV/0!"}},{"$f":"MAX(O22,U22,X22)","v":{"$error":"#DIV/0!"}},{"$f":"RANK(AI20,AI$17:AI$28)","v":{"$error":"#DIV/0!"}},{"$f":"Z22","v":0},{"$f":"RANK(AK20,AK$17:AK$28)","v":1},{"$f":"(AF20*1000)+(AH20*100)+(AJ20*10)+(AL20*1)","v":{"$error":"#DIV/0!"}},{"$f":"AM20","v":{"$error":"#DIV/0!"}},{"$f":"RANK(AN20,AN$17:AN$28,1)","v":{"$error":"#DIV/0!"}},{"$f":"RANK(AO20,AO$17:AO$28,1)","v":{"$error":"#DIV/0!"}}]
[null,null,{"$f":"C10","v":0},null,null,null,null,null,null,null,null,null,null,{"$f":"IF(R17>0,2-Q18,0.01)","v":0.01},null,null,null,null,null,{"$f":"IF(U20<1,0.01,IF(S20>P23,2,IF(S20=P23,1,0)))","v":0.01},null,null,{"$f":"IF(X20<1,0.01,IF(V20>P26,2,IF(V20=P26,1,0)))","v":0.01},null,null,null,{"$f":"N21+T21+W21","v":0.03}]
[null,null,null,null,null,null,null,null,null,null,null,null,{"$f":"F33","v":0},null,{"$f":"M20/O20","v":{"$error":"#DIV/0!"}},null,null,null,{"$f":"F23","v":0},null,{"$f":"S20/U20","v":{"$error":"#DIV/0!"}},{"$f":"F30","v":0},null,{"$f":"V20/X20","v":{"$error":"#DIV/0!"}},null,{"$f":"MAXA(M22,S22,V22)","v":0},null,{"$f":"Z20/AB20","v":{"$error":"#DIV/0!"}}]
[null,"Tour 2",{"$f":"C8","v":0},null,null,null,null,null,null,null,{"$f":"C9","v":0},null,{"$f":"D27","v":0},null,{"$f":"E26","v":0},{"$f":"D24","v":0},null,{"$f":"E23","v":0},"B",null,null,{"$f":"D35","v":0},null,{"$f":"E35","v":0},null,{"$f":"M23+P23+V23","v":0},null,{"$f":"O23+R23+X23","v":0},{"$f":"AP23","v":{"$error":"#DIV/0!"}},null,{"$f":"AA24","v":0.03},{"$f":"RANK(AE23,AE$17:AE$28,0)","v":1},{"$f":"AB25","v":{"$error":"#DIV/0!"}},{"$f":"RANK(AG23,AG$17:AG$28,0)","v":{"$error":"#DIV/0!"}},{"$f":"MAX(O25,R25,X25)","v":{"$error":"#DIV/0!"}},{"$f":"RANK(AI23,AI$17:AI$28)","v":{"$error":"#DIV/0!"}},{"$f":"Z25","v":0},{"$f":"RANK(AK23,AK$17:AK$28)","v":1},{"$f":"(AF23*1000)+(AH23*100)+(AJ23*10)+(AL23*1)","v":{"$error":"#DIV/0!"}},{"$f":"AM23","v":{"$error":"#DIV/0!"}},{"$f":"RANK(AN23,AN$17:AN$28,1)","v":{"$error":"#DIV/0!"}},{"$f":"RANK(AO23,AO$17:AO$28,1)","v":{"$error":"#DIV/0!"}}]
[null,null,{"$f":"C9","v":0},null,null,null,null,null,null,null,null,null,null,{"$f":"IF(U17>0,2-T18,0.01)","v":0.01},null,null,{"$f":"IF(U20>0,2-T21,0.01)","v":0.01},null,null,null,null,null,{"$f":"IF(X23<1,0.01,IF(V23>S26,2,IF(V23=S26,1,0)))","v":0.01},null,null,null,{"$f":"N24+Q24+W24","v":0.03}]
[null,null,null,null,null,null,null,null,null,null,null,null,{"$f":"F27","v":0},null,{"$f":"M23/O23","v":{"$error":"#DIV/0!"}},{"$f":"F24","v":0},null,{"$f":"P23/R23","v":{"$error":"#DIV/0!"}},null,null,null,{"$f":"F35","v":0},null,{"$f":"V23/X23","v":{"$error":"#DIV/0!"}},null,{"$f":"MAXA(M25,P25,V25)","v":0},null,{"$f":"Z23/AB23","v":{"$error":"#DIV/0!"}}]
[null,"Tour 3",{"$f":"C7","v":0},null,null,null,null,null,null,null,{"$f":"C10","v":0},null,{"$f":"D21","v":0},null,{"$f":"E20","v":0},{"$f":"D29","v":0},null,{"$f":"E29","v":0},{"$f":"D36","v":0},null,{"$f":"E35","v":0},null,null,null,null,{"$f":"M26+P26+S26","v":0},null,{"$f":"O26+R26+U26","v":0},{"$f":"AP26","v":{"$error":"#DIV/0!"}},null,{"$f":"AA27","v":0.03},{"$f":"RANK(AE26,AE$17:AE$28,0)","v":1},{"$f":"AB28","v":{"$error":"#DIV/0!"}},{"$f":"RANK(AG26,AG$17:AG$28,0)","v":{"$error":"#DIV/0!"}},{"$f":"MAX(O28,R28,U28)","v":{"$error":"#DIV/0!"}},{"$f":"RANK(AI26,AI$17:AI$28)","v":{"$error":"#DIV/0!"}},{"$f":"Z28","v":0},{"$f":"RANK(AK26,AK$17:AK$28)","v":1},{"$f":"(AF26*1000)+(AH26*100)+(AJ26*10)+(AL26*1)","v":{"$error":"#DIV/0!"}},{"$f":"AM26","v":{"$error":"#DIV/0!"}},{"$f":"RANK(AN26,AN$17:AN$28,1)","v":{"$error":"#DIV/0!"}},{"$f":"RANK(AO26,AO$17:AO$28,1)","v":{"$error":"#DIV/0!"}}]
[null,null,{"$f":"C9","v":0},null,null,null,null,null,null,null,null,null,null,{"$f":"IF(X17>0,2-W18,0.01)","v":0.01},null,null,{"$f":"IF(X20>0,2-W21,0.01)","v":0.01},null,null,{"$f":"IF(X23>0,2-W24,0.01)","v":0.01},null,null,null,null,null,null,{"$f":"N27+Q27+T27","v":0.03}]
[null,null,null,null,null,null,null,null,null,null,null,null,{"$f":"F21","v":0},null,{"$f":"M26/O26","v":{"$error":"#DIV/0!"}},{"$f":"F29","v":0},null,{"$f":"P26/R26","v":{"$error":"#DIV/0!"}},{"$f":"F36","v":0},null,{"$f":"S26/U26","v":{"$error":"#DIV/0!"}},null,null,null,null,{"$f":"MAXA(M28,P28,S28)","v":0},null,{"$f":"Z26/AB26","v":{"$error":"#DIV/0!"}}]
[null,"Tour 4",{"$f":"C10","v":0}]
[null,null,{"$f":"C8","v":0},null,null,null,null,null,null,null,null,null,"Pas de prolongation en cas de match nul."]
[]
[null,"Tour 5",{"$f":"C7","v":0}]
[null,null,{"$f":"C8","v":0}]
[]
[null,"Tour 6",{"$f":"C9","v":0}]
[null,null,{"$f":"C10","v":0}]
[null,null,null,null,null,null,null,"DIRECTEUR DE JEU :"]
[]
[null,"DATE : ",{"$f":"'Saisie des joueurs'!D5","v":"00:00:00"},null,null,null,null,{"$f":"'Saisie des joueurs'!G11","v":0}]
[]
[]
[null,"OBSERVATIONS"]
[]
[]
[]
[]
[]
[]
[]
[]
[]
[]
[null,"™A.FERHAT ™ C.PEREZ"]

{"sheet":"BILLARD 3","index":7,"n_rows":53,"n_cols":42,"rows_kept":53,"cut":false,"hidden":true,"merged":[[48,1,48,10],[49,1,49,10],[50,1,50,10],[52,1,52,2],[12,10,15,11],[41,1,42,10],[43,1,43,10],[44,1,44,10],[45,1,45,10],[46,1,46,10],[47,1,47,10],[31,1,32,1],[31,4,32,4],[34,1,35,1],[34,4,35,4],[36,7,37,10],[38,1,39,1],[38,2,39,2],[38,3,39,5],[38,7,39,10],[19,4,20,4],[19,10,21,11],[25,37,27,37],[25,38,27,38],[25,39,27,39],[25,40,27,40],[25,41,27,41],[28,1,29,1],[28,4,29,4],[29,12,29,23],[25,31,27,31],[25,32,27,32],[25,33,27,33],[25,34,27,34],[25,35,27,35],[25,36,27,36],[25,1,26,1],[25,4,26,4],[25,10,27,11],[25,21,27,23],[25,28,27,28],[25,30,27,30],[19,39,21,39],[19,40,21,40],[19,41,21,41],[22,1,23,1],[22,4,23,4],[22,10,24,11],[22,18,24,20],[22,28,24,28],[22,30,24,30],[22,31,24,31],[19,33,21,33],[19,34,21,34],[19,35,21,35],[19,36,21,36],[19,37,21,37],[19,38,21,38],[22,38,24,38],[22,39,24,39],[22,40,24,40],[22,41,24,41],[22,35,24,35],[22,36,24,36],[22,37,24,37],[19,1,20,1],[19,15,21,17],[19,28,21,28],[19,30,21,30],[19,31,21,31],[19,32,21,32],[22,32,24,32],[22,33,24,33],[22,34,24,34],[16,34,18,34],[14,38,14,39],[14,41,15,41],[15,2,16,5],[16,10,18,11],[16,12,18,14],[16,28,18,28],[16,30,18,30],[16,31,18,31],[16,32,18,32],[16,33,18,33],[13,25,15,27],[13,28,15,28],[14,30,14,31],[14,32,14,33],[14,34,14,35],[14,36,14,37],[16,40,18,40],[16,41,18,41],[16,35,18,35],[16,36,18,36],[16,37,18,37],[16,38,18,38],[16,39,18,39],[9,2,9,5],[12,1,13,5],[12,12,15,14],[12,15,15,17],[12,18,15,20],[12,21,15,23],[1,7,3,9],[1,10,3,13],[6,2,6,5],[7,2,7,5],[8,2,8,5],[1,1,3,6]]}
[]
[null,{"$f":"'Saisie des joueurs'!C1","v":"COMITE DEPARTEMENTAL 13"},null,null,null,null,null,{"$f":"'Saisie des joueurs'!D7","v":0},null,null,{"$f":"'Saisie des joueurs'!D9","v":"3 BANDES"}]
[]
[]
[]
[]
[null,"Joueur 1",{"$f":"'Saisie des joueurs'!L26","v":0}]
[null,"Joueur 2",{"$f":"'Saisie des joueurs'!L27","v":""}]
[null,"Joueur 3",{"$f":"'Saisie des joueurs'!L28","v":""}]
[null,"Joueur 4",{"$f":"'Saisie des joueurs'!L29","v":""}]
[]
[]
[null,"SAISIE DES RESULTATS",null,null,null,null,null,null,null,null,null,null,{"$f":"C7","v":0},null,null,{"$f":"C8","v":""},null,null,{"$f":"C9","v":""},null,null,{"$f":"C10","v":""}]
[null,null,null,null,null,null,null,null,null,null,null,null,null,null,null,null,null,null,null,null,null,null,null,null,null,"TOTAUX",null,null,"CLASSEMENT"]
[null,null,null,null,null,null,null,null,null,null,null,null,null,null,null,null,null,null,null,null,null,null,null,null,null,null,null,null,null,null,"Classement",null,"Classement",null,"Classement",null,"Classement",null,"Classement",null,"GENERAL","RANG"]
[null,null,"BILLARD 3",null,null,null,null,null,null,null,null,null,null,null,null,null,null,null,null,null,null,null,null,null,null,null,null,null,null,null,"Point-Match","CLS-M","Moy-Gen","CLS-G","Moy-Part","CLS-P","M-Series","CLS-S","MGPS","CLS","CLS"]
[null,null,null,null,null,null,null,null,null,null,{"$f":"C7","v":0},null,"L",null,null,{"$f":"D32","v":0},null,{"$f":"E32","v":0},{"$f":"D26","v":0},null,{"$f":"E26","v":0},{"$f":"D20","v":0},null,{"$f":"E20","v":0},null,{"$f":"P17+S17+V17","v":0},null,{"$f":"R17+U17+X17","v":0},{"$f":"AP17","v":{"$error":"#DIV/0!"}},null,{"$f":"AA18","v":0.03},{"$f":"RANK(AE17,AE$17:AE$28,0)","v":1},{"$f":"AB19","v":{"$error":"#DIV/0!"}},{"$f":"RANK(AG17,AG$17:AG$28,0)","v":{"$error":"#DIV/0!"}},{"$f":"MAX(R19,U19,X19)","v":{"$error":"#DIV/0!"}},{"$f":"RANK(AI17,AI$17:AI$28)","v":{"$error":"#DIV/0!"}},{"$f":"Z19","v":0},{"$f":"RANK(AK17,AK$17:AK$28)","v":1},{"$f":"(AF17*1000)+(AH17*100)+(AJ17*10)+(AL17*1)","v":{"$error":"#DIV/0!"}},{"$f":"AM17","v":{"$error":"#DIV/0!"}},{"$f":"RANK(AN17,AN$17:AN$28,1)","v":{"$error":"#DIV/0!"}},{"$f":"RANK(AO17,AO$17:AO$28,1)","v":{"$error":"#DIV/0!"}}]
[null,null,null,null,null,null,null,null,null,null,null,null,null,null,null,null,{"$f":"IF(R17<1,0.01,IF(P17>M20,2,IF(P17=M20,1,0)))","v":0.01},null,null,{"$f":"IF(U17<1,0.01,IF(S17>M23,2,IF(S17=M23,1,0)))","v":0.01},null,null,{"$f":"IF(X17<1,0.01,IF(V17>M26,2,IF(V17=M26,1,0)))","v":0.01},null,null,null,{"$f":"Q18+T18+W18","v":0.03}]
[null,null,null,"Pts","Rep","Série",null,null,null,null,null,null,null,null,null,{"$f":"F32","v":0},null,{"$f":"P17/R17","v":{"$error":"#DIV/0!"}},{"$f":"F26","v":0},null,{"$f":"S17/U17","v":{"$error":"#DIV/0!"}},{"$f":"F20","v":0},null,{"$f":"V17/X17","v":{"$error":"#DIV/0!"}},null,{"$f":"MAX(P19,S19,V19)","v":0},null,{"$f":"Z17/AB17","v":{"$error":"#DIV/0!"}}]
[null,"Tour 1",{"$f":"C7","v":0},null,null,null,null,null,null,null,{"$f":"C8","v":""},null,{"$f":"D33","v":0},null,{"$f":"E32","v":0},"M",null,null,{"$f":"D23","v":0},null,{"$f":"E23","v":0},{"$f":"D30","v":0},null,{"$f":"E29","v":0},null,{"$f":"M20+S20+V20","v":0},null,{"$f":"O20+U20+X20","v":0},{"$f":"AP20","v":{"$error":"#DIV/0!"}},null,{"$f":"AA21","v":0.03},{"$f":"RANK(AE20,AE$17:AE$28,0)","v":1},{"$f":"AB22","v":{"$error":"#DIV/0!"}},{"$f":"RANK(AG20,AG$17:AG$28,0)","v":{"$error":"#DIV/0!"}},{"$f":"MAX(O22,U22,X22)","v":{"$error":"#DIV/0!"}},{"$f":"RANK(AI20,AI$17:AI$28)","v":{"$error":"#DIV/0!"}},{"$f":"Z22","v":0},{"$f":"RANK(AK20,AK$17:AK$28)","v":1},{"$f":"(AF20*1000)+(AH20*100)+(AJ20*10)+(AL20*1)","v":{"$error":"#DIV/0!"}},{"$f":"AM20","v":{"$error":"#DIV/0!"}},{"$f":"RANK(AN20,AN$17:AN$28,1)","v":{"$error":"#DIV/0!"}},{"$f":"RANK(AO20,AO$17:AO$28,1)","v":{"$error":"#DIV/0!"}}]
[null,null,{"$f":"C10","v":""},null,null,null,null,null,null,null,null,null,null,{"$f":"IF(R17>0,2-Q18,0.01)","v":0.01},null,null,null,null,null,{"$f":"IF(U20<1,0.01,IF(S20>P23,2,IF(S20=P23,1,0)))","v":0.01},null,null,{"$f":"IF(X20<1,0.01,IF(V20>P26,2,IF(V20=P26,1,0)))","v":0.01},null,null,null,{"$f":"N21+T21+W21","v":0.03}]
[null,null,null,null,null,null,null,null,null,null,null,null,{"$f":"F33","v":0},null,{"$f":"M20/O20","v":{"$error":"#DIV/0!"}},null,null,null,{"$f":"F23","v":0},null,{"$f":"S20/U20","v":{"$error":"#DIV/0!"}},{"$f":"F30","v":0},null,{"$f":"V20/X20","v":{"$error":"#DIV/0!"}},null,{"$f":"MAXA(M22,S22,V22)","v":0},null,{"$f":"Z20/AB20","v":{"$error":"#DIV/0!"}}]
[null,"Tour 2",{"$f":"C8","v":""},null,null,null,null,null,null,null,{"$f":"C9","v":""},null,{"$f":"D27","v":0},null,{"$f":"E26","v":0},{"$f":"D24","v":0},null,{"$f":"E23","v":0},"B",null,null,{"$f":"D35","v":0},null,{"$f":"E35","v":0},null,{"$f":"M23+P23+V23","v":0},null,{"$f":"O23+R23+X23","v":0},{"$f":"AP23","v":{"$error":"#DIV/0!"}},null,{"$f":"AA24","v":0.03},{"$f":"RANK(AE23,AE$17:AE$28,0)","v":1},{"$f":"AB25","v":{"$error":"#DIV/0!"}},{"$f":"RANK(AG23,AG$17:AG$28,0)","v":{"$error":"#DIV/0!"}},{"$f":"MAX(O25,R25,X25)","v":{"$error":"#DIV/0!"}},{"$f":"RANK(AI23,AI$17:AI$28)","v":{"$error":"#DIV/0!"}},{"$f":"Z25","v":0},{"$f":"RANK(AK23,AK$17:AK$28)","v":1},{"$f":"(AF23*1000)+(AH23*100)+(AJ23*10)+(AL23*1)","v":{"$error":"#DIV/0!"}},{"$f":"AM23","v":{"$error":"#DIV/0!"}},{"$f":"RANK(AN23,AN$17:AN$28,1)","v":{"$error":"#DIV/0!"}},{"$f":"RANK(AO23,AO$17:AO$28,1)","v":{"$error":"#DIV/0!"}}]
[null,null,{"$f":"C9","v":""},null,null,null,null,null,null,null,null,null,null,{"$f":"IF(U17>0,2-T18,0.01)","v":0.01},null,null,{"$f":"IF(U20>0,2-T21,0.01)","v":0.01},null,null,null,null,null,{"$f":"IF(X23<1,0.01,IF(V23>S26,2,IF(V23=S26,1,0)))","v":0.01},null,null,null,{"$f":"N24+Q24+W24","v":0.03}]
[null,null,null,null,null,null,null,null,null,null,null,null,{"$f":"F27","v":0},null,{"$f":"M23/O23","v":{"$error":"#DIV/0!"}},{"$f":"F24","v":0},null,{"$f":"P23/R23","v":{"$error":"#DIV/0!"}},null,null,null,{"$f":"F35","v":0},null,{"$f":"V23/X23","v":{"$error":"#DIV/0!"}},null,{"$f":"MAXA(M25,P25,V25)","v":0},null,{"$f":"Z23/AB23","v":{"$error":"#DIV/0!"}}]
[null,"Tour 3",{"$f":"C7","v":0},null,null,null,null,null,null,null,{"$f":"C10","v":""},null,{"$f":"D21","v":0},null,{"$f":"E20","v":0},{"$f":"D29","v":0},null,{"$f":"E29","v":0},{"$f":"D36","v":0},null,{"$f":"E35","v":0},null,null,null,null,{"$f":"M26+P26+S26","v":0},null,{"$f":"O26+R26+U26","v":0},{"$f":"AP26","v":{"$error":"#DIV/0!"}},null,{"$f":"AA27","v":0.03},{"$f":"RANK(AE26,AE$17:AE$28,0)","v":1},{"$f":"AB28","v":{"$error":"#DIV/0!"}},{"$f":"RANK(AG26,AG$17:AG$28,0)","v":{"$error":"#DIV/0!"}},{"$f":"MAX(O28,R28,U28)","v":{"$error":"#DIV/0!"}},{"$f":"RANK(AI26,AI$17:AI$28)","v":{"$error":"#DIV/0!"}},{"$f":"Z28","v":0},{"$f":"RANK(AK26,AK$17:AK$28)","v":1},{"$f":"(AF26*1000)+(AH26*100)+(AJ26*10)+(AL26*1)","v":{"$error":"#DIV/0!"}},{"$f":"AM26","v":{"$error":"#DIV/0!"}},{"$f":"RANK(AN26,AN$17:AN$28,1)","v":{"$error":"#DIV/0!"}},{"$f":"RANK(AO26,AO$17:AO$28,1)","v":{"$error":"#DIV/0!"}}]
[null,null,{"$f":"C9","v":""},null,null,null,null,null,null,null,null,null,null,{"$f":"IF(X17>0,2-W18,0.01)","v":0.01},null,null,{"$f":"IF(X20>0,2-W21,0.01)","v":0.01},null,null,{"$f":"IF(X23>0,2-W24,0.01)","v":0.01},null,null,null,null,null,null,{"$f":"N27+Q27+T27","v":0.03}]
[null,null,null,null,null,null,null,null,null,null,null,null,{"$f":"F21","v":0},null,{"$f":"M26/O26","v":{"$error":"#DIV/0!"}},{"$f":"F29","v":0},null,{"$f":"P26/R26","v":{"$error":"#DIV/0!"}},{"$f":"F36","v":0},null,{"$f":"S26/U26","v":{"$error":"#DIV/0!"}},null,null,null,null,{"$f":"MAXA(M28,P28,S28)","v":0},null,{"$f":"Z26/AB26","v":{"$error":"#DIV/0!"}}]
[null,"Tour 4",{"$f":"C10","v":""}]
[null,null,{"$f":"C8","v":""},null,null,null,null,null,null,null,null,null,"Pas de prolongation en cas de match nul."]
[]
[null,"Tour 5",{"$f":"C7","v":0}]
[null,null,{"$f":"C8","v":""}]
[]
[null,"Tour 6",{"$f":"C9","v":""}]
[null,null,{"$f":"C10","v":""}]
[null,null,null,null,null,null,null,"DIRECTEUR DE JEU :"]
[]
[null,"DATE : ",{"$f":"'Saisie des joueurs'!D5","v":"00:00:00"},null,null,null,null,{"$f":"'Saisie des joueurs'!G11","v":0}]
[]
[]
[null,"OBSERVATIONS"]
[]
[]
[]
[]
[]
[]
[]
[]
[]
[]
[null,"™A.FERHAT ™ C.PEREZ"]

{"sheet":"BILLARD 4","index":8,"n_rows":53,"n_cols":42,"rows_kept":53,"cut":false,"hidden":true,"merged":[[48,1,48,10],[49,1,49,10],[50,1,50,10],[52,1,52,2],[12,10,15,11],[41,1,42,10],[43,1,43,10],[44,1,44,10],[45,1,45,10],[46,1,46,10],[47,1,47,10],[31,1,32,1],[31,4,32,4],[34,1,35,1],[34,4,35,4],[36,7,37,10],[38,1,39,1],[38,2,39,2],[38,3,39,5],[38,7,39,10],[19,4,20,4],[19,10,21,11],[25,37,27,37],[25,38,27,38],[25,39,27,39],[25,40,27,40],[25,41,27,41],[28,1,29,1],[28,4,29,4],[29,12,29,23],[25,31,27,31],[25,32,27,32],[25,33,27,33],[25,34,27,34],[25,35,27,35],[25,36,27,36],[25,1,26,1],[25,4,26,4],[25,10,27,11],[25,21,27,23],[25,28,27,28],[25,30,27,30],[19,39,21,39],[19,40,21,40],[19,41,21,41],[22,1,23,1],[22,4,23,4],[22,10,24,11],[22,18,24,20],[22,28,24,28],[22,30,24,30],[22,31,24,31],[19,33,21,33],[19,34,21,34],[19,35,21,35],[19,36,21,36],[19,37,21,37],[19,38,21,38],[22,38,24,38],[22,39,24,39],[22,40,24,40],[22,41,24,41],[22,35,24,35],[22,36,24,36],[22,37,24,37],[19,1,20,1],[19,15,21,17],[19,28,21,28],[19,30,21,30],[19,31,21,31],[19,32,21,32],[22,32,24,32],[22,33,24,33],[22,34,24,34],[16,34,18,34],[14,38,14,39],[14,41,15,41],[15,2,16,5],[16,10,18,11],[16,12,18,14],[16,28,18,28],[16,30,18,30],[16,31,18,31],[16,32,18,32],[16,33,18,33],[13,25,15,27],[13,28,15,28],[14,30,14,31],[14,32,14,33],[14,34,14,35],[14,36,14,37],[16,40,18,40],[16,41,18,41],[16,35,18,35],[16,36,18,36],[16,37,18,37],[16,38,18,38],[16,39,18,39],[9,2,9,5],[12,1,13,5],[12,12,15,14],[12,15,15,17],[12,18,15,20],[12,21,15,23],[1,7,3,9],[1,10,3,13],[6,2,6,5],[7,2,7,5],[8,2,8,5],[1,1,3,6]]}
[]
[null,{"$f":"'Saisie des joueurs'!C1","v":"COMITE DEPARTEMENTAL 13"},null,null,null,null,null,{"$f":"'Saisie des joueurs'!D7","v":0},null,null,{"$f":"'Saisie des joueurs'!D9","v":"3 BANDES"}]
[]
[]
[]
[]
[null,"Joueur 1",{"$f":"'Saisie des joueurs'!L30","v":""}]
[null,"Joueur 2",{"$f":"'Saisie des joueurs'!L31","v":""}]
[null,"Joueur 3",{"$f":"'Saisie des joueurs'!L32","v":""}]
[null,"Joueur 4",{"$f":"'Saisie des joueurs'!L33","v":""}]
[]
[]
[null,"SAISIE DES RESULTATS",null,null,null,null,null,null,null,null,null,null,{"$f":"C7","v":""},null,null,{"$f":"C8","v":""},null,null,{"$f":"C9","v":""},null,null,{"$f":"C10","v":""}]
[null,null,null,null,null,null,null,null,null,null,null,null,null,null,null,null,null,null,null,null,null,null,null,null,null,"TOTAUX",null,null,"CLASSEMENT"]
[null,null,null,null,null,null,null,null,null,null,null,null,null,null,null,null,null,null,null,null,null,null,null,null,null,null,null,null,null,null,"Classement",null,"Classement",null,"Classement",null,"Classement",null,"Classement",null,"GENERAL","RANG"]
[null,null,"BILLARD 4",null,null,null,null,null,null,null,null,null,null,null,null,null,null,null,null,null,null,null,null,null,null,null,null,null,null,null,"Point-Match","CLS-M","Moy-Gen","CLS-G","Moy-Part","CLS-P","M-Series","CLS-S","MGPS","CLS","CLS"]
[null,null,null,null,null,null,null,null,null,null,{"$f":"C7","v":""},null,"L",null,null,{"$f":"D32","v":0},null,{"$f":"E32","v":0},{"$f":"D26","v":0},null,{"$f":"E26","v":0},{"$f":"D20","v":0},null,{"$f":"E20","v":0},null,{"$f":"P17+S17+V17","v":0},null,{"$f":"R17+U17+X17","v":0},{"$f":"AP17","v":{"$error":"#DIV/0!"}},null,{"$f":"AA18","v":0.03},{"$f":"RANK(AE17,AE$17:AE$28,0)","v":1},{"$f":"AB19","v":{"$error":"#DIV/0!"}},{"$f":"RANK(AG17,AG$17:AG$28,0)","v":{"$error":"#DIV/0!"}},{"$f":"MAX(R19,U19,X19)","v":{"$error":"#DIV/0!"}},{"$f":"RANK(AI17,AI$17:AI$28)","v":{"$error":"#DIV/0!"}},{"$f":"Z19","v":0},{"$f":"RANK(AK17,AK$17:AK$28)","v":1},{"$f":"(AF17*1000)+(AH17*100)+(AJ17*10)+(AL17*1)","v":{"$error":"#DIV/0!"}},{"$f":"AM17","v":{"$error":"#DIV/0!"}},{"$f":"RANK(AN17,AN$17:AN$28,1)","v":{"$error":"#DIV/0!"}},{"$f":"RANK(AO17,AO$17:AO$28,1)","v":{"$error":"#DIV/0!"}}]
[null,null,null,null,null,null,null,null,null,null,null,null,null,null,null,null,{"$f":"IF(R17<1,0.01,IF(P17>M20,2,IF(P17=M20,1,0)))","v":0.01},null,null,{"$f":"IF(U17<1,0.01,IF(S17>M23,2,IF(S17=M23,1,0)))","v":0.01},null,null,{"$f":"IF(X17<1,0.01,IF(V17>M26,2,IF(V17=M26,1,0)))","v":0.01},null,null,null,{"$f":"Q18+T18+W18","v":0.03}]
[null,null,null,"Pts","Rep","Série",null,null,null,null,null,null,null,null,null,{"$f":"F32","v":0},null,{"$f":"P17/R17","v":{"$error":"#DIV/0!"}},{"$f":"F26","v":0},null,{"$f":"S17/U17","v":{"$error":"#DIV/0!"}},{"$f":"F20","v":0},null,{"$f":"V17/X17","v":{"$error":"#DIV/0!"}},null,{"$f":"MAX(P19,S19,V19)","v":0},null,{"$f":"Z17/AB17","v":{"$error":"#DIV/0!"}}]
[null,"Tour 1",{"$f":"C7","v":""},null,null,null,null,null,null,null,{"$f":"C8","v":""},null,{"$f":"D33","v":0},null,{"$f":"E32","v":0},"M",null,null,{"$f":"D23","v":0},null,{"$f":"E23","v":0},{"$f":"D30","v":0},null,{"$f":"E29","v":0},null,{"$f":"M20+S20+V20","v":0},null,{"$f":"O20+U20+X20","v":0},{"$f":"AP20","v":{"$error":"#DIV/0!"}},null,{"$f":"AA21","v":0.03},{"$f":"RANK(AE20,AE$17:AE$28,0)","v":1},{"$f":"AB22","v":{"$error":"#DIV/0!"}},{"$f":"RANK(AG20,AG$17:AG$28,0)","v":{"$error":"#DIV/0!"}},{"$f":"MAX(O22,U22,X22)","v":{"$error":"#DIV/0!"}},{"$f":"RANK(AI20,AI$17:AI$28)","v":{"$error":"#DIV/0!"}},{"$f":"Z22","v":0},{"$f":"RANK(AK20,AK$17:AK$28)","v":1},{"$f":"(AF20*1000)+(AH20*100)+(AJ20*10)+(AL20*1)","v":{"$error":"#DIV/0!"}},{"$f":"AM20","v":{"$error":"#DIV/0!"}},{"$f":"RANK(AN20,AN$17:AN$28,1)","v":{"$error":"#DIV/0!"}},{"$f":"RANK(AO20,AO$17:AO$28,1)","v":{"$error":"#DIV/0!"}}]
[null,null,{"$f":"C10","v":""},null,null,null,null,null,null,null,null,null,null,{"$f":"IF(R17>0,2-Q18,0.01)","v":0.01},null,null,null,null,null,{"$f":"IF(U20<1,0.01,IF(S20>P23,2,IF(S20=P23,1,0)))","v":0.01},null,null,{"$f":"IF(X20<1,0.01,IF(V20>P26,2,IF(V20=P26,1,0)))","v":0.01},null,null,null,{"$f":"N21+T21+W21","v":0.03}]
[null,null,null,null,null,null,null,null,null,null,null,null,{"$f":"F33","v":0},null,{"$f":"M20/O20","v":{"$error":"#DIV/0!"}},null,null,null,{"$f":"F23","v":0},null,{"$f":"S20/U20","v":{"$error":"#DIV/0!"}},{"$f":"F30","v":0},null,{"$f":"V20/X20","v":{"$error":"#DIV/0!"}},null,{"$f":"MAXA(M22,S22,V22)","v":0},null,{"$f":"Z20/AB20","v":{"$error":"#DIV/0!"}}]
[null,"Tour 2",{"$f":"C8","v":""},null,null,null,null,null,null,null,{"$f":"C9","v":""},null,{"$f":"D27","v":0},null,{"$f":"E26","v":0},{"$f":"D24","v":0},null,{"$f":"E23","v":0},"B",null,null,{"$f":"D35","v":0},null,{"$f":"E35","v":0},null,{"$f":"M23+P23+V23","v":0},null,{"$f":"O23+R23+X23","v":0},{"$f":"AP23","v":{"$error":"#DIV/0!"}},null,{"$f":"AA24","v":0.03},{"$f":"RANK(AE23,AE$17:AE$28,0)","v":1},{"$f":"AB25","v":{"$error":"#DIV/0!"}},{"$f":"RANK(AG23,AG$17:AG$28,0)","v":{"$error":"#DIV/0!"}},{"$f":"MAX(O25,R25,X25)","v":{"$error":"#DIV/0!"}},{"$f":"RANK(AI23,AI$17:AI$28)","v":{"$error":"#DIV/0!"}},{"$f":"Z25","v":0},{"$f":"RANK(AK23,AK$17:AK$28)","v":1},{"$f":"(AF23*1000)+(AH23*100)+(AJ23*10)+(AL23*1)","v":{"$error":"#DIV/0!"}},{"$f":"AM23","v":{"$error":"#DIV/0!"}},{"$f":"RANK(AN23,AN$17:AN$28,1)","v":{"$error":"#DIV/0!"}},{"$f":"RANK(AO23,AO$17:AO$28,1)","v":{"$error":"#DIV/0!"}}]
[null,null,{"$f":"C9","v":""},null,null,null,null,null,null,null,null,null,null,{"$f":"IF(U17>0,2-T18,0.01)","v":0.01},null,null,{"$f":"IF(U20>0,2-T21,0.01)","v":0.01},null,null,null,null,null,{"$f":"IF(X23<1,0.01,IF(V23>S26,2,IF(V23=S26,1,0)))","v":0.01},null,null,null,{"$f":"N24+Q24+W24","v":0.03}]
[null,null,null,null,null,null,null,null,null,null,null,null,{"$f":"F27","v":0},null,{"$f":"M23/O23","v":{"$error":"#DIV/0!"}},{"$f":"F24","v":0},null,{"$f":"P23/R23","v":{"$error":"#DIV/0!"}},null,null,null,{"$f":"F35","v":0},null,{"$f":"V23/X23","v":{"$error":"#DIV/0!"}},null,{"$f":"MAXA(M25,P25,V25)","v":0},null,{"$f":"Z23/AB23","v":{"$error":"#DIV/0!"}}]
[null,"Tour 3",{"$f":"C7","v":""},null,null,null,null,null,null,null,{"$f":"C10","v":""},null,{"$f":"D21","v":0},null,{"$f":"E20","v":0},{"$f":"D29","v":0},null,{"$f":"E29","v":0},{"$f":"D36","v":0},null,{"$f":"E35","v":0},null,null,null,null,{"$f":"M26+P26+S26","v":0},null,{"$f":"O26+R26+U26","v":0},{"$f":"AP26","v":{"$error":"#DIV/0!"}},null,{"$f":"AA27","v":0.03},{"$f":"RANK(AE26,AE$17:AE$28,0)","v":1},{"$f":"AB28","v":{"$error":"#DIV/0!"}},{"$f":"RANK(AG26,AG$17:AG$28,0)","v":{"$error":"#DIV/0!"}},{"$f":"MAX(O28,R28,U28)","v":{"$error":"#DIV/0!"}},{"$f":"RANK(AI26,AI$17:AI$28)","v":{"$error":"#DIV/0!"}},{"$f":"Z28","v":0},{"$f":"RANK(AK26,AK$17:AK$28)","v":1},{"$f":"(AF26*1000)+(AH26*100)+(AJ26*10)+(AL26*1)","v":{"$error":"#DIV/0!"}},{"$f":"AM26","v":{"$error":"#DIV/0!"}},{"$f":"RANK(AN26,AN$17:AN$28,1)","v":{"$error":"#DIV/0!"}},{"$f":"RANK(AO26,AO$17:AO$28,1)","v":{"$error":"#DIV/0!"}}]
[null,null,{"$f":"C9","v":""},null,null,null,null,null,null,null,null,null,null,{"$f":"IF(X17>0,2-W18,0.01)","v":0.01},null,null,{"$f":"IF(X20>0,2-W21,0.01)","v":0.01},null,null,{"$f":"IF(X23>0,2-W24,0.01)","v":0.01},null,null,null,null,null,null,{"$f":"N27+Q27+T27","v":0.03}]
[null,null,null,null,null,null,null,null,null,null,null,null,{"$f":"F21","v":0},null,{"$f":"M26/O26","v":{"$error":"#DIV/0!"}},{"$f":"F29","v":0},null,{"$f":"P26/R26","v":{"$error":"#DIV/0!"}},{"$f":"F36","v":0},null,{"$f":"S26/U26","v":{"$error":"#DIV/0!"}},null,null,null,null,{"$f":"MAXA(M28,P28,S28)","v":0},null,{"$f":"Z26/AB26","v":{"$error":"#DIV/0!"}}]
[null,"Tour 4",{"$f":"C10","v":""}]
[null,null,{"$f":"C8","v":""},null,null,null,null,null,null,null,null,null,"Pas de prolongation en cas de match nul."]
[]
[null,"Tour 5",{"$f":"C7","v":""}]
[null,null,{"$f":"C8","v":""}]
[]
[null,"Tour 6",{"$f":"C9","v":""}]
[null,null,{"$f":"C10","v":""}]
[null,null,null,null,null,null,null,"DIRECTEUR DE JEU :"]
[]
[null,"DATE : ",{"$f":"'Saisie des joueurs'!D5","v":"00:00:00"},null,null,null,null,{"$f":"'Saisie des joueurs'!G11","v":0}]
[]
[]
[null,"OBSERVATIONS"]
[]
[]
[]
[]
[]
[]
[]
[]
[]
[]
[null,"™A.FERHAT ™ C.PEREZ"]

{"sheet":"BILLARD 5","index":9,"n_rows":53,"n_cols":42,"rows_kept":53,"cut":false,"hidden":true,"merged":[[48,1,48,10],[49,1,49,10],[50,1,50,10],[52,1,52,2],[12,10,15,11],[41,1,42,10],[43,1,43,10],[44,1,44,10],[45,1,45,10],[46,1,46,10],[47,1,47,10],[31,1,32,1],[31,4,32,4],[34,1,35,1],[34,4,35,4],[36,7,37,10],[38,1,39,1],[38,2,39,2],[38,3,39,5],[38,7,39,10],[19,4,20,4],[19,10,21,11],[25,37,27,37],[25,38,27,38],[25,39,27,39],[25,40,27,40],[25,41,27,41],[28,1,29,1],[28,4,29,4],[29,12,29,23],[25,31,27,31],[25,32,27,32],[25,33,27,33],[25,34,27,34],[25,35,27,35],[25,36,27,36],[25,1,26,1],[25,4,26,4],[25,10,27,11],[25,21,27,23],[25,28,27,28],[25,30,27,30],[19,39,21,39],[19,40,21,40],[19,41,21,41],[22,1,23,1],[22,4,23,4],[22,10,24,11],[22,18,24,20],[22,28,24,28],[22,30,24,30],[22,31,24,31],[19,33,21,33],[19,34,21,34],[19,35,21,35],[19,36,21,36],[19,37,21,37],[19,38,21,38],[22,38,24,38],[22,39,24,39],[22,40,24,40],[22,41,24,41],[22,35,24,35],[22,36,24,36],[22,37,24,37],[19,1,20,1],[19,15,21,17],[19,28,21,28],[19,30,21,30],[19,31,21,31],[19,32,21,32],[22,32,24,32],[22,33,24,33],[22,34,24,34],[16,34,18,34],[14,38,14,39],[14,41,15,41],[15,2,16,5],[16,10,18,11],[16,12,18,14],[16,28,18,28],[16,30,18,30],[16,31,18,31],[16,32,18,32],[16,33,18,33],[13,25,15,27],[13,28,15,28],[14,30,14,31],[14,32,14,33],[14,34,14,35],[14,36,14,37],[16,40,18,40],[16,41,18,41],[16,35,18,35],[16,36,18,36],[16,37,18,37],[16,38,18,38],[16,39,18,39],[9,2,9,5],[12,1,13,5],[12,12,15,14],[12,15,15,17],[12,18,15,20],[12,21,15,23],[1,7,3,9],[1,10,3,13],[6,2,6,5],[7,2,7,5],[8,2,8,5],[1,1,3,6]]}
[]
[null,{"$f":"'Saisie des joueurs'!C1","v":"COMITE DEPARTEMENTAL 13"},null,null,null,null,null,{"$f":"'Saisie des joueurs'!D7","v":0},null,null,{"$f":"'Saisie des joueurs'!D9","v":"3 BANDES"}]
[]
[]
[]
[]
[null,"Joueur 1",{"$f":"'Saisie des joueurs'!L34","v":""}]
[null,"Joueur 2",{"$f":"'Saisie des joueurs'!L35","v":""}]
[null,"Joueur 3",{"$f":"'Saisie des joueurs'!L36","v":""}]
[null,"Joueur 4",{"$f":"'Saisie des joueurs'!L37","v":""}]
[]
[]
[null,"SAISIE DES RESULTATS",null,null,null,null,null,null,null,null,null,null,{"$f":"C7","v":""},null,null,{"$f":"C8","v":""},null,null,{"$f":"C9","v":""},null,null,{"$f":"C10","v":""}]
[null,null,null,null,null,null,null,null,null,null,null,null,null,null,null,null,null,null,null,null,null,null,null,null,null,"TOTAUX",null,null,"CLASSEMENT"]
[null,null,null,null,null,null,null,null,null,null,null,null,null,null,null,null,null,null,null,null,null,null,null,null,null,null,null,null,null,null,"Classement",null,"Classement",null,"Classement",null,"Classement",null,"Classement",null,"GENERAL","RANG"]
[null,null,"BILLARD 5",null,null,null,null,null,null,null,null,null,null,null,null,null,null,null,null,null,null,null,null,null,null,null,null,null,null,null,"Point-Match","CLS-M","Moy-Gen","CLS-G","Moy-Part","CLS-P","M-Series","CLS-S","MGPS","CLS","CLS"]
[null,null,null,null,null,null,null,null,null,null,{"$f":"C7","v":""},null,"L",null,null,{"$f":"D32","v":0},null,{"$f":"E32","v":0},{"$f":"D26","v":0},null,{"$f":"E26","v":0},{"$f":"D20","v":0},null,{"$f":"E20","v":0},null,{"$f":"P17+S17+V17","v":0},null,{"$f":"R17+U17+X17","v":0},{"$f":"AP17","v":{"$error":"#DIV/0!"}},null,{"$f":"AA18","v":0.03},{"$f":"RANK(AE17,AE$17:AE$28,0)","v":1},{"$f":"AB19","v":{"$error":"#DIV/0!"}},{"$f":"RANK(AG17,AG$17:AG$28,0)","v":{"$error":"#DIV/0!"}},{"$f":"MAX(R19,U19,X19)","v":{"$error":"#DIV/0!"}},{"$f":"RANK(AI17,AI$17:AI$28)","v":{"$error":"#DIV/0!"}},{"$f":"Z19","v":0},{"$f":"RANK(AK17,AK$17:AK$28)","v":1},{"$f":"(AF17*1000)+(AH17*100)+(AJ17*10)+(AL17*1)","v":{"$error":"#DIV/0!"}},{"$f":"AM17","v":{"$error":"#DIV/0!"}},{"$f":"RANK(AN17,AN$17:AN$28,1)","v":{"$error":"#DIV/0!"}},{"$f":"RANK(AO17,AO$17:AO$28,1)","v":{"$error":"#DIV/0!"}}]
[null,null,null,null,null,null,null,null,null,null,null,null,null,null,null,null,{"$f":"IF(R17<1,0.01,IF(P17>M20,2,IF(P17=M20,1,0)))","v":0.01},null,null,{"$f":"IF(U17<1,0.01,IF(S17>M23,2,IF(S17=M23,1,0)))","v":0.01},null,null,{"$f":"IF(X17<1,0.01,IF(V17>M26,2,IF(V17=M26,1,0)))","v":0.01},null,null,null,{"$f":"Q18+T18+W18","v":0.03}]
[null,null,null,"Pts","Rep","Série",null,null,null,null,null,null,null,null,null,{"$f":"F32","v":0},null,{"$f":"P17/R17","v":{"$error":"#DIV/0!"}},{"$f":"F26","v":0},null,{"$f":"S17/U17","v":{"$error":"#DIV/0!"}},{"$f":"F20","v":0},null,{"$f":"V17/X17","v":{"$error":"#DIV/0!"}},null,{"$f":"MAX(P19,S19,V19)","v":0},null,{"$f":"Z17/AB17","v":{"$error":"#DIV/0!"}}]
[null,"Tour 1",{"$f":"C7","v":""},null,null,null,null,null,null,null,{"$f":"C8","v":""},null,{"$f":"D33","v":0},null,{"$f":"E32","v":0},"M",null,null,{"$f":"D23","v":0},null,{"$f":"E23","v":0},{"$f":"D30","v":0},null,{"$f":"E29","v":0},null,{"$f":"M20+S20+V20","v":0},null,{"$f":"O20+U20+X20","v":0},{"$f":"AP20","v":{"$error":"#DIV/0!"}},null,{"$f":"AA21","v":0.03},{"$f":"RANK(AE20,AE$17:AE$28,0)","v":1},{"$f":"AB22","v":{"$error":"#DIV/0!"}},{"$f":"RANK(AG20,AG$17:AG$28,0)","v":{"$error":"#DIV/0!"}},{"$f":"MAX(O22,U22,X22)","v":{"$error":"#DIV/0!"}},{"$f":"RANK(AI20,AI$17:AI$28)","v":{"$error":"#DIV/0!"}},{"$f":"Z22","v":0},{"$f":"RANK(AK20,AK$17:AK$28)","v":1},{"$f":"(AF20*1000)+(AH20*100)+(AJ20*10)+(AL20*1)","v":{"$error":"#DIV/0!"}},{"$f":"AM20","v":{"$error":"#DIV/0!"}},{"$f":"RANK(AN20,AN$17:AN$28,1)","v":{"$error":"#DIV/0!"}},{"$f":"RANK(AO20,AO$17:AO$28,1)","v":{"$error":"#DIV/0!"}}]
[null,null,{"$f":"C10","v":""},null,null,null,null,null,null,null,null,null,null,{"$f":"IF(R17>0,2-Q18,0.01)","v":0.01},null,null,null,null,null,{"$f":"IF(U20<1,0.01,IF(S20>P23,2,IF(S20=P23,1,0)))","v":0.01},null,null,{"$f":"IF(X20<1,0.01,IF(V20>P26,2,IF(V20=P26,1,0)))","v":0.01},null,null,null,{"$f":"N21+T21+W21","v":0.03}]
[null,null,null,null,null,null,null,null,null,null,null,null,{"$f":"F33","v":0},null,{"$f":"M20/O20","v":{"$error":"#DIV/0!"}},null,null,null,{"$f":"F23","v":0},null,{"$f":"S20/U20","v":{"$error":"#DIV/0!"}},{"$f":"F30","v":0},null,{"$f":"V20/X20","v":{"$error":"#DIV/0!"}},null,{"$f":"MAXA(M22,S22,V22)","v":0},null,{"$f":"Z20/AB20","v":{"$error":"#DIV/0!"}}]
[null,"Tour 2",{"$f":"C8","v":""},null,null,null,null,null,null,null,{"$f":"C9","v":""},null,{"$f":"D27","v":0},null,{"$f":"E26","v":0},{"$f":"D24","v":0},null,{"$f":"E23","v":0},"B",null,null,{"$f":"D35","v":0},null,{"$f":"E35","v":0},null,{"$f":"M23+P23+V23","v":0},null,{"$f":"O23+R23+X23","v":0},{"$f":"AP23","v":{"$error":"#DIV/0!"}},null,{"$f":"AA24","v":0.03},{"$f":"RANK(AE23,AE$17:AE$28,0)","v":1},{"$f":"AB25","v":{"$error":"#DIV/0!"}},{"$f":"RANK(AG23,AG$17:AG$28,0)","v":{"$error":"#DIV/0!"}},{"$f":"MAX(O25,R25,X25)","v":{"$error":"#DIV/0!"}},{"$f":"RANK(AI23,AI$17:AI$28)","v":{"$error":"#DIV/0!"}},{"$f":"Z25","v":0},{"$f":"RANK(AK23,AK$17:AK$28)","v":1},{"$f":"(AF23*1000)+(AH23*100)+(AJ23*10)+(AL23*1)","v":{"$error":"#DIV/0!"}},{"$f":"AM23","v":{"$error":"#DIV/0!"}},{"$f":"RANK(AN23,AN$17:AN$28,1)","v":{"$error":"#DIV/0!"}},{"$f":"RANK(AO23,AO$17:AO$28,1)","v":{"$error":"#DIV/0!"}}]
[null,null,{"$f":"C9","v":""},null,null,null,null,null,null,null,null,null,null,{"$f":"IF(U17>0,2-T18,0.01)","v":0.01},null,null,{"$f":"IF(U20>0,2-T21,0.01)","v":0.01},null,null,null,null,null,{"$f":"IF(X23<1,0.01,IF(V23>S26,2,IF(V23=S26,1,0)))","v":0.01},null,null,null,{"$f":"N24+Q24+W24","v":0.03}]
[null,null,null,null,null,null,null,null,null,null,null,null,{"$f":"F27","v":0},null,{"$f":"M23/O23","v":{"$error":"#DIV/0!"}},{"$f":"F24","v":0},null,{"$f":"P23/R23","v":{"$error":"#DIV/0!"}},null,null,null,{"$f":"F35","v":0},null,{"$f":"V23/X23","v":{"$error":"#DIV/0!"}},null,{"$f":"MAXA(M25,P25,V25)","v":0},null,{"$f":"Z23/AB23","v":{"$error":"#DIV/0!"}}]
[null,"Tour 3",{"$f":"C7","v":""},null,null,null,null,null,null,null,{"$f":"C10","v":""},null,{"$f":"D21","v":0},null,{"$f":"E20","v":0},{"$f":"D29","v":0},null,{"$f":"E29","v":0},{"$f":"D36","v":0},null,{"$f":"E35","v":0},null,null,null,null,{"$f":"M26+P26+S26","v":0},null,{"$f":"O26+R26+U26","v":0},{"$f":"AP26","v":{"$error":"#DIV/0!"}},null,{"$f":"AA27","v":0.03},{"$f":"RANK(AE26,AE$17:AE$28,0)","v":1},{"$f":"AB28","v":{"$error":"#DIV/0!"}},{"$f":"RANK(AG26,AG$17:AG$28,0)","v":{"$error":"#DIV/0!"}},{"$f":"MAX(O28,R28,U28)","v":{"$error":"#DIV/0!"}},{"$f":"RANK(AI26,AI$17:AI$28)","v":{"$error":"#DIV/0!"}},{"$f":"Z28","v":0},{"$f":"RANK(AK26,AK$17:AK$28)","v":1},{"$f":"(AF26*1000)+(AH26*100)+(AJ26*10)+(AL26*1)","v":{"$error":"#DIV/0!"}},{"$f":"AM26","v":{"$error":"#DIV/0!"}},{"$f":"RANK(AN26,AN$17:AN$28,1)","v":{"$error":"#DIV/0!"}},{"$f":"RANK(AO26,AO$17:AO$28,1)","v":{"$error":"#DIV/0!"}}]
[null,null,{"$f":"C9","v":""},null,null,null,null,null,null,null,null,null,null,{"$f":"IF(X17>0,2-W18,0.01)","v":0.01},null,null,{"$f":"IF(X20>0,2-W21,0.01)","v":0.01},null,null,{"$f":"IF(X23>0,2-W24,0.01)","v":0.01},null,null,null,null,null,null,{"$f":"N27+Q27+T27","v":0.03}]
[null,null,null,null,null,null,null,null,null,null,null,null,{"$f":"F21","v":0},null,{"$f":"M26/O26","v":{"$error":"#DIV/0!"}},{"$f":"F29","v":0},null,{"$f":"P26/R26","v":{"$error":"#DIV/0!"}},{"$f":"F36","v":0},null,{"$f":"S26/U26","v":{"$error":"#DIV/0!"}},null,null,null,null,{"$f":"MAXA(M28,P28,S28)","v":0},null,{"$f":"Z26/AB26","v":{"$error":"#DIV/0!"}}]
[null,"Tour 4",{"$f":"C10","v":""}]
[null,null,{"$f":"C8","v":""},null,null,null,null,null,null,null,null,null,"Pas de prolongation en cas de match nul."]
[]
[null,"Tour 5",{"$f":"C7","v":""}]
[null,null,{"$f":"C8","v":""}]
[]
[null,"Tour 6",{"$f":"C9","v":""}]
[null,null,{"$f":"C10","v":""}]
[null,null,null,null,null,null,null,"DIRECTEUR DE JEU :"]
[]
[null,"DATE : ",{"$f":"'Saisie des joueurs'!D5","v":"00:00:00"},null,null,null,null,{"$f":"'Saisie des joueurs'!G11","v":0}]
[]
[]
[null,"OBSERVATIONS"]
[]
[]
[]
[]
[]
[]
[]
[]
[]
[]
[null,"™A.FERHAT ™ C.PEREZ"]

{"sheet":"BILLARD 6","index":10,"n_rows":53,"n_cols":42,"rows_kept":53,"cut":false,"hidden":true,"merged":[[48,1,48,10],[49,1,49,10],[50,1,50,10],[52,1,52,2],[12,10,15,11],[41,1,42,10],[43,1,43,10],[44,1,44,10],[45,1,45,10],[46,1,46,10],[47,1,47,10],[31,1,32,1],[31,4,32,4],[34,1,35,1],[34,4,35,4],[36,7,37,10],[38,1,39,1],[38,2,39,2],[38,3,39,5],[38,7,39,10],[19,4,20,4],[19,10,21,11],[25,37,27,37],[25,38,27,38],[25,39,27,39],[25,40,27,40],[25,41,27,41],[28,1,29,1],[28,4,29,4],[29,12,29,23],[25,31,27,31],[25,32,27,32],[25,33,27,33],[25,34,27,34],[25,35,27,35],[25,36,27,36],[25,1,26,1],[25,4,26,4],[25,10,27,11],[25,21,27,23],[25,28,27,28],[25,30,27,30],[19,39,21,39],[19,40,21,40],[19,41,21,41],[22,1,23,1],[22,4,23,4],[22,10,24,11],[22,18,24,20],[22,28,24,28],[22,30,24,30],[22,31,24,31],[19,33,21,33],[19,34,21,34],[19,35,21,35],[19,36,21,36],[19,37,21,37],[19,38,21,38],[22,38,24,38],[22,39,24,39],[22,40,24,40],[22,41,24,41],[22,35,24,35],[22,36,24,36],[22,37,24,37],[19,1,20,1],[19,15,21,17],[19,28,21,28],[19,30,21,30],[19,31,21,31],[19,32,21,32],[22,32,24,32],[22,33,24,33],[22,34,24,34],[16,34,18,34],[14,38,14,39],[14,41,15,41],[15,2,16,5],[16,10,18,11],[16,12,18,14],[16,28,18,28],[16,30,18,30],[16,31,18,31],[16,32,18,32],[16,33,18,33],[13,25,15,27],[13,28,15,28],[14,30,14,31],[14,32,14,33],[14,34,14,35],[14,36,14,37],[16,40,18,40],[16,41,18,41],[16,35,18,35],[16,36,18,36],[16,37,18,37],[16,38,18,38],[16,39,18,39],[9,2,9,5],[12,1,13,5],[12,12,15,14],[12,15,15,17],[12,18,15,20],[12,21,15,23],[1,7,3,9],[1,10,3,13],[6,2,6,5],[7,2,7,5],[8,2,8,5],[1,1,3,6]]}
[]
[null,{"$f":"'Saisie des joueurs'!C1","v":"COMITE DEPARTEMENTAL 13"},null,null,null,null,null,"T1",null,null,{"$f":"'Saisie des joueurs'!D9","v":"3 BANDES"}]
[]
[]
[]
[]
[null,"Joueur 1",{"$f":"'Saisie des joueurs'!L38","v":""}]
[null,"Joueur 2",{"$f":"'Saisie des joueurs'!L39","v":""}]
[null,"Joueur 3",{"$f":"'Saisie des joueurs'!L40","v":0}]
[null,"Joueur 4",{"$f":"'Saisie des joueurs'!L41","v":0}]
[]
[]
[null,"SAISIE DES RESULTATS",null,null,null,null,null,null,null,null,null,null,{"$f":"C7","v":""},null,null,{"$f":"C8","v":""},null,null,{"$f":"C9","v":0},null,null,{"$f":"C10","v":0}]
[null,null,null,null,null,null,null,null,null,null,null,null,null,null,null,null,null,null,null,null,null,null,null,null,null,"TOTAUX",null,null,"CLASSEMENT"]
[null,null,null,null,null,null,null,null,null,null,null,null,null,null,null,null,null,null,null,null,null,null,null,null,null,null,null,null,null,null,"Classement",null,"Classement",null,"Classement",null,"Classement",null,"Classement",null,"GENERAL","RANG"]
[null,null,"BILLARD 6",null,null,null,null,null,null,null,null,null,null,null,null,null,null,null,null,null,null,null,null,null,null,null,null,null,null,null,"Point-Match","CLS-M","Moy-Gen","CLS-G","Moy-Part","CLS-P","M-Series","CLS-S","MGPS","CLS","CLS"]
[null,null,null,null,null,null,null,null,null,null,{"$f":"C7","v":""},null,"L",null,null,{"$f":"D32","v":0},null,{"$f":"E32","v":0},{"$f":"D26","v":0},null,{"$f":"E26","v":0},{"$f":"D20","v":0},null,{"$f":"E20","v":0},null,{"$f":"P17+S17+V17","v":0},null,{"$f":"R17+U17+X17","v":0},{"$f":"AP17","v":{"$error":"#DIV/0!"}},null,{"$f":"AA18","v":0.03},{"$f":"RANK(AE17,AE$17:AE$28,0)","v":1},{"$f":"AB19","v":{"$error":"#DIV/0!"}},{"$f":"RANK(AG17,AG$17:AG$28,0)","v":{"$error":"#DIV/0!"}},{"$f":"MAX(R19,U19,X19)","v":{"$error":"#DIV/0!"}},{"$f":"RANK(AI17,AI$17:AI$28)","v":{"$error":"#DIV/0!"}},{"$f":"Z19","v":0},{"$f":"RANK(AK17,AK$17:AK$28)","v":1},{"$f":"(AF17*1000)+(AH17*100)+(AJ17*10)+(AL17*1)","v":{"$error":"#DIV/0!"}},{"$f":"AM17","v":{"$error":"#DIV/0!"}},{"$f":"RANK(AN17,AN$17:AN$28,1)","v":{"$error":"#DIV/0!"}},{"$f":"RANK(AO17,AO$17:AO$28,1)","v":{"$error":"#DIV/0!"}}]
[null,null,null,null,null,null,null,null,null,null,null,null,null,null,null,null,{"$f":"IF(R17<1,0.01,IF(P17>M20,2,IF(P17=M20,1,0)))","v":0.01},null,null,{"$f":"IF(U17<1,0.01,IF(S17>M23,2,IF(S17=M23,1,0)))","v":0.01},null,null,{"$f":"IF(X17<1,0.01,IF(V17>M26,2,IF(V17=M26,1,0)))","v":0.01},null,null,null,{"$f":"Q18+T18+W18","v":0.03}]
[null,null,null,"Pts","Rep","Série",null,null,null,null,null,null,null,null,null,{"$f":"F32","v":0},null,{"$f":"P17/R17","v":{"$error":"#DIV/0!"}},{"$f":"F26","v":0},null,{"$f":"S17/U17","v":{"$error":"#DIV/0!"}},{"$f":"F20","v":0},null,{"$f":"V17/X17","v":{"$error":"#DIV/0!"}},null,{"$f":"MAX(P19,S19,V19)","v":0},null,{"$f":"Z17/AB17","v":{"$error":"#DIV/0!"}}]
[null,"Tour 1",{"$f":"C7","v":""},null,null,null,null,null,null,null,{"$f":"C8","v":""},null,{"$f":"D33","v":0},null,{"$f":"E32","v":0},"M",null,null,{"$f":"D23","v":0},null,{"$f":"E23","v":0},{"$f":"D30","v":0},null,{"$f":"E29","v":0},null,{"$f":"M20+S20+V20","v":0},null,{"$f":"O20+U20+X20","v":0},{"$f":"AP20","v":{"$error":"#DIV/0!"}},null,{"$f":"AA21","v":0.03},{"$f":"RANK(AE20,AE$17:AE$28,0)","v":1},{"$f":"AB22","v":{"$error":"#DIV/0!"}},{"$f":"RANK(AG20,AG$17:AG$28,0)","v":{"$error":"#DIV/0!"}},{"$f":"MAX(O22,U22,X22)","v":{"$error":"#DIV/0!"}},{"$f":"RANK(AI20,AI$17:AI$28)","v":{"$error":"#DIV/0!"}},{"$f":"Z22","v":0},{"$f":"RANK(AK20,AK$17:AK$28)","v":1},{"$f":"(AF20*1000)+(AH20*100)+(AJ20*10)+(AL20*1)","v":{"$error":"#DIV/0!"}},{"$f":"AM20","v":{"$error":"#DIV/0!"}},{"$f":"RANK(AN20,AN$17:AN$28,1)","v":{"$error":"#DIV/0!"}},{"$f":"RANK(AO20,AO$17:AO$28,1)","v":{"$error":"#DIV/0!"}}]
[null,null,{"$f":"C10","v":0},null,null,null,null,null,null,null,null,null,null,{"$f":"IF(R17>0,2-Q18,0.01)","v":0.01},null,null,null,null,null,{"$f":"IF(U20<1,0.01,IF(S20>P23,2,IF(S20=P23,1,0)))","v":0.01},null,null,{"$f":"IF(X20<1,0.01,IF(V20>P26,2,IF(V20=P26,1,0)))","v":0.01},null,null,null,{"$f":"N21+T21+W21","v":0.03}]
[null,null,null,null,null,null,null,null,null,null,null,null,{"$f":"F33","v":0},null,{"$f":"M20/O20","v":{"$error":"#DIV/0!"}},null,null,null,{"$f":"F23","v":0},null,{"$f":"S20/U20","v":{"$error":"#DIV/0!"}},{"$f":"F30","v":0},null,{"$f":"V20/X20","v":{"$error":"#DIV/0!"}},null,{"$f":"MAXA(M22,S22,V22)","v":0},null,{"$f":"Z20/AB20","v":{"$error":"#DIV/0!"}}]
[null,"Tour 2",{"$f":"C8","v":""},null,null,null,null,null,null,null,{"$f":"C9","v":0},null,{"$f":"D27","v":0},null,{"$f":"E26","v":0},{"$f":"D24","v":0},null,{"$f":"E23","v":0},"B",null,null,{"$f":"D35","v":0},null,{"$f":"E35","v":0},null,{"$f":"M23+P23+V23","v":0},null,{"$f":"O23+R23+X23","v":0},{"$f":"AP23","v":{"$error":"#DIV/0!"}},null,{"$f":"AA24","v":0.03},{"$f":"RANK(AE23,AE$17:AE$28,0)","v":1},{"$f":"AB25","v":{"$error":"#DIV/0!"}},{"$f":"RANK(AG23,AG$17:AG$28,0)","v":{"$error":"#DIV/0!"}},{"$f":"MAX(O25,R25,X25)","v":{"$error":"#DIV/0!"}},{"$f":"RANK(AI23,AI$17:AI$28)","v":{"$error":"#DIV/0!"}},{"$f":"Z25","v":0},{"$f":"RANK(AK23,AK$17:AK$28)","v":1},{"$f":"(AF23*1000)+(AH23*100)+(AJ23*10)+(AL23*1)","v":{"$error":"#DIV/0!"}},{"$f":"AM23","v":{"$error":"#DIV/0!"}},{"$f":"RANK(AN23,AN$17:AN$28,1)","v":{"$error":"#DIV/0!"}},{"$f":"RANK(AO23,AO$17:AO$28,1)","v":{"$error":"#DIV/0!"}}]
[null,null,{"$f":"C9","v":0},null,null,null,null,null,null,null,null,null,null,{"$f":"IF(U17>0,2-T18,0.01)","v":0.01},null,null,{"$f":"IF(U20>0,2-T21,0.01)","v":0.01},null,null,null,null,null,{"$f":"IF(X23<1,0.01,IF(V23>S26,2,IF(V23=S26,1,0)))","v":0.01},null,null,null,{"$f":"N24+Q24+W24","v":0.03}]
[null,null,null,null,null,null,null,null,null,null,null,null,{"$f":"F27","v":0},null,{"$f":"M23/O23","v":{"$error":"#DIV/0!"}},{"$f":"F24","v":0},null,{"$f":"P23/R23","v":{"$error":"#DIV/0!"}},null,null,null,{"$f":"F35","v":0},null,{"$f":"V23/X23","v":{"$error":"#DIV/0!"}},null,{"$f":"MAXA(M25,P25,V25)","v":0},null,{"$f":"Z23/AB23","v":{"$error":"#DIV/0!"}}]
[null,"Tour 3",{"$f":"C7","v":""},null,null,null,null,null,null,null,{"$f":"C10","v":0},null,{"$f":"D21","v":0},null,{"$f":"E20","v":0},{"$f":"D29","v":0},null,{"$f":"E29","v":0},{"$f":"D36","v":0},null,{"$f":"E35","v":0},null,null,null,null,{"$f":"M26+P26+S26","v":0},null,{"$f":"O26+R26+U26","v":0},{"$f":"AP26","v":{"$error":"#DIV/0!"}},null,{"$f":"AA27","v":0.03},{"$f":"RANK(AE26,AE$17:AE$28,0)","v":1},{"$f":"AB28","v":{"$error":"#DIV/0!"}},{"$f":"RANK(AG26,AG$17:AG$28,0)","v":{"$error":"#DIV/0!"}},{"$f":"MAX(O28,R28,U28)","v":{"$error":"#DIV/0!"}},{"$f":"RANK(AI26,AI$17:AI$28)","v":{"$error":"#DIV/0!"}},{"$f":"Z28","v":0},{"$f":"RANK(AK26,AK$17:AK$28)","v":1},{"$f":"(AF26*1000)+(AH26*100)+(AJ26*10)+(AL26*1)","v":{"$error":"#DIV/0!"}},{"$f":"AM26","v":{"$error":"#DIV/0!"}},{"$f":"RANK(AN26,AN$17:AN$28,1)","v":{"$error":"#DIV/0!"}},{"$f":"RANK(AO26,AO$17:AO$28,1)","v":{"$error":"#DIV/0!"}}]
[null,null,{"$f":"C9","v":0},null,null,null,null,null,null,null,null,null,null,{"$f":"IF(X17>0,2-W18,0.01)","v":0.01},null,null,{"$f":"IF(X20>0,2-W21,0.01)","v":0.01},null,null,{"$f":"IF(X23>0,2-W24,0.01)","v":0.01},null,null,null,null,null,null,{"$f":"N27+Q27+T27","v":0.03}]
[null,null,null,null,null,null,null,null,null,null,null,null,{"$f":"F21","v":0},null,{"$f":"M26/O26","v":{"$error":"#DIV/0!"}},{"$f":"F29","v":0},null,{"$f":"P26/R26","v":{"$error":"#DIV/0!"}},{"$f":"F36","v":0},null,{"$f":"S26/U26","v":{"$error":"#DIV/0!"}},null,null,null,null,{"$f":"MAXA(M28,P28,S28)","v":0},null,{"$f":"Z26/AB26","v":{"$error":"#DIV/0!"}}]
[null,"Tour 4",{"$f":"C10","v":0}]
[null,null,{"$f":"C8","v":""},null,null,null,null,null,null,null,null,null,"Pas de prolongation en cas de match nul."]
[]
[null,"Tour 5",{"$f":"C7","v":""}]
[null,null,{"$f":"C8","v":""}]
[]
[null,"Tour 6",{"$f":"C9","v":0}]
[null,null,{"$f":"C10","v":0}]
[null,null,null,null,null,null,null,"DIRECTEUR DE JEU :"]
[]
[null,"DATE : ",{"$f":"'Saisie des joueurs'!D5","v":"00:00:00"},null,null,null,null,{"$f":"'Saisie des joueurs'!G11","v":0}]
[]
[]
[null,"OBSERVATIONS"]
[]
[]
[]
[]
[]
[]
[]
[]
[]
[]
[null,"™A.FERHAT ™ C.PEREZ"]

{"sheet":"Distances","index":11,"n_rows":12,"n_cols":4,"rows_kept":12,"cut":false,"hidden":true,"merged":[[0,1,0,5],[1,1,1,5],[2,1,2,5],[11,1,11,2],[9,1,9,5],[3,1,3,5],[6,1,7,1]]}
[null,"ANNEXE 1 au RS Carambole 2024-2025"]
[null,"LIGUE MEDITERANNEE BILLARD"]
[null,"Catégories et Distances pour les tournois de Ligue"]
[]
[null,null,null,"2,80 m"]
[]
[null,"3 BANDES","R 1","15 Pts / 40 r"]
[null,null,"R 2","11 Pts / 40 r"]
[]
[]
[]
[null,"™A.FERHAT ™ C.PEREZ"]

{"sheet":"Heures convocations","index":12,"n_rows":15,"n_cols":7,"rows_kept":15,"cut":false,"hidden":true,"merged":[[0,0,0,6],[3,0,3,4],[5,3,5,5],[7,0,7,6],[9,0,12,0]]}
["LIGUE MEDITERRANEENNE DE BILLARD"]
[]
[]
["TOURNOI HOMOLOGUE",null,null,null,null,{"$f":"'Saisie des joueurs'!D7","v":0},{"$f":"'Saisie des joueurs'!D9","v":"3 BANDES"}]
[]
[" "," "," ",{"$f":"'Saisie des joueurs'!D11:D11","v":0},null,null,{"$f":"'Saisie des joueurs'!D5","v":"00:00:00"}]
[]
["HORAIRES DES CONVOCATIONS JOUEURS"]
[]
["8 H 30",{"$f":"'Saisie des joueurs'!L18","v":0},{"$f":"'Saisie des joueurs'!L22","v":0},{"$f":"'Saisie des joueurs'!L26","v":0},{"$f":"'Saisie des joueurs'!L30","v":""},{"$f":"'Saisie des joueurs'!L34","v":""},{"$f":"'Saisie des joueurs'!L38","v":""}]
[null,{"$f":"'Saisie des joueurs'!L19","v":0},{"$f":"'Saisie des joueurs'!L23","v":0},{"$f":"'Saisie des joueurs'!L27","v":""},{"$f":"'Saisie des joueurs'!L31","v":""},{"$f":"'Saisie des joueurs'!L35","v":""},{"$f":"'Saisie des joueurs'!L39","v":""}]
[null,{"$f":"'Saisie des joueurs'!L20","v":0},{"$f":"'Saisie des joueurs'!L24","v":0},{"$f":"'Saisie des joueurs'!L28","v":""},{"$f":"'Saisie des joueurs'!L32","v":""},{"$f":"'Saisie des joueurs'!L36","v":""},{"$f":"'Saisie des joueurs'!L40","v":0}]
[null,{"$f":"'Saisie des joueurs'!L21","v":0},{"$f":"'Saisie des joueurs'!L25","v":0},{"$f":"'Saisie des joueurs'!L29","v":""},{"$f":"'Saisie des joueurs'!L33","v":""},{"$f":"'Saisie des joueurs'!L37","v":""},{"$f":"'Saisie des joueurs'!L41","v":0}]
[]
[null,"™A.FERHAT ™ C.PEREZ"]